{"text_format":"1","workbook":"xlsx","n_sheets":59,"sheets":["Version control","Format control","Front sheet","T&Cs","Menu","Population","Unit Cost","QALY","Post-discharge costs","Treatment effectiveness","Mono appt schedule","Dic appt schedule","NICU data","Distribution Data","Model Set-up","Outcomes by GA","Validation","Det Results","Clinical Results","Stillbirth Chart","NND chart","PND Chart","CP chart","IVH chart","RDS chart","NICU chart","CE plane data","Plane CE threshold","CE plane","CEAC output","CEAC Chart","PSA Results","Cost Data sources","Estimates of twin births by GA","Still birth data","NND data","PND data","NICU admissions","CP data","RDS & IVH by GA","QALY data sources","Cost calcs","QALY calcs","Markov Transitions","Clinical Lookup","Kindinger22","Published distributions","Clinical calcs","Births by GA","Survival GA","ANC appt","Det CE plane","Clinical Charts","Probabilistic inputs","Kindinger Smoothing and Tx","Markov Transitions 1.7","Tornado Chart","Tornado Results","Blank"],"not_rendered":{"charts":59,"images":36,"macros":1,"external_links":0,"defined_names":369,"comments":6,"pivot_tables":0},"unopened":[],"bounds":{"document_bytes":16777216,"sheet_cells":100000,"rows_first":2000,"rows_last":500,"rows_between":2000,"halvings":0,"cell_chars":16384,"cell_head_chars":4096},"cells_cut":0,"cells_raw":0,"read":"whole","date_system":"1900"}

{"sheet":"Version control","index":0,"n_rows":30,"n_cols":4,"rows_kept":30,"cut":false,"hidden":false,"merged":[]}
[]
[null,null,"Version","Comment/Changes"]
[null,null,1,"\"Working\" deterministic version"]
[null,null,1.1000000000000001,"\"Working\" deterministic and PSA version"]
[null,null,1.2,"Reconciling large discrepancy in deterministic costs in updated version compared to the original model"]
[null,null,1.3,"Attempting to fix stillbirth overestimation"]
[null,null,1.4,"\"Working\" deterministic and PSA version with \"fix\" for stillbirth estimation"]
[null,null,1.5,"Adding graphical interface to select alternative options with respect to gestational age"]
[null,null,1.6,"Saving after crash and autorecover"]
[null,null,1.7,"Corrected error on <Kindinger smoothing> tab: Row 32, Columns M-R + fixes to Tornado macros"]
[null,null,1.8,"GC version 03.11.2023 - including 1 solution to exclude stillbirths"]
[null,null,1.9,"Changes reflecting comments from Timothy Watts and corrections to macros calculating treatment costs"]
[null,null,1.1000000000000001,"NICU changes following Aung Soe's comments"]
[null,null,1.1100000000000001,"Liem Modifier"]
[null,null,1.1200000000000001,"Breakthrough on correcting Liem modifier problems"]
[null,null,1.1299999999999999,"1.12 created issues with most assumptions of birth by gestational issues - these were fixed in 1.11b"]
[null,null,1.1399999999999999,"Removing not treated from Markov transitions"]
[null,null,1.1499999999999999,"Ending treatment at 34 weeks"]
[null,null,1.1599999999999999,"Logic checks added to cumulative birth rates after treatment - especially relevent to validation with extreme relative risks"]
[null,null,1.17,"Changed treatment from 400 mg progesterone to 200 mg progesterone"]
[null,null,2,"Post RAG changes"]
[null,null,null,"snagging sheet deleted"]
[null,null,null,"model user instructions added"]
[null,null,null,"test sheet deleted"]
[null,null,null,"Treatment cost calculations corrected"]
[null,null,2.1,"Precautionary save in case any minor changes from 2.1 whilst working on results"]
[null,null,null,"Changed colour of intervention CEAC"]
[null,null,null,"Tidying of obsolete superfluous content"]
[null,null,3,"Post consultation changes"]
[null,null,null,"corrections to treatment costs (some double counting)"]

{"sheet":"Format control","index":1,"n_rows":251,"n_cols":31,"rows_kept":251,"cut":false,"hidden":false,"merged":[[220,2,220,6],[228,2,228,6],[236,2,236,6],[244,2,244,6]]}
[" "]
["Strat No","Strategy Selection"]
[1,"No Screen/treatment",true,null,null,null,"Distribution Selection",1]
[2,"Cervical length ≤ 25 mm",true]
[null,null," "]
[null,"Probabilistic",1]
[null,null," ",null,null,null,"Sheet Protect password","TTPjacklin"]
[null,null," "]
[]
[null," ",null," "]
[]
[null,"Dichorionic",24,25,26,27,28,29,30,31,32,33,34,35,36,37,null,24,25,26,27,28,29,30,31,32,33,34,35,36,37]
[null,"Specialist midwife follow-up",true,false,null,null,true,null,null,null,true,null,true,null,true,false,null,{"$f":"IF(C13=TRUE,1,0)","v":1},{"$f":"IF(D13=TRUE,1,0)","v":0},0,0,1,0,0,0,1,0,1,0,1,0]
[null,"Consultant obstetrician follow-up",true,null,null,null,null,null,null,null,true,false,null,false,null,null,null,{"$f":"IF(C14=TRUE,1,0)","v":1},{"$f":"IF(D14=TRUE,1,0)","v":0},0,0,0,0,0,0,1,0,0,0,0,0]
[null,"Scan",true,false,null,null,true,null,null,null,true,false,false,null,true,false,null,{"$f":"IF(C15=TRUE,1,0)","v":1},0,0,0,1,0,0,0,1,0,0,0,1,0]
[" "," "," ",null,null,null," ",null,null,null," ",null," "]
[]
[null,"Monochorionic",24,25,26,27,28,29,30,31,32,33,34,35,36,37,null,24,25,26,27,28,29,30,31,32,33,34,35,36,37]
[null,"Specialist midwife follow-up",true,null,true,null,true,null,true,null,true,null,true,null,false,false,null,{"$f":"IF(C19=TRUE,1,0)","v":1},0,1,0,1,0,1,0,1,0,1,0,0,0]
[null,"Consultant obstetrician follow-up",true,null,null,null,null,false,null,null,true,null,null,null,null,null,null,1,0,0,0,0,0,0,0,1,0,0,0,0,0]
[null,"Scan",true,null,true,null,true,null,true,null,true,null,true,null,false,false,null,1,0,1,0,1,0,1,0,1,0,1,0,0,0]
[]
[]
[]
[null,"Dichorionic",24,25,26,27,28,29,30,31,32,33,34,35,36,37]
[null,"Specialist midwife follow-up",{"$f":"IF(C13=TRUE,Cost_Midwife,0)","v":88},0,0,0,88,0,0,0,88,0,88,0,88,0]
[null,"Consultant obstetrician follow-up",{"$f":"IF(C14=TRUE,Cost_consultant,0)","v":202},0,0,0,0,0,0,0,202,0,0,0,0,0]
[null,"Scan",{"$f":"IF(C15=TRUE,Cost_scan+Cost_ObsReview,0)","v":260},0,0,0,260,0,0,0,260,0,0,0,260,0]
[]
[null,"Appointment cost",{"$f":"SUM(C26:C29)","v":550},{"$f":"SUM(D26:D29)","v":0},0,0,348,0,0,0,550,0,88,0,348,0]
[null,"Weighted appointment cost",{"$f":"((Propn_MonoZyg*Propn_Dic_Monozyg)+(Propn_Dyz*Propn_Dic_Dyz))*C30","v":413.87499999999994},0,0,0,261.87,0,0,0,413.87499999999994,0,66.22,0,261.87,0]
[]
[null,"Monochorionic",24,25,26,27,28,29,30,31,32,33,34,35,36,37]
[null,"Specialist midwife follow-up",{"$f":"IF(C19=TRUE,Cost_Midwife,0)","v":88},0,88,0,88,0,88,0,88,0,88,0,0,0]
[null,"Consultant obstetrician follow-up",{"$f":"IF(C20=TRUE,Cost_consultant,0)","v":202},0,0,0,0,0,0,0,202,0,0,0,0,0]
[null,"Scan",{"$f":"IF(C21=TRUE,Cost_scan+Cost_ObsReview,0)","v":260},0,260,0,260,0,260,0,260,0,260,0,0,0]
[]
[null,"Appointment cost",{"$f":"SUM(C34:C37)","v":550},{"$f":"SUM(D34:D37)","v":0},348,0,348,0,348,0,550,0,348,0,0,0]
[null,"Weighted appointment cost",{"$f":"((Propn_MonoZyg*Propn_Mono_Monozyg)+(Propn_Dyz*Propn_Mono_Dyz))*C38","v":136.125},0,86.13,0,86.13,0,86.13,0,136.125,0,86.13,0,0,0]
[]
[null,"Overall weighted appoinment cost per week",{"$f":"C39+C31","v":550},{"$f":"D39+D31","v":0},86.13,0,348,0,86.13,0,550,0,152.35,0,261.87,0]
[]
[]
[null,"Counselling for high preterm risk",true,{"$f":"IF(C44=TRUE,1,0)","v":1}]
[]
[]
["Births by Gestational Age"]
[null,1,2,3,4,5,null,null,null,"Birth by GA",1]
["GA","Kato","Kindiger smooth","Murray smooth","Nicolaides smooth","Liem Modifier",null,"Used in model"]
[24,{"$f":"IF('Estimates of twin births by GA'!B6<0,0,'Estimates of twin births by GA'!B6)","v":2.2000000000000001E-3},{"$f":"IF('Estimates of twin births by GA'!C6<0,0,'Estimates of twin births by GA'!C6)","v":1.3619479926479838E-2},{"$f":"IF('Estimates of twin births by GA'!D6<0,0,'Estimates of twin births by GA'!D6)","v":4.4306418219459687E-2},{"$f":"IF('Estimates of twin births by GA'!E6<0,0,'Estimates of twin births by GA'!E6)","v":0},4.3605479517560175E-4,null,{"$f":"HLOOKUP($K$48,$B$48:$F$63,3,FALSE)","v":2.2000000000000001E-3}]
[25,{"$f":"IF('Estimates of twin births by GA'!B7-'Estimates of twin births by GA'!B6<0,0,'Estimates of twin births by GA'!B7-'Estimates of twin births by GA'!B6)","v":3.5999999999999995E-3},{"$f":"IF('Estimates of twin births by GA'!C7-'Estimates of twin births by GA'!C6<0,0,'Estimates of twin births by GA'!C7-'Estimates of twin births by GA'!C6)","v":2.6454422581258828E-2},{"$f":"IF('Estimates of twin births by GA'!D7-'Estimates of twin births by GA'!D6<0,0,'Estimates of twin births by GA'!D7-'Estimates of twin births by GA'!D6)","v":2.6675320850870321E-2},{"$f":"IF('Estimates of twin births by GA'!E7-'Estimates of twin births by GA'!E6<0,0,'Estimates of twin births by GA'!E7-'Estimates of twin births by GA'!E6)","v":9.8161667113743079E-3},1.9804254148359261E-4,null,{"$f":"HLOOKUP($K$48,$B$48:$F$63,4,FALSE)","v":3.5999999999999995E-3}]
[26,{"$f":"IF('Estimates of twin births by GA'!B8-'Estimates of twin births by GA'!B7<0,0,'Estimates of twin births by GA'!B8-'Estimates of twin births by GA'!B7)","v":3.4000000000000002E-3},{"$f":"IF('Estimates of twin births by GA'!C8-'Estimates of twin births by GA'!C7<0,0,'Estimates of twin births by GA'!C8-'Estimates of twin births by GA'!C7)","v":3.5445983855839039E-2},{"$f":"IF('Estimates of twin births by GA'!D8-'Estimates of twin births by GA'!D7<0,0,'Estimates of twin births by GA'!D8-'Estimates of twin births by GA'!D7)","v":1.4495157563253258E-2},{"$f":"IF('Estimates of twin births by GA'!E8-'Estimates of twin births by GA'!E7<0,0,'Estimates of twin births by GA'!E8-'Estimates of twin births by GA'!E7)","v":1.5055782801169926E-2},3.3307045535259372E-6,null,{"$f":"HLOOKUP($K$48,$B$48:$F$63,5,FALSE)","v":3.4000000000000002E-3}]
[27,{"$f":"IF('Estimates of twin births by GA'!B9-'Estimates of twin births by GA'!B8<0,0,'Estimates of twin births by GA'!B9-'Estimates of twin births by GA'!B8)","v":5.000000000000001E-3},{"$f":"IF('Estimates of twin births by GA'!C9-'Estimates of twin births by GA'!C8<0,0,'Estimates of twin births by GA'!C9-'Estimates of twin births by GA'!C8)","v":4.1633462773013982E-2},{"$f":"IF('Estimates of twin births by GA'!D9-'Estimates of twin births by GA'!D8<0,0,'Estimates of twin births by GA'!D9-'Estimates of twin births by GA'!D8)","v":7.7659283565765236E-3},{"$f":"IF('Estimates of twin births by GA'!E9-'Estimates of twin births by GA'!E8<0,0,'Estimates of twin births by GA'!E9-'Estimates of twin births by GA'!E8)","v":1.4520418270478785E-2},1.0162798904755205E-4,null,{"$f":"HLOOKUP($K$48,$B$48:$F$63,6,FALSE)","v":5.000000000000001E-3}]
[28,{"$f":"IF('Estimates of twin births by GA'!B10-'Estimates of twin births by GA'!B9<0,0,'Estimates of twin births by GA'!B10-'Estimates of twin births by GA'!B9)","v":6.3E-3},{"$f":"IF('Estimates of twin births by GA'!C10-'Estimates of twin births by GA'!C9<0,0,'Estimates of twin births by GA'!C10-'Estimates of twin births by GA'!C9)","v":4.6056158355673268E-2},{"$f":"IF('Estimates of twin births by GA'!D10-'Estimates of twin births by GA'!D9<0,0,'Estimates of twin births by GA'!D10-'Estimates of twin births by GA'!D9)","v":6.4876332308614337E-3},{"$f":"IF('Estimates of twin births by GA'!E10-'Estimates of twin births by GA'!E9<0,0,'Estimates of twin births by GA'!E10-'Estimates of twin births by GA'!E9)","v":1.1172936742696038E-2},2.0619974655059924E-4,null,{"$f":"HLOOKUP($K$48,$B$48:$F$63,7,FALSE)","v":6.3E-3}]
[29,{"$f":"IF('Estimates of twin births by GA'!B11-'Estimates of twin births by GA'!B10<0,0,'Estimates of twin births by GA'!B11-'Estimates of twin births by GA'!B10)","v":6.3999999999999994E-3},{"$f":"IF('Estimates of twin births by GA'!C11-'Estimates of twin births by GA'!C10<0,0,'Estimates of twin births by GA'!C11-'Estimates of twin births by GA'!C10)","v":4.9753369626510613E-2},{"$f":"IF('Estimates of twin births by GA'!D11-'Estimates of twin births by GA'!D10<0,0,'Estimates of twin births by GA'!D11-'Estimates of twin births by GA'!D10)","v":1.0660272186107989E-2},{"$f":"IF('Estimates of twin births by GA'!E11-'Estimates of twin births by GA'!E10<0,0,'Estimates of twin births by GA'!E11-'Estimates of twin births by GA'!E10)","v":7.9762018407905089E-3},1.3219242034112014E-5,null,{"$f":"HLOOKUP($K$48,$B$48:$F$63,8,FALSE)","v":6.3999999999999994E-3}]
[30,{"$f":"IF('Estimates of twin births by GA'!B12-'Estimates of twin births by GA'!B11<0,0,'Estimates of twin births by GA'!B12-'Estimates of twin births by GA'!B11)","v":9.2999999999999958E-3},{"$f":"IF('Estimates of twin births by GA'!C12-'Estimates of twin births by GA'!C11<0,0,'Estimates of twin births by GA'!C12-'Estimates of twin births by GA'!C11)","v":5.3764395608460164E-2},{"$f":"IF('Estimates of twin births by GA'!D12-'Estimates of twin births by GA'!D11<0,0,'Estimates of twin births by GA'!D12-'Estimates of twin births by GA'!D11)","v":2.0283845222316188E-2},{"$f":"IF('Estimates of twin births by GA'!E12-'Estimates of twin births by GA'!E11<0,0,'Estimates of twin births by GA'!E12-'Estimates of twin births by GA'!E11)","v":7.8930771881573492E-3},5.2726603174515813E-4,null,{"$f":"HLOOKUP($K$48,$B$48:$F$63,9,FALSE)","v":9.2999999999999958E-3}]
[31,{"$f":"IF('Estimates of twin births by GA'!B13-'Estimates of twin births by GA'!B12<0,0,'Estimates of twin births by GA'!B13-'Estimates of twin births by GA'!B12)","v":1.1700000000000002E-2},{"$f":"IF('Estimates of twin births by GA'!C13-'Estimates of twin births by GA'!C12<0,0,'Estimates of twin births by GA'!C13-'Estimates of twin births by GA'!C12)","v":5.9128535324292075E-2},{"$f":"IF('Estimates of twin births by GA'!D13-'Estimates of twin births by GA'!D12<0,0,'Estimates of twin births by GA'!D13-'Estimates of twin births by GA'!D12)","v":3.5358352339493138E-2},{"$f":"IF('Estimates of twin births by GA'!E13-'Estimates of twin births by GA'!E12<0,0,'Estimates of twin births by GA'!E13-'Estimates of twin births by GA'!E12)","v":1.3886426407850649E-2},5.2602334923026171E-4,null,{"$f":"HLOOKUP($K$48,$B$48:$F$63,10,FALSE)","v":1.1700000000000002E-2}]
[32,{"$f":"IF('Estimates of twin births by GA'!B14-'Estimates of twin births by GA'!B13<0,0,'Estimates of twin births by GA'!B14-'Estimates of twin births by GA'!B13)","v":1.9000000000000003E-2},{"$f":"IF('Estimates of twin births by GA'!C14-'Estimates of twin births by GA'!C13<0,0,'Estimates of twin births by GA'!C14-'Estimates of twin births by GA'!C13)","v":6.6885087796738851E-2},{"$f":"IF('Estimates of twin births by GA'!D14-'Estimates of twin births by GA'!D13<0,0,'Estimates of twin births by GA'!D14-'Estimates of twin births by GA'!D13)","v":5.588379353760331E-2},{"$f":"IF('Estimates of twin births by GA'!E14-'Estimates of twin births by GA'!E13<0,0,'Estimates of twin births by GA'!E14-'Estimates of twin births by GA'!E13)","v":2.8919113123322404E-2},2.0951452440876907E-3,null,{"$f":"HLOOKUP($K$48,$B$48:$F$63,11,FALSE)","v":1.9000000000000003E-2}]
[33,{"$f":"IF('Estimates of twin births by GA'!B15-'Estimates of twin births by GA'!B14<0,0,'Estimates of twin births by GA'!B15-'Estimates of twin births by GA'!B14)","v":2.7200000000000002E-2},{"$f":"IF('Estimates of twin births by GA'!C15-'Estimates of twin births by GA'!C14<0,0,'Estimates of twin births by GA'!C15-'Estimates of twin births by GA'!C14)","v":7.8073352048721789E-2},{"$f":"IF('Estimates of twin births by GA'!D15-'Estimates of twin births by GA'!D14<0,0,'Estimates of twin births by GA'!D15-'Estimates of twin births by GA'!D14)","v":8.1860168816682233E-2},{"$f":"IF('Estimates of twin births by GA'!E15-'Estimates of twin births by GA'!E14<0,0,'Estimates of twin births by GA'!E15-'Estimates of twin births by GA'!E14)","v":5.5954000957683547E-2},2.9331265360519106E-3,null,{"$f":"HLOOKUP($K$48,$B$48:$F$63,12,FALSE)","v":2.7200000000000002E-2}]
[34,{"$f":"IF('Estimates of twin births by GA'!B16-'Estimates of twin births by GA'!B15<0,0,'Estimates of twin births by GA'!B16-'Estimates of twin births by GA'!B15)","v":4.229999999999999E-2},{"$f":"IF('Estimates of twin births by GA'!C16-'Estimates of twin births by GA'!C15<0,0,'Estimates of twin births by GA'!C16-'Estimates of twin births by GA'!C15)","v":9.3732627103007338E-2},{"$f":"IF('Estimates of twin births by GA'!D16-'Estimates of twin births by GA'!D15<0,0,'Estimates of twin births by GA'!D16-'Estimates of twin births by GA'!D15)","v":0.11328747817673701},{"$f":"IF('Estimates of twin births by GA'!E16-'Estimates of twin births by GA'!E15<0,0,'Estimates of twin births by GA'!E16-'Estimates of twin births by GA'!E15)","v":9.795395353398817E-2},2.0279896431032399E-2,null,{"$f":"HLOOKUP($K$48,$B$48:$F$63,13,FALSE)","v":4.229999999999999E-2}]
[35,{"$f":"IF('Estimates of twin births by GA'!B17-'Estimates of twin births by GA'!B16<0,0,'Estimates of twin births by GA'!B17-'Estimates of twin births by GA'!B16)","v":6.88E-2},{"$f":"IF('Estimates of twin births by GA'!C17-'Estimates of twin births by GA'!C16<0,0,'Estimates of twin births by GA'!C17-'Estimates of twin births by GA'!C16)","v":0.11490221198243167},{"$f":"IF('Estimates of twin births by GA'!D17-'Estimates of twin births by GA'!D16<0,0,'Estimates of twin births by GA'!D17-'Estimates of twin births by GA'!D16)","v":0.15016572161773212},{"$f":"IF('Estimates of twin births by GA'!E17-'Estimates of twin births by GA'!E16<0,0,'Estimates of twin births by GA'!E17-'Estimates of twin births by GA'!E16)","v":0.15788183447591564},6.4664640674704385E-2,null,{"$f":"HLOOKUP($K$48,$B$48:$F$63,14,FALSE)","v":6.88E-2}]
[36,{"$f":"IF('Estimates of twin births by GA'!B18-'Estimates of twin births by GA'!B17<0,0,'Estimates of twin births by GA'!B18-'Estimates of twin births by GA'!B17)","v":0.13040000000000002},{"$f":"IF('Estimates of twin births by GA'!C18-'Estimates of twin births by GA'!C17<0,0,'Estimates of twin births by GA'!C18-'Estimates of twin births by GA'!C17)","v":0.14262140570977178},{"$f":"IF('Estimates of twin births by GA'!D18-'Estimates of twin births by GA'!D17<0,0,'Estimates of twin births by GA'!D18-'Estimates of twin births by GA'!D17)","v":0.19249489913968176},{"$f":"IF('Estimates of twin births by GA'!E18-'Estimates of twin births by GA'!E17<0,0,'Estimates of twin births by GA'!E18-'Estimates of twin births by GA'!E17)","v":0.2387005074064632},0.12557399683959858,null,{"$f":"HLOOKUP($K$48,$B$48:$F$63,15,FALSE)","v":0.13040000000000002}]
[37,{"$f":"IF('Estimates of twin births by GA'!B19-'Estimates of twin births by GA'!B18<0,0,'Estimates of twin births by GA'!B19-'Estimates of twin births by GA'!B18)","v":0.66439999999999999},{"$f":"IF('Estimates of twin births by GA'!C19-'Estimates of twin births by GA'!C18<0,0,'Estimates of twin births by GA'!C19-'Estimates of twin births by GA'!C18)","v":0.17792950730780077},{"$f":"IF('Estimates of twin births by GA'!D19-'Estimates of twin births by GA'!D18<0,0,'Estimates of twin births by GA'!D19-'Estimates of twin births by GA'!D18)","v":0.24027501074261437},{"$f":"IF('Estimates of twin births by GA'!E19-'Estimates of twin births by GA'!E18<0,0,'Estimates of twin births by GA'!E19-'Estimates of twin births by GA'!E18)","v":0.34380177035940562},0.78244142987470455,null,{"$f":"HLOOKUP($K$48,$B$48:$F$63,16,FALSE)","v":0.66439999999999999}]
[]
[null,{"$f":"SUM(B50:B64)","v":1},{"$f":"SUM(C50:C64)","v":1},{"$f":"SUM(D50:D64)","v":0.99999999999998934},{"$f":"SUM(E50:E64)","v":1.0035321898192961},{"$f":"SUM(F50:F63)","v":0.99999999999999989}]
[]
["Stillbirths by Gestational Age"]
[null,1,2,3,4,5,null,null,null,"Stillbirth by GA",5]
["GA","ONS 2013","ONS 2014","ONS 2021","NG137","OFF",null,"Used in model"]
[24,9.6984101540282863E-2,0.15535505576285535,0.42542758812772519,0.35639999999999999,0,null,{"$f":"HLOOKUP($K$68,$B$68:$F$83,3,FALSE)","v":0}]
[25,8.4091030564500457E-2,0.12285844416193159,0.32062372418278073,0.31869999999999998,0,null,{"$f":"HLOOKUP($K$68,$B$68:$F$83,4,FALSE)","v":0}]
[26,7.1891750871871773E-2,9.5111222077328694E-2,0.24101069465609726,0.23810000000000001,0,null,{"$f":"HLOOKUP($K$68,$B$68:$F$83,5,FALSE)","v":0}]
[27,6.0459998636355761E-2,7.1944532193799482E-2,0.18146067048571979,0.16769999999999999,0,null,{"$f":"HLOOKUP($K$68,$B$68:$F$83,6,FALSE)","v":0}]
[28,4.9867022696675811E-2,5.31164286715331E-2,0.13746173658510941,0.1414,0,null,{"$f":"HLOOKUP($K$68,$B$68:$F$83,7,FALSE)","v":0}]
[29,4.0181584556319871E-2,3.8311877146157691E-2,0.10511789184295139,0.1086,0,null,{"$f":"HLOOKUP($K$68,$B$68:$F$83,8,FALSE)","v":0}]
[30,3.1469958383540553E-2,2.7142754728729734E-2,8.1149049123382611E-2,6.2300000000000001E-2,0,null,{"$f":"HLOOKUP($K$68,$B$68:$F$83,9,FALSE)","v":0}]
[31,2.3795931011354965E-2,1.9147850005749589E-2,6.2891035265792539E-2,6.5000000000000002E-2,0,null,{"$f":"HLOOKUP($K$68,$B$68:$F$83,10,FALSE)","v":0}]
[32,1.7220801937544883E-2,1.379286303914995E-2,4.8295591084908551E-2,5.2600000000000001E-2,0,null,{"$f":"HLOOKUP($K$68,$B$68:$F$83,11,FALSE)","v":0}]
[33,1.1803383324656302E-2,1.0470405366298507E-2,3.5930371370881176E-2,3.2399999999999998E-2,0,null,{"$f":"HLOOKUP($K$68,$B$68:$F$83,12,FALSE)","v":0}]
[34,7.6000000000001067E-3,8.5000000000006182E-3,2.4978944889099353E-2,2.0400000000000001E-2,0,null,{"$f":"HLOOKUP($K$68,$B$68:$F$83,13,FALSE)","v":0}]
[35,4.6644894556511773E-3,7.1280814284930827E-3,1.5240794380375178E-2,1.46E-2,0,null,{"$f":"HLOOKUP($K$68,$B$68:$F$83,14,FALSE)","v":0}]
[36,3.0482018484495055E-3,5.5279956154556942E-3,7.1313165607875817E-3,9.2999999999999992E-3,0,null,{"$f":"HLOOKUP($K$68,$B$68:$F$83,15,FALSE)","v":0}]
[37,2.7999999999998582E-3,2.7999999999988034E-3,1.6818221217675955E-3,3.5000000000000001E-3,0,null,{"$f":"HLOOKUP($K$68,$B$68:$F$83,16,FALSE)","v":0}]
[]
["Neonatal Deaths by Gestational Age"]
[null,1,2,3,null,null,null,null,null,"NND by GA",3]
["GA","NND rate 2017","NND rate 2017b","NND rate 2020",null,null,null,"Used in model"]
[24,0.19850000000000001,0.195906081380258,0.42535718547157036,null,null,null,{"$f":"HLOOKUP($K$86,$B$86:$D$101,3,FALSE)","v":0.42535718547157036}]
[25,0.11509999999999999,0.12263564794358217,0.25799217431758054,null,null,null,{"$f":"HLOOKUP($K$86,$B$86:$D$101,4,FALSE)","v":0.25799217431758054}]
[26,8.2000000000000003E-2,7.8729777498324438E-2,0.15648016368953885,null,null,null,{"$f":"HLOOKUP($K$86,$B$86:$D$101,5,FALSE)","v":0.15648016368953885}]
[27,5.96E-2,5.3404534475134824E-2,9.4910016914556875E-2,null,null,null,{"$f":"HLOOKUP($K$86,$B$86:$D$101,6,FALSE)","v":9.4910016914556875E-2}]
[28,3.7999999999999999E-2,3.8911473356506576E-2,5.7565835172523373E-2,null,null,null,{"$f":"HLOOKUP($K$86,$B$86:$D$101,7,FALSE)","v":5.7565835172523373E-2}]
[29,2.3800000000000002E-2,3.0056583664077152E-2,3.4915443984099313E-2,null,null,null,{"$f":"HLOOKUP($K$86,$B$86:$D$101,8,FALSE)","v":3.4915443984099313E-2}]
[30,2.4500000000000001E-2,2.3719234944792333E-2,2.1177287273835256E-2,null,null,null,{"$f":"HLOOKUP($K$86,$B$86:$D$101,9,FALSE)","v":2.1177287273835256E-2}]
[31,1.9099999999999999E-2,1.8371121757809306E-2,1.2844674021123255E-2,null,null,null,{"$f":"HLOOKUP($K$86,$B$86:$D$101,10,FALSE)","v":1.2844674021123255E-2}]
[32,1.5800000000000002E-2,1.3595208661286051E-2,7.7906886078256115E-3,null,null,null,{"$f":"HLOOKUP($K$86,$B$86:$D$101,11,FALSE)","v":7.7906886078256115E-3}]
[33,8.3999999999999995E-3,9.6046752009897318E-3,4.725291500920166E-3,null,null,null,{"$f":"HLOOKUP($K$86,$B$86:$D$101,12,FALSE)","v":4.725291500920166E-3}]
[34,7.4999999999999997E-3,6.7618608946986569E-3,2.866034171387608E-3,null,null,null,{"$f":"HLOOKUP($K$86,$B$86:$D$101,13,FALSE)","v":2.866034171387608E-3}]
[35,5.1000000000000004E-3,5.0972102204696057E-3,1.7383375967306765E-3,null,null,null,{"$f":"HLOOKUP($K$86,$B$86:$D$101,14,FALSE)","v":1.7383375967306765E-3}]
[36,2.5999999999999999E-3,3.8282176030861592E-3,1.0543550493483311E-3,null,null,null,{"$f":"HLOOKUP($K$86,$B$86:$D$101,15,FALSE)","v":1.0543550493483311E-3}]
[37,1.5E-3,8.7837240153021412E-4,6.3949866365258933E-4,null,null,null,{"$f":"HLOOKUP($K$86,$B$86:$D$101,16,FALSE)","v":6.3949866365258933E-4}]
[]
[]
["Post Neonatal Deaths by Gestational Age"]
[null,1,2,3,null,null,null,null,null,"PND by GA",3]
["GA","NG137","NG137 smoothed",2021,null,null,null,"Used in model"]
[24,4.6199999999999998E-2,5.0154621848739978E-2,7.3672456387188182E-2,null,null,null,{"$f":"HLOOKUP($K$105,$B$105:$D$120,3,FALSE)","v":7.3672456387188182E-2}]
[25,4.2500000000000003E-2,4.0460520361991326E-2,5.2437868061423219E-2,null,null,null,{"$f":"HLOOKUP($K$105,$B$105:$D$120,4,FALSE)","v":5.2437868061423219E-2}]
[26,3.6700000000000003E-2,3.2122042663219497E-2,3.7323718275062354E-2,null,null,null,{"$f":"HLOOKUP($K$105,$B$105:$D$120,5,FALSE)","v":3.7323718275062354E-2}]
[27,3.1E-2,2.504203737439048E-2,2.6565915003341805E-2,null,null,null,{"$f":"HLOOKUP($K$105,$B$105:$D$120,6,FALSE)","v":2.6565915003341805E-2}]
[28,1.4500000000000001E-2,1.9123353117470598E-2,1.8908829896412654E-2,null,null,null,{"$f":"HLOOKUP($K$105,$B$105:$D$120,7,FALSE)","v":1.8908829896412654E-2}]
[29,7.4000000000000003E-3,1.4268838514426951E-2,1.345874395843292E-2,null,null,null,{"$f":"HLOOKUP($K$105,$B$105:$D$120,8,FALSE)","v":1.345874395843292E-2}]
[30,7.4999999999999997E-3,1.0381342187224529E-2,9.5795345312731251E-3,null,null,null,{"$f":"HLOOKUP($K$105,$B$105:$D$120,9,FALSE)","v":9.5795345312731251E-3}]
[31,1.0500000000000001E-2,7.3637127578309869E-3,6.8184283852398388E-3,null,null,null,{"$f":"HLOOKUP($K$105,$B$105:$D$120,10,FALSE)","v":6.8184283852398388E-3}]
[32,7.0000000000000001E-3,5.1187988482110924E-3,4.8531549724958999E-3,null,null,null,{"$f":"HLOOKUP($K$105,$B$105:$D$120,11,FALSE)","v":4.8531549724958999E-3}]
[33,4.5999999999999999E-3,3.5494490803318346E-3,3.4543316811903716E-3,null,null,null,{"$f":"HLOOKUP($K$105,$B$105:$D$120,12,FALSE)","v":3.4543316811903716E-3}]
[34,2.7000000000000001E-3,2.55851207615998E-3,2.4586907756499795E-3,null,null,null,{"$f":"HLOOKUP($K$105,$B$105:$D$120,13,FALSE)","v":2.4586907756499795E-3}]
[35,2.7000000000000001E-3,2.0488364576605189E-3,1.7500231269578373E-3,null,null,null,{"$f":"HLOOKUP($K$105,$B$105:$D$120,14,FALSE)","v":1.7500231269578373E-3}]
[36,1.5E-3,1.9232708468008841E-3,1.2456145259168118E-3,null,null,null,{"$f":"HLOOKUP($K$105,$B$105:$D$120,15,FALSE)","v":1.2456145259168118E-3}]
[37,1.4E-3,2.08466386554651E-3,8.8659145314960426E-4,null,null,null,{"$f":"HLOOKUP($K$105,$B$105:$D$120,16,FALSE)","v":8.8659145314960426E-4}]
[]
[]
["NICU admission rate by Gestational Age",null,null,null,null,null,null,null,null,null," "]
[null,null,null,null,null,null,null,null,null,"NICU by GA",3]
[null,1,2,3,4,5]
["GA","NDAU 2017 est","Smoothed NDAU est","GC estimate 1","GC estimate 2","GC estimate 3",null,"Used in model"]
[24,1,1,1,1,0.95,null,{"$f":"HLOOKUP($K$124,$B$125:$F$140,3,FALSE)","v":1}]
[25,1,1,1,1,0.95,null,{"$f":"HLOOKUP($K$124,$B$125:$F$140,4,FALSE)","v":1}]
[26,1,1,1,1,0.95,null,{"$f":"HLOOKUP($K$124,$B$125:$F$140,5,FALSE)","v":1}]
[27,1,1,1,1,0.95,null,{"$f":"HLOOKUP($K$124,$B$125:$F$140,6,FALSE)","v":1}]
[28,1,1,1,1,0.95,null,{"$f":"HLOOKUP($K$124,$B$125:$F$140,7,FALSE)","v":1}]
[29,0.88584566197576808,0.88306505523892653,1,0.95,0.95,null,{"$f":"HLOOKUP($K$124,$B$125:$F$140,8,FALSE)","v":1}]
[30,0.84985364057325508,0.86776118551490455,1,0.95,0.95,null,{"$f":"HLOOKUP($K$124,$B$125:$F$140,9,FALSE)","v":1}]
[31,0.86248651527768672,0.82960638582563284,1,0.95,0.95,null,{"$f":"HLOOKUP($K$124,$B$125:$F$140,10,FALSE)","v":1}]
[32,0.73751682887795766,0.76860065617111317,1,0.95,0.95,null,{"$f":"HLOOKUP($K$124,$B$125:$F$140,11,FALSE)","v":1}]
[33,0.71766176647778246,0.68474399655134555,0.76318143262311011,0.74711000405168271,0.74711000405168271,null,{"$f":"HLOOKUP($K$124,$B$125:$F$140,12,FALSE)","v":0.76318143262311011}]
[34,0.5406676722068896,0.57803640696632996,0.57883261877359971,0.57883261877359615,0.57883261877359615,null,{"$f":"HLOOKUP($K$124,$B$125:$F$140,13,FALSE)","v":0.57883261877359971}]
[35,0.47891525842939653,0.44847788741606465,0.41462163694289345,0.42176449408575145,0.42176449408575145,null,{"$f":"HLOOKUP($K$124,$B$125:$F$140,14,FALSE)","v":0.41462163694289345}]
[36,0.27687514089665133,0.29606843790055315,0.27054848713100199,0.27590562998814505,0.27590562998814505,null,{"$f":"HLOOKUP($K$124,$B$125:$F$140,15,FALSE)","v":0.27054848713100199}]
[37,0.12734558528925591,0.12080805841979192,0.14661316933792179,0.14125602648077873,0.14125602648077873,null,{"$f":"HLOOKUP($K$124,$B$125:$F$140,16,FALSE)","v":0.14661316933792179}]
[]
["CP rate by Gestational Age"]
[null,null,null,null,null,null,null,null,null,"CP by GA",1]
[null,1,2]
["GA","Oskui 2013","NG137",null,null,null,null,"Used in model"]
[24,0.11809999999999976,0.35909999999999997,null,null,null,null,{"$f":"HLOOKUP($K$143,$B$144:$C$159,3,FALSE)","v":0.11809999999999976}]
[25,0.10259999999999991,0.23830000000000001,null,null,null,null,{"$f":"HLOOKUP($K$143,$B$144:$C$159,4,FALSE)","v":0.10259999999999991}]
[26,8.8299999999999934E-2,0.15809999999999999,null,null,null,null,{"$f":"HLOOKUP($K$143,$B$144:$C$159,5,FALSE)","v":8.8299999999999934E-2}]
[27,7.5199999999999823E-2,0.10489999999999999,null,null,null,null,{"$f":"HLOOKUP($K$143,$B$144:$C$159,6,FALSE)","v":7.5199999999999823E-2}]
[28,6.3299999999999801E-2,6.9599999999999995E-2,null,null,null,null,{"$f":"HLOOKUP($K$143,$B$144:$C$159,7,FALSE)","v":6.3299999999999801E-2}]
[29,5.2599999999999869E-2,4.6199999999999998E-2,null,null,null,null,{"$f":"HLOOKUP($K$143,$B$144:$C$159,8,FALSE)","v":5.2599999999999869E-2}]
[30,4.3099999999999916E-2,3.0700000000000002E-2,null,null,null,null,{"$f":"HLOOKUP($K$143,$B$144:$C$159,9,FALSE)","v":4.3099999999999916E-2}]
[31,3.4799999999999831E-2,2.0400000000000001E-2,null,null,null,null,{"$f":"HLOOKUP($K$143,$B$144:$C$159,10,FALSE)","v":3.4799999999999831E-2}]
[32,2.7699999999999836E-2,1.35E-2,null,null,null,null,{"$f":"HLOOKUP($K$143,$B$144:$C$159,11,FALSE)","v":2.7699999999999836E-2}]
[33,2.1799999999999931E-2,8.9999999999999993E-3,null,null,null,null,{"$f":"HLOOKUP($K$143,$B$144:$C$159,12,FALSE)","v":2.1799999999999931E-2}]
[34,1.7099999999999782E-2,6.0000000000000001E-3,null,null,null,null,{"$f":"HLOOKUP($K$143,$B$144:$C$159,13,FALSE)","v":1.7099999999999782E-2}]
[35,1.3599999999999834E-2,3.8999999999999998E-3,null,null,null,null,{"$f":"HLOOKUP($K$143,$B$144:$C$159,14,FALSE)","v":1.3599999999999834E-2}]
[36,1.1299999999999866E-2,2.5999999999999999E-3,null,null,null,null,{"$f":"HLOOKUP($K$143,$B$144:$C$159,15,FALSE)","v":1.1299999999999866E-2}]
[37,1.0199999999999876E-2,1.6999999999999999E-3,null,null,null,null,{"$f":"HLOOKUP($K$143,$B$144:$C$159,16,FALSE)","v":1.0199999999999876E-2}]
[]
["RDS rate by Gestational Age"]
[null,null,null,null,null,null,null,null,null,"RDS by GA",3]
[null,1,2,3]
["GA","Ross 2021","Ross smoothed","Yadav 2023",null,null,null,"Used in model"]
[24,0.7,0.73346113445390415,0.9800000000000022,null,null,null,{"$f":"HLOOKUP($K$162,$B$163:$D$178,3,FALSE)","v":0.9800000000000022}]
[25,0.9,0.86555955074365443,0.83415384615384713,null,null,null,{"$f":"HLOOKUP($K$162,$B$163:$D$178,4,FALSE)","v":0.83415384615384713}]
[26,0.93,0.8832207498385003,0.70005128205128209,null,null,null,{"$f":"HLOOKUP($K$162,$B$163:$D$178,5,FALSE)","v":0.70005128205128209}]
[27,0.84,0.82474995592664868,0.57769230769230884,null,null,null,{"$f":"HLOOKUP($K$162,$B$163:$D$178,6,FALSE)","v":0.57769230769230884},null,null," "]
[28,0.65,0.72219725127817469,0.46707692307692383,null,null,null,{"$f":"HLOOKUP($K$162,$B$163:$D$178,7,FALSE)","v":0.46707692307692383}]
[29,0.53,0.60135757624740904,0.36820512820512885,null,null,null,{"$f":"HLOOKUP($K$162,$B$163:$D$178,8,FALSE)","v":0.36820512820512885}]
[30,0.55000000000000004,0.48177072927077802,0.281076923076923,null,null,null,{"$f":"HLOOKUP($K$162,$B$163:$D$178,9,FALSE)","v":0.281076923076923}]
[31,0.37,0.37672136686862245,0.20569230769230806,null,null,null,{"$f":"HLOOKUP($K$162,$B$163:$D$178,10,FALSE)","v":0.20569230769230806}]
[32,0.28000000000000003,0.29323900364360611,0.14205128205128226,null,null,null,{"$f":"HLOOKUP($K$162,$B$163:$D$178,11,FALSE)","v":0.14205128205128226}]
[33,0.34,0.23209801228207994,9.0153846153845585E-2,null,null,null,{"$f":"HLOOKUP($K$162,$B$163:$D$178,12,FALSE)","v":9.0153846153845585E-2}]
[34,0.14000000000000001,0.18781762355305887,5.0000000000000711E-2,null,null,null,{"$f":"HLOOKUP($K$162,$B$163:$D$178,13,FALSE)","v":5.0000000000000711E-2}]
[35,0.12,0.14866192630901764,2.1589743589744081E-2,null,null,null,{"$f":"HLOOKUP($K$162,$B$163:$D$178,14,FALSE)","v":2.1589743589744081E-2}]
[36,7.0000000000000007E-2,9.6639867485549757E-2,4.9230769230765858E-3,null,null,null,{"$f":"HLOOKUP($K$162,$B$163:$D$178,15,FALSE)","v":4.9230769230765858E-3}]
[37,3.5000000000000003E-2,7.5052521009126849E-3,0,null,null,null,{"$f":"HLOOKUP($K$162,$B$163:$D$178,16,FALSE)","v":0}]
[]
["IVH rate by Gestational Age"]
[null,null,null,null,null,null,null,null,null,"IVH by GA",2]
[null,1,2]
["GA","Ross 2021","Ross smoothed",null,null,null,null,"Used in model"]
[24,0.25,0.24234265734321525,null,null,null,null,{"$f":"HLOOKUP($K$181,$B$182:$C$197,3,FALSE)","v":0.24234265734321525}]
[25,0.3,0.33062937062004494,null,null,null,null,{"$f":"HLOOKUP($K$181,$B$182:$C$197,4,FALSE)","v":0.33062937062004494}]
[26,0.3,0.26378787878547882,null,null,null,null,{"$f":"HLOOKUP($K$181,$B$182:$C$197,5,FALSE)","v":0.26378787878547882}]
[27,0.16,0.15650349650150019,null,null,null,null,{"$f":"HLOOKUP($K$181,$B$182:$C$197,6,FALSE)","v":0.15650349650150019}]
[28,0.04,6.965034965378436E-2,null,null,null,null,{"$f":"HLOOKUP($K$181,$B$182:$C$197,7,FALSE)","v":6.965034965378436E-2}]
[29,0.03,2.3752913753014582E-2,null,null,null,null,{"$f":"HLOOKUP($K$181,$B$182:$C$197,8,FALSE)","v":2.3752913753014582E-2}]
[30,0.02,1.2447552445337351E-2,null,null,null,null,{"$f":"HLOOKUP($K$181,$B$182:$C$197,9,FALSE)","v":1.2447552445337351E-2}]
[31,0.02,1.5944055940963153E-2,null,null,null,null,{"$f":"HLOOKUP($K$181,$B$182:$C$197,10,FALSE)","v":1.5944055940963153E-2}]
[32,0.01,1.4487179490060953E-2,null,null,null,null,{"$f":"HLOOKUP($K$181,$B$182:$C$197,11,FALSE)","v":1.4487179490060953E-2}]
[33,0,1.8181818313678377E-3,null,null,null,null,{"$f":"HLOOKUP($K$181,$B$182:$C$197,12,FALSE)","v":1.8181818313678377E-3}]
[34,0,0,null,null,null,null,{"$f":"HLOOKUP($K$181,$B$182:$C$197,13,FALSE)","v":0}]
[35,0,0,null,null,null,null,{"$f":"HLOOKUP($K$181,$B$182:$C$197,14,FALSE)","v":0}]
[36,0,0,null,null,null,null,{"$f":"HLOOKUP($K$181,$B$182:$C$197,15,FALSE)","v":0}]
[37,0,0,null,null,null,null,{"$f":"HLOOKUP($K$181,$B$182:$C$197,16,FALSE)","v":0}]
[]
["NICU LOS rate by Gestational Age"]
[null,null,null,null,null,null,null,null,null,"NICU LoS by age",2]
[null,1,2]
["GA","NDAU 2017","NDAU smoothed",null,null,null,null,"Used in model"]
[24,92,103,null,null,null,null,{"$f":"HLOOKUP($K$200,$B$201:$C$216,3,FALSE)","v":103}]
[25,92,91,null,null,null,null,{"$f":"HLOOKUP($K$200,$B$201:$C$216,4,FALSE)","v":91}]
[26,92,80,null,null,null,null,{"$f":"HLOOKUP($K$200,$B$201:$C$216,5,FALSE)","v":80}]
[27,92,69,null,null,null,null,{"$f":"HLOOKUP($K$200,$B$201:$C$216,6,FALSE)","v":69}]
[28,44,58,null,null,null,null,{"$f":"HLOOKUP($K$200,$B$201:$C$216,7,FALSE)","v":58}]
[29,44,48,null,null,null,null,{"$f":"HLOOKUP($K$200,$B$201:$C$216,8,FALSE)","v":48}]
[30,44,39,null,null,null,null,{"$f":"HLOOKUP($K$200,$B$201:$C$216,9,FALSE)","v":39}]
[31,44,31,null,null,null,null,{"$f":"HLOOKUP($K$200,$B$201:$C$216,10,FALSE)","v":31}]
[32,12,23,null,null,null,null,{"$f":"HLOOKUP($K$200,$B$201:$C$216,11,FALSE)","v":23}]
[33,12,17,null,null,null,null,{"$f":"HLOOKUP($K$200,$B$201:$C$216,12,FALSE)","v":17}]
[34,12,11,null,null,null,null,{"$f":"HLOOKUP($K$200,$B$201:$C$216,13,FALSE)","v":11}]
[35,12,7,null,null,null,null,{"$f":"HLOOKUP($K$200,$B$201:$C$216,14,FALSE)","v":7}]
[36,12,5,null,null,null,null,{"$f":"HLOOKUP($K$200,$B$201:$C$216,15,FALSE)","v":5}]
[37,4,3,null,null,null,null,{"$f":"HLOOKUP($K$200,$B$201:$C$216,16,FALSE)","v":3}]
[]
["Kindinger screening week"]
[null,null,null,null,null,null,null,null,null,"Kindinger week",2]
[]
[null,null,"18 weeks"]
[null,null," ",5,10,15,20,25]
[null,null,23,0,0,0,0,0]
[null,null,26,0.58499999999999996,0.51800000000000002,0.44500000000000001,0.36599999999999999,0.28599999999999998]
[null,null,28,0.34100000000000003,0.36799999999999999,0.38500000000000001,0.38600000000000001,0.36699999999999999]
[null,null,34,5.8999999999999997E-2,8.5000000000000006E-2,0.11700000000000001,0.156,0.19600000000000001]
[null,null,37,1.4999999999999999E-2,2.9000000000000001E-2,5.2999999999999999E-2,9.1999999999999998E-2,0.152]
[]
[null,null,"20 weeks"]
[null,null," ",5,10,15,20,25]
[null,null,23,0,0,0,0,0]
[null,null,26,0.53200000000000003,0.46100000000000002,0.38600000000000001,0.308,0.23200000000000001]
[null,null,28,0.36399999999999999,0.38500000000000001,0.39200000000000002,0.38100000000000001,0.35]
[null,null,34,8.5000000000000006E-2,0.11899999999999999,0.16,0.20599999999999999,0.25]
[null,null,37,1.9E-2,3.5000000000000003E-2,6.2E-2,0.105,0.16800000000000001]
[]
[null,null,"22 weeks"]
[null,null," ",5,10,15,20,25]
[null,null,23,0,0,0,0,0]
[null,null,26,0.47499999999999998,0.40200000000000002,0.32600000000000001,0.252,0.183]
[null,null,28,0.38200000000000001,0.39400000000000002,0.38900000000000001,0.36599999999999999,0.32400000000000001]
[null,null,34,0.11899999999999999,0.16300000000000001,0.21299999999999999,0.26500000000000001,0.311]
[null,null,37,2.3E-2,4.2000000000000003E-2,7.1999999999999995E-2,0.11799999999999999,0.18099999999999999]
[null,null,null," "]
[null,null,"Chosen"]
[null,null," ",5,10,15,20,25]
[null,null,23,{"$f":"OFFSET(D223,($K$219-1)*8,0)","v":0},{"$f":"OFFSET(E223,($K$219-1)*8,0)","v":0},0,0,0]
[null,null,26,{"$f":"OFFSET(D224,($K$219-1)*8,0)","v":0.53200000000000003},0.46100000000000002,0.38600000000000001,0.308,0.23200000000000001]
[null,null,28,0.36399999999999999,0.38500000000000001,0.39200000000000002,0.38100000000000001,0.35]
[null,null,34,8.5000000000000006E-2,0.11899999999999999,0.16,0.20599999999999999,0.25]
[null,null,37,1.9E-2,3.5000000000000003E-2,6.2E-2,0.105,0.16800000000000001]

{"sheet":"Front sheet","index":2,"n_rows":0,"n_cols":0,"rows_kept":0,"cut":false,"hidden":false,"merged":[]}

{"sheet":"T&Cs","index":3,"n_rows":30,"n_cols":14,"rows_kept":30,"cut":false,"hidden":false,"merged":[]}
["NICE Clinical Guideline, Twin and triplet pregnancy. Draft for Consultation"]
["Developed by the National Institute for Health and Clinical Excellence"]
["Model: Modelling cost effectiveness of screening and progesterone treatment to prevent preterm birth in twins"]
[]
[" This model is confidential and is protected by intellectual property rights, which are owned by NICE."]
[" It has been sent to you for information only. It cannot be used for any other purpose than to inform your"]
[" understanding of the guideline. Accordingly, neither the model nor its contents should be divulged to"]
[" anyone other than those individuals within your organisation who need to see to them to enable you to"]
[" prepare your response. Those to whom you do show the documents must be advised they are bound by the terms"]
[" of the Confidentiality Acknowledgement and Undertaking Form which has been signed and returned to the"]
[" Institute by your organisation prior to receiving this file."]
[]
[" The model is made available subject to the following restrictions:"]
[]
[" * You may not make copies of the file."]
[" * You must delete the file from your records when the guideline process is complete."]
[" * You must confirm to us in writing that you have done so."]
[" * You may not publish it in whole or part, or use it to inform the development of other economic models. "]
[" * The model(s) must not be re-run for purposes other than the testing of its reliability. "]
[]
[" The model should be reviewed in conjunction with the full technical report, which can be found in\n"]
["Appendix I of evidence review K: progesterone for preventing spontaneous preterm birth in twin and triplet pregnancy - draft for consultation"]
[]
[" Please note:"]
[" * Using this model requires relevant technical expertise. "]
[" * This workbook may not have been protected; care must be taken not to overtype formulae on which it relies."]
[" * Model inputs do not have data entry restrictions; be aware that it may be possible to enter values"]
["   outside the range that will work in the model."]
[null,null,null,null,null,null,null,null,null,null,null,null,null," "]
[null,null,null,null,null,null,null,null,null,null,null,null,null," "]

{"sheet":"Menu","index":4,"n_rows":0,"n_cols":0,"rows_kept":0,"cut":false,"hidden":false,"merged":[]}

{"sheet":"Population","index":5,"n_rows":27,"n_cols":8,"rows_kept":27,"cut":false,"hidden":false,"merged":[[8,3,8,9]]}
[]
[]
[]
[]
[]
[]
[]
[]
[null,null,null,"Population characteristics"]
[]
[null,null,null,null,null,"Variable",null,"Value"]
[]
[null,null,null,null,null,"Cohort",null,1]
[]
[null,null,null,null,null,"Monozygotic Proportion",null,0.33]
[]
[null,null,null,null,null,"Monochorionic|monozygotic",null,0.75]
[]
[null,null,null,null,null,"Dichorionic|monozygotic",null,0.25]
[]
[null,null,null,null,null,"Dyzygotic Proportion",null,{"$f":"1-Propn_MonoZyg","v":0.66999999999999993}]
[]
[null,null,null,null,null,"Monochorionic|dyzygotic",null,0]
[]
[null,null,null,null,null,"Dichorionic|dyzygotic",null,1]
[]
[null,null,null,null,null,"Gestational Age at screening (weeks)",null,20]

{"sheet":"Unit Cost","index":6,"n_rows":29,"n_cols":16,"rows_kept":29,"cut":false,"hidden":false,"merged":[[5,2,5,8],[5,10,5,16],[18,3,18,8]]}
[]
[]
[]
[]
[]
[null,null,"Antenatal appointment costs",null,null,null,null,null,null,null,"Long-term costs"]
[]
[null,null,null,"Variable",null,"Value",null,"SD",null,null,null,"Variable",null,"Value"]
[]
[null,null,null,"Specialist midwife follow up",null,88,null,9.14,null,null,null,"Cerebral palsy",null,94447]
[]
[null,null,null,"Consultant obstetrician follow up",null,202,null,11.52,null,null,null,"Intraventricular haemorrhage",null,28334]
[]
[null,null,null,"Scan",null,137,null,24.35,null,null,null,"RDS",null,4551]
[]
[null,null,null,"Obstetrician review",null,123,null,13.73,null,null,null," ",null," "]
[]
[]
[null,null,null,"Mortality costs",null,null,null,null,null,null,"Screening & Treatment"]
[]
[null,null,null,"Variable",null,"Value",null,null,null,null,null,"Variable",null,"Value",null,"SD"]
[null,null,null," "]
[null,null,null,"Stillbirths",null,4795,null,null,null,null,null,"Screening",null,142,null,16.649999999999999]
[null,null,null," "]
[null,null,null,"Neonatal/post neonatal death",null,0,null,null,null,null,null,"Treatment cost per day",null,0.6]
[]
[]
[]
[null,null,null,null,null,null,null,null,null,null,null," "]

{"sheet":"QALY","index":7,"n_rows":24,"n_cols":6,"rows_kept":24,"cut":false,"hidden":false,"merged":[[6,1,6,8]]}
[]
[]
[]
[]
[]
[]
[null,"QALY losses"]
[]
[]
[null,null,null,"Variable",null,"Value"]
[]
[null,null,null,"Stillbirth",null,25.35]
[]
[null,null,null,"Neonatal death",null,25.35]
[]
[null,null,null,"Post neonatal death",null,25.35]
[]
[null,null,null,"Cerebral palsy",null,11.15]
[]
[null,null,null,"Intraventricular haemorrhage",null,4.5]
[]
[null,null,null,"Respiratory distress syndrome",null,1.5]
[]
[null,null,null,"Cost-effectiveness threshold (cost per QALY)",null,20000]

{"sheet":"Post-discharge costs","index":8,"n_rows":47,"n_cols":11,"rows_kept":47,"cut":false,"hidden":false,"merged":[[6,3,6,12]]}
[]
[]
[]
[]
[]
[]
[null,null,null,"NHS Costs in the first 2 years after initial discharge by gestational age"]
[]
[null,null,null,null,"Gestational Age",null,"0-6 months",null,"6-12 months",null,"12-24 months"]
[]
[null,null,null,null,"24 weeks",null,1633,null,977,null,512]
[]
[null,null,null,null,"25 weeks",null,1633,null,977,null,512]
[]
[null,null,null,null,"26 weeks",null,1633,null,977,null,512]
[]
[null,null,null,null,"27 weeks",null,1633,null,977,null,512]
[]
[null,null,null,null,"28 weeks",null,1633,null,977,null,512]
[]
[null,null,null,null,"29 weeks",null,1633,null,977,null,512]
[]
[null,null,null,null,"30 weeks",null,1633,null,977,null,512]
[]
[null,null,null,null,"31 weeks",null,1633,null,977,null,512]
[]
[null,null,null,null,"32 weeks",null,1633,null,977,null,512]
[]
[null,null,null,null,"33 weeks",null,1633,null,977,null,512]
[]
[null,null,null,null,"34 weeks",null,1633,null,977,null,512]
[]
[null,null,null,null,"35 weeks",null,1633,null,977,null,512]
[]
[null,null,null,null,"36 weeks",null,1633,null,977,null,512]
[]
[null,null,null,null,"37 weeks",null,935,null,824,null,350]
[]
[null,null,null,null," ",null," ",null," ",null," "]
[]
[null,null,null,null,null,null," ",null," ",null," "]
[]
[null,null,null,null,null,null," ",null," ",null," "]
[]
[null,null,null,null,null,null," ",null," ",null," "]
[]
[null,null,null,null,null,null," ",null," ",null," "]

{"sheet":"Treatment effectiveness","index":9,"n_rows":18,"n_cols":11,"rows_kept":18,"cut":false,"hidden":false,"merged":[[9,3,9,12]]}
[]
[]
[]
[]
[]
[]
[]
[]
[]
[null,null,null,"Relative treatment effect"]
[]
[null,null,null,null,"Outcome",null,"Relative risk",null,"Low 95% CI",null,"High 95% CI"]
[]
[null,null,null,null,"Pre-term birth <28 weeks",null,0.41,null,0.19,null,0.91]
[]
[null,null,null,null,"Pre-term birth <32 weeks",null,0.56000000000000005,null,0.33,null,0.93]
[]
[null,null,null,null,"Pre-term birth <36 weeks",null,0.89,null,0.69,null,1.1499999999999999]

{"sheet":"Mono appt schedule","index":10,"n_rows":20,"n_cols":23,"rows_kept":20,"cut":false,"hidden":false,"merged":[[7,4,7,17]]}
[]
[]
[]
[]
[]
[]
[]
[null,null,null,null,"Gestational age (weeks)"]
[null,null,null,null,24,25,26,27,28,29,30,31,32,33,34,35,36,37," "," "," "," "," "]
[]
[null,null,"Specialist midwife follow-up"]
[]
[]
[null,null,"Consultant obstetrician follow-up"]
[]
[]
[null,null,"Scan"]
[]
[]
[null,null," "]

{"sheet":"Dic appt schedule","index":11,"n_rows":20,"n_cols":23,"rows_kept":20,"cut":false,"hidden":false,"merged":[[7,4,7,17]]}
[]
[]
[]
[]
[]
[]
[]
[null,null,null,null,"Gestational age (weeks)"]
[null,null,null,null,24,25,26,27,28,29,30,31,32,33,34,35,36,37," "," "," "," "," "]
[]
[null,null,"Specialist midwife follow-up"]
[]
[]
[null,null,"Consultant obstetrician follow-up"]
[]
[]
[null,null,"Scan"]
[]
[]
[null,null," "]

{"sheet":"NICU data","index":12,"n_rows":37,"n_cols":21,"rows_kept":37,"cut":false,"hidden":false,"merged":[[0,20,0,22],[6,14,6,21]]}
[]
[]
[]
[]
[]
[]
[null,"    Length of stay & proportion of NICU stay by level of care",null,null,null,null,null,null,null,null,null,null,null,null,"Neonatal care costs per bed-day"]
[]
[null,null,"Gestational Age",null,"Days",null,"Intensive care",null,"HDU",null,"Special Care",null,null,null,null,"Level of Care",null,null,"Value",null,"SD"]
[]
[null,null,"24 weeks",null,{"$f":"'Format control'!H203","v":103},null,0.5,null,0.14285714285714285,null,{"$f":"1-(G11+I11)","v":0.35714285714285721},null,null,null,null,"Neonatal Critical Care, Intensive Care",null,null,1811,null,72]
[]
[null,null,"25 weeks",null,{"$f":"'Format control'!H204","v":91},null,0.46153846153846156,null,0.15384615384615385,null,{"$f":"1-(G13+I13)","v":0.38461538461538458},null,null,null,null,"Neonatal Critical Care, High Dependency",null,null,1226,null,39]
[]
[null,null,"26 weeks",null,{"$f":"'Format control'!H205","v":80},null,0.41666666666666669,null,0.16666666666666666,null,{"$f":"1-(G15+I15)","v":0.41666666666666663},null,null,null,null,"Neonatal Critical Care, Special Care",null,null,873,null,30]
[]
[null,null,"27 weeks",null,{"$f":"'Format control'!H206","v":69},null,0.36363636363636365,null,0.18181818181818182,null,{"$f":"1-(G17+I17)","v":0.45454545454545459}]
[]
[null,null,"28 weeks",null,{"$f":"'Format control'!H207","v":58},null,0.3,null,0.2,null,{"$f":"1-(G19+I19)","v":0.5}]
[]
[null,null,"29 weeks",null,{"$f":"'Format control'!H208","v":48},null,0.22222222222222221,null,0.22222222222222221,null,{"$f":"1-(G21+I21)","v":0.55555555555555558}]
[]
[null,null,"30 weeks",null,{"$f":"'Format control'!H209","v":39},null,0.22222222222222221,null,0.22222222222222221,null,{"$f":"1-(G23+I23)","v":0.55555555555555558},null,null,null," "," "]
[null,null,null,null," ",null," "]
[null,null,"31 weeks",null,{"$f":"'Format control'!H210","v":31},null,0.22222222222222221,null,0.22222222222222221,null,{"$f":"1-(G25+I25)","v":0.55555555555555558},null,null,null,null,null,null,null," ",null," "]
[]
[null,null,"32 weeks",null,{"$f":"'Format control'!H211","v":23},null,0.22222222222222221,null,0.22222222222222221,null,{"$f":"1-(G27+I27)","v":0.55555555555555558},null,null,null,null," ",null,null," ",null," "]
[]
[null,null,"33 weeks",null,{"$f":"'Format control'!H212","v":17},null,0.22222222222222221,null,0.1111111111111111,null,{"$f":"1-(G29+I29)","v":0.66666666666666674},null,null,null,null," ",null,null," ",null," "]
[]
[null,null,"34 weeks",null,{"$f":"'Format control'!H213","v":11},null,0.22222222222222221,null,0.1111111111111111,null,{"$f":"1-(G31+I31)","v":0.66666666666666674},null,null,null,null," ",null,null," ",null," "]
[null,null,null,null,null,null,null,null," "]
[null,null,"35 weeks",null,{"$f":"'Format control'!H214","v":7},null,0.22222222222222221,null,0.1111111111111111,null,{"$f":"1-(G33+I33)","v":0.66666666666666674}]
[]
[null,null,"36 weeks",null,{"$f":"'Format control'!H215","v":5},null,0.22222222222222221,null,0.1111111111111111,null,{"$f":"1-(G35+I35)","v":0.66666666666666674}]
[]
[null,null,"37 weeks",null,{"$f":"'Format control'!H216","v":3},null,0.22222222222222221,null,0.1111111111111111,null,{"$f":"1-(G37+I37)","v":0.66666666666666674}]

{"sheet":"Distribution Data","index":13,"n_rows":19,"n_cols":11,"rows_kept":19,"cut":false,"hidden":false,"merged":[[6,2,6,13]]}
[]
[]
[]
[]
[]
[]
[null,null," Distribution of cervical length in women with a twin pregnancy at 23 weeks"]
[]
[]
[null,null,null,null,null,"Source","Liem","Skentou","Souka","Other","Used in model"]
[null,null,null,null,null,"Distribution",1,2,3,4]
[null,null,null,null,null,"CL"]
[null,null,null,null,null,5,1.4204545454545455E-3,6.4655172413793103E-3,4.6511627906976744E-3,1E-3,{"$f":"HLOOKUP('Format control'!$H$3,'Distribution Data'!$G$11:$J$20,3,FALSE)","v":1.4204545454545455E-3}]
[null,null,null,null,null,10,1.4204545454545455E-3,1.7241379310344827E-2,3.255813953488372E-2,1E-3,{"$f":"HLOOKUP('Format control'!$H$3,'Distribution Data'!$G$11:$J$20,4,FALSE)","v":1.4204545454545455E-3}]
[null,null,null,null,null,15,1.4204545454545455E-3,2.3706896551724137E-2,1.8604651162790697E-2,1E-3,{"$f":"HLOOKUP('Format control'!$H$3,'Distribution Data'!$G$11:$J$20,5,FALSE)","v":1.4204545454545455E-3}]
[null,null,null,null,null,20,1.4204545454545455E-3,3.2327586206896554E-2,3.7209302325581395E-2,1E-3,{"$f":"HLOOKUP('Format control'!$H$3,'Distribution Data'!$G$11:$J$20,6,FALSE)","v":1.4204545454545455E-3}]
[null,null,null,null,null,25,4.261363636363636E-3,5.1724137931034482E-2,3.7209302325581395E-2,1E-3,{"$f":"HLOOKUP('Format control'!$H$3,'Distribution Data'!$G$11:$J$20,7,FALSE)","v":4.261363636363636E-3}]
[null,null,null,null,null,"30+",0.99005681818181812,0.86853448275862066,0.86976744186046506,{"$f":"1-SUM(J13:J17)","v":0.995},{"$f":"HLOOKUP('Format control'!$H$3,'Distribution Data'!$G$11:$J$20,8,FALSE)","v":0.99005681818181812}]
[null,null,null,null,null,"Select"]

{"sheet":"Model Set-up","index":14,"n_rows":0,"n_cols":0,"rows_kept":0,"cut":false,"hidden":false,"merged":[]}

{"sheet":"Outcomes by GA","index":15,"n_rows":52,"n_cols":23,"rows_kept":52,"cut":false,"hidden":false,"merged":[[5,1,5,23]]}
[]
[]
[]
[]
[]
[null,"Birth and neonatal outcomes by gestational age at birth"]
[]
[null,null,"Gestational Age",null,"Twin birth",null,"Stillbirth rate",null,"Neonatal death rate",null,"Post neonatal death rate",null,"NICU admission",null,"RDS rate",null,"IVH rate",null,"RDS mortality rate",null,"IVH mortality rate",null,"CP rate"]
[]
[null,null,"24 weeks",null,{"$f":"'Format control'!H50","v":2.2000000000000001E-3},null,{"$f":"'Format control'!H70","v":0},null,{"$f":"'Format control'!H88","v":0.42535718547157036},null,{"$f":"'Format control'!H107","v":7.3672456387188182E-2},null,{"$f":"'Format control'!H127","v":1},null,{"$f":"'Format control'!H165","v":0.9800000000000022},null,{"$f":"'Format control'!H184","v":0.24234265734321525},null,5.3999999999999999E-2,null,0.3,null,{"$f":"'Format control'!H146","v":0.11809999999999976}]
[]
[null,null,"25 weeks",null,{"$f":"'Format control'!H51","v":3.5999999999999995E-3},null,{"$f":"'Format control'!H71","v":0},null,{"$f":"'Format control'!H89","v":0.25799217431758054},null,{"$f":"'Format control'!H108","v":5.2437868061423219E-2},null,{"$f":"'Format control'!H128","v":1},null,{"$f":"'Format control'!H166","v":0.83415384615384713},null,{"$f":"'Format control'!H185","v":0.33062937062004494},null,5.3999999999999999E-2,null,0.3,null,{"$f":"'Format control'!H147","v":0.10259999999999991}]
[]
[null,null,"26 weeks",null,{"$f":"'Format control'!H52","v":3.4000000000000002E-3},null,{"$f":"'Format control'!H72","v":0},null,{"$f":"'Format control'!H90","v":0.15648016368953885},null,{"$f":"'Format control'!H109","v":3.7323718275062354E-2},null,{"$f":"'Format control'!H129","v":1},null,{"$f":"'Format control'!H167","v":0.70005128205128209},null,{"$f":"'Format control'!H186","v":0.26378787878547882},null,5.3999999999999999E-2,null,0.3,null,{"$f":"'Format control'!H148","v":8.8299999999999934E-2}]
[null,null,null,null," ",null,null,null,null,null,null,null,null,null,null,null,null,null,null,null,null,null,0]
[null,null,"27 weeks",null,{"$f":"'Format control'!H53","v":5.000000000000001E-3},null,{"$f":"'Format control'!H73","v":0},null,{"$f":"'Format control'!H91","v":9.4910016914556875E-2},null,{"$f":"'Format control'!H110","v":2.6565915003341805E-2},null,{"$f":"'Format control'!H130","v":1},null,{"$f":"'Format control'!H168","v":0.57769230769230884},null,{"$f":"'Format control'!H187","v":0.15650349650150019},null,5.3999999999999999E-2,null,0.3,null,{"$f":"'Format control'!H149","v":7.5199999999999823E-2}]
[null,null,null,null,null,null,null,null,null,null,null,null,null,null,null,null,null,null,null,null,null,null,0]
[null,null,"28 weeks",null,{"$f":"'Format control'!H54","v":6.3E-3},null,{"$f":"'Format control'!H74","v":0},null,{"$f":"'Format control'!H92","v":5.7565835172523373E-2},null,{"$f":"'Format control'!H111","v":1.8908829896412654E-2},null,{"$f":"'Format control'!H131","v":1},null,{"$f":"'Format control'!H169","v":0.46707692307692383},null,{"$f":"'Format control'!H188","v":6.965034965378436E-2},null,5.3999999999999999E-2,null,0.3,null,{"$f":"'Format control'!H150","v":6.3299999999999801E-2}]
[]
[null,null,"29 weeks",null,{"$f":"'Format control'!H55","v":6.3999999999999994E-3},null,{"$f":"'Format control'!H75","v":0},null,{"$f":"'Format control'!H93","v":3.4915443984099313E-2},null,{"$f":"'Format control'!H112","v":1.345874395843292E-2},null,{"$f":"'Format control'!H132","v":1},null,{"$f":"'Format control'!H170","v":0.36820512820512885},null,{"$f":"'Format control'!H189","v":2.3752913753014582E-2},null,5.3999999999999999E-2,null,0.3,null,{"$f":"'Format control'!H151","v":5.2599999999999869E-2}]
[]
[null,null,"30 weeks",null,{"$f":"'Format control'!H56","v":9.2999999999999958E-3},null,{"$f":"'Format control'!H76","v":0},null,{"$f":"'Format control'!H94","v":2.1177287273835256E-2},null,{"$f":"'Format control'!H113","v":9.5795345312731251E-3},null,{"$f":"'Format control'!H133","v":1},null,{"$f":"'Format control'!H171","v":0.281076923076923},null,{"$f":"'Format control'!H190","v":1.2447552445337351E-2},null,5.3999999999999999E-2,null,0.3,null,{"$f":"'Format control'!H152","v":4.3099999999999916E-2}]
[]
[null,null,"31 weeks",null,{"$f":"'Format control'!H57","v":1.1700000000000002E-2},null,{"$f":"'Format control'!H77","v":0},null,{"$f":"'Format control'!H95","v":1.2844674021123255E-2},null,{"$f":"'Format control'!H114","v":6.8184283852398388E-3},null,{"$f":"'Format control'!H134","v":1},null,{"$f":"'Format control'!H172","v":0.20569230769230806},null,{"$f":"'Format control'!H191","v":1.5944055940963153E-2},null,5.3999999999999999E-2,null,0.3,null,{"$f":"'Format control'!H153","v":3.4799999999999831E-2}]
[]
[null,null,"32 weeks",null,{"$f":"'Format control'!H58","v":1.9000000000000003E-2},null,{"$f":"'Format control'!H78","v":0},null,{"$f":"'Format control'!H96","v":7.7906886078256115E-3},null,{"$f":"'Format control'!H115","v":4.8531549724958999E-3},null,{"$f":"'Format control'!H135","v":1},null,{"$f":"'Format control'!H173","v":0.14205128205128226},null,{"$f":"'Format control'!H192","v":1.4487179490060953E-2},null,5.3999999999999999E-2,null,0.3,null,{"$f":"'Format control'!H154","v":2.7699999999999836E-2}]
[]
[null,null,"33 weeks",null,{"$f":"'Format control'!H59","v":2.7200000000000002E-2},null,{"$f":"'Format control'!H79","v":0},null,{"$f":"'Format control'!H97","v":4.725291500920166E-3},null,{"$f":"'Format control'!H116","v":3.4543316811903716E-3},null,{"$f":"'Format control'!H136","v":0.76318143262311011},null,{"$f":"'Format control'!H174","v":9.0153846153845585E-2},null,{"$f":"'Format control'!H193","v":1.8181818313678377E-3},null,5.3999999999999999E-2,null,0.3,null,{"$f":"'Format control'!H155","v":2.1799999999999931E-2}]
[]
[null,null,"34 weeks",null,{"$f":"'Format control'!H60","v":4.229999999999999E-2},null,{"$f":"'Format control'!H80","v":0},null,{"$f":"'Format control'!H98","v":2.866034171387608E-3},null,{"$f":"'Format control'!H117","v":2.4586907756499795E-3},null,{"$f":"'Format control'!H137","v":0.57883261877359971},null,{"$f":"'Format control'!H175","v":5.0000000000000711E-2},null,{"$f":"'Format control'!H194","v":0},null,5.3999999999999999E-2,null,0.3,null,{"$f":"'Format control'!H156","v":1.7099999999999782E-2}]
[]
[null,null,"35 weeks",null,{"$f":"'Format control'!H61","v":6.88E-2},null,{"$f":"'Format control'!H81","v":0},null,{"$f":"'Format control'!H99","v":1.7383375967306765E-3},null,{"$f":"'Format control'!H118","v":1.7500231269578373E-3},null,{"$f":"'Format control'!H138","v":0.41462163694289345},null,{"$f":"'Format control'!H176","v":2.1589743589744081E-2},null,{"$f":"'Format control'!H195","v":0},null,5.3999999999999999E-2,null,0.3,null,{"$f":"'Format control'!H157","v":1.3599999999999834E-2}]
[]
[null,null,"36 weeks",null,{"$f":"'Format control'!H62","v":0.13040000000000002},null,{"$f":"'Format control'!H82","v":0},null,{"$f":"'Format control'!H100","v":1.0543550493483311E-3},null,{"$f":"'Format control'!H119","v":1.2456145259168118E-3},null,{"$f":"'Format control'!H139","v":0.27054848713100199},null,{"$f":"'Format control'!H177","v":4.9230769230765858E-3},null,{"$f":"'Format control'!H196","v":0},null,5.3999999999999999E-2,null,0.3,null,{"$f":"'Format control'!H158","v":1.1299999999999866E-2}]
[]
[null,null,"37 weeks",null,{"$f":"'Format control'!H63","v":0.66439999999999999},null,{"$f":"'Format control'!H83","v":0},null,{"$f":"'Format control'!H101","v":6.3949866365258933E-4},null,{"$f":"'Format control'!H120","v":8.8659145314960426E-4},null,{"$f":"'Format control'!H140","v":0.14661316933792179},null,{"$f":"'Format control'!H178","v":0},null,{"$f":"'Format control'!H197","v":0},null,5.3999999999999999E-2,null,0.3,null,{"$f":"'Format control'!H159","v":1.0199999999999876E-2}]
[]
[null,null," ",null," ",null," ",null," ",null," ",null," ",null," ",null," ",null," ",null," ",null," "]
[null,null,null,null,null,null,null,null,null,null,null,null,null,null,null,null," "]
[null,null," ",null," ",null," ",null," ",null," ",null," ",null," ",null," ",null," ",null," ",null," "]
[null,null,null,null,null,null,null,null," ",null,null,null,null,null,null,null,null,null,null,null," "]
[null,null," ",null," ",null," ",null," ",null," ",null," ",null," ",null," ",null," ",null," ",null," "]
[null,null,null,null,null,null,null,null," ",null,null,null,null,null,null,null,null,null,null,null," "]
[null,null," ",null," ",null," ",null," ",null," ",null," ",null," ",null," ",null," ",null," ",null," "]
[null,null,null,null,null,null,null,null,null,null,null,null," "]
[null,null," ",null," ",null," ",null," ",null," ",null," ",null," ",null," ",null," ",null," ",null," "]
[]
[]
[]
[]
[null,null,null,null,null,null,null,null," "]
[null,null,null,null,null,null,null,null," "]

{"sheet":"Validation","index":16,"n_rows":10,"n_cols":8,"rows_kept":10,"cut":false,"hidden":false,"merged":[]}
[null,"Variable","Base value","Changed value","Base iNMB","New iMB","Expected ","Comment if not expected"]
[null,"Cost of screening",142,300,2324,2166,"Yes"]
[null,"Cost of treatment",0.86,5,2324,2271,"Yes"]
[null,"Long term costs set to zero",null,null,2324,2133,"Yes"]
[null,"NICU costs set to Zero",null,null,2324,1454,"Yes"]
[null,"Relative Risk <28 weeks",0.41,1,2324,-34,"No","Lower QALY gain on treatment. The explanation is that a new best fit line is fitted for cumulative birth rates based on new relative risks, but that means that cumulative birth rates are different even where RR=1.00"]
[null,"Reletive Risks < 32 weeks",0.56000000000000005,1,2324,2271,"Yes"]
[null,"Relative Risk <36 weeks",0.89,1,2324,1873,"Yes"]
[null,"All Relative Risks set to 1.00",null,null,2324,-196,"Yes"]
[null,"Counselling costs for high-risk","On","Off",2324,2368,"Yes"]

{"sheet":"Det Results","index":17,"n_rows":31,"n_cols":11,"rows_kept":31,"cut":false,"hidden":false,"merged":[[6,1,6,11]]}
[]
[]
[]
[]
[]
[]
[null,"Cost-effectiveness"]
[]
[null,null,"Strategy",null,"Cost",null,"QALY",null,"ICER",null,"NMB"]
[]
[null,null,"Cervical length ≤ 25 mm",null,1178,null,0.44689455523558275,null,"N/A",null,{"$f":"G11*WTP-E11","v":7759.8911047116544}]
[]
[null,null,"No Screen/treatment",null,1694,null,0.39675786666641444,null,"Dominated",null,{"$f":"IF(E13=\"\",\"\",G13*WTP-E13)","v":6241.1573333282886}]
[]
[null,null,null,null,null,null,null,null,null,null,{"$f":"IF(E15=\"\",\"\",G15*WTP-E15)","v":""}]
[]
[null,null,"Incremental NMB",null,null,null,null,null,null,null,{"$f":"K11-K13","v":1518.7337713833658}]
[]
[null,null,null,null,null,null,null,null,null,null," "]
[]
[null,null,null,null,null,null,null,null,null,null,{"$f":"IF(E21=\"\",\"\",G21*WTP-E21)","v":""}]
[]
[]
[]
[null,null,null,null,null,null,null,null,null,null," "]
[]
[]
[]
[]
[]
[null,null,null,null,null,null," "]

{"sheet":"Clinical Results","index":18,"n_rows":17,"n_cols":17,"rows_kept":17,"cut":false,"hidden":false,"merged":[]}
[]
[]
[]
[]
[]
[]
[]
[]
[null,null,"Strategy",null,"Stillbirths",null,"Neonatal Deaths",null,"Post neonatal deaths",null,"CP",null,"IVH",null,"RDS",null,"NICU admissions"]
[]
[null,null,{"$f":"IF('Det Results'!C11=\"\",\"\",'Det Results'!C11)","v":"Cervical length ≤ 25 mm"},null,{"$f":"VLOOKUP($C11,'Clinical Lookup'!$C$10:$J$12,2,FALSE)","v":0},null,{"$f":"VLOOKUP($C11,'Clinical Lookup'!$C$10:$J$12,3,FALSE)","v":1.2360714562566599E-3},null,{"$f":"VLOOKUP($C11,'Clinical Lookup'!$C$10:$J$12,4,FALSE)","v":2.9934086352734657E-4},null,{"$f":"VLOOKUP($C11,'Clinical Lookup'!$C$10:$J$12,5,FALSE)","v":8.6160023806725159E-4},null,{"$f":"VLOOKUP($C11,'Clinical Lookup'!$C$10:$J$12,6,FALSE)","v":8.3512749477632697E-4},null,{"$f":"VLOOKUP($C11,'Clinical Lookup'!$C$10:$J$12,7,FALSE)","v":5.4259750452994556E-3},null,{"$f":"VLOOKUP($C11,'Clinical Lookup'!$C$10:$J$12,8,FALSE)","v":1.6279734436282518E-2}]
[]
[null,null,{"$f":"IF('Det Results'!C13=\"\",\"\",'Det Results'!C13)","v":"No Screen/treatment"},null,{"$f":"VLOOKUP($C13,'Clinical Lookup'!$C$10:$J$12,2,FALSE)","v":0},null,{"$f":"VLOOKUP($C13,'Clinical Lookup'!$C$10:$J$12,3,FALSE)","v":2.3296365129681783E-3},null,{"$f":"VLOOKUP($C13,'Clinical Lookup'!$C$10:$J$12,4,FALSE)","v":5.1990365225884324E-4},null,{"$f":"VLOOKUP($C13,'Clinical Lookup'!$C$10:$J$12,5,FALSE)","v":1.2607159570542307E-3},null,{"$f":"VLOOKUP($C13,'Clinical Lookup'!$C$10:$J$12,6,FALSE)","v":1.7196533805696127E-3},null,{"$f":"VLOOKUP($C13,'Clinical Lookup'!$C$10:$J$12,7,FALSE)","v":8.8867901287872225E-3},null,{"$f":"VLOOKUP($C13,'Clinical Lookup'!$C$10:$J$12,8,FALSE)","v":1.78944741579374E-2}]
[]
[]
[]
[null,null,"View Chart"]

{"sheet":"Stillbirth Chart","index":19,"n_rows":0,"n_cols":0,"rows_kept":0,"cut":false,"hidden":false,"merged":[]}

{"sheet":"NND chart","index":20,"n_rows":0,"n_cols":0,"rows_kept":0,"cut":false,"hidden":false,"merged":[]}

{"sheet":"PND Chart","index":21,"n_rows":0,"n_cols":0,"rows_kept":0,"cut":false,"hidden":false,"merged":[]}

{"sheet":"CP chart","index":22,"n_rows":0,"n_cols":0,"rows_kept":0,"cut":false,"hidden":false,"merged":[]}

{"sheet":"IVH chart","index":23,"n_rows":0,"n_cols":0,"rows_kept":0,"cut":false,"hidden":false,"merged":[]}

{"sheet":"RDS chart","index":24,"n_rows":0,"n_cols":0,"rows_kept":0,"cut":false,"hidden":false,"merged":[]}

{"sheet":"NICU chart","index":25,"n_rows":0,"n_cols":0,"rows_kept":0,"cut":false,"hidden":false,"merged":[]}

{"sheet":"CE plane data","index":26,"n_rows":1002,"n_cols":5,"rows_kept":1002,"cut":false,"hidden":false,"merged":[[0,5,0,6],[0,1,0,2],[0,3,0,4]]}
[null,"No Screen/treatment",null,"Cervical length ≤ 25 mm"]
["Simulations","Cost","QALY","Cost","QALY"]
[1,0,0,-707.38986258145542,7.6455143508781021E-2]
[2,0,0,-266.7019455859936,3.61383264959656E-2]
[3,0,0,-521.34225892960967,5.7944652609549507E-2]
[4,0,0,-636.98559223305392,6.2891254206235203E-2]
[5,0,0,-224.77638671228397,3.0285099872941146E-2]
[6,0,0,-416.57358201574925,4.6695842239373064E-2]
[7,0,0,-1362.9352186494903,0.11899713514962684]
[8,0,0,-72.559559485017417,4.9248534973287406E-3]
[9,0,0,-203.02453495093141,2.7922305800402114E-2]
[10,0,0,-142.50831079298223,2.6195738838602267E-2]
[11,0,0,-301.37261459170168,3.4917533979289317E-2]
[12,0,0,-368.28748976817224,3.9426393882855848E-2]
[13,0,0,-118.18218800026125,1.9556654453602107E-2]
[14,0,0,-230.7290732983497,3.6405710773792066E-2]
[15,0,0,30.963729549677737,-3.1245364661032227E-3]
[16,0,0,-525.80151043983369,5.8654770553239644E-2]
[17,0,0,-57.095680472114054,1.2648139668712588E-2]
[18,0,0,-142.50576715571606,1.8944416745092951E-2]
[19,0,0,-18.88229927794282,1.1229011653284715E-2]
[20,0,0,-402.85083598673918,3.8378983508579267E-2]
[21,0,0,-501.37911998305162,4.8335967894743703E-2]
[22,0,0,-642.88575128949469,6.0829543424205212E-2]
[23,0,0,-611.48571490000541,6.5258469625398163E-2]
[24,0,0,-301.48590368891564,3.3059197359683878E-2]
[25,0,0,-199.16294019296356,1.908307921651442E-2]
[26,0,0,-181.89121427440023,2.364217013952441E-2]
[27,0,0,-110.17036584622247,1.8104314028157376E-2]
[28,0,0,-386.59867374362148,4.4051178237346278E-2]
[29,0,0,-288.66259091519123,4.2662456745809152E-2]
[30,0,0,-1148.4536090324414,0.10926813359309762]
[31,0,0,-213.0695517926838,3.1946285679374853E-2]
[32,0,0,-669.42624718449406,6.5727247218106299E-2]
[33,0,0,-182.00471786836852,2.9012322716070571E-2]
[34,0,0,-520.40549676844603,4.2890034098519436E-2]
[35,0,0,-396.46397705363734,4.0173664743484494E-2]
[36,0,0,-455.25212787620603,5.2513619087683594E-2]
[37,0,0,-284.89562636744995,3.2658569912030089E-2]
[38,0,0,-450.91647183354416,3.8529336882973553E-2]
[39,0,0,-274.47431230902566,3.5488999023087331E-2]
[40,0,0,-248.28525508009716,3.3506572622926001E-2]
[41,0,0,-537.7679687943787,6.0306522857565881E-2]
[42,0,0,-478.34265692424196,4.7209939673969359E-2]
[43,0,0,-2540.3325065603967,0.203618229497458]
[44,0,0,-506.61140912301562,5.3302806059051022E-2]
[45,0,0,-717.02413747774244,6.005048601723928E-2]
[46,0,0,-645.4664241161945,8.9764139079292704E-2]
[47,0,0,-209.02982321259105,2.8290767367948888E-2]
[48,0,0,-83.813509957361475,1.6129850149873448E-2]
[49,0,0,-662.99723108791841,7.1042386270448787E-2]
[50,0,0,-957.19283642603159,9.6175831698779746E-2]
[51,0,0,-333.74248997625455,3.204760011313823E-2]
[52,0,0,-210.18387593267244,2.725870992431112E-2]
[53,0,0,-12.010275780811298,2.2578116196200426E-2]
[54,0,0,-388.49232599244078,3.1484943454422876E-2]
[55,0,0,-440.67320337254523,4.3064996769402342E-2]
[56,0,0,-603.2867263815142,5.1417961497605802E-2]
[57,0,0,-937.7717105749557,7.8148256679291705E-2]
[58,0,0,-231.27997775855101,2.7608458833526583E-2]
[59,0,0,-241.35452340495794,2.6421275029640867E-2]
[60,0,0,-382.64714559183403,4.9033882905469284E-2]
[61,0,0,-494.23330391460831,4.4947957967870877E-2]
[62,0,0,-252.45073255888065,3.2022867730141513E-2]
[63,0,0,-941.12729934979598,0.10322002152413035]
[64,0,0,-201.82357975145851,3.1965414367029155E-2]
[65,0,0,-39.060181444383034,1.2529034412850137E-2]
[66,0,0,-494.22903230004249,4.746885334773765E-2]
[67,0,0,-220.01117928758777,2.8883013574620975E-2]
[68,0,0,-391.9730392084839,4.107632015799112E-2]
[69,0,0,-721.14397878043474,6.7842828137216316E-2]
[70,0,0,-225.39349514999549,2.9322202421660393E-2]
[71,0,0,-711.20111521967965,7.5408349822943421E-2]
[72,0,0,-534.84085749913993,6.3365793804784687E-2]
[73,0,0,-393.43082952221221,5.6444375260902291E-2]
[74,0,0,-359.68359985458665,3.3318090915166465E-2]
[75,0,0,-983.72716561846391,9.148278821380984E-2]
[76,0,0,-180.44406467248245,2.1789678562655013E-2]
[77,0,0,-33.704013150385435,3.0103336590592278E-2]
[78,0,0,-380.70818889664088,4.1580805815712552E-2]
[79,0,0,-495.77252382321694,4.350867606707709E-2]
[80,0,0,-446.59948217080137,4.6613776576073462E-2]
[81,0,0,-987.65378795540164,8.2394985646857322E-2]
[82,0,0,-164.0439100865924,2.2091450916441602E-2]
[83,0,0,-494.81791288269051,4.546420847847088E-2]
[84,0,0,-287.47308185774182,4.3570877928836182E-2]
[85,0,0,-374.90381833842957,5.365118941942626E-2]
[86,0,0,-610.39525629597756,5.376423804274566E-2]
[87,0,0,-279.92725218254418,2.5897187682232925E-2]
[88,0,0,-577.55004904888301,6.5518000771767504E-2]
[89,0,0,-889.86032718526894,0.10499276543501423]
[90,0,0,-78.042814513365556,8.9187611231977826E-3]
[91,0,0,-186.3461676611837,2.6511234926289262E-2]
[92,0,0,-425.9804140601409,4.4629499627056646E-2]
[93,0,0,-402.98457477155716,4.0468154200645756E-2]
[94,0,0,-262.57382719842417,3.1073368683117053E-2]
[95,0,0,-978.80689968887827,9.87767363944414E-2]
[96,0,0,-179.95672160579943,3.5158270946865855E-2]
[97,0,0,-148.44092245000002,2.0604079405039499E-2]
[98,0,0,-392.16201286261003,4.8930221652149442E-2]
[99,0,0,-933.42493464622794,8.3960183394381716E-2]
[100,0,0,-723.67501464223869,7.4917761568585206E-2]
[101,0,0,-280.14079209642205,4.4615347479464162E-2]
[102,0,0,-487.30328290437956,5.5278033368821866E-2]
[103,0,0,-645.9418434882482,6.493096350684624E-2]
[104,0,0,-777.0790240365609,7.2855373862061867E-2]
[105,0,0,-383.33762840825011,5.4465173875726691E-2]
[106,0,0,-824.32738466087494,6.3574837038430587E-2]
[107,0,0,-500.85618083142117,4.7477292384868974E-2]
[108,0,0,-528.38128136179239,5.7828656817449087E-2]
[109,0,0,-906.40306412872769,8.0265502917363563E-2]
[110,0,0,-387.52406956488403,3.2289408153822308E-2]
[111,0,0,-430.68531307297326,4.1165688677949674E-2]
[112,0,0,-106.67101723815904,2.0368331966999165E-2]
[113,0,0,-383.65192886206341,5.3474806909768802E-2]
[114,0,0,-459.91954553724099,5.2874013459131675E-2]
[115,0,0,-287.51062375010906,3.5642638202695309E-2]
[116,0,0,-264.5138963313675,3.1976773466446673E-2]
[117,0,0,-638.90202500090936,6.5548723101571227E-2]
[118,0,0,-274.72616442388107,2.9409387108294993E-2]
[119,0,0,-871.70396025677246,8.1062495354323971E-2]
[120,0,0,-613.79746805178229,6.3066372681326754E-2]
[121,0,0,-669.95680380098702,7.3371366451837616E-2]
[122,0,0,-257.03948425209774,4.4706967904929229E-2]
[123,0,0,-1078.7808483895324,0.10072546704661534]
[124,0,0,-280.33938941927636,3.2766718781481075E-2]
[125,0,0,-21.231504568417677,1.2606381690183355E-2]
[126,0,0,-532.90306177665707,6.6651402051192576E-2]
[127,0,0,-207.06258038817123,2.9840266780738034E-2]
[128,0,0,-312.60514820216758,4.431392406988266E-2]
[129,0,0,-459.49999160307561,4.6924350539022441E-2]
[130,0,0,-210.07592004093522,2.1139414574555815E-2]
[131,0,0,-421.96446093247596,5.106036551896409E-2]
[132,0,0,-65.839706724078496,1.5197075713366814E-2]
[133,0,0,-240.92527205842407,2.2176600116630141E-2]
[134,0,0,-798.42348868131148,6.6864449751534494E-2]
[135,0,0,-413.87688480036013,5.8669881241634414E-2]
[136,0,0,-686.32703482194256,7.9286578352174786E-2]
[137,0,0,-151.94415952268537,1.9453358160745893E-2]
[138,0,0,-275.8018492354322,5.4020734126233094E-2]
[139,0,0,-730.53777348953599,7.455346684993458E-2]
[140,0,0,-166.78464519613908,3.0013004812246891E-2]
[141,0,0,-456.68192832228897,4.4174091106327751E-2]
[142,0,0,-732.51289999014944,7.9477160237068745E-2]
[143,0,0,-718.64510645320934,6.0884668585920565E-2]
[144,0,0,-549.78637545076162,5.2614273997392047E-2]
[145,0,0,-816.70210079472008,8.6936725997816211E-2]
[146,0,0,-742.39821456028676,6.491762801194767E-2]
[147,0,0,-256.73937739319899,2.8764580644129012E-2]
[148,0,0,-701.29688463991442,6.9542982371665119E-2]
[149,0,0,-5.8260141973473765,1.5366928465340379E-2]
[150,0,0,-356.87854937334123,3.4773975941050139E-2]
[151,0,0,-821.23814848760367,8.079059336368033E-2]
[152,0,0,-1066.3068758614772,9.3037344977275893E-2]
[153,0,0,-1117.5174393809639,8.4950898230971461E-2]
[154,0,0,-115.21404331593067,1.4948976021379679E-2]
[155,0,0,-137.20107987552456,2.0902225093685445E-2]
[156,0,0,-712.62814110593126,5.8966182692167024E-2]
[157,0,0,-159.34456815234307,2.7539501475395411E-2]
[158,0,0,-552.98448007063371,6.3030030948645788E-2]
[159,0,0,-689.64922531246293,7.0301828573199998E-2]
[160,0,0,-298.85359206686326,2.9801165636555993E-2]
[161,0,0,-401.05856028133439,3.9811269990345011E-2]
[162,0,0,-316.67663767404792,4.420636234038966E-2]
[163,0,0,-979.78409344722604,8.7499366358336772E-2]
[164,0,0,-248.78379821711223,3.1044432440566538E-2]
[165,0,0,157.66997043938727,-2.1175917742972672E-2]
[166,0,0,-385.8935385110135,4.2332156723652759E-2]
[167,0,0,-68.044285933108313,1.3564075734855408E-2]
[168,0,0,-380.288770621406,4.5641658794004059E-2]
[169,0,0,-879.57485473190536,8.4896962146487454E-2]
[170,0,0,-336.87604130345653,2.9589560076892951E-2]
[171,0,0,-501.41297500809424,5.6149587603663065E-2]
[172,0,0,-459.41974423348029,5.7117775163817441E-2]
[173,0,0,-778.97219410397429,6.83416821453946E-2]
[174,0,0,-720.21211107143972,7.706543558901302E-2]
[175,0,0,-1272.2596209658109,0.10823682466491391]
[176,0,0,-625.73925704039084,5.8654284530156531E-2]
[177,0,0,-778.9503061754931,8.2923494196421643E-2]
[178,0,0,-324.66185574598057,3.03641891644304E-2]
[179,0,0,-473.86733599836043,4.8890760612657402E-2]
[180,0,0,-761.01236455988374,7.1373195375798559E-2]
[181,0,0,-382.11507380695548,4.6500119332279155E-2]
[182,0,0,-179.02002877682617,3.3079526990128727E-2]
[183,0,0,-1059.7117592588065,7.5343214859536545E-2]
[184,0,0,-682.5542446079703,6.1057129239671326E-2]
[185,0,0,-1247.0521530237515,0.11417714356938546]
[186,0,0,-883.98978839843812,8.3427610016023834E-2]
[187,0,0,-185.91001301038887,3.1078564885255844E-2]
[188,0,0,-328.37480092843634,4.2509969235652534E-2]
[189,0,0,-297.83251248066927,2.9981832601045255E-2]
[190,0,0,-662.51409267042072,5.3714609320131501E-2]
[191,0,0,23.78893144596077,1.2293802746810911E-2]
[192,0,0,-540.8698597223929,5.0576179069437899E-2]
[193,0,0,-192.97102395156571,2.8212194117067213E-2]
[194,0,0,-224.0785371249026,2.6500349335115914E-2]
[195,0,0,-262.23587225023903,2.3847727767169147E-2]
[196,0,0,-256.68554999448907,2.715128956669588E-2]
[197,0,0,-573.68509420261853,6.1225470575450913E-2]
[198,0,0,-746.98026205864562,7.5827763722088548E-2]
[199,0,0,-141.18269046417936,1.8878688547800948E-2]
[200,0,0,-512.65487402367944,5.8378456044053451E-2]
[201,0,0,-205.30778655339645,3.5341395868144332E-2]
[202,0,0,-817.80040793104718,8.2390337188215312E-2]
[203,0,0,-512.87946681163612,4.7388910236051629E-2]
[204,0,0,-585.21717298272097,5.0708658752647295E-2]
[205,0,0,-207.91898541991941,2.8449395425404589E-2]
[206,0,0,170.49064882942093,-1.3945550118329209E-2]
[207,0,0,-29.799779751653205,1.2996236427795793E-2]
[208,0,0,-392.31787300798987,3.8656896998745083E-2]
[209,0,0,-133.54358507236611,2.2745998983069171E-2]
[210,0,0,-411.51751923270285,4.482806495066427E-2]
[211,0,0,-1077.9324760715172,9.1722894302691316E-2]
[212,0,0,-928.87538287649022,9.5688924741736514E-2]
[213,0,0,-507.44920046311245,5.2533501803949889E-2]
[214,0,0,-415.88958094174677,4.3965542094348109E-2]
[215,0,0,-406.13120422314523,5.5713795222978035E-2]
[216,0,0,-461.48027838740927,4.8974441817804859E-2]
[217,0,0,-921.21383221778797,8.8516139976327679E-2]
[218,0,0,-157.35380670803897,2.1347167903471131E-2]
[219,0,0,-438.41533363123608,5.1659213345075727E-2]
[220,0,0,-146.58479845306192,2.9116006007647854E-2]
[221,0,0,-1017.7841679182643,8.9418936152085848E-2]
[222,0,0,-515.47443740761628,4.77586914202206E-2]
[223,0,0,-965.42621560836415,7.6913976316632215E-2]
[224,0,0,-414.96313271792405,4.7258781740175948E-2]
[225,0,0,-427.23086404385822,5.8978253657244295E-2]
[226,0,0,-713.41597821612231,6.6677970463508984E-2]
[227,0,0,-757.86075964144948,7.6091229615052214E-2]
[228,0,0,-496.90445719110585,5.2860865082564601E-2]
[229,0,0,-710.16299898889338,7.4088027514200405E-2]
[230,0,0,-380.98706617125526,4.6059631404673951E-2]
[231,0,0,-793.40340258154811,7.0043682584831402E-2]
[232,0,0,-243.36526782023702,3.5692723690488037E-2]
[233,0,0,-154.75521697581007,1.9238197760792275E-2]
[234,0,0,-202.7690031594143,2.5846106223283982E-2]
[235,0,0,-332.52985111367252,3.7291096915609501E-2]
[236,0,0,-225.90760517486979,2.2966960941900538E-2]
[237,0,0,-214.27839079510159,2.5098819678362361E-2]
[238,0,0,-442.04303690986035,5.0955219759948989E-2]
[239,0,0,-707.27559776143335,7.8574710150327576E-2]
[240,0,0,-851.4506574473744,7.5213482798744735E-2]
[241,0,0,-720.24018223881194,6.9358992948991727E-2]
[242,0,0,-341.60031592762516,3.1731580002769988E-2]
[243,0,0,-284.1992544189734,3.2573971431091309E-2]
[244,0,0,-511.75782935014831,4.8874378055707268E-2]
[245,0,0,-744.92884225537136,5.9761237578783266E-2]
[246,0,0,-528.48124167960805,4.8844567669476646E-2]
[247,0,0,-580.25450189473759,5.2586121661015284E-2]
[248,0,0,-266.35875941871245,2.8953331879030486E-2]
[249,0,0,-453.64382290755475,4.8125020760878101E-2]
[250,0,0,-559.5153389458078,3.9121823753511364E-2]
[251,0,0,-897.596637598705,9.1330521115850161E-2]
[252,0,0,-491.74239420929871,4.4541482194276227E-2]
[253,0,0,-862.48210576791735,8.3596082286476303E-2]
[254,0,0,-386.28170377234801,3.9335079178101751E-2]
[255,0,0,-105.79577091965893,2.3623296436809937E-2]
[256,0,0,-476.32443548717401,5.1007141172568993E-2]
[257,0,0,-205.07018382771184,2.553250512140437E-2]
[258,0,0,-375.66079819625884,4.0055770773477661E-2]
[259,0,0,-258.49238210381645,3.2964441259068167E-2]
[260,0,0,-590.51340616296648,6.4865003643838293E-2]
[261,0,0,-696.62986679637652,5.9553414512272695E-2]
[262,0,0,-914.27672587976258,8.682431504644228E-2]
[263,0,0,-226.68013850310717,3.2583938038911242E-2]
[264,0,0,-586.22542307456297,6.0459692595692616E-2]
[265,0,0,-577.22959419458675,5.1254058800708435E-2]
[266,0,0,-218.45807416733805,3.2324579625154115E-2]
[267,0,0,-276.61070011418587,3.3758719341328458E-2]
[268,0,0,-160.68457026421538,2.2151592062542136E-2]
[269,0,0,-1.6080935198424413,1.1124400895525355E-2]
[270,0,0,-17.890430104758252,1.4008287095393257E-2]
[271,0,0,-387.77729071700105,4.4610633176517922E-2]
[272,0,0,-878.44689952868885,9.4135041064525637E-2]
[273,0,0,-280.92210116447404,3.419417682579251E-2]
[274,0,0,-238.4206212298177,2.4519230605768882E-2]
[275,0,0,-263.39409409997643,3.0364510752626472E-2]
[276,0,0,-347.01674497024214,3.5583178983124242E-2]
[277,0,0,-179.14863072299795,2.412464661483682E-2]
[278,0,0,-497.51049242510317,5.208941174538495E-2]
[279,0,0,-272.9687917005831,3.0733829655773093E-2]
[280,0,0,-990.46706696901583,0.10003904199729163]
[281,0,0,-464.55352552552995,5.328300536412911E-2]
[282,0,0,-730.66240718815197,7.5591246683607949E-2]
[283,0,0,-150.62559026048348,1.273635192288225E-2]
[284,0,0,-468.41516551654604,4.4008355000826782E-2]
[285,0,0,-1015.1331291701977,0.11271341829840509]
[286,0,0,-69.026397949810871,1.7162178623316038E-2]
[287,0,0,-980.7201084137032,8.7615023045621854E-2]
[288,0,0,-2.7395605680380868,1.3604392712046831E-2]
[289,0,0,-866.31639874718576,7.6683121083334527E-2]
[290,0,0,-517.71288447242159,5.3861496763808248E-2]
[291,0,0,-346.55991326668118,4.5796251942668675E-2]
[292,0,0,-519.84058923622979,5.3916921945358354E-2]
[293,0,0,-930.38330196614379,8.083435533349359E-2]
[294,0,0,-508.85601368185962,4.8050469911579796E-2]
[295,0,0,-1662.1087881023905,0.15628340388280293]
[296,0,0,-380.3168718831198,3.6950810455920191E-2]
[297,0,0,-268.00252333329263,3.1738933451173068E-2]
[298,0,0,-460.27091047505519,3.9648571107662178E-2]
[299,0,0,-44.941969713258004,1.2339861354170978E-2]
[300,0,0,-510.66549493517414,5.3588809374467417E-2]
[301,0,0,-422.33401445521986,4.7044380828765497E-2]
[302,0,0,-275.66882904942941,3.1833387049324813E-2]
[303,0,0,-349.73418215593802,3.1589237396708825E-2]
[304,0,0,-456.45956886677459,4.6222931334504835E-2]
[305,0,0,-537.89646076904546,5.619702004742777E-2]
[306,0,0,-247.40530441995179,3.5194814774719418E-2]
[307,0,0,-368.76346391372499,3.7868931222362789E-2]
[308,0,0,-383.31652488143163,4.0859435516232168E-2]
[309,0,0,-1066.3596516139442,9.7748034174209408E-2]
[310,0,0,-114.36557523589863,1.5860761495041231E-2]
[311,0,0,-182.25464654178268,1.7582627828645059E-2]
[312,0,0,-268.34248186577406,3.0521519532577202E-2]
[313,0,0,-256.83985769284345,3.3985866361106787E-2]
[314,0,0,-736.37764191405631,8.0388991719956948E-2]
[315,0,0,-233.16872412586508,3.4088242348730091E-2]
[316,0,0,-789.79230859735208,7.6930093918868181E-2]
[317,0,0,-596.31976316009241,6.1247147858317419E-2]
[318,0,0,-1010.9525826487697,0.11419786276403698]
[319,0,0,-270.0450884383099,3.4801678424841498E-2]
[320,0,0,-656.86740376757007,6.1127889401170421E-2]
[321,0,0,-774.76017516703814,6.1789411603150768E-2]
[322,0,0,-529.07328777714793,6.3301759418095571E-2]
[323,0,0,-484.47801216515472,4.8656276495400164E-2]
[324,0,0,-141.6574116746574,1.7523625096487194E-2]
[325,0,0,-390.72942842871817,5.6462238397337217E-2]
[326,0,0,-375.84776875242005,5.100454921367259E-2]
[327,0,0,-480.47902367908227,5.6000286978701297E-2]
[328,0,0,-557.26096246402358,5.499899063839564E-2]
[329,0,0,-678.36379912478924,6.5144597318862907E-2]
[330,0,0,-286.0619476333809,3.5059118792098332E-2]
[331,0,0,-429.24217529633006,3.8632000354830609E-2]
[332,0,0,-359.17909832131045,3.3935841182582749E-2]
[333,0,0,-57.378794734871917,1.1947305867082036E-2]
[334,0,0,-509.88330139914706,5.3428087103675637E-2]
[335,0,0,-215.51585566967697,2.4720568030794254E-2]
[336,0,0,-1215.6966631571281,0.10755703081853341]
[337,0,0,-816.75774897845804,0.1058135841889225]
[338,0,0,-294.30717921434552,2.7181534924039852E-2]
[339,0,0,-646.42970326843988,6.6974115338659601E-2]
[340,0,0,-384.95971357769804,4.8453073560331461E-2]
[341,0,0,-1092.3045813008416,0.10307034580894481]
[342,0,0,-861.87238778534856,8.5300388465775256E-2]
[343,0,0,-774.38857528369499,6.9656033112245552E-2]
[344,0,0,-743.45690035292591,8.7216419949506019E-2]
[345,0,0,-203.38051349690932,3.2084019161509048E-2]
[346,0,0,-488.77567041591419,3.3877425146130236E-2]
[347,0,0,-1290.6342889100788,0.10690547474763434]
[348,0,0,-955.48330599486007,9.7119053307203274E-2]
[349,0,0,-441.5557968606131,4.7117238877731893E-2]
[350,0,0,-322.2394414430305,3.2989877462007655E-2]
[351,0,0,-456.93651242366968,5.8933802114751188E-2]
[352,0,0,-789.78779084916732,6.2364547499676348E-2]
[353,0,0,-517.84022655764102,5.6084826764646323E-2]
[354,0,0,-552.19164987124805,4.8861746259696304E-2]
[355,0,0,-314.69523671278193,3.1343274375473129E-2]
[356,0,0,-83.175576891694618,7.1590229792519722E-3]
[357,0,0,-601.59630920693598,5.1297250348561363E-2]
[358,0,0,-396.54599800612232,3.4946135587382798E-2]
[359,0,0,-447.32847378433326,3.6883721087299648E-2]
[360,0,0,-599.74049244159824,5.3524730764657136E-2]
[361,0,0,-264.93395661287286,3.5267208297852903E-2]
[362,0,0,-174.99011325215315,3.0927480428935894E-2]
[363,0,0,-768.64842390505282,8.2822523928854253E-2]
[364,0,0,-525.62443185057055,5.9261047766334229E-2]
[365,0,0,-197.18834690632821,2.101451592753989E-2]
[366,0,0,-128.39959507886397,2.8068983173490381E-2]
[367,0,0,-24.215835957357285,9.2901034414225592E-3]
[368,0,0,-328.4660092506706,3.0831285059036873E-2]
[369,0,0,-758.69440084931739,7.1116879653253307E-2]
[370,0,0,-421.95975476555805,4.4342494295925405E-2]
[371,0,0,-268.83502031582611,3.0285853633181148E-2]
[372,0,0,-592.15070570226999,6.2024260038498369E-2]
[373,0,0,-699.64024549723763,7.9998516483698268E-2]
[374,0,0,-76.543520101579816,1.3151600591534418E-2]
[375,0,0,-1161.4797971996081,0.11356428571823329]
[376,0,0,-478.69786360713988,4.792663843985423E-2]
[377,0,0,-606.68233547074806,6.0486960615357077E-2]
[378,0,0,-254.47630837545648,2.0676137738675493E-2]
[379,0,0,-261.10156007665091,3.5674153906981587E-2]
[380,0,0,-410.74010622194146,4.176219719821006E-2]
[381,0,0,-186.18566181259393,2.4875729602293006E-2]
[382,0,0,-905.29066915257681,7.4665062224241296E-2]
[383,0,0,-301.00557415459843,4.1993733730350868E-2]
[384,0,0,-652.2235269467069,5.6986332036714771E-2]
[385,0,0,-979.43650739281475,8.4812008247396875E-2]
[386,0,0,-340.23034839057163,3.4268387028745906E-2]
[387,0,0,-757.03791612986197,8.0366827545987007E-2]
[388,0,0,-491.31685144488392,4.6769890704034367E-2]
[389,0,0,-718.37827582920136,6.3436220091055873E-2]
[390,0,0,-114.31558582015259,1.9742808601527884E-2]
[391,0,0,-401.58863963650174,4.0499855602895707E-2]
[392,0,0,-760.63271459784391,6.4605494104966965E-2]
[393,0,0,-169.75206599873081,2.7269978560326535E-2]
[394,0,0,-415.76250373151925,4.5783570290851117E-2]
[395,0,0,-435.78776412235584,4.5480630579191939E-2]
[396,0,0,-707.85130923350835,6.5142543129553587E-2]
[397,0,0,-931.08605982951667,9.1521641839122481E-2]
[398,0,0,-699.59228939269951,6.4923010103960621E-2]
[399,0,0,-825.73872279434772,6.9791085715998236E-2]
[400,0,0,-689.83871969632037,6.6868416918758555E-2]
[401,0,0,-291.93415253907688,3.1166969860436211E-2]
[402,0,0,-121.97568086150523,2.4359792301424932E-2]
[403,0,0,-370.5252896225179,3.9710141715325165E-2]
[404,0,0,-847.45731553798123,8.3894054557106301E-2]
[405,0,0,-854.37351399110048,8.9394379191787721E-2]
[406,0,0,-273.23077424150597,3.3569344550940627E-2]
[407,0,0,-871.41215226985969,8.884405967431519E-2]
[408,0,0,-578.0666856873604,6.061743572675482E-2]
[409,0,0,-445.78173758496177,4.5837503868540352E-2]
[410,0,0,-492.10379007413894,5.0689764385204228E-2]
[411,0,0,-937.37981446904541,9.1620495375558164E-2]
[412,0,0,36.195549409977048,1.0253351385955511E-2]
[413,0,0,-428.48453069126754,5.1905034906226888E-2]
[414,0,0,-249.6205227056771,2.9263354633968675E-2]
[415,0,0,-286.31915397499688,3.981715774549599E-2]
[416,0,0,-1297.8337323975111,0.12515498847421469]
[417,0,0,-664.12240968289052,6.8265832305726803E-2]
[418,0,0,-589.20162799478294,5.2160325830946874E-2]
[419,0,0,-854.36881084505922,7.9690620143736624E-2]
[420,0,0,-325.28132536034582,3.4031219742722385E-2]
[421,0,0,-469.25265213194098,5.2059355792572148E-2]
[422,0,0,-863.30741491795607,6.6288867411834929E-2]
[423,0,0,-348.79608588977817,5.0237488033026523E-2]
[424,0,0,-1142.8585133560846,0.10125513034406453]
[425,0,0,-367.59468168471494,3.7349609737262313E-2]
[426,0,0,-674.74761402220702,6.684837035759017E-2]
[427,0,0,-320.65202458039857,3.2508068508676047E-2]
[428,0,0,-133.46229259260872,1.6681235239431658E-2]
[429,0,0,-693.21843870229941,6.0962984206682336E-2]
[430,0,0,-674.67170040603696,7.8679457679065479E-2]
[431,0,0,-710.86147772111417,6.493477344520926E-2]
[432,0,0,-549.14635656315431,5.2514245177079033E-2]
[433,0,0,-462.36102305022996,3.3236127019641515E-2]
[434,0,0,-553.01831764321378,6.6877238090953028E-2]
[435,0,0,-339.34486184823481,4.3218574157521061E-2]
[436,0,0,-418.46873268270474,5.1308091197277861E-2]
[437,0,0,-410.8765037301323,4.4500504028640364E-2]
[438,0,0,-269.27624651177257,2.6481121012608355E-2]
[439,0,0,-1037.7065221843723,8.262757829117362E-2]
[440,0,0,-230.46720346256461,3.1646198031658912E-2]
[441,0,0,-828.91240062873567,6.9674785263316608E-2]
[442,0,0,-819.94753959187165,6.5492747864077216E-2]
[443,0,0,-273.25473520439209,3.7888757170847498E-2]
[444,0,0,-1280.4681276919891,0.1203215000461455]
[445,0,0,-398.31058908946989,4.3926645320091495E-2]
[446,0,0,-728.39707138047424,7.4424892835587286E-2]
[447,0,0,-918.09423560531059,8.9987853772676374E-2]
[448,0,0,-570.40743391546266,5.8531650909614541E-2]
[449,0,0,-167.03747820986109,2.095463781939344E-2]
[450,0,0,-545.29519482626847,6.1299034159546295E-2]
[451,0,0,-570.02244703136557,6.5661458698407671E-2]
[452,0,0,-295.12848643357756,3.1930555369605429E-2]
[453,0,0,-297.7352796961668,3.2901955953782647E-2]
[454,0,0,-722.96857231010699,5.3753301771280348E-2]
[455,0,0,-773.99835383902519,6.5985231570351743E-2]
[456,0,0,-637.32535857240964,5.7140968943663495E-2]
[457,0,0,-533.09092685209271,5.5953617003190459E-2]
[458,0,0,-624.91526453805682,4.9025499506740289E-2]
[459,0,0,-595.8617445963605,5.5547581866562723E-2]
[460,0,0,-29.576946095324274,1.155752358311446E-2]
[461,0,0,-885.03552661022923,8.7701232973714127E-2]
[462,0,0,-535.585004107028,4.6975003672478977E-2]
[463,0,0,-344.64071647318997,3.2818757930321851E-2]
[464,0,0,-577.66349369470163,5.1681649228207505E-2]
[465,0,0,-927.76356234436025,9.2287784722934418E-2]
[466,0,0,-103.88752762492231,1.8638741514884316E-2]
[467,0,0,-473.12210564443194,3.9288819414281306E-2]
[468,0,0,-396.11529152432422,4.2416576109751247E-2]
[469,0,0,-885.55455143129029,8.663074701659923E-2]
[470,0,0,-825.74016783851221,9.0903023204823796E-2]
[471,0,0,-593.37483027685266,5.2761824808357005E-2]
[472,0,0,-455.12187209305284,4.7836306522036409E-2]
[473,0,0,-265.05612976966313,3.0360557849185454E-2]
[474,0,0,-1746.1632877090287,0.16134452113814746]
[475,0,0,-53.1688845308704,7.7006034458122485E-3]
[476,0,0,-669.40137073451251,6.3865771198813093E-2]
[477,0,0,-441.09291998343315,4.6314402285780432E-2]
[478,0,0,-490.93558546210079,4.2123703836246307E-2]
[479,0,0,-547.87032118992374,4.3857237639890911E-2]
[480,0,0,-576.43424184937794,5.5961502502157145E-2]
[481,0,0,-357.24975136590092,4.1650089054272144E-2]
[482,0,0,40.010243931437344,7.6064884104383168E-3]
[483,0,0,-276.98825049728839,4.0031894276587821E-2]
[484,0,0,-182.04902189231461,2.250647551713314E-2]
[485,0,0,-598.53860503423857,6.3640998582634722E-2]
[486,0,0,83.023575326154969,-5.1588617754703137E-3]
[487,0,0,-202.41071364437994,2.7894186244395769E-2]
[488,0,0,-570.03467329199566,5.4005430321623749E-2]
[489,0,0,-295.00725728868883,2.8541276641874447E-2]
[490,0,0,-631.44644953665693,6.1488798685331858E-2]
[491,0,0,-392.53458773488637,4.5034814800516187E-2]
[492,0,0,-93.880248925042906,1.7681113525313208E-2]
[493,0,0,-402.72235920112917,3.6015513284354483E-2]
[494,0,0,-1040.7682202992396,9.2600656442776597E-2]
[495,0,0,-993.93350756358132,8.9656907720701895E-2]
[496,0,0,-455.90238394539347,4.4711077573488467E-2]
[497,0,0,-521.65160436346241,5.7675176616768908E-2]
[498,0,0,-56.202757262624345,1.742637853347162E-2]
[499,0,0,-56.949975701813855,1.5604615273034028E-2]
[500,0,0,-436.01217501210294,4.5773469191097149E-2]
[501,0,0,-345.59594415050196,3.5396935170808774E-2]
[502,0,0,-119.80186725397243,1.8751342513894542E-2]
[503,0,0,-984.29109094143996,8.4296927675886479E-2]
[504,0,0,-309.94833328879167,5.0248294928316284E-2]
[505,0,0,-586.65882784183577,5.8252138789555374E-2]
[506,0,0,-1051.9326365269617,9.3243979802821286E-2]
[507,0,0,-823.84108397899035,6.6975731393938531E-2]
[508,0,0,-517.33758127404917,5.0364649905013437E-2]
[509,0,0,-470.90949315737726,4.956932322339469E-2]
[510,0,0,-866.88755735566019,7.9616674050505765E-2]
[511,0,0,-46.03771687506287,1.7716510240646244E-3]
[512,0,0,-236.83652109423065,2.5699705968250441E-2]
[513,0,0,-217.48222215050509,2.8963244101532837E-2]
[514,0,0,160.38397068447011,-1.6102737905868025E-2]
[515,0,0,-903.89460325613891,7.8361682173955671E-2]
[516,0,0,-564.68840883485336,6.0907490706334499E-2]
[517,0,0,-1228.2481854764255,0.10766568631010642]
[518,0,0,-300.10485330957272,3.1666858169913326E-2]
[519,0,0,-303.77717907470196,4.3592036190716499E-2]
[520,0,0,-797.80599167949231,7.5033474790146215E-2]
[521,0,0,-253.18864155767233,2.2934843492599555E-2]
[522,0,0,-304.18661233565581,3.5013103050722805E-2]
[523,0,0,-1024.9795870317489,8.952991327285531E-2]
[524,0,0,-395.11537139860138,4.0386743534661207E-2]
[525,0,0,-621.25895459575895,5.4800341416779474E-2]
[526,0,0,-129.8305060260559,2.4259740266806773E-2]
[527,0,0,-400.82319700562721,4.3076385018906649E-2]
[528,0,0,-68.393738164898878,1.2755313537773816E-2]
[529,0,0,-435.98494925992782,6.2972870222203881E-2]
[530,0,0,-465.80601923909944,5.978811778888371E-2]
[531,0,0,-549.61952976047633,5.5394345450899607E-2]
[532,0,0,-916.09242600283824,8.4800054708772166E-2]
[533,0,0,-406.08103252750652,5.0643680046306372E-2]
[534,0,0,-197.26668705642624,2.5803733100836723E-2]
[535,0,0,-378.94789769811405,3.9644194543846822E-2]
[536,0,0,-556.63082185745589,6.6081927311039124E-2]
[537,0,0,-404.88110339465857,4.3384768854032529E-2]
[538,0,0,-429.67236411094336,3.9202034656078411E-2]
[539,0,0,-849.96971581037678,7.8288780553251058E-2]
[540,0,0,-917.87432299983084,7.5925692856259275E-2]
[541,0,0,-589.06545888646724,5.5795719574362579E-2]
[542,0,0,-1002.5955320349444,7.9320362396629207E-2]
[543,0,0,-1057.9762044549052,9.5003772640531281E-2]
[544,0,0,-383.41040024264794,5.3464062974533988E-2]
[545,0,0,-259.36084183415369,2.9996036075651489E-2]
[546,0,0,-429.14518563675574,4.5246553247075383E-2]
[547,0,0,-396.9041515069348,4.1132555980738061E-2]
[548,0,0,-904.5691850794924,7.3500491377508581E-2]
[549,0,0,-229.16637563240101,2.7936292961939557E-2]
[550,0,0,-274.84786146786246,3.2901276989207418E-2]
[551,0,0,-296.06857012489036,3.6414015817683776E-2]
[552,0,0,-1043.9204484553911,9.3960815259144681E-2]
[553,0,0,-212.04967782941958,3.0161594022338534E-2]
[554,0,0,-380.66606458048773,4.3338602028896389E-2]
[555,0,0,-138.26723116989206,2.7637405911825397E-2]
[556,0,0,-597.85207159307629,5.750865166258734E-2]
[557,0,0,-499.1229802683979,5.611495808952327E-2]
[558,0,0,-761.35841959857953,6.4399040222710369E-2]
[559,0,0,-234.57065390760363,3.6063683228597654E-2]
[560,0,0,-175.135992416921,2.5346833143572667E-2]
[561,0,0,-691.79241318477489,6.1862113767944038E-2]
[562,0,0,-585.46674001424071,6.8870186055946192E-2]
[563,0,0,-347.20268097146436,5.2040737208876919E-2]
[564,0,0,-538.49170853283204,4.1867289293385568E-2]
[565,0,0,-763.20795057304031,8.031700103898487E-2]
[566,0,0,-553.63360804045533,4.3124331598221488E-2]
[567,0,0,-651.4558800004047,6.837093396506333E-2]
[568,0,0,-355.44861845614423,3.9081089866144225E-2]
[569,0,0,-945.90123968878788,8.5685608158669879E-2]
[570,0,0,-575.76189486906605,5.2626973066921323E-2]
[571,0,0,-243.698251071301,2.3928584235569872E-2]
[572,0,0,-206.55622840397655,2.5878970284921365E-2]
[573,0,0,-218.10319400212393,3.1395905427409332E-2]
[574,0,0,-249.10168314951488,4.1595546321538279E-2]
[575,0,0,-522.72879802065336,5.8936072728670297E-2]
[576,0,0,-606.77391593132734,5.1451200683594323E-2]
[577,0,0,-253.47786431044324,3.0516430432463437E-2]
[578,0,0,61.657465426385443,6.062585440574253E-3]
[579,0,0,-680.63694210960966,6.8717195705268352E-2]
[580,0,0,-512.32742825714286,5.8857546548537698E-2]
[581,0,0,-156.18850428007772,2.8889881793020322E-2]
[582,0,0,-801.73831632647489,6.6604651703528361E-2]
[583,0,0,-610.89154856194955,5.7118086157643688E-2]
[584,0,0,-325.21958142466929,3.7933260277597469E-2]
[585,0,0,-544.96233436826378,5.0663907846939082E-2]
[586,0,0,-852.71306861536641,6.8835264997183288E-2]
[587,0,0,-559.57394381026279,5.0980362486967579E-2]
[588,0,0,-462.17449830115493,5.0142234340874836E-2]
[589,0,0,-263.56870089514905,3.4000296889267645E-2]
[590,0,0,-531.75951562406681,7.521076806241922E-2]
[591,0,0,-514.95328156489813,4.2942429644710955E-2]
[592,0,0,-559.34638720360317,5.9780750694017115E-2]
[593,0,0,-197.23530658786422,1.6081824144265511E-2]
[594,0,0,-393.28365401435303,4.5692573430820005E-2]
[595,0,0,-431.07150540365546,5.7621599564036785E-2]
[596,0,0,-47.323992420164359,1.0911098302614164E-2]
[597,0,0,-372.90545465113746,3.6955611814185829E-2]
[598,0,0,-523.44282519188573,4.7430325412477714E-2]
[599,0,0,-211.35289864122024,2.4374041219040521E-2]
[600,0,0,-602.11092312361598,6.4084068487957779E-2]
[601,0,0,-261.6499503598684,2.6698202352008593E-2]
[602,0,0,-181.5103676093936,3.6416341538043184E-2]
[603,0,0,-669.17126348867168,5.7628182881892087E-2]
[604,0,0,-528.98606324750381,4.4561314422935538E-2]
[605,0,0,-991.43057115133706,8.5172056348405079E-2]
[606,0,0,-1085.3514607040875,0.10082240972160861]
[607,0,0,-417.49028545438523,4.6045513534828331E-2]
[608,0,0,-240.28526083192628,3.2187908491394523E-2]
[609,0,0,-386.20443538278187,4.7738627342141626E-2]
[610,0,0,-1287.9022327096054,0.11071741547895186]
[611,0,0,-795.15896753478501,7.4014146839353145E-2]
[612,0,0,-428.41747593259697,3.9380075426528549E-2]
[613,0,0,-929.68878479943896,6.9021825231097012E-2]
[614,0,0,-657.69044437531602,6.6647342219880557E-2]
[615,0,0,-823.10696225550328,8.5803038365952489E-2]
[616,0,0,-298.19134846498946,3.339847091747572E-2]
[617,0,0,-245.29827767758161,3.4758199036787119E-2]
[618,0,0,-371.35937203420917,4.8788912092582848E-2]
[619,0,0,-713.74803180659546,5.4753156851013784E-2]
[620,0,0,-395.7866774588033,3.3524244963636818E-2]
[621,0,0,-49.34922346332587,1.1466061836962638E-2]
[622,0,0,-106.73282678354599,1.6604380540087504E-2]
[623,0,0,-657.27257413105599,6.4086556253535321E-2]
[624,0,0,-1115.5276403582643,0.10529902054402385]
[625,0,0,-430.49272352897333,5.5970963938051455E-2]
[626,0,0,-548.22633047869977,5.4352919543887879E-2]
[627,0,0,-307.45643326683603,3.3273196041420761E-2]
[628,0,0,-680.54439068841111,6.4510200733572276E-2]
[629,0,0,-505.41085303913496,5.502475687491426E-2]
[630,0,0,-317.91790363621976,3.1859840152137053E-2]
[631,0,0,-153.85750085249538,2.4213093045048595E-2]
[632,0,0,-57.643816588174559,1.161154470081982E-2]
[633,0,0,-424.20046853207441,5.7254140500020867E-2]
[634,0,0,-671.01998595272335,5.8818949117217301E-2]
[635,0,0,-848.90097700486376,7.3846717235070969E-2]
[636,0,0,-412.59984484407187,4.7403417040818852E-2]
[637,0,0,-283.18841530581767,3.3109261917942945E-2]
[638,0,0,-339.25744941710718,3.6079192001700733E-2]
[639,0,0,-614.01195254024015,5.1846004235962084E-2]
[640,0,0,-31.205695944107902,2.3096823522358534E-2]
[641,0,0,-579.21379431878586,8.7911084050723787E-2]
[642,0,0,-332.764659381201,3.8607345204951571E-2]
[643,0,0,-1210.6033676605493,0.10021408820768585]
[644,0,0,-214.10377689883308,3.3821716764627752E-2]
[645,0,0,-921.24430292686793,9.7072854751928617E-2]
[646,0,0,-400.4131220096474,3.9191865484951904E-2]
[647,0,0,-48.076426572329183,9.8381209517057755E-3]
[648,0,0,-359.79948076939172,4.5913321388944439E-2]
[649,0,0,-769.6095032490648,6.7198951937783136E-2]
[650,0,0,-33.688403334539998,1.1019963920617215E-2]
[651,0,0,-1050.6351719463942,9.2850979525067601E-2]
[652,0,0,-448.63851931806994,4.3260011943218046E-2]
[653,0,0,-662.73464740648251,6.8232385155901909E-2]
[654,0,0,-26.843065980424853,2.170775594383656E-2]
[655,0,0,-341.411452813506,3.4749600452023799E-2]
[656,0,0,-197.15952832780113,3.1692422767370942E-2]
[657,0,0,-453.90000649633157,4.485806615164023E-2]
[658,0,0,-1018.4623248999505,9.4159747719771758E-2]
[659,0,0,-1160.2428283300474,0.11347000996480716]
[660,0,0,-808.73169465683804,7.613727489641775E-2]
[661,0,0,-515.10501543370447,5.6249729805280424E-2]
[662,0,0,-101.77822208740736,9.3744328843428093E-3]
[663,0,0,18.391268284012767,1.6942728147547825E-2]
[664,0,0,-103.08604612585077,1.88521078517212E-2]
[665,0,0,-620.71409843812671,6.5185421125960374E-2]
[666,0,0,-828.53201035267966,8.294474088027215E-2]
[667,0,0,-502.3527505864231,5.0206014116035647E-2]
[668,0,0,-668.38802849408739,5.6159789045317154E-2]
[669,0,0,-126.72264630606924,2.5309301820712449E-2]
[670,0,0,-890.6922009317359,7.1711901075396156E-2]
[671,0,0,-222.27336334164738,4.5745104232175038E-2]
[672,0,0,-19.825691458113852,1.2663404520381505E-2]
[673,0,0,-927.59529226434279,9.0316051647548079E-2]
[674,0,0,-305.07769872195286,2.7323456313510519E-2]
[675,0,0,-378.15019886123991,3.791692663017443E-2]
[676,0,0,-478.9662179820748,5.5407842376190786E-2]
[677,0,0,-428.37716240032341,4.3686798672148086E-2]
[678,0,0,-743.83627527994122,7.3090294847943937E-2]
[679,0,0,-222.54533001640448,2.4469560309917426E-2]
[680,0,0,-412.82898731387377,4.5652035332302887E-2]
[681,0,0,-441.56469511684463,4.7777913528626925E-2]
[682,0,0,-551.01037266381309,5.1110430907023385E-2]
[683,0,0,-302.37354270553033,3.5504579436903327E-2]
[684,0,0,-574.45787561369025,6.0117352803423785E-2]
[685,0,0,-489.74536370958276,4.9909001244259343E-2]
[686,0,0,-299.93724936182753,3.4137348446016347E-2]
[687,0,0,-179.91502764693632,2.6276519410409094E-2]
[688,0,0,-112.35761381130669,2.2786117490404934E-2]
[689,0,0,-1005.7105392329809,8.718592719829843E-2]
[690,0,0,-306.96664771329597,3.561084633503242E-2]
[691,0,0,-243.16805890918658,3.1120347891807398E-2]
[692,0,0,-457.49792903447087,3.8010729148275857E-2]
[693,0,0,-556.1540440538779,5.4898039195990123E-2]
[694,0,0,-211.54332838244136,2.3377734472433076E-2]
[695,0,0,-170.93472898864457,2.690799262573762E-2]
[696,0,0,-285.2374603120029,3.8583293413211095E-2]
[697,0,0,-485.77197236175562,5.6081340062846152E-2]
[698,0,0,-342.18067818398595,3.481245172272196E-2]
[699,0,0,-496.58039129302279,5.5599685833961132E-2]
[700,0,0,-387.4922697828215,3.4198181740507039E-2]
[701,0,0,-1112.5462894688571,9.3367778673986379E-2]
[702,0,0,-1348.2315549047471,0.11872618155646109]
[703,0,0,-413.21268320694207,6.0187967381068574E-2]
[704,0,0,-742.11512240047887,7.1865964533479598E-2]
[705,0,0,-497.15398286514437,4.9585570060038719E-2]
[706,0,0,-688.32158601353967,6.212070127707392E-2]
[707,0,0,-497.44178133783771,5.4123001460268938E-2]
[708,0,0,-67.056650343369711,1.4209144541197816E-2]
[709,0,0,-494.94729742204163,5.4767075104869889E-2]
[710,0,0,-509.42679748416595,5.3707085111796005E-2]
[711,0,0,-515.87634186499372,5.1252503773966396E-2]
[712,0,0,-483.66034542978105,5.3290218818148105E-2]
[713,0,0,-477.17093320402728,3.5492765978311525E-2]
[714,0,0,-308.45438889001389,4.1614375579761997E-2]
[715,0,0,-462.77809299570436,4.6928515384145442E-2]
[716,0,0,-162.7063383442478,1.6087648953515554E-2]
[717,0,0,-357.38738226852638,3.5493797738709532E-2]
[718,0,0,-279.69090014091944,3.3847788798425427E-2]
[719,0,0,-317.20344747102899,3.9924018255646843E-2]
[720,0,0,-433.0889111687693,4.4634130191127497E-2]
[721,0,0,-521.15702488429542,4.1314270151936228E-2]
[722,0,0,-525.89307904987572,4.7530602170930081E-2]
[723,0,0,-688.15081914648408,6.3044315705027998E-2]
[724,0,0,-290.58721036453244,3.8954119283062028E-2]
[725,0,0,-357.71483081933047,3.5918571694494972E-2]
[726,0,0,-474.58650918868034,5.4331239223593286E-2]
[727,0,0,-847.06152583545872,8.5094885422144273E-2]
[728,0,0,-272.08403910243032,3.3251749625499372E-2]
[729,0,0,-593.34472946830874,6.0826046629934183E-2]
[730,0,0,-329.57468904834786,3.9028225036609854E-2]
[731,0,0,-957.46880737393121,8.4447953350192506E-2]
[732,0,0,-551.48784762916466,5.6181992790243385E-2]
[733,0,0,-412.50014000712508,3.3861445983028204E-2]
[734,0,0,-573.60607020700809,6.477835242178287E-2]
[735,0,0,-277.91559659587665,2.7098312992023921E-2]
[736,0,0,-75.845305519037993,1.0645568255306159E-2]
[737,0,0,-567.04435974144326,5.0099440600114065E-2]
[738,0,0,-520.57618925483985,4.6934906425192935E-2]
[739,0,0,-350.91760231961052,4.271232638034661E-2]
[740,0,0,-753.72322267211712,7.5446281559358397E-2]
[741,0,0,-375.60983285408975,4.243169009694725E-2]
[742,0,0,-263.16424910802471,2.8836398892686077E-2]
[743,0,0,-315.86957542405253,3.8924879538413393E-2]
[744,0,0,-571.27480028871696,5.9268498894880395E-2]
[745,0,0,-222.52153455653206,2.8726232333028179E-2]
[746,0,0,-225.79542173616437,2.7375700546699022E-2]
[747,0,0,-615.31256196012782,6.2555326752224971E-2]
[748,0,0,-122.51086984536551,1.2327058981000505E-2]
[749,0,0,-104.2659666962827,1.5749060051199137E-2]
[750,0,0,-286.30377229065152,3.2994661374296186E-2]
[751,0,0,-41.297345833683721,1.3642422703789236E-2]
[752,0,0,-670.13849716382992,6.3521977470330171E-2]
[753,0,0,-684.44506947270565,6.8946576989340258E-2]
[754,0,0,-167.26976694055111,2.0434062591903057E-2]
[755,0,0,-246.34667219376797,2.5071899427587141E-2]
[756,0,0,-203.32716190544988,2.0939544675563582E-2]
[757,0,0,-547.26532297680114,5.494846314240931E-2]
[758,0,0,-442.53769060941659,4.6392448160148092E-2]
[759,0,0,-352.2107648253409,2.9780388253826118E-2]
[760,0,0,-952.06221597763306,9.717497220566429E-2]
[761,0,0,-390.60111539000582,4.2711107099876244E-2]
[762,0,0,-313.22606528385722,3.7500288534239701E-2]
[763,0,0,-335.65448299841819,4.7272930302078464E-2]
[764,0,0,-557.87865734098159,5.4818946709445981E-2]
[765,0,0,-189.12450072430693,2.3663145362156968E-2]
[766,0,0,-236.91847541495235,3.118301438362181E-2]
[767,0,0,-191.74580640837803,2.2158151094970435E-2]
[768,0,0,-914.45089072169958,8.7397362056670147E-2]
[769,0,0,-347.69771685861087,4.6039817020144369E-2]
[770,0,0,-290.07861305145207,3.2515485823985557E-2]
[771,0,0,-353.26303757620781,3.2442073830587503E-2]
[772,0,0,-701.53413390763853,6.8730836393868344E-2]
[773,0,0,-579.22506151625794,6.3591543473016543E-2]
[774,0,0,-637.56622449830093,7.8468740639223711E-2]
[775,0,0,-531.36360644362776,5.1054293075324608E-2]
[776,0,0,-653.43573175666734,7.9298330938215145E-2]
[777,0,0,-378.2851601841603,4.1385968194553868E-2]
[778,0,0,-877.42626805233522,6.7712856686313216E-2]
[779,0,0,-425.08790047544062,3.7982877366346202E-2]
[780,0,0,-112.89921085246078,2.0057370314432887E-2]
[781,0,0,-326.28446806155125,3.153020743803836E-2]
[782,0,0,-217.4440066224679,2.5061490396588226E-2]
[783,0,0,-347.66562949843501,3.6009147027250776E-2]
[784,0,0,-673.17799853545057,4.6507517083057337E-2]
[785,0,0,-237.01020596430226,3.438074736135377E-2]
[786,0,0,-475.18456028610763,4.2576595743526013E-2]
[787,0,0,-304.65371083993205,3.625806090621353E-2]
[788,0,0,-495.85714045349096,4.5460388467922996E-2]
[789,0,0,-588.82586892202926,4.9825060884174377E-2]
[790,0,0,-758.13143120114364,9.1813628105626321E-2]
[791,0,0,-772.90178727781358,8.1265982366431899E-2]
[792,0,0,-1138.4647136973763,0.10209834670075679]
[793,0,0,-371.70261076675115,4.0886426989032998E-2]
[794,0,0,-167.07963146170005,3.0039998640774002E-2]
[795,0,0,-397.16329722533828,5.4636763608137073E-2]
[796,0,0,-381.46452465625771,5.4759394052190657E-2]
[797,0,0,-282.6858616621812,3.3427031511109817E-2]
[798,0,0,-268.93335542570685,3.0102222602167217E-2]
[799,0,0,-414.26980074774337,4.0053483086062158E-2]
[800,0,0,-139.08245245313628,2.2688189834482841E-2]
[801,0,0,-427.28984277275094,4.0154366599047364E-2]
[802,0,0,-470.25723755621038,4.9557382793992133E-2]
[803,0,0,-113.74188012928607,2.0327059245509815E-2]
[804,0,0,-186.44157128966253,2.5370739367751582E-2]
[805,0,0,-855.16661168118162,7.1960366507212825E-2]
[806,0,0,-461.53746505633717,5.2872663532362196E-2]
[807,0,0,-286.4295454580988,3.2569559001764503E-2]
[808,0,0,-600.55403723358495,6.2713322229221546E-2]
[809,0,0,-273.28838824874219,2.9739912446096639E-2]
[810,0,0,-585.46582111583939,5.4004884608559678E-2]
[811,0,0,-1048.3191147044631,9.2887455868797986E-2]
[812,0,0,-283.07629018549233,3.3513260451655924E-2]
[813,0,0,-441.66267251147883,4.0078697456401358E-2]
[814,0,0,-298.49305787213825,3.938562298633741E-2]
[815,0,0,-343.49182171224084,2.8769648617284815E-2]
[816,0,0,-688.28085221623951,7.4335338006932261E-2]
[817,0,0,-125.73531648276139,1.7008781879852108E-2]
[818,0,0,-170.31016794947436,2.6544271808340625E-2]
[819,0,0,-272.39934477534416,3.2952680355705866E-2]
[820,0,0,-820.93113781389002,7.6783504065289776E-2]
[821,0,0,-227.3956528037379,4.0539053507764322E-2]
[822,0,0,-470.55632628705735,4.291482616133635E-2]
[823,0,0,-338.31523968913643,4.2067512731122747E-2]
[824,0,0,-651.01892449972001,6.1644276506292783E-2]
[825,0,0,-206.20946225558691,2.1306843133125142E-2]
[826,0,0,-515.53708558512017,4.2832525566261381E-2]
[827,0,0,-381.00904617769584,3.9793992156994307E-2]
[828,0,0,-251.71727021329343,2.9312269413694025E-2]
[829,0,0,-464.43024588952221,4.8667549511336006E-2]
[830,0,0,-291.97932414668276,3.5780964774545509E-2]
[831,0,0,-405.44851968498824,4.474305570526127E-2]
[832,0,0,-968.71406305939399,9.9281903990117826E-2]
[833,0,0,-524.40543362310564,5.0811607263767655E-2]
[834,0,0,-643.10377396303466,7.2040444747010213E-2]
[835,0,0,-543.75329386750809,3.7445930500695113E-2]
[836,0,0,-186.54537046103997,2.6030719339793507E-2]
[837,0,0,-347.65767222695695,3.0793453582546704E-2]
[838,0,0,-441.84459098829848,4.8297931838192198E-2]
[839,0,0,-307.5298937178145,3.4251530315160039E-2]
[840,0,0,-521.13871257524488,4.8362800651581495E-2]
[841,0,0,-437.77143645686374,4.363255501751695E-2]
[842,0,0,-215.25013806157813,2.8348433386966576E-2]
[843,0,0,-979.64680684061568,9.605815664298234E-2]
[844,0,0,-309.65153497309939,3.461198458521153E-2]
[845,0,0,-807.21280387027036,5.8459328455107595E-2]
[846,0,0,-541.2392260615652,4.408888206430106E-2]
[847,0,0,-345.52148983259258,3.676573838116326E-2]
[848,0,0,-490.96560109633128,4.9456359734072919E-2]
[849,0,0,-290.84988462218689,3.3758098917026302E-2]
[850,0,0,-512.20192284402219,6.424505324473273E-2]
[851,0,0,-169.66185609258537,2.4942832232476064E-2]
[852,0,0,-319.91738906480759,4.4536061475589861E-2]
[853,0,0,-262.54107199419514,3.0245843783703208E-2]
[854,0,0,-595.84443635828893,5.3621690203733863E-2]
[855,0,0,-707.87189583410145,7.2515807387972586E-2]
[856,0,0,-655.64210571122703,6.2038652933935623E-2]
[857,0,0,-890.30385240213445,8.9666512097494433E-2]
[858,0,0,-579.8893952244016,5.2103922563659921E-2]
[859,0,0,-211.15888302263784,2.1349678861568577E-2]
[860,0,0,-284.96883197430134,3.5445904980953458E-2]
[861,0,0,-341.28004135922765,4.170327266083973E-2]
[862,0,0,107.43651430069258,-7.1049329377785853E-3]
[863,0,0,-110.5872417462524,5.6313835924868272E-3]
[864,0,0,-690.0723005397499,6.8919804044632826E-2]
[865,0,0,-900.48737350720967,8.1638868952751409E-2]
[866,0,0,-443.62577184532529,4.6519209845548914E-2]
[867,0,0,-203.31973702893947,2.3884567788527988E-2]
[868,0,0,-979.62784372333135,9.1544250712580322E-2]
[869,0,0,-283.99393416867861,2.9235420746751117E-2]
[870,0,0,-426.46484979499928,4.4143687575058266E-2]
[871,0,0,-606.75744328568635,5.5246120535457521E-2]
[872,0,0,-385.46278044288147,3.8665491367368077E-2]
[873,0,0,-1052.5775599059666,9.7627805488009756E-2]
[874,0,0,-278.76502917952575,2.701220087171663E-2]
[875,0,0,-385.99722345669215,3.100280167859637E-2]
[876,0,0,-724.14898114034304,6.7856596952971415E-2]
[877,0,0,-88.137099765034691,2.3782145956680267E-2]
[878,0,0,-698.30068373221866,7.4157908664197691E-2]
[879,0,0,-878.74433718193268,7.3974935366720729E-2]
[880,0,0,-285.22856681812209,3.1881645863386154E-2]
[881,0,0,-58.336891831147113,1.5740063098967028E-2]
[882,0,0,-829.70305579184333,7.7182057095001255E-2]
[883,0,0,-401.74701718039796,7.5378429063782448E-2]
[884,0,0,-300.61299856346295,3.2735184568586817E-2]
[885,0,0,-482.05315260004727,5.5078064545632799E-2]
[886,0,0,-253.6686132630457,3.6497788087956451E-2]
[887,0,0,-468.01956028632321,6.599229090970482E-2]
[888,0,0,-508.90593023975498,5.7438108338388361E-2]
[889,0,0,-441.4486202293383,5.3844287420595549E-2]
[890,0,0,-174.59343144681588,2.3513011310221543E-2]
[891,0,0,-500.73685764959964,4.7277972586257988E-2]
[892,0,0,-381.53797684379242,4.2859235705094534E-2]
[893,0,0,-1042.4847419147227,9.0118429009052647E-2]
[894,0,0,-190.19681752743281,1.9658754927945665E-2]
[895,0,0,-377.544337436962,4.283144214583956E-2]
[896,0,0,-476.02619302973426,4.6049101115009705E-2]
[897,0,0,-468.48930647355701,4.1530830422900067E-2]
[898,0,0,-315.83788896792157,3.5822956658030591E-2]
[899,0,0,-621.88759414295373,7.6142230295666025E-2]
[900,0,0,-386.93706727438212,4.3578560303764391E-2]
[901,0,0,-578.65803574262463,5.4840400499024611E-2]
[902,0,0,-386.31392785249272,3.4598993269874256E-2]
[903,0,0,-488.67680641290735,5.5212179928709304E-2]
[904,0,0,-577.25398246100531,6.3758404056137863E-2]
[905,0,0,-77.539038698056629,1.6081316860436345E-2]
[906,0,0,-878.70286318448552,7.9870964807845723E-2]
[907,0,0,-896.42553009903031,8.3432197165180355E-2]
[908,0,0,-439.4159114536933,4.8876834813412984E-2]
[909,0,0,-484.60797910393103,5.4745352230035849E-2]
[910,0,0,-408.17711808938111,3.9033259774186035E-2]
[911,0,0,-357.41657620859633,4.3330534779606467E-2]
[912,0,0,-1278.7902109797947,9.7286371862331578E-2]
[913,0,0,-328.43703682604291,3.3695064313533862E-2]
[914,0,0,-951.57981595985393,8.4145499904693111E-2]
[915,0,0,-987.93268838670565,8.7061372219899624E-2]
[916,0,0,-835.23091703393538,8.6314420669083347E-2]
[917,0,0,-311.05405929361223,3.7309228560076235E-2]
[918,0,0,-120.78136012577124,1.9544292887225367E-2]
[919,0,0,-555.06470492455855,4.0632606935304239E-2]
[920,0,0,-677.06889249225242,7.4282210095525159E-2]
[921,0,0,-385.36417026311847,3.4172035422898261E-2]
[922,0,0,-348.34077279368057,3.7386549537316682E-2]
[923,0,0,-310.72754549320189,3.8481613226295508E-2]
[924,0,0,-230.48295509121908,3.3857020183866382E-2]
[925,0,0,-561.58598029839368,5.9658957501618204E-2]
[926,0,0,-1234.6571395435908,0.10748571724577971]
[927,0,0,-275.43713800180831,2.9796705655115829E-2]
[928,0,0,-259.40756047607465,3.2092608001512701E-2]
[929,0,0,-976.80065916239437,6.7122474093388007E-2]
[930,0,0,-605.55863749452283,5.7047489027304721E-2]
[931,0,0,-820.12363279153487,7.6368762432174719E-2]
[932,0,0,-242.91161953321398,2.9964503333850701E-2]
[933,0,0,-530.93042925645977,5.7614595882689912E-2]
[934,0,0,-426.35985797853664,4.0472079592696275E-2]
[935,0,0,-764.64199194518733,6.9980966170753334E-2]
[936,0,0,-462.04102591762239,5.8807614792875995E-2]
[937,0,0,-740.9647534544124,6.7886415393033417E-2]
[938,0,0,-1091.4970700888848,9.6899262044878753E-2]
[939,0,0,-330.4064897810772,3.8756568727706053E-2]
[940,0,0,-791.6956616267903,7.4120024682976293E-2]
[941,0,0,-249.1045398146216,3.9916255884669738E-2]
[942,0,0,-90.082577308731288,1.2040275920320198E-2]
[943,0,0,-742.28915417581402,7.2109266551741769E-2]
[944,0,0,-346.68024280165264,2.4387559754131871E-2]
[945,0,0,-258.16245816906712,3.8712420208952381E-2]
[946,0,0,-588.56850198505117,6.2360021761335815E-2]
[947,0,0,-586.12297542205852,5.069201597573425E-2]
[948,0,0,-386.27200397883507,4.9170496101588412E-2]
[949,0,0,-350.84905422399333,5.6436167944312388E-2]
[950,0,0,-256.97817221599098,2.8002213359314965E-2]
[951,0,0,-491.91590943953906,5.0082818228389669E-2]
[952,0,0,-424.43870290845371,4.4928849554807471E-2]
[953,0,0,-776.45594646657264,7.2991600450954763E-2]
[954,0,0,-583.41976451438859,5.4943449312197856E-2]
[955,0,0,-652.46219823952924,6.2537984354172238E-2]
[956,0,0,-551.6732005874378,5.4836349588633482E-2]
[957,0,0,-195.55955831262236,2.2626510634438546E-2]
[958,0,0,-337.41815314716496,3.6088291456977117E-2]
[959,0,0,-175.11053717942059,2.5817432289677811E-2]
[960,0,0,-483.68025621342531,4.9620969639498469E-2]
[961,0,0,-358.57184608709849,4.1924206488538118E-2]
[962,0,0,-239.79057173817682,2.8571506220522735E-2]
[963,0,0,-272.27179522308415,3.5390640967271736E-2]
[964,0,0,-660.88931338556722,5.9913223106399016E-2]
[965,0,0,-143.50185676752199,2.0608027068071522E-2]
[966,0,0,-1375.4943697660242,0.11068570062809613]
[967,0,0,-1429.2716880436506,0.12592231887366268]
[968,0,0,-451.37069724156709,5.4248573868633798E-2]
[969,0,0,-299.76562938850975,3.4721898835528009E-2]
[970,0,0,-643.55394343580883,6.0102338081350126E-2]
[971,0,0,-626.9358080250995,6.67049384019478E-2]
[972,0,0,-367.56939230020726,4.3599739160640638E-2]
[973,0,0,-503.23404750698546,4.9272579153402773E-2]
[974,0,0,-216.84328987869549,3.1873365714318425E-2]
[975,0,0,-265.84287256526341,3.3503450225843778E-2]
[976,0,0,-111.60901872319619,1.6403249008199339E-2]
[977,0,0,-118.81015486538035,2.7461319846750598E-2]
[978,0,0,-260.10873968484702,3.4031787840063998E-2]
[979,0,0,-167.36890782634237,3.4644871488985984E-2]
[980,0,0,-806.30828047475961,8.6562866617640566E-2]
[981,0,0,-746.03927432219871,7.1329430018849393E-2]
[982,0,0,-804.89288305858872,5.8080304168946384E-2]
[983,0,0,-1075.7804111957548,9.3222071565634224E-2]
[984,0,0,-505.57620004837554,4.7554140403484269E-2]
[985,0,0,-1088.8639803560045,0.11184877635558621]
[986,0,0,-594.5520103517124,4.5561156001781455E-2]
[987,0,0,-397.42420746790731,3.6543534052839277E-2]
[988,0,0,-434.43552210265034,4.6271183398218341E-2]
[989,0,0,-341.78136597661614,3.5870752189140376E-2]
[990,0,0,-279.13093374279742,2.944328279884445E-2]
[991,0,0,-614.29264324787846,5.997595398921618E-2]
[992,0,0,-118.50242874334299,2.3625739149657932E-2]
[993,0,0,-205.75431802258527,2.7848596531519831E-2]
[994,0,0,-324.22120191771137,3.266088789682442E-2]
[995,0,0,-434.63232098974549,4.4555523263774433E-2]
[996,0,0,-300.57013709461489,4.0354120210700728E-2]
[997,0,0,-651.74746711708303,6.4674386586254684E-2]
[998,0,0,-194.41905023574418,4.8489007687429364E-2]
[999,0,0,-384.46945634509666,3.8696954431699737E-2]
[1000,0,0,-491.53459620033891,4.5147182120196305E-2]

{"sheet":"Plane CE threshold","index":27,"n_rows":5,"n_cols":3,"rows_kept":5,"cut":false,"hidden":false,"merged":[]}
[]
[null,"QALYs","Cost"]
[null,{"$f":"MIN('CE plane data'!E3:E10002)","v":-2.1175917742972672E-2},{"$f":"WTP*B3","v":-423.51835485945344}]
[null,0,{"$f":"WTP*B4","v":0}]
[null,{"$f":"MAX('CE plane data'!E3:E10002)","v":0.203618229497458},{"$f":"WTP*B5","v":4072.3645899491603}]

{"sheet":"CE plane","index":28,"n_rows":0,"n_cols":0,"rows_kept":0,"cut":false,"hidden":false,"merged":[]}

{"sheet":"CEAC output","index":29,"n_rows":102,"n_cols":3,"rows_kept":102,"cut":false,"hidden":false,"merged":[]}
["WTP","No Screen/treatment","Cervical length ≤ 25 mm"]
[0,1.0999999999999999E-2,0.98899999999999999]
[1000,1.0999999999999999E-2,0.98899999999999999]
[2000,8.9999999999999993E-3,0.99099999999999999]
[3000,8.9999999999999993E-3,0.99099999999999999]
[4000,8.0000000000000002E-3,0.99199999999999999]
[5000,8.0000000000000002E-3,0.99199999999999999]
[6000,7.0000000000000001E-3,0.99299999999999999]
[7000,7.0000000000000001E-3,0.99299999999999999]
[8000,7.0000000000000001E-3,0.99299999999999999]
[9000,7.0000000000000001E-3,0.99299999999999999]
[10000,7.0000000000000001E-3,0.99299999999999999]
[11000,6.0000000000000001E-3,0.99399999999999999]
[12000,6.0000000000000001E-3,0.99399999999999999]
[13000,6.0000000000000001E-3,0.99399999999999999]
[14000,6.0000000000000001E-3,0.99399999999999999]
[15000,6.0000000000000001E-3,0.99399999999999999]
[16000,6.0000000000000001E-3,0.99399999999999999]
[17000,6.0000000000000001E-3,0.99399999999999999]
[18000,6.0000000000000001E-3,0.99399999999999999]
[19000,6.0000000000000001E-3,0.99399999999999999]
[20000,6.0000000000000001E-3,0.99399999999999999]
[21000,6.0000000000000001E-3,0.99399999999999999]
[22000,6.0000000000000001E-3,0.99399999999999999]
[23000,6.0000000000000001E-3,0.99399999999999999]
[24000,6.0000000000000001E-3,0.99399999999999999]
[25000,6.0000000000000001E-3,0.99399999999999999]
[26000,6.0000000000000001E-3,0.99399999999999999]
[27000,6.0000000000000001E-3,0.99399999999999999]
[28000,6.0000000000000001E-3,0.99399999999999999]
[29000,6.0000000000000001E-3,0.99399999999999999]
[30000,6.0000000000000001E-3,0.99399999999999999]
[31000,6.0000000000000001E-3,0.99399999999999999]
[32000,6.0000000000000001E-3,0.99399999999999999]
[33000,6.0000000000000001E-3,0.99399999999999999]
[34000,6.0000000000000001E-3,0.99399999999999999]
[35000,6.0000000000000001E-3,0.99399999999999999]
[36000,6.0000000000000001E-3,0.99399999999999999]
[37000,6.0000000000000001E-3,0.99399999999999999]
[38000,6.0000000000000001E-3,0.99399999999999999]
[39000,6.0000000000000001E-3,0.99399999999999999]
[40000,6.0000000000000001E-3,0.99399999999999999]
[41000,6.0000000000000001E-3,0.99399999999999999]
[42000,6.0000000000000001E-3,0.99399999999999999]
[43000,6.0000000000000001E-3,0.99399999999999999]
[44000,6.0000000000000001E-3,0.99399999999999999]
[45000,6.0000000000000001E-3,0.99399999999999999]
[46000,6.0000000000000001E-3,0.99399999999999999]
[47000,6.0000000000000001E-3,0.99399999999999999]
[48000,6.0000000000000001E-3,0.99399999999999999]
[49000,6.0000000000000001E-3,0.99399999999999999]
[50000,6.0000000000000001E-3,0.99399999999999999]
[51000,6.0000000000000001E-3,0.99399999999999999]
[52000,6.0000000000000001E-3,0.99399999999999999]
[53000,6.0000000000000001E-3,0.99399999999999999]
[54000,6.0000000000000001E-3,0.99399999999999999]
[55000,6.0000000000000001E-3,0.99399999999999999]
[56000,6.0000000000000001E-3,0.99399999999999999]
[57000,6.0000000000000001E-3,0.99399999999999999]
[58000,6.0000000000000001E-3,0.99399999999999999]
[59000,6.0000000000000001E-3,0.99399999999999999]
[60000,6.0000000000000001E-3,0.99399999999999999]
[61000,6.0000000000000001E-3,0.99399999999999999]
[62000,6.0000000000000001E-3,0.99399999999999999]
[63000,6.0000000000000001E-3,0.99399999999999999]
[64000,6.0000000000000001E-3,0.99399999999999999]
[65000,6.0000000000000001E-3,0.99399999999999999]
[66000,6.0000000000000001E-3,0.99399999999999999]
[67000,6.0000000000000001E-3,0.99399999999999999]
[68000,6.0000000000000001E-3,0.99399999999999999]
[69000,6.0000000000000001E-3,0.99399999999999999]
[70000,6.0000000000000001E-3,0.99399999999999999]
[71000,6.0000000000000001E-3,0.99399999999999999]
[72000,6.0000000000000001E-3,0.99399999999999999]
[73000,6.0000000000000001E-3,0.99399999999999999]
[74000,6.0000000000000001E-3,0.99399999999999999]
[75000,6.0000000000000001E-3,0.99399999999999999]
[76000,6.0000000000000001E-3,0.99399999999999999]
[77000,6.0000000000000001E-3,0.99399999999999999]
[78000,6.0000000000000001E-3,0.99399999999999999]
[79000,6.0000000000000001E-3,0.99399999999999999]
[80000,6.0000000000000001E-3,0.99399999999999999]
[81000,6.0000000000000001E-3,0.99399999999999999]
[82000,6.0000000000000001E-3,0.99399999999999999]
[83000,6.0000000000000001E-3,0.99399999999999999]
[84000,6.0000000000000001E-3,0.99399999999999999]
[85000,6.0000000000000001E-3,0.99399999999999999]
[86000,6.0000000000000001E-3,0.99399999999999999]
[87000,6.0000000000000001E-3,0.99399999999999999]
[88000,6.0000000000000001E-3,0.99399999999999999]
[89000,6.0000000000000001E-3,0.99399999999999999]
[90000,6.0000000000000001E-3,0.99399999999999999]
[91000,6.0000000000000001E-3,0.99399999999999999]
[92000,6.0000000000000001E-3,0.99399999999999999]
[93000,6.0000000000000001E-3,0.99399999999999999]
[94000,6.0000000000000001E-3,0.99399999999999999]
[95000,6.0000000000000001E-3,0.99399999999999999]
[96000,6.0000000000000001E-3,0.99399999999999999]
[97000,6.0000000000000001E-3,0.99399999999999999]
[98000,6.0000000000000001E-3,0.99399999999999999]
[99000,6.0000000000000001E-3,0.99399999999999999]
[100000,6.0000000000000001E-3,0.99399999999999999]

{"sheet":"CEAC Chart","index":30,"n_rows":0,"n_cols":0,"rows_kept":0,"cut":false,"hidden":false,"merged":[]}

{"sheet":"PSA Results","index":31,"n_rows":28,"n_cols":11,"rows_kept":28,"cut":false,"hidden":false,"merged":[[6,1,6,11]]}
[]
[]
[]
[]
[]
[]
[null,"   Probabilistic analysis"]
[]
[null,null,"Strategy",null,"Incremental Costs",null,"Incremental QALYs",null,"Mean iNMB",null,"Probability Cost-effective"]
[]
[null,null,"No Screen/treatment",null,0,null,0,null,"£0   (£0 to £0)",null,6.0000000000000001E-3]
[]
[null,null,"Cervical length ≤ 25 mm",null,-480.99700000000001,null,4.9608387794014538E-2,null,"£1472   (£1424 to £1520)",null,0.99399999999999999]
[]
[]
[]
[]
[]
[]
[]
[]
[]
[]
[]
[]
[]
[null,null,null,null,null,null,null,null," "]
[null,null,"Simulations",null,1000]

{"sheet":"Cost Data sources","index":32,"n_rows":148,"n_cols":14,"rows_kept":148,"cut":false,"hidden":false,"merged":[[38,7,38,9],[26,1,26,5],[29,2,29,5],[33,2,33,5],[25,7,25,8],[25,9,26,9]]}
[]
[null,"NICU"]
[]
[null,"Service Code","Service Description","Currency Code","Currency Description","Bed days","National Average Unit Cost","Total Costs","No. Data Submissions",null,null,null,"National Average Unit Cost","Std Error"]
[null,"CCU13","Neonatal Intensive Care Unit (Neonatal critical care PATIENTS predominate)","XA01Z","Neonatal Critical Care, Intensive Care",122138,1811.0869926437899,221202543.107528,116,null,null,null,{"$f":"G5","v":1811.0869926437899},71.75]
[null,"CCU13","Neonatal Intensive Care Unit (Neonatal critical care PATIENTS predominate)","XA02Z","Neonatal Critical Care, High Dependency",154214,1226.32146172834,189115937.89897501,115,null,null,null,{"$f":"G6","v":1226.32146172834},39.479999999999997]
[null,"CCU13","Neonatal Intensive Care Unit (Neonatal critical care PATIENTS predominate)","XA03Z","Neonatal Critical Care, Special Care, without External Carer",343462,934.19040027920403,320858903.26069599,116,null,null,null,{"$f":"G7","v":934.19040027920403},32.799999999999997]
[null,"CCU13","Neonatal Intensive Care Unit (Neonatal critical care PATIENTS predominate)","XA04Z","Neonatal Critical Care, Special Care, with External Carer",93933,649.71345428995096,61029533.901817903,106,null,null,null,{"$f":"G8","v":649.71345428995096},26.38]
[null,"CCU13","Neonatal Intensive Care Unit (Neonatal critical care PATIENTS predominate)","XA05Z","Neonatal Critical Care, Normal Care",68937,684.29362694795202,47173149.760911003,111,null,null,null,{"$f":"G9","v":684.29362694795202},27.44]
[]
[null,null,null,null,"Weighted SCBU",null,{"$f":"SUMPRODUCT(F7:F8,G7:G8)/SUM(F7:F8)","v":873.09739974739989},null,null,null,null,null,{"$f":"G11","v":873.09739974739989},{"$f":"F23","v":29.773284626951682}]
[]
[null,null,null,null,"N","Data","Weight (w)","Cost ( c )","SD","Var","Weighted Cost","Var x (FCE-1)"]
[null,"NICU LOS",null,null,1,{"$f":"I7","v":116},{"$f":"I7/(I7+I8)","v":0.52252252252252251},{"$f":"G7","v":934.19040027920403},{"$f":"N7","v":32.799999999999997},{"$f":"I14^2","v":1075.8399999999999},{"$f":"G14*H14","v":488.1355244702147},{"$f":"J14*(F14-1)","v":123721.59999999999}]
[null,"Statistics about neonatal care | Bliss",null,null,2,{"$f":"I8","v":106},{"$f":"1-G14","v":0.47747747747747749},{"$f":"G8","v":649.71345428995096},{"$f":"N8","v":26.38},{"$f":"I15^2","v":695.9043999999999},{"$f":"G15*H15","v":310.22354123754417},{"$f":"J15*(F15-1)","v":73069.961999999985}]
[null,null,null,null,null,{"$f":"SUM(F14:F15)","v":222},{"$f":"SUM(G14:G15)","v":1},null,null,null,{"$f":"SUM(K14:K15)","v":798.35906570775887},{"$f":"SUM(L14:L15)","v":196791.56199999998}]
[]
[null,null,null,null,"Pooled SD"]
[]
[null,null,null,null,"Numerator",{"$f":"L16","v":196791.56199999998}]
[null,null,null,null,"Denominator",{"$f":"F16","v":222}]
[]
[null,null,null,null,"SD",{"$f":"SQRT(F20/F21)","v":29.773284626951682}]
[]
[]
[null,"Khan 2015",null,null,null,null,null,"HCHS",null,"Inflation factor",null,null,"2015/16","2016/17"]
[null,"Table S4. Mean economic costs of late and moderate preterm and term infants from initial hospital discharge to 24 months",null,null,null,null,null,"Year","PPI",null,null,"Cerebral Palsy",83853,{"$f":"M27*$J$36","v":85349.366666666654}]
[null,null,"moderate","late","late & moderate","full term ",null,"2007/08",257,{"$f":"$I$37/I28","v":1.1762645914396888},null,"IVH",25156,{"$f":"M28*$J$36","v":25604.911784511783}]
[null,"NHS & PSS costs ","32-33 weeks","34-36 weeks","32-36 weeks",">=37 weeks",null,"2008/09",267,{"$f":"$I$37/I29","v":1.1322097378277154},null,"RDS",3935,{"$f":"M29*$J$36","v":4005.2205387205386}]
[null,null,"cost year 2011",null,null,null,null,"2009/10",268.60000000000002,1.1254653760238271]
[null,"Post discharge to 6 months",1350.93,1072.56,1107.95,773.32,null,"2010/11",276.7,1.0925189736176366]
[null,"6 to 12 months",808.64,795.95,797.72,682.1,null,"2011/12",282.5,1.0700884955752212]
[null,"12 to 24 months",424.22,885.81,819.87,289.08,null,"2012/13",287.3,1.0522102332057084]
[null,null,"cost year 2016/17",null,null,null,null,"2013/14",290.5,1.040619621342513]
[null,"Post discharge to 6 months",{"$f":"C31*$J$31","v":1475.9166570292739},{"$f":"D31*$J$31","v":1171.7921503433322},1210.4563968196605,844.86677267799075,null,"2014/15",293.10000000000002,1.0313886045718184]
[null,"6 to 12 months",883.45454282616561,869.59047705095793,871.52423563426112,745.20719190458999,null,"2015/16",297,1.0178451178451178]
[null,"12 to 24 months",463.46839898807383,{"$f":"D33*$J$31","v":967.76423202023864},895.72353089989178,315.8253848933864,null,"2016/17",302.3,1]
[]
[null,"Updated from 2016/17 to 2021/22 using Khan Multiplier",null,null,null,null,null,"See Khan Multiplier "]
[]
[null," ","0-6mths","6-12mths","12-24mths"]
[null,"Pre-term",1476,883,463]
[null,"Term",845,745,316,null,null,"Proportion of 24-36 weeks who are 24-34 weeks"]
[null,null,null,null,null,null,null,"Survive neonatal period"]
[null," ","0-6mths","6-12mths","12-24mths",null,null,"% Births","24-34","34-36"]
[null,"Pre-term",{"$f":"C42*Multiplier_Khan","v":1633.3461200926613},977.13050409337393,512.3572178881451,null,null,"Survive neonatal period",{"$f":"SUM('Survival GA'!I6:S6)/SUM('Survival GA'!I6:U6)","v":0.39944398021517902},{"$f":"1-I46","v":0.60055601978482098}]
[null,"Term",935.07958772242466,824.41928148308455,349.68656771631504,null,null,"Survive 1-year",{"$f":"SUM('Survival GA'!I7:S7)/SUM('Survival GA'!I7:U7)","v":0.39775545204814422},{"$f":"1-I47","v":0.60224454795185578}]
[]
[]
[null,"Assumptions "]
[null,"All babies who survive neonatal period incur 0-6 month costs"]
[null,"Only infants who survive to 1-year incur 6-12 month and 12-24 month costs"]
[]
[null,"National NHS Cost Collection 2021-22"]
[null,"Currency Code","Currency Description","Service Code","Service Description","Procedures","National Average Unit Cost","Total Costs","No. Data Submissions",null,null,null,"National Average Unit Cost","Std Error"]
[null,"MA36Z","Transvaginal Ultrasound",501,"Obstetrics Service",2648,141.70065089765799,375223.323577,54,null,null,null,{"$f":"G56","v":141.70065089765799},16.649999999999999]
[null,"MA36Z","Transvaginal Ultrasound",502,"Gynaecology Service",275570,235.603228742726,64925181.744632997,111,null,null,null,{"$f":"G57","v":235.603228742726},7.13]
[null,"MA36Z","Transvaginal Ultrasound",812,"DIAGNOSTIC IMAGING SERVICE",43571,60.882720318216201,2652721.0069849999,20,null,null,null,{"$f":"G58","v":60.882720318216201},10.9]
[]
[null,"Department Code","Department Description","Service Code","Service Description","Currency Code","Currency Description","Number of Attendances","National Average Unit Cost","No. Data Submissions",null,null,"National Average Unit Cost","Std Dev"]
[null,"CL","Consultant Led",560,"MIDWIFERY SERVICE","WF01A","Non-Admitted Face-to-Face Attendance, Follow-up",463416,88.322284899174804,60," "," ",{"$f":"I61","v":88.322284899174804},9.14]
[]
[null,"Department Code","Department Description","Service Code","Service Description","Currency Code","Currency Description","Number of Attendances","National Average Unit Cost","No. Data Submissions",null,null,"National Average Unit Cost","Std Dev"]
[null,"CL","Consultant Led",501,"Obstetrics Service","WF01A","Non-Admitted Face-to-Face Attendance, Follow-up",1361997,202.47782426319799,120,null,null,{"$f":"I64","v":202.47782426319799},11.52]
[]
[null,"Currency Code","Currency Description","Service Code","Service Description","Procedures","National Average Unit Cost","Total Costs","No. Data Submissions",null,null,null,"National Average Unit Cost","Std Dev"]
[null,"NZ21Z","Ante-Natal Standard Routine Ultrasound Scan",560,"MIDWIFERY SERVICE",179266,137.01460009101501,24562059.299915999,57,null,null,null,{"$f":"G67","v":137.01460009101501},24.35]
[]
[null,"Department Code","Department Description","Service Code","Service Description","Currency Code","Currency Description","Number of Attendances","National Average Unit Cost","No. Data Submissions",null,null,"National Average Unit Cost","Std Dev"]
[null,"NCL","Non Consultant Led",501,"Obstetrics Service","WF01A","Non-Admitted Face-to-Face Attendance, Follow-up",501813,122.55915810088599,80,null,null,{"$f":"I70","v":122.55915810088599},13.73]
[]
[]
[]
[null,null,null,null,"Treatment cost - accessed 07/12/2023"]
[null,null,null,null,"Medicinal forms | Progesterone | Drugs | BNF | NICE"]
[]
[null,null,null,null,"Progesterone cost per day",{"$f":"8.95/15","v":0.59666666666666657}]
[]
[]
[]
[]
[]
[]
[null,"Cost of Neonatal death",3457]
[]
[null,"Cerebral palsy"]
[]
[null,"Cerebral Palsy Care and Treatment Costs (cerebralpalsyguide.com)",null,null,null,1300000]
[null,"Lifetime costs of cerebral palsy - PubMed (nih.gov)",null,null,null,800000]
[null,"PReCePT – preventing Cerebral Palsy in preterm babies - Imperial College Health Partners"]
[]
[null,"Kruse updated"]
[null,"Year","Cost"]
[null,"2016/17",85349]
[null,"2021/22",{"$f":"C94*Multiplier_Kruse","v":94447.464772214473}]
[]
[]
[null,null,null,null,"Multiplier based on NHSCII pay and prices"]
[null,null,null,null,{"$f":"1.0125*1.0162*1.0218*1.0247*1.0272","v":1.106603062393402},"Kruse"]
[null,null,null,null,{"$f":"1.011*1.009*1.0039*1.0206*1.0125*1.0162*1.0218*1.0247*1.0272","v":1.1565920633207636},"Marti"]
[null,null,null,null,{"$f":"1.009*1.0039*1.0206*1.0125*1.0162*1.0218*1.0247*1.0272","v":1.1440079755892814},"Campbell"]
[null,null,null,null,{"$f":"1.0125*1.0162*1.0218*1.0247*1.0272","v":1.106603062393402},"Khan"]
[]
[]
[]
[]
[]
[]
[]
[]
[]
[]
[]
[]
[]
[]
[]
[null,"RDS"]
[]
[null,"Marti updated","One-year resource utilisation, costs and quality of life in patients with acute respiratory distress syndrome (ARDS): secondary analysis of a randomised controlled trial (whiterose.ac.uk)"]
[]
[null,"Year","Cost"]
[null,2012,3935]
[null,"2021/22",{"$f":"C123*Multiplier_Marti","v":4551.1897691672048}]
[]
[]
[null,"IVH assume 30% the cost of CP as per previous GL, NG25 and Twin birth costing report"]
[]
[null,"Year","Cost"]
[null,"2021/22",{"$f":"0.3*C95","v":28334.23943166434}]
[]
[]
[null,"Stillbirths","Healthcare and wider societal implications of stillbirth: a population‐based cost‐of‐illness study - Campbell - 2018 - BJOG: An International Journal of Obstetrics & Gynaecology - Wiley Online Library"]
[]
[null,"Campbell updated"]
[]
[null,"Year","Cost"]
[null,"2013/14",4191]
[null,"2021/22",{"$f":"C138*Multiplier_Campbell","v":4794.5374256946779}]
[]
[null,"In SA assume same cost for NND as Stillbirth"]
[]
[]
[]
[null,"Discharge Costs - Khan 2015","Economic costs associated with moderate and late preterm birth: a prospective population‐based study - Khan - 2015 - BJOG: An International Journal of Obstetrics & Gynaecology - Wiley Online Library"]
[]
[null,"Update from Twin Birth Costing Report"]
[null,"2015-16 Year"]

{"sheet":"Estimates of twin births by GA","index":33,"n_rows":216,"n_cols":24,"rows_kept":216,"cut":false,"hidden":false,"merged":[[190,5,190,11]]}
[]
[]
[]
[]
["GA","Kato","Kindiger smooth","Murray smooth","Nicolaides smooth","Kato Smooth","Franca 2018","Bun cheung 2001","Liem Modifier"]
[24,2.2000000000000001E-3,1.3619479926479838E-2,{"$f":"(($L$26*A6^3)+($M$26*A6^2)+($N$26*A6)+$O$26)","v":4.4306418219459687E-2},-3.5321898192961498E-3,3.4113300428120831E-3,0,0,4.3605479517560175E-4]
[25,5.7999999999999996E-3,4.0073902507738665E-2,{"$f":"(($L$26*A7^3)+($M$26*A7^2)+($N$26*A7)+$O$26)","v":7.0981739070330008E-2},6.283976892078158E-3,5.0512416226032551E-3,0,0,6.3409733665919436E-4]
[26,9.1999999999999998E-3,7.5519886363577704E-2,8.5476896633583266E-2,2.1339759693248084E-2,7.4794996701305974E-3,0,0,6.374280412127203E-4]
[27,1.4200000000000001E-2,0.11715334913659169,9.3242824990159789E-2,3.5860177963726869E-2,1.1075082028377084E-2,-2.2737367544323206E-13,9.2591174205836069E-4,7.3905603026027235E-4]
[28,2.0500000000000001E-2,0.16320950749226495,9.9730458221021223E-2,4.7033114706422907E-2,1.6399150657779169E-2,2.3275401069440704E-2,3.3440160072643721E-2,9.4525577681087158E-4]
[29,2.69E-2,0.21296287711877557,0.11039073040712921,5.5009316547213416E-2,2.4282632093150073E-2,5.6995840760578176E-2,6.4046554141725665E-2,9.584750188449836E-4]
[30,3.6199999999999996E-2,0.26672727272723573,0.1306745756294454,6.2902393735370765E-2,3.5955900014344573E-2,9.0000000000145519E-2,8.3061767479819082E-2,1.4857410505901417E-3]
[31,4.7899999999999998E-2,0.32585580805152781,0.16603292796893854,7.6788820143221415E-2,5.3240799468614521E-2,0.11891978609605758,8.9838040113647821E-2,2.0117643998204034E-3]
[32,6.6900000000000001E-2,0.39274089584826666,0.22191672150654185,0.10570793326654382,7.8834981934157403E-2,0.14818033273911624,9.2763178566258375E-2,4.1069096439080941E-3]
[33,9.4100000000000003E-2,0.47081424789698845,0.30377689032322408,0.16166193422422737,0.11673292735250233,0.19000000000016826,0.10926055585724725,7.0400361799600047E-3]
[34,0.13639999999999999,0.56454687499999578,0.41706436849996109,0.25961588775821554,0.17284936197062162,0.2643903743314695,0.16578911150378417,2.7319932610992404E-2]
[35,0.20519999999999999,0.67944908698242745,0.56723009011769321,0.41749772223413117,0.25594236871513243,0.39915626856827657,0.29784335151822461,9.1984573285696786E-2]
[36,0.33560000000000001,0.82207049269219923,0.75972498925737497,0.65619822964059438,0.37898025978624517,0.62989572192509513,0.54995334841083832,0.21755857012529536]
[37,1,1,0.99999999999998934,1,1,1,0.97568474118753556,0.99999999999999989,null,null,null,null,null,null,null,null,null,null,null,null,null,null," "]
[]
[]
[null,"Gestational age at delivery of twins and perinatal outcomes: a cohort study in Aberdeen, Scotland. - PMC (nih.gov)"]
[]
[null,"Murray 2016"]
[]
[null,"GA",null,null,"GA",null,null,null,"GA",null,null,{"$f":"LINEST(J27:J30,I27:I30^{1,2,3})","v":9.0848901349312671E-4},-7.4226757655798975E-2,2.0275977326839039,-18.422378878983007]
[null,"24-32",740,null,"24-32",740,{"$f":"F27/$C$32","v":9.9730458221024262E-2},null,23,0]
[null,"33-36",2875,null,"33-36",2875,{"$f":"F28/$C$32","v":0.38746630727762804},null,28,9.9730458221024262E-2]
[null,"37-38",2363,null,37,{"$f":"C29+C30","v":3805},{"$f":"F29/$C$32","v":0.51280323450134768},null,34.5,{"$f":"G28+J28","v":0.48719676549865232}]
[null,39,1442,null," "," ",null,null,37,{"$f":"G29+J29","v":1}]
[]
[null,null,{"$f":"SUM(C27:C31)","v":7420}]
[]
[]
[]
[]
[]
[]
[]
[]
[]
[]
[null,"Nicolaides 2016",null,"Cervical pessary placement for prevention of preterm birth in unselected twin pregnancies: a randomized controlled trial (fetalmedicine.org)"]
[]
[null,null,null,null,null,null,null,null,null,null,null,null,null,null,"Using control group"]
[null,"GA"]
[null,24,{"$f":"(($P$61*B47^4)+($Q$61*B47^3)+($R$61*B47^2)+($S$61*B47)+$T$61)","v":-3.5321898192961498E-3}]
[null,25,{"$f":"(($P$61*B48^4)+($Q$61*B48^3)+($R$61*B48^2)+($S$61*B48)+$T$61)","v":6.283976892078158E-3},null,null,null,null,null,null,null,null,null,null,null,23,0]
[null,26,2.1339759693248084E-2,null,null,null,null,null,null,null,null,null,null,null,26,2.5000000000000001E-2]
[null,27,3.5860177963726869E-2,null,null,null,null,null,null,null,null,null,null,null,29,4.3999999999999997E-2]
[null,28,4.7033114706422907E-2,null,null,null,null,null,null,null,null,null,null,null,31,0.09]
[null,29,5.5009316547213416E-2,null,null,null,null,null,null,null,null,null,null,null,33,0.156]
[null,30,6.2902393735370765E-2,null,null,null,null,null,null,null,null,null,null,null,37,1]
[null,31,7.6788820143221415E-2]
[null,32,0.10570793326654382]
[null,33,0.16166193422422737]
[null,34,0.25961588775821554]
[null,35,0.41749772223413117]
[null,36,0.65619822964059438]
[null,37,0.99957106558893827]
[null,null,null,null,null,null,null,null,null,null,null,null,null,null,null,{"$f":"LINEST(P48:P53,O48:O53^{1,2,3,4})","v":1.2345265096768576E-4},-1.3554667168779854E-2,0.55614895192360547,-10.094591963370126,68.345970836824776]
[]
[]
[null,"Graph uncertain"]
[]
[null,"GA",null,null,null,null,null,null,null,null,null,null,null,null,"From graph"]
[null,24,null,null,null,null,null,null,null,null,null,null,null,null,23,0]
[null,25,null,null,null,null,null,null,null,null,null,null,null,null,23.5,0.04]
[null,26,null,null,null,null,null,null,null,null,null,null,null,null,29.5,0.1]
[null,27,null,null,null,null,null,null,null,null,null,null,null,null,33.5,0.35]
[null,28,null,null,null,null,null,null,null,null,null,null,null,null,36,0.48]
[null,29,null,null,null,null,null,null,null,null,null,null,null,null,37,1]
[null,30]
[null,31]
[null,32]
[null,33]
[null,34]
[null,35]
[null,36]
[null,37]
[]
[]
[]
[]
[]
[]
[]
[null,null,"Kato Smoothed"]
[]
[null,null,"GA","Kato"]
[null,null,24,2.2000000000000001E-3,{"$f":"$J$105*EXP($J$106*C91)","v":3.4113300428120831E-3}]
[null,null,25,5.7999999999999996E-3,{"$f":"$J$105*EXP($J$106*C92)","v":5.0512416226032551E-3}]
[null,null,26,9.1999999999999998E-3,7.4794996701305974E-3]
[null,null,27,1.4200000000000001E-2,1.1075082028377084E-2]
[null,null,28,2.0500000000000001E-2,1.6399150657779169E-2]
[null,null,29,2.69E-2,2.4282632093150073E-2]
[null,null,30,3.6199999999999996E-2,3.5955900014344573E-2]
[null,null,31,4.7899999999999998E-2,5.3240799468614521E-2]
[null,null,32,6.6900000000000001E-2,7.8834981934157403E-2]
[null,null,33,9.4100000000000003E-2,0.11673292735250233]
[null,null,34,0.13639999999999999,0.17284936197062162]
[null,null,35,0.20519999999999999,0.25594236871513243]
[null,null,36,0.33560000000000001,0.37898025978624517]
[null,null,37,1,0.56116553905737965]
[null,null,null,null,null,null,null,null,null,2.7640000000000001E-7]
[null,null,null,null,null,null,null,null," ",0.39253182180000001,null,{"$f":"EXP(J106*C91)","v":12342.00449642577},{"$f":"L106*J105","v":3.4113300428120831E-3}]
[]
[]
[]
[]
[null,null,"Franca 2018",null,null,"Preterm Birth in Twins | IntechOpen"]
[]
[null,null,24,0]
[null,null,25,0,null,null,null,null,null,null,null,"GA","Cum"]
[null,null,26,0,null,null,null,null,null,null,null,27,0]
[null,null,27,{"$f":"(($N$131*C116^4)+($O$131*C116^3)+($P$131*C116^2)+($Q$131*C116)+$R$131)","v":-2.2737367544323206E-13},null,null,null,null,null,null,null,30,0.09]
[null,null,28,2.3275401069440704E-2,null,null,null,null,null,null,null,33,0.19]
[null,null,29,5.6995840760578176E-2,null,null,null,null,null,null,null,35.5,0.5]
[null,null,30,9.0000000000145519E-2,null,null,null,null,null,null,null,37,1]
[null,null,31,0.11891978609605758]
[null,null,32,0.14818033273911624]
[null,null,33,0.19000000000016826]
[null,null,34,0.2643903743314695]
[null,null,35,0.39915626856827657]
[null,null,36,0.62989572192509513]
[null,null,37,1]
[]
[]
[]
[]
[null,null,null,null,null,null,null,null,null,null,null,null,null,{"$f":"LINEST(M115:M119,L115:L119^{1,2,3,4})","v":3.2471776589403404E-4},-3.8878045157430922E-2,1.7431812240035045,-34.658796345784438,257.67661764684635]
[]
[null,null,"Bun cheung 2001"]
[]
[null,null,24,0]
[null,null,25,0,null,null,null,null,null,null,null,null,null,null,25,0]
[null,null,26,0,null,null,null,null,null,null,null,null,null,null,26,0.01]
[null,null,27,{"$f":"(($O$153*C138^4)+($P$153*C138^3)+($Q$153*C138^2)+($R$153*C138)+$S$153)","v":9.2591174205836069E-4},null,null,null,null,null,null,null,null,null,null,28,0.03]
[null,null,28,{"$f":"(($O$153*C139^4)+($P$153*C139^3)+($Q$153*C139^2)+($R$153*C139)+$S$153)","v":3.3440160072643721E-2},null,null,null,null,null,null,null,null,null,null,30,0.06]
[null,null,29,6.4046554141725665E-2,null,null,null,null,null,null,null,null,null,null,32,0.1]
[null,null,30,8.3061767479819082E-2,null,null,null,null,null,null,null,null,null,null,34,0.2]
[null,null,31,8.9838040113647821E-2,null,null,null,null,null,null,null,null,null,null,36,0.5]
[null,null,32,9.2763178566258375E-2,null,null,null,null,null,null,null,null,null,null,37,1]
[null,null,33,0.10926055585724725]
[null,null,34,0.16578911150378417]
[null,null,35,0.29784335151822461]
[null,null,36,0.54995334841083832]
[null,null,37,0.97568474118753556]
[]
[]
[]
[]
[null,null,null,null,null,null,null,null,null,null,null,null,null,null,{"$f":"LINEST(P136:P143,O136:O143^{1,2,3,4})","v":3.7648193735945683E-4},-4.4532828603977406E-2,1.9684561603272908,-38.516530884613005,281.40444705753845]
[]
[]
[]
[]
[]
[]
[]
[]
[]
[]
[]
[]
[]
[null,null,"GA","Birth","Continuing pregnancy"]
[null,null,23,0,{"$f":"1-D168","v":1}]
[null,null,24,2.2000000000000001E-3,{"$f":"1-D169","v":0.99780000000000002}]
[null,null,25,5.7999999999999996E-3,0.99419999999999997]
[null,null,26,9.1999999999999998E-3,0.99080000000000001]
[null,null,27,1.4200000000000001E-2,0.98580000000000001]
[null,null,28,2.0500000000000001E-2,0.97950000000000004]
[null,null,29,2.69E-2,0.97309999999999997]
[null,null,30,3.6199999999999996E-2,0.96379999999999999]
[null,null,31,4.7899999999999998E-2,0.95209999999999995]
[null,null,32,6.6900000000000001E-2,0.93310000000000004]
[null,null,33,9.4100000000000003E-2,0.90590000000000004]
[null,null,34,0.13639999999999999,0.86360000000000003]
[null,null,35,0.20519999999999999,0.79479999999999995]
[null,null,36,0.33560000000000001,0.66439999999999999]
[null,null,37,1,0]
[]
[]
[]
[]
[null,null,"Liem Modifier"]
[]
[]
[]
[null,null,null,null,null,"Kato and Souka distributions and modified Kindinger"]
[null,null,"GA","Kato",null," ",5,10,15,20,25,">25",null,"Souka",null,"GA","Liem Modifier",null,null,23,0]
[null,null,24,2.2000000000000001E-3,null,24,1.0836240728350697E-4,7.2221689825029589E-4,3.2078687718457496E-4,4.6965718008489617E-4,3.2235384773054705E-4,2.5662278946617887E-4,null,{"$f":"SUM(G193:L193)","v":2.2000000000000001E-3},null,24,{"$f":"(G193*$J$211)+(H193*$J$212)+(I193*$J$213)+(J193*$J$214)+(K193*$J$215)+(L193*$J$216)","v":4.3605479517560175E-4},null,null,24,{"$f":"Q193","v":4.3605479517560175E-4}]
[null,null,25,5.7999999999999996E-3,null,25,1.7060140101482393E-4,1.1492153542168137E-3,5.3152222535658136E-4,8.163885681288849E-4,5.8713531871261047E-4,3.4513713257028518E-4,null,{"$f":"SUM(G194:L194)","v":3.5999999999999999E-3},null,25,{"$f":"(G194*$J$211)+(H194*$J$212)+(I194*$J$213)+(J194*$J$214)+(K194*$J$215)+(L194*$J$216)","v":6.3409733665919436E-4},null,null,25,{"$f":"Q194-Q193","v":1.9804254148359261E-4}]
[null,null,26,9.1999999999999998E-3,null,26,1.7060140101482393E-4,1.1492153542168137E-3,5.3152222535658136E-4,8.2247835221568454E-4,6.1418837990144211E-4,3.4513713257028518E-4,null,3.633142845275631E-3,null,26,6.374280412127203E-4,null,null,26,{"$f":"Q195-Q194","v":3.3307045535259372E-6}]
[null,null,27,1.4200000000000001E-2,null,27,2.2130507435615601E-4,1.5134059400952345E-3,7.4527694173508251E-4,1.2276532677240122E-3,9.469028565671229E-4,3.4545591952239252E-4,null,5.000000000000001E-3,null,27,7.3905603026027235E-4,null,null,27,1.0162798904755205E-4]
[null,null,28,2.0500000000000001E-2,null,28,2.6752269963732715E-4,1.8384454331937111E-3,9.2803333255447797E-4,1.5707037130925567E-3,1.2475617141692501E-3,4.4773310735267673E-4,null,6.3E-3,null,28,9.4525577681087158E-4,null,null,28,2.0619974655059924E-4]
[null,null,29,2.69E-2,null,29,2.6752269963732715E-4,1.8384454331937111E-3,9.418542484481697E-4,1.6326009540262971E-3,1.3331429087445636E-3,4.4773310735267673E-4,null,6.4612993514027457E-3,null,29,9.584750188449836E-4,null,null,29,1.3219242034112014E-5]
[null,null,30,3.6199999999999996E-2,null,30,3.6617032908973102E-4,2.5302925191008144E-3,1.3296640188182518E-3,2.3551118482409996E-3,1.9756961513546882E-3,7.4306513339550916E-4,null,9.299999999999994E-3,null,30,1.4857410505901417E-3,null,null,30,5.2726603174515813E-4]
[null,null,31,4.7899999999999998E-2,null,31,4.4222938832291694E-4,3.0591097228482643E-3,1.6342448018386848E-3,2.9530379922765482E-3,2.5445925817613449E-3,1.0667855129522423E-3,null,1.17E-2,null,31,2.0117643998204034E-3,null,null,31,5.2602334923026171E-4]
[null,null,32,6.6900000000000001E-2,null,32,6.6750107341868729E-4,4.6188402135801778E-3,2.5036290044198346E-3,4.6103128265189211E-3,4.0810328555197593E-3,2.5186840265426255E-3,null,1.9000000000000006E-2,null,32,4.1069096439080941E-3,null,null,32,2.0951452440876907E-3]
[null,null,33,9.4100000000000003E-2,null,33,8.8884805340377936E-4,6.1503379281990754E-3,3.3770625146963386E-3,6.3325313374233581E-3,5.7590249425800754E-3,4.6921952236973772E-3,null,2.7200000000000002E-2,null,33,7.0400361799600047E-3,null,null,33,2.9331265360519106E-3]
[null,null,34,0.13639999999999999,null,34,4.5395348837209588E-3,3.1418604651162904E-2,1.7451162790698645E-2,3.3302325581394669E-2,3.110697674418705E-2,1.6161492698754828E-2,null,0.13398009734991906,null,34,2.7319932610992404E-2,null,null,34,2.0279896431032399E-2]
[null,null,35,0.20519999999999999,null,35,4.5721987315011153E-3,3.1685986106917169E-2,1.778252577986807E-2,3.451126547870656E-2,3.3074133839583082E-2,7.2689848566792031E-2,null,0.19431595850336802,null,35,9.1984573285696786E-2,null,null,35,6.4664640674704385E-2]
[null,null,36,0.33560000000000001,null,36,4.6011401389308582E-3,3.1994880700694839E-2,1.8125175820857299E-2,3.5738024765932581E-2,3.5057427622213214E-2,0.18272365873444843,null,0.30824030778307721,null,36,0.21755857012529536,null,null,36,0.12557399683959858]
[null,null,37,1,null,37,4.6511627906976744E-3,3.255813953488372E-2,1.8604651162790697E-2,3.7209302325581395E-2,3.7209302325581395E-2,0.86976744186046506,null,1,null,37,0.99999999999999989,null,null,37,0.78244142987470455]
[]
[null,null,null,null,null,null,null,null,null,null,null,null,null,null," ",null,null,null,null,null,{"$f":"SUM(U192:U207)","v":0.99999999999999989}]
[]
[null,null,null,null,null,null,"Liem","Souka",null,"Liem multiplier"]
[null,null,null,null,null,"CL5",{"$f":"CL5_weight","v":1.4204545454545455E-3},4.6511627906976744E-3,null,{"$f":"G211/H211","v":0.30539772727272729}]
[null,null,null,null,null,"CL10",{"$f":"CL10_weight","v":1.4204545454545455E-3},3.255813953488372E-2,null,{"$f":"G212/H212","v":4.3628246753246752E-2}]
[null,null,null,null,null,"CL15",{"$f":"CL15_weight","v":1.4204545454545455E-3},1.8604651162790697E-2,null,7.6349431818181823E-2]
[null,null,null,null,null,"CL20",{"$f":"CL20_weight","v":1.4204545454545455E-3},3.7209302325581395E-2,null,3.8174715909090912E-2]
[null,null,null,null,null,"CL25",{"$f":"CL25_weight","v":4.261363636363636E-3},3.7209302325581395E-2,null,0.11452414772727272]
[null,null,null,null,null,"CL30",{"$f":"CL30_weight","v":0.99005681818181812},0.86976744186046506,null,1.1383006198347108]

{"sheet":"Still birth data","index":34,"n_rows":190,"n_cols":15,"rows_kept":190,"cut":false,"hidden":false,"merged":[[45,4,46,14]]}
["Worksheet 14: Maternities with multiple births by whether live births or stillbirths, multiplicity, age of mother and sex, England and Wales, 2021 [note 21]"]
["This worksheet contains one table."]
["Some cells refer to notes which can be found on the notes worksheet."]
["Notes"]
["Source: Office for National Statistics"]
["Age of mother at birth","Multiplicity","Maternities \nTotal","Live births \nTotal","Live births \nMale ","Live births \nFemale ","Stillbirths \nTotal","Stillbirths \nMale ","Stillbirths \nFemale "]
["All ages","Twins",8367,16614,8339,8275,120,58,62]
[]
[]
["Overall stillbirth rate",{"$f":"G7/(D7+G7)","v":7.1710290426676227E-3}]
[]
[]
[]
["Worksheet 8: Births by gestational age at birth and ethnicity of live births, England and Wales, 2021 [note 17] [note 18]"]
[]
["Gestational age at birth (weeks)","Total live births","Total stillbirths"]
["All gestational ages ",624162,2579]
["Under 22 weeks and birthweight less than 1,000 grams",423,0,null,"Baseline births based on smoothed weighted Kindinger data"]
["22 weeks",185,0," "]
["23 weeks",267,0,null,null,"Raw data","Smoothed","Baseline births","Stillbirths"]
["24 weeks",344,246,null,24,{"$f":"C21/(B21+C21)","v":0.41694915254237286},{"$f":"($K$36*E21^4)+($L$36*E21^3)+($M$36*E21^2)+($N$36*E21)+$O$36","v":0.42542758812772519},1.3619479926479838E-2,{"$f":"G21*H21","v":5.7941024966762849E-3}]
["25 weeks",393,205,null,25,{"$f":"C22/(B22+C22)","v":0.34280936454849498},{"$f":"($K$36*E22^4)+($L$36*E22^3)+($M$36*E22^2)+($N$36*E22)+$O$36","v":0.32062372418278073},2.6454422581258828E-2,{"$f":"G22*H22","v":8.481915489108257E-3}]
["26 weeks",587,184,null,26,0.23865110246433205,0.24101069465609726,3.5445983855839039E-2,8.5428611918645751E-3]
["27 weeks",675,115,null,27,0.14556962025316456,0.18146067048571979,4.1633462773013982E-2,7.5548360694333719E-3]
["28 weeks",817,159,null,28,0.16290983606557377,0.13746173658510941,4.6056158355673268E-2,6.3309595080096445E-3]
["29 weeks",946,120,null,29,0.11257035647279549,0.10511789184295139,4.9753369626510613E-2,5.2299693272219259E-3]
["30 weeks",1285,96,null,30,6.9514844315713253E-2,8.1149049123382611E-2,5.3764395608460164E-2,4.3629295803199099E-3]
["31 weeks",1650,121,null,31,6.8322981366459631E-2,6.2891035265792539E-2,5.9128535324292075E-2,3.7186548002947129E-3]
["32 weeks",2514,125,null,32,4.7366426676771503E-2,4.8295591084908551E-2,6.6885087796738851E-2,3.2302548499095066E-3]
["33 weeks",3367,119,null,33,3.4136546184738957E-2,3.5930371370881176E-2,7.8073352048721789E-2,2.8052045332801205E-3]
["34 weeks",5823,151,null,34,2.5276196853029797E-2,2.4978944889099353E-2,9.3732627103007338E-2,2.3413421267165207E-3]
["35 weeks",8566,125,null,35,1.4382694741686802E-2,1.5240794380375178E-2,0.11490221198243167,1.7512009866745219E-3]
["36 weeks",19307,172,null,36,8.8300220750551876E-3,7.1313165607875817E-3,0.14262140570977178,1.0170783924609E-3]
["37 weeks",54700,169,null,37,{"$f":"SUM(C34:C39)/(SUM(B34:B39)+SUM(C34:C39))","v":1.1120861171686983E-3},1.6818221217675955E-3,0.17792950730780077,2.9924578150546837E-4]
["38 weeks",96852,150,null,null,null,null,null,null,null,"x4","x3","x2","x1","constant"]
["39 weeks",187254,130,null,null,null,null,{"$f":"SUM(H21:H35)","v":1},{"$f":"SUM(I21:I35)","v":6.1460555133475724E-2},null,{"$f":"LINEST(F21:F34,E21:E34^{1,2,3,4})","v":2.5663082305734946E-5},-3.4722725721736221E-3,0.17675363839334174,-4.022415973344204,34.63961647648442]
["40 weeks",145019,117]
["41 weeks",79552,58,null,"Rate of stillbirths for multiple births, by grouped week gestation, England and Wales, 2013 and 2014"]
["42 weeks and above",11478,16]
[null,null,null,null,null,"Weeks gestation",null,2013,2014]
[null,null,null,null,null,"24–27",null,77.900000000000006,108.4]
[null,{"$f":"SUM(B34:B39)","v":574855},{"$f":"C17/B17","v":4.1319401052931767E-3},null,null,"28–31",null,35.700000000000003,32.299999999999997]
[null,null,null,null,null,"32–36",null,7.6,8.5]
[null,null,null,null,null,"37+  ",null,2.8,2.8]
[null,null,null,null,null,"N/S  ",null,0,22]
[null,null,null,null,"Figures are birth registrations that have been linked to a birth notification record (known as the NN4B linked dataset). These figures will not, therefore, match births reported in other ONS outputs."]
[]
[]
[]
[null,null,null,null,null,null,null,null,null,null,"x4","x3","x2","x1","constant"]
[null,null,null,null,null,25.5,0.1084,null,null,null,{"$f":"LINEST(G51:G54,F51:F54^{1,2,3,4})","v":-3.0453551901762091E-6},2.8248334352362641E-4,-7.3884286877611101E-3,0,1.5164160026185449]
[null,null,null,null,null,29.5,3.2300000000000002E-2]
[null,null,null,null,null,34,8.5000000000000006E-3]
[null,null,null,null,null,37,2.8E-3]
[null,null,null,null,null,null,null,null,null,"MBRRACE-UK_Twin_Pregnancies_Confidential_Enquiry.pdf (ox.ac.uk)"]
[]
[null,null,null,null,"Based on smoothed ONS 2014 Stillbirth data "]
[]
[null,null,null,null,null,"Smoothed","Baseline births","Stillbirths"]
[null,null,null,null,24,{"$f":"($K$51*E60^4)+($L$51*E60^3)+($M$51*E60^2)+($N$51*E60)+$O$51","v":0.15535505576285535},1.3619479926479838E-2,{"$f":"F60*G60","v":2.1158550634393643E-3}]
[null,null,null,null,25,{"$f":"($K$51*E61^4)+($L$51*E61^3)+($M$51*E61^2)+($N$51*E61)+$O$51","v":0.12285844416193159},2.6454422581258828E-2,{"$f":"F61*G61","v":3.2501491995357299E-3}]
[null,null,null,null,26,9.5111222077328694E-2,3.5445983855839039E-2,3.3713108422621144E-3]
[null,null,null,null,27,7.1944532193799482E-2,4.1633462773013982E-2,2.9953000028124567E-3]
[null,null,null,null,28,5.31164286715331E-2,4.6056158355673268E-2,2.4463386501839524E-3]
[null,null,null,null,29,3.8311877146157691E-2,4.9753369626510613E-2,1.9061449847382482E-3]
[null,null,null,null,30,2.7142754728729734E-2,5.3764395608460164E-2,1.4593138031388283E-3]
[null,null,null,null,31,1.9147850005749589E-2,5.9128535324292075E-2,1.1321843254492108E-3]
[null,null,null,null,32,1.379286303914995E-2,6.6885087796738851E-2,9.2253685534193861E-4]
[null,null,null,null,33,1.0470405366298507E-2,7.8073352048721789E-2,8.1745964425584917E-4]
[null,null,null,null,34,8.5000000000006182E-3,9.3732627103007338E-2,7.9672733037562031E-4]
[null,null,null,null,35,7.1280814284930827E-3,0.11490221198243167,8.1903232332474656E-4]
[null,null,null,null,36,5.5279956154556942E-3,0.14262140570977178,7.8841050543374609E-4]
[null,null,null,null,37,2.7999999999988034E-3,0.17792950730780077,4.9820262046162923E-4]
[]
[null,null,null,null,null,null,{"$f":"SUM(G60:G74)","v":1},{"$f":"SUM(H60:H74)","v":2.3318966150753434E-2}]
[]
[]
[null,null,null,null,"Estimated still births in Kindinger smoothed data CL = 40mm"]
[]
[null,null,null,null,null,"Raw data","Smoothed","Baseline births","Stillbirths",null,"40mm cum","40mm weekly"]
[null,null,null,null,24,{"$f":"C21/(B21+C21)","v":0.41694915254237286},{"$f":"($K$36*E81^4)+($L$36*E81^3)+($M$36*E81^2)+($N$36*E81)+$O$36","v":0.42542758812772519},1.057397959178985E-2,{"$f":"G81*H81","v":4.4984626346469443E-3},null,1.057397959178985E-2,{"$f":"K81","v":1.057397959178985E-2}]
[null,null,null,null,25,0.34280936454849498,0.32062372418278073,2.3253014842282482E-2,{"$f":"G82*H82","v":7.4554682172100857E-3},null,3.3826994434072333E-2,{"$f":"K82-K81","v":2.3253014842282482E-2}]
[null,null,null,null,26,0.23865110246433205,0.24101069465609726,3.217300556586622E-2,7.7540384206039011E-3,null,6.5999999999938552E-2,{"$f":"K83-K82","v":3.217300556586622E-2}]
[null,null,null,null,27,0.14556962025316456,0.18146067048571979,3.8399350649342523E-2,6.9679719150459538E-3,null,0.10439935064928108,3.8399350649342523E-2]
[null,null,null,null,28,0.16290983606557377,0.13746173658510941,4.2997448979619435E-2,5.9105040054681281E-3,null,0.14739679962890051,4.2997448979619435E-2]
[null,null,null,null,29,0.11257035647279549,0.10511789184295139,4.7032699443406045E-2,4.9439782131739966E-3,null,0.19442949907230656,4.7032699443406045E-2]
[null,null,null,null,30,6.9514844315713253E-2,8.1149049123382611E-2,5.1570500927653029E-2,4.1848971130955641E-3,null,0.24599999999995958,5.1570500927653029E-2]
[null,null,null,null,31,6.8322981366459631E-2,6.2891035265792539E-2,5.7676252319154742E-2,3.6273192186027097E-3,null,0.30367625231911433,5.7676252319154742E-2]
[null,null,null,null,32,4.7366426676771503E-2,4.8295591084908551E-2,6.6415352504634484E-2,3.207568706323884E-3,null,0.37009160482374881,6.6415352504634484E-2]
[null,null,null,null,33,3.4136546184738957E-2,3.5930371370881176E-2,7.8853200371057142E-2,2.8332247731145885E-3,null,0.44894480519480595,7.8853200371057142E-2]
[null,null,null,null,34,2.5276196853029797E-2,2.4978944889099353E-2,9.6055194805188648E-2,2.3993574173505096E-3,null,0.5449999999999946,9.6055194805188648E-2]
[null,null,null,null,35,1.4382694741686802E-2,1.5240794380375178E-2,0.11908673469389441,1.8149764368999358E-3,null,0.66408673469388901,0.11908673469389441]
[null,null,null,null,36,8.8300220750551876E-3,7.1313165607875817E-3,0.14901321892395458,1.0626604358886628E-3,null,0.8130999536178436,0.14901321892395458]
[null,null,null,null,37,3.0800634237912118E-3,1.6818221217675955E-3,0.1869000463821564,3.1433263256490027E-4,null,1,0.1869000463821564]
[]
[null,null,null,null,null,null,null,null,{"$f":"SUM(I81:I95)","v":5.6974760139989769E-2},null,null,{"$f":"SUM(L81:L95)","v":1}]
[]
[]
[null,null,null,null,null,null,null,null,null,null,"x4","x3","x2","x1","constant"]
[null,null,null,null,null,25.5,7.7899999999999997E-2,null,null,null,{"$f":"LINEST(G100:G103,F100:F103^{1,2,3,4})","v":-1.0363896814415219E-7},2.2860537077192644E-5,-9.7889486970389994E-4,0,0.37918840422961236]
[null,null,null,null,null,29.5,3.5700000000000003E-2]
[null,null,null,null,null,34,7.6E-3]
[null,null,null,null,null,37,2.8E-3]
[null,null,null,null,null,null,null,null,null," "]
[]
[null,null,null,null,"Based on smoothed ONS 2013 Stillbirth data "]
[]
[null,null,null,null,null,"Smoothed","Baseline births","Stillbirths"]
[null,null,null,null,24,{"$f":"($K$100*E109^4)+($L$100*E109^3)+($M$100*E109^2)+($N$100*E109)+$O$100","v":9.6984101540282863E-2},1.3619479926479838E-2,{"$f":"F109*G109","v":1.3208730241155648E-3},null,0.15535505576285535,0.42542758812772519]
[null,null,null,null,25,{"$f":"($K$100*E110^4)+($L$100*E110^3)+($M$100*E110^2)+($N$100*E110)+$O$100","v":8.4091030564500457E-2},2.6454422581258828E-2,{"$f":"F110*G110","v":2.2245796578468473E-3},null,0.12285844416193159,0.32062372418278073]
[null,null,null,null,26,7.1891750871871773E-2,3.5445983855839039E-2,2.548273840772369E-3,null,9.5111222077328694E-2,0.24101069465609726]
[null,null,null,null,27,6.0459998636355761E-2,4.1633462773013982E-2,2.5171591024831935E-3,null,7.1944532193799482E-2,0.18146067048571979]
[null,null,null,null,28,4.9867022696675811E-2,4.6056158355673268E-2,2.2966834940440542E-3,null,5.31164286715331E-2,0.13746173658510941]
[null,null,null,null,29,4.0181584556319871E-2,4.9753369626510613E-2,1.9991692286094732E-3,null,3.8311877146157691E-2,0.10511789184295139]
[null,null,null,null,30,3.1469958383540553E-2,5.3764395608460164E-2,1.6919632923144518E-3,null,2.7142754728729734E-2,8.1149049123382611E-2]
[null,null,null,null,31,2.3795931011354965E-2,5.9128535324292075E-2,1.4070185473793193E-3,null,1.9147850005749589E-2,6.2891035265792539E-2]
[null,null,null,null,32,1.7220801937544883E-2,6.6885087796738851E-2,1.15181484952294E-3,null,1.379286303914995E-2,4.8295591084908551E-2]
[null,null,null,null,33,1.1803383324656302E-2,7.8073352048721789E-2,9.2152970167190377E-4,null,1.0470405366298507E-2,3.5930371370881176E-2]
[null,null,null,null,34,7.6000000000001067E-3,9.3732627103007338E-2,7.1236796598286574E-4,null,8.5000000000006182E-3,2.4978944889099353E-2]
[null,null,null,null,35,4.6644894556511773E-3,0.11490221198243167,5.3596015622304886E-4,null,7.1280814284930827E-3,1.5240794380375178E-2]
[null,null,null,null,36,3.0482018484495055E-3,0.14262140570977178,4.3473883251299316E-4,null,5.5279956154556942E-3,7.1313165607875817E-3]
[null,null,null,null,37,2.7999999999998582E-3,0.17792950730780077,4.9820262046181691E-4,null,2.7999999999988034E-3,1.6818221217675955E-3]
[]
[null,null,null,null,null,null,{"$f":"SUM(G109:G123)","v":1},{"$f":"SUM(H109:H123)","v":2.0260334313940843E-2}]
[]
[null,null,null,null,"Baseline births based on Kato and stillbirths ONS 2021"]
[]
[null,null,null,null,null,"Raw data","Smoothed","Baseline births","Stillbirths"]
[null,null,null,null,24,0.41694915254237286,0.42542758812772519,2.2000000000000001E-3,{"$f":"G129*H129","v":9.3594069388099543E-4}]
[null,null,null,null,25,0.34280936454849498,0.32062372418278073,5.7999999999999996E-3,{"$f":"G130*H130","v":1.8596176002601281E-3}]
[null,null,null,null,26,0.23865110246433205,0.24101069465609726,9.1999999999999998E-3,2.2172983908360947E-3]
[null,null,null,null,27,0.14556962025316456,0.18146067048571979,1.4200000000000001E-2,2.5767415208972212E-3]
[null,null,null,null,28,0.16290983606557377,0.13746173658510941,2.0500000000000001E-2,2.8179655999947431E-3]
[null,null,null,null,29,0.11257035647279549,0.10511789184295139,2.69E-2,2.8276712905753927E-3]
[null,null,null,null,30,6.9514844315713253E-2,8.1149049123382611E-2,3.6199999999999996E-2,2.9375955782664502E-3]
[null,null,null,null,31,6.8322981366459631E-2,6.2891035265792539E-2,4.7899999999999998E-2,3.0124805892314623E-3]
[null,null,null,null,32,4.7366426676771503E-2,4.8295591084908551E-2,6.6900000000000001E-2,3.230975043580382E-3]
[null,null,null,null,33,3.4136546184738957E-2,3.5930371370881176E-2,9.4100000000000003E-2,3.3810479459999189E-3]
[null,null,null,null,34,2.5276196853029797E-2,2.4978944889099353E-2,0.13639999999999999,3.4071280828731516E-3]
[null,null,null,null,35,1.4382694741686802E-2,1.5240794380375178E-2,0.20519999999999999,3.1274110068529866E-3]
[null,null,null,null,36,8.8300220750551876E-3,7.1313165607875817E-3,0.33560000000000001,2.3932698378003126E-3]
[null,null,null,null,37,1.1120861171686983E-3,1.6818221217675955E-3,0.66439999999999999,1.1174026177023905E-3]
[]
[null,null,null,null,null,null,null,null,{"$f":"SUM(I129:I143)","v":3.5842545798751631E-2}]
[]
[null,null,null,null,"Baseline births based on Kato and stillbirths ONS 2013"]
[]
[null,null,null,null,null,"Smoothed","Baseline births","Stillbirths"]
[null,null,null,null,24,{"$f":"($K$100*E149^4)+($L$100*E149^3)+($M$100*E149^2)+($N$100*E149)+$O$100","v":9.6984101540282863E-2},2.2000000000000001E-3,{"$f":"F149*G149","v":2.1336502338862231E-4}]
[null,null,null,null,25,{"$f":"($K$100*E150^4)+($L$100*E150^3)+($M$100*E150^2)+($N$100*E150)+$O$100","v":8.4091030564500457E-2},5.7999999999999996E-3,{"$f":"F150*G150","v":4.877279772741026E-4}]
[null,null,null,null,26,7.1891750871871773E-2,9.1999999999999998E-3,6.6140410802122032E-4]
[null,null,null,null,27,6.0459998636355761E-2,1.4200000000000001E-2,8.5853198063625183E-4]
[null,null,null,null,28,4.9867022696675811E-2,2.0500000000000001E-2,1.0222739652818542E-3]
[null,null,null,null,29,4.0181584556319871E-2,2.69E-2,1.0808846245650046E-3]
[null,null,null,null,30,3.1469958383540553E-2,3.6199999999999996E-2,1.1392124934841679E-3]
[null,null,null,null,31,2.3795931011354965E-2,4.7899999999999998E-2,1.1398250954439027E-3]
[null,null,null,null,32,1.7220801937544883E-2,6.6900000000000001E-2,1.1520716496217526E-3]
[null,null,null,null,33,1.1803383324656302E-2,9.4100000000000003E-2,1.1106983708501581E-3]
[null,null,null,null,34,7.6000000000001067E-3,0.13639999999999999,1.0366400000000144E-3]
[null,null,null,null,35,4.6644894556511773E-3,0.20519999999999999,9.5715323629962156E-4]
[null,null,null,null,36,3.0482018484495055E-3,0.33560000000000001,1.022976540339654E-3]
[null,null,null,null,37,2.7999999999998582E-3,0.66439999999999999,1.8603199999999058E-3]
[]
[null,null,null,null,null,null,null,{"$f":"SUM(H149:H163)","v":1.3743085065206231E-2}]
[]
[]
[]
[null,"GA",2013,2014,2021,"NG137"]
[null,24,9.6984101540282863E-2,0.15535505576285535,0.42542758812772519,0.35639999999999999]
[null,25,8.4091030564500457E-2,0.12285844416193159,0.32062372418278073,0.31869999999999998]
[null,26,7.1891750871871773E-2,9.5111222077328694E-2,0.24101069465609726,0.23810000000000001]
[null,27,6.0459998636355761E-2,7.1944532193799482E-2,0.18146067048571979,0.16769999999999999]
[null,28,4.9867022696675811E-2,5.31164286715331E-2,0.13746173658510941,0.1414]
[null,29,4.0181584556319871E-2,3.8311877146157691E-2,0.10511789184295139,0.1086]
[null,30,3.1469958383540553E-2,2.7142754728729734E-2,8.1149049123382611E-2,6.2300000000000001E-2]
[null,31,2.3795931011354965E-2,1.9147850005749589E-2,6.2891035265792539E-2,6.5000000000000002E-2]
[null,32,1.7220801937544883E-2,1.379286303914995E-2,4.8295591084908551E-2,5.2600000000000001E-2]
[null,33,1.1803383324656302E-2,1.0470405366298507E-2,3.5930371370881176E-2,3.2399999999999998E-2]
[null,34,7.6000000000001067E-3,8.5000000000006182E-3,2.4978944889099353E-2,2.0400000000000001E-2]
[null,35,4.6644894556511773E-3,7.1280814284930827E-3,1.5240794380375178E-2,1.46E-2]
[null,36,3.0482018484495055E-3,5.5279956154556942E-3,7.1313165607875817E-3,9.2999999999999992E-3]
[null,37,2.7999999999998582E-3,2.7999999999988034E-3,1.6818221217675955E-3,3.5000000000000001E-3]
[]
[]
[]
[]
[null,null,"USE ONS stillbirth data as produces best match for twin stillbirth data"]
[null,null,"Use Kindinger smoothing to estimate baseline distribution of birth by GA for cervical length less than 25 mm"]
[null,null,"Use Kato smoothing to estimate distribution of births by GA for cervical length >25mm"]
[null,null,"Merge 30mm CL, 35mm CL and 40mm CL into one category"]

{"sheet":"NND data","index":35,"n_rows":60,"n_cols":10,"rows_kept":60,"cut":false,"hidden":false,"merged":[]}
[null,null,"ONS 2017","ONS 2017 (smoothed)","ONS 2020 Smoothed"]
[null,"GA","NND rate 2017","NND rate 2017b","NND rate 2020"]
[null,24,0.19850000000000001,{"$f":"($E$20*B3^5)+($F$20*B3^4)+($G$20*B3^3)+($H$20*B3^2)+($I$20*B3)+$J$20","v":0.195906081380258},{"$f":"69228.92*EXP(-0.5*B3)","v":0.42535718547157036}]
[null,25,0.11509999999999999,{"$f":"($E$20*B4^5)+($F$20*B4^4)+($G$20*B4^3)+($H$20*B4^2)+($I$20*B4)+$J$20","v":0.12263564794358217},{"$f":"69228.92*EXP(-0.5*B4)","v":0.25799217431758054}]
[null,26,8.2000000000000003E-2,7.8729777498324438E-2,0.15648016368953885]
[null,27,5.96E-2,5.3404534475134824E-2,9.4910016914556875E-2]
[null,28,3.7999999999999999E-2,3.8911473356506576E-2,5.7565835172523373E-2]
[null,29,2.3800000000000002E-2,3.0056583664077152E-2,3.4915443984099313E-2]
[null,30,2.4500000000000001E-2,2.3719234944792333E-2,2.1177287273835256E-2]
[null,31,1.9099999999999999E-2,1.8371121757809306E-2,1.2844674021123255E-2]
[null,32,1.5800000000000002E-2,1.3595208661286051E-2,7.7906886078256115E-3]
[null,33,8.3999999999999995E-3,9.6046752009897318E-3,4.725291500920166E-3]
[null,34,7.4999999999999997E-3,6.7618608946986569E-3,2.866034171387608E-3]
[null,35,5.1000000000000004E-3,5.0972102204696057E-3,1.7383375967306765E-3]
[null,36,2.5999999999999999E-3,3.8282176030861592E-3,1.0543550493483311E-3]
[null,37,1.5E-3,8.7837240153021412E-4,6.3949866365258933E-4]
[]
[]
[null,null,null,null,"x5","x4","x3","x2","x1","constant"]
[null,null,null,null,{"$f":"LINEST(C3:C16,B3:B16^{1,2,3,4,5})","v":-4.0087917759373207E-6},6.4762168303033089E-4,-4.1777543761487776E-2,1.3456439445226833,-21.652500244453861,139.35293495902442]
[]
["Table 8: Live births, neonatal and infant deaths: plurality and gestational age at birth, numbers and rates, 2020[note 1][note 3][note 4][note 14][note 15][note 16][note 17]"]
["England and Wales"]
["This worksheet contains one table."]
["Some cells refer to notes which can be found on the notes worksheet."]
["Notes"]
["Some shorthand is used in this table, [x] not available, [u] low reliability, [z] not applicable. "]
["Some cells in this table are empty because the symbols used are not applicable."]
["[note 3] refers to cells E10 to J10, [note 4] refers to cells E10 to J10, [note 14] refers to cell A19, [note 15] refers to cell A12, A24, A32, [note 16] refers to cell A21, [note 17] refers to cell A22. "]
["Source: Office for National Statistics."]
["Gestational age (weeks)","All Multiplicity","Singleton","Multiple","All Multiplicity mortality rate","All Multiplicity unreliable indicator ","Singleton mortality rate","Singleton unreliable indicator ","Multiple mortality rate","Multiple unreliable indicator "]
["All Live births",613231,595822,17409,"[z]",null,"[z]",null,"[z]"]
["All Live births with known gestational age",610644,593327,17317,"[z]",null,"[z]",null,"[z]"]
["Live births under 24",815,708,107,"[z]",null,"[z]",null,"[z]"]
["Live births 24-27",1870,1497,373,"[z]",null,"[z]",null,"[z]"]
["Live births 28-31",4571,3391,1180,"[z]",null,"[z]",null,"[z]"]
["Live births 32-36",38240,29352,8888,"[z]",null,"[z]",null,"[z]"]
["Live births 37-41",553107,546338,6769,"[z]",null,"[z]",null,"[z]"]
["Live births 42 and over",12041,12041,0,"[z]",null,"[z]",null,"[z]"]
["Live births - low gestational age inconsistent with birthweight",16,15,1,"[z]",null,"[z]",null,"[z]"]
["Live births - gestational age not stated",2571,2480,91,"[z]",null,"[z]",null,"[z]"]
["Per cent of live births under 37 weeks",7.5,5.9,60.9,"[z]",null,"[z]",null,"[z]"]
["Per cent of live births Small for Gestational Age (SGA)",6.2,6,12.7,"[z]",null,"[z]",null,"[z]"]
["All Neonatal deaths",1448,1263,185,2.4,null,2.1,null,10.6]
["All neonatal deaths with known gestational age",1416,1235,181,2.2999999999999998,null,2.1,null,10.5]
["Neonatal deaths under 24",649,568,81,796.3,null,802.3,null,757]
["Neonatal deaths 24-27",229,177,52,122.5,null,118.2,null,139.4]
["Neonatal deaths 28-31",118,96,22,25.8,null,28.3,null,18.600000000000001]
["Neonatal deaths 32-36",155,135,20,4.0999999999999996,null,4.5999999999999996,null,2.2999999999999998]
["Neonatal deaths 37-41",256,250,6,0.5,null,0.5,null,0.9,"[u]"]
["Neonatal deaths 42 and over",9,9,0,0.7,"[u]",0.7,"[u]","[x]","[u]"]
[]
[]
[]
[]
[]
[null,25.5,{"$f":"(D46+D47)/(D34+D35)","v":0.27708333333333335}]
[null,29.5,{"$f":"D48/D36","v":1.864406779661017E-2}]
[null,34,{"$f":"D49/D37","v":2.2502250225022503E-3}]
[null,37,{"$f":"D50/D38","v":8.8639385433594332E-4}]

{"sheet":"PND data","index":36,"n_rows":100,"n_cols":10,"rows_kept":100,"cut":false,"hidden":false,"merged":[]}
[]
[null,null," "," "]
[null,"GA","NG137","NG137 smoothed",2021]
[null,24,4.6199999999999998E-2,5.0154621848739978E-2,7.3672456387188182E-2]
[null,25,4.2500000000000003E-2,4.0460520361991326E-2,5.2437868061423219E-2]
[null,26,3.6700000000000003E-2,3.2122042663219497E-2,3.7323718275062354E-2]
[null,27,3.1E-2,2.504203737439048E-2,2.6565915003341805E-2]
[null,28,1.4500000000000001E-2,1.9123353117470598E-2,1.8908829896412654E-2]
[null,29,7.4000000000000003E-3,1.4268838514426951E-2,1.345874395843292E-2]
[null,30,7.4999999999999997E-3,1.0381342187224529E-2,9.5795345312731251E-3]
[null,31,1.0500000000000001E-2,7.3637127578309869E-3,6.8184283852398388E-3]
[null,32,7.0000000000000001E-3,5.1187988482110924E-3,4.8531549724958999E-3]
[null,33,4.5999999999999999E-3,3.5494490803318346E-3,3.4543316811903716E-3]
[null,34,2.7000000000000001E-3,2.55851207615998E-3,2.4586907756499795E-3]
[null,35,2.7000000000000001E-3,2.0488364576605189E-3,1.7500231269578373E-3]
[null,36,1.5E-3,1.9232708468008841E-3,1.2456145259168118E-3]
[null,37,1.4E-3,2.08466386554651E-3,8.8659145314960426E-4]
[]
[null,null,0.19850000000000001]
[null,null,0.11509999999999999]
[null,null,8.2000000000000003E-2]
[null,null,5.96E-2]
[null,null,3.7999999999999999E-2]
[null,null,2.3800000000000002E-2]
[null,null,2.4500000000000001E-2]
[null,null,1.9099999999999999E-2]
[null,null,1.5800000000000002E-2]
[null,null,8.3999999999999995E-3]
[null,null,7.4999999999999997E-3]
[null,null,5.1000000000000004E-3]
[null,null,2.5999999999999999E-3]
[null,null,1.5E-3]
[]
[]
[]
[]
[]
[]
["GA","NG137","NG137 smoothed","ONS 2021"]
[24,4.6199999999999998E-2,{"$f":"($G$59*A40^3)+($H$59*A40^2)+($I$59*A40)+$J$59","v":5.0154621848739978E-2},{"$f":"257.72*EXP(-0.34*B4)","v":7.3672456387188182E-2}]
[25,4.2500000000000003E-2,{"$f":"($G$59*A41^3)+($H$59*A41^2)+($I$59*A41)+$J$59","v":4.0460520361991326E-2},{"$f":"257.72*EXP(-0.34*B5)","v":5.2437868061423219E-2}]
[26,3.6700000000000003E-2,3.2122042663219497E-2,3.7323718275062354E-2]
[27,3.1E-2,2.504203737439048E-2,2.6565915003341805E-2]
[28,1.4500000000000001E-2,1.9123353117470598E-2,1.8908829896412654E-2]
[29,7.4000000000000003E-3,1.4268838514426951E-2,1.345874395843292E-2]
[30,7.4999999999999997E-3,1.0381342187224529E-2,9.5795345312731251E-3]
[31,1.0500000000000001E-2,7.3637127578309869E-3,6.8184283852398388E-3]
[32,7.0000000000000001E-3,5.1187988482110924E-3,4.8531549724958999E-3]
[33,4.5999999999999999E-3,3.5494490803318346E-3,3.4543316811903716E-3]
[34,2.7000000000000001E-3,2.55851207615998E-3,2.4586907756499795E-3]
[35,2.7000000000000001E-3,2.0488364576605189E-3,1.7500231269578373E-3]
[36,1.5E-3,1.9232708468008841E-3,1.2456145259168118E-3]
[37,1.4E-3,2.08466386554651E-3,8.8659145314960426E-4]
[]
[]
[]
[]
[null,null,null,null,null,null,"x3","x2","x1","constant"]
[null,null,null,null,null,null,{"$f":"LINEST(B40:B53,A40:A53^{1,2,3})","v":-1.6191896338958264E-5},1.8922041194102885E-3,-7.3250498031389111E-2,0.94209377681151163]
[]
[null,"Child mortality (death cohort) tables in England and Wales - Office for National Statistics (ons.gov.uk)"]
[]
[]
[null,"Table 17: Live births, stillbirths and infant deaths: gestational age at birth, numbers and rates, 2021 [note 3][note 4][note 5][note 26][note 27][note 28][note 31][note 32]"]
[null,"England and Wales"]
[null,"This worksheet contains one table."]
[null,"Some cells refer to notes which can be found on the notes worksheet."]
[null,"Notes"]
[null,"Some shorthand is used in this table, [u] low reliability, [z] not applicable, [x] not available. "]
[null,"Some cells in this table are empty because the symbols used are not applicable."]
[null,"[note 3] refers to cell I10 to Q10, [note 4] refers to cells I10 [note 5] refers to cells J10, L10, N10 and P10, [note 27] refers to cell B10, [note 28] refers to cell A34, [note 31] refers to cell A36."]
[null,"Source: Office for National Statistics"]
[]
[null,null,"Gestational age (weeks)","Live births","Postneonatal deaths","PND rate"]
[null,null,"All",624162,608]
[null,null,"Under 22 weeks & birthweight <1,000g",423,0]
[null,null,"22 weeks",185,8]
[null,null,23,267,20,null,null,"GA","ONS 2021"]
[null,null,24,344,28,{"$f":"(E77+E78+E79)/(D79+D78+D77)","v":7.0351758793969849E-2},null,24,7.0351758793969849E-2]
[null,null,25,393,31,{"$f":"E80/D80","v":7.8880407124681931E-2},null,25,7.8880407124681931E-2]
[null,null,26,587,29,{"$f":"E81/D81","v":4.9403747870528106E-2},null,26,4.9403747870528106E-2]
[null,null,27,675,25,3.7037037037037035E-2,null,27,3.7037037037037035E-2]
[null,null,28,817,14,1.7135862913096694E-2,null,28,1.7135862913096694E-2]
[null,null,29,946,7,7.3995771670190271E-3,null,29,7.3995771670190271E-3]
[null,null,30,1285,7,5.4474708171206223E-3,null,30,5.4474708171206223E-3]
[null,null,31,1650,6,3.6363636363636364E-3,null,31,3.6363636363636364E-3]
[null,null,32,2514,10,3.977724741447892E-3,null,32,3.977724741447892E-3]
[null,null,33,3367,15,4.4550044550044554E-3,null,33,4.4550044550044554E-3]
[null,null,34,5823,19,3.2629228919800789E-3,null,34,3.2629228919800789E-3]
[null,null,35,8566,31,3.6189586738267568E-3,null,35,3.6189586738267568E-3]
[null,null,36,19307,35,1.8128140052830579E-3,null,36,1.8128140052830579E-3]
[null,null,37,54700,76,{"$f":"SUM(E92:E96)/SUM(D92:D96)","v":5.2540306047282729E-4},null,37,5.2540306047282729E-4]
[null,null,38,96852,81]
[null,null,39,187254,79]
[null,null,40,145019,42]
[null,null,41,79552,18]
[null,null,"42 weeks & over",11478,2]
[null,null,"Low gestational age inconsistent with birthweight",20,0]
[null,null,"Gestational age not stated",2138,11]
[null,null,"Unlinked deaths","[z]",14]

{"sheet":"NICU admissions","index":37,"n_rows":215,"n_cols":20,"rows_kept":215,"cut":false,"hidden":false,"merged":[]}
[]
[]
["GA","NG137","Smoothed NG137"]
[24,1,1]
[25,1,1]
[26,0.83509999999999995,0.66682578743711929]
[27,0.65780000000000005,0.69822205438322271]
[28,0.72640000000000005,0.80771944109801552]
[29,0.85540000000000005,0.87548418811275042]
[30,0.90859999999999996,0.87671556585337385]
[31,0.93340000000000001,0.83004309140596888]
[32,0.94350000000000001,0.76123027596258908]
[33,0.90549999999999997,0.68218490312210633]
[34,0.68500000000000005,0.58527583843897446]
[35,0.62809999999999999,0.45295636923037819]
[36,0.41120000000000001,0.28269407560219406]
[37,7.8799999999999995E-2,0.12720723254824406]
[]
[]
[null,"Previous Guideline 2014 data"]
[]
[]
[]
[]
[]
[]
[]
[]
[]
[]
[null,"Statistics about neonatal care | Bliss",null,null,null,"Includes Scottish births (n=47,786)",null,null,null,null," "]
[]
[null,"2016 data"]
[]
[]
[]
[]
[]
[null,null,null,null,null,null,null,null,null,null,"GA at birth","Babies admitted","Cumulative frequency"]
[null,null,null,null,null,null,null,null,null,null,"≤ 25 wks",1189,{"$f":"L40/L44","v":1.1812392580744508E-2}]
[null,null,null,null,null,null,null,null,null,null,"26-32 weeks",10283,{"$f":"(L40+L41)/L44","v":0.11397120915584609}]
[null,null,null,null,null,null,null,null,null,null,"33-36 weeks",26427,{"$f":"(L40+L41+L42)/L44","v":0.37651628798791936}]
[null,null,null,null,null,null,null,null,null,null,"≥ 37 weeks",62427,1]
[null,null,null,null,null,null,null,null,null,null,"Total",100657]
[]
[null,null,"Live Births",null,null,null,null,null,null,null,null,{"$f":"INT(L44*D52)","v":94192}]
[null,null,null,2016]
[null,null,"Scotland",47786]
[null,null,"England and Wales",696271,"Births in England and Wales - Office for National Statistics (ons.gov.uk)"]
[null,null,"Total",{"$f":"D48+D49","v":744057}]
[]
[null,null,"Eng & Wales as proportion",{"$f":"D49/D50","v":0.93577642573082442}]
[null,null,"est NICU England and Wales",{"$f":"INT(D52*L44)","v":94192}]
[]
[null,null,"GA at birth","Babies admitted",null,{"$f":"D49/D50","v":0.93577642573082442},null,null,null,"GA","Fitted cumulative"]
[null,null,25,{"$f":"M40","v":1.1812392580744508E-2},null,null,null,null,null,22,{"$f":"0.00001975*EXP(0.26475079*J56)","v":6.6853301255581539E-3}]
[null,null,32,{"$f":"M41","v":0.11397120915584609},null,null,null,null,null,23,{"$f":"0.00001975*EXP(0.26475079*J57)","v":8.7116950568865582E-3}]
[null,null,36,{"$f":"M42","v":0.37651628798791936},null,null,null,null,null,24,1.1352263738485972E-2]
[null,null,42,{"$f":"M43","v":1},null,null,null,null,null,25,1.479320512788946E-2]
[null,null,null,null,null,null,null,null,null,26,1.927711714571222E-2]
[null,null,null,null,null,null,null,null,null,27,2.5120130643556421E-2]
[null,null,null,null,null,null,null,null,null,28,3.2734197690431108E-2]
[null,null,"Est Live birth by GA 2016","Est cumulative NICU","NICU/per GA","NICU admission rate",null,null,null,29,4.2656135576710573E-2]
[null,"22 weeks",{"$f":"INT(('Still birth data'!B19/'Still birth data'!$B$17)*'NICU admissions'!$D$49)","v":206},{"$f":"INT(K56*$D$53)","v":629},{"$f":"D64","v":629},{"$f":"IF(E64>C64,1,E64/C64)","v":1},null,null,null,30,5.5585474235423357E-2]
[null,"23 weeks",{"$f":"INT(('Still birth data'!B20/'Still birth data'!$B$17)*'NICU admissions'!$D$49)","v":297},{"$f":"INT(K57*$D$53)","v":820},{"$f":"D65-D64","v":191},{"$f":"IF(E65>C65,1,E65/C65)","v":0.64309764309764306},null,null,null,31,7.2433775451141713E-2]
[null,"24 weeks",{"$f":"INT(('Still birth data'!B21/'Still birth data'!$B$17)*'NICU admissions'!$D$49)","v":383},1069,{"$f":"D66-D65","v":249},0.65013054830287209,null,null,null,32,9.4388901026283903E-2]
[null,"25 weeks",{"$f":"INT(('Still birth data'!B22/'Still birth data'!$B$17)*'NICU admissions'!$D$49)","v":438},1393,324,0.73972602739726023,null,null,null,33,0.12299876102632715]
[null,"26 weeks",{"$f":"INT(('Still birth data'!B23/'Still birth data'!$B$17)*'NICU admissions'!$D$49)","v":654},1815,422,0.64525993883792054,null,null,null,34,0.16028044663639751]
[null,"27 weeks",{"$f":"INT(('Still birth data'!B24/'Still birth data'!$B$17)*'NICU admissions'!$D$49)","v":752},2366,551,0.73271276595744683,null,null,null,35,0.20886244186203115]
[null,"28 weeks",{"$f":"INT(('Still birth data'!B25/'Still birth data'!$B$17)*'NICU admissions'!$D$49)","v":911},3083,717,0.78704720087815583,null,null,null,36,0.27216994047646953]
[null,"29 weeks",{"$f":"INT(('Still birth data'!B26/'Still birth data'!$B$17)*'NICU admissions'!$D$49)","v":1055},4017,934,0.88530805687203795,null,null,null,37,0.35466633368146683]
[null,"30 weeks",{"$f":"INT(('Still birth data'!B27/'Still birth data'!$B$17)*'NICU admissions'!$D$49)","v":1433},5235,1218,0.84996510816468951,null,null,null,38,0.46216789417245868,null,null,null,null,"GA","Cumulative frequency","Proportion of NICU admissions","Estimated NICU admissions"]
[null,"31 weeks",{"$f":"INT(('Still birth data'!B28/'Still birth data'!$B$17)*'NICU admissions'!$D$49)","v":1840},6822,1587,0.86250000000000004,null,null,null,39,0.60225384289122619,null,null,null,null,28,{"$f":"0.00001975*EXP(0.26475079*P73)","v":3.2734197690431108E-2}]
[null,"32 weeks",{"$f":"INT(('Still birth data'!B29/'Still birth data'!$B$17)*'NICU admissions'!$D$49)","v":2804},8890,2068,0.73751783166904428,null,null,null,40,0.7848007095488625,null,null,null,null,29,4.2656135576710573E-2,{"$f":"Q74-Q73","v":9.9219378862794652E-3},{"$f":"R74*$L$46","v":934.56717338443536}]
[null,"33 weeks",{"$f":"INT(('Still birth data'!B30/'Still birth data'!$B$17)*'NICU admissions'!$D$49)","v":3755},11585,2695,0.7177097203728362,null,null,null,41,1.0226786611300041,null,null,null,null,30,5.5585474235423357E-2,{"$f":"Q75-Q74","v":1.2929338658712784E-2},{"$f":"R75*$L$46","v":1217.8402669414745}]
[null,"34 weeks",{"$f":"INT(('Still birth data'!B31/'Still birth data'!$B$17)*'NICU admissions'!$D$49)","v":6495},15097,3512,0.54072363356428021,null,null,null,42,1.3326588918757099,null,null,null,null,31,7.2433775451141713E-2,1.6848301215718356E-2,1586.9751881109435]
[null,"35 weeks",{"$f":"INT(('Still birth data'!B32/'Still birth data'!$B$17)*'NICU admissions'!$D$49)","v":9555},19673,4576,0.47891156462585033,null,null,null,null,null,null,null,null,null,32,9.4388901026283903E-2,2.195512557514219E-2,2067.9971881737933]
[null,"36 weeks",{"$f":"INT(('Still birth data'!B33/'Still birth data'!$B$17)*'NICU admissions'!$D$49)","v":21537},25636,5963,0.27687235919580255,null,null,null,null,null,null,null,null,null,33,0.12299876102632715,2.8609860000043244E-2,2694.819933124073]
[null,"37 weeks",{"$f":"INT(('Still birth data'!B34/'Still birth data'!$B$17)*'NICU admissions'!$D$49)","v":61019},33406,7770,0.12733738671561318,null,null,null,null,null,null,null,null,null,34,0.16028044663639751,3.7281685610070364E-2,3511.6365309837479]
[null,"38 weeks",{"$f":"INT(('Still birth data'!B35/'Still birth data'!$B$17)*'NICU admissions'!$D$49)","v":108041},null,null,null,null,null,null,null,null,null,null,null,null,35,0.20886244186203115,4.858199522563364E-2,4576.0352942928839]
[null,"39 weeks",{"$f":"INT(('Still birth data'!B36/'Still birth data'!$B$17)*'NICU admissions'!$D$49)","v":208887},null,null,null,null,null,null,null,null,null,null,null,null,36,0.27216994047646953,6.3307498614438379E-2,5963.0599094911795]
[null,"40 weeks",{"$f":"INT(('Still birth data'!B37/'Still birth data'!$B$17)*'NICU admissions'!$D$49)","v":161772},null,null,null,null,null,null,null,null,null,null,null,null,37,0.35466633368146683,8.2496393204997298E-2,7770.5002687651058]
[null,"41 weeks",{"$f":"INT(('Still birth data'!B38/'Still birth data'!$B$17)*'NICU admissions'!$D$49)","v":88742}]
[null,"42 weeks and above",{"$f":"INT(('Still birth data'!B39/'Still birth data'!$B$17)*'NICU admissions'!$D$49)","v":12804}]
[null,null,null,null,null,null,null,null,null,null,null,null,null,null,null,"GA","Live births","Estimated NICU admissions","NICU admission rate"]
[null,null,{"$f":"SUM(C64:C85)","v":693380},null,null,null,null,null,null,null,null,null,null,null,null,"28 weeks",{"$f":"C70","v":911},null," "]
[null,null,null,null,null,null,null,null,null,null,null,null,null,null,null,"29 weeks",{"$f":"C71","v":1055},934.56717338443536,{"$f":"R87/Q87","v":0.88584566197576808}]
[null,null,null,null,null,null,null,null,null,null,null,null,null,null,null,"30 weeks",1433,1217.8402669414745,{"$f":"R88/Q88","v":0.84985364057325508}]
[null,null,null,null,null,null,null,null,null,null,null,null,null,null,null,"31 weeks",1840,1586.9751881109435,0.86248651527768672]
[null,null,null,null,null,null,null,null,null,null,null,null,null,null,null,"32 weeks",2804,2067.9971881737933,0.73751682887795766]
[null,null,null,null,null,null,null,null,null,null,null,null,null,null,null,"33 weeks",3755,2694.819933124073,0.71766176647778246]
[null,null,null,null,null,null,null,null,null,null,null,null,null,null,null,"34 weeks",6495,3511.6365309837479,0.5406676722068896]
[null,25,1,{"$f":"($D$109*B93^6)+($E$109*B93^5)+($F$109*B93^4)+($G$109*B93^3)+($H$109*B93^2)+($I$109*B93)+$J$109","v":0.99530674378547701},null,null,null,null,null,null,null,null,null,null,null,"35 weeks",9555,4576.0352942928839,0.47891525842939653]
[null,26,0.64525993883792054,{"$f":"($D$109*B94^6)+($E$109*B94^5)+($F$109*B94^4)+($G$109*B94^3)+($H$109*B94^2)+($I$109*B94)+$J$109","v":0.66682578743711929},null,null,null,null,null,null,null,null,null,null,null,"36 weeks",21537,5963.0599094911795,0.27687514089665133]
[null,27,0.73271276595744683,0.69822205438322271,null,null,null,null,null,null,null,null,null,null,null,"37 weeks",61019,7770.5002687651058,0.12734558528925591]
[null,28,0.78704720087815583,0.80771944109801552]
[null,29,0.88530805687203795,0.87548418811275042]
[null,30,0.84996510816468951,0.87671556585337385,null,null,null,null,null,null,null,null,null,null,null,29,0.88584566197576808]
[null,31,0.86250000000000004,0.83004309140596888,null,null,null,null,null,null,null,null,null,null,null,30,0.84985364057325508]
[null,32,0.73751783166904428,0.76123027596258908,null,null,null,null,null,null,null,null,null,null,null,31,0.86248651527768672]
[null,33,0.7177097203728362,0.68218490312210633,null,null,null,null,null,null,null,null,null,null,null,32,0.73751682887795766]
[null,34,0.54072363356428021,0.58527583843897446,null,null,null,null,null,null,null,null,null,null,null,33,0.71766176647778246]
[null,35,0.47891156462585033,0.45295636923037819,null,null,null,null,null,null,null,null,null,null,null,34,0.5406676722068896]
[null,36,0.27687235919580255,0.28269407560219406,null,null,null,null,null,null,null,null,null,null,null,35,0.47891525842939653]
[null,37,0.12733738671561318,0.12720723254824406,null,null,null,null,null,null,null,null,null,null,null,36,0.27687514089665133]
[null,null,null,null,null,null,null,null,null,null,null,null,null,null,null,37,0.12734558528925591]
[]
[null,null,null,"x6","x5","x4","x3","x2","x1","constant"]
[null,null,null,{"$f":"LINEST(C93:C105,B93:B105^{1,2,3,4,5,6})","v":2.1259070643517289E-5},-4.0653242744383943E-3,0.32299214187973557,-13.646143826312061,323.31105985758114,-4072.2631465066534,21300.58299651113]
[]
[]
[]
[]
[null,null,null,null,null,null,null,null,null,null,null,null,null,null,null,null,null,"x2","x1","constant"]
[null,null,null,null,null,null,null,null,null,null,null,null,null,null,null,null,null,{"$f":"LINEST(Q98:Q106,P98:P106^{1,2})","v":-1.1425464982624143E-2},0.65879856425080141,-8.6132772576474093]
[]
[null,null,null,null,null,null,null,null,null,null,null,null,null,null,null,null,"Raw data","Smoothed"]
[null,null,null,null,null,null,null,null,null,null,null,null,null,null,null,24,1,1]
[null,null,null,null,null,null,null,null,null,null,null,null,null,null,null,25,1,1]
[null,null,null,null,null,null,null,null,null,null,null,null,null,null,null,26,1,1]
[null,null,null,null,null,null,null,null,null,null,null,null,null,null,null,27,1,1]
[null,null,null,null,null,null,null,null,null,null,null,null,null,null,null,28,1,1]
[null,null,null,null,null,null,null,null,null,null,null,null,null,null,null,29,0.88584566197576808,{"$f":"($R$115*P123^2)+($S$115*P123)+$T$115","v":0.88306505523892653}]
[null,null,null,null,null,null,null,null,null,null,null,null,null,null,null,30,0.84985364057325508,{"$f":"($R$115*P124^2)+($S$115*P124)+$T$115","v":0.86776118551490455}]
[null,null,null,null,null,null,null,null,null,null,null,null,null,null,null,31,0.86248651527768672,0.82960638582563284]
[null,null,null,null,null,null,null,null,null,null,null,null,null,null,null,32,0.73751682887795766,0.76860065617111317]
[null,null,"GA","LOS",null,null,null,null,null,null,null,null,null,null,null,33,0.71766176647778246,0.68474399655134555]
[null,null,25,92,null,null,null,null,null,null,null,null,null,null,null,34,0.5406676722068896,0.57803640696632996]
[null,null,29.5,44,null,null,null,null,null,null,null,null,null,null,null,35,0.47891525842939653,0.44847788741606465]
[null,null,34,12,null,null,null,null,null,null,null,null,null,null,null,36,0.27687514089665133,0.29606843790055315]
[null,null,37,4,null,null,null,null,null,null,null,null,null,null,null,37,0.12734558528925591,0.12080805841979192]
[]
[]
[]
[]
[]
[null,null,null,null,null,null,"x3","x2","x1","constant"]
[null,null,null,null,null,null,{"$f":"LINEST(D128:D131,C128:C131^{1,2,3})","v":1.6460905349794237E-2},-1.0617283950617289,10.444444444444482,237.26748971193354]
[]
[]
[null,"GA","NDAU 2017","NDAU smoothed"]
[null,24,92,{"$f":"INT(($G$138*B142^3)+($H$138*B142^2)+($I$138*B142)+$J$138)","v":103}]
[null,25,92,{"$f":"INT(($G$138*B143^3)+($H$138*B143^2)+($I$138*B143)+$J$138)","v":91}]
[null,26,92,80]
[null,27,92,69]
[null,28,44,58]
[null,29,44,48]
[null,30,44,39]
[null,31,44,31]
[null,32,12,23]
[null,33,12,17]
[null,34,12,11]
[null,35,12,7]
[null,36,12,5]
[null,37,4,3]
[]
[]
[]
[null,"To incorprate expert GC opinion on limitations of calculated proportions"]
[]
[]
[]
[null,"NDAU 2016 est","Smoothed NDAU est","GC estimate 1","GC estimate 2","GC estimate 3"]
[null,1,1,1,1,0.95]
[null,1,1,1,1,0.95]
[null,1,1,1,1,0.95]
[null,1,1,1,1,0.95]
[null,1,1,1,1,0.95]
[null,0.88584566197576808,0.88306505523892653,1,0.95,0.95]
[null,0.84985364057325508,0.86776118551490455,1,0.95,0.95]
[null,0.86248651527768672,0.82960638582563284,1,0.95,0.95]
[null,0.73751682887795766,0.76860065617111317,1,0.95,0.95]
[null,0.71766176647778246,0.68474399655134555,0.76318143262311011,0.74711000405168271,0.74711000405168271]
[null,0.5406676722068896,0.57803640696632996,0.57883261877359971,0.57883261877359615,0.57883261877359615]
[null,0.47891525842939653,0.44847788741606465,0.41462163694289345,0.42176449408575145,0.42176449408575145,null,null,null,null,null,null,null,null,null,"x2","x1","constant"]
[null,0.27687514089665133,0.29606843790055315,0.27054848713100199,0.27590562998814505,0.27590562998814505,null,null,null,null,null,null,null,null,null,{"$f":"LINEST(D182:D187,C182:C187^{1,2})","v":1.0068916009405446E-2},-0.85896618647967882,18.144016052209981]
[null,0.12734558528925591,0.12080805841979192,0.14661316933792179,0.14125602648077873,0.14125602648077873,null," ",null,null,null,null,null,null,null,{"$f":"LINEST(E182:E187,C182:C187^{1,2})","v":5.6046302951196988E-3},-0.54378761505110518,12.588658909352802]
[]
[]
[]
[null,null,"GA","GC estimate 1","GC estimate 2"]
[null,null,32,1,0.95]
[null,null,33,0.71766176647778246,0.71766176647778246]
[null,null,34,0.5406676722068896,0.5406676722068896]
[null,null,35,0.47891525842939653,0.47891525842939653]
[null,null,36,0.27687514089665133,0.27687514089665133]
[null,null,37,0.12734558528925591,0.12734558528925591]
[]
[]
[]
[null,null,"GA","GC estimate 1","GC estimate 2"]
[null,null,33,{"$f":"($P$176*C192^2)+($Q$176*C192)+$R$176","v":0.76318143262311011},{"$f":"($P$177*C192^2)+($Q$177*C192)+$R$177","v":0.74711000405168271}]
[null,null,34,{"$f":"($P$176*C193^2)+($Q$176*C193)+$R$176","v":0.57883261877359971},{"$f":"($P$177*C193^2)+($Q$177*C193)+$R$177","v":0.57883261877359615}]
[null,null,35,0.41462163694289345,0.42176449408575145]
[null,null,36,0.27054848713100199,0.27590562998814505]
[null,null,37,0.14661316933792179,0.14125602648077873]
[]
[]
[]
[]
[null,null,"GA","LOS","Intensive Care","HDU","Special Care","Normal","Cost"]
[null,null,24,103,{"$f":"7/14","v":0.5},{"$f":"2/14","v":0.14285714285714285},{"$f":"5/14","v":0.35714285714285715},null,{"$f":"(D202*E202*Cost_CritCare2)+(D202*F202*Cost_HDU)+(D202*G202*Cost_SCBU)+(D202*H202*Cost_CritCare1)","v":{"$error":"#NAME?"}}]
[null,null,25,91,{"$f":"6/13","v":0.46153846153846156},{"$f":"2/13","v":0.15384615384615385},{"$f":"5/13","v":0.38461538461538464},null,{"$error":"#NAME?"}]
[null,null,26,80,{"$f":"5/12","v":0.41666666666666669},{"$f":"2/12","v":0.16666666666666666},{"$f":"5/12","v":0.41666666666666669},null,{"$error":"#NAME?"}]
[null,null,27,69,{"$f":"4/11","v":0.36363636363636365},{"$f":"2/11","v":0.18181818181818182},{"$f":"5/11","v":0.45454545454545453},null,{"$error":"#NAME?"},null,null,{"$f":"Cost_CritCare2","v":1811},null,{"$f":"L205*E202*D202","v":93266.5}]
[null,null,28,58,{"$f":"3/10","v":0.3},{"$f":"2/10","v":0.2},{"$f":"5/10","v":0.5},null,{"$error":"#NAME?"},null,null,{"$f":"Cost_HDU","v":1226}]
[null,null,29,48,{"$f":"2/9","v":0.22222222222222221},{"$f":"2/9","v":0.22222222222222221},{"$f":"5/9","v":0.55555555555555558},null,{"$error":"#NAME?"},null,null,{"$f":"Cost_SCBU","v":873}]
[null,null,30,39,{"$f":"1/8","v":0.125},{"$f":"2/8","v":0.25},{"$f":"5/8","v":0.625},null,{"$error":"#NAME?"},null,null,{"$f":"Cost_CritCare1","v":{"$error":"#NAME?"}}]
[null,null,31,31,{"$f":"2/9","v":0.22222222222222221},{"$f":"2/9","v":0.22222222222222221},{"$f":"5/9","v":0.55555555555555558},null,{"$error":"#NAME?"}]
[null,null,32,23,{"$f":"2/9","v":0.22222222222222221},{"$f":"2/9","v":0.22222222222222221},{"$f":"5/9","v":0.55555555555555558},null,{"$error":"#NAME?"}]
[null,null,33,17,{"$f":"2/6","v":0.33333333333333331},null,{"$f":"4/6","v":0.66666666666666663},null,{"$error":"#NAME?"}]
[null,null,34,11,{"$f":"2/6","v":0.33333333333333331},null,{"$f":"4/6","v":0.66666666666666663},null,{"$error":"#NAME?"}]
[null,null,35,7,0.33333333333333331,null,0.66666666666666663,null,{"$error":"#NAME?"}]
[null,null,36,5,0.33333333333333331,null,0.66666666666666663,null,{"$error":"#NAME?"}]
[null,null,37,3,null,null,null,1,{"$error":"#NAME?"}]

{"sheet":"CP data","index":38,"n_rows":19,"n_cols":17,"rows_kept":19,"cut":false,"hidden":false,"merged":[]}
[]
[null,"An update on the prevalence of cerebral palsy: a systematic review and meta‐analysis - Oskoui - 2013 - Developmental Medicine & Child Neurology - Wiley Online Library"]
[]
[]
[null,null,null,null,null,null,null,null,null,null,null,null,null,null,"GA","Oskui 2013","NG137"]
[null,null,"GA","CP ",null,null,null,null,null,null,null,null,null,null,24,{"$f":"(0.0006*O6^2)-(0.0449*O6)+0.8501","v":0.11809999999999976},0.35909999999999997]
[null,null,26,8.2500000000000004E-2,null,null,null,null,null,null,null,null,null,null,25,{"$f":"(0.0006*O7^2)-(0.0449*O7)+0.8501","v":0.10259999999999991},0.23830000000000001]
[null,null,29.5,4.3150000000000001E-2,null,null,null,null,null,null,null,null,null,null,26,8.8299999999999934E-2,0.15809999999999999]
[null,null,34,6.7499999999999999E-3,null,null,null,null,null,null,null,null,null,null,27,7.5199999999999823E-2,0.10489999999999999]
[null,null,37,1.3500000000000001E-3,null,null,null,null,null,null,null,null,null,null,28,6.3299999999999801E-2,6.9599999999999995E-2]
[null,null,null,null,null,null,null,null,null,null,null,null,null,null,29,5.2599999999999869E-2,4.6199999999999998E-2]
[null,null,null,null,null,null,null,null,null,null,null,null,null,null,30,4.3099999999999916E-2,3.0700000000000002E-2]
[null,null,null,null,null,null,null,null,null,null,null,null,null,null,31,3.4799999999999831E-2,2.0400000000000001E-2]
[null,null,null,null,null,null,null,null,null,null,null,null,null,null,32,2.7699999999999836E-2,1.35E-2]
[null,null,null,null,null,null,null,null,null,null,null,null,null,null,33,2.1799999999999931E-2,8.9999999999999993E-3]
[null,null,null,null,null,null,null,null,null,null,null,null,null,null,34,1.7099999999999782E-2,6.0000000000000001E-3]
[null,null,null,null,null,null,null,null,null,null,null,null,null,null,35,1.3599999999999834E-2,3.8999999999999998E-3]
[null,null,null,null,null,null,null,null,null,null,null,null,null,null,36,1.1299999999999866E-2,2.5999999999999999E-3]
[null,null,null,null,null,null,null,null,null,null,null,null,null,null,37,1.0199999999999876E-2,1.6999999999999999E-3]

{"sheet":"RDS & IVH by GA","index":39,"n_rows":98,"n_cols":30,"rows_kept":98,"cut":false,"hidden":false,"merged":[]}
[]
[]
[null,null,"Ross","Medscape Registration"]
[]
[]
[]
[]
[null,null,null,null,null,null,null,null,null,null,null,null,null,null,null,null,null,null,null,null,null,null,null,null,"RDS"]
[]
[null,null,null,null,null,null,null,null,null,"GA","RDS","IVH",null,null,null,null,null,null,null,null,null,null,null,null,"x4","x3","x2","x1","constant"]
[null,null,null,null,null,null,null,null,null,24,0.7,0.25,null,null,null,null,null,null,null,null,null,null,null,null,{"$f":"LINEST(K11:K24,J11:J24^{1,2,3,4})","v":-2.6063091320451247E-4},3.2968557178124622E-2,-1.5522338415265196,32.153053784459011,-246.13938954434153]
[null,null,null,null,null,null,null,null,null,25,0.9,0.3]
[null,null,null,null,null,null,null,null,null,26,0.93,0.3,null,null,null,null,null,null,null,null,null,null,null,null,"IVH"]
[null,null,null,null,null,null,null,null,null,27,0.84,0.16]
[null,null,null,null,null,null,null,null,null,28,0.65,0.04,null,null,null,null,null,null,null,null,null,null,null,null,"x5","x4","x3","x2","x1","constant"]
[null,null,null,null,null,null,null,null,null,29,0.53,0.03,null,null,null,null,null,null,null,null,null,null,null,null,{"$f":"LINEST(L11:L21,J11:J21^{1,2,3,4,5})","v":1.1217948716119986E-4},-1.6825466197804669E-2,1.0055842073048069,-29.92612324728573,443.31330121779865,-2613.9831814495165]
[null,null,null,null,null,null,null,null,null,30,0.55000000000000004,0.02]
[null,null,null,null,null,null,null,null,null,31,0.37,0.02]
[null,null,null,null,null,null,null,null,null,32,0.28000000000000003,0.01]
[null,null,null,null,null,null,null,null,null,33,0.34,0]
[null,null,null,null,null,null,null,null,null,34,0.14000000000000001,0]
[null,null,null,null,null,null,null,null,null,35,0.12]
[null,null,null,null,null,null,null,null,null,36,7.0000000000000007E-2]
[null,null,null,null,null,null,null,null,null,37,3.5000000000000003E-2]
[]
[]
[]
[]
[]
[]
[]
[]
[]
[]
[]
[]
[]
[]
[]
[]
[]
[null,null,null,null,"Neonatal Respiratory Distress Syndrome - StatPearls - NCBI Bookshelf (nih.gov)"]
[]
[null,null,null,null,"GA","RDS"]
[null,null,null,null,24,0.98]
[null,null,null,null,34,0.05]
[null,null,null,null,37,0]
[]
[]
[]
[]
[]
[]
[]
[]
[]
[]
[]
[]
[]
[]
[]
[null,"RDS"]
[null,null,null,null,null,null,null,null,null,null,null,"x2","x1","constant"]
[null,"GA","Ross 2021","Ross smoothed","Yadav 2023",null,null,null,null,null,null,{"$f":"LINEST(F45:F47,E45:E47^{1,2})","v":5.8717948717948772E-3},-0.43356410256410299,8.0033846153846238]
[null,24,0.7,{"$f":"($Y$11*B66^4)+($Z$11*B66^3)+($AA$11*B66^2)+($AB$11*B66)+$AC$11","v":0.73346113445390415},{"$f":"($L$65*B66^2)+($M$65*B66)+$N$65","v":0.9800000000000022}]
[null,25,0.9,{"$f":"($Y$11*B67^4)+($Z$11*B67^3)+($AA$11*B67^2)+($AB$11*B67)+$AC$11","v":0.86555955074365443},{"$f":"($L$65*B67^2)+($M$65*B67)+$N$65","v":0.83415384615384713}]
[null,26,0.93,0.8832207498385003,0.70005128205128209]
[null,27,0.84,0.82474995592664868,0.57769230769230884]
[null,28,0.65,0.72219725127817469,0.46707692307692383]
[null,29,0.53,0.60135757624740904,0.36820512820512885]
[null,30,0.55000000000000004,0.48177072927077802,0.281076923076923]
[null,31,0.37,0.37672136686862245,0.20569230769230806]
[null,32,0.28000000000000003,0.29323900364360611,0.14205128205128226]
[null,33,0.34,0.23209801228207994,9.0153846153845585E-2,null,null,null,null,null,null,null,null,null,null,null,null," "]
[null,34,0.14000000000000001,0.18781762355305887,5.0000000000000711E-2]
[null,35,0.12,{"$f":"($Y$11*B77^4)+($Z$11*B77^3)+($AA$11*B77^2)+($AB$11*B77)+$AC$11","v":0.14866192630901764},{"$f":"($L$65*B77^2)+($M$65*B77)+$N$65","v":2.1589743589744081E-2}]
[null,36,7.0000000000000007E-2,{"$f":"($Y$11*B78^4)+($Z$11*B78^3)+($AA$11*B78^2)+($AB$11*B78)+$AC$11","v":9.6639867485549757E-2},{"$f":"($L$65*B78^2)+($M$65*B78)+$N$65","v":4.9230769230765858E-3}]
[null,37,3.5000000000000003E-2,{"$f":"($Y$11*B79^4)+($Z$11*B79^3)+($AA$11*B79^2)+($AB$11*B79)+$AC$11","v":7.5052521009126849E-3},{"$f":"($L$65*B79^2)+($M$65*B79)+$N$65","v":0}]
[]
[]
[null,"IVH"]
[]
[null,"GA","Ross 2021","Ross smoothed"]
[null,24,0.25,{"$f":"($Y$16*B85^5)+($Z$16*B85^4)+($AA$16*B85^3)+($AB$16*B85^2)+($AC$16*B85)+$AD$16","v":0.24234265734321525}]
[null,25,0.3,{"$f":"($Y$16*B86^5)+($Z$16*B86^4)+($AA$16*B86^3)+($AB$16*B86^2)+($AC$16*B86)+$AD$16","v":0.33062937062004494}]
[null,26,0.3,0.26378787878547882]
[null,27,0.16,0.15650349650150019]
[null,28,0.04,6.965034965378436E-2]
[null,29,0.03,2.3752913753014582E-2]
[null,30,0.02,1.2447552445337351E-2]
[null,31,0.02,1.5944055940963153E-2]
[null,32,0.01,1.4487179490060953E-2]
[null,33,0,1.8181818313678377E-3]
[null,34,0,0]
[null,35,0,0]
[null,36,0,0]
[null,37,0,0]

{"sheet":"QALY data sources","index":40,"n_rows":268,"n_cols":15,"rows_kept":268,"cut":false,"hidden":false,"merged":[]}
[]
[]
[null,null,"QALY loss"]
[null,"Stillbirth",{"$f":"G59","v":25.349088564302072}]
[null,"NND",{"$f":"G59","v":25.349088564302072}]
[null,"Post neo-natal death",{"$f":"G59","v":25.349088564302072}]
[null,"CP",{"$f":"C33","v":11.149088564302073},null,"See below"]
[null,"IVH",4.5,null,"see NG25"]
[null,"RDS",{"$f":"C4-H171","v":1.4965158165134547},null,"Cost-effectiveness of a trial of labor after previous cesarean - PubMed (nih.gov)",null,null,null,null,null,null,null,null,"but also see NG25 and QALY loss = 3.85"]
[]
[null,"Kind 1999 Table A"]
[null,"Mean HSU",0.86]
[null,"Count",3392]
[null,"SD",0.23]
[null,"SE"]
[]
[null,"Life Expectancy","Proportion"]
["Males",79.459999999999994,{"$f":"I25/H25","v":0.51247975378290278}]
["Females",83.1,{"$f":"1-C18","v":0.48752024621709722}]
["All",{"$f":"(B18*C18)+(B19*C19)","v":81.234573696230228}]
[]
[null,"ONS life tables 2018-20",null,null,null,null,null,"England and Wales"]
[]
[null,null,null,null,null,null,"Year","Total"," Males"," Females"]
[null,null,null,null,null,null,2021,692722,355006,337716]
[]
[]
[]
[null,"Cahill (2011) - see preterm labour guideline"]
[null,"CP Life expectancy",60,null,"NOT Updating"]
[null,"HSU",0.55000000000000004,null,"NOT Updating"]
[null,"Lifetime QALY",14.2]
[null,"Loss",{"$f":"C4-C32","v":11.149088564302073}]
[]
[]
[null,"QALY from life lived in full life expectancy (using a discount rate of 3.5%)"]
[]
[null,"National Life Tables, United Kingdom, period expectation of life, based on data for the years 2018-2020"]
[null,"This worksheet contains two tables, presented horizontally with one blank column in between the tables."]
[null,"This worksheet uses notation in the column headers, please see the notation worksheet for explanations."]
[null,{"$f":"HYPERLINK(\"#'Contents'!A1\", \"Back to contents\")","v":"Back to contents"}]
[null,"National life tables, Males",null,null,null,null,null,null,"National life tables, Females"]
[null,"age","mx","qx","lx","dx","ex","","age","mx","qx","lx","dx","ex"]
[null,0,4.2329999999999998E-3,4.2240000000000003E-3,100000,422.4,79.040000000000006,"",0,3.509E-3,3.503E-3,100000,350.3,82.86]
[]
[]
[]
[]
[]
[]
[]
[]
[]
[]
[]
[null,"Discounted QALYs"]
[]
[null,"Year","QALYs","Discounted QALYs","Cum QALY",null,null,"Weighted lifetime discounted QALY"]
[null,null,null,null,null,null,{"$f":"(E138*I25/H25)+(E142*J25/H25)","v":25.349088564302072}]
[null,1,0.94,0.94,0.94]
[null,2,0.94,0.90821256038647347,1.8482125603864734]
[null,3,0.94,0.8775000583444188,2.725712618730892]
[null,4,0.94,0.84782614332794104,3.573538762058833]
[null,5,0.94,0.819155694036658,4.3926944560954908]
[null,6,0.94,0.79145477684701271,5.1841492329425032]
[null,7,0.94,0.76469060564928759,5.9488398385917911]
[null,8,0.94,0.73883150304278999,6.687671341634581]
[null,9,0.94,0.71384686284327548,7.4015182044778562]
[null,10,0.94,0.68970711385823724,8.0912253183360932]
[null,11,0.94,0.6663836848871858,8.7576090032232798]
[null,12,0.94,0.64384897090549353,9.4014579741287729]
[null,13,0.94,0.62207630039178119,10.023534274520554]
[null,14,0.94,0.60103990376017524,10.624574178280728]
[null,15,0.94,0.58071488286007256,11.2052890611408]
[null,16,0.94,0.56107718150731656,11.766366242648116]
[null,17,0.94,0.54210355701190016,12.308469799660017]
[null,18,0.94,0.52377155266850262,12.83224135232852]
[null,19,0.94,0.50605947117729733,13.338300823505817]
[null,20,0.94,0.48894634896357231,13.82724717246939]
[null,21,0.94,0.47241193136577037,14.299659103835159]
[null,22,0.94,0.45643664866258016,14.756095752497739]
[null,23,0.94,0.44100159291070545,15.197097345408444]
[null,24,0.94,0.42608849556589901,15.623185840974344]
[null,25,0.93,0.40730013452182773,16.030485975496173]
[null,26,0.93,0.39352670002108964,16.424012675517265]
[null,27,0.93,0.38021903383680156,16.804231709354067]
[null,28,0.93,0.36736138534956675,17.171593094703635]
[null,29,0.93,0.3549385365696297,17.526531631273265]
[null,30,0.93,0.34293578412524617,17.86946741539851]
[null,31,0.93,0.33133892186014119,18.200806337258651]
[null,32,0.93,0.32013422401946012,18.52094056127811]
[null,33,0.93,0.30930842900430938,18.830248990282421]
[null,34,0.93,0.29884872367566129,19.129097713958082]
[null,35,0.91,0.28253320715272118,19.411630921110802]
[null,36,0.91,0.27297894410890938,19.684609865219713]
[null,37,0.91,0.26374777208590278,19.948357637305616]
[null,38,0.91,0.25482876530038917,20.203186402606004]
[null,39,0.91,0.24621136743998953,20.449397770045994]
[null,40,0.91,0.23788537916907207,20.687283149215066]
[null,41,0.91,0.2298409460570745,20.91712409527214]
[null,42,0.91,0.22206854691504788,21.139192642187187]
[null,43,0.91,0.21455898252661629,21.353751624713802]
[null,44,0.91,0.20730336476001571,21.561054989473817]
[null,45,0.85,0.18708696718799531,21.748141956661811]
[null,46,0.85,0.18076035477100999,21.928902311432822]
[null,47,0.85,0.17464768576909173,22.103549997201913]
[null,48,0.85,0.16874172538076501,22.272291722582679]
[null,49,0.85,0.16303548345967636,22.435327206042356]
[null,50,0.85,0.15752220624123323,22.592849412283588]
[null,51,0.85,0.15219536834901762,22.745044780632604]
[null,52,0.85,0.14704866507151462,22.89209344570412]
[null,53,0.85,0.14207600490001412,23.034169450604136]
[null,54,0.85,0.13727150231885427,23.171440952922989]
[null,55,0.81,0.12638808397643872,23.297829036899429]
[null,56,0.81,0.1221140907984915,23.41994312769792]
[null,57,0.81,0.11798462879081309,23.537927756488735]
[null,58,0.81,0.11399481042590637,23.651922566914642]
[null,59,0.81,0.110139913454982,23.762062480369625]
[null,60,0.81,0.10641537531882318,23.868477855688447]
[null,61,0.81,0.10281678774765525,23.971294643436103]
[null,62,0.81,9.9339891543628295E-2,24.070634534979732]
[null,63,0.81,9.5980571539737478E-2,24.166615106519469]
[null,64,0.81,9.2734851729214959E-2,24.259349958248684]
[null,65,0.78,8.6280413131493622E-2,24.345630371380178]
[null,66,0.78,8.3362718001443126E-2,24.428993089381621]
[null,67,0.78,8.0543688890283224E-2,24.509536778271904]
[null,68,0.78,7.7819989265974124E-2,24.58735676753788]
[null,69,0.78,7.5188395426061955E-2,24.662545162963941]
[null,70,0.78,7.2645792682185489E-2,24.735190955646125]
[null,71,0.78,7.0189171673609149E-2,24.805380127319733]
[null,72,0.78,6.7815624805419486E-2,24.873195752125152]
[null,73,0.78,6.5522342807168593E-2,24.93871809493232]
[null,74,0.78,6.3306611407892371E-2,25.002024706340212]
[null,75,0.71,5.5676568932990937E-2,25.057701275273203]
[null,76,0.71,5.3793786408686893E-2,25.111495061681889]
[null,77,0.71,5.1974672858634684E-2,25.163469734540524]
[null,78,0.71,5.0217075225734001E-2,25.213686809766259]
[null,79,0.71,4.8518913261578742E-2,25.262205723027837,"Males"]
[null,80,0.71,4.6878177064327294E-2,25.309083900092165]
[null,81,0.71,4.5292924699833141E-2,25.354376824791999]
[null,82,0.71,4.3761279903220429E-2,25.398138104695217]
[null,83,0.71,4.2281429858183991E-2,25.440419534553403,"Females"]
[null,84,0.71,4.0851623051385504E-2,25.481271157604787]
[]
[]
[]
[]
[null,null,null,null,null,null,null,null,null,null,null,null,null,null,"Survival and mortality in cerebral palsy: observations to the sixth decade from a data linkage study of a total population register and National Death Index | BMC Neurology (springer.com)"]
[]
[]
[]
[]
[]
[]
[]
[]
[]
[]
[]
[]
[]
[]
[]
[]
[null,"RDS QALYs","Using a weight of 0.87 (for when lower than population values) but then using population values and assuming normal life expectancy"]
[]
[null,"Year","QALYs","Discounted QALYs","Cum QALY"]
[]
[null,1,0.87,0.87,0.87]
[null,2,0.87,0.84057971014492761,1.7105797101449276,null,null,"Weighted lifetime discounted QALY"]
[null,3,0.87,0.81215430931877064,2.522734019463698,null,null,{"$f":"(E247*I25/H25)+(E251*J25/H25)","v":23.852572747788617}]
[null,4,0.87,0.78469015393117947,3.3074241733948773]
[null,5,0.87,0.75815473809775802,4.0655789114926355]
[null,6,0.87,0.732516655166916,4.7980955666595513]
[null,7,0.87,0.70774556054774496,5.5058411272072965]
[null,8,0.87,0.68381213579492273,6.189653263002219]
[null,9,0.87,0.66068805390813801,6.8503413169103569]
[null,10,0.87,0.63834594580496429,7.4886872627153211]
[null,11,0.87,0.61675936792750174,8.1054466306428221]
[null,12,0.87,0.5959027709444461,8.7013494015872688]
[null,13,0.87,0.57575146951154221,9.2771008710988117]
[null,14,0.87,0.55628161305463031,9.8333824841534412]
[null,15,0.87,0.53747015754070548,10.370852641694146]
[null,16,0.87,0.51929483820358024,10.890147479897726]
[null,17,0.87,0.50173414319186516,11.39188162308959]
[null,18,0.87,0.48476728810808223,11.876648911197673]
[null,19,0.87,0.46837419140877518,12.345023102606449]
[null,20,0.87,0.4525354506364978,12.797558553242947]
[null,21,0.87,0.43723231945555346,13.2347908726985]
[null,22,0.87,0.42244668546430292,13.657237558162803]
[null,23,0.87,0.40816104875778059,14.065398606920583]
[null,24,0.87,0.39435850121524696,14.459757108135831]
[null,25,0.87,0.38102270648816139,14.840779814623993]
[null,26,0.87,0.36813788066489028,15.208917695288882]
[null,27,0.87,0.35568877358926598,15.564606468878148]
[null,28,0.87,0.34366065081088498,15.908267119689032]
[null,29,0.87,0.3320392761457826,16.240306395834814]
[null,30,0.87,0.32081089482684316,16.561117290661656]
[null,31,0.87,0.30996221722400302,16.871079507885661]
[null,32,0.87,0.29948040311497881,17.170559911000641]
[null,33,0.87,0.28935304648790233,17.459912957488545]
[null,34,0.87,0.27956816085787667,17.739481118346422]
[null,35,0.87,0.27011416508007408,18.009595283426496]
[null,36,0.87,0.26097986964258368,18.270575153069078]
[null,37,0.87,0.25215446342278619,18.522729616491866]
[null,38,0.87,0.24362750089158086,18.766357117383446]
[null,39,0.87,0.23538888975031966,19.001746007133764]
[null,40,0.87,0.22742887898581612,19.22917488611958]
[null,41,0.87,0.219738047329291,19.44891293344887]
[null,42,0.87,0.21230729210559521,19.661220225554466]
[null,43,0.87,0.20512781845951228,19.866348044013979]
[null,44,0.87,0.19819112894638866,20.064539172960366]
[null,45,0.85,0.18708696718799531,20.25162614014836]
[null,46,0.85,0.18076035477100999,20.432386494919371]
[null,47,0.85,0.17464768576909173,20.607034180688462]
[null,48,0.85,0.16874172538076501,20.775775906069228]
[null,49,0.85,0.16303548345967636,20.938811389528905]
[null,50,0.85,0.15752220624123323,21.096333595770137]
[null,51,0.85,0.15219536834901762,21.248528964119153]
[null,52,0.85,0.14704866507151462,21.395577629190669]
[null,53,0.85,0.14207600490001412,21.537653634090685]
[null,54,0.85,0.13727150231885427,21.674925136409538]
[null,55,0.81,0.12638808397643872,21.801313220385978]
[null,56,0.81,0.1221140907984915,21.923427311184469]
[null,57,0.81,0.11798462879081309,22.041411939975283]
[null,58,0.81,0.11399481042590637,22.155406750401191]
[null,59,0.81,0.110139913454982,22.265546663856174]
[null,60,0.81,0.10641537531882318,22.371962039174996]
[null,61,0.81,0.10281678774765525,22.474778826922652]
[null,62,0.81,9.9339891543628295E-2,22.574118718466281]
[null,63,0.81,9.5980571539737478E-2,22.670099290006018]
[null,64,0.81,9.2734851729214959E-2,22.762834141735233]
[null,65,0.78,8.6280413131493622E-2,22.849114554866727]
[null,66,0.78,8.3362718001443126E-2,22.932477272868169]
[null,67,0.78,8.0543688890283224E-2,23.013020961758453]
[null,68,0.78,7.7819989265974124E-2,23.090840951024429]
[null,69,0.78,7.5188395426061955E-2,23.16602934645049]
[null,70,0.78,7.2645792682185489E-2,23.238675139132674]
[null,71,0.78,7.0189171673609149E-2,23.308864310806282]
[null,72,0.78,6.7815624805419486E-2,23.376679935611701]
[null,73,0.78,6.5522342807168593E-2,23.442202278418868]
[null,74,0.78,6.3306611407892371E-2,23.505508889826761]
[null,75,0.71,5.5676568932990937E-2,23.561185458759752]
[null,76,0.71,5.3793786408686893E-2,23.614979245168438]
[null,77,0.71,5.1974672858634684E-2,23.666953918027072]
[null,78,0.71,5.0217075225734001E-2,23.717170993252807]
[null,79,0.71,4.8518913261578742E-2,23.765689906514385]
[null,80,0.71,4.6878177064327294E-2,23.812568083578714]
[null,81,0.71,4.5292924699833141E-2,23.857861008278547]
[null,82,0.71,4.3761279903220429E-2,23.901622288181766]
[null,83,0.71,4.2281429858183991E-2,23.943903718039952]
[null,84,0.71,4.0851623051385504E-2,23.984755341091336]
[null,85,0.61769999999999992,3.4339045463483472E-2,24.019094386554819]
[null,86,0.61769999999999992,3.3177821703848767E-2,24.052272208258668]
[null,87,0.61769999999999992,3.2055866380530207E-2,24.084328074639199]
[null,88,0.61769999999999992,3.0971851575391507E-2,24.11529992621459]
[null,89,0.61769999999999992,2.9924494275740596E-2,24.145224420490329]
[null,90,0.61769999999999992,2.8912554855788017E-2,24.174136975346116]
[null,91,0.61769999999999992,2.7934835609457021E-2,24.202071810955573]
[null,92,0.61769999999999992,2.6990179332808714E-2,24.229061990288383]
[null,93,0.61769999999999992,2.6077467954404555E-2,24.255139458242787]
[null,94,0.61769999999999992,2.5195621211985084E-2,24.280335079454773]
[null,95,0.61769999999999992,2.434359537389863E-2,24.304678674828672]
[null,96,0.61769999999999992,2.3520382003766795E-2,24.328199056832439]
[null,97,0.61769999999999992,2.2725006766924443E-2,24.350924063599365]
[null,98,0.61769999999999992,2.1956528277221686E-2,24.372880591876587]
[null,99,0.61769999999999992,2.1214036982822888E-2,24.39409462885941]
[null,100,0.61769999999999992,2.0496654089683951E-2,24.414591282949093]

{"sheet":"Cost calcs","index":41,"n_rows":10,"n_cols":14,"rows_kept":10,"cut":false,"hidden":false,"merged":[[0,1,0,11]]}
[null,"Per woman",null,null,null,null,null,null,null,null,null,null,null,"Cohort"]
["Strategy","Screening Cost","Treatment cost","Antenatal appointments","Stillbirths","Neonatal death","Post neonatal death","CP costs","IVH costs","RDS Costs","NICU admissions","Post Neonatal discharge",null,"Total"]
["Baseline (No Screen/No Treat)",0,0,{"$f":"'Markov Transitions'!X238","v":8.481371416646958},{"$f":"'Markov Transitions'!W6*Cost_stillbirth","v":0},{"$f":"'Markov Transitions'!W7*Cost_NND","v":0},{"$f":"'Markov Transitions'!W9*Cost_NND","v":0},{"$f":"'Markov Transitions'!W14*Cost_CP","v":119.07083999590093},{"$f":"'Markov Transitions'!W13*Cost_IVH","v":48.724658885059405},{"$f":"'Markov Transitions'!W12*Cost_RDS","v":40.443781876110648},{"$f":"'Markov Transitions'!X249","v":1423.7038104680562},{"$f":"'Markov Transitions'!X264","v":53.233945071569835},null,{"$f":"SUM(B3:M3)*Cohort","v":1693.6584077133441}]
["Cervical length ≤ 25mm",{"$f":"Cost_screening","v":142},{"$f":"'Markov Transitions'!X350+'Markov Transitions'!IX339+'Markov Transitions'!X328+'Markov Transitions'!X317+'Markov Transitions'!X306","v":2.2943181818181819},{"$f":"'Markov Transitions'!X243","v":11.311135987391769},{"$f":"'Markov Transitions'!W164*Cost_stillbirth","v":0},{"$f":"'Markov Transitions'!W165*Cost_NND","v":0},{"$f":"'Markov Transitions'!W167*Cost_NND","v":0},{"$f":"'Markov Transitions'!W172*Cost_CP","v":81.375557684737714},{"$f":"'Markov Transitions'!W171*Cost_IVH","v":23.662502436992447},{"$f":"'Markov Transitions'!W170*Cost_RDS","v":24.693612431157824},{"$f":"'Markov Transitions'!X254","v":887.23606996434376},{"$f":"'Markov Transitions'!X294","v":57.396900880574847},null,{"$f":"SUM(B4:M4)*Cohort","v":1229.9700975670164}]
[]
[]
[null,null,null,null,null,null,null,null,null,null,{"$f":"K3-K4","v":536.46774050371243}]
[null,null,null,null,null,null,null,null,null,null,null,null,null," "]
[]
[null,null,null,null,null,null,null,null,null,null,null,null,null," "]

{"sheet":"QALY calcs","index":42,"n_rows":8,"n_cols":10,"rows_kept":8,"cut":false,"hidden":false,"merged":[[0,1,0,6]]}
[null,"QALY losses",null,null,null,null,null,"Total",null,"Total QALYs"]
["Strategy","Stillbirths","Neonatal deaths","Post-Neonatal Deaths","Cerebral Palsy","Intraventricular haemorrhage","Respiratory distress syndrome"]
["No Screen/treatment",{"$f":"'Clinical calcs'!B3*QALY_stillbirth","v":0},{"$f":"'Clinical calcs'!C3*QALY_NND","v":5.9056285603743326E-2},{"$f":"'Clinical calcs'!D3*QALY_PND","v":1.3179557584761676E-2},{"$f":"'Clinical calcs'!E3*QALY_CP","v":1.4056982921154672E-2},{"$f":"'Clinical calcs'!F3*QALY_IVH","v":7.738440212563257E-3},{"$f":"'Clinical calcs'!G3*QALY_RDS","v":1.3330185193180834E-2},{"$f":"Cohort*SUM(B3:G3)","v":0.10736145151540377},null,{"$f":"Cohort*(2*(QALY_stillbirth*SUM('Distribution Data'!$K$13:$K$17))-H3)","v":0.39675786666641444}]
["Cervical length ≤ 25mm",{"$f":"'Clinical calcs'!B4*QALY_stillbirth","v":0},{"$f":"'Clinical calcs'!C4*QALY_NND","v":3.1334411416106329E-2},{"$f":"'Clinical calcs'!D4*QALY_PND","v":9.2811222413322954E-3},{"$f":"'Clinical calcs'!E4*QALY_CP","v":9.6068426544498563E-3},{"$f":"'Clinical calcs'!F4*QALY_IVH","v":3.7580737264934715E-3},{"$f":"'Clinical calcs'!G4*QALY_RDS","v":8.1389625679491838E-3},{"$f":"Cohort*SUM(B4:G4)","v":6.2119412606331137E-2},null,{"$f":"Cohort*(2*(QALY_stillbirth*SUM('Distribution Data'!$K$13:$K$17))-H4)","v":0.44199990557548707}]
[]
[null,null,null,null,null,null,null,{"$f":"H3-H4","v":4.5242038909072635E-2}]
[null," ",null,null,null,null,null,null,null," "]
[null,null,null,null,null,null,null,{"$f":"144/H6","v":3182.8804243197555},null," "]

{"sheet":"Markov Transitions","index":43,"n_rows":355,"n_cols":28,"rows_kept":355,"cut":false,"hidden":false,"merged":[[188,2,188,5],[233,2,233,5],[244,2,244,5],[257,2,257,5],[295,2,295,5]]}
[]
[null,null,null,null,null,null,null,null,"Baseline"]
[null,null,null,null,null,null,null,null,null,24,25,26,27,28,29,30,31,32,33,34,35,36,37,"28 days","1-year"]
[null,null,null,null,null,null,null,null,"On-going Pregnancy",{"$f":"SUM('Distribution Data'!$K$13:$K$17)-J5","v":8.8292911431106617E-3},{"$f":"SUM('Distribution Data'!$K$13:$K$17)-K5","v":7.6842769649186835E-3},{"$f":"SUM('Distribution Data'!$K$13:$K$17)-L5","v":6.5582386363641854E-3},{"$f":"SUM('Distribution Data'!$K$13:$K$17)-M5","v":5.4915326151126088E-3},{"$f":"SUM('Distribution Data'!$K$13:$K$17)-N5","v":4.514772463737971E-3},{"$f":"SUM('Distribution Data'!$K$13:$K$17)-O5","v":3.6488288497220555E-3},{"$f":"SUM('Distribution Data'!$K$13:$K$17)-P5","v":2.9048295454546192E-3},{"$f":"SUM('Distribution Data'!$K$13:$K$17)-Q5","v":2.2841594282342319E-3},{"$f":"SUM('Distribution Data'!$K$13:$K$17)-R5","v":1.7784604802665287E-3},{"$f":"SUM('Distribution Data'!$K$13:$K$17)-S5","v":1.3696317886661008E-3},{"$f":"SUM('Distribution Data'!$K$13:$K$17)-T5","v":1.0298295454545334E-3},{"$f":"SUM('Distribution Data'!$K$13:$K$17)-U5","v":7.2146704756271933E-4},{"$f":"SUM('Distribution Data'!$K$13:$K$17)-V5","v":3.97214696829103E-4},{"$f":"SUM('Distribution Data'!$K$13:$K$17)-W5","v":0}]
[null,null,null,null,null,null,null,null,"Twin birth (pregnancies)",{"$f":"'Kindinger Smoothing and Tx'!V31","v":1.1138906750711569E-3},{"$f":"'Kindinger Smoothing and Tx'!V32","v":2.2589048532631341E-3},{"$f":"'Kindinger Smoothing and Tx'!V33","v":3.3849431818176326E-3},{"$f":"'Kindinger Smoothing and Tx'!V34","v":4.4516492030692092E-3},{"$f":"'Kindinger Smoothing and Tx'!V35","v":5.428409354443847E-3},{"$f":"'Kindinger Smoothing and Tx'!V36","v":6.2943529684597625E-3},{"$f":"'Kindinger Smoothing and Tx'!V37","v":7.0383522727271988E-3},{"$f":"'Kindinger Smoothing and Tx'!V38","v":7.6590223899475861E-3},{"$f":"'Kindinger Smoothing and Tx'!V39","v":8.1647213379152893E-3},{"$f":"'Kindinger Smoothing and Tx'!V40","v":8.5735500295157172E-3},{"$f":"'Kindinger Smoothing and Tx'!V41","v":8.9133522727272846E-3},{"$f":"'Kindinger Smoothing and Tx'!V42","v":9.2217147706190987E-3},{"$f":"'Kindinger Smoothing and Tx'!V43","v":9.545967121352715E-3},{"$f":"'Kindinger Smoothing and Tx'!V44","v":9.943181818181818E-3}]
[null,null,null,null,null,null,null,null,"Stillbirths",{"$f":"2*(J5*Stillbirth24)","v":0},{"$f":"J6+(2*(K5-J5)*Stillbirth25)","v":0},{"$f":"K6+(2*(L5-K5)*Stillbirth26)","v":0},{"$f":"L6+(2*(M5-L5)*Stillbirth27)","v":0},{"$f":"M6+(2*(N5-M5)*Stillbirth28)","v":0},{"$f":"N6+(2*(O5-N5)*Stillbirth29)","v":0},{"$f":"O6+(2*(P5-O5)*Stillbirth30)","v":0},{"$f":"P6+(2*(Q5-P5)*Stillbirth31)","v":0},{"$f":"Q6+(2*(R5-Q5)*Stillbirth32)","v":0},{"$f":"R6+(2*(S5-R5)*Stillbirth33)","v":0},{"$f":"S6+(2*(T5-S5)*Stillbirth34)","v":0},{"$f":"T6+(2*(U5-T5)*Stillbirth35)","v":0},{"$f":"U6+(2*(V5-U5)*Stillbirth36)","v":0},{"$f":"V6+(2*(W5-V5)*Stillbirth37)","v":0}]
[null,null,null,null,null,null,null,null,"NND",{"$f":"((2*J5)-J6)*NND_24","v":9.4760280494258966E-4},{"$f":"J7+((2*(K5-J5))-(K6-J6))*NND_25","v":1.5384121998550013E-3},{"$f":"K7+((2*(L5-K5))-(L6-K6))*NND_26","v":1.8908175238008067E-3},{"$f":"L7+((2*(M5-L5))-(M6-L6))*NND_27","v":2.0932996968405001E-3},{"$f":"M7+((2*(N5-M5))-(N6-M6))*NND_28","v":2.2057557245947429E-3},{"$f":"N7+((2*(O5-N5))-(O6-N6))*NND_29","v":2.2662253360918655E-3},{"$f":"O7+((2*(P5-O5))-(P6-O6))*NND_30","v":2.2977371100878757E-3},{"$f":"P7+((2*(Q5-P5))-(Q6-P6))*NND_31","v":2.3136817207485721E-3},{"$f":"Q7+((2*(R5-Q5))-(R6-Q6))*NND_32","v":2.3215612068144147E-3},{"$f":"R7+((2*(S5-R5))-(S6-R6))*NND_33","v":2.3254248762979183E-3},{"$f":"S7+((2*(T5-S5))-(T6-S6))*NND_34","v":2.3273726459790353E-3},{"$f":"T7+((2*(U5-T5))-(U6-T6))*NND_35","v":2.3284447222260496E-3},{"$f":"U7+((2*(V5-U5))-(V6-U6))*NND_36","v":2.3291284764325676E-3},{"$f":"V7+((2*(W5-V5))-(W6-V6))*NND_37","v":2.3296365129681783E-3}," "]
[null,null,null,null,null,null,null,null,"NICU admission",{"$f":"J20*NICU24","v":2.2277813501423139E-3},{"$f":"J8+(K20*NICU25)","v":4.5178097065262683E-3},{"$f":"K8+(L20*NICU26)","v":6.7698863636352653E-3},{"$f":"L8+(M20*NICU27)","v":8.9032984061384185E-3},{"$f":"M8+(N20*NICU28)","v":1.0856818708887694E-2},{"$f":"N8+(O20*NICU29)","v":1.2588705936919525E-2},{"$f":"O8+(P20*NICU30)","v":1.4076704545454398E-2},{"$f":"P8+(Q20*NICU31)","v":1.5318044779895172E-2},{"$f":"Q8+(R20*NICU32)","v":1.6329442675830579E-2},{"$f":"R8+(S20*NICU33)","v":1.695346360893667E-2},{"$f":"S8+(T20*NICU34)","v":1.7346840853543259E-2},{"$f":"T8+(U20*NICU35)","v":1.7602548380838665E-2},{"$f":"U8+(V20*NICU36)","v":1.7778000346717966E-2},{"$f":"V8+(W20*NICU37)","v":1.78944741579374E-2}]
[null,null,null,null,null,null,null,null,"PND",{"$f":"J20*PND_24","v":1.6412612435855084E-4},{"$f":"J9+(K20*PND_25)","v":2.8421032916753049E-4},{"$f":"K9+(L20*PND_26)","v":3.682662038513109E-4},{"$f":"L9+(M20*PND_27)","v":4.2494224683955551E-4},{"$f":"M9+(N20*PND_28)","v":4.6188102994343009E-4},{"$f":"N9+(O20*PND_29)","v":4.8519005671039065E-4},{"$f":"O9+(P20*PND_30)","v":4.9944439076333687E-4},{"$f":"P9+(Q20*PND_31)","v":5.0790838025358811E-4},{"$f":"Q9+(R20*PND_32)","v":5.1281685098141894E-4},{"$f":"R9+(S20*PND_33)","v":5.1564131078456882E-4},{"$f":"S9+(T20*PND_34)","v":5.1731224806642777E-4},{"$f":"T9+(U20*PND_35)","v":5.1839153107202207E-4},{"$f":"U9+(V20*PND_36)","v":5.19199317948295E-4},{"$f":"V9+(W20*PND_37)","v":5.1990365225884324E-4}]
[null,null,null,null,null,null,null,null,"RDS",{"$f":"J20*RDS_24","v":2.1832257231394724E-3},{"$f":"J10+(K20*RDS_25)","v":4.0934616844185206E-3},{"$f":"K10+(L20*RDS_26)","v":5.6700308355054395E-3},{"$f":"L10+(M20*RDS_27)","v":6.9024865615976479E-3},{"$f":"M10+(N20*RDS_28)","v":7.8149308137740806E-3},{"$f":"N10+(O20*RDS_29)","v":8.4526205726083662E-3},{"$f":"O10+(P20*RDS_30)","v":8.8708626430380917E-3},{"$f":"P10+(Q20*RDS_31)","v":9.1261967804915252E-3},{"$f":"Q10+(R20*RDS_32)","v":9.2698671482731188E-3},{"$f":"R10+(S20*RDS_33)","v":9.3435821062047651E-3},{"$f":"S10+(T20*RDS_34)","v":9.3775623305259216E-3},{"$f":"T10+(U20*RDS_35)","v":9.3908772650502757E-3},{"$f":"U10+(V20*RDS_36)","v":9.3940699035805764E-3},{"$f":"V10+(W20*RDS_37)","v":9.3940699035805764E-3}]
[null,null,null,null,null,null,null,null,"IVH",{"$f":"J20*IVH_24","v":5.3988645237314421E-4},{"$f":"J11+(K20*IVH_25)","v":1.2970370865464272E-3},{"$f":"K11+(L20*IVH_26)","v":1.8911076107875017E-3},{"$f":"L11+(M20*IVH_27)","v":2.2249940549176521E-3},{"$f":"M11+(N20*IVH_28)","v":2.3610574270599058E-3},{"$f":"N11+(O20*IVH_29)","v":2.4021947950172936E-3},{"$f":"O11+(P20*IVH_30)","v":2.4207167357356203E-3},{"$f":"P11+(Q20*IVH_31)","v":2.4405087338753122E-3},{"$f":"Q11+(R20*IVH_32)","v":2.4551610367295985E-3},{"$f":"R11+(S20*IVH_33)","v":2.4566476865280182E-3},{"$f":"S11+(T20*IVH_34)","v":2.4566476865280182E-3},{"$f":"T11+(U20*IVH_35)","v":2.4566476865280182E-3},{"$f":"U11+(V20*IVH_36)","v":2.4566476865280182E-3},{"$f":"V11+(W20*IVH_37)","v":2.4566476865280182E-3}]
[null,null,null,null,null,null,null,null,"RDS Survive",{"$f":"J25*(1-RDSmort24)","v":2.0653315340899408E-3},{"$f":"J12+(K25*(1-RDSmort25))","v":3.8724147534599206E-3},{"$f":"K12+(L25*(1-RDSmort26))","v":5.3638491703881458E-3},{"$f":"L12+(M25*(1-RDSmort27))","v":6.5297522872713749E-3},{"$f":"M12+(N25*(1-RDSmort28))","v":7.3929245498302798E-3},{"$f":"N12+(O25*(1-RDSmort29))","v":7.9961790616875136E-3},{"$f":"O12+(P25*(1-RDSmort30))","v":8.391836060314033E-3},{"$f":"P12+(Q25*(1-RDSmort31))","v":8.6333821543449814E-3},{"$f":"Q12+(R25*(1-RDSmort32))","v":8.7692943222663685E-3},{"$f":"R12+(S25*(1-RDSmort33))","v":8.8390286724697054E-3},{"$f":"S12+(T25*(1-RDSmort34))","v":8.8711739646775197E-3},{"$f":"T12+(U25*(1-RDSmort35))","v":8.8837698927375589E-3},{"$f":"U12+(V25*(1-RDSmort36))","v":8.8867901287872225E-3},{"$f":"V12+(W25*(1-RDSmort37))","v":8.8867901287872225E-3},null,null,null," "]
[null,null,null,null,null,null,null,null,"IVH survive",{"$f":"J26*(1-IVHmort24)","v":3.7792051666120092E-4},{"$f":"J13+(K26*(1-IVHmort25))","v":9.0792596058249892E-4},{"$f":"K13+(L26*(1-IVHmort26))","v":1.323775327551251E-3},{"$f":"L13+(M26*(1-IVHmort27))","v":1.5574958384423564E-3},{"$f":"M13+(N26*(1-IVHmort28))","v":1.6527401989419341E-3},{"$f":"N13+(O26*(1-IVHmort29))","v":1.6815363565121054E-3},{"$f":"O13+(P26*(1-IVHmort30))","v":1.6945017150149341E-3},{"$f":"P13+(Q26*(1-IVHmort31))","v":1.7083561137127186E-3},{"$f":"Q13+(R26*(1-IVHmort32))","v":1.718612725710719E-3},{"$f":"R13+(S26*(1-IVHmort33))","v":1.7196533805696127E-3},{"$f":"S13+(T26*(1-IVHmort34))","v":1.7196533805696127E-3},{"$f":"T13+(U26*(1-IVHmort35))","v":1.7196533805696127E-3},{"$f":"U13+(V26*(1-IVHmort36))","v":1.7196533805696127E-3},{"$f":"V13+(W26*(1-IVHmort37))","v":1.7196533805696127E-3}]
[null,null,null,null,null,null,null,null,"CP",{"$f":"J20*CPrate24","v":2.6310097745180672E-4},{"$f":"J14+(K20*CPrate25)","v":4.9805788681680022E-4},{"$f":"K14+(L20*CPrate26)","v":6.9691625563952453E-4},{"$f":"L14+(M20*CPrate27)","v":8.5734884123576125E-4},{"$f":"M14+(N20*CPrate28)","v":9.8100667639978989E-4},{"$f":"N14+(O20*CPrate29)","v":1.072103944594264E-3},{"$f":"O14+(P20*CPrate30)","v":1.1362366846221169E-3},{"$f":"P14+(Q20*CPrate31)","v":1.1794353247806557E-3},{"$f":"Q14+(R20*CPrate32)","v":1.2074510464980663E-3},{"$f":"R14+(S20*CPrate33)","v":1.2252759774518448E-3},{"$f":"S14+(T20*CPrate34)","v":1.2368972141696803E-3},{"$f":"T14+(U20*CPrate35)","v":1.2452846741123375E-3},{"$f":"U14+(V20*CPrate36)","v":1.2526127772389171E-3},{"$f":"V14+(W20*CPrate37)","v":1.2607159570542307E-3}]
[]
[null,null,null,null,null,null,null,null," ",3.1700494024205148E-2,7.5876899512395693E-2,0.12826046511622932,0.1855561763817021,0.24544275574920271,0.30657266255335658,0.36857209302323118,0.43204098028216975,0.49855299434784284,0.57065554213228087,0.65186976744186342,0.74669055097726966,0.86058651033354172,1]
[]
[]
[null,null,null,null,null,null,null,null,"Stillbirths per GA",{"$f":"J6","v":0},{"$f":"K6-J6","v":0},{"$f":"L6-K6","v":0},0,0,0,0,0,0,0,0,0,0,0," "]
[null,null,null,null,null,null,null,null,"Live births per GA",{"$f":"(2*J5)-J19","v":2.2277813501423139E-3},{"$f":"2*(K5-J5)-K19","v":2.2900283563839544E-3},{"$f":"2*(L5-K5)-L19","v":2.252076657108997E-3},{"$f":"2*(M5-L5)-M19","v":2.1334120425031532E-3},1.9535203027492756E-3,1.7318872280318309E-3,1.4879986085348726E-3,1.2413402344407746E-3,1.0113978959354064E-3,8.1765738320085588E-4,6.7960448642313473E-4,6.1672499578362822E-4,6.4850470146723266E-4,{"$f":"2*(W5-V5)-W19","v":7.94429393658206E-4},null,null,null," "," "]
[null,null,null,null,null,null,null,null,"NND per GA",{"$f":"J20*NND_24","v":9.4760280494258966E-4},{"$f":"K20*NND_25","v":5.9080939491241156E-4},{"$f":"L20*NND_26","v":3.5240532394580532E-4},{"$f":"M20*NND_27","v":2.0248217303969361E-4},{"$f":"N20*NND_28","v":1.1245602775424276E-4},{"$f":"O20*NND_29","v":6.0469611497122428E-5},{"$f":"P20*NND_30","v":3.1511773996010123E-5},{"$f":"Q20*NND_31","v":1.5944610660696467E-5},{"$f":"R20*NND_32","v":7.8794860658427642E-6},{"$f":"S20*NND_33","v":3.8636694835036275E-6},{"$f":"T20*NND_34","v":1.9477696811170297E-6},{"$f":"U20*NND_35","v":1.072076247014249E-6},{"$f":"V20*NND_36","v":6.837542065181088E-7},{"$f":"W20*NND_37","v":5.0803653561075958E-7}]
[null,null,null,null,null,null,null,null,"NICU admission per GA",{"$f":"J20*NICU24","v":2.2277813501423139E-3},{"$f":"K20*NICU25","v":2.2900283563839544E-3},{"$f":"L20*NICU26","v":2.252076657108997E-3},{"$f":"M20*NICU27","v":2.1334120425031532E-3},{"$f":"N20*NICU28","v":1.9535203027492756E-3},{"$f":"O20*NICU29","v":1.7318872280318309E-3},{"$f":"P20*NICU30","v":1.4879986085348726E-3},{"$f":"Q20*NICU31","v":1.2413402344407746E-3},{"$f":"R20*NICU32","v":1.0113978959354064E-3},{"$f":"S20*NICU33","v":6.2402093310609248E-4},{"$f":"T20*NICU34","v":3.9337724460659034E-4},{"$f":"U20*NICU35","v":2.5570752729540697E-4},{"$f":"V20*NICU36","v":1.7545196587930188E-4},{"$f":"W20*NICU37","v":1.1647381121943309E-4},null," "]
[null,null,null,null,null,null,null,null,"PND per GA",{"$f":"J20*PND_24","v":1.6412612435855084E-4},{"$f":"K20*PND_25","v":1.2008420480897967E-4},{"$f":"L20*PND_26","v":8.405587468378041E-5},{"$f":"M20*PND_27","v":5.6676042988244601E-5},{"$f":"N20*PND_28","v":3.6938783103874604E-5},{"$f":"O20*PND_29","v":2.3309026766960542E-5},{"$f":"P20*PND_30","v":1.4254334052946173E-5},{"$f":"Q20*PND_31","v":8.4639894902512541E-6},{"$f":"R20*PND_32","v":4.9084707278308088E-6},{"$f":"S20*PND_33","v":2.8244598031499322E-6},{"$f":"T20*PND_34","v":1.670937281858903E-6},{"$f":"U20*PND_35","v":1.0792830055943241E-6},{"$f":"V20*PND_36","v":8.0778687627293059E-7},{"$f":"W20*PND_37","v":7.0433431054818789E-7}]
[null,null,null,null,null,null,null,null,"Surviving Babies",null,null,null,null,null,null,null,null,null,null,null,null,null,null,{"$f":"(W5*2)-(W6+W7)","v":1.7556727123395458E-2},{"$f":"X24-W9","v":1.7036823471136615E-2}]
[null,null,null,null,null,null,null,null,"RDS per GA",{"$f":"J20*RDS_24","v":2.1832257231394724E-3},{"$f":"K20*RDS_25","v":1.9102359612790485E-3},{"$f":"L20*RDS_26","v":1.5765691510869189E-3},{"$f":"M20*RDS_27","v":1.2324557260922086E-3},{"$f":"N20*RDS_28","v":9.1244425217643229E-4},{"$f":"O20*RDS_29","v":6.3768975883428554E-4},{"$f":"P20*RDS_30","v":4.1824207042972486E-4},{"$f":"Q20*RDS_31","v":2.5533413745343364E-4},{"$f":"R20*RDS_32","v":1.4367036778159385E-4},{"$f":"S20*RDS_33","v":7.3714957931645932E-5},{"$f":"T20*RDS_34","v":3.398022432115722E-5},{"$f":"U20*RDS_35","v":1.3314934524354533E-5},{"$f":"V20*RDS_36","v":3.1926385303000038E-6},{"$f":"W20*RDS_37","v":0}]
[null,null,null,null,null,null,null,null,"IVH per GA",{"$f":"J20*IVH_24","v":5.3988645237314421E-4},{"$f":"K20*IVH_25","v":7.5715063417328284E-4},{"$f":"L20*IVH_26","v":5.9407052424107442E-4},{"$f":"M20*IVH_27","v":3.3388644413015061E-4},{"$f":"N20*IVH_28","v":1.3606337214225371E-4},{"$f":"O20*IVH_29","v":4.1137367957387578E-5},{"$f":"P20*IVH_30","v":1.8521940718326829E-5},{"$f":"Q20*IVH_31","v":1.9791998139692024E-5},{"$f":"R20*IVH_32","v":1.4652302854286222E-5},{"$f":"S20*IVH_33","v":1.486649798419566E-6},{"$f":"T20*IVH_34","v":0},{"$f":"U20*IVH_35","v":0},{"$f":"V20*IVH_36","v":0},{"$f":"W20*IVH_37","v":0}]
[null,null,null,null,null,null,null,null,"RDS Survive per GA",{"$f":"J25*(1-RDSmort24)","v":2.0653315340899408E-3},{"$f":"K25*(1-RDSmort25)","v":1.8070832193699798E-3},{"$f":"L25*(1-RDSmort26)","v":1.4914344169282253E-3},{"$f":"M25*(1-RDSmort27)","v":1.1659031168832293E-3},{"$f":"N25*(1-RDSmort28)","v":8.631722625589049E-4},{"$f":"O25*(1-RDSmort29)","v":6.0325451185723412E-4},{"$f":"P25*(1-RDSmort30)","v":3.9565699862651967E-4},{"$f":"Q25*(1-RDSmort31)","v":2.4154609403094821E-4},{"$f":"R25*(1-RDSmort32)","v":1.3591216792138778E-4},{"$f":"S25*(1-RDSmort33)","v":6.9734350203337053E-5},{"$f":"T25*(1-RDSmort34)","v":3.2145292207814726E-5},{"$f":"U25*(1-RDSmort35)","v":1.2595928060039387E-5},{"$f":"V25*(1-RDSmort36)","v":3.0202360496638033E-6},{"$f":"W25*(1-RDSmort37)","v":0}]
[null,null,null,null,null,null,null,null,"IVH survive per GA",{"$f":"J26*(1-IVHmort24)","v":3.7792051666120092E-4},{"$f":"K26*(1-IVHmort25)","v":5.30005443921298E-4},{"$f":"L26*(1-IVHmort26)","v":4.1584936696875208E-4},{"$f":"M26*(1-IVHmort27)","v":2.3372051089110541E-4},{"$f":"N26*(1-IVHmort28)","v":9.5244360499577589E-5},{"$f":"O26*(1-IVHmort29)","v":2.8796157570171304E-5},{"$f":"P26*(1-IVHmort30)","v":1.2965358502828779E-5},{"$f":"Q26*(1-IVHmort31)","v":1.3854398697784416E-5},{"$f":"R26*(1-IVHmort32)","v":1.0256611998000354E-5},{"$f":"S26*(1-IVHmort33)","v":1.0406548588936962E-6},{"$f":"T26*(1-IVHmort34)","v":0},{"$f":"U26*(1-IVHmort35)","v":0},{"$f":"V26*(1-IVHmort36)","v":0},{"$f":"W26*(1-IVHmort37)","v":0}]
[null,null,null,null,null,null,null,null,"CP per GA",{"$f":"J20*CPrate24","v":2.6310097745180672E-4},{"$f":"K20*CPrate25","v":2.3495690936499352E-4},{"$f":"L20*CPrate26","v":1.9885836882272429E-4},{"$f":"M20*CPrate27","v":1.6043258559623674E-4},{"$f":"N20*CPrate28","v":1.2365783516402875E-4},{"$f":"O20*CPrate29","v":9.1097268194474074E-5},{"$f":"P20*CPrate30","v":6.4132740027852882E-5},{"$f":"Q20*CPrate31","v":4.3198640158538743E-5},{"$f":"R20*CPrate32","v":2.8015721717410592E-5},{"$f":"S20*CPrate33","v":1.7824930953778602E-5},{"$f":"T20*CPrate34","v":1.1621236717835456E-5},{"$f":"U20*CPrate35","v":8.3874599426572411E-6},{"$f":"V20*CPrate36","v":7.3281031265796423E-6},{"$f":"W20*CPrate37","v":8.1031798153136029E-6}," "]
[null,null,null,null,null,null,null,null," ",null,null,null,null,null,null,null,null,null,null,null,null,null,null," "]
[]
[null,null,null,null,null,null,null,null,null," "]
[]
[null,null,null,null,null,null,null,null,null,null,null,null," "]
[]
[null,null,null,null,null,null,null,null,"Screening threshold: CL = 5mm"]
[]
[null,null,null,null,null,null,null,null,"On-going Pregnancy",{"$f":"SUM('Distribution Data'!$K$13:$K$17)-J39","v":8.9654362557617592E-3},{"$f":"SUM('Distribution Data'!$K$13:$K$17)-K39","v":7.9631340209381472E-3},{"$f":"SUM('Distribution Data'!$K$13:$K$17)-L39","v":6.9655159259442182E-3},{"$f":"SUM('Distribution Data'!$K$13:$K$17)-M39","v":5.9971636996875924E-3},{"$f":"SUM('Distribution Data'!$K$13:$K$17)-N39","v":5.0779999877512087E-3},{"$f":"SUM('Distribution Data'!$K$13:$K$17)-O39","v":4.2232883523924351E-3},{"$f":"SUM('Distribution Data'!$K$13:$K$17)-P39","v":3.4436332725443462E-3},{"$f":"SUM('Distribution Data'!$K$13:$K$17)-Q39","v":2.744980143814614E-3},{"$f":"SUM('Distribution Data'!$K$13:$K$17)-R39","v":2.1286152784859066E-3},{"$f":"SUM('Distribution Data'!$K$13:$K$17)-S39","v":1.5911659055159923E-3},{"$f":"SUM('Distribution Data'!$K$13:$K$17)-T39","v":1.1246001705368901E-3},{"$f":"SUM('Distribution Data'!$K$13:$K$17)-U39","v":7.1622713585711185E-4},{"$f":"SUM('Distribution Data'!$K$13:$K$17)-V39","v":3.8077306723306205E-4},{"$f":"SUM('Distribution Data'!$K$13:$K$17)-W39","v":0}]
[null,null,null,null,null,null,null,null,"Twin birth (pregnancies)",{"$f":"'Markov Transitions 1.7'!G4","v":9.7774556242005966E-4},{"$f":"'Markov Transitions 1.7'!G5","v":1.9800477972436699E-3},{"$f":"'Markov Transitions 1.7'!G6","v":2.9776658922375998E-3},{"$f":"'Markov Transitions 1.7'!G7","v":3.9460181184942256E-3},{"$f":"'Markov Transitions 1.7'!G8","v":4.8651818304306094E-3},{"$f":"'Markov Transitions 1.7'!G9","v":5.719893465789383E-3},{"$f":"'Markov Transitions 1.7'!G10","v":6.4995485456374718E-3},{"$f":"'Markov Transitions 1.7'!G11","v":7.198201674367204E-3},{"$f":"'Markov Transitions 1.7'!G12","v":7.8145665396959114E-3},{"$f":"'Markov Transitions 1.7'!G13","v":8.3520159126658257E-3},{"$f":"'Markov Transitions 1.7'!G14","v":8.818581647644928E-3},{"$f":"'Markov Transitions 1.7'!G15","v":9.2269546823247062E-3},{"$f":"'Markov Transitions 1.7'!G16","v":9.562408750948756E-3},{"$f":"'Markov Transitions 1.7'!G17","v":9.943181818181818E-3}]
[null,null,null,null,null,null,null,null,"Stillbirths",{"$f":"2*(J39*Stillbirth24)","v":0},{"$f":"J40+(2*(K39-J39)*Stillbirth25)","v":0},{"$f":"K40+(2*(L39-K39)*Stillbirth26)","v":0},{"$f":"L40+(2*(M39-L39)*Stillbirth27)","v":0},{"$f":"M40+(2*(N39-M39)*Stillbirth28)","v":0},{"$f":"N40+(2*(O39-N39)*Stillbirth29)","v":0},{"$f":"O40+(2*(P39-O39)*Stillbirth30)","v":0},{"$f":"P40+(2*(Q39-P39)*Stillbirth31)","v":0},{"$f":"Q40+(2*(R39-Q39)*Stillbirth32)","v":0},{"$f":"R40+(2*(S39-R39)*Stillbirth33)","v":0},{"$f":"S40+(2*(T39-S39)*Stillbirth34)","v":0},{"$f":"T40+(2*(U39-T39)*Stillbirth35)","v":0},{"$f":"U40+(2*(V39-U39)*Stillbirth36)","v":0},{"$f":"V40+(2*(W39-V39)*Stillbirth37)","v":0}]
[null,null,null,null,null,null,null,null,"NND",{"$f":"((2*J39)-J40)*NND_24","v":8.3178220107662842E-4},{"$f":"J41+((2*(K39-J39))-(K40-J40))*NND_25","v":1.3489544668476552E-3},{"$f":"K41+((2*(L39-K39))-(L40-K40))*NND_26","v":1.6611693524562474E-3},{"$f":"L41+((2*(M39-L39))-(M40-L40))*NND_27","v":1.8449820048027778E-3},{"$f":"M41+((2*(N39-M39))-(N40-M40))*NND_28","v":1.9508068582785669E-3},{"$f":"N41+((2*(O39-N39))-(O40-N40))*NND_29","v":2.0104921307324214E-3},{"$f":"O41+((2*(P39-O39))-(P40-O40))*NND_30","v":2.0435140899333175E-3},{"$f":"P41+((2*(Q39-P39))-(Q40-P40))*NND_31","v":2.0614620333180601E-3},{"$f":"Q41+((2*(R39-Q39))-(R40-Q40))*NND_32","v":2.0710658467872206E-3},{"$f":"R41+((2*(S39-R39))-(S40-R40))*NND_33","v":2.0761450566957598E-3},{"$f":"S41+((2*(T39-S39))-(T40-S40))*NND_34","v":2.0788194433750571E-3},{"$f":"T41+((2*(U39-T39))-(U40-T40))*NND_35","v":2.0802392237744068E-3},{"$f":"U41+((2*(V39-U39))-(V40-U40))*NND_36","v":2.0809465991565631E-3},{"$f":"V41+((2*(W39-V39))-(W40-V40))*NND_37","v":2.0814336068918642E-3}," "]
[null,null,null,null,null,null,null,null,"NICU admission",{"$f":"J54*NICU24","v":1.9554911248401193E-3},{"$f":"J42+(K54*NICU25)","v":3.9600955944873398E-3},{"$f":"K42+(L54*NICU26)","v":5.9553317844751995E-3},{"$f":"L42+(M54*NICU27)","v":7.8920362369884513E-3},{"$f":"M42+(N54*NICU28)","v":9.7303636608612187E-3},{"$f":"N42+(O54*NICU29)","v":1.1439786931578766E-2},{"$f":"O42+(P54*NICU30)","v":1.2999097091274944E-2},{"$f":"P42+(Q54*NICU31)","v":1.4396403348734408E-2},{"$f":"Q42+(R54*NICU32)","v":1.5629133079391823E-2},{"$f":"R42+(S54*NICU33)","v":1.6449475844242965E-2},{"$f":"S42+(T54*NICU34)","v":1.6989602776658931E-2},{"$f":"T42+(U54*NICU35)","v":1.7328243368903463E-2},{"$f":"U42+(V54*NICU36)","v":1.7509756550439817E-2},{"$f":"V42+(W54*NICU37)","v":1.7621409242810939E-2}]
[null,null,null,null,null,null,null,null,"PND",{"$f":"J54*PND_24","v":1.4406583461031724E-4},{"$f":"J43+(K54*PND_25)","v":2.4918301930501748E-4},{"$f":"K43+(L54*PND_26)","v":3.2365265275233315E-4},{"$f":"L43+(M54*PND_27)","v":3.751029786243938E-4},{"$f":"M43+(N54*PND_28)","v":4.0986359917631447E-4},{"$f":"N43+(O54*PND_29)","v":4.3287028929348893E-4},{"$f":"O43+(P54*PND_30)","v":4.4780775481326348E-4},{"$f":"P43+(Q54*PND_31)","v":4.5733518746199836E-4},{"$f":"Q43+(R54*PND_32)","v":4.633178158840819E-4},{"$f":"R43+(S54*PND_33)","v":4.6703087267625364E-4},{"$f":"S43+(T54*PND_34)","v":4.6932515441390856E-4},{"$f":"T43+(U54*PND_35)","v":4.707544789241397E-4},{"$f":"U43+(V54*PND_36)","v":4.7159017184545174E-4},{"$f":"V43+(W54*PND_37)","v":4.7226535213944855E-4}]
[null,null,null,null,null,null,null,null,"RDS",{"$f":"J54*RDS_24","v":1.9163813023433212E-3},{"$f":"J44+(K54*RDS_25)","v":3.5885298307167428E-3},{"$f":"K44+(L54*RDS_26)","v":4.9852974835128596E-3},{"$f":"L44+(M54*RDS_27)","v":6.1041167480032094E-3},{"$f":"M44+(N54*RDS_28)","v":6.9627570647536295E-3},{"$f":"N44+(O54*RDS_29)","v":7.5921754793050146E-3},{"$f":"O44+(P54*RDS_30)","v":8.0304615811150025E-3},{"$f":"P44+(Q54*RDS_31)","v":8.3178767297647418E-3},{"$f":"Q44+(R54*RDS_32)","v":8.4929875684273595E-3},{"$f":"R44+(S54*RDS_33)","v":8.5898938245997803E-3},{"$f":"S44+(T54*RDS_34)","v":8.6365503980976917E-3},{"$f":"T44+(U54*RDS_35)","v":8.6541837363130966E-3},{"$f":"U44+(V54*RDS_36)","v":8.6574866686810869E-3},{"$f":"V44+(W54*RDS_37)","v":8.6574866686810869E-3}]
[null,null,null,null,null,null,null,null,"IVH",{"$f":"J54*IVH_24","v":4.7389891560482757E-4},{"$f":"J45+(K54*IVH_25)","v":1.1366800297464171E-3},{"$f":"K45+(L54*IVH_26)","v":1.6629991519793352E-3},{"$f":"L45+(M54*IVH_27)","v":1.9661001704876827E-3},{"$f":"M45+(N54*IVH_28)","v":2.0941403183385617E-3},{"$f":"N45+(O54*IVH_29)","v":2.1347441018553116E-3},{"$f":"O45+(P54*IVH_30)","v":2.1541536968466769E-3},{"$f":"P45+(Q54*IVH_31)","v":2.1764324259822684E-3},{"$f":"Q45+(R54*IVH_32)","v":2.194291202853037E-3},{"$f":"R45+(S54*IVH_33)","v":2.1962455642234647E-3},{"$f":"S45+(T54*IVH_34)","v":2.1962455642234647E-3},{"$f":"T45+(U54*IVH_35)","v":2.1962455642234647E-3},{"$f":"U45+(V54*IVH_36)","v":2.1962455642234647E-3},{"$f":"V45+(W54*IVH_37)","v":2.1962455642234647E-3}]
[null,null,null,null,null,null,null,null,"RDS Survive",{"$f":"J59*(1-RDSmort24)","v":1.8128967120167817E-3},{"$f":"J46+(K59*(1-RDSmort25))","v":3.3947492198580387E-3},{"$f":"K46+(L59*(1-RDSmort26))","v":4.7160914194031654E-3},{"$f":"L46+(M59*(1-RDSmort27))","v":5.7744944436110366E-3},{"$f":"M46+(N59*(1-RDSmort28))","v":6.5867681832569337E-3},{"$f":"N46+(O59*(1-RDSmort29))","v":7.1821980034225442E-3},{"$f":"O46+(P59*(1-RDSmort30))","v":7.5968166557347921E-3},{"$f":"P46+(Q59*(1-RDSmort31))","v":7.8687113863574465E-3},{"$f":"Q46+(R59*(1-RDSmort32))","v":8.034366239732282E-3},{"$f":"R46+(S59*(1-RDSmort33))","v":8.1260395580713927E-3},{"$f":"S46+(T59*(1-RDSmort34))","v":8.1701766766004158E-3},{"$f":"T46+(U59*(1-RDSmort35))","v":8.1868578145521884E-3},{"$f":"U46+(V59*(1-RDSmort36))","v":8.1899823885723064E-3},{"$f":"V46+(W59*(1-RDSmort37))","v":8.1899823885723064E-3}]
[null,null,null,null,null,null,null,null,"IVH survive",{"$f":"J60*(1-IVHmort24)","v":3.3172924092337929E-4},{"$f":"J47+(K60*(1-IVHmort25))","v":7.9567602082249189E-4},{"$f":"K47+(L60*(1-IVHmort26))","v":1.1640994063855346E-3},{"$f":"L47+(M60*(1-IVHmort27))","v":1.3762701193413779E-3},{"$f":"M47+(N60*(1-IVHmort28))","v":1.4658982228369932E-3},{"$f":"N47+(O60*(1-IVHmort29))","v":1.4943208712987182E-3},{"$f":"O47+(P60*(1-IVHmort30))","v":1.5079075877926741E-3},{"$f":"P47+(Q60*(1-IVHmort31))","v":1.5235026981875882E-3},{"$f":"Q47+(R60*(1-IVHmort32))","v":1.5360038419971261E-3},{"$f":"R47+(S60*(1-IVHmort33))","v":1.5373718949564256E-3},{"$f":"S47+(T60*(1-IVHmort34))","v":1.5373718949564256E-3},{"$f":"T47+(U60*(1-IVHmort35))","v":1.5373718949564256E-3},{"$f":"U47+(V60*(1-IVHmort36))","v":1.5373718949564256E-3},{"$f":"V47+(W60*(1-IVHmort37))","v":1.5373718949564256E-3}]
[null,null,null,null,null,null,null,null,"CP",{"$f":"J54*CPrate24","v":2.3094350184361763E-4},{"$f":"J48+(K54*CPrate25)","v":4.3661592042942225E-4},{"$f":"K48+(L54*CPrate26)","v":6.1279527600535016E-4},{"$f":"L48+(M54*CPrate27)","v":7.5843545083434632E-4},{"$f":"M48+(N54*CPrate28)","v":8.7480157676549217E-4},{"$f":"N48+(O54*CPrate29)","v":9.6471724080523494E-4},{"$f":"O48+(P54*CPrate30)","v":1.0319235086881401E-3},{"$f":"P48+(Q54*CPrate31)","v":1.0805497664477292E-3},{"$f":"Q48+(R54*CPrate32)","v":1.1146963799869394E-3},{"$f":"R48+(S54*CPrate33)","v":1.1381291726484275E-3},{"$f":"S48+(T54*CPrate34)","v":1.1540857207847127E-3},{"$f":"T48+(U54*CPrate35)","v":1.1651934673280026E-3},{"$f":"U48+(V54*CPrate36)","v":1.1727747292789061E-3},{"$f":"V48+(W54*CPrate37)","v":1.1805424998504604E-3}]
[]
[]
[]
[]
[null,null,null,null,null,null,null,null,"Stillbirths per GA",{"$f":"J40","v":0},{"$f":"K40-J40","v":0},0,0,0,0,0,0,0,0,0,0,0,0]
[null,null,null,null,null,null,null,null,"Live births per GA",{"$f":"(2*J39)-J53","v":1.9554911248401193E-3},{"$f":"2*(K39-J39)-K53","v":2.0046044696472205E-3},1.9952361899878597E-3,1.9367044525132517E-3,1.8383274238727675E-3,1.7094232707175472E-3,1.5593101596961777E-3,1.3973062574594644E-3,1.2327297306574149E-3,1.0748987459398285E-3,9.3313146995820453E-4,8.1674606935955643E-4,6.7090813724809961E-4,7.615461344661241E-4]
[null,null,null,null,null,null,null,null,"NND per GA",{"$f":"J54*NND_24","v":8.3178220107662842E-4},{"$f":"K54*NND_25","v":5.1717226577102681E-4},{"$f":"L54*NND_26","v":3.1221488560859211E-4},{"$f":"M54*NND_27","v":1.8381265234653033E-4},{"$f":"N54*NND_28","v":1.0582485347578924E-4},{"$f":"O54*NND_29","v":5.9685272453854354E-5},{"$f":"P54*NND_30","v":3.3021959200895884E-5},{"$f":"Q54*NND_31","v":1.7947943384742543E-5},{"$f":"R54*NND_32","v":9.6038134691606566E-6},{"$f":"S54*NND_33","v":5.0792099085392165E-6},{"$f":"T54*NND_34","v":2.6743866792973634E-6},{"$f":"U54*NND_35","v":1.4197803993497178E-6},{"$f":"V54*NND_36","v":7.0737538215641697E-7},{"$f":"W54*NND_37","v":4.8700773530088141E-7}]
[null,null,null,null,null,null,null,null,"NICU admission per GA",{"$f":"J54*NICU24","v":1.9554911248401193E-3},{"$f":"K54*NICU25","v":2.0046044696472205E-3},{"$f":"L54*NICU26","v":1.9952361899878597E-3},{"$f":"M54*NICU27","v":1.9367044525132517E-3},{"$f":"N54*NICU28","v":1.8383274238727675E-3},{"$f":"O54*NICU29","v":1.7094232707175472E-3},{"$f":"P54*NICU30","v":1.5593101596961777E-3},{"$f":"Q54*NICU31","v":1.3973062574594644E-3},{"$f":"R54*NICU32","v":1.2327297306574149E-3},{"$f":"S54*NICU33","v":8.2034276485114276E-4},{"$f":"T54*NICU34","v":5.4012693241596609E-4},{"$f":"U54*NICU35","v":3.3864059224453328E-4},{"$f":"V54*NICU36","v":1.8151318153635199E-4},{"$f":"W54*NICU37","v":1.1165269237112161E-4}]
[null,null,null,null,null,null,null,null,"PND per GA",{"$f":"J54*PND_24","v":1.4406583461031724E-4},{"$f":"K54*PND_25","v":1.0511718469470021E-4},{"$f":"L54*PND_26","v":7.446963344731566E-5},{"$f":"M54*PND_27","v":5.145032587206067E-5},{"$f":"N54*PND_28","v":3.4760620551920646E-5},{"$f":"O54*PND_29","v":2.3006690117174432E-5},{"$f":"P54*PND_30","v":1.4937465519774546E-5},{"$f":"Q54*PND_31","v":9.527432648734859E-6},{"$f":"R54*PND_32","v":5.9826284220835641E-6},{"$f":"S54*PND_33","v":3.7130567921717499E-6},{"$f":"T54*PND_34","v":2.2942817376549436E-6},{"$f":"U54*PND_35","v":1.4293245102311337E-6},{"$f":"V54*PND_36","v":8.3569292131202285E-7},{"$f":"W54*PND_37","v":6.7518029399678487E-7}]
[null,null,null,null,null,null,null,null,"Surviving Babies",null,null,null,null,null,null,null,null,null,null,null,null,null,null,{"$f":"(W39*2)-(W40+W41)","v":1.7804930029471772E-2},{"$f":"X58-W43","v":1.7332664677332323E-2}]
[null,null,null,null,null,null,null,null,"RDS per GA",{"$f":"J54*RDS_24","v":1.9163813023433212E-3},{"$f":"K54*RDS_25","v":1.6721485283734219E-3},{"$f":"L54*RDS_26","v":1.3967676527961166E-3},{"$f":"M54*RDS_27","v":1.11881926449035E-3},{"$f":"N54*RDS_28","v":8.586403167504202E-4},{"$f":"O54*RDS_29","v":6.2941841455138516E-4},{"$f":"P54*RDS_30","v":4.3828610180998706E-4},{"$f":"Q54*RDS_31","v":2.8741514864973956E-4},{"$f":"R54*RDS_32","v":1.7511083866261765E-4},{"$f":"S54*RDS_33","v":9.6906256172420852E-5},{"$f":"T54*RDS_34","v":4.6656573497910892E-5},{"$f":"U54*RDS_35","v":1.7633338215404158E-5},{"$f":"V54*RDS_36","v":3.3029323679904178E-6},{"$f":"W54*RDS_37","v":0}]
[null,null,null,null,null,null,null,null,"IVH per GA",{"$f":"J54*IVH_24","v":4.7389891560482757E-4},{"$f":"K54*IVH_25","v":6.627811141415895E-4},{"$f":"L54*IVH_26","v":5.2631912223291815E-4},{"$f":"M54*IVH_27","v":3.0310101850834753E-4},{"$f":"N54*IVH_28","v":1.2804014785087889E-4},{"$f":"O54*IVH_29","v":4.0603783516749992E-5},{"$f":"P54*IVH_30","v":1.940959499136553E-5},{"$f":"Q54*IVH_31","v":2.2278729135591564E-5},{"$f":"R54*IVH_32","v":1.7858776870768464E-5},{"$f":"S54*IVH_33","v":1.9543613704278695E-6},{"$f":"T54*IVH_34","v":0},{"$f":"U54*IVH_35","v":0},{"$f":"V54*IVH_36","v":0},{"$f":"W54*IVH_37","v":0}," "," "]
[null,null,null,null,null,null,null,null,"RDS Survive per GA",{"$f":"J59*(1-RDSmort24)","v":1.8128967120167817E-3},{"$f":"K59*(1-RDSmort25)","v":1.581852507841257E-3},{"$f":"L59*(1-RDSmort26)","v":1.3213421995451262E-3},{"$f":"M59*(1-RDSmort27)","v":1.058403024207871E-3},{"$f":"N59*(1-RDSmort28)","v":8.1227373964589745E-4},{"$f":"O59*(1-RDSmort29)","v":5.9542982016561031E-4},{"$f":"P59*(1-RDSmort30)","v":4.1461865231224774E-4},{"$f":"Q59*(1-RDSmort31)","v":2.7189473062265359E-4},{"$f":"R59*(1-RDSmort32)","v":1.6565485337483629E-4},{"$f":"S59*(1-RDSmort33)","v":9.1673318339110119E-5},{"$f":"T59*(1-RDSmort34)","v":4.4137118529023701E-5},{"$f":"U59*(1-RDSmort35)","v":1.6681137951772332E-5},{"$f":"V59*(1-RDSmort36)","v":3.1245740201189352E-6},{"$f":"W59*(1-RDSmort37)","v":0}]
[null,null,null,null,null,null,null,null,"IVH survive per GA",{"$f":"J60*(1-IVHmort24)","v":3.3172924092337929E-4},{"$f":"K60*(1-IVHmort25)","v":4.639467798991126E-4},{"$f":"L60*(1-IVHmort26)","v":3.6842338556304269E-4},{"$f":"M60*(1-IVHmort27)","v":2.1217071295584326E-4},{"$f":"N60*(1-IVHmort28)","v":8.9628103495615225E-5},{"$f":"O60*(1-IVHmort29)","v":2.8422648461724994E-5},{"$f":"P60*(1-IVHmort30)","v":1.3586716493955869E-5},{"$f":"Q60*(1-IVHmort31)","v":1.5595110394914095E-5},{"$f":"R60*(1-IVHmort32)","v":1.2501143809537925E-5},{"$f":"S60*(1-IVHmort33)","v":1.3680529592995085E-6},{"$f":"T60*(1-IVHmort34)","v":0},{"$f":"U60*(1-IVHmort35)","v":0},{"$f":"V60*(1-IVHmort36)","v":0},{"$f":"W60*(1-IVHmort37)","v":0}]
[null,null,null,null,null,null,null,null,"CP per GA",{"$f":"J54*CPrate24","v":2.3094350184361763E-4},{"$f":"K54*CPrate25","v":2.0567241858580464E-4},{"$f":"L54*CPrate26","v":1.7617935557592788E-4},{"$f":"M54*CPrate27","v":1.4564017482899619E-4},{"$f":"N54*CPrate28","v":1.1636612593114582E-4},{"$f":"O54*CPrate29","v":8.9915664039742757E-5},{"$f":"P54*CPrate30","v":6.7206267882905128E-5},{"$f":"Q54*CPrate31","v":4.8626257759589123E-5},{"$f":"R54*CPrate32","v":3.4146613539210188E-5},{"$f":"S54*CPrate33","v":2.3432792661488186E-5},{"$f":"T54*CPrate34","v":1.5956548136285094E-5},{"$f":"U54*CPrate35","v":1.1107746543289832E-5},{"$f":"V54*CPrate36","v":7.5812619509034352E-6},{"$f":"W54*CPrate37","v":7.7677705715543717E-6}," "]
[]
[null,null,null,null,null,null,null,null,null,null,null,null," "]
[]
[null,null,null,null,null,null,null,null,"Screening threshold: CL = 10mm"]
[]
[null,null,null,null,null,null,null,null,"On-going Pregnancy",{"$f":"SUM('Distribution Data'!$K$13:$K$17)-J70","v":9.0711759426057685E-3},{"$f":"SUM('Distribution Data'!$K$13:$K$17)-K70","v":8.194509232788012E-3},{"$f":"SUM('Distribution Data'!$K$13:$K$17)-L70","v":7.3184385396591889E-3},{"$f":"SUM('Distribution Data'!$K$13:$K$17)-M70","v":6.4489954819984992E-3},{"$f":"SUM('Distribution Data'!$K$13:$K$17)-N70","v":5.5929864464352641E-3},{"$f":"SUM('Distribution Data'!$K$13:$K$17)-O70","v":4.7579925874473468E-3},{"$f":"SUM('Distribution Data'!$K$13:$K$17)-P70","v":3.9523698273634163E-3},{"$f":"SUM('Distribution Data'!$K$13:$K$17)-Q70","v":3.1852488563602387E-3},{"$f":"SUM('Distribution Data'!$K$13:$K$17)-R70","v":2.4665351324647238E-3},{"$f":"SUM('Distribution Data'!$K$13:$K$17)-S70","v":1.8069088815532864E-3},{"$f":"SUM('Distribution Data'!$K$13:$K$17)-T70","v":1.2178250973508709E-3},{"$f":"SUM('Distribution Data'!$K$13:$K$17)-U70","v":7.1151354143340548E-4},{"$f":"SUM('Distribution Data'!$K$13:$K$17)-V70","v":3.56199071829124E-4},{"$f":"SUM('Distribution Data'!$K$13:$K$17)-W70","v":0}]
[null,null,null,null,null,null,null,null,"Twin birth (pregnancies)",{"$f":"'Markov Transitions 1.7'!L4","v":8.7200587557605016E-4},{"$f":"'Markov Transitions 1.7'!L5","v":1.7486725853938059E-3},{"$f":"'Markov Transitions 1.7'!L6","v":2.6247432785226291E-3},{"$f":"'Markov Transitions 1.7'!L7","v":3.4941863361833193E-3},{"$f":"'Markov Transitions 1.7'!L8","v":4.350195371746554E-3},{"$f":"'Markov Transitions 1.7'!L9","v":5.1851892307344712E-3},{"$f":"'Markov Transitions 1.7'!L10","v":5.9908119908184017E-3},{"$f":"'Markov Transitions 1.7'!L11","v":6.7579329618215793E-3},{"$f":"'Markov Transitions 1.7'!L12","v":7.4766466857170942E-3},{"$f":"'Markov Transitions 1.7'!L13","v":8.1362729366285316E-3},{"$f":"'Markov Transitions 1.7'!L14","v":8.7253567208309471E-3},{"$f":"'Markov Transitions 1.7'!L15","v":9.2316682767484125E-3},{"$f":"'Markov Transitions 1.7'!L16","v":9.586982746352694E-3},{"$f":"'Markov Transitions 1.7'!L17","v":9.943181818181818E-3}]
[null,null,null,null,null,null,null,null,"Stillbirths",{"$f":"2*(J70*Stillbirth24)","v":0},{"$f":"J71+(2*(K70-J70)*Stillbirth25)","v":0},{"$f":"K71+(2*(L70-K70)*Stillbirth26)","v":0},{"$f":"L71+(2*(M70-L70)*Stillbirth27)","v":0},{"$f":"M71+(2*(N70-M70)*Stillbirth28)","v":0},{"$f":"N71+(2*(O70-N70)*Stillbirth29)","v":0},{"$f":"O71+(2*(P70-O70)*Stillbirth30)","v":0},{"$f":"P71+(2*(Q70-P70)*Stillbirth31)","v":0},{"$f":"Q71+(2*(R70-Q70)*Stillbirth32)","v":0},{"$f":"R71+(2*(S70-R70)*Stillbirth33)","v":0},{"$f":"S71+(2*(T70-S70)*Stillbirth34)","v":0},{"$f":"T71+(2*(U70-T70)*Stillbirth35)","v":0},{"$f":"U71+(2*(V70-U70)*Stillbirth36)","v":0},{"$f":"V71+(2*(W70-V70)*Stillbirth37)","v":0}]
[null,null,null,null,null,null,null,null,"NND",{"$f":"((2*J70)-J71)*NND_24","v":7.4182792989940219E-4},{"$f":"J72+((2*(K70-J70))-(K71-J71))*NND_25","v":1.1941742311348466E-3},{"$f":"K72+((2*(L70-K70))-(L71-K71))*NND_26","v":1.4683496020636588E-3},{"$f":"L72+((2*(M70-L70))-(M71-L71))*NND_27","v":1.6333873126812991E-3},{"$f":"M72+((2*(N70-M70))-(N71-M71))*NND_28","v":1.7319410627761468E-3},{"$f":"N72+((2*(O70-N70))-(O71-N71))*NND_29","v":1.7902494253972659E-3},{"$f":"O72+((2*(P70-O70))-(P71-O71))*NND_30","v":1.8243712346465407E-3},{"$f":"P72+((2*(Q70-P70))-(Q71-P71))*NND_31","v":1.8440780722611474E-3},{"$f":"Q72+((2*(R70-Q70))-(R71-Q71))*NND_32","v":1.8552766219032289E-3},{"$f":"R72+((2*(S70-R70))-(S71-R71))*NND_33","v":1.8615104745376603E-3},{"$f":"S72+((2*(T70-S70))-(T71-S71))*NND_34","v":1.8648871430483292E-3},{"$f":"T72+((2*(U70-T70))-(U71-T71))*NND_35","v":1.8666474238749503E-3},{"$f":"U72+((2*(V70-U70))-(V71-U71))*NND_36","v":1.8673966790852179E-3},{"$f":"V72+((2*(W70-V70))-(W71-V71))*NND_37","v":1.8678522567460759E-3}," "]
[null,null,null,null,null,null,null,null,"NICU admission",{"$f":"J85*NICU24","v":1.7440117511521003E-3},{"$f":"J73+(K85*NICU25)","v":3.4973451707876117E-3},{"$f":"K73+(L85*NICU26)","v":5.2494865570452583E-3},{"$f":"L73+(M85*NICU27)","v":6.9883726723666386E-3},{"$f":"M73+(N85*NICU28)","v":8.7003907434931079E-3},{"$f":"N73+(O85*NICU29)","v":1.0370378461468942E-2},{"$f":"O73+(P85*NICU30)","v":1.1981623981636803E-2},{"$f":"P73+(Q85*NICU31)","v":1.3515865923643159E-2},{"$f":"Q73+(R85*NICU32)","v":1.4953293371434188E-2},{"$f":"R73+(S85*NICU33)","v":1.5960122385766991E-2},{"$f":"S73+(T85*NICU34)","v":1.6642084204740885E-2},{"$f":"T73+(U85*NICU35)","v":1.706193965697609E-2},{"$f":"U73+(V85*NICU36)","v":1.7254199241390475E-2},{"$f":"V73+(W85*NICU37)","v":1.7358646191062664E-2}]
[null,null,null,null,null,null,null,null,"PND",{"$f":"J85*PND_24","v":1.2848562967549679E-4},{"$f":"J74+(K85*PND_25)","v":2.2042669620202774E-4},{"$f":"K74+(L85*PND_26)","v":2.8582312768078537E-4},{"$f":"L74+(M85*PND_27)","v":3.3201822842090438E-4},{"$f":"M74+(N85*PND_28)","v":3.643904869074193E-4},{"$f":"N74+(O85*PND_29)","v":3.8686642401738374E-4},{"$f":"O74+(P85*PND_30)","v":4.023014061161909E-4},{"$f":"P74+(Q85*PND_31)","v":4.1276252492339252E-4},{"$f":"Q74+(R85*PND_32)","v":4.1973858308924162E-4},{"$f":"R74+(S85*PND_33)","v":4.2429571880177802E-4},{"$f":"S74+(T85*PND_34)","v":4.2719246853438497E-4},{"$f":"T74+(U85*PND_35)","v":4.2896458239898813E-4},{"$f":"U74+(V85*PND_36)","v":4.2984975212820319E-4},{"$f":"V74+(W85*PND_37)","v":4.3048135823361023E-4}]
[null,null,null,null,null,null,null,null,"RDS",{"$f":"J85*RDS_24","v":1.7091315161290623E-3},{"$f":"J75+(K85*RDS_25)","v":3.1716813317081011E-3},{"$f":"K75+(L85*RDS_26)","v":4.3982701554928774E-3},{"$f":"L75+(M85*RDS_27)","v":5.4028112882670001E-3},{"$f":"M75+(N85*RDS_28)","v":6.2024554211808419E-3},{"$f":"N75+(O85*RDS_29)","v":6.8173534629791246E-3},{"$f":"O75+(P85*RDS_30)","v":7.2702373961093828E-3},{"$f":"P75+(Q85*RDS_31)","v":7.5858191617189982E-3},{"$f":"Q75+(R85*RDS_32)","v":7.7900075735334168E-3},{"$f":"R75+(S85*RDS_33)","v":7.9089432606208321E-3},{"$f":"S75+(T85*RDS_34)","v":7.967851639041075E-3},{"$f":"T75+(U85*RDS_35)","v":7.9897139123786404E-3},{"$f":"U75+(V85*RDS_36)","v":7.9932123933101288E-3},{"$f":"V75+(W85*RDS_37)","v":7.9932123933101288E-3}]
[null,null,null,null,null,null,null,null,"IVH",{"$f":"J85*IVH_24","v":4.2264844221199426E-4},{"$f":"J76+(K85*IVH_25)","v":1.0023519672331745E-3},{"$f":"K76+(L85*IVH_26)","v":1.4645456268463273E-3},{"$f":"L76+(M85*IVH_27)","v":1.7366873839120341E-3},{"$f":"M76+(N85*IVH_28)","v":1.8559300411795901E-3},{"$f":"N76+(O85*IVH_29)","v":1.8955971154132637E-3},{"$f":"O76+(P85*IVH_30)","v":1.9156531785278681E-3},{"$f":"P76+(Q85*IVH_31)","v":1.9401152178781893E-3},{"$f":"Q76+(R85*IVH_32)","v":1.9609394873182783E-3},{"$f":"R76+(S85*IVH_33)","v":1.9633381282480791E-3},{"$f":"S76+(T85*IVH_34)","v":1.9633381282480791E-3},{"$f":"T76+(U85*IVH_35)","v":1.9633381282480791E-3},{"$f":"U76+(V85*IVH_36)","v":1.9633381282480791E-3},{"$f":"V76+(W85*IVH_37)","v":1.9633381282480791E-3}]
[null,null,null,null,null,null,null,null,"RDS Survive",{"$f":"J90*(1-RDSmort24)","v":1.6168384142580929E-3},{"$f":"J77+(K90*(1-RDSmort25))","v":3.0004105397958636E-3},{"$f":"K77+(L90*(1-RDSmort26))","v":4.1607635670962619E-3},{"$f":"L77+(M90*(1-RDSmort27))","v":5.111059478700582E-3},{"$f":"M77+(N90*(1-RDSmort28))","v":5.8675228284370759E-3},{"$f":"N77+(O90*(1-RDSmort29))","v":6.4492163759782509E-3},{"$f":"O77+(P90*(1-RDSmort30))","v":6.8776445767194756E-3},{"$f":"P77+(Q90*(1-RDSmort31))","v":7.1761849269861722E-3},{"$f":"Q77+(R90*(1-RDSmort32))","v":7.3693471645626119E-3},{"$f":"R77+(S90*(1-RDSmort33))","v":7.4818603245473065E-3},{"$f":"S77+(T90*(1-RDSmort34))","v":7.537587650532856E-3},{"$f":"T77+(U90*(1-RDSmort35))","v":7.5582693611101924E-3},{"$f":"U77+(V90*(1-RDSmort36))","v":7.5615789240713804E-3},{"$f":"V77+(W90*(1-RDSmort37))","v":7.5615789240713804E-3}]
[null,null,null,null,null,null,null,null,"IVH survive",{"$f":"J91*(1-IVHmort24)","v":2.9585390954839597E-4},{"$f":"J78+(K91*(1-IVHmort25))","v":7.0164637706322211E-4},{"$f":"K78+(L91*(1-IVHmort26))","v":1.0251819387924292E-3},{"$f":"L78+(M91*(1-IVHmort27))","v":1.215681168738424E-3},{"$f":"M78+(N91*(1-IVHmort28))","v":1.2991510288257132E-3},{"$f":"N78+(O91*(1-IVHmort29))","v":1.3269179807892848E-3},{"$f":"O78+(P91*(1-IVHmort30))","v":1.3409572249695079E-3},{"$f":"P78+(Q91*(1-IVHmort31))","v":1.3580806525147328E-3},{"$f":"Q78+(R91*(1-IVHmort32))","v":1.372657641122795E-3},{"$f":"R78+(S91*(1-IVHmort33))","v":1.3743366897736556E-3},{"$f":"S78+(T91*(1-IVHmort34))","v":1.3743366897736556E-3},{"$f":"T78+(U91*(1-IVHmort35))","v":1.3743366897736556E-3},{"$f":"U78+(V91*(1-IVHmort36))","v":1.3743366897736556E-3},{"$f":"V78+(W91*(1-IVHmort37))","v":1.3743366897736556E-3}]
[null,null,null,null,null,null,null,null,"CP",{"$f":"J85*CPrate24","v":2.0596778781106263E-4},{"$f":"J79+(K85*CPrate25)","v":3.8585979666566595E-4},{"$f":"K79+(L85*CPrate26)","v":5.4057388107221598E-4},{"$f":"L79+(M85*CPrate27)","v":6.7133811694438349E-4},{"$f":"M79+(N85*CPrate28)","v":7.7970886084668869E-4},{"$f":"N79+(O85*CPrate29)","v":8.6755021481221741E-4},{"$f":"O79+(P85*CPrate30)","v":9.3699489673145214E-4},{"$f":"P79+(Q85*CPrate31)","v":9.9038651631327295E-4},{"$f":"Q79+(R85*CPrate32)","v":1.0302032566170843E-3},{"$f":"R79+(S85*CPrate33)","v":1.0589629611568228E-3},{"$f":"S79+(T85*CPrate34)","v":1.0791096265765452E-3},{"$f":"T79+(U85*CPrate35)","v":1.0928813008975E-3},{"$f":"U79+(V85*CPrate36)","v":1.1009114079105567E-3},{"$f":"V79+(W85*CPrate37)","v":1.1081778689758708E-3}]
[]
[]
[]
[]
[null,null,null,null,null,null,null,null,"Stillbirths per GA",{"$f":"J71","v":0},{"$f":"K71-J71","v":0},0,0,0,0,0,0,0,0,0,0,0,0]
[null,null,null,null,null,null,null,null,"Live births per GA",{"$f":"(2*J70)-J84","v":1.7440117511521003E-3},{"$f":"2*(K70-J70)-K84","v":1.7533334196355114E-3},1.7521413862576466E-3,1.7388861153213803E-3,1.7120180711264693E-3,1.6699877179758345E-3,1.6112455201678609E-3,1.5342419420063553E-3,1.4374274477910298E-3,1.3192525018228748E-3,1.1781675684048309E-3,1.0126231118349309E-3,7.1062893920856296E-4,7.12398143658248E-4]
[null,null,null,null,null,null,null,null,"NND per GA",{"$f":"J85*NND_24","v":7.4182792989940219E-4},{"$f":"K85*NND_25","v":4.5234630123544442E-4},{"$f":"L85*NND_26","v":2.7417537092881206E-4},{"$f":"M85*NND_27","v":1.6503771061764029E-4},{"$f":"N85*NND_28","v":9.8553750094847729E-5},{"$f":"O85*NND_29","v":5.8308362621119091E-5},{"$f":"P85*NND_30","v":3.4121809249274905E-5},{"$f":"Q85*NND_31","v":1.9706837614606724E-5},{"$f":"R85*NND_32","v":1.119854964208142E-5},{"$f":"S85*NND_33","v":6.2338526344312961E-6},{"$f":"T85*NND_34","v":3.3766685106688927E-6},{"$f":"U85*NND_35","v":1.7602808266210729E-6},{"$f":"V85*NND_36","v":7.4925521026759657E-7},{"$f":"W85*NND_37","v":4.5557766085803494E-7}]
[null,null,null,null,null,null,null,null,"NICU admission per GA",{"$f":"J85*NICU24","v":1.7440117511521003E-3},{"$f":"K85*NICU25","v":1.7533334196355114E-3},{"$f":"L85*NICU26","v":1.7521413862576466E-3},{"$f":"M85*NICU27","v":1.7388861153213803E-3},{"$f":"N85*NICU28","v":1.7120180711264693E-3},{"$f":"O85*NICU29","v":1.6699877179758345E-3},{"$f":"P85*NICU30","v":1.6112455201678609E-3},{"$f":"Q85*NICU31","v":1.5342419420063553E-3},{"$f":"R85*NICU32","v":1.4374274477910298E-3},{"$f":"S85*NICU33","v":1.0068290143328037E-3},{"$f":"T85*NICU34","v":6.8196181897389242E-4},{"$f":"U85*NICU35","v":4.1985545223520573E-4},{"$f":"V85*NICU36","v":1.922595844143855E-4},{"$f":"W85*NICU37","v":1.0444694967218785E-4}]
[null,null,null,null,null,null,null,null,"PND per GA",{"$f":"J85*PND_24","v":1.2848562967549679E-4},{"$f":"K85*PND_25","v":9.194106652653094E-5},{"$f":"L85*PND_26","v":6.5396431478757612E-5},{"$f":"M85*PND_27","v":4.6195100740119006E-5},{"$f":"N85*PND_28","v":3.2372258486514908E-5},{"$f":"O85*PND_29","v":2.2475937109964444E-5},{"$f":"P85*PND_30","v":1.5434982098807153E-5},{"$f":"Q85*PND_31","v":1.0461118807201628E-5},{"$f":"R85*PND_32","v":6.9760581658491266E-6},{"$f":"S85*PND_33","v":4.5571357125364149E-6},{"$f":"T85*PND_34","v":2.8967497326069242E-6},{"$f":"U85*PND_35","v":1.7721138646031415E-6},{"$f":"V85*PND_36","v":8.8516972921504102E-7},{"$f":"W85*PND_37","v":6.3160610540704659E-7}]
[null,null,null,null,null,null,null,null,"Surviving Babies",null,null,null,null,null,null,null,null,null,null,null,null,null,null,{"$f":"(W70*2)-(W71+W72)","v":1.8018511379617561E-2},{"$f":"X89-W74","v":1.7588030021383951E-2}]
[null,null,null,null,null,null,null,null,"RDS per GA",{"$f":"J85*RDS_24","v":1.7091315161290623E-3},{"$f":"K85*RDS_25","v":1.462549815579039E-3},{"$f":"L85*RDS_26","v":1.2265888237847761E-3},{"$f":"M85*RDS_27","v":1.0045411327741225E-3},{"$f":"N85*RDS_28","v":7.9964413291384146E-4},{"$f":"O85*RDS_29","v":6.1489804179828272E-4},{"$f":"P85*RDS_30","v":4.5288393313025862E-4},{"$f":"Q85*RDS_31","v":3.1558176560961547E-4},{"$f":"R85*RDS_32","v":2.0418841181441837E-4},{"$f":"S85*RDS_33","v":1.1893568708741535E-4},{"$f":"T85*RDS_34","v":5.8908378420242386E-5},{"$f":"U85*RDS_35","v":2.1862273337564905E-5},{"$f":"V85*RDS_36","v":3.4984809314880701E-6},{"$f":"W85*RDS_37","v":0}]
[null,null,null,null,null,null,null,null,"IVH per GA",{"$f":"J85*IVH_24","v":4.2264844221199426E-4},{"$f":"K85*IVH_25","v":5.7970352502118027E-4},{"$f":"L85*IVH_26","v":4.621936596131529E-4},{"$f":"M85*IVH_27","v":2.7214175706570689E-4},{"$f":"N85*IVH_28","v":1.1924265726755605E-4},{"$f":"O85*IVH_29","v":3.9667074233673636E-5},{"$f":"P85*IVH_30","v":2.0056063114604308E-5},{"$f":"Q85*IVH_31","v":2.4462039350321274E-5},{"$f":"R85*IVH_32","v":2.0824269440088868E-5},{"$f":"S85*IVH_33","v":2.3986409298009162E-6},{"$f":"T85*IVH_34","v":0},{"$f":"U85*IVH_35","v":0},{"$f":"V85*IVH_36","v":0},{"$f":"W85*IVH_37","v":0}," "," "]
[null,null,null,null,null,null,null,null,"RDS Survive per GA",{"$f":"J90*(1-RDSmort24)","v":1.6168384142580929E-3},{"$f":"K90*(1-RDSmort25)","v":1.3835721255377709E-3},{"$f":"L90*(1-RDSmort26)","v":1.1603530273003981E-3},{"$f":"M90*(1-RDSmort27)","v":9.5029591160431979E-4},{"$f":"N90*(1-RDSmort28)","v":7.5646334973649397E-4},{"$f":"O90*(1-RDSmort29)","v":5.8169354754117547E-4},{"$f":"P90*(1-RDSmort30)","v":4.2842820074122465E-4},{"$f":"Q90*(1-RDSmort31)","v":2.9854035026669621E-4},{"$f":"R90*(1-RDSmort32)","v":1.9316223757643978E-4},{"$f":"S90*(1-RDSmort33)","v":1.1251315998469491E-4},{"$f":"T90*(1-RDSmort34)","v":5.5727325985549295E-5},{"$f":"U90*(1-RDSmort35)","v":2.0681710577336399E-5},{"$f":"V90*(1-RDSmort36)","v":3.3095629611877142E-6},{"$f":"W90*(1-RDSmort37)","v":0}]
[null,null,null,null,null,null,null,null,"IVH survive per GA",{"$f":"J91*(1-IVHmort24)","v":2.9585390954839597E-4},{"$f":"K91*(1-IVHmort25)","v":4.0579246751482615E-4},{"$f":"L91*(1-IVHmort26)","v":3.23535561729207E-4},{"$f":"M91*(1-IVHmort27)","v":1.9049922994599481E-4},{"$f":"N91*(1-IVHmort28)","v":8.3469860087289228E-5},{"$f":"O91*(1-IVHmort29)","v":2.7766951963571545E-5},{"$f":"P91*(1-IVHmort30)","v":1.4039244180223015E-5},{"$f":"Q91*(1-IVHmort31)","v":1.7123427545224889E-5},{"$f":"R91*(1-IVHmort32)","v":1.4576988608062207E-5},{"$f":"S91*(1-IVHmort33)","v":1.6790486508606412E-6},{"$f":"T91*(1-IVHmort34)","v":0},{"$f":"U91*(1-IVHmort35)","v":0},{"$f":"V91*(1-IVHmort36)","v":0},{"$f":"W91*(1-IVHmort37)","v":0}]
[null,null,null,null,null,null,null,null,"CP per GA",{"$f":"J85*CPrate24","v":2.0596778781106263E-4},{"$f":"K85*CPrate25","v":1.7989200885460332E-4},{"$f":"L85*CPrate26","v":1.5471408440655008E-4},{"$f":"M85*CPrate27","v":1.3076423587216748E-4},{"$f":"N85*CPrate28","v":1.0837074390230517E-4},{"$f":"O85*CPrate29","v":8.7841353965528683E-5},{"$f":"P85*CPrate30","v":6.944468191923467E-5},{"$f":"Q85*CPrate31","v":5.3391619581820905E-5},{"$f":"R85*CPrate32","v":3.9816740303811288E-5},{"$f":"S85*CPrate33","v":2.8759704539738579E-5},{"$f":"T85*CPrate34","v":2.0146665419722351E-5},{"$f":"U85*CPrate35","v":1.3771674320954893E-5},{"$f":"V85*CPrate36","v":8.030107013056666E-6},{"$f":"W85*CPrate37","v":7.2664610653140412E-6}," "]
[]
[null,null,null,null,null,null,null,null,null,null,null,null," "]
[]
[null,null,null,null,null,null,null,null,"Screening threshold: CL = 15mm"]
[]
[null,null,null,null,null,null,null,null,"On-going Pregnancy",{"$f":"SUM('Distribution Data'!$K$13:$K$17)-J101","v":9.1476809925449265E-3},{"$f":"SUM('Distribution Data'!$K$13:$K$17)-K101","v":8.3781321838720356E-3},{"$f":"SUM('Distribution Data'!$K$13:$K$17)-L101","v":7.6139442422490785E-3},{"$f":"SUM('Distribution Data'!$K$13:$K$17)-M101","v":6.8408470714739003E-3},{"$f":"SUM('Distribution Data'!$K$13:$K$17)-N101","v":6.0508916290566072E-3},{"$f":"SUM('Distribution Data'!$K$13:$K$17)-O101","v":5.2424499262184827E-3},{"$f":"SUM('Distribution Data'!$K$13:$K$17)-P101","v":4.4202150278943178E-3},{"$f":"SUM('Distribution Data'!$K$13:$K$17)-Q101","v":3.5952010527298423E-3},{"$f":"SUM('Distribution Data'!$K$13:$K$17)-R101","v":2.7847431730833655E-3},{"$f":"SUM('Distribution Data'!$K$13:$K$17)-S101","v":2.012497615025241E-3},{"$f":"SUM('Distribution Data'!$K$13:$K$17)-T101","v":1.3084416583369705E-3},{"$f":"SUM('Distribution Data'!$K$13:$K$17)-U101","v":7.088736365139809E-4},{"$f":"SUM('Distribution Data'!$K$13:$K$17)-V101","v":3.1959140190168135E-4},{"$f":"SUM('Distribution Data'!$K$13:$K$17)-W101","v":0}]
[null,null,null,null,null,null,null,null,"Twin birth (pregnancies)",{"$f":"'Markov Transitions 1.7'!Q4","v":7.9550082563689195E-4},{"$f":"'Markov Transitions 1.7'!Q5","v":1.5650496343097818E-3},{"$f":"'Markov Transitions 1.7'!Q6","v":2.3292375759327395E-3},{"$f":"'Markov Transitions 1.7'!Q7","v":3.1023347467079177E-3},{"$f":"'Markov Transitions 1.7'!Q8","v":3.8922901891252108E-3},{"$f":"'Markov Transitions 1.7'!Q9","v":4.7007318919633353E-3},{"$f":"'Markov Transitions 1.7'!Q10","v":5.5229667902875002E-3},{"$f":"'Markov Transitions 1.7'!Q11","v":6.3479807654519757E-3},{"$f":"'Markov Transitions 1.7'!Q12","v":7.1584386450984526E-3},{"$f":"'Markov Transitions 1.7'!Q13","v":7.930684203156577E-3},{"$f":"'Markov Transitions 1.7'!Q14","v":8.6347401598448476E-3},{"$f":"'Markov Transitions 1.7'!Q15","v":9.2343081816678371E-3},{"$f":"'Markov Transitions 1.7'!Q16","v":9.6235904162801367E-3},{"$f":"'Markov Transitions 1.7'!Q17","v":9.943181818181818E-3}]
[null,null,null,null,null,null,null,null,"Stillbirths",{"$f":"2*(J101*Stillbirth24)","v":0},{"$f":"J102+(2*(K101-J101)*Stillbirth25)","v":0},{"$f":"K102+(2*(L101-K101)*Stillbirth26)","v":0},{"$f":"L102+(2*(M101-L101)*Stillbirth27)","v":0},{"$f":"M102+(2*(N101-M101)*Stillbirth28)","v":0},{"$f":"N102+(2*(O101-N101)*Stillbirth29)","v":0},{"$f":"O102+(2*(P101-O101)*Stillbirth30)","v":0},{"$f":"P102+(2*(Q101-P101)*Stillbirth31)","v":0},{"$f":"Q102+(2*(R101-Q101)*Stillbirth32)","v":0},{"$f":"R102+(2*(S101-R101)*Stillbirth33)","v":0},{"$f":"S102+(2*(T101-S101)*Stillbirth34)","v":0},{"$f":"T102+(2*(U101-T101)*Stillbirth35)","v":0},{"$f":"U102+(2*(V101-U101)*Stillbirth36)","v":0},{"$f":"V102+(2*(W101-V101)*Stillbirth37)","v":0}]
[null,null,null,null,null,null,null,null,"NND",{"$f":"((2*J101)-J102)*NND_24","v":6.7674398446643756E-4},{"$f":"J103+((2*(K101-J101))-(K102-J102))*NND_25","v":1.0738191252524828E-3},{"$f":"K103+((2*(L101-K101))-(L102-K102))*NND_26","v":1.3129796336419472E-3},{"$f":"L103+((2*(M101-L101))-(M102-L102))*NND_27","v":1.4597289647516837E-3},{"$f":"M103+((2*(N101-M101))-(N102-M102))*NND_28","v":1.5506778543353471E-3},{"$f":"N103+((2*(O101-N101))-(O102-N102))*NND_29","v":1.607132056315056E-3},{"$f":"O103+((2*(P101-O101))-(P102-O102))*NND_30","v":1.6419574656118231E-3},{"$f":"P103+((2*(Q101-P101))-(Q102-P102))*NND_31","v":1.6631515367595405E-3},{"$f":"Q103+((2*(R101-Q101))-(R102-Q102))*NND_32","v":1.6757795866997091E-3},{"$f":"R103+((2*(S101-R101))-(S102-R102))*NND_33","v":1.6830777574439399E-3},{"$f":"S103+((2*(T101-S101))-(T102-S102))*NND_34","v":1.687113454304815E-3},{"$f":"T103+((2*(U101-T101))-(U102-T102))*NND_35","v":1.6891979575730796E-3},{"$f":"U103+((2*(V101-U101))-(V102-U102))*NND_36","v":1.6900188409524498E-3},{"$f":"V103+((2*(W101-V101))-(W102-V102))*NND_37","v":1.6904275975013117E-3}," "]
[null,null,null,null,null,null,null,null,"NICU admission",{"$f":"J116*NICU24","v":1.5910016512737839E-3},{"$f":"J104+(K116*NICU25)","v":3.1300992686195636E-3},{"$f":"K104+(L116*NICU26)","v":4.658475151865479E-3},{"$f":"L104+(M116*NICU27)","v":6.2046694934158354E-3},{"$f":"M104+(N116*NICU28)","v":7.7845803782504216E-3},{"$f":"N104+(O116*NICU29)","v":9.4014637839266706E-3},{"$f":"O104+(P116*NICU30)","v":1.1045933580575E-2},{"$f":"P104+(Q116*NICU31)","v":1.2695961530903951E-2},{"$f":"Q104+(R116*NICU32)","v":1.4316877290196905E-2},{"$f":"R104+(S116*NICU33)","v":1.5495604232868171E-2},{"$f":"S104+(T116*NICU34)","v":1.6310665339214218E-2},{"$f":"T104+(U116*NICU35)","v":1.6807853088547937E-2},{"$f":"U104+(V116*NICU36)","v":1.7018492527830605E-2},{"$f":"V104+(W116*NICU37)","v":1.7112205144482515E-2}]
[null,null,null,null,null,null,null,null,"PND",{"$f":"J116*PND_24","v":1.1721299976541222E-4},{"$f":"J105+(K116*PND_25)","v":1.9791999755744107E-4},{"$f":"K105+(L116*PND_26)","v":2.5496466844211123E-4},{"$f":"L105+(M116*PND_27)","v":2.9604073589838603E-4},{"$f":"M105+(N116*PND_28)","v":3.2591500207121405E-4},{"$f":"N105+(O116*PND_29)","v":3.476762218388497E-4},{"$f":"O105+(P116*PND_30)","v":3.6342947704147806E-4},{"$f":"P105+(Q116*PND_31)","v":3.7468007445444007E-4},{"$f":"Q105+(R116*PND_32)","v":3.8254662983164966E-4},{"$f":"R105+(S116*PND_33)","v":3.8788181442536712E-4},{"$f":"S105+(T116*PND_34)","v":3.9134392619786889E-4},{"$f":"T105+(U116*PND_35)","v":3.9344244200661808E-4},{"$f":"U105+(V116*PND_36)","v":3.9441223321884698E-4},{"$f":"V105+(W116*PND_37)","v":3.9497892722969926E-4}]
[null,null,null,null,null,null,null,null,"RDS",{"$f":"J116*RDS_24","v":1.5591816182483117E-3},{"$f":"J106+(K116*RDS_25)","v":2.8430258153635157E-3},{"$f":"K106+(L116*RDS_26)","v":3.9129673118860793E-3},{"$f":"L106+(M116*RDS_27)","v":4.8061918891970949E-3},{"$f":"M106+(N116*RDS_28)","v":5.5441318040213737E-3},{"$f":"N106+(O116*RDS_29)","v":6.1394765657011427E-3},{"$f":"O106+(P116*RDS_30)","v":6.6016990762359888E-3},{"$f":"P106+(Q116*RDS_31)","v":6.9410971330959598E-3},{"$f":"Q106+(R116*RDS_32)","v":7.1713502948006517E-3},{"$f":"R106+(S116*RDS_33)","v":7.310592109268977E-3},{"$f":"S106+(T116*RDS_34)","v":7.3809977049378054E-3},{"$f":"T106+(U116*RDS_35)","v":7.4068867446493419E-3},{"$f":"U106+(V116*RDS_36)","v":7.4107196774209089E-3},{"$f":"V106+(W116*RDS_37)","v":7.4107196774209089E-3}]
[null,null,null,null,null,null,null,null,"IVH",{"$f":"J116*IVH_24","v":3.8556756800713223E-4},{"$f":"J107+(K116*IVH_25)","v":8.944384445529782E-4},{"$f":"K107+(L116*IVH_26)","v":1.2976054767813009E-3},{"$f":"L107+(M116*IVH_27)","v":1.5395902975047665E-3},{"$f":"M107+(N116*IVH_28)","v":1.6496316430553153E-3},{"$f":"N107+(O116*IVH_29)","v":1.6880373351390238E-3},{"$f":"O107+(P116*IVH_30)","v":1.7085069591775773E-3},{"$f":"P107+(Q116*IVH_31)","v":1.7348150971217748E-3},{"$f":"Q107+(R116*IVH_32)","v":1.7582975946649202E-3},{"$f":"R107+(S116*IVH_33)","v":1.7611057603509517E-3},{"$f":"S107+(T116*IVH_34)","v":1.7611057603509517E-3},{"$f":"T107+(U116*IVH_35)","v":1.7611057603509517E-3},{"$f":"U107+(V116*IVH_36)","v":1.7611057603509517E-3},{"$f":"V107+(W116*IVH_37)","v":1.7611057603509517E-3}]
[null,null,null,null,null,null,null,null,"RDS Survive",{"$f":"J121*(1-RDSmort24)","v":1.4749858108629027E-3},{"$f":"J108+(K121*(1-RDSmort25))","v":2.6895024213338856E-3},{"$f":"K108+(L121*(1-RDSmort26))","v":3.7016670770442309E-3},{"$f":"L108+(M121*(1-RDSmort27))","v":4.5466575271804512E-3},{"$f":"M108+(N121*(1-RDSmort28))","v":5.2447486866042184E-3},{"$f":"N108+(O121*(1-RDSmort29))","v":5.8079448311532797E-3},{"$f":"O108+(P121*(1-RDSmort30))","v":6.2452073261192436E-3},{"$f":"P108+(Q121*(1-RDSmort31))","v":6.5662778879087766E-3},{"$f":"Q108+(R121*(1-RDSmort32))","v":6.7840973788814152E-3},{"$f":"R108+(S121*(1-RDSmort33))","v":6.9158201353684513E-3},{"$f":"S108+(T121*(1-RDSmort34))","v":6.9824238288711624E-3},{"$f":"T108+(U121*(1-RDSmort35))","v":7.0069148604382766E-3},{"$f":"U108+(V121*(1-RDSmort36))","v":7.0105408148401788E-3},{"$f":"V108+(W121*(1-RDSmort37))","v":7.0105408148401788E-3}]
[null,null,null,null,null,null,null,null,"IVH survive",{"$f":"J122*(1-IVHmort24)","v":2.6989729760499252E-4},{"$f":"J109+(K122*(1-IVHmort25))","v":6.2610691118708463E-4},{"$f":"K109+(L122*(1-IVHmort26))","v":9.0832383374691043E-4},{"$f":"L109+(M122*(1-IVHmort27))","v":1.0777132082533363E-3},{"$f":"M109+(N122*(1-IVHmort28))","v":1.1547421501387205E-3},{"$f":"N109+(O122*(1-IVHmort29))","v":1.1816261345973164E-3},{"$f":"O109+(P122*(1-IVHmort30))","v":1.1959548714243038E-3},{"$f":"P109+(Q122*(1-IVHmort31))","v":1.2143705679852419E-3},{"$f":"Q109+(R122*(1-IVHmort32))","v":1.2308083162654439E-3},{"$f":"R109+(S122*(1-IVHmort33))","v":1.2327740322456661E-3},{"$f":"S109+(T122*(1-IVHmort34))","v":1.2327740322456661E-3},{"$f":"T109+(U122*(1-IVHmort35))","v":1.2327740322456661E-3},{"$f":"U109+(V122*(1-IVHmort36))","v":1.2327740322456661E-3},{"$f":"V109+(W122*(1-IVHmort37))","v":1.2327740322456661E-3}]
[null,null,null,null,null,null,null,null,"CP",{"$f":"J116*CPrate24","v":1.8789729501543349E-4},{"$f":"J110+(K116*CPrate25)","v":3.4580871055511038E-4},{"$f":"K110+(L116*CPrate26)","v":4.807643010457246E-4},{"$f":"L110+(M116*CPrate27)","v":5.9703811553031116E-4},{"$f":"M110+(N116*CPrate28)","v":6.9704647454034018E-4},{"$f":"N110+(O116*CPrate29)","v":7.8209454167891071E-4},{"$f":"O110+(P116*CPrate30)","v":8.5297118991445363E-4},{"$f":"P110+(Q116*CPrate31)","v":9.103921625859009E-4},{"$f":"Q110+(R116*CPrate32)","v":9.552915291183155E-4},{"$f":"R110+(S116*CPrate33)","v":9.8896143544964965E-4},{"$f":"S110+(T116*CPrate34)","v":1.0130401491683881E-3},{"$f":"T110+(U116*CPrate35)","v":1.0293483993619732E-3},{"$f":"U110+(V116*CPrate36)","v":1.038146177864211E-3},{"$f":"V110+(W116*CPrate37)","v":1.0446658424630051E-3}]
[]
[]
[]
[]
[null,null,null,null,null,null,null,null,"Stillbirths per GA",{"$f":"J102","v":0},{"$f":"K102-J102","v":0},0,0,0,0,0,0,0,0,0,0,0,0]
[null,null,null,null,null,null,null,null,"Live births per GA",{"$f":"(2*J101)-J115","v":1.5910016512737839E-3},{"$f":"2*(K101-J101)-K115","v":1.5390976173457797E-3},1.5283758832459154E-3,1.5461943415503564E-3,1.5799108848345862E-3,1.6168834056762491E-3,1.6444697966483297E-3,1.650027950328951E-3,1.6209157592929537E-3,1.5444911161162488E-3,1.4081119133765412E-3,1.1991360436459791E-3,7.785644692245991E-4,6.391828038033627E-4]
[null,null,null,null,null,null,null,null,"NND per GA",{"$f":"J116*NND_24","v":6.7674398446643756E-4},{"$f":"K116*NND_25","v":3.9707514078604525E-4},{"$f":"L116*NND_26","v":2.3916050838946435E-4},{"$f":"M116*NND_27","v":1.4674933110973647E-4},{"$f":"N116*NND_28","v":9.0948889583663349E-5},{"$f":"O116*NND_29","v":5.6454201979708802E-5},{"$f":"P116*NND_30","v":3.4825409296767126E-5},{"$f":"Q116*NND_31","v":2.119407114771753E-5},{"$f":"R116*NND_32","v":1.2628049940168615E-5},{"$f":"S116*NND_33","v":7.2981707442308118E-6},{"$f":"T116*NND_34","v":4.0356968608751547E-6},{"$f":"U116*NND_35","v":2.0845032682646831E-6},{"$f":"V116*NND_36","v":8.2088337937015933E-7},{"$f":"W116*NND_37","v":4.0875654886196565E-7}]
[null,null,null,null,null,null,null,null,"NICU admission per GA",{"$f":"J116*NICU24","v":1.5910016512737839E-3},{"$f":"K116*NICU25","v":1.5390976173457797E-3},{"$f":"L116*NICU26","v":1.5283758832459154E-3},{"$f":"M116*NICU27","v":1.5461943415503564E-3},{"$f":"N116*NICU28","v":1.5799108848345862E-3},{"$f":"O116*NICU29","v":1.6168834056762491E-3},{"$f":"P116*NICU30","v":1.6444697966483297E-3},{"$f":"Q116*NICU31","v":1.650027950328951E-3},{"$f":"R116*NICU32","v":1.6209157592929537E-3},{"$f":"S116*NICU33","v":1.178726942671265E-3},{"$f":"T116*NICU34","v":8.1506110634604748E-4},{"$f":"U116*NICU35","v":4.9718774933372079E-4},{"$f":"V116*NICU36","v":2.1063943928266684E-4},{"$f":"W116*NICU37","v":9.371261665191005E-5}]
[null,null,null,null,null,null,null,null,"PND per GA",{"$f":"J116*PND_24","v":1.1721299976541222E-4},{"$f":"K116*PND_25","v":8.0706997792028833E-5},{"$f":"L116*PND_26","v":5.7044670884670142E-5},{"$f":"M116*PND_27","v":4.1076067456274817E-5},{"$f":"N116*PND_28","v":2.9874266172827993E-5},{"$f":"O116*PND_29","v":2.1761219767635663E-5},{"$f":"P116*PND_30","v":1.5753255202628368E-5},{"$f":"Q116*PND_31","v":1.125059741296203E-5},{"$f":"R116*PND_32","v":7.8665553772095657E-6},{"$f":"S116*PND_33","v":5.3351845937174349E-6},{"$f":"T116*PND_34","v":3.4621117725017448E-6},{"$f":"U116*PND_35","v":2.0985158087491863E-6},{"$f":"V116*PND_36","v":9.6979121222887329E-7},{"$f":"W116*PND_37","v":5.6669401085226178E-7}]
[null,null,null,null,null,null,null,null,"Surviving Babies",null,null,null,null,null,null,null,null,null,null,null,null,null,null,{"$f":"(W101*2)-(W102+W103)","v":1.8195936038862326E-2},{"$f":"X120-W105","v":1.7800957111632626E-2}]
[null,null,null,null,null,null,null,null,"RDS per GA",{"$f":"J116*RDS_24","v":1.5591816182483117E-3},{"$f":"K116*RDS_25","v":1.2838441971152041E-3},{"$f":"L116*RDS_26","v":1.0699414965225638E-3},{"$f":"M116*RDS_27","v":8.9322457731101537E-4},{"$f":"N116*RDS_28","v":7.3793991482427868E-4},{"$f":"O116*RDS_29","v":5.9534476167976867E-4},{"$f":"P116*RDS_30","v":4.6222251053484577E-4},{"$f":"Q116*RDS_31","v":3.3939805685997103E-4},{"$f":"R116*RDS_32","v":2.3025316170469172E-4},{"$f":"S116*RDS_33","v":1.3924181446832556E-4},{"$f":"T116*RDS_34","v":7.0405595668828052E-5},{"$f":"U116*RDS_35","v":2.5889039711536857E-5},{"$f":"V116*RDS_36","v":3.8329327715669943E-6},{"$f":"W116*RDS_37","v":0}]
[null,null,null,null,null,null,null,null,"IVH per GA",{"$f":"J116*IVH_24","v":3.8556756800713223E-4},{"$f":"K116*IVH_25","v":5.0887087654584592E-4},{"$f":"L116*IVH_26","v":4.0316703222832267E-4},{"$f":"M116*IVH_27","v":2.4198482072346561E-4},{"$f":"N116*IVH_28","v":1.1004134555054876E-4},{"$f":"O116*IVH_29","v":3.8405692083708433E-5},{"$f":"P116*IVH_30","v":2.0469624038553332E-5},{"$f":"Q116*IVH_31","v":2.6308137944197568E-5},{"$f":"R116*IVH_32","v":2.3482497543145457E-5},{"$f":"S116*IVH_33","v":2.8081656860315972E-6},{"$f":"T116*IVH_34","v":0},{"$f":"U116*IVH_35","v":0},{"$f":"V116*IVH_36","v":0},{"$f":"W116*IVH_37","v":0}," "," "]
[null,null,null,null,null,null,null,null,"RDS Survive per GA",{"$f":"J121*(1-RDSmort24)","v":1.4749858108629027E-3},{"$f":"K121*(1-RDSmort25)","v":1.2145166104709829E-3},{"$f":"L121*(1-RDSmort26)","v":1.0121646557103453E-3},{"$f":"M121*(1-RDSmort27)","v":8.4499045013622051E-4},{"$f":"N121*(1-RDSmort28)","v":6.9809115942376756E-4},{"$f":"O121*(1-RDSmort29)","v":5.6319614454906116E-4},{"$f":"P121*(1-RDSmort30)","v":4.3726249496596405E-4},{"$f":"Q121*(1-RDSmort31)","v":3.2107056178953255E-4},{"$f":"R121*(1-RDSmort32)","v":2.1781949097263834E-4},{"$f":"S121*(1-RDSmort33)","v":1.3172275648703599E-4},{"$f":"T121*(1-RDSmort34)","v":6.6603693502711338E-5},{"$f":"U121*(1-RDSmort35)","v":2.4491031567113865E-5},{"$f":"V121*(1-RDSmort36)","v":3.6259544019023766E-6},{"$f":"W121*(1-RDSmort37)","v":0}]
[null,null,null,null,null,null,null,null,"IVH survive per GA",{"$f":"J122*(1-IVHmort24)","v":2.6989729760499252E-4},{"$f":"K122*(1-IVHmort25)","v":3.5620961358209211E-4},{"$f":"L122*(1-IVHmort26)","v":2.8221692255982585E-4},{"$f":"M122*(1-IVHmort27)","v":1.6938937450642591E-4},{"$f":"N122*(1-IVHmort28)","v":7.7028941885384122E-5},{"$f":"O122*(1-IVHmort29)","v":2.6883984458595901E-5},{"$f":"P122*(1-IVHmort30)","v":1.4328736826987331E-5},{"$f":"Q122*(1-IVHmort31)","v":1.8415696560938296E-5},{"$f":"R122*(1-IVHmort32)","v":1.6437748280201817E-5},{"$f":"S122*(1-IVHmort33)","v":1.9657159802221179E-6},{"$f":"T122*(1-IVHmort34)","v":0},{"$f":"U122*(1-IVHmort35)","v":0},{"$f":"V122*(1-IVHmort36)","v":0},{"$f":"W122*(1-IVHmort37)","v":0}]
[null,null,null,null,null,null,null,null,"CP per GA",{"$f":"J116*CPrate24","v":1.8789729501543349E-4},{"$f":"K116*CPrate25","v":1.5791141553967686E-4},{"$f":"L116*CPrate26","v":1.3495559049061422E-4},{"$f":"M116*CPrate27","v":1.1627381448458654E-4},{"$f":"N116*CPrate28","v":1.0000835901002899E-4},{"$f":"O116*CPrate29","v":8.504806713857049E-5},{"$f":"P116*CPrate30","v":7.0876648235542871E-5},{"$f":"Q116*CPrate31","v":5.742097267144722E-5},{"$f":"R116*CPrate32","v":4.4899366532414552E-5},{"$f":"S116*CPrate33","v":3.3669906331334119E-5},{"$f":"T116*CPrate34","v":2.4078713718738548E-5},{"$f":"U116*CPrate35","v":1.6308250193585119E-5},{"$f":"V116*CPrate36","v":8.7977785022378647E-6},{"$f":"W116*CPrate37","v":6.5196645987942206E-6}," "]
[]
[null,null,null,null,null,null,null,null,null,null,null,null," "]
[]
[null,null,null,null,null,null,null,null,"Screening threshold: CL = 20mm"]
[]
[null,null,null,null,null,null,null,null,"On-going Pregnancy",{"$f":"SUM('Distribution Data'!$K$13:$K$17)-J132","v":9.197214582618048E-3},{"$f":"SUM('Distribution Data'!$K$13:$K$17)-K132","v":8.5149575543852999E-3},{"$f":"SUM('Distribution Data'!$K$13:$K$17)-L132","v":7.8497363572690437E-3},{"$f":"SUM('Distribution Data'!$K$13:$K$17)-M132","v":7.1665571380860648E-3},{"$f":"SUM('Distribution Data'!$K$13:$K$17)-N132","v":6.4421065666855652E-3},{"$f":"SUM('Distribution Data'!$K$13:$K$17)-O132","v":5.6647518359470772E-3},{"$f":"SUM('Distribution Data'!$K$13:$K$17)-P132","v":4.8345406617835603E-3},{"$f":"SUM('Distribution Data'!$K$13:$K$17)-Q132","v":3.9632012831383682E-3},{"$f":"SUM('Distribution Data'!$K$13:$K$17)-R132","v":3.0741424619871284E-3},{"$f":"SUM('Distribution Data'!$K$13:$K$17)-S132","v":2.2024534833371325E-3},{"$f":"SUM('Distribution Data'!$K$13:$K$17)-T132","v":1.3949041552266152E-3},{"$f":"SUM('Distribution Data'!$K$13:$K$17)-U132","v":7.0994480872711187E-4},{"$f":"SUM('Distribution Data'!$K$13:$K$17)-V132","v":2.808847630799173E-4},{"$f":"SUM('Distribution Data'!$K$13:$K$17)-W132","v":6.0715321659188248E-17}]
[null,null,null,null,null,null,null,null,"Twin birth (pregnancies)",{"$f":"'Markov Transitions 1.7'!L22","v":7.459672355637696E-4},{"$f":"'Markov Transitions 1.7'!L23","v":1.4282242637965181E-3},{"$f":"'Markov Transitions 1.7'!L24","v":2.0934454609127739E-3},{"$f":"'Markov Transitions 1.7'!L25","v":2.7766246800957533E-3},{"$f":"'Markov Transitions 1.7'!L26","v":3.5010752514962528E-3},{"$f":"'Markov Transitions 1.7'!L27","v":4.2784299822347409E-3},{"$f":"'Markov Transitions 1.7'!L28","v":5.1086411563982578E-3},{"$f":"'Markov Transitions 1.7'!L29","v":5.9799805350434498E-3},{"$f":"'Markov Transitions 1.7'!L30","v":6.8690393561946896E-3},{"$f":"'Markov Transitions 1.7'!L31","v":7.7407283348446855E-3},{"$f":"'Markov Transitions 1.7'!L32","v":8.5482776629552028E-3},{"$f":"'Markov Transitions 1.7'!L33","v":9.2332370094547062E-3},{"$f":"'Markov Transitions 1.7'!L34","v":9.6622970551019007E-3},{"$f":"'Markov Transitions 1.7'!L35","v":9.9431818181817573E-3}]
[null,null,null,null,null,null,null,null,"Stillbirths",{"$f":"2*(J132*Stillbirth24)","v":0},{"$f":"J133+(2*(K132-J132)*Stillbirth25)","v":0},{"$f":"K133+(2*(L132-K132)*Stillbirth26)","v":0},{"$f":"L133+(2*(M132-L132)*Stillbirth27)","v":0},{"$f":"M133+(2*(N132-M132)*Stillbirth28)","v":0},{"$f":"N133+(2*(O132-N132)*Stillbirth29)","v":0},{"$f":"O133+(2*(P132-O132)*Stillbirth30)","v":0},{"$f":"P133+(2*(Q132-P132)*Stillbirth31)","v":0},{"$f":"Q133+(2*(R132-Q132)*Stillbirth32)","v":0},{"$f":"R133+(2*(S132-R132)*Stillbirth33)","v":0},{"$f":"S133+(2*(T132-S132)*Stillbirth34)","v":0},{"$f":"T133+(2*(U132-T132)*Stillbirth35)","v":0},{"$f":"U133+(2*(V132-U132)*Stillbirth36)","v":0},{"$f":"V133+(2*(W132-V132)*Stillbirth37)","v":0}]
[null,null,null,null,null,null,null,null,"NND",{"$f":"((2*J132)-J133)*NND_24","v":6.3460504754682596E-4},{"$f":"J134+((2*(K132-J132))-(K133-J133))*NND_25","v":9.8663899586126148E-4},{"$f":"K134+((2*(L132-K132))-(L133-K133))*NND_26","v":1.1948268394902668E-3},{"$f":"L134+((2*(M132-L132))-(M133-L133))*NND_27","v":1.3245079419869274E-3},{"$f":"M134+((2*(N132-M132))-(N133-M133))*NND_28","v":1.4079151463546906E-3},{"$f":"N134+((2*(O132-N132))-(O133-N133))*NND_29","v":1.462198517468439E-3},{"$f":"O134+((2*(P132-O132))-(P133-O133))*NND_30","v":1.4973617585348567E-3},{"$f":"P134+((2*(Q132-P132))-(Q133-P133))*NND_31","v":1.5197458990957879E-3},{"$f":"Q134+((2*(R132-Q132))-(R133-Q133))*NND_32","v":1.5335986599550476E-3},{"$f":"R134+((2*(S132-R132))-(S133-R133))*NND_33","v":1.5418366289995688E-3},{"$f":"S134+((2*(T132-S132))-(T133-S133))*NND_34","v":1.5464655569384605E-3},{"$f":"T134+((2*(U132-T132))-(U133-T133))*NND_35","v":1.5488469381069649E-3},{"$f":"U134+((2*(V132-U132))-(V133-U133))*NND_36","v":1.5497517013581684E-3},{"$f":"V134+((2*(W132-V132))-(W133-V133))*NND_37","v":1.5501109522194283E-3}," "]
[null,null,null,null,null,null,null,null,"NICU admission",{"$f":"J147*NICU24","v":1.4919344711275392E-3},{"$f":"J135+(K147*NICU25)","v":2.8564485275930362E-3},{"$f":"K135+(L147*NICU26)","v":4.1868909218255477E-3},{"$f":"L135+(M147*NICU27)","v":5.5532493601915065E-3},{"$f":"M135+(N147*NICU28)","v":7.0021505029925057E-3},{"$f":"N135+(O147*NICU29)","v":8.5568599644694817E-3},{"$f":"O135+(P147*NICU30)","v":1.0217282312796516E-2},{"$f":"P135+(Q147*NICU31)","v":1.19599610700869E-2},{"$f":"Q135+(R147*NICU32)","v":1.3738078712389379E-2},{"$f":"R135+(S147*NICU33)","v":1.5068592399445139E-2},{"$f":"S135+(T147*NICU34)","v":1.6003464184203283E-2},{"$f":"T135+(U147*NICU35)","v":1.6571462115173199E-2},{"$f":"U135+(V147*NICU36)","v":1.6803625207649615E-2},{"$f":"V135+(W147*NICU37)","v":1.6885988018317352E-2}]
[null,null,null,null,null,null,null,null,"PND",{"$f":"J147*PND_24","v":1.099144772566863E-4},{"$f":"J136+(K147*PND_25)","v":1.8146668531758141E-4},{"$f":"K136+(L147*PND_26)","v":2.3112374242111511E-4},{"$f":"L136+(M147*PND_27)","v":2.6742230455884403E-4},{"$f":"M136+(N147*PND_28)","v":2.94819329804786E-4},{"$f":"N136+(O147*PND_29)","v":3.1574376637655776E-4},{"$f":"O136+(P147*PND_30)","v":3.316498395988542E-4},{"$f":"P136+(Q147*PND_31)","v":3.4353216990391745E-4},{"$f":"Q136+(R147*PND_32)","v":3.521616503813404E-4},{"$f":"R136+(S147*PND_33)","v":3.5818385609153071E-4},{"$f":"S136+(T147*PND_34)","v":3.6215488425934603E-4},{"$f":"T136+(U147*PND_35)","v":3.6455227365414614E-4},{"$f":"U136+(V147*PND_36)","v":3.6562116050484347E-4},{"$f":"V136+(W147*PND_37)","v":3.6611922056537655E-4}]
[null,null,null,null,null,null,null,null,"RDS",{"$f":"J147*RDS_24","v":1.4620957817049918E-3},{"$f":"J137+(K147*RDS_25)","v":2.600310430036674E-3},{"$f":"K137+(L147*RDS_26)","v":3.531688333814521E-3},{"$f":"L137+(M147*RDS_27)","v":4.321023093209011E-3},{"$f":"M137+(N147*RDS_28)","v":4.9977713808311407E-3},{"$f":"N137+(O147*RDS_29)","v":5.5702233774159978E-3},{"$f":"O137+(P147*RDS_30)","v":6.0369297820919189E-3},{"$f":"P137+(Q147*RDS_31)","v":6.3953853972453416E-3},{"$f":"Q137+(R147*RDS_32)","v":6.6479692879724125E-3},{"$f":"R137+(S147*RDS_33)","v":6.8051415161228413E-3},{"$f":"S137+(T147*RDS_34)","v":6.8858964489338943E-3},{"$f":"T137+(U147*RDS_35)","v":6.9154726422545401E-3},{"$f":"U137+(V147*RDS_36)","v":6.9196972334732198E-3},{"$f":"V137+(W147*RDS_37)","v":6.9196972334732198E-3}]
[null,null,null,null,null,null,null,null,"IVH",{"$f":"J147*IVH_24","v":3.615593643149923E-4},{"$f":"J138+(K147*IVH_25)","v":8.1270778800638407E-4},{"$f":"K138+(L147*IVH_26)","v":1.1636623650272521E-3},{"$f":"L138+(M147*IVH_27)","v":1.3775022381058541E-3},{"$f":"M138+(N147*IVH_28)","v":1.4784187093157114E-3},{"$f":"N138+(O147*IVH_29)","v":1.5153475890651697E-3},{"$f":"O138+(P147*IVH_30)","v":1.5360157833273806E-3},{"$f":"P138+(Q147*IVH_31)","v":1.5638011509207467E-3},{"$f":"Q138+(R147*IVH_32)","v":1.5895610603592267E-3},{"$f":"R138+(S147*IVH_33)","v":1.5927308384863967E-3},{"$f":"S138+(T147*IVH_34)","v":1.5927308384863967E-3},{"$f":"T138+(U147*IVH_35)","v":1.5927308384863967E-3},{"$f":"U138+(V147*IVH_36)","v":1.5927308384863967E-3},{"$f":"V138+(W147*IVH_37)","v":1.5927308384863967E-3}]
[null,null,null,null,null,null,null,null,"RDS Survive",{"$f":"J152*(1-RDSmort24)","v":1.3831426094929222E-3},{"$f":"J139+(K152*(1-RDSmort25))","v":2.4598936668146936E-3},{"$f":"K139+(L152*(1-RDSmort26))","v":3.3409771637885367E-3},{"$f":"L139+(M152*(1-RDSmort27))","v":4.0876878461757245E-3},{"$f":"M139+(N152*(1-RDSmort28))","v":4.7278917262662586E-3},{"$f":"N139+(O152*(1-RDSmort29))","v":5.269431315035533E-3},{"$f":"O139+(P152*(1-RDSmort30))","v":5.7109355738589546E-3},{"$f":"P139+(Q152*(1-RDSmort31))","v":6.0500345857940922E-3},{"$f":"Q139+(R152*(1-RDSmort32))","v":6.2889789464219007E-3},{"$f":"R139+(S152*(1-RDSmort33))","v":6.4376638742522068E-3},{"$f":"S139+(T152*(1-RDSmort34))","v":6.5140580406914629E-3},{"$f":"T139+(U152*(1-RDSmort35))","v":6.5420371195727941E-3},{"$f":"U139+(V152*(1-RDSmort36))","v":6.5460335828656652E-3},{"$f":"V139+(W152*(1-RDSmort37))","v":6.5460335828656652E-3}]
[null,null,null,null,null,null,null,null,"IVH survive",{"$f":"J153*(1-IVHmort24)","v":2.5309155502049462E-4},{"$f":"J140+(K153*(1-IVHmort25))","v":5.6889545160446892E-4},{"$f":"K140+(L153*(1-IVHmort26))","v":8.1456365551907644E-4},{"$f":"L140+(M153*(1-IVHmort27))","v":9.642515666740979E-4},{"$f":"M140+(N153*(1-IVHmort28))","v":1.0348930965209981E-3},{"$f":"N140+(O153*(1-IVHmort29))","v":1.0607433123456188E-3},{"$f":"O140+(P153*(1-IVHmort30))","v":1.0752110483291666E-3},{"$f":"P140+(Q153*(1-IVHmort31))","v":1.0946608056445228E-3},{"$f":"Q140+(R153*(1-IVHmort32))","v":1.1126927422514588E-3},{"$f":"R140+(S153*(1-IVHmort33))","v":1.1149115869404779E-3},{"$f":"S140+(T153*(1-IVHmort34))","v":1.1149115869404779E-3},{"$f":"T140+(U153*(1-IVHmort35))","v":1.1149115869404779E-3},{"$f":"U140+(V153*(1-IVHmort36))","v":1.1149115869404779E-3},{"$f":"V140+(W153*(1-IVHmort37))","v":1.1149115869404779E-3}]
[null,null,null,null,null,null,null,null,"CP",{"$f":"J147*CPrate24","v":1.7619746104016203E-4},{"$f":"J141+(K147*CPrate25)","v":3.1619660323352187E-4},{"$f":"K141+(L147*CPrate26)","v":4.3367466664425255E-4},{"$f":"L141+(M147*CPrate27)","v":5.3642482120937239E-4},{"$f":"M141+(N147*CPrate28)","v":6.2814026354867541E-4},{"$f":"N141+(O147*CPrate29)","v":7.0991798122236412E-4},{"$f":"O141+(P147*CPrate30)","v":7.8148218443525918E-4},{"$f":"P141+(Q147*CPrate31)","v":8.4212740518896422E-4},{"$f":"Q141+(R147*CPrate32)","v":8.9138126388074257E-4},{"$f":"R141+(S147*CPrate33)","v":9.2938690334988224E-4},{"$f":"S141+(T147*CPrate34)","v":9.5700509037126161E-4},{"$f":"T141+(U147*CPrate35)","v":9.756359845960479E-4},{"$f":"U141+(V147*CPrate36)","v":9.8533274162767442E-4},{"$f":"V141+(W147*CPrate37)","v":9.9106279079450347E-4}]
[]
[]
[]
[]
[null,null,null,null,null,null,null,null,"Stillbirths per GA",{"$f":"J133","v":0},{"$f":"K133-J133","v":0},0,0,0,0,0,0,0,0,0,0,0,0]
[null,null,null,null,null,null,null,null,"Live births per GA",{"$f":"(2*J132)-J146","v":1.4919344711275392E-3},{"$f":"2*(K132-J132)-K146","v":1.364514056465497E-3},1.3304423942325115E-3,1.3663584383659588E-3,1.4489011428009992E-3,1.554709461476976E-3,1.6604223483270338E-3,1.7426787572903842E-3,1.7781176423024795E-3,1.7433779572999918E-3,1.6150986562210347E-3,1.3699186929990066E-3,8.5812009129438913E-4,5.6176952615971318E-4]
[null,null,null,null,null,null,null,null,"NND per GA",{"$f":"J147*NND_24","v":6.3460504754682596E-4},{"$f":"K147*NND_25","v":3.5203394831443546E-4},{"$f":"L147*NND_26","v":2.0818784362900536E-4},{"$f":"M147*NND_27","v":1.2968110249666066E-4},{"$f":"N147*NND_28","v":8.3407204367763065E-5},{"$f":"O147*NND_29","v":5.4283371113748566E-5},{"$f":"P147*NND_30","v":3.5163241066417745E-5},{"$f":"Q147*NND_31","v":2.2384140560931155E-5},{"$f":"R147*NND_32","v":1.3852760859259662E-5},{"$f":"S147*NND_33","v":8.2379690445212121E-6},{"$f":"T147*NND_34","v":4.6289279388916921E-6},{"$f":"U147*NND_35","v":2.3813811685043226E-6},{"$f":"V147*NND_36","v":9.0476325120349003E-7},{"$f":"W147*NND_37","v":3.5925086125988489E-7}]
[null,null,null,null,null,null,null,null,"NICU admission per GA",{"$f":"J147*NICU24","v":1.4919344711275392E-3},{"$f":"K147*NICU25","v":1.364514056465497E-3},{"$f":"L147*NICU26","v":1.3304423942325115E-3},{"$f":"M147*NICU27","v":1.3663584383659588E-3},{"$f":"N147*NICU28","v":1.4489011428009992E-3},{"$f":"O147*NICU29","v":1.554709461476976E-3},{"$f":"P147*NICU30","v":1.6604223483270338E-3},{"$f":"Q147*NICU31","v":1.7426787572903842E-3},{"$f":"R147*NICU32","v":1.7781176423024795E-3},{"$f":"S147*NICU33","v":1.330513687055759E-3},{"$f":"T147*NICU34","v":9.3487178475814333E-4},{"$f":"U147*NICU35","v":5.6799793096991725E-4},{"$f":"V147*NICU36","v":2.321630924764143E-4},{"$f":"W147*NICU37","v":8.2362810667738106E-5}]
[null,null,null,null,null,null,null,null,"PND per GA",{"$f":"J147*PND_24","v":1.099144772566863E-4},{"$f":"K147*PND_25","v":7.1552208060895127E-5},{"$f":"L147*PND_26","v":4.9657057103533703E-5},{"$f":"M147*PND_27","v":3.6298562137728907E-5},{"$f":"N147*PND_28","v":2.7397025245941993E-5},{"$f":"O147*PND_29","v":2.092443657177175E-5},{"$f":"P147*PND_30","v":1.5906073222296434E-5},{"$f":"Q147*PND_31","v":1.1882330305063243E-5},{"$f":"R147*PND_32","v":8.6294804774229646E-6},{"$f":"S147*PND_33","v":6.0222057101903167E-6},{"$f":"T147*PND_34","v":3.9710281678153353E-6},{"$f":"U147*PND_35","v":2.3973893948001153E-6},{"$f":"V147*PND_36","v":1.0688868506973516E-6},{"$f":"W147*PND_37","v":4.9806006053310476E-7}]
[null,null,null,null,null,null,null,null,"Surviving Babies",null,null,null,null,null,null,null,null,null,null,null,null,null,null,{"$f":"(W132*2)-(W133+W134)","v":1.8336252684144086E-2},{"$f":"X151-W136","v":1.7970133463578709E-2}]
[null,null,null,null,null,null,null,null,"RDS per GA",{"$f":"J147*RDS_24","v":1.4620957817049918E-3},{"$f":"K147*RDS_25","v":1.1382146483316822E-3},{"$f":"L147*RDS_26","v":9.3137790377784688E-4},{"$f":"M147*RDS_27","v":7.8933475939449004E-4},{"$f":"N147*RDS_28","v":6.7674828762212937E-4},{"$f":"O147*RDS_29","v":5.7245199658485682E-4},{"$f":"P147*RDS_30","v":4.6670640467592152E-4},{"$f":"Q147*RDS_31","v":3.5845561515342276E-4},{"$f":"R147*RDS_32","v":2.5258389072707052E-4},{"$f":"S147*RDS_33","v":1.5717222815042904E-4},{"$f":"T147*RDS_34","v":8.0754932811052881E-5},{"$f":"U147*RDS_35","v":2.9576193320645895E-5},{"$f":"V147*RDS_36","v":4.2245912186797798E-6},{"$f":"W147*RDS_37","v":0}]
[null,null,null,null,null,null,null,null,"IVH per GA",{"$f":"J147*IVH_24","v":3.615593643149923E-4},{"$f":"K147*IVH_25","v":4.5114842369139177E-4},{"$f":"L147*IVH_26","v":3.5095457702086799E-4},{"$f":"M147*IVH_27","v":2.138398730786021E-4},{"$f":"N147*IVH_28","v":1.0091647120985734E-4},{"$f":"O147*IVH_29","v":3.6928879749458357E-5},{"$f":"P147*IVH_30","v":2.0668194262210958E-5},{"$f":"Q147*IVH_31","v":2.7785367593366034E-5},{"$f":"R147*IVH_32","v":2.5759909438480021E-5},{"$f":"S147*IVH_33","v":3.1697781271700191E-6},{"$f":"T147*IVH_34","v":0},{"$f":"U147*IVH_35","v":0},{"$f":"V147*IVH_36","v":0},{"$f":"W147*IVH_37","v":0}," "," "]
[null,null,null,null,null,null,null,null,"RDS Survive per GA",{"$f":"J152*(1-RDSmort24)","v":1.3831426094929222E-3},{"$f":"K152*(1-RDSmort25)","v":1.0767510573217714E-3},{"$f":"L152*(1-RDSmort26)","v":8.8108349697384311E-4},{"$f":"M152*(1-RDSmort27)","v":7.4671068238718759E-4},{"$f":"N152*(1-RDSmort28)","v":6.402038800905343E-4},{"$f":"O152*(1-RDSmort29)","v":5.415395887692745E-4},{"$f":"P152*(1-RDSmort30)","v":4.4150425882342174E-4},{"$f":"Q152*(1-RDSmort31)","v":3.3909901193513792E-4},{"$f":"R152*(1-RDSmort32)","v":2.389443606278087E-4},{"$f":"S152*(1-RDSmort33)","v":1.4868492783030586E-4},{"$f":"T152*(1-RDSmort34)","v":7.6394166439256028E-5},{"$f":"U152*(1-RDSmort35)","v":2.7979078881331017E-5},{"$f":"V152*(1-RDSmort36)","v":3.9964632928710718E-6},{"$f":"W152*(1-RDSmort37)","v":0}]
[null,null,null,null,null,null,null,null,"IVH survive per GA",{"$f":"J153*(1-IVHmort24)","v":2.5309155502049462E-4},{"$f":"K153*(1-IVHmort25)","v":3.1580389658397424E-4},{"$f":"L153*(1-IVHmort26)","v":2.4566820391460758E-4},{"$f":"M153*(1-IVHmort27)","v":1.4968791115502146E-4},{"$f":"N153*(1-IVHmort28)","v":7.0641529846900136E-5},{"$f":"O153*(1-IVHmort29)","v":2.5850215824620848E-5},{"$f":"P153*(1-IVHmort30)","v":1.446773598354767E-5},{"$f":"Q153*(1-IVHmort31)","v":1.9449757315356221E-5},{"$f":"R153*(1-IVHmort32)","v":1.8031936606936015E-5},{"$f":"S153*(1-IVHmort33)","v":2.2188446890190134E-6},{"$f":"T153*(1-IVHmort34)","v":0},{"$f":"U153*(1-IVHmort35)","v":0},{"$f":"V153*(1-IVHmort36)","v":0},{"$f":"W153*(1-IVHmort37)","v":0}]
[null,null,null,null,null,null,null,null,"CP per GA",{"$f":"J147*CPrate24","v":1.7619746104016203E-4},{"$f":"K147*CPrate25","v":1.3999914219335987E-4},{"$f":"L147*CPrate26","v":1.1747806341073068E-4},{"$f":"M147*CPrate27","v":1.0275015456511986E-4},{"$f":"N147*CPrate28","v":9.1715442339302961E-5},{"$f":"O147*CPrate29","v":8.1777717673688733E-5},{"$f":"P147*CPrate30","v":7.1564203212895019E-5},{"$f":"Q147*CPrate31","v":6.0645220753705076E-5},{"$f":"R147*CPrate32","v":4.9253858691778392E-5},{"$f":"S147*CPrate33","v":3.8005639469139702E-5},{"$f":"T147*CPrate34","v":2.7618187021379342E-5},{"$f":"U147*CPrate35","v":1.8630894224786263E-5},{"$f":"V147*CPrate36","v":9.6967570316264814E-6},{"$f":"W147*CPrate37","v":5.7300491668290047E-6}," "]
[]
[null,null,null,null,null,null,null,null,null,null,null,null," "]
[]
[null,null,null,null,null,null,null,null,"Screening threshold: CL = 25mm"]
[]
[null,null,null,null,null,null,null,null,"On-going Pregnancy",{"$f":"SUM('Distribution Data'!$K$13:$K$17)-J163","v":9.2782064656024704E-3},{"$f":"SUM('Distribution Data'!$K$13:$K$17)-K163","v":8.7980265110373674E-3},{"$f":"SUM('Distribution Data'!$K$13:$K$17)-L163","v":8.3825652925085519E-3},{"$f":"SUM('Distribution Data'!$K$13:$K$17)-M163","v":7.9379779131317253E-3},{"$f":"SUM('Distribution Data'!$K$13:$K$17)-N163","v":7.3966512411163046E-3},{"$f":"SUM('Distribution Data'!$K$13:$K$17)-O163","v":6.7172039097645915E-3},{"$f":"SUM('Distribution Data'!$K$13:$K$17)-P163","v":5.8844863174739685E-3},{"$f":"SUM('Distribution Data'!$K$13:$K$17)-Q163","v":4.9095806277318042E-3},{"$f":"SUM('Distribution Data'!$K$13:$K$17)-R163","v":3.8298007691226089E-3},{"$f":"SUM('Distribution Data'!$K$13:$K$17)-S163","v":2.7086924353222066E-3},{"$f":"SUM('Distribution Data'!$K$13:$K$17)-T163","v":1.6360330850995614E-3},{"$f":"SUM('Distribution Data'!$K$13:$K$17)-U163","v":7.2783194231931976E-4},{"$f":"SUM('Distribution Data'!$K$13:$K$17)-V163","v":1.8950846107529742E-4},{"$f":"SUM('Distribution Data'!$K$13:$K$17)-W163","v":1.8214596497756474E-16}]
[null,null,null,null,null,null,null,null,"Twin birth",{"$f":"'Markov Transitions 1.7'!Q22","v":6.6497535257934674E-4},{"$f":"'Markov Transitions 1.7'!Q23","v":1.1451553071444502E-3},{"$f":"'Markov Transitions 1.7'!Q24","v":1.5606165256732665E-3},{"$f":"'Markov Transitions 1.7'!Q25","v":2.0052039050500918E-3},{"$f":"'Markov Transitions 1.7'!Q26","v":2.546530577065513E-3},{"$f":"'Markov Transitions 1.7'!Q27","v":3.2259779084172265E-3},{"$f":"'Markov Transitions 1.7'!Q28","v":4.0586955007078495E-3},{"$f":"'Markov Transitions 1.7'!Q29","v":5.0336011904500138E-3},{"$f":"'Markov Transitions 1.7'!Q30","v":6.1133810490592091E-3},{"$f":"'Markov Transitions 1.7'!Q31","v":7.2344893828596114E-3},{"$f":"'Markov Transitions 1.7'!Q32","v":8.3071487330822567E-3},{"$f":"'Markov Transitions 1.7'!Q33","v":9.2153498758624983E-3},{"$f":"'Markov Transitions 1.7'!Q34","v":9.7536733571065206E-3},{"$f":"'Markov Transitions 1.7'!Q35","v":9.9431818181816359E-3}]
[null,null,null,null,null,null,null,null,"Stillbirths",{"$f":"2*(J163*Stillbirth24)","v":0},{"$f":"J164+(2*(K163-J163)*Stillbirth25)","v":0},{"$f":"K164+(2*(L163-K163)*Stillbirth26)","v":0},{"$f":"L164+(2*(M163-L163)*Stillbirth27)","v":0},{"$f":"M164+(2*(N163-M163)*Stillbirth28)","v":0},{"$f":"N164+(2*(O163-N163)*Stillbirth29)","v":0},{"$f":"O164+(2*(P163-O163)*Stillbirth30)","v":0},{"$f":"P164+(2*(Q163-P163)*Stillbirth31)","v":0},{"$f":"Q164+(2*(R163-Q163)*Stillbirth32)","v":0},{"$f":"R164+(2*(S163-R163)*Stillbirth33)","v":0},{"$f":"S164+(2*(T163-S163)*Stillbirth34)","v":0},{"$f":"T164+(2*(U163-T163)*Stillbirth35)","v":0},{"$f":"U164+(2*(V163-U163)*Stillbirth36)","v":0},{"$f":"V164+(2*(W163-V163)*Stillbirth37)","v":0}]
[null,null,null,null,null,null,null,null,"NND",{"$f":"((2*J163)-J164)*NND_24","v":5.6570408876223215E-4},{"$f":"J165+((2*(K163-J163))-(K164-J164))*NND_25","v":8.1346942984616825E-4},{"$f":"K165+((2*(L163-K163))-(L164-K164))*NND_26","v":9.4349230881025719E-4},{"$f":"L165+((2*(M163-L163))-(M164-L164))*NND_27","v":1.0278839002035632E-3},{"$f":"M165+((2*(N163-M163))-(N164-M164))*NND_28","v":1.090207744155024E-3},{"$f":"N165+((2*(O163-N163))-(O164-N164))*NND_29","v":1.1376541546309371E-3},{"$f":"O165+((2*(P163-O163))-(P164-O164))*NND_30","v":1.172923553970767E-3},{"$f":"P165+((2*(Q163-P163))-(Q164-P164))*NND_31","v":1.19796824554292E-3},{"$f":"Q165+((2*(R163-Q163))-(R164-Q164))*NND_32","v":1.2147927028297724E-3},{"$f":"R165+((2*(S163-R163))-(S164-R164))*NND_33","v":1.225387830192408E-3},{"$f":"S165+((2*(T163-S163))-(T164-S164))*NND_34","v":1.2315363868964011E-3},{"$f":"T165+((2*(U163-T163))-(U164-T164))*NND_35","v":1.2346939072801783E-3},{"$f":"U165+((2*(V163-U163))-(V164-U164))*NND_36","v":1.2358290754414432E-3},{"$f":"V165+((2*(W163-V163))-(W164-V164))*NND_37","v":1.2360714562566599E-3}," "]
[null,null,null,null,null,null,null,null,"NICU admission",{"$f":"J178*NICU24","v":1.3299507051586935E-3},{"$f":"J166+(K178*NICU25)","v":2.2903106142889004E-3},{"$f":"K166+(L178*NICU26)","v":3.1212330513465331E-3},{"$f":"L166+(M178*NICU27)","v":4.0104078101001837E-3},{"$f":"M166+(N178*NICU28)","v":5.0930611541310259E-3},{"$f":"N166+(O178*NICU29)","v":6.451955816834453E-3},{"$f":"O166+(P178*NICU30)","v":8.117391001415699E-3},{"$f":"P166+(Q178*NICU31)","v":1.0067202380900028E-2},{"$f":"Q166+(R178*NICU32)","v":1.2226762098118418E-2},{"$f":"R166+(S178*NICU33)","v":1.3937980226749417E-2},{"$f":"S166+(T178*NICU34)","v":1.517976066823214E-2},{"$f":"T166+(U178*NICU35)","v":1.593288035721804E-2},{"$f":"U166+(V178*NICU36)","v":1.6224165564093368E-2},{"$f":"V166+(W178*NICU37)","v":1.6279734436282518E-2}]
[null,null,null,null,null,null,null,null,"PND",{"$f":"J178*PND_24","v":9.7980735322914016E-5},{"$f":"J167+(K178*PND_25)","v":1.483399615293642E-4},{"$f":"K167+(L178*PND_26)","v":1.793530764785315E-4},{"$f":"L167+(M178*PND_27)","v":2.0297481754269795E-4},{"$f":"M167+(N178*PND_28)","v":2.2344652546175947E-4},{"$f":"N167+(O178*PND_29)","v":2.4173554079356596E-4},{"$f":"O167+(P178*PND_30)","v":2.5768963465385922E-4},{"$f":"P167+(Q178*PND_31)","v":2.7098428390959879E-4},{"$f":"Q167+(R178*PND_32)","v":2.8146496188961905E-4},{"$f":"R167+(S178*PND_33)","v":2.8921032196060561E-4},{"$f":"S167+(T178*PND_34)","v":2.9448499726021985E-4},{"$f":"T167+(U178*PND_35)","v":2.9766374326780975E-4},{"$f":"U167+(V178*PND_36)","v":2.990048303635691E-4},{"$f":"V167+(W178*PND_37)","v":2.9934086352734657E-4}]
[null,null,null,null,null,null,null,null,"RDS",{"$f":"J178*RDS_24","v":1.3033516910555226E-3},{"$f":"J168+(K178*RDS_25)","v":2.1044396029484438E-3},{"$f":"K168+(L178*RDS_26)","v":2.6861279202958152E-3},{"$f":"L168+(M178*RDS_27)","v":3.1997973386219637E-3},{"$f":"M168+(N178*RDS_28)","v":3.7054797313108316E-3},{"$f":"N168+(O178*RDS_29)","v":4.2058317148088121E-3},{"$f":"O168+(P178*RDS_30)","v":4.6739471120749564E-3},{"$f":"P168+(Q178*RDS_31)","v":5.0750083142858107E-3},{"$f":"Q168+(R178*RDS_32)","v":5.3817765407829874E-3},{"$f":"R168+(S178*RDS_33)","v":5.5839209972774586E-3},{"$f":"S168+(T178*RDS_34)","v":5.6911869322997244E-3},{"$f":"T168+(U178*RDS_35)","v":5.7304025919008E-3},{"$f":"U168+(V178*RDS_36)","v":5.7357030077161255E-3},{"$f":"V168+(W178*RDS_37)","v":5.7357030077161255E-3}]
[null,null,null,null,null,null,null,null,"IVH",{"$f":"J178*IVH_24","v":3.2230378802364077E-4},{"$f":"J169+(K178*IVH_25)","v":6.3982698034808464E-4},{"$f":"K169+(L178*IVH_26)","v":8.5901424745477809E-4},{"$f":"L169+(M178*IVH_27)","v":9.9817320620060237E-4},{"$f":"M169+(N178*IVH_28)","v":1.0735803901661895E-3},{"$f":"N169+(O178*IVH_29)","v":1.1058580978888159E-3},{"$f":"O169+(P178*IVH_30)","v":1.126588689693201E-3},{"$f":"P169+(Q178*IVH_31)","v":1.1576765914020257E-3},{"$f":"Q169+(R178*IVH_32)","v":1.1889625206448738E-3},{"$f":"R169+(S178*IVH_33)","v":1.1930392782518956E-3},{"$f":"S169+(T178*IVH_34)","v":1.1930392782518956E-3},{"$f":"T169+(U178*IVH_35)","v":1.1930392782518956E-3},{"$f":"U169+(V178*IVH_36)","v":1.1930392782518956E-3},{"$f":"V169+(W178*IVH_37)","v":1.1930392782518956E-3}]
[null,null,null,null,null,null,null,null,"RDS Survive",{"$f":"J183*(1-RDSmort24)","v":1.2329706997385244E-3},{"$f":"J170+(K183*(1-RDSmort25))","v":1.9907998643892279E-3},{"$f":"K170+(L183*(1-RDSmort26))","v":2.5410770125998414E-3},{"$f":"L170+(M183*(1-RDSmort27))","v":3.0270082823363777E-3},{"$f":"M170+(N183*(1-RDSmort28))","v":3.5053838258200468E-3},{"$f":"N170+(O183*(1-RDSmort29))","v":3.9787168022091361E-3},{"$f":"O170+(P183*(1-RDSmort30))","v":4.4215539680229083E-3},{"$f":"P170+(Q183*(1-RDSmort31))","v":4.8009578653143764E-3},{"$f":"Q170+(R183*(1-RDSmort32))","v":5.0911606075807062E-3},{"$f":"R170+(S183*(1-RDSmort33))","v":5.282389263424476E-3},{"$f":"S170+(T183*(1-RDSmort34))","v":5.3838628379555397E-3},{"$f":"T170+(U183*(1-RDSmort35))","v":5.4209608519381579E-3},{"$f":"U170+(V183*(1-RDSmort36))","v":5.4259750452994556E-3},{"$f":"V170+(W183*(1-RDSmort37))","v":5.4259750452994556E-3}]
[null,null,null,null,null,null,null,null,"IVH survive",{"$f":"J184*(1-IVHmort24)","v":2.2561265161654851E-4},{"$f":"J171+(K184*(1-IVHmort25))","v":4.4787888624365921E-4},{"$f":"K171+(L184*(1-IVHmort26))","v":6.0130997321834463E-4},{"$f":"L171+(M184*(1-IVHmort27))","v":6.9872124434042161E-4},{"$f":"M171+(N184*(1-IVHmort28))","v":7.5150627311633259E-4},{"$f":"N171+(O184*(1-IVHmort29))","v":7.74100668522171E-4},{"$f":"O171+(P184*(1-IVHmort30))","v":7.8861208278524064E-4},{"$f":"P171+(Q184*(1-IVHmort31))","v":8.1037361398141787E-4},{"$f":"Q171+(R184*(1-IVHmort32))","v":8.3227376445141159E-4},{"$f":"R171+(S184*(1-IVHmort33))","v":8.3512749477632697E-4},{"$f":"S171+(T184*(1-IVHmort34))","v":8.3512749477632697E-4},{"$f":"T171+(U184*(1-IVHmort35))","v":8.3512749477632697E-4},{"$f":"U171+(V184*(1-IVHmort36))","v":8.3512749477632697E-4},{"$f":"V171+(W184*(1-IVHmort37))","v":8.3512749477632697E-4}]
[null,null,null,null,null,null,null,null,"CP",{"$f":"J178*CPrate24","v":1.5706717827924138E-4},{"$f":"J172+(K178*CPrate25)","v":2.5560010495600052E-4},{"$f":"K172+(L178*CPrate26)","v":3.2897055614818945E-4},{"$f":"L172+(M178*CPrate27)","v":3.9583649800646381E-4},{"$f":"M172+(N178*CPrate28)","v":4.643684546836159E-4},{"$f":"N172+(O178*CPrate29)","v":5.3584631394181599E-4},{"$f":"O172+(P178*CPrate30)","v":6.076265703972675E-4},{"$f":"P172+(Q178*CPrate31)","v":6.7548000640332178E-4},{"$f":"Q172+(R178*CPrate32)","v":7.3529981057027087E-4},{"$f":"R172+(S178*CPrate33)","v":7.8418013392396826E-4},{"$f":"S172+(T178*CPrate34)","v":8.2086508370158228E-4},{"$f":"T172+(U178*CPrate35)","v":8.455681547852045E-4},{"$f":"U172+(V178*CPrate36)","v":8.5773426546131924E-4},{"$f":"V172+(W178*CPrate37)","v":8.6160023806725159E-4}]
[]
[]
[]
[]
[null,null,null,null,null,null,null,null,"Stillbirths per GA",{"$f":"J164","v":0},{"$f":"K164-J164","v":0},0,0,0,0,0,0,0,0,0,0,0,0]
[null,null,null,null,null,null,null,null,"Live births per GA",{"$f":"(2*J163)-J177","v":1.3299507051586935E-3},{"$f":"2*(K163-J163)-K177","v":9.6035990913020692E-4},8.309224370576327E-4,8.8917475875365058E-4,1.0826533440308423E-3,1.3588946627034271E-3,1.665435184581246E-3,1.9498113794843286E-3,2.1595597172183907E-3,2.2422166676008045E-3,2.1453187004452905E-3,1.8164022855604832E-3,1.0766469624880447E-3,3.7901692215023056E-4]
[null,null,null,null,null,null,null,null,"NND per GA",{"$f":"J178*NND_24","v":5.6570408876223215E-4},{"$f":"K178*NND_25","v":2.4776534108393616E-4},{"$f":"L178*NND_26","v":1.3002287896408891E-4},{"$f":"M178*NND_27","v":8.4391591393306002E-5},{"$f":"N178*NND_28","v":6.2323843951460711E-5},{"$f":"O178*NND_29","v":4.7446410475913038E-5},{"$f":"P178*NND_30","v":3.5269399339829892E-5},{"$f":"Q178*NND_31","v":2.5044691572152849E-5},{"$f":"R178*NND_32","v":1.6824457286852414E-5},{"$f":"S178*NND_33","v":1.0595127362635618E-5},{"$f":"T178*NND_34","v":6.1485567039930581E-6},{"$f":"U178*NND_35","v":3.1575203837773185E-6},{"$f":"V178*NND_36","v":1.1351681612648132E-6},{"$f":"W178*NND_37","v":2.423808152167899E-7}]
[null,null,null,null,null," ",null,null,"NICU admission per GA",{"$f":"J178*NICU24","v":1.3299507051586935E-3},{"$f":"K178*NICU25","v":9.6035990913020692E-4},{"$f":"L178*NICU26","v":8.309224370576327E-4},{"$f":"M178*NICU27","v":8.8917475875365058E-4},{"$f":"N178*NICU28","v":1.0826533440308423E-3},{"$f":"O178*NICU29","v":1.3588946627034271E-3},{"$f":"P178*NICU30","v":1.665435184581246E-3},{"$f":"Q178*NICU31","v":1.9498113794843286E-3},{"$f":"R178*NICU32","v":2.1595597172183907E-3},{"$f":"S178*NICU33","v":1.7112181286309978E-3},{"$f":"T178*NICU34","v":1.2417804414827233E-3},{"$f":"U178*NICU35","v":7.5311968898590057E-4},{"$f":"V178*NICU36","v":2.9128520687532916E-4},{"$f":"W178*NICU37","v":5.5568872189149673E-5}]
[null,null,null,null,null,null,null,null,"PND per GA",{"$f":"J178*PND_24","v":9.7980735322914016E-5},{"$f":"K178*PND_25","v":5.0359226206450181E-5},{"$f":"L178*PND_26","v":3.1013114949167314E-5},{"$f":"M178*PND_27","v":2.3621741064166435E-5},{"$f":"N178*PND_28","v":2.0471707919061524E-5},{"$f":"O178*PND_29","v":1.828901533180649E-5},{"$f":"P178*PND_30","v":1.5954093860293276E-5},{"$f":"Q178*PND_31","v":1.3294649255739593E-5},{"$f":"R178*PND_32","v":1.0480677980020273E-5},{"$f":"S178*PND_33","v":7.7453600709865594E-6},{"$f":"T178*PND_34","v":5.2746752996142377E-6},{"$f":"U178*PND_35","v":3.1787460075899194E-6},{"$f":"V178*PND_36","v":1.3410870957593213E-6},{"$f":"W178*PND_37","v":3.3603316377746334E-7}]
[null,null,null,null,null,null,null,null,"Surviving Babies",null,null,null,null,null,null,null,null,null,null,null,null,null,null,{"$f":"(W163*2)-(W164+W165)","v":1.8650292180106613E-2},{"$f":"X182-W167","v":1.8350951316579267E-2}]
[null,null,null,null,null,null,null,null,"RDS per GA",{"$f":"J178*RDS_24","v":1.3033516910555226E-3},{"$f":"K178*RDS_25","v":8.0108791189292122E-4},{"$f":"L178*RDS_26","v":5.8168831734737149E-4},{"$f":"M178*RDS_27","v":5.1366941832614837E-4},{"$f":"N178*RDS_28","v":5.056823926888681E-4},{"$f":"O178*RDS_29","v":5.0035198349798065E-4},{"$f":"P178*RDS_30","v":4.6811539726614393E-4},{"$f":"Q178*RDS_31","v":4.0106120221085415E-4},{"$f":"R178*RDS_32","v":3.0676822649717699E-4},{"$f":"S178*RDS_33","v":2.0214445649447126E-4},{"$f":"T178*RDS_34","v":1.0726593502226604E-4},{"$f":"U178*RDS_35","v":3.9215659601075937E-5},{"$f":"V178*RDS_36","v":5.3004158153253949E-6},{"$f":"W178*RDS_37","v":0}]
[null,null,null,null,null,null,null,null,"IVH per GA",{"$f":"J178*IVH_24","v":3.2230378802364077E-4},{"$f":"K178*IVH_25","v":3.1752319232444386E-4},{"$f":"L178*IVH_26","v":2.1918726710669348E-4},{"$f":"M178*IVH_27","v":1.3915895874582422E-4},{"$f":"N178*IVH_28","v":7.5407183965587059E-5},{"$f":"O178*IVH_29","v":3.2277707722626342E-5},{"$f":"P178*IVH_30","v":2.073059180438515E-5},{"$f":"Q178*IVH_31","v":3.1087901708824669E-5},{"$f":"R178*IVH_32","v":3.1285929242848104E-5},{"$f":"S178*IVH_33","v":4.0767576070219209E-6},{"$f":"T178*IVH_34","v":0},{"$f":"U178*IVH_35","v":0},{"$f":"V178*IVH_36","v":0},{"$f":"W178*IVH_37","v":0}," "," "]
[null,null,null,null,null,null,null,null,"RDS Survive per GA",{"$f":"J183*(1-RDSmort24)","v":1.2329706997385244E-3},{"$f":"K183*(1-RDSmort25)","v":7.5782916465070346E-4},{"$f":"L183*(1-RDSmort26)","v":5.5027714821061344E-4},{"$f":"M183*(1-RDSmort27)","v":4.8593126973653632E-4},{"$f":"N183*(1-RDSmort28)","v":4.7837554348366921E-4},{"$f":"O183*(1-RDSmort29)","v":4.7333297638908967E-4},{"$f":"P183*(1-RDSmort30)","v":4.4283716581377213E-4},{"$f":"Q183*(1-RDSmort31)","v":3.7940389729146801E-4},{"$f":"R183*(1-RDSmort32)","v":2.9020274226632944E-4},{"$f":"S183*(1-RDSmort33)","v":1.912286558437698E-4},{"$f":"T183*(1-RDSmort34)","v":1.0147357453106367E-4},{"$f":"U183*(1-RDSmort35)","v":3.7098013982617835E-5},{"$f":"V183*(1-RDSmort36)","v":5.0141933612978237E-6},{"$f":"W183*(1-RDSmort37)","v":0}]
[null,null,null,null,null,null,null,null,"IVH survive per GA",{"$f":"J184*(1-IVHmort24)","v":2.2561265161654851E-4},{"$f":"K184*(1-IVHmort25)","v":2.222662346271107E-4},{"$f":"L184*(1-IVHmort26)","v":1.5343108697468542E-4},{"$f":"M184*(1-IVHmort27)","v":9.7411271122076957E-5},{"$f":"N184*(1-IVHmort28)","v":5.2785028775910938E-5},{"$f":"O184*(1-IVHmort29)","v":2.2594395405838437E-5},{"$f":"P184*(1-IVHmort30)","v":1.4511414263069604E-5},{"$f":"Q184*(1-IVHmort31)","v":2.1761531196177265E-5},{"$f":"R184*(1-IVHmort32)","v":2.190015046999367E-5},{"$f":"S184*(1-IVHmort33)","v":2.8537303249153447E-6},{"$f":"T184*(1-IVHmort34)","v":0},{"$f":"U184*(1-IVHmort35)","v":0},{"$f":"V184*(1-IVHmort36)","v":0},{"$f":"W184*(1-IVHmort37)","v":0}]
[null,null,null,null,null,null,null,null,"CP per GA",{"$f":"J178*CPrate24","v":1.5706717827924138E-4},{"$f":"K178*CPrate25","v":9.8532926676759143E-5},{"$f":"L178*CPrate26","v":7.3370451192188914E-5},{"$f":"M178*CPrate27","v":6.686594185827436E-5},{"$f":"N178*CPrate28","v":6.8531956677152101E-5},{"$f":"O178*CPrate29","v":7.1477859258200094E-5},{"$f":"P178*CPrate30","v":7.1780256455451555E-5},{"$f":"Q178*CPrate31","v":6.7853436006054302E-5},{"$f":"R178*CPrate32","v":5.9819804166949066E-5},{"$f":"S178*CPrate33","v":4.8880323353697381E-5},{"$f":"T178*CPrate34","v":3.6684949777614002E-5},{"$f":"U178*CPrate35","v":2.4703071083622272E-5},{"$f":"V178*CPrate36","v":1.2166110676114761E-5},{"$f":"W178*CPrate37","v":3.865972605932305E-6}," "]
[]
[null,null,"Treatment Costs (obsolete in v1.63)"]
[null,null,"See below"]
[null,null,null,null,null,null,null,null,"CL 5 mm"]
[]
[null,null,null,null,null,null,null,null,"On-going Pregnancy",{"$f":"1-J194","v":1},1,1,1,1,1,1,1,1,1,1,1,1,1]
[null,null,null,null,null,null,null,null,"Twin birth",{"$f":"($D$45-$C$45)*Kind_24","v":0},{"$f":"($D$45-$C$45)*Kind_25+J194","v":0},{"$f":"($D$45-$C$45)*Kind_26+K194","v":0},{"$f":"($D$45-$C$45)*Kind_27+L194","v":0},{"$f":"M194+(Kind_28*($E$45-$D$45))","v":0},{"$f":"N194+(Kind_29*($E$45-$D$45))","v":0},{"$f":"O194+(Kind_30*($E$45-$D$45))","v":0},{"$f":"P194+(Kind_31*($E$45-$D$45))","v":0},{"$f":"Q194+(Kind_32*($F$45-$E$45))","v":0},{"$f":"R194+(Kind_33*($F$45-$E$45))","v":0},{"$f":"S194+(Kind_34*($F$45-$E$45))","v":0},{"$f":"T194+(Kind_35*($F$45-$E$45))","v":0},{"$f":"U194+(Kind_36*($F$45-$E$45))","v":0},{"$f":"V194+(Kind_37*($G$45-$F$45))","v":0}]
[null,null,null,null,null,null,"Treated",null,{"$f":"1","v":1}]
[null,null,null,null,null,null,"Treat cost",null,{"$f":"I195*Cost_treat*7","v":4.2},{"$f":"J193*Cost_treat*7","v":4.2},4.2,4.2,4.2,4.2,4.2,4.2,4.2,4.2,4.2,4.2,4.2,4.2,4.2,null,{"$f":"SUM(I196:X196)","v":63.000000000000021}]
[]
[]
[]
[null,null,null,null,null,null,null,null,"CL = 10 mm"]
[]
[null,null,null,null,null,null,null,null,"On-going Pregnancy",{"$f":"1-J203","v":1},1,1,1,1,1,1,1,1,1,1,1,1,1]
[null,null,null,null,null,null,null,null,"Twin birth",{"$f":"($D$57-$C$57)*Kind_24","v":0},{"$f":"($D$57-$C$57)*Kind_25+J203","v":0},{"$f":"($D$57-$C$57)*Kind_26+K203","v":0},{"$f":"($D$57-$C$57)*Kind_27+L203","v":0},{"$f":"M203+(Kind_28*($E$57-$D$57))","v":0},{"$f":"N203+(Kind_29*($E$57-$D$57))","v":0},{"$f":"O203+(Kind_30*($E$57-$D$57))","v":0},{"$f":"P203+(Kind_31*($E$57-$D$57))","v":0},{"$f":"Q203+(Kind_32*($F$57-$E$57))","v":0},{"$f":"R203+(Kind_33*($F$57-$E$57))","v":0},{"$f":"S203+(Kind_34*($F$57-$E$57))","v":0},{"$f":"T203+(Kind_35*($F$57-$E$57))","v":0},{"$f":"U203+(Kind_36*($F$57-$E$57))","v":0},{"$f":"V203+(Kind_37*($G$57-$F$57))","v":0}]
[null,null,null,null,null,null,"Treated",null,{"$f":"1","v":1}]
[null,null,null,null,null,null,"Treat cost",null,{"$f":"I204*Cost_treat*7","v":4.2},{"$f":"J202*Cost_treat*7","v":4.2},4.2,4.2,4.2,4.2,4.2,4.2,4.2,4.2,4.2,4.2,4.2,4.2,4.2,null,{"$f":"SUM(I205:X205)","v":63.000000000000021}]
[]
[]
[]
[null,null,null,null,null,null,null,null,"CL = 15 mm"]
[]
[null,null,null,null,null,null,null,null,"On-going Pregnancy",{"$f":"1-J212","v":1},1,1,1,1,1,1,1,1,1,1,1,1,1]
[null,null,null,null,null,null,null,null,"Twin birth",{"$f":"($D$69-$C$69)*Kind_24","v":0},{"$f":"($D$69-$C$69)*Kind_25+J212","v":0},{"$f":"($D$69-$C$69)*Kind_26+K212","v":0},{"$f":"($D$69-$C$69)*Kind_27+L212","v":0},{"$f":"M212+(Kind_28*($E$69-$D$69))","v":0},{"$f":"N212+(Kind_29*($E$69-$D$69))","v":0},{"$f":"O212+(Kind_30*($E$69-$D$69))","v":0},{"$f":"P212+(Kind_31*($E$69-$D$69))","v":0},{"$f":"Q212+(Kind_32*($F$69-$E$69))","v":0},{"$f":"R212+(Kind_33*($F$69-$E$69))","v":0},{"$f":"S212+(Kind_34*($F$69-$E$69))","v":0},{"$f":"T212+(Kind_35*($F$69-$E$69))","v":0},{"$f":"U212+(Kind_36*($F$69-$E$69))","v":0},{"$f":"V212+(Kind_37*($G$69-$F$69))","v":0}]
[null,null,null,null,null,null,"Treated",null,{"$f":"1","v":1}]
[null,null,null,null,null,null,"Treat cost",null,{"$f":"I213*Cost_treat*7","v":4.2},{"$f":"J211*Cost_treat*7","v":4.2},4.2,4.2,4.2,4.2,4.2,4.2,4.2,4.2,4.2,4.2,4.2,4.2,4.2,null,{"$f":"SUM(I214:X214)","v":63.000000000000021}]
[]
[]
[]
[null,null,null,null,null,null,null,null,"CL = 20 mm"]
[]
[null,null,null,null,null,null,null,null,"On-going Pregnancy",{"$f":"1-J221","v":1},1,1,1,1,1,1,1,1,1,1,1,1,1]
[null,null,null,null,null,null,null,null,"Twin birth",{"$f":"($D$81-$C$81)*Kind_24","v":0},{"$f":"($D$81-$C$81)*Kind_25+J221","v":0},{"$f":"($D$81-$C$81)*Kind_26+K221","v":0},{"$f":"($D$81-$C$81)*Kind_27+L221","v":0},{"$f":"M221+(Kind_28*($E$81-$D$81))","v":0},{"$f":"N221+(Kind_29*($E$81-$D$81))","v":0},{"$f":"O221+(Kind_30*($E$81-$D$81))","v":0},{"$f":"P221+(Kind_31*($E$81-$D$81))","v":0},{"$f":"Q221+(Kind_32*($F$81-$E$81))","v":0},{"$f":"R221+(Kind_33*($F$81-$E$81))","v":0},{"$f":"S221+(Kind_34*($F$81-$E$81))","v":0},{"$f":"T221+(Kind_35*($F$81-$E$81))","v":0},{"$f":"U221+(Kind_36*($F$81-$E$81))","v":0},{"$f":"V221+(Kind_37*($G$81-$F$81))","v":0}]
[null,null,null,null,null,null,"Treated",null,{"$f":"1","v":1}]
[null,null,null,null,null,null,"Treat cost",null,{"$f":"I222*Cost_treat*7","v":4.2},{"$f":"J220*Cost_treat*7","v":4.2},4.2,4.2,4.2,4.2,4.2,4.2,4.2,4.2,4.2,4.2,4.2,4.2,4.2,null,{"$f":"SUM(I223:X223)","v":63.000000000000021}]
[]
[]
[]
[null,null,null,null,null,null,null,null,"CL = 25 mm"]
[]
[null,null,null,null,null,null,null,null,"On-going Pregnancy",{"$f":"1-J230","v":1},1,1,1,1,1,1,1,1,1,1,1,1,1]
[null,null,null,null,null,null,null,null,"Twin birth",{"$f":"($D$93-$C$93)*Kind_24","v":0},{"$f":"($D$93-$C$93)*Kind_25+J230","v":0},{"$f":"($D$93-$C$93)*Kind_26+K230","v":0},{"$f":"($D$93-$C$93)*Kind_27+L230","v":0},{"$f":"M230+(Kind_28*($E$93-$D$93))","v":0},{"$f":"N230+(Kind_29*($E$93-$D$93))","v":0},{"$f":"O230+(Kind_30*($E$93-$D$93))","v":0},{"$f":"P230+(Kind_31*($E$93-$D$93))","v":0},{"$f":"Q230+(Kind_32*($F$93-$E$93))","v":0},{"$f":"R230+(Kind_33*($F$93-$E$93))","v":0},{"$f":"S230+(Kind_34*($F$93-$E$93))","v":0},{"$f":"T230+(Kind_35*($F$93-$E$93))","v":0},{"$f":"U230+(Kind_36*($F$93-$E$93))","v":0},{"$f":"V230+(Kind_37*($G$93-$F$93))","v":0}]
[null,null,null,null,null,null,"Treated",null,{"$f":"1","v":1}]
[null,null,null,null,null,null,"Treat cost",null,{"$f":"I231*Cost_treat*7","v":4.2},{"$f":"J229*Cost_treat*7","v":4.2},4.2,4.2,4.2,4.2,4.2,4.2,4.2,4.2,4.2,4.2,4.2,4.2,4.2,null,{"$f":"SUM(I232:X232)","v":63.000000000000021}]
[]
[null,null,"Appointment costs"]
[]
[null,null,null,null,null,null,null,null,"Appointment cost"]
[]
[null,null,null,null,null,null,null,null,"Baseline",{"$f":"'Format control'!C$41*J4","v":4.8561101287108643},{"$f":"'Format control'!D$41*'Markov Transitions'!K4","v":0},{"$f":"'Format control'!E$41*'Markov Transitions'!L4","v":0.56486109375004723},{"$f":"'Format control'!F$41*'Markov Transitions'!M4","v":0},{"$f":"'Format control'!G$41*'Markov Transitions'!N4","v":1.5711408173808139},{"$f":"'Format control'!H$41*'Markov Transitions'!O4","v":0},{"$f":"'Format control'!I$41*'Markov Transitions'!P4","v":0.25019296875000635},{"$f":"'Format control'!J$41*'Markov Transitions'!Q4","v":0},{"$f":"'Format control'!K$41*'Markov Transitions'!R4","v":0.97815326414659076},{"$f":"'Format control'!L$41*'Markov Transitions'!S4","v":0},{"$f":"'Format control'!M$41*'Markov Transitions'!T4","v":0.15689453124999816},{"$f":"'Format control'!N$41*'Markov Transitions'!U4","v":0},{"$f":"'Format control'!O$41*'Markov Transitions'!V4","v":0.10401861265863721},{"$f":"'Format control'!P$41*'Markov Transitions'!W4","v":0},{"$f":"SUM(J238:W238)","v":8.481371416646958}]
[null,null,null,null,null,null,null,null,"Cervical length ≤ 5 mm",{"$f":"'Format control'!C$41*J38","v":4.9309899406689679},{"$f":"'Format control'!D$41*K38","v":0},{"$f":"'Format control'!E$41*L38","v":0.5999398867015755},{"$f":"'Format control'!F$41*M38","v":0},{"$f":"'Format control'!G$41*N38","v":1.7671439957374206},{"$f":"'Format control'!H$41*O38","v":0},{"$f":"'Format control'!I$41*P38","v":0.29660013376424454},{"$f":"'Format control'!J$41*Q38","v":0},{"$f":"'Format control'!K$41*R38","v":1.1707384031672485},{"$f":"'Format control'!L$41*S38","v":0},{"$f":"'Format control'!M$41*T38","v":0.1713328359812952},{"$f":"'Format control'!N$41*U38","v":0},{"$f":"'Format control'!O$41*V38","v":9.9713043116321967E-2},{"$f":"'Format control'!P$41*W38","v":0},{"$f":"SUM(J239:W239)","v":9.0364582391370742}]
[null,null,null,null,null,null,null,null,"Cervical length ≤ 10 mm",{"$f":"'Format control'!C$41*J69","v":4.989146768433173},{"$f":"'Format control'!D$41*K69","v":0},{"$f":"'Format control'!E$41*L69","v":0.63033711142084592},{"$f":"'Format control'!F$41*M69","v":0},{"$f":"'Format control'!G$41*N69","v":1.9463592833594718},{"$f":"'Format control'!H$41*O69","v":0},{"$f":"'Format control'!I$41*P69","v":0.34041761323081104},{"$f":"'Format control'!J$41*Q69","v":0},{"$f":"'Format control'!K$41*R69","v":1.3565943228555981},{"$f":"'Format control'!L$41*S69","v":0},{"$f":"'Format control'!M$41*T69","v":0.18553565358140517},{"$f":"'Format control'!N$41*U69","v":0},{"$f":"'Format control'!O$41*V69","v":9.3277850939892701E-2},{"$f":"'Format control'!P$41*W69","v":0},9.5416686038211989]
[null,null,null,null,null,null,null,null,"Cervical length ≤ 15 mm",{"$f":"'Format control'!C$41*J100","v":5.0312245458997094},{"$f":"'Format control'!D$41*K100","v":0},{"$f":"'Format control'!E$41*L100","v":0.65578901758491315},{"$f":"'Format control'!F$41*M100","v":0},{"$f":"'Format control'!G$41*N100","v":2.1057102869116995},{"$f":"'Format control'!H$41*O100","v":0},{"$f":"'Format control'!I$41*P100","v":0.38071312035253757},{"$f":"'Format control'!J$41*Q100","v":0},{"$f":"'Format control'!K$41*R100","v":1.5316087451958511},{"$f":"'Format control'!L$41*S100","v":0},{"$f":"'Format control'!M$41*T100","v":0.19934108664763744},{"$f":"'Format control'!N$41*U100","v":0},{"$f":"'Format control'!O$41*V100","v":8.3691400415993294E-2},{"$f":"'Format control'!P$41*W100","v":0},9.9880782030083406]
[null,null,null,null,null,null,null,null,"Cervical length ≤ 20 mm",{"$f":"'Format control'!C$41*J131","v":5.0584680204399266},{"$f":"'Format control'!D$41*K131","v":0},{"$f":"'Format control'!E$41*L131","v":0.67609779245158275},{"$f":"'Format control'!F$41*M131","v":0},{"$f":"'Format control'!G$41*N131","v":2.2418530852065768},{"$f":"'Format control'!H$41*O131","v":0},{"$f":"'Format control'!I$41*P131","v":0.41639898719941804},{"$f":"'Format control'!J$41*Q131","v":0},{"$f":"'Format control'!K$41*R131","v":1.6907783540929207},{"$f":"'Format control'!L$41*S131","v":0},{"$f":"'Format control'!M$41*T131","v":0.21251364804877482},{"$f":"'Format control'!N$41*U131","v":0},{"$f":"'Format control'!O$41*V131","v":7.3555292907737949E-2},{"$f":"'Format control'!P$41*W131","v":0},10.369665180346937]
[null,null,null,null,null,null,null,null,"Cervical length ≤ 25 mm",{"$f":"'Format control'!C$41*J162","v":5.1030135560813585},{"$f":"'Format control'!D$41*K162","v":0},{"$f":"'Format control'!E$41*L162","v":0.72199034864376155},{"$f":"'Format control'!F$41*M162","v":0},{"$f":"'Format control'!G$41*N162","v":2.5740346319084741},{"$f":"'Format control'!H$41*O162","v":0},{"$f":"'Format control'!I$41*P162","v":0.5068308065240329},{"$f":"'Format control'!J$41*Q162","v":0},{"$f":"'Format control'!K$41*R162","v":2.1063904230174351},{"$f":"'Format control'!L$41*S162","v":0},{"$f":"'Format control'!M$41*T162","v":0.24924964051491816},{"$f":"'Format control'!N$41*U162","v":0},{"$f":"'Format control'!O$41*V162","v":4.9626580701788138E-2},{"$f":"'Format control'!P$41*W162","v":0},11.311135987391769]
[]
[null,null,"NICU Costs"]
[]
[null,null,null,null,null,null,null,null,"NICU costs",24,25,26,27,28,29,30,31,32,33,34,35,36,37]
[]
[null,null,null,null,null,null,null,null,"Baseline",{"$f":"J22*J256","v":319.50871949188922},{"$f":"K22*K256","v":283.46199998156226},238.29973801089329,188.168687667722,138.79761751033604,96.422244124929492,67.3106090561473,44.634319103016061,26.981511180044802,11.888430803581871,4.8492924200136418,2.0059403157900362,0.98311584881035496,0.39158495331973409,{"$f":"SUM(J249:W249)","v":1423.7038104680562}]
[null,null,null,null,null,null,null,null,"Cervical length ≤ 5 mm",{"$f":"J56*J256","v":280.45681648044484},248.1319458574026,211.12259204991537,170.81891728803905,130.61316346616013,95.171570789442512,70.536434613963053,50.242320074466633,32.886078904628143,15.628623460767406,6.6583247382024195,2.656522565960949,1.0170788605420258,0.37537635175171086,{"$f":"SUM(J250:W250)","v":1316.3157655016871}]
[null,null,null,null,null,null,null,null,"Cervical length ≤ 10 mm",{"$f":"J87*J256","v":250.12641449477007},217.02936401590324,185.39992055120908,153.37117809634921,121.63888395353565,92.976009535731919,72.885765268473278,55.166055623414948,38.346890881364757,19.181435161725691,8.4067706630974968,3.2936260709677772,1.0772945380019403,0.35115064479789554,1219.2507594993426]
[null,null,null,null,null,null,null,null,"Cervical length ≤ 15 mm",{"$f":"J118*J256","v":228.18168411163623},190.51104217267795,161.72254679252777,136.3756059928391,112.25266836749735,90.01944464988992,74.388687564584941,59.329321664222377,43.241890117662244,22.456319893811163,10.047529944963177,3.9002721642732618,1.1802829914472099,0.31506181718372156,1133.9223582452166]
[null,null,null,null,null,null,null,null,"Cervical length ≤ 20 mm",{"$f":"J149*J256","v":213.97345498260754},168.90091442335569,140.77854454172279,120.51393219350896,102.94442619601099,86.55793103124347,75.110311874805575,62.660725551998198,47.435634618210926,25.34805975666162,11.524476114641885,4.4557544358153445,1.3008871948428415,0.2769037694649355,1061.7819566848907]
[null,null,null,null,null,null,null,null,"Cervical length ≤ 25 mm",{"$f":"J180*J256","v":190.74172012681768},{"$f":"K180*K256","v":118.87430991204614},87.922672806524957,78.425941228692793,76.922520093391341,75.656007381125718,75.337070864655701,70.108501189282663,57.611534380553756,32.600986974592018,15.307841428971358,5.9079729201980618,1.632168109191428,0.1868225482999212,887.23606996434376]
[]
[null,null,null,null,null,null,null,null,"NICU Cost by GA",{"$f":"((SCBU_24*Cost_SCBU)+(ICU_24*Cost_CritCare2)+(HDU_24*Cost_HDU))*LOS_NICU24","v":143420.14285714284},{"$f":"((SCBU_25*Cost_SCBU)+(ICU_25*Cost_CritCare2)+(HDU_25*Cost_HDU))*LOS_NICU25","v":123781},{"$f":"((SCBU_26*Cost_SCBU)+(ICU_26*Cost_CritCare2)+(HDU_26*Cost_HDU))*LOS_NICU26","v":105813.33333333331},{"$f":"((SCBU_27*Cost_SCBU)+(ICU_27*Cost_CritCare2)+(HDU_27*Cost_HDU))*LOS_NICU27","v":88200.818181818191},{"$f":"((SCBU_28*Cost_SCBU)+(ICU_28*Cost_CritCare2)+(HDU_28*Cost_HDU))*LOS_NICU28","v":71050},{"$f":"((SCBU_29*Cost_SCBU)+(ICU_29*Cost_CritCare2)+(HDU_29*Cost_HDU))*LOS_NICU29","v":55674.666666666657},{"$f":"((SCBU_30*Cost_SCBU)+(ICU_30*Cost_CritCare2)+(HDU_30*Cost_HDU))*LOS_NICU30","v":45235.666666666657},{"$f":"((SCBU_31*Cost_SCBU)+(ICU_31*Cost_CritCare2)+(HDU_31*Cost_HDU))*LOS_NICU31","v":35956.555555555547},{"$f":"((SCBU_32*Cost_SCBU)+(ICU_32*Cost_CritCare2)+(HDU_32*Cost_HDU))*LOS_NICU32","v":26677.444444444438},{"$f":"((SCBU_33*Cost_SCBU)+(ICU_33*Cost_CritCare2)+(HDU_33*Cost_HDU))*LOS_NICU33","v":19051.333333333336},{"$f":"((SCBU_34*Cost_SCBU)+(ICU_34*Cost_CritCare2)+(HDU_34*Cost_HDU))*LOS_NICU34","v":12327.333333333334},{"$f":"((SCBU_35*Cost_SCBU)+(ICU_35*Cost_CritCare2)+(HDU_35*Cost_HDU))*LOS_NICU35","v":7844.666666666667},{"$f":"((SCBU_36*Cost_SCBU)+(ICU_36*Cost_CritCare2)+(HDU_36*Cost_HDU))*LOS_NICU36","v":5603.3333333333339},{"$f":"((SCBU_37*Cost_SCBU)+(ICU_37*Cost_CritCare2)+(HDU_37*Cost_HDU))*LOS_NICU37","v":3362}]
[]
[null,null,"Post-discharge costs"]
[]
[null,null,null,null,null,null,null,null,"Baseline",24,25,26,27,28,29,30,31,32,33,34,35,36,37]
[]
[null,null,null,null,null,null,null,null,"Survive Neonatal Period",{"$f":"J20-(J19+J21)","v":1.2801785451997242E-3},{"$f":"K20-(K19+K21)","v":1.6992189614715427E-3},1.8996713331631916E-3,1.9309298694634596E-3,1.8410642749950327E-3,1.6714176165347084E-3,1.4564868345388624E-3,1.2253956237800782E-3,1.0035184098695638E-3,8.137937137173523E-4,6.7765671674201774E-4,6.1565291953661401E-4,6.4782094726071454E-4,7.9392135712259523E-4]
[null,null,null,null,null,null,null,null,"Survive 1-year",{"$f":"J262-J23","v":1.1160524208411733E-3},{"$f":"K262-K23","v":1.5791347566625632E-3},1.8156154584794111E-3,1.8742538264752151E-3,1.8041254918911582E-3,1.6481085897677478E-3,1.4422325004859163E-3,1.2169316342898269E-3,9.9860993914173304E-4,8.1096925391420242E-4,6.7598577946015878E-4,6.1457363653101972E-4,6.4701316038444162E-4,7.9321702281204699E-4]
[null,null,null,null,null,null,null,null,"Post-discharge cost",{"$f":"(J262*Discharge6_24)+(J263*Discharge12_24)+(J263*Discharge24_24)","v":3.7523336189436565},{"$f":"(K262*Discharge6_25)+(K263*Discharge12_25)+(K263*Discharge24_25)","v":5.1261562167535866},{"$f":"(L262*Discharge6_26)+(L263*Discharge12_26)+(L263*Discharge24_26)","v":5.8056147047313349},{"$f":"(M262*Discharge6_27)+(M263*Discharge12_27)+(M263*Discharge24_27)","v":5.9439724244554251},{"$f":"(N262*Discharge6_28)+(N263*Discharge12_28)+(N263*Discharge24_28)","v":5.6928008184928229},{"$f":"(O262*Discharge6_29)+(O263*Discharge12_29)+(O263*Discharge24_29)","v":5.183458657965355},{"$f":"(P262*Discharge6_30)+(P263*Discharge12_30)+(P263*Discharge24_30)","v":4.5259271940254919},{"$f":"(Q262*Discharge6_31)+(Q263*Discharge12_31)+(Q263*Discharge24_31)","v":3.8130822570904197},{"$f":"(R262*Discharge6_32)+(R263*Discharge12_32)+(R263*Discharge24_32)","v":3.1256757626990384},{"$f":"(S262*Discharge6_33)+(S263*Discharge12_33)+(S263*Discharge24_33)","v":2.5364583535786833},{"$f":"(T262*Discharge6_34)+(T263*Discharge12_34)+(T263*Discharge24_34)","v":2.1131562440558911},{"$f":"(U262*Discharge6_35)+(U263*Discharge12_35)+(U263*Discharge24_35)","v":1.9204613623979792},{"$f":"(V262*Discharge6_36)+(V263*Discharge12_36)+(V263*Discharge24_36)","v":2.0212942026891803},{"$f":"(W262*Discharge6_37)+(W263*Discharge12_37)+(W263*Discharge24_37)","v":1.6735532536909696},{"$f":"SUM(J264:W264)","v":53.233945071569835}]
[]
[null,null,null,null,null,null,null,null,"Cervical length ≤ 5 mm"]
[]
[null,null,null,null,null,null,null,null,"Survive Neonatal Period",{"$f":"J54-(J53+J55)","v":1.1237089237634908E-3},1.4874322038761936E-3,1.6830213043792677E-3,1.7528918001667214E-3,1.7325025703969783E-3,1.6497379982636929E-3,1.5262882004952818E-3,1.3793583140747218E-3,1.2231259171882542E-3,1.0698195360312893E-3,9.3045708327890719E-4,8.1532628896020668E-4,6.7020076186594319E-4,7.6105912673082323E-4]
[null,null,null,null,null,null,null,null,"Survive 1-year",{"$f":"J268-J57","v":9.7964308915317365E-4},1.3823150191814935E-3,1.6085516709319521E-3,1.7014414742946608E-3,1.6977419498450576E-3,1.6267313081465185E-3,1.5113507349755074E-3,1.3698308814259869E-3,1.2171432887661707E-3,1.0661064792391176E-3,9.2816280154125227E-4,8.1389696444997555E-4,6.6936506894463114E-4,7.6038394643682648E-4]
[null,null,null,null,null,null,null,null,"Post-discharge cost",{"$f":"(J268*Discharge6_24)+(J269*Discharge12_24)+(J269*Discharge24_24)","v":3.2937052322548555},{"$f":"(K268*Discharge6_25)+(K269*Discharge12_25)+(K269*Discharge24_25)","v":4.4872438524910683},{"$f":"(L268*Discharge6_26)+(L269*Discharge12_26)+(L269*Discharge24_26)","v":5.1435072280690211},{"$f":"(M268*Discharge6_27)+(M269*Discharge12_27)+(M269*Discharge24_27)","v":5.3959186648970059},{"$f":"(N268*Discharge6_28)+(N269*Discharge12_28)+(N269*Discharge24_28)","v":5.3571144607775567},{"$f":"(O268*Discharge6_29)+(O269*Discharge12_29)+(O269*Discharge24_29)","v":5.1162250689947761},{"$f":"(P268*Discharge6_30)+(P269*Discharge12_30)+(P269*Discharge24_30)","v":4.7428298757873257},{"$f":"(Q268*Discharge6_31)+(Q269*Discharge12_31)+(Q269*Discharge24_31)","v":4.2921703093273154},{"$f":"(R268*Discharge6_32)+(R269*Discharge12_32)+(R269*Discharge24_32)","v":3.809690979741247},{"$f":"(S268*Discharge6_33)+(S269*Discharge12_33)+(S269*Discharge24_33)","v":3.3344478499261418},{"$f":"(T268*Discharge6_34)+(T269*Discharge12_34)+(T269*Discharge24_34)","v":2.90147082848938},{"$f":"(U268*Discharge6_35)+(U269*Discharge12_35)+(U269*Discharge24_35)","v":2.5433204099380311},{"$f":"(V268*Discharge6_36)+(V269*Discharge12_36)+(V269*Discharge24_36)","v":2.0911224317856409},{"$f":"(W268*Discharge6_37)+(W269*Discharge12_37)+(W269*Discharge24_37)","v":1.6042810366101539},{"$f":"SUM(J270:W270)","v":54.113048229089522}]
[]
[null,null,null,null,null,null,null,null,"Cervical length ≤ 10 mm"]
[]
[null,null,null,null,null,null,null,null,"Survive Neonatal Period",{"$f":"J85-(J84+J86)","v":1.002183821252698E-3},1.3009871184000671E-3,1.4779660153288344E-3,1.57384840470374E-3,1.6134643210316216E-3,1.6116793553547155E-3,1.5771237109185861E-3,1.5145351043917485E-3,1.4262288981489483E-3,1.3130186491884435E-3,1.174790899894162E-3,1.0108628310083099E-3,7.0987968399829535E-4,7.1194256599738993E-4]
[null,null,null,null,null,null,null,null,"Survive 1-year",{"$f":"J274-J88","v":8.7369819157720127E-4},1.2090460518735361E-3,1.4125695838500768E-3,1.5276533039636211E-3,1.5810920625451068E-3,1.5892034182447511E-3,1.5616887288197789E-3,1.5040739855845468E-3,1.4192528399830991E-3,1.3084615134759071E-3,1.171894150161555E-3,1.0090907171437066E-3,7.0899451426908035E-4,7.1131095989198289E-4]
[null,null,null,null,null,null,null,null,"Post-discharge cost",{"$f":"(J274*Discharge6_24)+(J275*Discharge12_24)+(J275*Discharge24_24)","v":2.9375027873641084},{"$f":"(K274*Discharge6_25)+(K275*Discharge12_25)+(K275*Discharge24_25)","v":3.9247815355870048},{"$f":"(L274*Discharge6_26)+(L275*Discharge12_26)+(L275*Discharge24_26)","v":4.5168346133847512},{"$f":"(M274*Discharge6_27)+(M275*Discharge12_27)+(M275*Discharge24_27)","v":4.8447702144830398},{"$f":"(N274*Discharge6_28)+(N275*Discharge12_28)+(N275*Discharge24_28)","v":4.989033317374302},{"$f":"(O274*Discharge6_29)+(O275*Discharge12_29)+(O275*Discharge24_29)","v":4.9981962770606847},{"$f":"(P274*Discharge6_30)+(P275*Discharge12_30)+(P275*Discharge24_30)","v":4.9007975371427017},{"$f":"(Q274*Discharge6_31)+(Q275*Discharge12_31)+(Q275*Discharge24_31)","v":4.7128019900071152},{"$f":"(R274*Discharge6_32)+(R275*Discharge12_32)+(R275*Discharge24_32)","v":4.4422992694120671},{"$f":"(S274*Discharge6_33)+(S275*Discharge12_33)+(S275*Discharge24_33)","v":4.0924586476903535},{"$f":"(T274*Discharge6_34)+(T275*Discharge12_34)+(T275*Discharge24_34)","v":3.6633839291177219},{"$f":"(U274*Discharge6_35)+(U275*Discharge12_35)+(U275*Discharge24_35)","v":3.1532750808635495},{"$f":"(V274*Discharge6_36)+(V275*Discharge12_36)+(V275*Discharge24_36)","v":2.2149263557158769},{"$f":"(W274*Discharge6_37)+(W275*Discharge12_37)+(W275*Discharge24_37)","v":1.5007453661207475},{"$f":"SUM(J276:W276)","v":54.891806921324019}]
[]
[null,null,null,null,null,null,null,null,"Cervical length ≤ 15 mm"]
[]
[null,null,null,null,null,null,null,null,"Survive Neonatal Period",{"$f":"J116-(J115+J117)","v":9.1425766680734634E-4},1.1420224765597343E-3,1.289215374856451E-3,1.39944501044062E-3,1.4889619952509227E-3,1.5604292036965402E-3,1.6096443873515626E-3,1.6288338791812336E-3,1.6082877093527852E-3,1.537192945372018E-3,1.4040762165156661E-3,1.1970515403777146E-3,7.7774358584522889E-4,6.3877404725450071E-4]
[null,null,null,null,null,null,null,null,"Survive 1-year",{"$f":"J280-J119","v":7.9704466704193407E-4},1.0613154787677056E-3,1.2321707039717809E-3,1.3583689429843451E-3,1.4590877290780947E-3,1.5386679839289046E-3,1.5938911321489342E-3,1.6175832817682716E-3,1.6004211539755757E-3,1.5318577607783006E-3,1.4006141047431643E-3,1.1949530245689655E-3,7.7677379463300005E-4,6.3820735324364843E-4]
[null,null,null,null,null,null,null,null,"Post-discharge cost",{"$f":"(J280*Discharge6_24)+(J281*Discharge12_24)+(J281*Discharge24_24)","v":2.6797822791218366},{"$f":"(K280*Discharge6_25)+(K281*Discharge12_25)+(K281*Discharge24_25)","v":3.4452214521071594},{"$f":"(L280*Discharge6_26)+(L281*Discharge12_26)+(L281*Discharge24_26)","v":3.9399908853545664},{"$f":"(M280*Discharge6_27)+(M281*Discharge12_27)+(M281*Discharge24_27)","v":4.3079050581532226},{"$f":"(N280*Discharge6_28)+(N281*Discharge12_28)+(N281*Discharge24_28)","v":4.6040565668420399},{"$f":"(O280*Discharge6_29)+(O281*Discharge12_29)+(O281*Discharge24_29)","v":4.8392575177065886},{"$f":"(P280*Discharge6_30)+(P281*Discharge12_30)+(P281*Discharge24_30)","v":5.0018531803148649},{"$f":"(Q280*Discharge6_31)+(Q281*Discharge12_31)+(Q281*Discharge24_31)","v":5.0684672312559105},{"$f":"(R280*Discharge6_32)+(R281*Discharge12_32)+(R281*Discharge24_32)","v":5.0093609276427298},{"$f":"(S280*Discharge6_33)+(S281*Discharge12_33)+(S281*Discharge24_33)","v":4.7911722855913945},{"$f":"(T280*Discharge6_34)+(T281*Discharge12_34)+(T281*Discharge24_34)","v":4.3783708635326537},{"$f":"(U280*Discharge6_35)+(U281*Discharge12_35)+(U281*Discharge24_35)","v":3.7340702190199972},{"$f":"(V280*Discharge6_36)+(V281*Discharge12_36)+(V281*Discharge24_36)","v":2.4266714558937958},{"$f":"(W280*Discharge6_37)+(W281*Discharge12_37)+(W281*Discharge24_37)","v":1.3465091668910014},{"$f":"SUM(J282:W282)","v":55.572689089427762}]
[]
[null,null,null,null,null,null,null,null,"Cervical length ≤ 20 mm"]
[]
[null,null,null,null,null,null,null,null,"Survive Neonatal Period",{"$f":"J147-(J146+J148)","v":8.5732942358071325E-4},1.0124801081510615E-3,1.1222545506035062E-3,1.2366773358692981E-3,1.365493938433236E-3,1.5004260903632276E-3,1.6252591072606162E-3,1.7202946167294529E-3,1.7642648814432198E-3,1.7351399882554706E-3,1.6104697282821429E-3,1.3675373118305022E-3,8.5721532804318564E-4,5.6141027529845334E-4]
[null,null,null,null,null,null,null,null,"Survive 1-year",{"$f":"J286-J150","v":7.4741494632402691E-4},9.4092790009016639E-4,1.0725974934999724E-3,1.2003787737315693E-3,1.338096913187294E-3,1.4795016537914559E-3,1.6093530340383197E-3,1.7084122864243897E-3,1.7556354009657968E-3,1.7291177825452804E-3,1.6064987001143277E-3,1.3651399224357021E-3,8.5614644119248826E-4,5.6091221523792026E-4]
[null," ",null,null,null,null,null,null,"Post-discharge cost",{"$f":"(J286*Discharge6_24)+(J287*Discharge12_24)+(J287*Discharge24_24)","v":2.5129198037837805},{"$f":"(K286*Discharge6_25)+(K287*Discharge12_25)+(K287*Discharge24_25)","v":3.0544216598449414},{"$f":"(L286*Discharge6_26)+(L287*Discharge12_26)+(L287*Discharge24_26)","v":3.4297393489569847},{"$f":"(M286*Discharge6_27)+(M287*Discharge12_27)+(M287*Discharge24_27)","v":3.8068580835608703},{"$f":"(N286*Discharge6_28)+(N287*Discharge12_28)+(N287*Discharge24_28)","v":4.2222779051973554},{"$f":"(O286*Discharge6_29)+(O287*Discharge12_29)+(O287*Discharge24_29)","v":4.6531737680586289},{"$f":"(P286*Discharge6_30)+(P287*Discharge12_30)+(P287*Discharge24_30)","v":5.0503747898396441},{"$f":"(Q286*Discharge6_31)+(Q287*Discharge12_31)+(Q287*Discharge24_31)","v":5.353067003605112},{"$f":"(R286*Discharge6_32)+(R287*Discharge12_32)+(R287*Discharge24_32)","v":5.4951856634348495},{"$f":"(S286*Discharge6_33)+(S287*Discharge12_33)+(S287*Discharge24_34)","v":5.4081399790311062},{"$f":"(T286*Discharge6_34)+(T287*Discharge12_34)+(T287*Discharge24_34)","v":5.0219736307549736},{"$f":"(U286*Discharge6_35)+(U287*Discharge12_35)+(U287*Discharge24_35)","v":4.2658817747259707},{"$f":"(V286*Discharge6_36)+(V287*Discharge12_36)+(V287*Discharge24_36)","v":2.674634681630137},{"$f":"(W286*Discharge6_37)+(W287*Discharge12_37)+(W287*Discharge24_37)","v":1.1834295480933723},{"$f":"SUM(J288:W288)","v":56.132077640517721}]
[]
[null,null,null,null,null,null,null,null,"Cervical length ≤ 25 mm"]
[]
[null,null,null,null,null,null,null,null,"Survive Neonatal Period",{"$f":"J178-(J177+J179)","v":7.6424661639646133E-4},7.1259456804627082E-4,7.0089955809354376E-4,8.0478316736034455E-4,1.0203295000793815E-3,1.311448252227514E-3,1.630165785241416E-3,1.9247666879121756E-3,2.1427352599315383E-3,2.2316215402381689E-3,2.1391701437412976E-3,1.8132447651767059E-3,1.0755117943267798E-3,3.7877454133501378E-4]
[null,null,null,null,null,null,null,null,"Survive 1-year",{"$f":"J292-J181","v":6.6626588107354732E-4},6.6223534183982061E-4,6.6988644314437641E-4,7.811614262961781E-4,9.9985779216032003E-4,1.2931592368957076E-3,1.6142116913811227E-3,1.9114720386564361E-3,2.1322545819515179E-3,2.2238761801671825E-3,2.1338954684416832E-3,1.8100660191691161E-3,1.0741707072310204E-3,3.784385081712363E-4]
[null,null,null,null,null,null,null,null,"Post-discharge cost",{"$f":"(J292*Discharge6_24)+(J293*Discharge12_24)+(J293*Discharge24_24)","v":2.2400846214939336},{"$f":"(K292*Discharge6_25)+(K293*Discharge12_25)+(K293*Discharge24_25)","v":2.1497353536190533},{"$f":"(L292*Discharge6_26)+(L293*Discharge12_26)+(L293*Discharge24_26)","v":2.1420298922087335},{"$f":"(M292*Discharge6_27)+(M293*Discharge12_27)+(M293*Discharge24_27)","v":2.4773602760544517},{"$f":"(N292*Discharge6_28)+(N293*Discharge12_28)+(N293*Discharge24_28)","v":3.1549863261563464},{"$f":"(O292*Discharge6_29)+(O293*Discharge12_29)+(O293*Discharge24_29)","v":4.067109099625239},{"$f":"(P292*Discharge6_30)+(P293*Discharge12_30)+(P293*Discharge24_30)","v":5.0656219357657246},{"$f":"(Q292*Discharge6_31)+(Q293*Discharge12_31)+(Q293*Discharge24_31)","v":5.9893258669200158},{"$f":"(R292*Discharge6_32)+(R293*Discharge12_32)+(R293*Discharge24_32)","v":6.6740137519940124},{"$f":"(S292*Discharge6_33)+(S293*Discharge12_33)+(S293*Discharge24_33)","v":6.9555896074778651},{"$f":"(T292*Discharge6_34)+(T293*Discharge12_34)+(T293*Discharge24_34)","v":6.6706351972392053},{"$f":"(U292*Discharge6_35)+(U293*Discharge12_35)+(U293*Discharge24_35)","v":5.6562170040763746},{"$f":"(V292*Discharge6_36)+(V293*Discharge12_36)+(V293*Discharge24_36)","v":3.3557509432026209},{"$f":"(W292*Discharge6_37)+(W293*Discharge12_37)+(W293*Discharge24_37)","v":0.79844100474126933},{"$f":"SUM(J294:W294)","v":57.396900880574847}]
[]
[null,null,"Treatment Costs Revised"]
[null,null,null,null,null,null,null,null,"Cervical length ≤ 5 mm"]
[]
[null,null,null,null,"Rx Popn",{"$f":"CL5_weight","v":1.4204545454545455E-3},null,null,"Initial Screening period",24,25,26,27,28,29,30,31,32,33,34,35,36,37]
[]
[null,null,null,null,null,null,null,null,"On-going Pregnancy",{"$f":"$F$299-J302","v":1.4204545454545455E-3},1.4204545454545455E-3,1.4204545454545455E-3,1.4204545454545455E-3,1.4204545454545455E-3,1.4204545454545455E-3,1.4204545454545455E-3,1.4204545454545455E-3,1.4204545454545455E-3,1.4204545454545455E-3,1.4204545454545455E-3,1.4204545454545455E-3,1.4204545454545455E-3,1.4204545454545455E-3]
[null," ",null,null,null,null,null,null,"Twin birth",{"$f":"(($D$45-$C$45)*Kind_24)*CL5_weight","v":0},{"$f":"(($D$45-$C$45)*Kind_25)*CL5_weight+J302","v":0},{"$f":"(($D$45-$C$45)*Kind_26)*CL5_weight+K302","v":0},{"$f":"(($D$45-$C$45)*Kind_27)*CL5_weight+L302","v":0},{"$f":"(($E$45-$D$45)*Kind_28)*CL5_weight+M302","v":0},{"$f":"(($E$45-$D$45)*Kind_29)*CL5_weight+N302","v":0},{"$f":"(($E$45-$D$45)*Kind_30)*CL5_weight+O302","v":0},{"$f":"(($E$45-$D$45)*Kind_31)*CL5_weight+P302","v":0},{"$f":"(($F$45-$E$45)*Kind_32)*CL5_weight+Q302","v":0},{"$f":"(($F$45-$E$45)*Kind_33)*CL5_weight+R302","v":0},{"$f":"(($F$45-$E$45)*Kind_34)*CL5_weight+S302","v":0},{"$f":"(($F$45-$E$45)*Kind_35)*CL5_weight+T302","v":0},{"$f":"(($F$45-$E$45)*Kind_36)*CL5_weight+U302","v":0},{"$f":"(($G$45-$F$45)*Kind_37)*CL5_weight+V302","v":0}]
[]
[]
[null,null,null,null,null,null,"Treated",null,{"$f":"F299","v":1.4204545454545455E-3},{"$f":"J301","v":1.4204545454545455E-3},{"$f":"K301","v":1.4204545454545455E-3},1.4204545454545455E-3,1.4204545454545455E-3,1.4204545454545455E-3,1.4204545454545455E-3,1.4204545454545455E-3,1.4204545454545455E-3,1.4204545454545455E-3,1.4204545454545455E-3,1.4204545454545455E-3,1.4204545454545455E-3,1.4204545454545455E-3,1.4204545454545455E-3]
[null,null,null,null,null,null,"Rx Cost",null,{"$f":"((24-Screen_Age)*7*Cost_treat*F299)+(CounsellingConsult*Cost_consultant*F299)","v":0.31079545454545454},{"$f":"7*Cost_treat*J305","v":5.9659090909090912E-3},5.9659090909090912E-3,5.9659090909090912E-3,5.9659090909090912E-3,5.9659090909090912E-3,5.9659090909090912E-3,5.9659090909090912E-3,5.9659090909090912E-3,5.9659090909090912E-3,5.9659090909090912E-3,5.9659090909090912E-3,0,0,{"$f":"7*Cost_treat*W305","v":5.9659090909090912E-3},{"$f":"SUM(I306:W306)","v":0.3823863636363638}]
[]
[null,null,null,null,null,null,null,null,"Cervical length ≤ 10 mm"]
[]
[null,null,null,null,"Rx Popn",{"$f":"CL10_weight","v":1.4204545454545455E-3},null,null,"Initial Screening period",24,25,26,27,28,29,30,31,32,33,34,35,36,37]
[]
[null,null,null,null,null,null,null,null,"On-going Pregnancy",{"$f":"$F$310-J313","v":1.4204545454545455E-3},{"$f":"$F$310-K313","v":1.4204545454545455E-3},1.4204545454545455E-3,1.4204545454545455E-3,1.4204545454545455E-3,1.4204545454545455E-3,1.4204545454545455E-3,1.4204545454545455E-3,1.4204545454545455E-3,1.4204545454545455E-3,1.4204545454545455E-3,1.4204545454545455E-3,1.4204545454545455E-3,1.4204545454545455E-3]
[null,null,null,null,null,null,null,null,"Twin birth",{"$f":"(($D$57-$C$57)*Kind_24)*CL10_weight","v":0},{"$f":"(($D$57-$C$57)*Kind_25)*CL10_weight+J313","v":0},{"$f":"(($D$57-$C$57)*Kind_26)*CL10_weight+K313","v":0},{"$f":"(($D$57-$C$57)*Kind_27)*CL10_weight+L313","v":0},{"$f":"(($E$57-$D$57)*Kind_28)*CL10_weight+M313","v":0},{"$f":"(($E$57-$D$57)*Kind_29)*CL10_weight+N313","v":0},{"$f":"(($E$57-$D$57)*Kind_30)*CL10_weight+O313","v":0},{"$f":"(($E$57-$D$57)*Kind_31)*CL10_weight+P313","v":0},{"$f":"(($F$57-$E$57)*Kind_32)*CL10_weight+Q313","v":0},{"$f":"(($F$57-$E$57)*Kind_33)*CL10_weight+R313","v":0},{"$f":"(($F$57-$E$57)*Kind_34)*CL10_weight+S313","v":0},{"$f":"(($F$57-$E$57)*Kind_35)*CL10_weight+T313","v":0},{"$f":"(($F$57-$E$57)*Kind_36)*CL10_weight+U313","v":0},{"$f":"(($G$57-$F$57)*Kind_37)*CL10_weight+V313","v":0}]
[]
[]
[null,null,null,null,null,null,"Treated",null,{"$f":"F310","v":1.4204545454545455E-3},{"$f":"J312","v":1.4204545454545455E-3},{"$f":"K312","v":1.4204545454545455E-3},1.4204545454545455E-3,1.4204545454545455E-3,1.4204545454545455E-3,1.4204545454545455E-3,1.4204545454545455E-3,1.4204545454545455E-3,1.4204545454545455E-3,1.4204545454545455E-3,1.4204545454545455E-3,1.4204545454545455E-3,1.4204545454545455E-3,1.4204545454545455E-3]
[null,null,null,null,null,null,"Rx Cost",null,{"$f":"((24-Screen_Age)*7*Cost_treat*F310)+(CounsellingConsult*Cost_consultant*F310)","v":0.31079545454545454},{"$f":"7*Cost_treat*J316","v":5.9659090909090912E-3},{"$f":"7*Cost_treat*K316","v":5.9659090909090912E-3},5.9659090909090912E-3,5.9659090909090912E-3,5.9659090909090912E-3,5.9659090909090912E-3,5.9659090909090912E-3,5.9659090909090912E-3,5.9659090909090912E-3,5.9659090909090912E-3,5.9659090909090912E-3,0,0,{"$f":"7*Cost_treat*W316","v":5.9659090909090912E-3},{"$f":"SUM(I317:W317)","v":0.3823863636363638}]
[]
[null,null,null,null,null,null,null,null,"Cervical length ≤ 15 mm"]
[]
[null,null,null,null,"Rx Popn",{"$f":"CL15_weight","v":1.4204545454545455E-3},null,null,"Initial Screening period",24,25,26,27,28,29,30,31,32,33,34,35,36,37]
[]
[null,null,null,null,null,null,null,null,"On-going Pregnancy",{"$f":"$F$321-J324","v":1.4204545454545455E-3},1.4204545454545455E-3,1.4204545454545455E-3,1.4204545454545455E-3,1.4204545454545455E-3,1.4204545454545455E-3,1.4204545454545455E-3,1.4204545454545455E-3,1.4204545454545455E-3,1.4204545454545455E-3,1.4204545454545455E-3,1.4204545454545455E-3,1.4204545454545455E-3,1.4204545454545455E-3]
[null,null,null,null,null,null,null,null,"Twin birth",{"$f":"(($D$69-$C$69)*Kind_24)*CL15_weight","v":0},{"$f":"(($D$69-$C$69)*Kind_25)*CL15_weight+J324","v":0},{"$f":"(($D$69-$C$69)*Kind_26)*CL15_weight+K324","v":0},{"$f":"(($D$69-$C$69)*Kind_27)*CL15_weight+L324","v":0},{"$f":"(($E$69-$D$69)*Kind_28)*CL15_weight+M324","v":0},{"$f":"(($E$69-$D$69)*Kind_29)*CL15_weight+N324","v":0},{"$f":"(($E$69-$D$69)*Kind_30)*CL15_weight+O324","v":0},{"$f":"(($E$69-$D$69)*Kind_31)*CL15_weight+P324","v":0},{"$f":"(($F$69-$E$69)*Kind_32)*CL15_weight+Q324","v":0},{"$f":"(($F$69-$E$69)*Kind_33)*CL15_weight+R324","v":0},{"$f":"(($F$69-$E$69)*Kind_34)*CL15_weight+S324","v":0},{"$f":"(($F$69-$E$69)*Kind_35)*CL15_weight+T324","v":0},{"$f":"(($F$69-$E$69)*Kind_36)*CL15_weight+U324","v":0},{"$f":"(($G$69-$F$69)*Kind_37)*CL15_weight+V324","v":0}]
[]
[]
[null,null,null,null,null,null,"Treated",null,{"$f":"F321","v":1.4204545454545455E-3},{"$f":"J323","v":1.4204545454545455E-3},{"$f":"K323","v":1.4204545454545455E-3},1.4204545454545455E-3,1.4204545454545455E-3,1.4204545454545455E-3,1.4204545454545455E-3,1.4204545454545455E-3,1.4204545454545455E-3,1.4204545454545455E-3,1.4204545454545455E-3,1.4204545454545455E-3,1.4204545454545455E-3,1.4204545454545455E-3,1.4204545454545455E-3]
[null,null,null,null,null,null,"Rx Cost",null,{"$f":"((24-Screen_Age)*7*Cost_treat*F321)+(CounsellingConsult*Cost_consultant*F321)","v":0.31079545454545454},{"$f":"7*Cost_treat*J327","v":5.9659090909090912E-3},5.9659090909090912E-3,5.9659090909090912E-3,5.9659090909090912E-3,5.9659090909090912E-3,5.9659090909090912E-3,5.9659090909090912E-3,5.9659090909090912E-3,5.9659090909090912E-3,5.9659090909090912E-3,5.9659090909090912E-3,0,0,{"$f":"7*Cost_treat*W327","v":5.9659090909090912E-3},{"$f":"SUM(I328:W328)","v":0.3823863636363638}]
[]
[null,null,null,null,null,null,null,null,"Cervical length ≤ 20 mm"]
[]
[null,null,null,null,"Rx Popn",{"$f":"CL20_weight","v":1.4204545454545455E-3},null,null,"Initial Screening period",24,25,26,27,28,29,30,31,32,33,34,35,36,37]
[]
[null,null,null,null,null,null,null,null,"On-going Pregnancy",{"$f":"$F$332-J335","v":1.4204545454545455E-3},1.4204545454545455E-3,1.4204545454545455E-3,1.4204545454545455E-3,1.4204545454545455E-3,1.4204545454545455E-3,1.4204545454545455E-3,1.4204545454545455E-3,1.4204545454545455E-3,1.4204545454545455E-3,1.4204545454545455E-3,1.4204545454545455E-3,1.4204545454545455E-3,1.4204545454545455E-3]
[null,null,null,null,null,null,null,null,"Twin birth",{"$f":"(($D$81-$C$81)*Kind_24)*CL20_weight","v":0},{"$f":"(($D$81-$C$81)*Kind_25)*CL20_weight+J335","v":0},{"$f":"(($D$81-$C$81)*Kind_26)*CL20_weight+K335","v":0},{"$f":"(($D$81-$C$81)*Kind_27)*CL20_weight+L335","v":0},{"$f":"(($E$81-$D$81)*Kind_28)*CL20_weight+M335","v":0},{"$f":"(($E$81-$D$81)*Kind_29)*CL20_weight+N335","v":0},{"$f":"(($E$81-$D$81)*Kind_30)*CL20_weight+O335","v":0},{"$f":"(($E$81-$D$81)*Kind_31)*CL20_weight+P335","v":0},{"$f":"(($F$81-$E$81)*Kind_32)*CL20_weight+Q335","v":0},{"$f":"(($F$81-$E$81)*Kind_33)*CL20_weight+R335","v":0},{"$f":"(($F$81-$E$81)*Kind_34)*CL20_weight+S335","v":0},{"$f":"(($F$81-$E$81)*Kind_35)*CL20_weight+T335","v":0},{"$f":"(($F$81-$E$81)*Kind_36)*CL20_weight+U335","v":0},{"$f":"(($G$81-$F$81)*Kind_37)*CL20_weight+V335","v":0}]
[]
[]
[null,null,null,null,null,null,"Treated",null,{"$f":"F332","v":1.4204545454545455E-3},{"$f":"J334","v":1.4204545454545455E-3},{"$f":"K334","v":1.4204545454545455E-3},1.4204545454545455E-3,1.4204545454545455E-3,1.4204545454545455E-3,1.4204545454545455E-3,1.4204545454545455E-3,1.4204545454545455E-3,1.4204545454545455E-3,1.4204545454545455E-3,1.4204545454545455E-3,1.4204545454545455E-3,1.4204545454545455E-3,1.4204545454545455E-3]
[null,null,null,null,null,null,"Rx Cost",null,{"$f":"((24-Screen_Age)*7*Cost_treat*F332)+(CounsellingConsult*Cost_consultant*F332)","v":0.31079545454545454},{"$f":"7*Cost_treat*J338","v":5.9659090909090912E-3},5.9659090909090912E-3,5.9659090909090912E-3,5.9659090909090912E-3,5.9659090909090912E-3,5.9659090909090912E-3,5.9659090909090912E-3,5.9659090909090912E-3,5.9659090909090912E-3,5.9659090909090912E-3,5.9659090909090912E-3,0,0,{"$f":"7*Cost_treat*W338","v":5.9659090909090912E-3},{"$f":"SUM(I339:W339)","v":0.3823863636363638}]
[]
[null,null,null,null,null,null,null,null,"Cervical length ≤ 25 mm"]
[]
[null,null,null,null,"Rx Popn",{"$f":"CL25_weight","v":4.261363636363636E-3},null,null,"Initial Screening period",24,25,26,27,28,29,30,31,32,33,34,35,36,37]
[]
[null,null,null,null,null,null,null,null,"On-going Pregnancy",{"$f":"$F$343-J346","v":4.261363636363636E-3},4.261363636363636E-3,4.261363636363636E-3,4.261363636363636E-3,4.261363636363636E-3,4.261363636363636E-3,4.261363636363636E-3,4.261363636363636E-3,4.261363636363636E-3,4.261363636363636E-3,4.261363636363636E-3,4.261363636363636E-3,4.261363636363636E-3,4.261363636363636E-3]
[null,null,null,null,null,null,null,null,"Twin birth",{"$f":"(($D$93-$C$93)*Kind_24)*CL25_weight","v":0},{"$f":"(($D$93-$C$93)*Kind_25)*CL25_weight+J346","v":0},{"$f":"(($D$93-$C$93)*Kind_26)*CL25_weight+K346","v":0},{"$f":"(($D$93-$C$93)*Kind_27)*CL25_weight+L346","v":0},{"$f":"(($E$93-$D$93)*Kind_28)*CL25_weight+M346","v":0},{"$f":"(($E$93-$D$93)*Kind_29)*CL25_weight+N346","v":0},{"$f":"(($E$93-$D$93)*Kind_30)*CL25_weight+O346","v":0},{"$f":"(($E$93-$D$93)*Kind_31)*CL25_weight+P346","v":0},{"$f":"(($F$93-$E$93)*Kind_32)*CL25_weight+Q346","v":0},{"$f":"(($F$93-$E$93)*Kind_33)*CL25_weight+R346","v":0},{"$f":"(($F$93-$E$93)*Kind_34)*CL25_weight+S346","v":0},{"$f":"(($F$93-$E$93)*Kind_35)*CL25_weight+T346","v":0},{"$f":"(($F$93-$E$93)*Kind_36)*CL25_weight+U346","v":0},{"$f":"(($G$93-$F$93)*Kind_37)*CL25_weight+V346","v":0}]
[]
[]
[null,null,null,null,null,null,"Treated",null,{"$f":"F343","v":4.261363636363636E-3},{"$f":"J345","v":4.261363636363636E-3},{"$f":"K345","v":4.261363636363636E-3},4.261363636363636E-3,4.261363636363636E-3,4.261363636363636E-3,4.261363636363636E-3,4.261363636363636E-3,4.261363636363636E-3,4.261363636363636E-3,4.261363636363636E-3,4.261363636363636E-3,4.261363636363636E-3,4.261363636363636E-3,4.261363636363636E-3]
[null,null,null,null,null,null,"Rx Cost",null,{"$f":"((24-Screen_Age)*7*Cost_treat*F343)+(CounsellingConsult*Cost_consultant*F343)","v":0.93238636363636362},{"$f":"7*Cost_treat*J349","v":1.7897727272727273E-2},1.7897727272727273E-2,1.7897727272727273E-2,1.7897727272727273E-2,1.7897727272727273E-2,1.7897727272727273E-2,1.7897727272727273E-2,1.7897727272727273E-2,1.7897727272727273E-2,1.7897727272727273E-2,1.7897727272727273E-2,0,0,1.7897727272727273E-2,{"$f":"SUM(I350:W350)","v":1.1471590909090905}]
[]
[null,null,null,null,"Rx Total",{"$f":"SUM(F300:F343,F299)","v":9.943181818181818E-3}]
[]
[]
[null,null,null,null,null,null,null,null," "]

{"sheet":"Clinical Lookup","index":44,"n_rows":12,"n_cols":10,"rows_kept":12,"cut":false,"hidden":false,"merged":[[3,3,3,9],[8,3,8,9]]}
[]
[]
[]
[null,null,null,"QALY losses"]
[null,null,"Strategy","Stillbirths","Neonatal Deaths","Post neonatal deaths","CP","IVH","RDS","NICU admissions"]
[null,null,"No Screen/treatment",{"$f":"'QALY calcs'!B3*Cohort","v":0},{"$f":"'QALY calcs'!C3*Cohort","v":5.9056285603743326E-2},{"$f":"'QALY calcs'!D3*Cohort","v":1.3179557584761676E-2},{"$f":"'QALY calcs'!E3*Cohort","v":1.4056982921154672E-2},{"$f":"'QALY calcs'!F3*Cohort","v":7.738440212563257E-3},{"$f":"'QALY calcs'!G3*Cohort","v":1.3330185193180834E-2},{"$f":"'Markov Transitions'!W8*Cohort","v":1.78944741579374E-2}]
[null,null,"Cervical length ≤ 25 mm",{"$f":"'QALY calcs'!B4*Cohort","v":0},{"$f":"'QALY calcs'!C4*Cohort","v":3.1334411416106329E-2},{"$f":"'QALY calcs'!D4*Cohort","v":9.2811222413322954E-3},{"$f":"'QALY calcs'!E4*Cohort","v":9.6068426544498563E-3},{"$f":"'QALY calcs'!F4*Cohort","v":3.7580737264934715E-3},{"$f":"'QALY calcs'!G4*Cohort","v":8.1389625679491838E-3},{"$f":"'Markov Transitions'!W166*Cohort","v":1.6279734436282518E-2}]
[]
[null,null,null,"Cases"]
[null,null,"Strategy","Stillbirths","Neonatal Deaths","Post neonatal deaths","CP","IVH","RDS","NICU admissions"]
[null,null,"No Screen/treatment",{"$f":"'Markov Transitions'!W6*Cohort","v":0},{"$f":"'Markov Transitions'!W7*Cohort","v":2.3296365129681783E-3},{"$f":"'Markov Transitions'!W9*Cohort","v":5.1990365225884324E-4},{"$f":"'Markov Transitions'!W14*Cohort","v":1.2607159570542307E-3},{"$f":"'Markov Transitions'!W13*Cohort","v":1.7196533805696127E-3},{"$f":"'Markov Transitions'!W12*Cohort","v":8.8867901287872225E-3},{"$f":"J6","v":1.78944741579374E-2}]
[null,null,"Cervical length ≤ 25 mm",{"$f":"'Markov Transitions'!W164*Cohort","v":0},{"$f":"'Markov Transitions'!W165*Cohort","v":1.2360714562566599E-3},{"$f":"'Markov Transitions'!W167*Cohort","v":2.9934086352734657E-4},{"$f":"'Markov Transitions'!W172*Cohort","v":8.6160023806725159E-4},{"$f":"'Markov Transitions'!W171*Cohort","v":8.3512749477632697E-4},{"$f":"'Markov Transitions'!W170*Cohort","v":5.4259750452994556E-3},{"$f":"J7","v":1.6279734436282518E-2}]

{"sheet":"Kindinger22","index":45,"n_rows":36,"n_cols":8,"rows_kept":36,"cut":false,"hidden":false,"merged":[]}
[]
[null,null,"Kindinger data for GA = 22 weeks"]
[]
[null,null,"CL","<28","28-32","32-36",">36","check"]
[null,null,5,0.47499999999999998,0.38200000000000001,0.11899999999999999,2.3E-2,{"$f":"SUM(D5:G5)","v":0.999}]
[null,null,10,0.46100000000000002,0.38500000000000001,0.11899999999999999,3.5000000000000003E-2,{"$f":"SUM(D6:G6)","v":1}]
[null,null,15,0.38600000000000001,0.39200000000000002,0.16,6.2E-2,1]
[null,null,20,0.308,0.38100000000000001,0.20599999999999999,0.105,1]
[null,null,25,0.23200000000000001,0.35,0.26,0.16800000000000001,1.01]
[null,null,30,0.16400000000000001,0.30099999999999999,0.28499999999999998,0.251,1.0009999999999999]
[null,null,35,0.108,0.24099999999999999,0.30199999999999999,0.35,1.0009999999999999]
[null,null,40,6.6000000000000003E-2,0.18,0.29899999999999999,0.45400000000000001,0.99899999999999989]
[]
[null,null,"Adjustment to make check = 1"]
[]
[null,null,"Kindinger data for GA = 22 weeks"]
[]
[null,null,"CL","<28","28-32","32-36",">36","check"]
[null,null,5,{"$f":"IF($H5=1,D5,IF($H5<1,D5+((1-$H5)/4),D5-(($H5-1)/4)))","v":0.47524999999999995},0.38224999999999998,0.11924999999999999,2.325E-2,{"$f":"SUM(D19:G19)","v":0.99999999999999989}]
[null,null,10,0.46100000000000002,0.38500000000000001,0.11899999999999999,3.5000000000000003E-2,{"$f":"SUM(D20:G20)","v":1}]
[null,null,15,0.38600000000000001,0.39200000000000002,0.16,6.2E-2,1]
[null,null,20,0.308,0.38100000000000001,0.20599999999999999,0.105,1]
[null,null,25,0.22950000000000001,0.34749999999999998,0.25750000000000001,0.16550000000000001,1]
[null,null,30,0.16375000000000003,0.30075000000000002,0.28475,0.25075000000000003,1]
[null,null,35,0.10775000000000003,0.24075000000000002,0.30175000000000002,0.34975000000000001,1]
[null,null,40,6.6250000000000031E-2,0.18025000000000002,0.29925000000000002,0.45425000000000004,1]
[]
[]
[null,null,"Start","22-28","28-32 ","32-36","36-42"]
[null,null,1,0.52475000000000005,0.14250000000000007,2.3250000000000104E-2,0]
[null,null,0,0.47524999999999995,0.85749999999999993,0.9767499999999999,0.99999999999999989]
[]
[null,null,null,null,{"$f":"E31-D31","v":0.38224999999999998},{"$f":"F31-E31","v":0.11924999999999997}]
[]
[null,null,null,{"$f":"D19","v":0.47524999999999995},{"$f":"E19+D19","v":0.85749999999999993},{"$f":"E35+F19","v":0.9767499999999999},{"$f":"G19+F35","v":0.99999999999999989}]
[null,null,null,{"$f":"D26","v":6.6250000000000031E-2},{"$f":"D36+E26","v":0.24650000000000005},{"$f":"F26+E36","v":0.54575000000000007},{"$f":"G26+F36","v":1}]

{"sheet":"Published distributions","index":46,"n_rows":83,"n_cols":15,"rows_kept":83,"cut":false,"hidden":false,"merged":[]}
[]
[null,null,"Liem","Skentou","Souka",null,null,null,null,null,null,null,null,null,"Souka"]
[null,"Distribution",1,2,3,null,null,null,null,null,null,null,null,null,3]
[null,"CL","Probability","Probability","Probability",null,null,null,"CL","Liem","Skentou","Souka","Dummy"]
[null,5,{"$f":"E18","v":1.4204545454545455E-3},{"$f":"L18","v":6.4655172413793103E-3},{"$f":"SUM(C42:C46)/C83","v":4.6511627906976744E-3},null,null,null,5,{"$f":"INT(C5*$D$34)","v":1},{"$f":"INT(D5*$K$32)","v":3},{"$f":"INT(E5*$C$83)","v":1},{"$f":"'Distribution Data'!J13*10000","v":10}]
[null,10,{"$f":"E19","v":1.4204545454545455E-3},{"$f":"L19","v":1.7241379310344827E-2},{"$f":"SUM(C47:C51)/C83","v":3.255813953488372E-2},null,null,null,10,1,8,7,{"$f":"'Distribution Data'!J14*10000","v":10}]
[null,15,{"$f":"E20","v":1.4204545454545455E-3},{"$f":"L20","v":2.3706896551724137E-2},{"$f":"SUM(C52:C56)/C83","v":1.8604651162790697E-2},null,null,null,15,1,11,4,{"$f":"'Distribution Data'!J15*10000","v":10}]
[null,20,{"$f":"E21","v":1.4204545454545455E-3},{"$f":"L21","v":3.2327586206896554E-2},{"$f":"SUM(C57:C61)/C83","v":3.7209302325581395E-2},null,null,null,20,1,15,8,{"$f":"'Distribution Data'!J16*10000","v":10}]
[null,25,{"$f":"E22","v":4.261363636363636E-3},{"$f":"L22","v":5.1724137931034482E-2},{"$f":"SUM(C62:C66)/C83","v":3.7209302325581395E-2},null,null,null,25,3,24,8,{"$f":"'Distribution Data'!J17*10000","v":10}]
[null,"30+",{"$f":"SUM(E23:E32)","v":0.99005681818181812},{"$f":"SUM(L23:L30)","v":0.86853448275862066},{"$f":"SUM(C67:C81)/C83","v":0.86976744186046506},null,null,null,"30+",697,403,187,{"$f":"'Distribution Data'!J18*10000","v":9950}]
[" "," "," "," "," ",null,null,null," "," "," "," "]
[" "," "," "," "," ",null,null,null," "," "," "," "]
[null,null," "," "]
[null,null,{"$f":"SUM(C5:C10)","v":0.99999999999999989},{"$f":"SUM(D5:D10)","v":1},{"$f":"SUM(E5:E10)","v":1}]
[]
[null,"Liem data",null,null,null,null,null,null,"Skentou"]
[null,"Cervical Length Range","Measurement on chart (mm)","Estimated Frequency","Estimated probability","Cumulative PDF",null,null,"Cervical Length Range","Measurement on chart (mm)","Estimated Frequency","Estimated probability","Cumulative PDF"]
[null,"0-5",1,{"$f":"ROUND(C18*$E$37,0)","v":1},{"$f":"D18/$D$34","v":1.4204545454545455E-3},{"$f":"E18","v":1.4204545454545455E-3},null,null,"0-5",3,{"$f":"ROUND(J18*$L$37,0)","v":3},{"$f":"K18/$K$32","v":6.4655172413793103E-3},{"$f":"L18","v":6.4655172413793103E-3}]
[null,"5-10",1,{"$f":"ROUND(C19*$E$37,0)","v":1},{"$f":"D19/$D$34","v":1.4204545454545455E-3},{"$f":"E19+F18","v":2.840909090909091E-3},null,null,"6-10",8,{"$f":"ROUND(J19*$L$37,0)","v":8},{"$f":"K19/$K$32","v":1.7241379310344827E-2},{"$f":"M18+L19","v":2.3706896551724137E-2}]
[null,"10-15",1,{"$f":"ROUND(C20*$E$37,0)","v":1},1.4204545454545455E-3,{"$f":"E20+F19","v":4.261363636363636E-3},null,null,"11-15",12,11,2.3706896551724137E-2,{"$f":"M19+L20","v":4.7413793103448273E-2}]
[null,"15-20",1,1,1.4204545454545455E-3,5.681818181818182E-3,null,null,"16-20",16,15,3.2327586206896554E-2,7.9741379310344834E-2]
[null,"20-25",2,3,4.261363636363636E-3,9.943181818181818E-3,null,null,"21-25",25,24,5.1724137931034482E-2,0.13146551724137931]
[null,"25-30",15,22,3.125E-2,4.1193181818181816E-2,null,null,"26-30",72,69,0.14870689655172414,0.28017241379310343]
[null,"30-35",44,64,9.0909090909090912E-2,0.13210227272727273,null,null,"31-35",86,82,0.17672413793103448,0.4568965517241379]
[null,"35-40",103,150,0.21306818181818182,0.34517045454545459,null,null,"36-40",120,114,0.24568965517241378,0.70258620689655171]
[null,"40-45",121,176,0.25,0.59517045454545459,null,null,"41-45",78,74,0.15948275862068967,0.86206896551724133]
[null,"45-50",105,153,0.21732954545454544,0.8125,null,null,"46-50",43,41,8.8362068965517238E-2,0.95043103448275856]
[null,"50-55",51,74,0.10511363636363637,0.91761363636363635,null,null,"51-55",15,14,3.017241379310345E-2,0.98060344827586199]
[null,"55-60",28,41,5.823863636363636E-2,0.97585227272727271,null,null,"56-60",4,4,8.6206896551724137E-3,0.98922413793103436]
[null,"60-65",9,13,1.8465909090909092E-2,0.99431818181818177,null,null,"61-65",5,5,1.0775862068965518E-2,0.99999999999999989]
[null,"65-70",1,1,1.4204545454545455E-3,0.99573863636363635]
[null,"70-75",2,3,4.261363636363636E-3,1,null,null,null,{"$f":"SUM(J18:J31)","v":487},{"$f":"SUM(K18:K31)","v":464}]
[null,null,null,null," "," "]
[null,null,null,{"$f":"SUM(D18:D33)","v":704},{"$f":"SUM(E18:E33)","v":1}]
[]
[null,null,"mm","Frequency","1mm",null,null,null,null,"mm","Frequency","1mm"]
[null,"Chart scale",103,150,{"$f":"D37/C37","v":1.4563106796116505},null,null,null,"Chart scale",487,464,{"$f":"K37/J37","v":0.95277207392197127}]
[]
[]
[]
[null,null,"Souka"]
[null,1,1]
[null,2,0]
[null,3,0]
[null,4,0]
[null,5,0]
[null,6,1]
[null,7,1]
[null,8,2]
[null,9,3]
[null,10,0]
[null,11,1]
[null,12,0]
[null,13,0]
[null,14,1]
[null,15,2]
[null,16,0]
[null,17,3]
[null,18,1]
[null,19,2]
[null,20,2]
[null,21,1]
[null,22,0]
[null,23,4]
[null,24,0]
[null,25,3]
[null,26,4]
[null,27,5]
[null,28,5]
[null,29,8]
[null,30,12]
[null,31,9]
[null,32,9]
[null,33,16]
[null,34,9]
[null,35,13]
[null,36,12]
[null,37,11]
[null,38,20]
[null,39,10]
[null,"40+",{"$f":"C83-SUM(C42:C80)","v":44}]
[]
[null,null,215]

{"sheet":"Clinical calcs","index":47,"n_rows":4,"n_cols":7,"rows_kept":4,"cut":false,"hidden":false,"merged":[]}
[]
["Strategy","Stillbirths","Neonatal deaths","Post-Neonatal Deaths","Cerebral Palsy","Intraventricular haemorrhage","Respiratory distress syndrome"]
["No Screen/treatment",{"$f":"'Markov Transitions'!W6","v":0},{"$f":"'Markov Transitions'!W7","v":2.3296365129681783E-3},{"$f":"'Markov Transitions'!W9","v":5.1990365225884324E-4},{"$f":"'Markov Transitions'!W14","v":1.2607159570542307E-3},{"$f":"'Markov Transitions'!W13","v":1.7196533805696127E-3},{"$f":"'Markov Transitions'!W12","v":8.8867901287872225E-3}]
["Cervical length ≤ 25mm",{"$f":"'Markov Transitions'!W164","v":0},{"$f":"'Markov Transitions'!W165","v":1.2360714562566599E-3},{"$f":"'Markov Transitions'!W136","v":3.6611922056537655E-4},{"$f":"'Markov Transitions'!W172","v":8.6160023806725159E-4},{"$f":"'Markov Transitions'!W171","v":8.3512749477632697E-4},{"$f":"'Markov Transitions'!W170","v":5.4259750452994556E-3}]

{"sheet":"Births by GA","index":48,"n_rows":45,"n_cols":20,"rows_kept":45,"cut":false,"hidden":false,"merged":[[3,11,3,12]]}
[]
[null,"This data is based on the NGA report on Twin Costing but may need to update from original sources"]
[null,"It is then used to break down the Kindinger births down into each week of GA - Kindinger has onlny broad categories",null,null,null,null,null,null,null,null,"Kato - Table 1"]
[null,null,null,null,null,null,null,null,null,null,null,"Twin"]
[null,null,"GA","Cumulative Frequency","% Twin Births","% Kindinger category",null,null,null,null,"GA","Male","Female","Twin Births","Proportion","Cumulative frequency"]
[null,null,24,{"$f":"Twin24","v":2.2000000000000001E-3},{"$f":"D6","v":2.2000000000000001E-3},{"$f":"E6/$B$9","v":0.15492957746478872},null,null,null,null,24,76,64,{"$f":"L6+M6","v":140},{"$f":"N6/$N$26","v":2.1754331442778341E-3},{"$f":"O6","v":2.1754331442778341E-3},null,2.2000000000000001E-3]
[null,null,25,{"$f":"D6+Twin25","v":5.7999999999999996E-3},{"$f":"D7-D6","v":3.5999999999999995E-3},{"$f":"E7/$B$9","v":0.25352112676056332},null,null,null,null,25,121,111,{"$f":"L7+M7","v":232},{"$f":"N7/$N$26","v":3.6050034962318389E-3},{"$f":"O7+P6","v":5.780436640509673E-3},null,3.5999999999999999E-3]
[null,null,26,{"$f":"D7+Twin26","v":9.1999999999999998E-3},{"$f":"D8-D7","v":3.4000000000000002E-3},{"$f":"E8/$B$9","v":0.23943661971830987},null,null,null,null,26,105,116,221,3.4340766063242949E-3,{"$f":"O8+P7","v":9.214513246833967E-3},null,3.3999999999999998E-3]
[null,{"$f":"SUM(E6:E9)","v":1.4200000000000001E-2},27,{"$f":"D8+Twin27","v":1.4200000000000001E-2},{"$f":"D9-D8","v":5.000000000000001E-3},{"$f":"E9/$B$9","v":0.35211267605633806},null,{"$f":"SUM(F6:F9)","v":1},null,null,27,176,145,321,4.9879574236656047E-3,1.4202470670499571E-2,null,5.0000000000000001E-3]
[null,null,28,{"$f":"D9+Twin28","v":2.0500000000000001E-2},6.3E-3,{"$f":"E10/$B$13","v":0.18694362017804159},null,null,null,null,28,208,196,404,6.2776785020588919E-3,2.0480149172558464E-2,null,6.3E-3]
[null,null,29,{"$f":"D10+Twin29","v":2.69E-2},6.3999999999999994E-3,{"$f":"E11/$B$13","v":0.18991097922848665},null,null,null,null,29,211,204,415,6.4486053919664364E-3,2.6928754564524898E-2,null,6.4000000000000003E-3]
[null,null,30,{"$f":"D11+Twin30","v":3.6199999999999996E-2},9.2999999999999958E-3,{"$f":"E12/$B$13","v":0.27596439169139458},null,null,null,null,30,309,287,596,9.2611296713542065E-3,3.6189884235879106E-2,null,9.2999999999999992E-3]
[null,{"$f":"SUM(E10:E13)","v":3.3699999999999994E-2},31,{"$f":"D12+Twin31","v":4.7899999999999998E-2},1.1700000000000002E-2,{"$f":"E13/$B$13","v":0.34718100890207726},null,{"$f":"SUM(F10:F13)","v":1},null,null,31,427,325,752,1.168518374640665E-2,4.787506798228576E-2,null,1.17E-2]
[null,null,32,{"$f":"D13+Twin32","v":6.6900000000000001E-2},1.9000000000000003E-2,{"$f":"E14/$B$18","v":6.6041014946124438E-2},null,null,null,null,32,673,549,1222,1.8988423587910808E-2,6.6863491570196568E-2,null,1.9E-2]
[null,null,33,{"$f":"D14+Twin33","v":9.4100000000000003E-2},2.7200000000000002E-2,{"$f":"E15/$B$18","v":9.454292665971499E-2}," ",null,null,null,33,906,844,1750,2.7192914303472922E-2,9.4056405873669494E-2,null,2.7199999999999998E-2]
[null,null,34,{"$f":"D15+Twin34","v":0.13639999999999999},4.229999999999999E-2,{"$f":"E16/$B$18","v":0.14702815432742436},null,null,null,null,34,1366,1356,2722,4.2296635848030457E-2,0.13635304172169996,null,4.2299999999999997E-2]
[null,null,35,{"$f":"D16+Twin35","v":0.20519999999999999},6.88E-2,{"$f":"E17/$B$18","v":0.23913799096280847},null,null,null,null,35,2306,2122,4428,6.8805842591873209E-2,0.20515888431357315,null,6.88E-2]
[null,{"$f":"SUM(E14:E18)","v":0.28770000000000001},36,{"$f":"D17+Twin36","v":0.33560000000000001},0.13040000000000002,{"$f":"E18/$B$18","v":0.45324991310392776},null,{"$f":"SUM(F14:F18)","v":1},null,null,36,4257,4132,8389,0.13035506176676248,0.33551394608033563,null,0.13039999999999999]
[null,{"$f":"SUM(E19)","v":0.66439999999999999},37,1,{"$f":"D19-D18","v":0.66439999999999999},{"$f":"E19/$B$19","v":1},null,null,null,null,37,7276,7128,14404,0.22382099292984228,0.55933493901017795,null,0.2238]
[null,null,null,null,null,null,null,null,null,null,38,6963,7343,14306,0.22229818972884779,0.78163312873902568,null,0.2223]
[null,{"$f":"SUM(B19,B18,B13,B9)","v":0.99999999999999989},null,null,{"$f":"SUM(E6:E19)","v":1},{"$f":"SUM(F6:F19)","v":4},null,null,null,null,39,4358,4632,8990,0.13969388547898376,0.92132701421800944,null,0.13969999999999999]
[null,null,null,null,null,null,null,null,null,null,40,1924,2135,4059,6.3072022375883774E-2,0.98439903659389327,null,6.3100000000000003E-2]
[null,null,null,null,null,null,null,null,null,null,41,456,470,926,1.438893636858053E-2,0.99878797296247379,null,1.44E-2]
[null,null,null,null,null,null,null,{"$f":"SUM(F19:F24)","v":5},null,null,42,39,39,78,1.2120270375262218E-3,1,null,1.1999999999999999E-3]
[]
[null,null,null,null,null,null,null,null,null,null,null,null,null,{"$f":"SUM(N6:N25)","v":64355},{"$f":"SUM(O6:O25)","v":1},null,null,{"$f":"SUM(R6:R25)","v":1.0001},{"$f":"SUM(R20:R24,R19)","v":0.66449999999999998},{"$f":"1-SUM(R6:R18)","v":0.66439999999999999}]
[]
[]
[]
[]
[]
[null,null,24,2.2000000000000001E-3,{"$f":"D32+E31","v":2.2000000000000001E-3}]
[null,null,25,3.5999999999999995E-3,{"$f":"D33+E32","v":5.7999999999999996E-3}]
[null,null,26,3.4000000000000002E-3,9.1999999999999998E-3]
[null,null,27,5.000000000000001E-3,1.4200000000000001E-2]
[null,null,28,6.3E-3,2.0500000000000001E-2]
[null,null,29,6.3999999999999994E-3,2.69E-2]
[null,null,30,9.2999999999999958E-3,3.6199999999999996E-2]
[null,null,31,1.1700000000000002E-2,4.7899999999999998E-2]
[null,null,32,1.9000000000000003E-2,6.6900000000000001E-2]
[null,null,33,2.7200000000000002E-2,9.4100000000000003E-2]
[null,null,34,4.229999999999999E-2,0.13639999999999999]
[null,null,35,6.88E-2,0.20519999999999999]
[null,null,36,0.13040000000000002,0.33560000000000001]
[null,null,37,0.66439999999999999,1]

{"sheet":"Survival GA","index":49,"n_rows":7,"n_cols":21,"rows_kept":7,"cut":false,"hidden":false,"merged":[]}
[]
[null," "]
[null,null,null,null,null,null,null,null,24,25,26,27,28,29,30,31,32,33,34,35,36]
[null,null,null,null,null,null,null,"Births",2.3000000000000004E-3,3.6000000000000012E-3,3.4000000000000011E-3,5.000000000000001E-3,6.3000000000000035E-3,6.4000000000000029E-3,9.3000000000000027E-3,1.1700000000000002E-2,1.9000000000000003E-2,2.7200000000000002E-2,4.2300000000000018E-2,6.88E-2,0.13029999999999997]
[null,null,null,null,null,null,null,"Survive birth",{"$f":"I4*(1-Stillbirth24)","v":2.3000000000000004E-3},{"$f":"J4*(1-Stillbirth25)","v":3.6000000000000012E-3},{"$f":"K4*(1-Stillbirth26)","v":3.4000000000000011E-3},{"$f":"L4*(1-Stillbirth27)","v":5.000000000000001E-3},{"$f":"M4*(1-Stillbirth28)","v":6.3000000000000035E-3},{"$f":"N4*(1-Stillbirth29)","v":6.4000000000000029E-3},{"$f":"O4*(1-Stillbirth30)","v":9.3000000000000027E-3},{"$f":"P4*(1-Stillbirth31)","v":1.1700000000000002E-2},{"$f":"Q4*(1-Stillbirth32)","v":1.9000000000000003E-2},{"$f":"R4*(1-Stillbirth33)","v":2.7200000000000002E-2},{"$f":"S4*(1-Stillbirth34)","v":4.2300000000000018E-2},{"$f":"T4*(1-Stillbirth35)","v":6.88E-2},{"$f":"U4*(1-Stillbirth36)","v":0.13029999999999997}]
[null,null,null,null,null,null,null,"Survive neonatal",{"$f":"I5*(1-NND_24)","v":1.3216784734153884E-3},{"$f":"J5*(1-NND_25)","v":2.6712281724567107E-3},{"$f":"K5*(1-NND_26)","v":2.8679674434555686E-3},{"$f":"L5*(1-NND_27)","v":4.5254499154272166E-3},{"$f":"M5*(1-NND_28)","v":5.9373352384131063E-3},{"$f":"N5*(1-NND_29)","v":6.1765411585017671E-3},{"$f":"O5*(1-NND_30)","v":9.1030512283533354E-3},{"$f":"P5*(1-NND_31)","v":1.1549717313952861E-2},{"$f":"Q5*(1-NND_32)","v":1.8851976916451317E-2},{"$f":"R5*(1-NND_33)","v":2.7071472071174975E-2},{"$f":"S5*(1-NND_34)","v":4.2178766754550318E-2},{"$f":"T5*(1-NND_35)","v":6.8680402373344926E-2},{"$f":"U5*(1-NND_36)","v":0.13016261753706987}]
[null,null,null,null,null,null,null,"Survive post neonatal",{"$f":"I6*(1-PND_24)","v":1.2243071737248078E-3},{"$f":"J6*(1-PND_25)","v":2.5311546619874691E-3},{"$f":"K6*(1-PND_26)","v":2.7609242345739823E-3},{"$f":"L6*(1-PND_27)","v":4.4052271976220969E-3},{"$f":"M6*(1-PND_28)","v":5.8250671763519762E-3},{"$f":"N6*(1-PND_29)","v":6.0934126725007689E-3},{"$f":"O6*(1-PND_30)","v":9.0158482347713759E-3},{"$f":"P6*(1-PND_31)","v":1.1470966393577909E-2},{"$f":"Q6*(1-PND_32)","v":1.8760485350937862E-2},{"$f":"R6*(1-PND_33)","v":2.6977958227543054E-2},{"$f":"S6*(1-PND_34)","v":4.2075062209802616E-2},{"$f":"T6*(1-PND_35)","v":6.8560210080822803E-2},{"$f":"U6*(1-PND_36)","v":0.13000048508993434}]

{"sheet":"ANC appt","index":50,"n_rows":31,"n_cols":15,"rows_kept":31,"cut":false,"hidden":false,"merged":[[4,3,4,11],[7,9,7,11],[7,4,7,6]]}
[null," "]
[]
[]
[]
[null,null,null,"Resource Use"]
[]
[null,null,null,null,"Assume 2 specialist midwife for twin",null,null,null,null,"Assume 2 specialist midwife for twin"]
[null,null,null,null,"Dichorionic twins",null,null,null,null,"Monochorionic twins"]
[null,null,null,null,"Midwife","Consultant","Scan",null,null,"Midwife","Consultant","Scan"]
[null,null,null,"Week",null,null,null,null,"Week"]
[null,null,null,24,1,1,1,null,24,1,1,1]
[null,null,null,25,null,null,null,null,25]
[null,null,null,26,null,null,null,null,26,1,null,1]
[null,null,null,27,null,null,null,null,27]
[null,null,null,28,1,null,1,null,28,1,null,1]
[null,null,null,29,null,null,null,null,29]
[null,null,null,30,null,null,null,null,30,1,null,1]
[null,null,null,31,null,null,null,null,31]
[null,null,null,32,1,1,1,null,32,1,1,1]
[null,null,null,33,null,null,null,null,33]
[null,null,null,34,1,null,null,null,34,1,null,1]
[null,null,null,35,null,null,null,null,35]
[null,null,null,36,1,null,1,null,36]
[null,null,null,37,null,null,null,null,37]
[]
[]
[]
[]
[]
[]
[null,null,null,null,null,null,null,null,null,null,null,null,null,null,1054.935232]

{"sheet":"Det CE plane","index":51,"n_rows":16,"n_cols":4,"rows_kept":16,"cut":false,"hidden":false,"merged":[]}
[]
[null,"Strategy","Cost","QALY"]
[null,"Baseline",{"$f":"'Cost calcs'!N3","v":1693.6584077133441},{"$f":"'QALY calcs'!J3","v":0.39675786666641444}]
[null,"Cervical length ≤ 25 mm",{"$f":"'Cost calcs'!N4","v":1229.9700975670164},{"$f":"'QALY calcs'!J4","v":0.44199990557548707}]
[null,{"$f":"IF('Format control'!$D5=1,'Format control'!B5,\"\")","v":""},{"$f":"IF('Format control'!$D5=1,'Cost calcs'!#REF!,\"\")","v":""},{"$f":"IF('Format control'!$D5=1,'QALY calcs'!#REF!,\"\")","v":""}]
[null,{"$f":"IF('Format control'!$D6=1,'Format control'!B6,\"\")","v":""},{"$f":"IF('Format control'!$D6=1,'Cost calcs'!#REF!,\"\")","v":""},{"$f":"IF('Format control'!$D6=1,'QALY calcs'!#REF!,\"\")","v":""}]
[null,{"$f":"IF('Format control'!$D7=1,'Format control'!B7,\"\")","v":""},{"$f":"IF('Format control'!$D7=1,'Cost calcs'!#REF!,\"\")","v":""},{"$f":"IF('Format control'!$D7=1,'QALY calcs'!#REF!,\"\")","v":""}]
[null,{"$f":"IF('Format control'!$D8=1,'Format control'!B4,\"\")","v":""},{"$f":"IF('Format control'!$D8=1,'Cost calcs'!N4,\"\")","v":""},{"$f":"IF('Format control'!$D8=1,'QALY calcs'!J4,\"\")","v":""}]
[]
[null,"Incremental to Baseline"]
[null,{"$f":"B3","v":"Baseline"},{"$f":"C3-$C$3","v":0},{"$f":"D3-$D$3","v":0}]
[null,"Cervical length ≤ 25 mm",{"$f":"C4-$C$3","v":-463.68831014632769},{"$f":"D4-$D$3","v":4.5242038909072635E-2}]
[null,""]
[null,""]
[null,""]
[null,""]

{"sheet":"Clinical Charts","index":52,"n_rows":14,"n_cols":10,"rows_kept":14,"cut":false,"hidden":false,"merged":[]}
[]
[]
[]
[null,null,"Strategy","Stillbirths","Neonatal Deaths","Post neonatal deaths","CP","IVH","RDS","NICU admissions"]
[null,null,{"$f":"IF('Clinical Results'!C11=\"\",\"\",'Clinical Results'!C11)","v":"Cervical length ≤ 25 mm"},{"$f":"IF($C5=\"\",\"\",'Clinical Results'!E11)","v":0},{"$f":"IF($C5=\"\",\"\",'Clinical Results'!G11)","v":1.2360714562566599E-3},{"$f":"IF($C5=\"\",\"\",'Clinical Results'!I11)","v":2.9934086352734657E-4},{"$f":"IF($C5=\"\",\"\",'Clinical Results'!K11)","v":8.6160023806725159E-4},{"$f":"IF($C5=\"\",\"\",'Clinical Results'!M11)","v":8.3512749477632697E-4},{"$f":"IF($C5=\"\",\"\",'Clinical Results'!O11)","v":5.4259750452994556E-3},{"$f":"IF($C5=\"\",\"\",'Clinical Results'!Q11)","v":1.6279734436282518E-2}]
[null,null,{"$f":"IF('Clinical Results'!C13=\"\",\"\",'Clinical Results'!C13)","v":"No Screen/treatment"},{"$f":"IF($C6=\"\",\"\",'Clinical Results'!E13)","v":0},{"$f":"IF($C6=\"\",\"\",'Clinical Results'!G13)","v":2.3296365129681783E-3},{"$f":"IF($C6=\"\",\"\",'Clinical Results'!I13)","v":5.1990365225884324E-4},{"$f":"IF($C6=\"\",\"\",'Clinical Results'!K13)","v":1.2607159570542307E-3},{"$f":"IF($C6=\"\",\"\",'Clinical Results'!M13)","v":1.7196533805696127E-3},{"$f":"IF($C6=\"\",\"\",'Clinical Results'!O13)","v":8.8867901287872225E-3},{"$f":"IF($C6=\"\",\"\",'Clinical Results'!Q13)","v":1.78944741579374E-2}]
[]
[]
[]
[]
[]
[null,null,"Strategy","Stillbirths","Neonatal Deaths","Post neonatal deaths","CP","IVH","RDS","NICU admissions"]
[null,null,"Cervical length ≤ 25 mm",{"$f":"D5*1000","v":0},{"$f":"E5*1000","v":1.2360714562566599},0.29934086352734657,0.86160023806725161,0.83512749477632697,5.425975045299456,16.279734436282517]
[null,null,{"$f":"C6","v":"No Screen/treatment"},{"$f":"D6*1000","v":0},{"$f":"E6*1000","v":2.3296365129681784},0.51990365225884327,1.2607159570542308,1.7196533805696128,8.8867901287872222,17.894474157937399]

{"sheet":"Probabilistic inputs","index":53,"n_rows":91,"n_cols":12,"rows_kept":91,"cut":false,"hidden":false,"merged":[[12,4,12,5]]}
[]
[null,null," "]
[]
[null,null,"Input","Distribution"]
[null,null,"Relative risks of pre-term birth","Log-normal"]
[null,null,"Distribution of cervical length","Dirichlet"]
[null,null,"Unit costs","Normal"]
[null,null,"Neonatal care costs","Normal"]
[null,null,"Baseline births by gestational age (Kato)","Dirichlet"]
[]
[]
[]
[null,null,"Distribution of cervical length"]
[null,null,null,"Study"]
[null,null,"CL","Observed Count",null,null," "]
[null,null,5,{"$f":"VLOOKUP(C16,'Published distributions'!$I$4:$M$12,'Format control'!$H$3+1,FALSE)","v":1}]
[null,null,10,{"$f":"VLOOKUP(C17,'Published distributions'!$I$4:$M$12,'Format control'!$H$3+1,FALSE)","v":1}]
[null,null,15,{"$f":"VLOOKUP(C18,'Published distributions'!$I$4:$M$12,'Format control'!$H$3+1,FALSE)","v":1}]
[null,null,20,{"$f":"VLOOKUP(C19,'Published distributions'!$I$4:$M$12,'Format control'!$H$3+1,FALSE)","v":1}]
[null,null,25,{"$f":"VLOOKUP(C20,'Published distributions'!$I$4:$M$12,'Format control'!$H$3+1,FALSE)","v":3}]
[null,null,"30+",{"$f":"VLOOKUP(C21,'Published distributions'!$I$4:$M$12,'Format control'!$H$3+1,FALSE)","v":697}]
[]
[]
[]
[null,null,"Sampling Treatment effectiveness"]
[]
[null,null,null,"Sample RR",null,"Births by gestational age and cervical length (Kindinger)"]
[null,null,"<28 weeks",0.4610465942396883,null,null,"<28 weeks","28-32 weeks","32-36 weeks","37 weeks"]
[null,null,"28 to <32 weeks",0.57665421442955345,null,"5mm",0.47499999999999998,0.38200000000000001,0.11899999999999999,{"$f":"1-SUM(G29:I29)","v":2.4000000000000021E-2},null,{"$f":"SUM(G29:J29)","v":1}]
[null,null,"32 to <36 weeks",0.93198927618961147,null,"10mm",0.46100000000000002,0.38500000000000001,0.11899999999999999,{"$f":"1-SUM(G30:I30)","v":3.499999999999992E-2},null,{"$f":"SUM(G30:J30)","v":1}]
[null,null,null,null,null,"15mm",0.38600000000000001,0.39200000000000002,0.16,{"$f":"1-SUM(G31:I31)","v":6.1999999999999944E-2},null,{"$f":"SUM(G31:J31)","v":1}]
[null,null,null,null,null,"20mm",0.308,0.38100000000000001,0.20599999999999999,{"$f":"1-SUM(G32:I32)","v":0.10499999999999998},null,{"$f":"SUM(G32:J32)","v":1}]
[null,null,null,null,null,"25mm",0.23,0.34799999999999998,0.25800000000000001,{"$f":"1-SUM(G33:I33)","v":0.16400000000000003},null,{"$f":"SUM(G33:J33)","v":1}]
[]
[null,null,null,null,null,"Probability of birth by gestational age and cervical length|on-going pregnancy"]
[null,null,null,null,null,null,"<28 weeks","28-32 weeks","32-36 weeks","37 weeks"]
[null,null,null,null,null,"5mm",{"$f":"G29","v":0.47499999999999998},{"$f":"H29/(1-G37)","v":0.72761904761904761},{"$f":"I29/(1-G29-H29)","v":0.83216783216783208},{"$f":"J29/(1-G29-H29-I29)","v":1}]
[null,null,null,null,null,"10mm",{"$f":"G30","v":0.46100000000000002},{"$f":"H30/(1-G38)","v":0.71428571428571441},{"$f":"I30/(1-G30-H30)","v":0.77272727272727315},{"$f":"J30/(1-G30-H30-I30)","v":1}]
[null,null,null,null,null,"15mm",{"$f":"G31","v":0.38600000000000001},{"$f":"H31/(1-G39)","v":0.63843648208469062},{"$f":"I31/(1-G31-H31)","v":0.7207207207207208},{"$f":"J31/(1-G31-H31-I31)","v":0.99999999999999956}]
[null,null,null,null,null,"20mm",{"$f":"G32","v":0.308},{"$f":"H32/(1-G40)","v":0.550578034682081},{"$f":"I32/(1-G32-H32)","v":0.66237942122186499},{"$f":"J32/(1-G32-H32-I32)","v":1.0000000000000002}]
[null,null,null,null,null,"25mm",{"$f":"G33","v":0.23},{"$f":"H33/(1-G41)","v":0.45194805194805193},{"$f":"I33/(1-G33-H33)","v":0.61137440758293837},{"$f":"J33/(1-G33-H33-I33)","v":1}]
[]
[null,"GA (wks)","5mm","10mm","15mm","20mm","25mm"]
[null,23,0,0,0,0,0]
[null,26,{"$f":"IF(D28*$G$37>=1,1,(D28*$G$37))","v":0.21899713226385192},{"$f":"IF(D28*$G$38>=1,1,(D28*$G$38))","v":0.21254247994449632},{"$f":"IF(D28*$G$39>=1,1,(D28*$G$39))","v":0.1779639853765197},{"$f":"IF(D28*$G$40>=1,1,(D28*$G$40))","v":0.14200235102582401},{"$f":"IF(D28*$G$41>=1,1,(D28*$G$41))","v":0.10604071667512831},null,null," "]
[null,30,{"$f":"IF(D29*$H$37*(1-C45)+C45>=1,1,(D29*$H$37)*(1-C45)+C45)","v":0.54669390055287592},{"$f":"IF(D29*$H$38*(1-D45)+D45>=1,1,(D29*$H$38)*(1-D45)+D45)","v":0.53689297824753268},{"$f":"IF(D29*$H$39*(1-E45)+E45>=1,1,(D29*$H$39)*(1-E45)+E45)","v":0.4806023707840727},{"$f":"IF(D29*$H$40*(1-F45)+F45>=1,1,(D29*$H$40)*(1-F45)+F45)","v":0.4144107222048159},{"$f":"IF(D29*$H$41*(1-G45)+G45>=1,1,(D29*$H$41)*(1-G45)+G45)","v":0.33902237266692475}]
[null,34,{"$f":"IF(D30*$I$37*(1-C46)+C46>=1,1,(D30*$I$37)*(1-C46)+C46)","v":0.89826519005225547},{"$f":"IF(D30*$I$37*(1-D46)+D46>=1,1,(D30*$I$37)*(1-D46)+D46)","v":0.89606558371723632},{"$f":"IF(D30*$I$39*(1-E46)+E46>=1,1,(D30*$I$39)*(1-E46)+E46)","v":0.82948382700573209},{"$f":"IF(D30*$I$40*(1-F46)+F46>=1,1,(D30*$I$40)*(1-F46)+F46)","v":0.77591285401924215},{"$f":"IF(D30*$I$41*(1-G46)+G46>=1,1,(D30*$I$41)*(1-G46)+G46)","v":0.71564371769707946}]
[null,37,1,1,1,1,1]
[]
[null,null,"Coefficients"]
[null,null,"x1","x2","x3","x4","x5"]
[null,"5mm",{"$f":"LINEST(C44:C48,$B$44:$B$48^{1,2,3,4})","v":-5.1485319206106079E-5},5.7697554018547237E-3,-0.23968741855883038,4.4547642364511146,-31.45784378316484]
[null,"10mm",{"$f":"LINEST(D44:D48,$B$44:$B$48^{1,2,3,4})","v":-5.5791174920554361E-5},6.2703404891630132E-3,-0.26107744980598968,4.8524085550315563,-34.174000369060728]
[null,"15mm",{"$f":"LINEST(E44:E48,$B$44:$B$48^{1,2,3,4})","v":-3.1794726634630423E-5},3.5119911726684615E-3,-0.14243387012406197,2.5837805143583994,-17.912363036309944]
[null,"20mm",{"$f":"LINEST(F44:F48,$B$44:$B$48^{1,2,3,4})","v":-3.1438183783456552E-5},3.5359080708146982E-3,-0.1451783429822644,2.642098232954861,-18.192616629800103]
[null,"25mm",{"$f":"LINEST(G44:G48,$B$44:$B$48^{1,2,3,4})","v":-3.6469169144676122E-5},4.2317001852651076E-3,-0.17884725630384463,3.3224291225611826,-23.087198625678639]
[]
[]
[null,null,5,10,15,20,25]
[null,24,{"$f":"IF(($C$52*$B60^4)+($D$52*$B60^3)+($E$52*$B60^2)+($F$52*$B60)+$G$52>1,1,($C$52*$B60^4)+($D$52*$B60^3)+($E$52*$B60^2)+($F$52*$B60)+$G$52)","v":7.6050212090244429E-2},{"$f":"IF(($C$53*$B60^4)+($D$53*$B60^3)+($E$53*$B60^2)+($F$53*$B60)+$G$53>1,1,($C$53*$B60^4)+($D$53*$B60^3)+($E$53*$B60^2)+($F$53*$B60)+$G$53)","v":7.4207935194230856E-2},{"$f":"IF(($C$54*$B60^4)+($D$54*$B60^3)+($E$54*$B60^2)+($F$54*$B60)+$G$54>1,1,($C$54*$B60^4)+($D$54*$B60^3)+($E$54*$B60^2)+($F$54*$B60)+$G$54)","v":5.749886386961478E-2},{"$f":"IF(($C$55*$B60^4)+($D$55*$B60^3)+($E$55*$B60^2)+($F$55*$B60)+$G$55>1,1,($C$55*$B60^4)+($D$55*$B60^3)+($E$55*$B60^2)+($F$55*$B60)+$G$55)","v":4.4973711334574062E-2},{"$f":"IF(($C$56*$B60^4)+($D$56*$B60^3)+($E$56*$B60^2)+($F$56*$B60)+$G$56>1,1,($C$56*$B60^4)+($D$56*$B60^3)+($E$56*$B60^2)+($F$56*$B60)+$G$56)","v":3.4508983736031951E-2}]
[null,25,{"$f":"IF(($C$52*$B61^4)+($D$52*$B61^3)+($E$52*$B61^2)+($F$52*$B61)+$G$52>1,1,($C$52*$B61^4)+($D$52*$B61^3)+($E$52*$B61^2)+($F$52*$B61)+$G$52)","v":0.14760086793889826},{"$f":"IF(($C$53*$B61^4)+($D$53*$B61^3)+($E$53*$B61^2)+($F$53*$B61)+$G$53>1,1,($C$53*$B61^4)+($D$53*$B61^3)+($E$53*$B61^2)+($F$53*$B61)+$G$53)","v":0.14344981781515997},{"$f":"IF(($C$54*$B61^4)+($D$54*$B61^3)+($E$54*$B61^2)+($F$54*$B61)+$G$54>1,1,($C$54*$B61^4)+($D$54*$B61^3)+($E$54*$B61^2)+($F$54*$B61)+$G$54)","v":0.1160279764035117},{"$f":"IF(($C$55*$B61^4)+($D$55*$B61^3)+($E$55*$B61^2)+($F$55*$B61)+$G$55>1,1,($C$55*$B61^4)+($D$55*$B61^3)+($E$55*$B61^2)+($F$55*$B61)+$G$55)","v":9.1397896223117669E-2},{"$f":"IF(($C$56*$B61^4)+($D$56*$B61^3)+($E$56*$B61^2)+($F$56*$B61)+$G$56>1,1,($C$56*$B61^4)+($D$56*$B61^3)+($E$56*$B61^2)+($F$56*$B61)+$G$56)","v":6.8540446076227113E-2}]
[null,26,0.21899713226390105,0.21254247994459519,0.17796398537654667,0.14200235102585523,0.10604071667516735]
[null,27,{"$f":"IF(($C$52*$B63^4)+($D$52*$B63^3)+($E$52*$B63^2)+($F$52*$B63)+$G$52>1,1,($C$52*$B63^4)+($D$52*$B63^3)+($E$52*$B63^2)+($F$52*$B63)+$G$52)","v":0.29334852212220852},0.28496376546606683,0.2449204651243555,0.19876235569217826,0.15008086512784757]
[null,28,0.37252890690989915,0.3628525300651475,0.31774791654332901,0.26289867376070575,0.20285670096988895]
[null,29,0.45717650836206047,0.44700864122918205,0.39653376709058463,0.33487755235925576,0.26568877367735411]
[null,30,0.54669390055288858,0.53689297824755755,0.48060237078408008,0.41441072220483122,0.33902237266693191]
[null,31,0.63924800989547492,0.63062743221147599,0.56851500820249257,0.50045539760359858,0.42242752729571009]
[null,32,0.73177011514220425,0.7249949060140537,0.65806988648528986,0.59121427645100866,0.51459900686144522]
[null,33,0.81995584738435667,0.81543931435033556,0.74630213933269474,0.68413554023161893,0.61335632060233536]
[null,34,0.89826519005219296,0.89606558371725242,0.82948382700569923,0.77591285401923571,0.71564371769704849]
[null,35,0.95992247891529559,0.95963965241367788,0.90312393632610721,0.86248536647681462,0.81753018726494986]
[null,36,0.99691640208205712,0.9975884705403999,0.96196838067643498,0.93903770985663115,0.9142094583658178]
[null,37,{"$f":"IF(($C$52*$B73^4)+($D$52*$B73^3)+($E$52*$B73^2)+($F$52*$B73)+$G$52>1,1,($C$52*$B73^4)+($D$52*$B73^3)+($E$52*$B73^2)+($F$52*$B73)+$G$52)","v":0.99999999999993605},{"$f":"IF(($C$53*$B73^4)+($D$53*$B73^3)+($E$53*$B73^2)+($F$53*$B73)+$G$53>1,1,($C$53*$B73^4)+($D$53*$B73^3)+($E$53*$B73^2)+($F$53*$B73)+$G$53)","v":1},0.99999999999999645,0.99999999999996803,1]
[]
[null,"To determine which data to use depending on which cervical length chosen"]
[]
[null,null,5,10,15,20,25]
[null,24,{"$f":"IF(C60<0,0,C60)","v":7.6050212090244429E-2},{"$f":"IF(D60<0,0,D60)","v":7.4207935194230856E-2},5.749886386961478E-2,4.4973711334574062E-2,3.4508983736031951E-2,null," "]
[null,25,{"$f":"IF(C61<0,0,IF(C61<C78,C78,C61))","v":0.14760086793889826},{"$f":"IF(D61<0,0,IF(D61<D78,D78,D61))","v":0.14344981781515997},0.1160279764035117,9.1397896223117669E-2,6.8540446076227113E-2]
[null,26,{"$f":"IF(C62<0,0,IF(C62<C79,C79,C62))","v":0.21899713226390105},0.21254247994459519,0.17796398537654667,0.14200235102585523,0.10604071667516735]
[null,27,0.29334852212220852,0.28496376546606683,0.2449204651243555,0.19876235569217826,0.15008086512784757]
[null,28,0.37252890690989915,0.3628525300651475,0.31774791654332901,0.26289867376070575,0.20285670096988895]
[null,29,0.45717650836206047,0.44700864122918205,0.39653376709058463,0.33487755235925576,0.26568877367735411]
[null,30,0.54669390055288858,0.53689297824755755,0.48060237078408008,0.41441072220483122,0.33902237266693191]
[null,31,0.63924800989547492,0.63062743221147599,0.56851500820249257,0.50045539760359858,0.42242752729571009]
[null,32,0.73177011514220425,0.7249949060140537,0.65806988648528986,0.59121427645100866,0.51459900686144522]
[null,33,0.81995584738435667,0.81543931435033556,0.74630213933269474,0.68413554023161893,0.61335632060233536]
[null,34,0.89826519005219296,0.89606558371725242,0.82948382700569923,0.77591285401923571,0.71564371769704849]
[null,35,0.95992247891529559,0.95963965241367788,0.90312393632610721,0.86248536647681462,0.81753018726494986]
[null,36,0.99691640208205712,0.9975884705403999,0.96196838067643498,0.93903770985663115,0.9142094583658178]
[null,37,0.99999999999993605,1,0.99999999999999645,0.99999999999996803,1]

{"sheet":"Kindinger Smoothing and Tx","index":54,"n_rows":91,"n_cols":40,"rows_kept":91,"cut":false,"hidden":false,"merged":[[28,29,28,36],[0,2,0,17],[47,2,47,17],[49,2,49,9],[64,2,64,9],[2,2,2,9],[10,2,10,9],[10,12,10,19],[28,2,28,9],[28,12,28,19],[64,12,64,19],[63,25,63,30]]}
[null,null,"Baseline"]
[null,"Baseline"]
[null,null,"Birth probabilities by CL and gestational age",null,null,null,null,null,null,null,null,null,null,null,null,null,null,null,null,null,null," "]
[null," ",5,10,15,20,25]
[null,23,{"$f":"'Format control'!D247","v":0},{"$f":"'Format control'!E247","v":0},{"$f":"'Format control'!F247","v":0},{"$f":"'Format control'!G247","v":0},{"$f":"'Format control'!H247","v":0}]
[null,26,{"$f":"'Format control'!D248","v":0.53200000000000003},{"$f":"'Format control'!E248","v":0.46100000000000002},{"$f":"'Format control'!F248","v":0.38600000000000001},{"$f":"'Format control'!G248","v":0.308},{"$f":"'Format control'!H248","v":0.23200000000000001},null,null,null,null,"<28 weeks",null,null,null,null,null,null,null,null,null,null,null,null," "]
[null,28,{"$f":"'Format control'!D249","v":0.36399999999999999},{"$f":"'Format control'!E249","v":0.38500000000000001},{"$f":"'Format control'!F249","v":0.39200000000000002},{"$f":"'Format control'!G249","v":0.38100000000000001},{"$f":"'Format control'!H249","v":0.35},null,null,null,null,"28 to <32 weeks",null,null,null,null,null,null,null,null,null,null,null,null," "]
[null,34,{"$f":"'Format control'!D250","v":8.5000000000000006E-2},{"$f":"'Format control'!E250","v":0.11899999999999999},{"$f":"'Format control'!F250","v":0.16},{"$f":"'Format control'!G250","v":0.20599999999999999},{"$f":"'Format control'!H250","v":0.25},null,null,null,null,"32 to <36 weeks"]
[null,37,{"$f":"'Format control'!D251","v":1.9E-2},{"$f":"'Format control'!E251","v":3.5000000000000003E-2},{"$f":"'Format control'!F251","v":6.2E-2},{"$f":"'Format control'!G251","v":0.105},{"$f":"'Format control'!H251","v":0.16800000000000001},null,null,null,null,null,null,null,null,null,null,null,null,null,null,null,null,null," "," "]
[]
[null,null,"Cumulative Birth probabilities by CL and gestational age"]
[null," ",5,10,15,20,25]
[null,23,0,0,0,0,0]
[null,26,{"$f":"C6+C13","v":0.53200000000000003},{"$f":"D6+D13","v":0.46100000000000002},0.38600000000000001,0.308,0.23200000000000001]
[null,30,{"$f":"C7+C14","v":0.89600000000000002},0.84600000000000009,0.77800000000000002,0.68900000000000006,0.58199999999999996]
[null,34,{"$f":"C8+C15","v":0.98099999999999998},0.96500000000000008,0.93800000000000006,0.89500000000000002,0.83199999999999996]
[null,37,{"$f":"IF(C9+C16<>1,1,1)","v":1},{"$f":"IF(D9+D16<>1,1,1)","v":1},{"$f":"IF(E9+E16<>1,1,1)","v":1},{"$f":"IF(F9+F16<>1,1,1)","v":1},{"$f":"IF(G9+G16<>1,1,1)","v":1}]
[]
[null,null,"x1","x2","x3","x4","x5"]
[null,5,{"$f":"LINEST(C13:C17,B13:B17^{1,2,3,4})","v":1.9306586270877722E-5},-1.853045763760779E-3,5.3490897495396199E-2,-0.24263651824437343,-5.5728114563952929]
[null,10,{"$f":"LINEST(D13:D17,B13:B17^{1,2,3,4})","v":3.7917439703172089E-5},-4.2946815089695044E-3,0.17284798237487484,-2.8114089363039869,14.868358534339478]
[null,15,{"$f":"LINEST(E13:E17,B13:B17^{1,2,3,4})","v":4.7773654916537605E-5},-5.6592455163915851E-3,0.24333998144727426,-4.412168212742718,28.24003153991206]
[null,20,{"$f":"LINEST(F13:F17,B13:B17^{1,2,3,4})","v":4.8836580086607775E-5},-5.9193722943757686E-3,0.2627758387447508,-4.9842770562803782,33.984478896129048]
[null,25,{"$f":"LINEST(G13:G17,B13:B17^{1,2,3,4})","v":4.3985776128658656E-5},-5.3865182436642917E-3,0.24343467841697022,-4.7362136672881494,33.384713358093613]
[]
[]
[null,null,null,null,null,null,null,null,null,null,null,"Table 2 - BASELINE"]
[null,"Table 1 - BASELINE",null,null,null,null,null,null,null,null,null,null," "]
[null,null,"Cumulative Birth probabilities by CL and gestational age",null,null,null,null,null,null,null,null,null,"Birth probabilities by CL and gestational age - weighted by CL distribution"]
[null," ",5,10,15,20,25,null,null,null,null," ",5,10,15,20,25,null,null,null,null,"Total (cum)","Births week",null,"Total (cum) <=25mm","Births week"]
[null,24,{"$f":"IF((Baseline_x1_5CL*$B31^4)+(Baseline_x2_5CL*$B31^3)+(Baseline_x3_5CL*$B31^2)+(Baseline_x4_5CL*$B31)+Baseline_x5_5CL>1,1,(Baseline_x1_5CL*$B31^4)+(Baseline_x2_5CL*$B31^3)+(Baseline_x3_5CL*$B31^2)+(Baseline_x4_5CL*$B31)+Baseline_x5_5CL)","v":0.20362639146567219},{"$f":"IF((Baseline_x1_10CL*$B31^4)+(Baseline_x2_10CL*$B31^3)+(Baseline_x3_10CL*$B31^2)+(Baseline_x4_10CL*$B31)+Baseline_x5_10CL>1,1,(Baseline_x1_10CL*$B31^4)+(Baseline_x2_10CL*$B31^3)+(Baseline_x3_10CL*$B31^2)+(Baseline_x4_10CL*$B31)+Baseline_x5_10CL)","v":0.16540120593689522},{"$f":"IF((Baseline_x1_15CL*$B31^4)+(Baseline_x2_15CL*$B31^3)+(Baseline_x3_15CL*$B31^2)+(Baseline_x4_15CL*$B31)+Baseline_x5_15CL>1,1,(Baseline_x1_15CL*$B31^4)+(Baseline_x2_15CL*$B31^3)+(Baseline_x3_15CL*$B31^2)+(Baseline_x4_15CL*$B31)+Baseline_x5_15CL)","v":0.12856586270870451},{"$f":"IF((Baseline_x1_20CL*$B31^4)+(Baseline_x2_20CL*$B31^3)+(Baseline_x3_20CL*$B31^2)+(Baseline_x4_20CL*$B31)+Baseline_x5_20CL>1,1,(Baseline_x1_20CL*$B31^4)+(Baseline_x2_20CL*$B31^3)+(Baseline_x3_20CL*$B31^2)+(Baseline_x4_20CL*$B31)+Baseline_x5_20CL)","v":9.4115259740206625E-2},{"$f":"IF((Baseline_x1_25CL*$B31^4)+(Baseline_x2_25CL*$B31^3)+(Baseline_x3_25CL*$B31^2)+(Baseline_x4_25CL*$B31)+Baseline_x5_25CL>1,1,(Baseline_x1_25CL*$B31^4)+(Baseline_x2_25CL*$B31^3)+(Baseline_x3_25CL*$B31^2)+(Baseline_x4_25CL*$B31)+Baseline_x5_25CL)","v":6.4156771799538603E-2},null,null,null,null,24,{"$f":"IF(C31<0,0,CL5_weight*C31)","v":2.8924203333192071E-4},{"$f":"IF(D31<0,0,CL10_weight*D31)","v":2.3494489479672617E-4},{"$f":"IF(E31<0,0,CL15_weight*E31)","v":1.8262196407486437E-4},{"$f":"IF(F31<0,0,CL20_weight*F31)","v":1.336864484946117E-4},{"$f":"IF(G31<0,0,CL25_weight*G31)","v":2.7339533437303383E-4},null,null,null,null,{"$f":"SUM(M31:Q31)","v":1.1138906750711569E-3},{"$f":"V31","v":1.1138906750711569E-3},null,{"$f":"SUM(M31:Q31)","v":1.1138906750711569E-3},{"$f":"Y31","v":1.1138906750711569E-3}]
[null,25,{"$f":"IF((Baseline_x1_5CL*$B32^4)+(Baseline_x2_5CL*$B32^3)+(Baseline_x3_5CL*$B32^2)+(Baseline_x4_5CL*$B32)+Baseline_x5_5CL>1,1,(Baseline_x1_5CL*$B32^4)+(Baseline_x2_5CL*$B32^3)+(Baseline_x3_5CL*$B32^2)+(Baseline_x4_5CL*$B32)+Baseline_x5_5CL)","v":0.38088172541743592},0.32022541743967281,0.25918738404450181,0.19904870129862218,0.14364192949900456,null,null,null,null,25,5.4102517814976696E-4,4.5486564977226251E-4,3.6816389779048553E-4,2.8273963252645196E-4,6.1211049502416708E-4,null,null,null,null,{"$f":"SUM(M32:R32)","v":2.2589048532631341E-3},{"$f":"V32-V31","v":1.1450141781919772E-3},null,{"$f":"SUM(M32:Q32)","v":2.2589048532631341E-3},{"$f":"Y32-Y31","v":1.1450141781919772E-3}]
[null,26,0.53199999999999825,0.4609999999999701,0.38599999999997436,0.30799999999990746,0.23199999999992116,null,null,null,null,26,7.5568181818181572E-4,6.5482954545450296E-4,5.482954545454182E-4,4.3749999999986855E-4,9.8863636363602752E-4,null,null,null,null,{"$f":"SUM(M33:R33)","v":3.3849431818176326E-3},{"$f":"V33-V32","v":1.1260383285544985E-3},null,3.3849431818176326E-3,{"$f":"Y33-Y32","v":1.1260383285544985E-3}]
[null,27,0.65767857142856467,0.58516233766231096,0.50428571428570734,0.41534090909084398,0.32383116883109864,null,null,null,null,27,9.3420251623375667E-4,8.3119650236123722E-4,7.1631493506492524E-4,5.8997288223131244E-4,1.379962367177977E-3,null,null,null,null,4.4516492030692092E-3,1.0667060212515766E-3,null,4.4516492030692092E-3,1.0667060212515766E-3]
[null,28,0.75907815398886758,0.69105983302409868,0.61047309833022467,0.51661525974020606,0.41479128014835709,null,null,null,null,28,1.0782360141887324E-3,9.8161908100014017E-4,8.6714928740088738E-4,7.3382849394915638E-4,1.7675764779049306E-3,null,null,null,null,5.428409354443847E-3,9.7676015137463778E-4,null,5.428409354443847E-3,9.7676015137463778E-4]
[null,29,0.83782282003710939,0.77794990723560886,0.70213729128017377,0.60853896103890293,0.50159183673462593,null,null,null,null,29,1.1900892330072577E-3,1.1050424818687626E-3,9.9735410693206497E-4,8.6440193329389626E-4,2.1374652133577809E-3,null,null,null,null,6.2943529684597625E-3,8.6594361401591546E-4,null,6.2943529684597625E-3,8.6594361401591546E-4]
[null,30,0.89600000000000701,0.84600000000000364,0.77799999999999869,0.68899999999997874,0.58199999999998653,null,null,null,null,30,1.2727272727272828E-3,1.2017045454545507E-3,1.1051136363636345E-3,9.7869318181815156E-4,2.480113636363579E-3,null,null,null,null,7.0383522727271988E-3,7.439993042674363E-4,null,7.0383522727271988E-3,7.439993042674363E-4]
[null,31,0.936160482374782,0.89628756957328903,0.83792949907235226,0.75705844155842783,0.65483858998141642,null,null,null,null,31,1.3297734124641789E-3,1.2731357522347856E-3,1.190240765727773E-3,1.0753671044864033E-3,2.790505355034445E-3,null,null,null,null,7.6590223899475861E-3,6.2067011722038729E-4,null,7.6590223899475861E-3,6.2067011722038729E-4]
[null,32,0.96131841372914018,0.93080009276438602,0.88294063079781182,0.81294642857142208,0.71998608534320141,null,null,null,null,32,1.3655091104107105E-3,1.3221592226766847E-3,1.2541770323832556E-3,1.1547534496753155E-3,3.0681225227693239E-3,null,null,null,null,8.1647213379152893E-3,5.0569894796770321E-4,null,8.1647213379152893E-3,5.0569894796770321E-4]
[null,33,0.97495129870131692,0.95243506493507368,0.91519480519483665,0.85806818181814037,0.7783766233765661,null,null,null,null,33,1.3848740038370979E-3,1.3528907172373206E-3,1.299992621015393E-3,1.218846849173495E-3,3.3169458382524123E-3,null,null,null,null,8.5735500295157172E-3,4.0882869160042794E-4,null,8.5735500295157172E-3,4.0882869160042794E-4]
[null,34,0.98100000000001231,0.96500000000000341,0.93800000000005213,0.89499999999998181,0.83199999999998653,null,null,null,null,34,1.3934659090909267E-3,1.3707386363636413E-3,1.3323863636364377E-3,1.2713068181817923E-3,3.545454545454488E-3,null,null,null,null,8.9133522727272846E-3,3.3980224321156736E-4,null,8.9133522727272846E-3,3.3980224321156736E-4]
[null,35,0.98386873840445155,0.97321243042674155,0.95581076066790871,0.9274902597402388,0.88390166975883488,null,null,null,null,35,1.3975408215972324E-3,1.3824040204925307E-3,1.3576857395850976E-3,1.3174577553128391E-3,3.7666264336313985E-3,null,null,null,null,9.2217147706190987E-3,3.0836249789181411E-4,null,9.2217147706190987E-3,3.0836249789181411E-4]
[null,36,0.98842509276438761,0.98269990723562728,0.97422820037107982,0.96045941558443815,0.93818274582559269,null,null,null,null,36,1.4040129158585052E-3,1.395880550050607E-3,1.383846875527102E-3,1.3642889425915315E-3,3.9979378373249689E-3,null,null,null,null,9.545967121352715E-3,3.2425235073361633E-4,null,9.545967121352715E-3,3.2425235073361633E-4]
[null,37,1,1,1,1,1,null,null,null,null,37,1.4204545454545455E-3,1.4204545454545455E-3,1.4204545454545455E-3,1.4204545454545455E-3,4.261363636363636E-3,null,null,null,null,{"$f":"SUM(M44:R44)","v":9.943181818181818E-3},3.97214696829103E-4,null,9.943181818181818E-3,3.97214696829103E-4]
[null,null,null,null,null,null,null,null," "]
[null,null,null,null,null,null,null,null,null,null,null,null,null,null,null,null,null,null,null,{"$f":"SUM(T31:T45)","v":0},null,null,{"$f":"SUM(W31:W45)","v":9.943181818181818E-3},null,null,{"$f":"SUM(Z31:Z45)","v":9.943181818181818E-3}]
[]
[null,null,"Intervention"]
[null,"Intervention"]
[null,null,"Cumulative Birth probabilities by CL and gestational age"]
[null," ",5,10,15,20,25,null,null,null,null,null,null,null,null,null,null,null,null,null,null,null,null,null,null,null,null,null,null,null,null,null,null,null," "]
[null,23,0,0,0,0,0]
[null,26,{"$f":"IF('Format control'!$C$6=0,C14*RR_Birth28,C14*RR_Birth28_sample)","v":0.24527678813551418},{"$f":"IF('Format control'!$C$6=0,D14*RR_Birth28,D14*RR_Birth28_sample)","v":0.21254247994449632},{"$f":"IF('Format control'!$C$6=0,E14*RR_Birth28,E14*RR_Birth28_sample)","v":0.1779639853765197},{"$f":"IF('Format control'!$C$6=0,F14*RR_Birth28,F14*RR_Birth28_sample)","v":0.14200235102582401},{"$f":"IF('Format control'!$C$6=0,G14*RR_Birth28,G14*RR_Birth28_sample)","v":0.10696280986360769},null,"<28 weeks"]
[null,30,{"$f":"IF('Format control'!$C$6=0,C15*RR_Birth32,C15*RR_Birth32_sample)","v":0.5166821761288799},{"$f":"IF('Format control'!$C$6=0,D15*RR_Birth32,D15*RR_Birth32_sample)","v":0.48784946540740226},{"$f":"IF('Format control'!$C$6=0,E15*RR_Birth32,E15*RR_Birth32_sample)","v":0.44863697882619258},{"$f":"IF('Format control'!$C$6=0,F15*RR_Birth32,F15*RR_Birth32_sample)","v":0.39731475374196235},{"$f":"IF('Format control'!$C$6=0,G15*RR_Birth32,G15*RR_Birth32_sample)","v":0.33561275279800007},null,"28 to <32 weeks",null,null,null,null,null,null,null,null,null,null,null,null," "]
[null,34,{"$f":"IF('Format control'!$C$6=0,C16*RR_Birth36,C16*RR_Birth36_sample)","v":0.91428147994200881},{"$f":"IF('Format control'!$C$6=0,D16*RR_Birth36,D16*RR_Birth36_sample)","v":0.8993696515229751},{"$f":"IF('Format control'!$C$6=0,E16*RR_Birth36,E16*RR_Birth36_sample)","v":0.87420594106585559},{"$f":"IF('Format control'!$C$6=0,F16*RR_Birth36,F16*RR_Birth36_sample)","v":0.83413040218970225},{"$f":"IF('Format control'!$C$6=0,G16*RR_Birth36,G16*RR_Birth36_sample)","v":0.77541507778975671},null,"32 to <36 weeks"]
[null,37,1,1,1,1,1,null,null,null,null,null,null,null,null,null,null,null,null,null,null," "]
[]
[null,null,"x1","x2","x3","x4","x5"]
[null,5,{"$f":"LINEST(C52:C56,B52:B56^{1,2,3,4})","v":-1.2981855889177785E-4},1.5208620550430697E-2,-0.66173497471152432,12.750766647581699,-91.924562170238957]
[null,10,{"$f":"LINEST(D52:D56,B52:B56^{1,2,3,4})","v":-1.2147552808095377E-4},1.4139947460056077E-2,-0.61042714879820381,11.659975069485652,-83.31037237672021]
[null,15,{"$f":"LINEST(E52:E56,B52:B56^{1,2,3,4})","v":-1.1491739705378018E-4},1.3317309675769246E-2,-0.57132474935126998,10.828422410299591,-76.696030546226211]
[null,20,{"$f":"LINEST(F52:F56,B52:B56^{1,2,3,4})","v":-1.0837451995582478E-4},1.2547747395701921E-2,-0.5366688891033119,10.119494659412023,-71.191343355371814]
[null,25,{"$f":"LINEST(G52:G56,B52:B56^{1,2,3,4})","v":-9.8293035141262989E-5},1.1427650215067092E-2,-0.48953492909166374,9.2225247175959879,-64.687889934972674]
[]
[null,null,"Birth probabilities by CL and gestational age",null,null,null,null,null,null,null,null,null,"Birth probabilities by CL and gestational age - weighted by CL distribution"]
[null," ",5,10,15,20,25,null,null,null,null," ",5,10,15,20,25,null,null,null,null,"Total (cum)","Births week"]
[null,24,{"$f":"IF((Progest_x1_5CL*$B67^4)+(Progest_x2_5CL*$B67^3)+(Progest_x3_5CL*$B67^2)+(Progest_x4_5CL*$B67)+Progest_x5_5CL>1,1,(Progest_x1_5CL*$B67^4)+(Progest_x2_5CL*$B67^3)+(Progest_x3_5CL*$B67^2)+(Progest_x4_5CL*$B67)+Progest_x5_5CL)","v":0.10778023215929977},{"$f":"IF((Progest_x1_10CL*$B67^4)+(Progest_x2_10CL*$B67^3)+(Progest_x3_10CL*$B67^2)+(Progest_x4_10CL*$B67)+Progest_x5_10CL>1,1,(Progest_x1_10CL*$B67^4)+(Progest_x2_10CL*$B67^3)+(Progest_x3_10CL*$B67^2)+(Progest_x4_10CL*$B67)+Progest_x5_10CL)","v":9.096046639871247E-2},{"$f":"IF((Progest_x1_15CL*$B67^4)+(Progest_x2_15CL*$B67^3)+(Progest_x3_15CL*$B67^2)+(Progest_x4_15CL*$B67)+Progest_x5_15CL>1,1,(Progest_x1_15CL*$B67^4)+(Progest_x2_15CL*$B67^3)+(Progest_x3_15CL*$B67^2)+(Progest_x4_15CL*$B67)+Progest_x5_15CL)","v":7.4706307551537066E-2},{"$f":"IF((Progest_x1_20CL*$B67^4)+(Progest_x2_20CL*$B67^3)+(Progest_x3_20CL*$B67^2)+(Progest_x4_20CL*$B67)+Progest_x5_20CL>1,1,(Progest_x1_20CL*$B67^4)+(Progest_x2_20CL*$B67^3)+(Progest_x3_20CL*$B67^2)+(Progest_x4_20CL*$B67)+Progest_x5_20CL)","v":5.9243612328728545E-2},{"$f":"IF((Progest_x1_25CL*$B67^4)+(Progest_x2_25CL*$B67^3)+(Progest_x3_25CL*$B67^2)+(Progest_x4_25CL*$B67)+Progest_x5_25CL>1,1,(Progest_x1_25CL*$B67^4)+(Progest_x2_25CL*$B67^3)+(Progest_x3_25CL*$B67^2)+(Progest_x4_25CL*$B67)+Progest_x5_25CL)","v":4.5150676592527361E-2},null,null,null,null,24,{"$f":"IF(C67<0,0,CL5_weight*C67)","v":1.5309692068082354E-4},{"$f":"IF(D67<0,0,CL10_weight*D67)","v":1.2920520795271659E-4},{"$f":"IF(E67<0,0,CL15_weight*E67)","v":1.0611691413570607E-4},{"$f":"IF(F67<0,0,CL20_weight*F67)","v":8.4152858421489412E-5},{"$f":"IF(G67<0,0,CL25_weight*G67)","v":1.924034513886109E-4},null," ",null,null,{"$f":"SUM(M67:T67)","v":6.6497535257934652E-4},{"$f":"V67","v":6.6497535257934652E-4},null,null,null,null,null,null,null,null,null,null,null,null,null,null,null,null," "]
[null,25,{"$f":"IF((Progest_x1_5CL*$B68^4)+(Progest_x2_5CL*$B68^3)+(Progest_x3_5CL*$B68^2)+(Progest_x4_5CL*$B68)+Progest_x5_5CL>1,1,(Progest_x1_5CL*$B68^4)+(Progest_x2_5CL*$B68^3)+(Progest_x3_5CL*$B68^2)+(Progest_x4_5CL*$B68)+Progest_x5_5CL)","v":0.1845663579797332},0.15733726829736838,0.12991682648134883,0.10272364045728466,7.7215081004652575E-2,null,null,null,null,25,{"$f":"IF(C68<0,0,IF(CL5_weight*C68<M67,M67,CL5_weight*C68))","v":2.6216812213030285E-4},{"$f":"IF(D68<0,0,IF(CL10_weight*D68<N67,N67,CL10_weight*D68))","v":2.2349043792239829E-4},{"$f":"IF(E68<0,0,IF(CL15_weight*E68<O67,O67,CL15_weight*E68))","v":1.8454094670646143E-4},{"$f":"IF(F68<0,0,IF(CL20_weight*F68<P67,P67,CL20_weight*F68))","v":1.4591426201318843E-4},{"$f":"IF(G68<0,0,IF(CL25_weight*G68<Q67,Q67,CL25_weight*G68))","v":3.2904153837209904E-4},null,null,null,null,{"$f":"SUM(M68:T68)","v":1.14515530714445E-3},{"$f":"V68-V67","v":4.8017995456510346E-4}]
[null,26,0.24527678813565501,0.21254247994463071,0.17796398537669234,0.14200235102585168,0.10696280986371676,null,null,null,null,26,3.484045286017827E-4,3.0190693173953227E-4,2.5278975195552889E-4,2.0170788497990297E-4,4.5580742839652021E-4,null,null,null,null,1.560616525673267E-3,{"$f":"V69-V68","v":4.15461218528817E-4}]
[null,27,0.30171428788777632,0.2670727629154328,0.22842219529502472,0.18604102219588015,0.14280442695371676,null,null,null,null,27,4.2857143165877322E-4,3.793647200503307E-4,3.2446334558952378E-4,2.6426281561914793E-4,6.0854159213231571E-4,null,null,null,null,2.0052039050500914E-3,4.4458737937682442E-4]
[null,28,0.36256597708354832,0.32850936611052362,0.28810784976479908,0.24119994364941988,0.19079146321527674,null,null,null,null,28,5.1500849017549477E-4,4.6663262231608471E-4,4.0924410477954416E-4,3.426135563201987E-4,8.1303180347419058E-4,null,null,null,null,2.546530577065513E-3,5.4132667201542157E-4]
[null,29,{"$f":"IF((Progest_x1_5CL*$B72^4)+(Progest_x2_5CL*$B72^3)+(Progest_x3_5CL*$B72^2)+(Progest_x4_5CL*$B72)+Progest_x5_5CL>1,1,(Progest_x1_5CL*$B72^4)+(Progest_x2_5CL*$B72^3)+(Progest_x3_5CL*$B72^2)+(Progest_x4_5CL*$B72)+Progest_x5_5CL)","v":0.43340333015716226},0.40151812575695089,0.36107932478529392,0.31123841658997264,0.25461641674544921,null,null,null,null,29,6.1562973033687824E-4,5.703382468138507E-4,5.1289676816092884E-4,4.4210002356530207E-4,1.0850131395402664E-3,null,null,null,null,3.2259779084172265E-3,6.7944733135171355E-4]
[null,30,0.51668217612883893,0.48784946540737906,0.44863697882624365,0.39731475374195213,0.33561275279797087,null,null,null,null,30,7.3392354563755536E-4,6.9296799063548159E-4,6.372684358327325E-4,5.6436754792890925E-4,1.4301679806731711E-3,null,null,null,null,4.0586955007078495E-3,8.3271759229062298E-4]
[null,31,0.6117426986061929,0.58633839594116921,0.54932315282815125,0.49798627935082607,0.43275490378348991,null,null,null,null,31,8.6895269688379675E-4,8.3286703968916086E-4,7.8028856935816941E-4,7.0736687407787797E-4,1.8441260104410081E-3,null,null,null,null,5.0336011904500129E-3,9.7490568974216343E-4]
[null,32,0.71480943578269773,0.69290451556329913,0.65892217020228827,0.60920932918317305,0.54265826926874183,null,null,null,null,32,1.015354312191332E-3,9.8423936869786806E-4,9.3596899176461403E-4,8.6535416077155268E-4,2.312464215633843E-3,null,null,null,null,6.11338104905921E-3,1.0797798586091971E-3]
[null,33,0.81899128043899339,0.800552009804818,0.77046033683058113,0.72433925052656889,0.6595792159774021,null,null,null,null,33,1.1633398869872066E-3,1.1371477412000256E-3,1.0944038875434392E-3,1.0288909808616035E-3,2.8107068862673382E-3,null,null,null,null,7.234489382859614E-3,1.121108333800404E-3]
[null,34,0.91428147994203357,0.89936965152296011,0.87420594106583849,0.83413040218967183,0.7754150777898019,null,null,null,null,34,1.2986952840085705E-3,1.2775137095496593E-3,1.2417698026503388E-3,1.1848443212921476E-3,3.3043256155815418E-3,null,null,null,null,{"$f":"SUM(M77:T77)","v":8.3071487330822584E-3},1.0726593502226444E-3]
[null,35,0.98755763624519943,0.97653080090103117,0.95766925373118283,0.92673615450219415,0.87970415574253025,null,null,null,null,35,1.4027807333028401E-3,1.3871176149162375E-3,1.3603256445045211E-3,1.3163865830997077E-3,3.748739300039191E-3,null,null,null,null,9.2153498758624965E-3,9.0820114278023813E-4]
[null,36,1,1,1,0.98770888931495904,0.95962571802934349,null,null,null,null,36,1.4204545454545455E-3,1.4204545454545455E-3,1.4204545454545455E-3,1.4029955814132942E-3,4.0893141393295888E-3,null,null,null,null,9.7536733571065189E-3,5.3832348124402234E-4]
[null,37,1,0.99999999999985789,1,0.99999999999995737,0.99999999999997158,null,null,{"$f":"SUM(M80:Q80)","v":9.9431818181816359E-3},null,37,1.4204545454545455E-3,1.4204545454545455E-3,1.4204545454545455E-3,1.420454545454485E-3,4.2613636363635146E-3,null,null,null,null,9.9431818181816359E-3,1.8950846107511701E-4,null,null," "]
[]
[null,null,null,null,null,null,null,null,null,null,null,null," ",null,null,null,null,null,null,null,null,null,{"$f":"SUM(W67:W81)","v":9.9431818181816359E-3}]
[]
[null,null," ",null,null,null,null,null,{"$f":"CL10_weight*D67","v":1.2920520795271659E-4}]
[null,null,null,null," "]
[]
[]
[]
[]
[null,null,null," "]
[null,null,null," "]

{"sheet":"Markov Transitions 1.7","index":55,"n_rows":37,"n_cols":17,"rows_kept":37,"cut":false,"hidden":false,"merged":[]}
[null,null,"Cumulative Births"]
[]
[null,"Weeks","Baseline overall","CL 5mm not treated","CL 5 mm treated","Reduction in births","Treated Cohort",null,"CL 10mm not treated","CL 10mm treated","Reduction in births","Treated Cohort",null,"CL 15mm not treated","CL 15mm treated","Reduction in births","Treated Cohort"]
[null,24,{"$f":"'Kindinger Smoothing and Tx'!V31","v":1.1138906750711569E-3},{"$f":"'Kindinger Smoothing and Tx'!M31","v":2.8924203333192071E-4},{"$f":"'Kindinger Smoothing and Tx'!M67","v":1.5309692068082354E-4},{"$f":"D4-E4","v":1.3614511265109717E-4},{"$f":"C4-F4","v":9.7774556242005966E-4},null,{"$f":"'Kindinger Smoothing and Tx'!N31","v":2.3494489479672617E-4},{"$f":"'Kindinger Smoothing and Tx'!N67","v":1.2920520795271659E-4},{"$f":"I4-J4","v":1.0573968684400958E-4},{"$f":"C4-(F4+K4)","v":8.7200587557605016E-4},null,{"$f":"'Kindinger Smoothing and Tx'!O31","v":1.8262196407486437E-4},{"$f":"'Kindinger Smoothing and Tx'!O67","v":1.0611691413570607E-4},{"$f":"N4-O4","v":7.6505049939158305E-5},{"$f":"C4-(F4+K4+P4)","v":7.9550082563689195E-4}]
[null,25,{"$f":"'Kindinger Smoothing and Tx'!V32","v":2.2589048532631341E-3},{"$f":"'Kindinger Smoothing and Tx'!M32","v":5.4102517814976696E-4},{"$f":"'Kindinger Smoothing and Tx'!M68","v":2.6216812213030285E-4},{"$f":"D5-E5","v":2.7885705601946411E-4},{"$f":"C5-F5","v":1.9800477972436699E-3},null,{"$f":"'Kindinger Smoothing and Tx'!N32","v":4.5486564977226251E-4},{"$f":"'Kindinger Smoothing and Tx'!N68","v":2.2349043792239829E-4},{"$f":"I5-J5","v":2.3137521184986423E-4},{"$f":"C5-(F5+K5)","v":1.7486725853938059E-3},null,{"$f":"'Kindinger Smoothing and Tx'!O32","v":3.6816389779048553E-4},{"$f":"'Kindinger Smoothing and Tx'!O68","v":1.8454094670646143E-4},{"$f":"N5-O5","v":1.836229510840241E-4},{"$f":"C5-(F5+K5+P5)","v":1.5650496343097818E-3}]
[null,26,{"$f":"'Kindinger Smoothing and Tx'!V33","v":3.3849431818176326E-3},{"$f":"'Kindinger Smoothing and Tx'!M33","v":7.5568181818181572E-4},{"$f":"'Kindinger Smoothing and Tx'!M69","v":3.484045286017827E-4},4.0727728958003302E-4,{"$f":"C6-F6","v":2.9776658922375998E-3},null,{"$f":"'Kindinger Smoothing and Tx'!N33","v":6.5482954545450296E-4},{"$f":"'Kindinger Smoothing and Tx'!N69","v":3.0190693173953227E-4},3.529226137149707E-4,2.6247432785226291E-3,null,{"$f":"'Kindinger Smoothing and Tx'!O33","v":5.482954545454182E-4},{"$f":"'Kindinger Smoothing and Tx'!O69","v":2.5278975195552889E-4},2.9550570258988931E-4,2.3292375759327395E-3]
[null,27,{"$f":"'Kindinger Smoothing and Tx'!V34","v":4.4516492030692092E-3},{"$f":"'Kindinger Smoothing and Tx'!M34","v":9.3420251623375667E-4},{"$f":"'Kindinger Smoothing and Tx'!M70","v":4.2857143165877322E-4},5.0563108457498339E-4,3.9460181184942256E-3,null,{"$f":"'Kindinger Smoothing and Tx'!N34","v":8.3119650236123722E-4},{"$f":"'Kindinger Smoothing and Tx'!N70","v":3.793647200503307E-4},4.5183178231090652E-4,3.4941863361833193E-3,null,{"$f":"'Kindinger Smoothing and Tx'!O34","v":7.1631493506492524E-4},{"$f":"'Kindinger Smoothing and Tx'!O70","v":3.2446334558952378E-4},3.9185158947540146E-4,3.1023347467079177E-3]
[null,28,{"$f":"'Kindinger Smoothing and Tx'!V35","v":5.428409354443847E-3},{"$f":"'Kindinger Smoothing and Tx'!M35","v":1.0782360141887324E-3},{"$f":"'Kindinger Smoothing and Tx'!M71","v":5.1500849017549477E-4},5.6322752401323766E-4,4.8651818304306094E-3,null,{"$f":"'Kindinger Smoothing and Tx'!N35","v":9.8161908100014017E-4},{"$f":"'Kindinger Smoothing and Tx'!N71","v":4.6663262231608471E-4},5.1498645868405541E-4,4.350195371746554E-3,null,{"$f":"'Kindinger Smoothing and Tx'!O35","v":8.6714928740088738E-4},{"$f":"'Kindinger Smoothing and Tx'!O71","v":4.0924410477954416E-4},4.5790518262134322E-4,3.8922901891252108E-3]
[null,29,{"$f":"'Kindinger Smoothing and Tx'!V36","v":6.2943529684597625E-3},{"$f":"'Kindinger Smoothing and Tx'!M36","v":1.1900892330072577E-3},{"$f":"'Kindinger Smoothing and Tx'!M72","v":6.1562973033687824E-4},5.7445950267037943E-4,5.719893465789383E-3,null,{"$f":"'Kindinger Smoothing and Tx'!N36","v":1.1050424818687626E-3},{"$f":"'Kindinger Smoothing and Tx'!N72","v":5.703382468138507E-4},5.3470423505491194E-4,5.1851892307344712E-3,null,{"$f":"'Kindinger Smoothing and Tx'!O36","v":9.9735410693206497E-4},{"$f":"'Kindinger Smoothing and Tx'!O72","v":5.1289676816092884E-4},4.8445733877113613E-4,4.7007318919633353E-3]
[null,30,{"$f":"'Kindinger Smoothing and Tx'!V37","v":7.0383522727271988E-3},{"$f":"'Kindinger Smoothing and Tx'!M37","v":1.2727272727272828E-3},{"$f":"'Kindinger Smoothing and Tx'!M73","v":7.3392354563755536E-4},5.3880372708972743E-4,6.4995485456374718E-3,null,{"$f":"'Kindinger Smoothing and Tx'!N37","v":1.2017045454545507E-3},{"$f":"'Kindinger Smoothing and Tx'!N73","v":6.9296799063548159E-4},5.0873655481906914E-4,5.9908119908184017E-3,null,{"$f":"'Kindinger Smoothing and Tx'!O37","v":1.1051136363636345E-3},{"$f":"'Kindinger Smoothing and Tx'!O73","v":6.372684358327325E-4},4.6784520053090204E-4,5.5229667902875002E-3]
[null,31,{"$f":"'Kindinger Smoothing and Tx'!V38","v":7.6590223899475861E-3},{"$f":"'Kindinger Smoothing and Tx'!M38","v":1.3297734124641789E-3},{"$f":"'Kindinger Smoothing and Tx'!M74","v":8.6895269688379675E-4},4.6082071558038219E-4,7.198201674367204E-3,null,{"$f":"'Kindinger Smoothing and Tx'!N38","v":1.2731357522347856E-3},{"$f":"'Kindinger Smoothing and Tx'!N74","v":8.3286703968916086E-4},4.4026871254562478E-4,6.7579329618215793E-3,null,{"$f":"'Kindinger Smoothing and Tx'!O38","v":1.190240765727773E-3},{"$f":"'Kindinger Smoothing and Tx'!O74","v":7.8028856935816941E-4},4.0995219636960362E-4,6.3479807654519757E-3]
[null,32,{"$f":"'Kindinger Smoothing and Tx'!V39","v":8.1647213379152893E-3},{"$f":"'Kindinger Smoothing and Tx'!M39","v":1.3655091104107105E-3},{"$f":"'Kindinger Smoothing and Tx'!M75","v":1.015354312191332E-3},3.5015479821937849E-4,7.8145665396959114E-3,null,{"$f":"'Kindinger Smoothing and Tx'!N39","v":1.3221592226766847E-3},{"$f":"'Kindinger Smoothing and Tx'!N75","v":9.8423936869786806E-4},3.3791985397881659E-4,7.4766466857170942E-3,null,{"$f":"'Kindinger Smoothing and Tx'!O39","v":1.2541770323832556E-3},{"$f":"'Kindinger Smoothing and Tx'!O75","v":9.3596899176461403E-4},3.1820804061864153E-4,7.1584386450984526E-3]
[null,33,{"$f":"'Kindinger Smoothing and Tx'!V40","v":8.5735500295157172E-3},{"$f":"'Kindinger Smoothing and Tx'!M40","v":1.3848740038370979E-3},{"$f":"'Kindinger Smoothing and Tx'!M76","v":1.1633398869872066E-3},2.2153411684989132E-4,8.3520159126658257E-3,null,{"$f":"'Kindinger Smoothing and Tx'!N40","v":1.3528907172373206E-3},{"$f":"'Kindinger Smoothing and Tx'!N76","v":1.1371477412000256E-3},2.1574297603729493E-4,8.1362729366285316E-3,null,{"$f":"'Kindinger Smoothing and Tx'!O40","v":1.299992621015393E-3},{"$f":"'Kindinger Smoothing and Tx'!O76","v":1.0944038875434392E-3},2.0558873347195378E-4,7.930684203156577E-3]
[null,34,{"$f":"'Kindinger Smoothing and Tx'!V41","v":8.9133522727272846E-3},{"$f":"'Kindinger Smoothing and Tx'!M41","v":1.3934659090909267E-3},{"$f":"'Kindinger Smoothing and Tx'!M77","v":1.2986952840085705E-3},9.4770625082356199E-5,8.818581647644928E-3,null,{"$f":"'Kindinger Smoothing and Tx'!N41","v":1.3707386363636413E-3},{"$f":"'Kindinger Smoothing and Tx'!N77","v":1.2775137095496593E-3},9.3224926813981939E-5,8.7253567208309471E-3,null,{"$f":"'Kindinger Smoothing and Tx'!O41","v":1.3323863636364377E-3},{"$f":"'Kindinger Smoothing and Tx'!O77","v":1.2417698026503388E-3},9.0616560986098897E-5,8.6347401598448476E-3]
[null,35,{"$f":"'Kindinger Smoothing and Tx'!V42","v":9.2217147706190987E-3},{"$f":"'Kindinger Smoothing and Tx'!M42","v":1.3975408215972324E-3},{"$f":"'Kindinger Smoothing and Tx'!M78","v":1.4027807333028401E-3},-5.2399117056076919E-6,9.2269546823247062E-3,null,{"$f":"'Kindinger Smoothing and Tx'!N42","v":1.3824040204925307E-3},{"$f":"'Kindinger Smoothing and Tx'!N78","v":1.3871176149162375E-3},-4.7135944237068107E-6,9.2316682767484125E-3,null,{"$f":"'Kindinger Smoothing and Tx'!O42","v":1.3576857395850976E-3},{"$f":"'Kindinger Smoothing and Tx'!O78","v":1.3603256445045211E-3},-2.6399049194234924E-6,9.2343081816678371E-3]
[null,36,{"$f":"'Kindinger Smoothing and Tx'!V43","v":9.545967121352715E-3},{"$f":"'Kindinger Smoothing and Tx'!M43","v":1.4040129158585052E-3},{"$f":"'Kindinger Smoothing and Tx'!M79","v":1.4204545454545455E-3},-1.6441629596040301E-5,9.562408750948756E-3,null,{"$f":"'Kindinger Smoothing and Tx'!N43","v":1.395880550050607E-3},{"$f":"'Kindinger Smoothing and Tx'!N79","v":1.4204545454545455E-3},-2.4573995403938485E-5,9.586982746352694E-3,null,{"$f":"'Kindinger Smoothing and Tx'!O43","v":1.383846875527102E-3},{"$f":"'Kindinger Smoothing and Tx'!O79","v":1.4204545454545455E-3},-3.6607669927443513E-5,9.6235904162801367E-3]
[null,37,{"$f":"'Kindinger Smoothing and Tx'!V44","v":9.943181818181818E-3},{"$f":"'Kindinger Smoothing and Tx'!M44","v":1.4204545454545455E-3},{"$f":"'Kindinger Smoothing and Tx'!M80","v":1.4204545454545455E-3},0,9.943181818181818E-3,null,{"$f":"'Kindinger Smoothing and Tx'!N44","v":1.4204545454545455E-3},{"$f":"'Kindinger Smoothing and Tx'!N80","v":1.4204545454545455E-3},0,9.943181818181818E-3,null,{"$f":"'Kindinger Smoothing and Tx'!O44","v":1.4204545454545455E-3},{"$f":"'Kindinger Smoothing and Tx'!O80","v":1.4204545454545455E-3},0,9.943181818181818E-3]
[]
[null,null," ",null," ",null,{"$f":"SUM(G4:G18)","v":8.7882012238082174E-2},null,null,null,null,{"$f":"SUM(L4:L18)","v":8.4123846815256309E-2},null,null,null,null,{"$f":"SUM(Q4:Q18)","v":8.0781035843645016E-2}]
[]
[null,"Weeks",null,null,null,null,null,null,"CL 20mm not treated","CL 20mm treated","Reduction in births","Treated Cohort",null,"CL 25mm not treated","CL 25mm treated","Reduction in births","Treated Cohort"]
[null,24,null,null,{"$f":"E4/D4","v":0.52930384604625091},{"$f":"J4/I4","v":0.54993835071200281},null,null,{"$f":"'Kindinger Smoothing and Tx'!P31","v":1.336864484946117E-4},{"$f":"'Kindinger Smoothing and Tx'!P67","v":8.4152858421489412E-5},{"$f":"I22-J22","v":4.9533590073122283E-5},{"$f":"C4-(F4+K4+P4+K22)","v":7.459672355637696E-4},null,{"$f":"'Kindinger Smoothing and Tx'!Q31","v":2.7339533437303383E-4},{"$f":"'Kindinger Smoothing and Tx'!Q67","v":1.924034513886109E-4},{"$f":"N22-O22","v":8.0991882984422922E-5},{"$f":"C4-(F4+K4+P4+K22+P22)","v":6.6497535257934674E-4}]
[null,25,null,null,{"$f":"E5/D5","v":0.48457656448981251},{"$f":"J5/I5","v":0.49133285407305033},null,null,{"$f":"'Kindinger Smoothing and Tx'!P32","v":2.8273963252645196E-4},{"$f":"'Kindinger Smoothing and Tx'!P68","v":1.4591426201318843E-4},{"$f":"I23-J23","v":1.3682537051326352E-4},{"$f":"C5-(F5+K5+P5+K23)","v":1.4282242637965181E-3},null,{"$f":"'Kindinger Smoothing and Tx'!Q32","v":6.1211049502416708E-4},{"$f":"'Kindinger Smoothing and Tx'!Q68","v":3.2904153837209904E-4},{"$f":"N23-O23","v":2.8306895665206804E-4},{"$f":"C5-(F5+K5+P5+K23+P23)","v":1.1451553071444502E-3}]
[null,26,null,null,{"$f":"E6/D6","v":0.46104659423995453},{"$f":"J6/I6","v":0.46104659424000977},null,null,{"$f":"'Kindinger Smoothing and Tx'!P33","v":4.3749999999986855E-4},{"$f":"'Kindinger Smoothing and Tx'!P69","v":2.0170788497990297E-4},2.3579211501996558E-4,2.0934454609127739E-3,null,{"$f":"'Kindinger Smoothing and Tx'!Q33","v":9.8863636363602752E-4},{"$f":"'Kindinger Smoothing and Tx'!Q69","v":4.5580742839652021E-4},5.3282893523950731E-4,1.5606165256732665E-3]
[null,27,null,null,{"$f":"E7/D7","v":0.45875645185217617},{"$f":"J7/I7","v":0.45640798412005246},null,null,{"$f":"'Kindinger Smoothing and Tx'!P34","v":5.8997288223131244E-4},{"$f":"'Kindinger Smoothing and Tx'!P70","v":2.6426281561914793E-4},3.2571006661216451E-4,2.7766246800957533E-3,null,{"$f":"'Kindinger Smoothing and Tx'!Q34","v":1.379962367177977E-3},{"$f":"'Kindinger Smoothing and Tx'!Q70","v":6.0854159213231571E-4},7.7142077504566131E-4,2.0052039050500918E-3]
[null,28,null,null,{"$f":"E8/D8","v":0.47763985194186681},{"$f":"J8/I8","v":0.47537036651798548},null,null,{"$f":"'Kindinger Smoothing and Tx'!P35","v":7.3382849394915638E-4},{"$f":"'Kindinger Smoothing and Tx'!P71","v":3.426135563201987E-4},3.9121493762895768E-4,3.5010752514962528E-3,null,{"$f":"'Kindinger Smoothing and Tx'!Q35","v":1.7675764779049306E-3},{"$f":"'Kindinger Smoothing and Tx'!Q71","v":8.1303180347419058E-4},9.5454467443073998E-4,2.546530577065513E-3]
[null,29,null,null,0.51729711794907385,0.51612336735628361,null,null,{"$f":"'Kindinger Smoothing and Tx'!P36","v":8.6440193329389626E-4},{"$f":"'Kindinger Smoothing and Tx'!P72","v":4.4210002356530207E-4},4.2230190972859419E-4,4.2784299822347409E-3,null,{"$f":"'Kindinger Smoothing and Tx'!Q36","v":2.1374652133577809E-3},{"$f":"'Kindinger Smoothing and Tx'!Q72","v":1.0850131395402664E-3},1.0524520738175145E-3,3.2259779084172265E-3]
[null,30,null,null,0.57665421442950326,0.57665421442952347,null,null,{"$f":"'Kindinger Smoothing and Tx'!P37","v":9.7869318181815156E-4},{"$f":"'Kindinger Smoothing and Tx'!P73","v":5.6436754792890925E-4},4.1432563388924231E-4,5.1086411563982578E-3,null,{"$f":"'Kindinger Smoothing and Tx'!Q37","v":2.480113636363579E-3},{"$f":"'Kindinger Smoothing and Tx'!Q73","v":1.4301679806731711E-3},1.0499456556904078E-3,4.0586955007078495E-3]
[null,31,null,null,0.65345921999865852,0.65418557151285428,null,null,{"$f":"'Kindinger Smoothing and Tx'!P38","v":1.0753671044864033E-3},{"$f":"'Kindinger Smoothing and Tx'!P74","v":7.0736687407787797E-4},3.6800023040852532E-4,5.9799805350434498E-3,null,{"$f":"'Kindinger Smoothing and Tx'!Q38","v":2.790505355034445E-3},{"$f":"'Kindinger Smoothing and Tx'!Q74","v":1.8441260104410081E-3},9.4637934459343692E-4,5.0336011904500138E-3]
[null,32,null,null,0.74357197945456344,0.74441818490309764,null,null,{"$f":"'Kindinger Smoothing and Tx'!P39","v":1.1547534496753155E-3},{"$f":"'Kindinger Smoothing and Tx'!P75","v":8.6535416077155268E-4},2.8939928890376286E-4,6.8690393561946896E-3,null,{"$f":"'Kindinger Smoothing and Tx'!Q39","v":3.0681225227693239E-3},{"$f":"'Kindinger Smoothing and Tx'!Q75","v":2.312464215633843E-3},7.5565830713548087E-4,6.1133810490592091E-3]
[null,33,null,null,0.84003301655162688,0.84053185280341469,null,null,{"$f":"'Kindinger Smoothing and Tx'!P40","v":1.218846849173495E-3},{"$f":"'Kindinger Smoothing and Tx'!P76","v":1.0288909808616035E-3},1.8995586831189147E-4,7.7407283348446855E-3,null,{"$f":"'Kindinger Smoothing and Tx'!Q40","v":3.3169458382524123E-3},{"$f":"'Kindinger Smoothing and Tx'!Q76","v":2.8107068862673382E-3},5.0623895198507411E-4,7.2344893828596114E-3]
[null,34,null,null,0.9319892761896249,0.93198927618959271,null,null,{"$f":"'Kindinger Smoothing and Tx'!P41","v":1.2713068181817923E-3},{"$f":"'Kindinger Smoothing and Tx'!P77","v":1.1848443212921476E-3},8.6462496889644705E-5,8.5482776629552028E-3,null,{"$f":"'Kindinger Smoothing and Tx'!Q41","v":3.545454545454488E-3},{"$f":"'Kindinger Smoothing and Tx'!Q77","v":3.3043256155815418E-3},2.4112892987294618E-4,8.3071487330822567E-3]
[null,35,null,null,1.0037493800715023,1.0034097082718463,null,null,{"$f":"'Kindinger Smoothing and Tx'!P42","v":1.3174577553128391E-3},{"$f":"'Kindinger Smoothing and Tx'!P78","v":1.3163865830997077E-3},1.0711722131314001E-6,9.2332370094547062E-3,null,{"$f":"'Kindinger Smoothing and Tx'!Q42","v":3.7666264336313985E-3},{"$f":"'Kindinger Smoothing and Tx'!Q78","v":3.748739300039191E-3},1.788713359220746E-5,9.2153498758624983E-3]
[null,36,null,null,1.0117104546620119,1.0176046549277067,null,null,{"$f":"'Kindinger Smoothing and Tx'!P43","v":1.3642889425915315E-3},{"$f":"'Kindinger Smoothing and Tx'!P79","v":1.4029955814132942E-3},-3.8706638821762746E-5,9.6622970551019007E-3,null,{"$f":"'Kindinger Smoothing and Tx'!Q43","v":3.9979378373249689E-3},{"$f":"'Kindinger Smoothing and Tx'!Q79","v":4.0893141393295888E-3},-9.137630200461988E-5,9.7536733571065206E-3]
[null,37,null,null,1,1,null,null,{"$f":"'Kindinger Smoothing and Tx'!P44","v":1.4204545454545455E-3},{"$f":"'Kindinger Smoothing and Tx'!P80","v":1.420454545454485E-3},6.0498481224691147E-17,{"$f":"C17-(F17+K17+P17+K35)","v":9.9431818181817573E-3},null,{"$f":"'Kindinger Smoothing and Tx'!Q44","v":4.261363636363636E-3},{"$f":"'Kindinger Smoothing and Tx'!Q80","v":4.2613636363635146E-3},1.214306433183765E-16,{"$f":"C17-(F17+K17+P17+K35+P35)","v":9.9431818181816359E-3}]
[]
[null,null,null,null,null,null,null,null,null,null,null,{"$f":"SUM(L22:L36)","v":7.7909149802274466E-2},null,null,null,null,{"$f":"SUM(Q22:Q36)","v":7.0807980483239497E-2}]

{"sheet":"Tornado Chart","index":56,"n_rows":5,"n_cols":4,"rows_kept":5,"cut":false,"hidden":false,"merged":[]}
[]
[]
[]
[]
[null,null,null," "]

{"sheet":"Tornado Results","index":57,"n_rows":4,"n_cols":6,"rows_kept":4,"cut":false,"hidden":false,"merged":[]}
["Variable","Low Value","High Value","Difference"]
["Pre-term birth <36 weeks (RR 0.69 to 1.15)",1680.26,1331.64,{"$f":"((B2-C2)^2)^0.5","v":348.61999999999989},null," "]
["Pre-term birth <32 weeks (RR 0.33 to 0.93)",1680.39,1142.6199999999999,{"$f":"((B3-C3)^2)^0.5","v":537.77000000000021}]
["Pre-term birth <28 weeks (RR 0.19 to 0.91)",1968.77,479.47,{"$f":"((B4-C4)^2)^0.5","v":1489.3}]

{"sheet":"Blank","index":58,"n_rows":0,"n_cols":0,"rows_kept":0,"cut":false,"hidden":false,"merged":[]}