{"text_format":"1","workbook":"xlsx","n_sheets":18,"sheets":["Cover","Documentation >>","User Guide","ToC","Style Guide","Inputs >>","Time","WINEP_Inputs","InpActive","Calcs >>","WINEP_Schemes","WINEP_Allowance","Outputs >>","Annual_Outputs","F_Outputs","QA >>","Track","Check"],"not_rendered":{"charts":0,"images":1,"macros":1,"external_links":1,"defined_names":63,"comments":0,"pivot_tables":0},"unopened":[],"bounds":{"document_bytes":16777216,"sheet_cells":100000,"rows_first":2000,"rows_last":500,"rows_between":2000,"halvings":0,"cell_chars":16384,"cell_head_chars":4096},"cells_cut":0,"cells_raw":0,"read":"whole","date_system":"1900"}

{"sheet":"Cover","index":0,"n_rows":39,"n_cols":7,"rows_kept":39,"cut":false,"hidden":false,"merged":[[28,3,28,4],[23,3,23,4],[22,3,22,4],[10,3,10,6],[11,3,11,6],[12,3,12,6],[13,3,13,6],[14,3,14,6],[25,3,25,4],[26,3,26,4],[24,3,24,4],[27,3,27,4],[19,3,19,6]]}
[{"$f":" RIGHT(CELL(\"filename\", $A$1), LEN(CELL(\"filename\", $A$1)) - SEARCH(\"]\", CELL(\"filename\", $A$1)))","v":{"$error":"#VALUE!"}}]
[]
[null,null,"Model name:","WINEP Reconciliation Model"]
[null,null,"Version number:","FD v1"]
[null,null,"Model code:","PR24PD11"]
[null,null,"Filename:","PR24PD11-PR19 WINEP recon model-SRN"]
[null,null,"Date:","December 2024"]
[null,null,"Author:","Ofwat"]
[null,null,"Contact:","PR24@ofwat.gov.uk"]
[]
[null,null,"Summary of model:","This illustrative model is designed to show how we will account for the impact of ministerial decisions on the scale of companies’ environmental enhancement programmes where this differs from our assumptions made at FD. Please note that, for brevity, the term 'WINEP' is used throughout. However, it should be taken to include both the WINEP in England and the NEP in Wales. "]
[null,null,null,"On sheet \"WINEP_Allowance\" we set out the adjustments we will make for each scheme in the company's WINEP programme that at the time of the final determination was unconfirmed. We show what will happen to adjust allowed totex for cost sharing, whether the scheme is confirmed as required or confirmed not required for the period 2020-25. For some companies there will be schemes listed that were not included in our enhancement allowance when we made our final determinations. We will make an opposite adjustment for these."]
[null,null,null,"On sheet \"WINEP_Schemes\" we convert the units used for each company’s unit cost mechanism as set out in the Cost Efficiency appendix to the company summary document of our Final Determinations. This is a bespoke conversion required for each company and the units shown are for illustration. Not all units shown will be relevant to every company."]
[null,null,null,"For most schemes the proportion confirmed will be either 100% or 0%. We have included a 'Proportion Confirmed' column to allow for the possibility that a scheme is partially confirmed. For example, if a scheme involves work on all reservoirs in a region but some reservoirs are subsequently sold then a reconciliation will be made to recover a proportion of the scheme's costs.\n\nFor the PR24 determination, on the \"WINEP_Inputs\" tab we have added some additional columns from column CY onwards. In all company models Column CY is for 'Water company comments'. This has been populated by the company, during the submission of the model with PR24 plans and in the following period where updated versions of the model may have been returned due to query responses. Column CZ is for 'Ofwat review and/or amend comment', it is populated where Ofwat have made amendments during the review of PR24 submitted models, to provide explanation. Explanation is provided in this column for any amendments and the relevant cell is highlighted lilac. In some company models there are additional columns, as required, to ensure company allowances can be calculated.\n\nIn the \"WINEP_Inputs\" tab column DA details the Funding clawback category for all relevant actions.\n\nIn the \"WINEP_Inputs\" tab columns DB - DC provide details on the calculated totex rates associated with programme level groups. \n\nIn the WINEP_Inputs\" tab column DD provide detailes on the shortfall in capacity being addressed and volume of new or additional storage provided for actions within relevant programme level groups.\n\n\n\n"]
[null,null,null,"Where schemes have been partially removed the company must present evidence that the proportion remaining has been signed off by the Environment Agency or Natural Resources Wales."]
[]
[null,null,null,"NB - The model price base is 'CPIH Financial year average 2017/18', unless otherwise stated. "]
[]
[]
[null,null,"Company Specific Detail (only Ofwat populated if required):","Southern Water:\nFurther detail on Southern Water's PR19 WINEP Reconciliation model clawback is given for clarity as they are linked to group level lines in the reconciliation model:\n• \t           10 funded actions that will not be delivered before the end of PR19; they have been removed from programme level grouped line calculations. These actions are associated with flow treatment requirements. \n•            \t3 funded actions that will not be delivered before the end of PR19 and 1 action removed from PR19 WINEP. The 4 actions have been removed from programme level group line calculations. These actions are related to storage capacity at wastewater treatment works. \n• \t           1 funded action that will not be delivered before the end of PR19 that has been removed from a programme level grouped line calculation. This action is associated with phosporous continuous discharge requirments. \n\nA 9.6% WINEP in the round reduction adjustment (catch-up efficiency and frontier shift) has been considered in funding figures related to actions for flow treatment requirements, storage at wastewater treatment works, UV disinfection and conservation drivers. Catch-up efficiency and frontier shift challenges were applied as per the PR19 Final determination enhancement aggregator feeder model ."]
[]
[null,null,"Change Log (prior to PR19 FD model issue):","Sheet(s) in current model",null,"Description of change(s) made","Model link(s)"]
[null,null,null,"Track",null,"Linked to correct cells in model. Previously this was incorrectly linked to blank cells. Added some additional tracking lines.",{"$f":"Track!A1","v":{"$error":"#VALUE!"}}]
[null,null,null,"User Guide",null,"Expanded the description of how to load the WINEP input data.",{"$f":"'User Guide'!D13","v":"INITIAL SET UP"}]
[null,null,null,"WINEP_Schemes",null,"Relabelled \"Quantity\" as \"Quantity in PR19 FD\"",{"$f":" WINEP_Schemes!J9","v":"Quantity in PR19 FD"}]
[null,null,null,"WINEP_Schemes",null,"Added new column \"Quantity Delivered\" and changed the input \"Proportion confirmed\" to be a calculation of \"Quantity Delivered\" divided by \"Quantity in PR19 FD\".",{"$f":" WINEP_Schemes!K9","v":"Quantity Delivered"}]
[null,null,null,"WINEP_Schemes",null,"Changed all Inputs to be brought forward from the WINEP_Inputs sheet. This affects \"Unit\", \"Unit Conversion\", \"Quantity\" and \"Price Control\"",{"$f":" WINEP_Schemes!F9","v":"Unit"}]
[null,null,null,"WINEP_Inputs",null,"Columns CR to CX now contain the WINEP inputs that need to be manually entered. The columns have been re-labelled for clarity.",{"$f":" WINEP_Inputs!CR3","v":"WINEP model inputs"}]
[null,null,null,"Annual_Outputs",null,"Relabelled the WINEP reconciliation outputs and added additional text for clarity. ",{"$f":" Annual_Outputs!E26","v":"WINEP Reconciliation, water resources - without adjustment for time value of money"}]
[]
[null,null,"Instructions:","A model 'User guide' is present in the model to help the user in operating the model."]
[null,null,null,"Follow link >>","Goto User Guide"]
[]
[null,null,"Error check status:",{"$f":"Check!$F$2","v":0},{"$f":" IF(D34 = 0, \"No error checks\", \"Error checks active\")","v":"No error checks"}]
[null,null,null,{"$f":"Check!$F$3","v":3},{"$f":" IF(D35 = 0, \"No output changes\", \"Output changes\")","v":"Output changes"}]
[]
[]
[]
["End of sheet"]

{"sheet":"Documentation >>","index":1,"n_rows":0,"n_cols":0,"rows_kept":0,"cut":false,"hidden":false,"merged":[]}

{"sheet":"User Guide","index":2,"n_rows":85,"n_cols":5,"rows_kept":85,"cut":false,"hidden":false,"merged":[]}
[{"$f":" RIGHT(CELL(\"filename\", $A$1), LEN(CELL(\"filename\", $A$1)) - SEARCH(\"]\", CELL(\"filename\", $A$1)))","v":{"$error":"#VALUE!"}}]
[]
[null,"INTRODUCTION"]
[]
[null,null,null,null,"This model will calculate the WINEP reconciliation adjustment in £m."]
[]
[null,null,null,"NAVIGATION"]
[null,null,null,null,"In order to navigate through the model the following key strokes will prove useful:"]
[null,null,null,null,"- To go to a sheet or row select a blue font cell and then either press CTRL+ [ or double click"]
[null,null,null,null,"- To return to the last position press F5 + Enter"]
[null,null,null,null,"- In accordance with best practice, the model is saved with a \"Manual Calculation\" setting. To ensure a full recalculation press: Ctrl + Alt + F9"]
[]
[null,null,null,"INITIAL SET UP"]
[null,null,null,null,"On first use of the model the WINEP_inputs sheet needs to be updated from the 2019 WINEP spreadsheet. You must use the list of WINEP sites as at Final Determination. "]
[]
[null,null,null,"1)","The WINEP_Inputs sheet needs to be setup so that the correct information is loaded onto the WINEP_Schemes sheet. Since all companies have used different units the procedure for doing this will vary. Most companies will be able to follow the steps below:"]
[null,null,null,"Step 1 - ","In the WINEP workbook identify all schemes that were Amber in the PR19 Final Determination WINEP workbook."]
[null,null,null,"Step 2 - ","Copy the schemes to cell C5 of WINEP_Inputs maintaining the column layout of the PR19 Final Determination WINEP spreadsheet."]
[null,null,null,"Step 3 - ","Complete column CR for all rows, 'Allowed totex unit rate'. This feeds through to the WINEP_Schemes sheet and should be copied directly from the tables in the Cost Efficiency appendix to the company summary document of our Final Determinations."]
[null,null,null,"Step 4 - ","Complete column CS for all rows, 'Quantity proposed in PR19 FD. This feeds through to the WINEP_Schemes sheet and is the amount to be delivered as stated in the Cost Efficiency appendix to the company summary document of our Final Determinations. This should be entered in the appropriate units e.g. £m per benefit point, £ per km LORI, £ per kgP/day removed, etc"]
[null,null,null,"Step 5 - ","Complete column CT for all rows, 'Quantity Delivered'. This feeds through to the WINEP_Schemes sheet and is the actual amount delivered. The proportion confirmed is then calculated from the inputs in columns CS and CT."]
[null,null,null,"Step 6 - ","Complete column CU for all rows with a 1 if the scheme was costed in the FD or a 0 if the scheme was not costed"]
[null,null,null,"Step 7 - ","In column CV select for all rows the price control that the WINEP adjustment will be applied to"]
[null,null,null,"Step 8 - ","Enter the units into column CW and a conversion factor into column CX to convert into £m."]
[]
[null,null,null,"2)","InpTime sheet : This is the sheet where all the Inputs related to dates and timelines are set up:"]
[null,null,null,null,{"$f":"Time!A1","v":{"$error":"#VALUE!"}}]
[]
[null,null,null,"3)","InpAct sheet : This is the sheet where all the Inputs used in the model calculations are present, all the inputs flow from this sheet into the model calculations:"]
[null,null,null,null,{"$f":"InpActive!A1","v":{"$error":"#VALUE!"}}]
[null,null,null,null,"Update all Input cells as required."]
[]
[null,null,null,null,"Recalculate the model once all the sheets are updated. Press Ctrl + Alt + F9"]
[]
[]
[]
[null,"HOW TO SAVE A PDF COPY OF ANY SHEET"]
[]
[null,null,null,"Step 1 - ","To save a sheet in PDF format, press button \"Save as PDF\""]
[]
[]
[]
[null,null,null,"Step 2 - ","In the dialog box, \"Enter sheet name\", type the name of the sheet you want to save"]
[]
[null,null,null,"Step 3 - ","In the dialog box, \"Save As\" change the file name if required"]
[]
[null,null,null,"Step 4 - ","Press \"Save\" to save a Pdf copy of the sheet"]
[]
[]
[]
[null,"HOW TO STORE TRACK IN TRACK SHEET"]
[]
[null,null,null,"USING MACRO"]
[null,null,null,null,"To store Track in the Track sheet using the macro, follow the steps below:"]
[]
[null,null,null,"Step 1 - ","Go to the Track sheet and press the \"Store Track\" button to save the track for a new case"]
[null,null,null,null,"Store Track"]
[]
[null,null,null,"Step 2 - ","A dialog box \"Enter the label for the new track column\" will appear, type the new track label (for example: \"version 17r\"), the label will appear in row 6"]
[]
[null,null,null,"Step 3 - ","A dialog box \"Enter the comment for the new track\" will appear, write a brief description of the change. The description will be appear at the bottom of the track column"]
[]
[null,null,null,"Step 4 - ","Press enter, a new track column will appear before the last stored track"]
[]
[null,null,null,"Step 5 - ","Review the difference between stored cases and active case (col H) by selecting the stored case in cell H6."]
[]
[null,null,null,"MANUAL METHOD"]
[]
[null,null,null,null,"To store Track in the Track sheet manually, follow the steps below:"]
[]
[null,null,null,"Step 1 - ","Select the column by pressing Ctrl + Spacebar and Copy (Ctrl + C). Then insert a new column after the last stored column by pressing Alt, I, E"]
[]
[null,null,null,"Step 2 - ","Select the newly inserted column (Ctrl + Spacebar) and delete the previously stored values from this column by pressing Delete button"]
[]
[null,null,null,"Step 3 - ","Go to active track column (H column). Select the range from H6 till 'do not delete row - range end' row and Copy (Ctrl + C)"]
[]
[null,null,null,"Step 4 - ","Paste the selected values (Alt E, S, V) in newly inserted column"]
[]
[null,null,null,"Step 5 - ","Update 'New track name' in row 6 of newly inserted column. Then select 'New track name' from the dropdown list present in H6."]
[]
[null,null,null,"Step 6 - ","Review the difference between stored cases and active case (col H) by selecting the stored case in cell H6."]
[]
[]
[]
["End of sheet"]

{"sheet":"ToC","index":3,"n_rows":25,"n_cols":26,"rows_kept":25,"cut":false,"hidden":false,"merged":[]}
[{"$f":" RIGHT(CELL(\"filename\", $A$1), LEN(CELL(\"filename\", $A$1)) - SEARCH(\"]\", CELL(\"filename\", $A$1)))","v":{"$error":"#VALUE!"}}]
[]
["GENERIC MODEL DESIGN"]
[]
[null,null,null,null,null,"Table of Contents"]
[]
[]
[null,null,null,null,null,null,null,"DOCUMENTATION",null,null,null,"MODEL INPUTS",null,null,null,null,"MODEL CALCULATIONS",null,null,null,null,"MODEL OUTPUTS",null,null,null,"MODEL QA"]
[]
[null,null,null,null,null,null,null,"Cover",null,null,null,"WINEP_Inputs",null,null,null,null,"WINEP_Schemes",null,null,null,null,"Annual_Outputs",null,null,null,"Check"]
[null,null,null,null,null,null,null,"Model cover sheet",null,null,null,"WINEP inputs from business plans",null,null,null,null,"List of WINEP Amber schemes",null,null,null,null,"Annual profile of WINEP reconciliation",null,null,null,"Checks"]
[]
[null,null,null,null,null,null,null,"User Guide",null,null,null,"Time",null,null,null,null,"WINEP_Allowance",null,null,null,null,"F_Outputs",null,null,null,"Track"]
[null,null,null,null,null,null,null,"Explanation of setup and macros",null,null,null,"Dates and timelines",null,null,null,null,"Calculation of allowed cost",null,null,null,null,"Outputs to be uploaded to Fountain",null,null,null,"Model changes and track records"]
[]
[null,null,null,null,null,null,null,"ToC",null,null,null,"InpActive"]
[null,null,null,null,null,null,null,"Table of contents",null,null,null,"All inputs to be flowed into model"]
[]
[null,null,null,null,null,null,null,"Style Guide"]
[null,null,null,null,null,null,null,"Explanation of different formatting types"]
[]
[]
[]
[]
["End of sheet"]

{"sheet":"Style Guide","index":4,"n_rows":52,"n_cols":10,"rows_kept":52,"cut":false,"hidden":false,"merged":[]}
[{"$f":" RIGHT(CELL(\"filename\", $A$1), LEN(CELL(\"filename\", $A$1)) - SEARCH(\"]\", CELL(\"filename\", $A$1)))","v":{"$error":"#VALUE!"}}]
[]
["SHEET TABS"]
[]
[null,null,null,null,null,null,null,"Light Yellow",null,"Input sheets"]
[]
[null,null,null,null,null,null,null,"No colour (default Excel tab colour)",null,"Calculation and documentation sheets"]
[]
[null,null,null,null,null,null,null,"Pale Blue",null,"Key output sheets"]
[]
[null,null,null,null,null,null,null,"Turquoise",null,"Quality control sheets"]
[]
[null,null,null,null,null,null,null,"Yellow",null,"To be completed, temporary, restructured, or deleted"]
[]
[]
["COLOUR"]
[]
[null,"Font colour only"]
[null,null,null,null,null,null,null,"Blue font",null,"Imported from another sheet"]
[]
[null,null,null,null,null,null,null,"Red font ",null,"Exported to another sheet (except from Input sheets)"]
[]
[null,null,null,null,null,null,null,"Black font",null,"Within sheet link or calculation"]
[]
[null,"Font + shade combinations"]
[null,null,null,null,null,null,null,"Black font + Light Yellow shade",null,"Inputs"]
[]
[null,null,null,null,null,null,null,"Black font + Light Yellow shade with grey stripe",null,"Inputs that are not expected to be changed"]
[]
[null,null,null,null,null,null,null,"Black font + Light Grey shade on entire row",null,"Within-worksheet counter-flow "]
[]
[null,null,null,null,null,null,null,"Blue font + Light Grey shade on entire row",null,"Between-worksheet counter-flow "]
[]
[null,null,null,null,null,null,null,"Empty Cell with Light Grey shade",null,"Empty cells being deliberately referenced"]
[]
[null,"Other"]
[null,null,null,null,null,null,null,"Black font + Pale Blue shade on entire row",null,"Section separator"]
[]
[null,null,null,null,null,null,null,"Light Turquoise shade",null,"Stored/dead/hard coded outputs"]
[]
[null,null,null,null,null,null,null,"Tan shade",null,"Pre-model time line actuals"]
[]
[null,null,null,null,null,null,null,"Yellow shade",null,"Work in progress / temporary"]
[]
[null,null,null,null,null,null,null,"Lime shade",null,"Values or logic to be reviewed"]
[]
[null,"Error checks"]
[null,null,null,null,null,null,null,"Green shade",null,"OK"]
[]
[null,null,null,null,null,null,null,"Red shade",null,"Error"]
[]
["End of sheet"]

{"sheet":"Inputs >>","index":5,"n_rows":0,"n_cols":0,"rows_kept":0,"cut":false,"hidden":false,"merged":[]}

{"sheet":"Time","index":6,"n_rows":133,"n_cols":20,"rows_kept":133,"cut":false,"hidden":false,"merged":[]}
[{"$f":" RIGHT(CELL(\"filename\", $A$1), LEN(CELL(\"filename\", $A$1)) - SEARCH(\"]\", CELL(\"filename\", $A$1)))","v":{"$error":"#VALUE!"}}]
[null,null,null,null,{"$f":" Time!E$25","v":"Model period ending"},null,null,null,null,{"$f":" Time!J$25","v":"2019-03-31"},{"$f":" Time!K$25","v":"2020-03-31"},{"$f":" Time!L$25","v":"2021-03-31"},{"$f":" Time!M$25","v":"2022-03-31"},{"$f":" Time!N$25","v":"2023-03-31"},{"$f":" Time!O$25","v":"2024-03-31"},{"$f":" Time!P$25","v":"2025-03-31"},{"$f":" Time!Q$25","v":"2026-03-31"},{"$f":" Time!R$25","v":"2027-03-31"},{"$f":" Time!S$25","v":"2028-03-31"},{"$f":" Time!T$25","v":"2029-03-31"}]
[null,null,null,null,{"$f":" Time!E$107","v":"Timeline label"},null,null,null,null,{"$f":" Time!J$107","v":"Pre-Fcst"},{"$f":" Time!K$107","v":"Pre-Fcst"},{"$f":" Time!L$107","v":"Forecast"},{"$f":" Time!M$107","v":"Forecast"},{"$f":" Time!N$107","v":"Forecast"},{"$f":" Time!O$107","v":"Forecast"},{"$f":" Time!P$107","v":"Forecast"},{"$f":" Time!Q$107","v":"Post-Fcst"},{"$f":" Time!R$107","v":"Post-Fcst"},{"$f":" Time!S$107","v":"Post-Fcst"},{"$f":" Time!T$107","v":"Post-Fcst"}]
[null,null,null,null,{"$f":" Time!E$130","v":"Financial year ending"},null,null,null,null,{"$f":" Time!J$130","v":2019},{"$f":" Time!K$130","v":2020},{"$f":" Time!L$130","v":2021},{"$f":" Time!M$130","v":2022},{"$f":" Time!N$130","v":2023},{"$f":" Time!O$130","v":2024},{"$f":" Time!P$130","v":2025},{"$f":" Time!Q$130","v":2026},{"$f":" Time!R$130","v":2027},{"$f":" Time!S$130","v":2028},{"$f":" Time!T$130","v":2029}]
[null,null,null,null,{"$f":" Time!E$10","v":"Model column counter"},"Constant","Unit","Total",null,{"$f":" Time!J$10","v":1},{"$f":" Time!K$10","v":2},{"$f":" Time!L$10","v":3},{"$f":" Time!M$10","v":4},{"$f":" Time!N$10","v":5},{"$f":" Time!O$10","v":6},{"$f":" Time!P$10","v":7},{"$f":" Time!Q$10","v":8},{"$f":" Time!R$10","v":9},{"$f":" Time!S$10","v":10},{"$f":" Time!T$10","v":11}]
[]
["MODEL PERIOD"]
[]
[null,"Model column counter "]
[null,null,null,null,"Model column counter",null,"counter",null,null,{"$f":" I10 + 1","v":1},{"$f":" J10 + 1","v":2},{"$f":" K10 + 1","v":3},{"$f":" L10 + 1","v":4},5,6,{"$f":" O10 + 1","v":7},{"$f":" P10 + 1","v":8},{"$f":" Q10 + 1","v":9},{"$f":" R10 + 1","v":10},11]
[null,null,null,null,"Model column total",{"$f":" MAX(J10:T10)","v":11},"columns"]
[]
[null,null,null,null,{"$f":" E$10","v":"Model column counter"},0,"counter",{"$f":" H$10","v":0},0,{"$f":" J$10","v":1},2,3,4,5,6,7,8,9,10,11]
[null,null,null,null,"1st model column flag",null,"flag",{"$f":" SUM(J14:T14)","v":1},null,{"$f":" IF(J13 = 1, 1, 0)","v":1},{"$f":" IF(K13 = 1, 1, 0)","v":0},0,{"$f":" IF(M13 = 1, 1, 0)","v":0},{"$f":" IF(N13 = 1, 1, 0)","v":0},0,{"$f":" IF(P13 = 1, 1, 0)","v":0},{"$f":" IF(Q13 = 1, 1, 0)","v":0},{"$f":" IF(R13 = 1, 1, 0)","v":0},{"$f":" IF(S13 = 1, 1, 0)","v":0},0]
[]
[null,"Model period beginning"]
[null,null,null,null,{"$f":"InpActive!E12","v":"1st model column start date"},{"$f":"InpActive!F12","v":"2018-04-01"},{"$f":"InpActive!G12","v":"date"}]
[null,null,null,null,{"$f":"InpActive!E$39","v":"Months per model period"},{"$f":"InpActive!F$39","v":12},{"$f":"InpActive!G$39","v":"months"}]
[null,null,null,null,{"$f":" E$14","v":"1st model column flag"},0,"flag",{"$f":" H$14","v":1},0,{"$f":" J$14","v":1},0,0,0,0,0,0,0,0,0,0]
[null,null,null,null,"Model period beginning",null,"date",null,null,{"$f":" IF(J19 = 1, $F17, DATE(YEAR(I20), MONTH(I20) + $F18, DAY(1)))","v":"2018-04-01"},{"$f":" IF(K19 = 1, $F17, DATE(YEAR(J20), MONTH(J20) + $F18, DAY(1)))","v":"2019-04-01"},{"$f":" IF(L19 = 1, $F17, DATE(YEAR(K20), MONTH(K20) + $F18, DAY(1)))","v":"2020-04-01"},{"$f":" IF(M19 = 1, $F17, DATE(YEAR(L20), MONTH(L20) + $F18, DAY(1)))","v":"2021-04-01"},{"$f":" IF(N19 = 1, $F17, DATE(YEAR(M20), MONTH(M20) + $F18, DAY(1)))","v":"2022-04-01"},"2023-04-01",{"$f":" IF(P19 = 1, $F17, DATE(YEAR(O20), MONTH(O20) + $F18, DAY(1)))","v":"2024-04-01"},{"$f":" IF(Q19 = 1, $F17, DATE(YEAR(P20), MONTH(P20) + $F18, DAY(1)))","v":"2025-04-01"},{"$f":" IF(R19 = 1, $F17, DATE(YEAR(Q20), MONTH(Q20) + $F18, DAY(1)))","v":"2026-04-01"},{"$f":" IF(S19 = 1, $F17, DATE(YEAR(R20), MONTH(R20) + $F18, DAY(1)))","v":"2027-04-01"},"2028-04-01"]
[]
[null,"Model period ending"]
[null,null,null,null,{"$f":"InpActive!E$39","v":"Months per model period"},{"$f":"InpActive!F$39","v":12},{"$f":"InpActive!G$39","v":"months"}]
[null,null,null,null,{"$f":" E$20","v":"Model period beginning"},"00:00:00","date","00:00:00","00:00:00","2018-04-01","2019-04-01","2020-04-01","2021-04-01","2022-04-01","2023-04-01","2024-04-01","2025-04-01","2026-04-01","2027-04-01","2028-04-01"]
[null,null,null,null,"Model period ending",null,"date",null,null,{"$f":" DATE(YEAR(J24), MONTH(J24) + $F23, DAY(J24) - 1)","v":"2019-03-31"},{"$f":" DATE(YEAR(K24), MONTH(K24) + $F23, DAY(K24) - 1)","v":"2020-03-31"},"2021-03-31","2022-03-31","2023-03-31","2024-03-31",{"$f":" DATE(YEAR(P24), MONTH(P24) + $F23, DAY(P24) - 1)","v":"2025-03-31"},{"$f":" DATE(YEAR(Q24), MONTH(Q24) + $F23, DAY(Q24) - 1)","v":"2026-03-31"},{"$f":" DATE(YEAR(R24), MONTH(R24) + $F23, DAY(R24) - 1)","v":"2027-03-31"},{"$f":" DATE(YEAR(S24), MONTH(S24) + $F23, DAY(S24) - 1)","v":"2028-03-31"},"2029-03-31"]
[]
[null,null,null,null,{"$f":" E$25","v":"Model period ending"},"00:00:00","date","00:00:00","00:00:00","2019-03-31","2020-03-31","2021-03-31","2022-03-31","2023-03-31","2024-03-31","2025-03-31","2026-03-31","2027-03-31","2028-03-31","2029-03-31"]
[null,null,null,null,{"$f":" E$20","v":"Model period beginning"},"00:00:00","date","00:00:00","00:00:00","2018-04-01","2019-04-01","2020-04-01","2021-04-01","2022-04-01","2023-04-01","2024-04-01","2025-04-01","2026-04-01","2027-04-01","2028-04-01"]
[null,null,null,null,"Days in a year",null,"days",null,null,{"$f":" J27 - J28 + 1","v":365},{"$f":" K27 - K28 + 1","v":366},365,365,365,366,365,365,365,{"$f":" S27 - S28 + 1","v":366},365]
[]
[]
["FORECAST PERIOD"]
[]
[null,"Forecast start period flag"]
[null,null,null,null,{"$f":"InpActive!E$25","v":"Forecast start date"},{"$f":"InpActive!F$25","v":"2020-04-01"},{"$f":"InpActive!G$25","v":"date"}]
[null,null,null,null,{"$f":" E$20","v":"Model period beginning"},"00:00:00","date","00:00:00","00:00:00","2018-04-01","2019-04-01","2020-04-01","2021-04-01","2022-04-01","2023-04-01","2024-04-01","2025-04-01","2026-04-01","2027-04-01","2028-04-01"]
[null,null,null,null,{"$f":" E$25","v":"Model period ending"},"00:00:00","date","00:00:00","00:00:00","2019-03-31","2020-03-31","2021-03-31","2022-03-31","2023-03-31","2024-03-31","2025-03-31","2026-03-31","2027-03-31","2028-03-31","2029-03-31"]
[null,null,null,null,"Forecast start period flag",null,"flag",{"$f":" SUM(J38:T38)","v":1},null,{"$f":" IF(AND($F35 >= J36, $F35 <= J37), 1, 0)","v":0},{"$f":" IF(AND($F35 >= K36, $F35 <= K37), 1, 0)","v":0},1,0,0,0,{"$f":" IF(AND($F35 >= P36, $F35 <= P37), 1, 0)","v":0},{"$f":" IF(AND($F35 >= Q36, $F35 <= Q37), 1, 0)","v":0},{"$f":" IF(AND($F35 >= R36, $F35 <= R37), 1, 0)","v":0},{"$f":" IF(AND($F35 >= S36, $F35 <= S37), 1, 0)","v":0},0]
[]
[null,"Forecast end period flag"]
[null,null,null,null,{"$f":"InpActive!E$25","v":"Forecast start date"},{"$f":"InpActive!F$25","v":"2020-04-01"},{"$f":"InpActive!G$25","v":"date"}]
[null,null,null,null,{"$f":"InpActive!E26","v":"Forecast duration"},{"$f":"InpActive!F26","v":5},{"$f":"InpActive!G26","v":"years"}]
[null,null,null,null,"Forecast end date",{"$f":" DATE(YEAR(F41) + F42, MONTH(F41), DAY(F41) - 1)","v":"2025-03-31"},"date"]
[]
[null,null,null,null,{"$f":" E$43","v":"Forecast end date"},{"$f":" F$43","v":"2025-03-31"},{"$f":" G$43","v":"date"}]
[null,null,null,null,{"$f":" E$20","v":"Model period beginning"},"00:00:00","date","00:00:00","00:00:00","2018-04-01","2019-04-01","2020-04-01","2021-04-01","2022-04-01","2023-04-01","2024-04-01","2025-04-01","2026-04-01","2027-04-01","2028-04-01"]
[null,null,null,null,{"$f":" E$25","v":"Model period ending"},"00:00:00","date","00:00:00","00:00:00","2019-03-31","2020-03-31","2021-03-31","2022-03-31","2023-03-31","2024-03-31","2025-03-31","2026-03-31","2027-03-31","2028-03-31","2029-03-31"]
[null,null,null,null,"Forecast end period flag",null,"flag",{"$f":" SUM(J48:T48)","v":1},null,{"$f":" IF(AND($F45 >= J46, $F45 <= J47), 1, 0)","v":0},{"$f":" IF(AND($F45 >= K46, $F45 <= K47), 1, 0)","v":0},{"$f":" IF(AND($F45 >= L46, $F45 <= L47), 1, 0)","v":0},{"$f":" IF(AND($F45 >= M46, $F45 <= M47), 1, 0)","v":0},0,0,1,0,0,{"$f":" IF(AND($F45 >= S46, $F45 <= S47), 1, 0)","v":0},0]
[]
[null,"Forecast period flag"]
[null,null,null,null,{"$f":" E$38","v":"Forecast start period flag"},{"$f":" F$38","v":0},"flag",{"$f":" H$38","v":1},0,0,0,1,0,0,0,0,0,0,0,0]
[null,null,null,null,{"$f":" E$48","v":"Forecast end period flag"},{"$f":" F$48","v":0},"flag",{"$f":" H$48","v":1},0,0,0,0,0,0,0,1,0,0,0,0]
[null,null,null,null,"Forecast period flag",null,"flag",{"$f":" SUM(J53:T53)","v":5},null,{"$f":" J51 + I53 - I52","v":0},{"$f":" K51 + J53 - J52","v":0},{"$f":" L51 + K53 - K52","v":1},{"$f":" M51 + L53 - L52","v":1},1,1,{"$f":" P51 + O53 - O52","v":1},{"$f":" Q51 + P53 - P52","v":0},{"$f":" R51 + Q53 - Q52","v":0},{"$f":" S51 + R53 - R52","v":0},0]
[null,null,null,null,"Total number of forecast periods ",{"$f":" SUM(J53:R53)","v":5},"periods"]
[]
[null,"Forecast period counter"]
[null,null,null,null,{"$f":"E38","v":"Forecast start period flag"},{"$f":"F38","v":0},"flag",1,0,0,{"$f":"K38","v":0},1,0,0,0,0,0,0,0,0]
[null,null,null,null,{"$f":"E53","v":"Forecast period flag"},{"$f":"F53","v":0},"flag",5,0,0,{"$f":"K53","v":0},1,1,1,1,1,0,0,0,0]
[null,null,null,null,{"$f":"E48","v":"Forecast end period flag"},{"$f":"F48","v":0},"flag",1,0,{"$f":"J48","v":0},{"$f":"K48","v":0},{"$f":"L48","v":0},0,0,0,1,0,0,0,0]
[null,null,null,null,"Forecast period counter",null,"counter",null,null,{"$f":" IF(J57 = 1, 1, I60 + J58 - I59) * J58","v":0},{"$f":" IF(K57 = 1, 1, J60 + K58 - J59) * K58","v":0},{"$f":" IF(L57 = 1, 1, K60 + L58 - K59) * L58","v":1},{"$f":" IF(M57 = 1, 1, L60 + M58 - L59) * M58","v":2},{"$f":" IF(N57 = 1, 1, M60 + N58 - M59) * N58","v":3},4,5,0,0,0,0]
[]
[null,"Pre-forecast period flag"]
[null,null,null,null,{"$f":" E$14","v":"1st model column flag"},{"$f":" F$14","v":0},"flag",1,0,1,0,0,0,0,0,0,0,0,0,0]
[null,null,null,null,{"$f":" E$38","v":"Forecast start period flag"},{"$f":" F$38","v":0},"flag",1,0,0,0,1,0,0,0,0,0,0,0,0]
[null,null,null,null,"Pre-forecast period flag",null,"flag",{"$f":" SUM(J65:T65)","v":2},null,{"$f":" J63 + I65 - J64","v":1},{"$f":" K63 + J65 - K64","v":1},{"$f":" L63 + K65 - L64","v":0},{"$f":" M63 + L65 - M64","v":0},0,0,{"$f":" P63 + O65 - P64","v":0},{"$f":" Q63 + P65 - Q64","v":0},{"$f":" R63 + Q65 - R64","v":0},{"$f":" S63 + R65 - S64","v":0},0]
[null,null,null,null,"Pre-forecast period flag - total",{"$f":" SUM(J65:T65)","v":2},"periods"]
[]
[null,null,null,null,{"$f":" E$38","v":"Forecast start period flag"},{"$f":" F$38","v":0},"flag",1,0,{"$f":" J$38","v":0},0,1,0,0,0,0,0,0,0,0]
[null,null,null,null,"Last pre-forecast period flag",null,"flag",{"$f":" SUM(J69:T69)","v":{"$error":"#REF!"}},null,{"$f":" K68","v":0},{"$f":" L68","v":1},{"$f":" M68","v":0},{"$f":" N68","v":0},0,0,{"$f":" Q68","v":0},{"$f":" R68","v":0},{"$f":" S68","v":0},{"$f":" T68","v":0},{"$f":"#REF!","v":{"$error":"#REF!"}}]
[]
[null,"First post-forecast period flag"]
[null,null,null,null,{"$f":" E$48","v":"Forecast end period flag"},{"$f":" F$48","v":0},"flag",1,0,{"$f":" J$48","v":0},0,0,0,0,0,1,0,0,0,0]
[null,null,null,null,"First post-forecast period flag",null,"flag",{"$f":" SUM(J73:T73)","v":1},null,{"$f":" I72","v":0},{"$f":" J72","v":0},{"$f":" K72","v":0},{"$f":" L72","v":0},0,0,{"$f":" O72","v":0},{"$f":" P72","v":1},{"$f":" Q72","v":0},{"$f":" R72","v":0},0]
[]
[null,"Post-forecast period flag"]
[null,null,null,null,{"$f":" E$73","v":"First post-forecast period flag"},0,"flag",1,0,0,0,0,0,0,0,0,1,0,0,0]
[null,null,null,null,"Post-forecast period flag",null,"flag",{"$f":" SUM(J77:T77)","v":4},null,{"$f":" J76 + I77","v":0},{"$f":" K76 + J77","v":0},{"$f":" L76 + K77","v":0},{"$f":" M76 + L77","v":0},0,0,{"$f":" P76 + O77","v":0},{"$f":" Q76 + P77","v":1},{"$f":" R76 + Q77","v":1},{"$f":" S76 + R77","v":1},1]
[null,null,null,null,"Post-forecast period - total",{"$f":" SUM(J77:T77)","v":4},"periods"]
[]
[null,"Model period flag"]
[null,null,null,null,{"$f":" E$53","v":"Forecast period flag"},{"$f":" F$53","v":0},"flag",5,0,0,0,1,1,1,1,1,0,0,0,0]
[null,null,null,null,{"$f":" E$65","v":"Pre-forecast period flag"},{"$f":" F$65","v":0},"flag",2,0,1,1,0,0,0,0,0,0,0,0,0]
[null,null,null,null,"Model period flag",null,"flag",{"$f":" SUM(J83:T83)","v":7},null,{"$f":" MAX(J81:J82)","v":1},{"$f":" MAX(K81:K82)","v":1},1,1,1,1,1,0,0,{"$f":" MAX(S81:S82)","v":0},0]
[]
[null,"Forecast year"]
[null,null,null,null,{"$f":" E$130","v":"Financial year ending"},{"$f":" F$130","v":0},"year #",0,0,2019,2020,2021,2022,2023,2024,2025,2026,2027,2028,2029]
[null,null,null,null,{"$f":" E$38","v":"Forecast start period flag"},{"$f":" F$38","v":0},"flag",1,0,0,0,1,0,0,0,0,0,0,0,0]
[null,null,null,null,"Forecast year 1",{"$f":" SUMPRODUCT(J87:T87, J86:T86)","v":2021},"year #"]
[]
[null,"Forecast year"]
[null,null,null,null,{"$f":" InpActive!E$29","v":"Forecast period reconcilation is profiled from"},{"$f":" InpActive!F$29","v":3},{"$f":" InpActive!G$29","v":"year"}]
[null,null,null,null,{"$f":"E60","v":"Forecast period counter"},0,"counter",0,0,0,0,1,2,3,4,5,0,0,0,0]
[null,null,null,null,"Start of adjustment profiling flag",null,"counter",{"$f":" SUM(J93:T93)","v":3},null,{"$f":" IF(J92 >= $F91, 1, 0)","v":0},{"$f":" IF(K92 >= $F91, 1, 0)","v":0},0,0,1,1,1,0,0,0,0]
[]
["MODEL TIMELINE"]
[]
[null,"Timeline label"]
[null,null,null,null,{"$f":" E$14","v":"1st model column flag"},0,"flag",1,0,1,0,0,0,0,0,0,0,0,0,0]
[null,null,null,null,{"$f":" E$38","v":"Forecast start period flag"},{"$f":" F$38","v":0},"flag",1,0,0,0,1,0,0,0,0,0,0,0,0]
[null,null,null,null,{"$f":" E$73","v":"First post-forecast period flag"},0,"flag",1,0,0,0,0,0,0,0,0,1,0,0,0]
[null,null,null,null,"Timeline label counter",null,"counter",null,null,{"$f":" I101 + SUM(J98:J100)","v":1},{"$f":" J101 + SUM(K98:K100)","v":1},{"$f":" K101 + SUM(L98:L100)","v":2},{"$f":" L101 + SUM(M98:M100)","v":2},2,2,{"$f":" O101 + SUM(P98:P100)","v":2},{"$f":" P101 + SUM(Q98:Q100)","v":3},{"$f":" Q101 + SUM(R98:R100)","v":3},{"$f":" R101 + SUM(S98:S100)","v":3},3]
[]
[null,null,null,null,{"$f":"InpActive!E19","v":"Pre - forecast period"},{"$f":"InpActive!F19","v":"Pre-Fcst"},{"$f":"InpActive!G19","v":"label"}]
[null,null,null,null,{"$f":"InpActive!E20","v":"Forecast period"},{"$f":"InpActive!F20","v":"Forecast"},{"$f":"InpActive!G20","v":"label"}]
[null,null,null,null,{"$f":"InpActive!E21","v":"Post - forecast period"},{"$f":"InpActive!F21","v":"Post-Fcst"},{"$f":"InpActive!G21","v":"label"}]
[null,null,null,null,{"$f":" E$101","v":"Timeline label counter"},0,"counter",0,0,1,1,2,2,2,2,2,3,3,3,3]
[null,null,null,null,"Timeline label",null,"label",null,null,{"$f":" INDEX($F103:$F105, J106)","v":"Pre-Fcst"},{"$f":" INDEX($F103:$F105, K106)","v":"Pre-Fcst"},{"$f":" INDEX($F103:$F105, L106)","v":"Forecast"},{"$f":" INDEX($F103:$F105, M106)","v":"Forecast"},{"$f":" INDEX($F103:$F105, N106)","v":"Forecast"},{"$f":" INDEX($F103:$F105, O106)","v":"Forecast"},{"$f":" INDEX($F103:$F105, P106)","v":"Forecast"},{"$f":" INDEX($F103:$F105, Q106)","v":"Post-Fcst"},{"$f":" INDEX($F103:$F105, R106)","v":"Post-Fcst"},{"$f":" INDEX($F103:$F105, S106)","v":"Post-Fcst"},"Post-Fcst"]
[]
[null,"Modelling period check"]
[null,null,null,null,{"$f":" E$65","v":"Pre-forecast period flag"},{"$f":" F$65","v":0},"flag",2,0,1,1,0,0,0,0,0,0,0,0,0]
[null,null,null,null,{"$f":" E$53","v":"Forecast period flag"},{"$f":" F$53","v":0},"flag",5,0,0,0,1,1,1,1,1,0,0,0,0]
[null,null,null,null,{"$f":" E$77","v":"Post-forecast period flag"},0,"flag",4,0,0,0,0,0,0,0,0,1,1,1,1]
[null,null,null,null,"No. of overlapping in flags",null,"#",{"$f":" SUM(J113:T113)","v":0},null,{"$f":" MAX(0, SUM(J110:J112) - 1)","v":0},{"$f":" MAX(0, SUM(K110:K112) - 1)","v":0},{"$f":" MAX(0, SUM(L110:L112) - 1)","v":0},{"$f":" MAX(0, SUM(M110:M112) - 1)","v":0},{"$f":" MAX(0, SUM(N110:N112) - 1)","v":0},0,{"$f":" MAX(0, SUM(P110:P112) - 1)","v":0},{"$f":" MAX(0, SUM(Q110:Q112) - 1)","v":0},{"$f":" MAX(0, SUM(R110:R112) - 1)","v":0},{"$f":" MAX(0, SUM(S110:S112) - 1)","v":0},0]
[null,null,null,null,"Overlapping in periods - total",{"$f":" SUM(J113:T113)","v":0},"periods"]
[]
[null,null,null,null,{"$f":" E$11","v":"Model column total"},{"$f":" F$11","v":11},{"$f":" G$11","v":"columns"}]
[null,null,null,null,{"$f":" E$114","v":"Overlapping in periods - total"},{"$f":" F$114","v":0},{"$f":" G$114","v":"periods"}]
[null,null,null,null,{"$f":" E$66","v":"Pre-forecast period flag - total"},{"$f":" F$66","v":2},{"$f":" G$66","v":"periods"}]
[null,null,null,null,{"$f":" E$54","v":"Total number of forecast periods "},{"$f":" F$54","v":5},{"$f":" G$54","v":"periods"}]
[null,null,null,null,{"$f":" E$78","v":"Post-forecast period - total"},{"$f":" F$78","v":4},{"$f":" G$78","v":"periods"}]
[null,null,null,null,"Modelling period check",{"$f":" IF(SUM(F116:F117) - SUM(F118:F120) <> 0, 1, 0)","v":0},"check"]
[]
[]
["FINANCIAL YEAR"]
[]
[null,null,null,null,{"$f":"InpActive!E15","v":"First modelling column financial year #"},{"$f":"InpActive!F15","v":2019},{"$f":"InpActive!G15","v":"year #"}]
[null,null,null,null,{"$f":"InpActive!E16","v":"Financial year end month number #"},{"$f":"InpActive!F16","v":3},{"$f":"InpActive!G16","v":"month #"}]
[null,null,null,null,{"$f":" E$25","v":"Model period ending"},"00:00:00","date","00:00:00","00:00:00","2019-03-31","2020-03-31","2021-03-31","2022-03-31","2023-03-31","2024-03-31","2025-03-31","2026-03-31","2027-03-31","2028-03-31","2029-03-31"]
[null,null,null,null,{"$f":" E$14","v":"1st model column flag"},0,"flag",1,0,1,0,0,0,0,0,0,0,0,0,0]
[null,null,null,null,"Financial year ending",null,"year #",null,null,{"$f":" IF(J129 = 1, $F126, IF(J128 > (DATE(I130, $F127 + 1, 1) - 1), I130 + 1, I130))","v":2019},{"$f":" IF(K129 = 1, $F126, IF(K128 > (DATE(J130, $F127 + 1, 1) - 1), J130 + 1, J130))","v":2020},{"$f":" IF(L129 = 1, $F126, IF(L128 > (DATE(K130, $F127 + 1, 1) - 1), K130 + 1, K130))","v":2021},{"$f":" IF(M129 = 1, $F126, IF(M128 > (DATE(L130, $F127 + 1, 1) - 1), L130 + 1, L130))","v":2022},2023,2024,{"$f":" IF(P129 = 1, $F126, IF(P128 > (DATE(O130, $F127 + 1, 1) - 1), O130 + 1, O130))","v":2025},{"$f":" IF(Q129 = 1, $F126, IF(Q128 > (DATE(P130, $F127 + 1, 1) - 1), P130 + 1, P130))","v":2026},{"$f":" IF(R129 = 1, $F126, IF(R128 > (DATE(Q130, $F127 + 1, 1) - 1), Q130 + 1, Q130))","v":2027},{"$f":" IF(S129 = 1, $F126, IF(S128 > (DATE(R130, $F127 + 1, 1) - 1), R130 + 1, R130))","v":2028},2029]
[]
[]
["End of sheet"]

{"sheet":"WINEP_Inputs","index":7,"n_rows":544,"n_cols":111,"rows_kept":544,"cut":false,"hidden":false,"merged":[[1,18,1,19],[2,102,2,104],[2,105,2,107],[2,108,2,110]]}
["WINEP3  Update March 2019",null,null,null,null,null,null,"National Full data set "]
[null,null,null,null,null,null,null,null,null,null,null,null,null,null,null,null,null,null,null,null,null,null,null,null,null,null,null,null,null,null,null,null,null,null,"FBG Detail"]
["Draft determination published version",null,null,null,null,null,null,null,null,null,null,null,null,null,null,null,null,null,null,null,null,null,null,null,null,null,null,null,null,null,null,null,null,null,"SSSI/N2K/Ramsar",null,null,null,null,"Eels",null,"NERC Driver",null,null,null,null,null,null,null,"INNS",null,"MCZ","Water Quality Detail",null,null,null,null,null,null,null,null,null,null,null,null,null,null,null,null,null,null,null,null,null,null,"Water Resource Detail",null,null,null,null,null,null,null,null,null,"Environmental Outcome ",null,null,null,null,null,null,null,null,null,"WINEP model inputs",null,null,null,null,null,null,"DD Published model review and amendments ",null,null,"Ofwat group 2&3 FD formula calculations",null,null,"Final Determination model review and additional amends"]
["WINEPID","Change Log Winep 2 to 3  ","NEW Column. Has an alteration to this measure been made? If Y then please refer to alterations log. ","Application in determination by NPS?","Has a permit been issued?","Function","RBD","Area","Water Company ","Unique ID *   (completed on company collation)","Scheme Name/Name of Investigation/Site Name/Licence name","Name of Waterbody","Waterbody ID","Water Body Type(s)","WFD Operational Catchment","Blank Column","Blank Column","Blank Column","Driver Code \n(Primary)","Further Driver Code Information \n(related to the primary driver if applicable)","Driver Code \n(Secondary)","Further Driver Code Information \n(related to the secondary driver if applicable)","Driver Code\n(Tertiary)","Further Driver Code Information \n(related to the tertiary driver if applicable)","Measure Type","Completion Date (DD/MM/YY)","Level of Certainty? (P= Purple, R=Red, A=Amber, G=Green","Abstraction Licence/ Permit, Obstruction ID or No Obstruction ID","Eastings","Northings","Investigation Type","Investigation Scope","Implementation Scope","Groundwater Measures Information","Name of SSSI \n(if applicable)","Name of N2K/Ramsar site \n(if applicable)","SSSI/N2K/Ramsar Unit ID","SSSI/N2K/Ramsar Area of Unit (Hectares)","Justification for Action/Investigation","Eel Priority Status","Eel Improvement Type ","Primary Type of Priority Habitat Created or Restored/Improved","Secondary Type of Priority Habitat Created or Restored/Improved","Other Priority Habitat Created or Restored/Improved","Type of Action Taken","Units Recorded (Hectare or km)","Number of Hectares or Kms","Name of Priority Species","Name of High Risk of Extinction Species","INNS Control Measure","INNS Species \n(if applicable)","Name of MCZ","Name of Bathing Water \n(where applicable)","Name of Shellfish Water \n(where applicable)","Chemical of Interest \n(for chemicals measures only)","Groundwater Chemicals","Drinking Water Inspectorate - Undertaking or Notice \nY/N","DrWPA Substances at Risk\n(if applicable)","Safeguard Zone Name \n(if applicable)","Safeguard Zone ID \n(if applicable)","Population Equivalent for STWs ","Current Permit Limit (mg/l)","Proposed Permit Limit (mg/l)","Proposed Iron or Aluminium Limits \n(for Phosphorus measures only)","Current DWF (m3/d)","Proposed DWF (m3/d) \n(if applicable)","Proposed Permit Limit Other","Catchment Measure Actions ","Unsustainable Abstraction System Code","Linked Groundwater Body Name","Linked Groundwater Body ID","Licence Category","Water Resource Zone \n(WRZ)","WR HMWB Flag  \n(X)","Scheme Relates to Following Missing Mitigation Measures \n(HMWB only)","Annual Licence Volume (Ml/a)","Daily Licence Volume (Ml/d)","Aggregate Licence (x)","Sustainability Change (to Annual Licence Volume) \nMl/a","Sustainability Change (to Daily Licence Volume) \nMl/d","Sustainability Change (to HoF Condition) \nMl/d","*NEW* \nWater returned to the environment (Reduction in actual abstraction) ML/d","New Annual Licence Volume \n(Ml/a)","New Daily Licence Volume \n(Ml/d)","New HoF Condition \n(Ml/d)","Quantitative\nKm River Length Improved or Protected ","Quantitative\nArea (km2) Improved or Protected","Volume (Ml/yr) Drinking Water Protected","Hectares of Designated Site (HD/RAMSAR/\nSSSI) Restored or Improved","*NEW* \nINNS ,No Det outcome - Km2 of land with reduced risk of INNS","Delivers Additional FCERM Benefits \n(Y/N)","Delivers on Salmon 5-Point Action Plan","Additional Comments","CPS Reference","Flow Categorisation\n1= PR19 Synergy\n2= WFD failure\n3= Neither","Allowed totex unit rate","Quantity proposed in PR19 FD","Quantity Delivered","1 = In PR19, funded\n0 = In PR19, not funded","Price Control","Unit","Unit Conversion to £m","Water company comment","Ofwat review and/or amend comment (individual cell amends in purple)","Funding clawback","Totex calc - where qty delivered is 1 (delivery in AMP7)","Totex calc - Including all in that group (excludes removal) ","Shortfall in capacity being addressed and volume of new or additional storage provided for groups 2 and 3, respectively (l/s for group 2 and m3 for group 3) from column CY","Ofwat review and/or amend comment","Approved Date","Ofwat amend (individual cell amends in blue)"]
["SSD00101","Changed",null,null,null,"WR","South East","Solent and South Downs","Southern Water Services Ltd","7SO200246","ANDOVER (ANTON AND PILLHILL BROOK RSA)","Anton - Upper","GB107042022810","River","Test Upper and Middle",null,null,null,"WFD_IMP_WRFlow",null,null,null,null,null,"Sustainability Change","2022-03-31","Amber","34/252",436870,146690,null,null,null,null,null,null,null,null,null,null,null,null,null,null,null,null,null,null,null,null,null,null,null,null,null,null,null,null,null,null,null,null,null,null,null,null,null,null,null,null,null,"CAT 4","Isle of Wight",null,null,"5,846",null,null,null,11.37,null,null,null,8.5299999999999994,null,null,null,null,null,null,null,null,"Investigation currently underway (action in previous NEP) Information given for if a sustainability change is the solution (Andover Licence)",null,null,9.8000000000000004E-2,1,1,1,"WR","£m per scheme",1,"Expected to be delivered by target date."]
["SSD00109","Changed",null,null,null,"WR","South East","Solent and South Downs","Southern Water Services Ltd","7SO1000193","CARISBROOKE (PLAISH MEADOWS AND LUKELY BROOK RSA)","Carisbrooke","GB107101006250","River","Isle of Wight Rivers",null,null,null,"WFD_IMP_WRFlow",null,null,null,null,null,"Sustainability Change","2022-03-31","Amber","12/101/3/G/41",null,null,null,null,null,null,null,null,null,null,null,null,null,null,null,null,null,null,null,null,null,null,null,null,null,null,null,null,null,null,null,null,null,null,null,null,null,null,null,null,null,"IOW Central Downs Chalk","GB40701G503201","CAT 4","Isle of Wight",null,null,5620,22.4,null,null,14.06,null,null,null,8.34,null,null,null,null,null,null,null,null,"Investigation currently underway (action in previous NEP) Information given for if a sustainability change is the solution.",null,null,9.8000000000000004E-2,1,1,1,"WR","£m per scheme",1,"Expected to be delivered by target date."]
["SSD00110","Changed",null,null,null,"WR","South East","Solent and South Downs","Southern Water Services Ltd","7SO1000194","BOWCOMBE (PLAISH MEADOWS AND LUKELY BROOK RSA) ","Carisbrooke","GB107101006250","River","Isle of Wight Rivers",null,null,null,"WFD_IMP_WRFlow",null,null,null,null,null,"Sustainability Change","2022-03-31","Amber","12/101/3/G/42",447300,86800,null,null,null,null,null,null,null,null,null,null,null,null,null,null,null,null,null,null,null,null,null,null,null,null,null,null,null,null,null,null,null,null,null,null,null,null,null,null,null,"IOW Central Downs Chalk","GB40701G503200","CAT 5","Isle of Wight",null,null,3040,13.5,null,null,11.43,null,null,null,2.0699999999999998,null,null,null,null,null,null,null,null,"Investigation currently underway (action in previous NEP) Information given for if a sustainability change is the solution.",null,null,9.8000000000000004E-2,1,1,1,"WR","£m per scheme",1,"Expected to be delivered by target date."]
["SSD00177","Changed",null,null,null,"WQ","South East","Solent and South Downs","Southern Water Services Ltd","7SO200256","Investigation to determine the costs and technical feasibility of reaching or maintaining revised CSMG water quality targets for the Lymington River SSSI. ","Catchment Scale: - see additional comments","Catchment Scale: - see additional comments","Catchment Scale: - see additional comments","Catchment Scale: - see additional comments",null,null,null,"SSSI_INV",null,null,null,null,null,"Investigation and Options Appraisal","2022-03-31","Amber",null,null,null,"Tier 3","Catchment scale investigation into the contribution of water company assets to non-compliance or risk of deterioration from water quality rCSMG long term targets, and an options appraisal of achieving or preventing deterioration from these targets, considering the costs and technical feasibility. This should include an assessment of the impact on flow in the river, and identification of the preferred option.",null,null,"LYMINGTON RIVER",null,1019177,34.840000000000003,"New targets required to meet conservation objective standards since PR14 (CSMG)",null,null,null,null,null,null,null,null,null,null,null,null,null,null,null,null,null,null,null,null,null,null,null,null,null,null,null,null,null,null,null,"",null,null,null,null,null,null,null,null,null,null,null,null,null,null,null,null,null,null,null,null,null,"The Environment Agency and Natural England are aiming to agree rCSMG targets before the start of AMP7. Whether a PR19 investigation is required, the water quality determinands, and whether an improvement or prevent deterioration investigation is required to be confirmed. Water company assets discharging to the site or its catchment are within scope. Scope to be defined with Southern Water Services and Natural England. Further information about the scale/extent of rCSMG investigations can be found in the \"WQ guidance for scoping water company PR19 HD investigations\".",null,null,0.114,1,1,1,"WWN","£m",1,"Expected to be delivered by target date."]
["SSD00199","Changed",null,null,null,"FBG","South East","Solent and South Downs","Southern Water Services Ltd","7SO200272","River Itchen Wetlands","Itchen","GB107042022580","River","Itchen",null,null,null,"NERC_INV1","Other",null,null,null,null,"Investigation and Options Appraisal","2022-03-31","Amber","Otterbourne 11/42/22.7/94. Twyford 11/42/22.6/92. Totford and Easton 11/42/22.4/80. Note scope may need to be extended.",null,null,"Tier 2","Investigation to look at the impact of abstraction on priority river and floodplain habitat, and the species that they support. The Itchen valley supports areas of chalk river and priority floodplain habitat that fall outside of the SSSI/SAC boundary. These high value habitats, and the species they support have not been considered during previous studies. An investigation is required to look at the impact of abstraction on these areas of the catchment. The works should include a focus on current impacts, future resilience to drought, including the potential need for restoration, habitat enhancement to ensure future resilience. To include areas of priority floodplain habitat outside of the SSSI boundary. This is because the SSSI boundary is not an absolute, areas of priority habitat will fall outside of the boundary but still potentially within the zone of influence of abstraction. The investigation should also consider reaches of river that fall outside of the SSSI/SAC boundary, such as the upper Itchen tributaries. ",null,null,null,null,null,null,null,null,null,"Lowland fen","Chalk river",null,null,null,null,null,null,null,null,null,null,null,null,null,null,null,null,null,null,null,null,null,null,null,null,null,null,null,"",null,null,null,null,null,null,null,null,null,null,null,null,null,null,null,null,null,null,null,null,null,"Overlaps with and could be part of a single scope with SSD00198, and overlaps with SSD00138, SSD00153, SSD00154. ",null,null,0.11,1,1,1,"WR","£m per scheme",1,"Expected to be delivered by target date."]
["SSD00202","Changed",null,null,null,"FBG","South East","Solent and South Downs","Southern Water Services Ltd","7SO200274","River Itchen Southern Damselfly investigation/options appraisal","Itchen","GB107042022580","River","Itchen ",null,null,null,"NERC_INV1","Other",null,null,null,null,"Investigation and Options Appraisal","2022-03-31","Amber","Otterbourne 11/42/22.7/94 Twyford 11/42/22.6/92. Note scope may need to be extended.",null,null,"Tier 2","Investigation/options appraisal to consider habitat restoration, enhancement and creation. This could look at land around Otterbourne: Twyford Moors / Manor Farm but not limited to this area. ",null,null,null,null,null,null,null,null,null,null,null,null,null,null,null,"Southern Damselfly",null,null,null,null,null,null,null,null,null,null,null,null,null,null,null,null,null,null,null,null,null,null,"",null,null,null,null,null,null,null,null,null,null,null,null,null,null,null,null,null,null,null,null,null,"Could be amalgamated with SSD00201. In amber for WINEP3 because water company support/agreement is uncertain. ",null,null,0.11,1,1,1,"WR","£m per scheme",1,"Expected to be delivered by target date."]
["SSD00327","Changed",null,null,null,"WQ","South East","Solent and South Downs","Southern Water Services Ltd","7SO200340","Buriton WWTW","Stanbridge Stream","GB107041012790","River","Rother Western",null,null,null,"WFD_IMPg","Ammonia",null,null,null,null,"Continuous Discharge","2024-12-22","Amber","W00325","474220","120630",null,null,null,null,null,null,null,null,null,null,null,null,null,null,null,null,null,null,null,null,null,null,null,null,null,null,null,null,null,null,523,"20 mg/l(95%ile)","8 mg/l(95%ile)",null,151,null,null,null,null,null,null,null,null,null,null,null,null,null,null,null,null,null,null,null,null,4.3,null,null,null,null,null,null,"Permit no. 10/2/23. Part of a cost benefical bundle.",null,null,1.1659999999999999,1,1,1,"WWN","£m",1,"Expected to be delivered by target date."]
["SSD00396","Changed",null,null,null,"WQ","South East","Solent and South Downs","Southern Water Services Ltd","7SO200409","Chiddingfold WWTW","Loxwood Stm-Hambledon Trb","GB107041017980","River","Arun Upper",null,null,null,"WFD_IMPg","Biochemical Oxygen Demand / Dissolved Oxygen",null,null,null,null,"Continuous Discharge","2024-12-22","Amber","A01131",496900,136700,null,null,null,null,null,null,null,null,null,null,null,null,null,null,null,null,null,null,null,null,null,null,null,null,null,null,null,null,null,null,3398,"20 mg/l(95%ile)","10 mg/l(95%ile)",null,639,null,null,null,null,null,"",null,null,null,null,null,null,null,null,null,null,null,null,null,null,2.6,null,null,null,null,null,null,"Permit no. COPA/178. Part of a cost beneficial bundle.",null,null,1.1659999999999999,1,1,1,"WWN","£m",1,"Expected to be delivered by target date."]
["SSD00334","Changed",null,null,null,"WQ","South East","Solent and South Downs","Southern Water Services Ltd","7SO200347","Ashington WWTW","Honeybridge Stream","GB107041012120","River","Adur Upper",null,null,null,"WFD_IMPg","Phosphorus",null,null,null,null,"Continuous Discharge","2024-12-22","Amber","A01183",513610,115570,null,null,null,null,null,null,null,null,null,null,null,null,null,null,null,null,null,null,null,null,null,null,null,null,null,null,null,null,null,null,4884,"1 mg/l AA","0.5 mg/l AA","Fe: 4mg/l (95%) 8mg/l (UT)",825,null,null,null,null,null,null,null,null,null,null,null,null,null,null,null,null,null,null,null,null,6.5,null,null,null,null,null,null,"(Permit no. A.1183/S/02)",null,null,{"$f":"(0.125605*(SUM(BI13:BI48,BI50:BI77)/1000))+(0.706748*(COUNTA(K13:K48,K50:K77)-1))+(1.65945*(COUNTA(BK13:BK16,BK21:BK23,BK25,BK27:BK32,BK35,BK37:BK41,BK43,BK47:BK48,BK50:BK51,BK56:BK60,BK63,BK65:BK77,BK19)))","v":180.98836241500001},1,1,1,"WWN","£m",1,"Allowed totex rate is the total for 64 Amber P lines (rows 13 to 54 and 56 to 77), using the formula: 0.125605A + 0.706748B + 1.65945C where: A is the population equivalent served (in ‘000) B is the no. of STWs being enhanced, and C is the no. of STWs being enhanced where the proposed P consent limit is <=0.5mg/l. PE served figures are taken from the Population Equivalent for STWs in WINEP.\n\nAshington expected to be delivered by target date.",null,null,null,null,null,"The calculation in cell CR13 removes Pagham (row 49: 7SO200397) as this should be carry over to AMP8 as per new August EA information. Water company queried to check. 03/10/2024: Query to water company OFW-REP-SRN-052 return confirms the additional need to carry over Pagham 7SO200397 (row 49). See Model Inputs for row 49 for totex clawback and carry over for the Pagham scheme at £3.47m","2025-05-31","Please see cells DE13 and DE49 for more information "]
["SSD00335","Changed",null,null,null,"WQ","South East","Solent and South Downs","Southern Water Services Ltd","7SO200348","Balcombe WWTW","Ouse from Slaugham to Ardingly Resevoir","GB107041012730","River","Ouse Upper",null,null,null,"WFD_IMPg","Phosphorus",null,null,null,null,"Continuous Discharge","2024-12-22","Amber","A01510",531281,128418,null,null,null,null,null,null,null,null,null,null,null,null,null,null,null,null,null,null,null,null,null,null,null,null,null,null,null,null,null,null,1703,"1 mg/l AA","0.5 mg/l AA","Fe: 4mg/l (95%) 8mg/l (UT)",614,null,null,null,null,null,null,null,null,null,null,null,null,null,null,null,null,null,null,null,null,1.4,null,null,null,null,null,null,"(Permit no. A.1510/S/07)",null,null,0,1,1,1,"WWN","£m",1,"See comment for WINEP ID 7SO200347. Expected to be delivered by target date."]
["SSD00336","Changed",null,null,null,"WQ","South East","Solent and South Downs","Southern Water Services Ltd","7SO200349","Barcombe New WWTW","Bevern Stream","GB107041012570","River","Ouse Upper",null,null,null,"WFD_IMPg","Phosphorus",null,null,null,null,"Continuous Discharge","2024-12-22","Amber","W00362",541335,116897,null,null,null,null,null,null,null,null,null,null,null,null,null,null,null,null,null,null,null,null,null,null,null,null,null,null,null,null,null,null,3651,"N/A","0.25 mg/l AA","Fe: 4mg/l (95%) 8mg/l (UT)",623,null,null,null,null,null,null,null,null,null,null,null,null,null,null,null,null,null,null,null,null,4.0999999999999996,null,null,null,null,null,null,"(Permit no. 62/1/804) ",null,null,0,1,1,1,"WWN","£m",1,"See comment for WINEP ID 7SO200347. Expected to be delivered by target date."]
["SSD00338","Changed",null,null,null,"WQ","South East","Solent and South Downs","Southern Water Services Ltd","7SO200351","Bishops Waltham WWTW","Upper Hamble","GB107042016280","River","East Hampshire Rivers",null,null,null,"WFD_IMPg","Phosphorus",null,null,null,null,"Continuous Discharge","2024-12-22","Amber","W00006",454275,116156,null,null,null,null,null,null,null,null,null,null,null,null,null,null,null,null,null,null,null,null,null,null,null,null,null,null,null,null,null,null,15238,"2 mg/l AA","0.4 mg/l AA","Fe: 4mg/l (95%) 8mg/l (UT)",3100,null,null,null,null,null,null,null,null,null,null,null,null,null,null,null,null,null,null,null,null,4.8,null,null,null,null,null,null,"(Permit no. COPA/10818)",null,null,0,1,1,1,"WWN","£m",1,"See comment for WINEP ID 7SO200347. Expected to be delivered by target date."]
["SSD00339","Changed",null,null,null,"WQ","South East","Solent and South Downs","Southern Water Services Ltd","7SO200352","Blackstone WWTW","Chess Stream","GB107041012110","River","Adur Upper",null,null,null,"WFD_IMPg","Phosphorus",null,null,null,null,"Continuous Discharge","2024-12-22","Amber","W00097",524280,116680,null,null,null,null,null,null,null,null,null,null,null,null,null,null,null,null,null,null,null,null,null,null,null,null,null,null,null,null,null,null,131,"N/A","2 mg/l AA","Fe: 4mg/l (95%) 8mg/l (UT)","n/a",null,null,null,null,null,null,null,null,null,null,null,null,null,null,null,null,null,null,null,null,0.9,null,null,null,null,null,null,"(Permit no. COPA/5754 ) ",null,null,0,1,1,1,"WWN","£m",1,"See comment for WINEP ID 7SO200347. Expected to be delivered by target date."]
["SSD00340","Changed",null,null,null,"WQ","South East","Solent and South Downs","Southern Water Services Ltd","7SO200353","Boldre WWTW","Lymington River","GB107042011220","River","New Forest - Lymington and Beaulieu",null,null,null,"WFD_IMPg","Phosphorus",null,null,null,null,"Continuous Discharge","2024-12-22","Amber","W00242",432090,98890,null,null,null,null,null,null,null,null,null,null,null,null,null,null,null,null,null,null,null,null,null,null,null,null,null,null,null,null,null,null,650,"N/A","1 mg/l AA","Fe: 4mg/l (95%) 8mg/l (UT)",200,null,null,null,null,null,null,null,null,null,null,null,null,null,null,null,null,null,null,null,null,1.7,null,null,null,null,null,null,"(Permit no. 51/80) ",null,null,0,1,1,1,"WWN","£m",1,"See comment for WINEP ID 7SO200347. Expected to be delivered by target date."]
["SSD00341","Changed",null,null,null,"WQ","South East","Solent and South Downs","Southern Water Services Ltd","7SO200354","Brockenhurst WWTW","Lymington River","GB107042011220","River","New Forest - Lymington and Beaulieu",null,null,null,"WFD_IMPg","Phosphorus",null,null,null,null,"Continuous Discharge","2024-12-22","Amber","W00311",431158,102777,null,null,null,null,null,null,null,null,null,null,null,null,null,null,null,null,null,null,null,null,null,null,null,null,null,null,null,null,null,null,4261,"1 mg/l AA","0.5 mg/l AA","Fe: 4mg/l (95%) 8mg/l (UT)",1233,null,null,null,null,null,null,null,null,null,null,null,null,null,null,null,null,null,null,null,null,1.7,null,null,null,null,null,null,"(Permit no. PP(A)38/54/H18/76) ",null,null,0,1,1,1,"WWN","£m",1,"See comment for WINEP ID 7SO200347. Expected to be delivered by target date."]
["SSD00342","Changed",null,null,null,"WQ","South East","Solent and South Downs","Southern Water Services Ltd","7SO200355","Buriton WWTW","Stanbridge Stream","GB107041012790","River","Rother Western",null,null,null,"WFD_IMPg","Phosphorus",null,null,null,null,"Continuous Discharge","2024-12-22","Amber","W00325",474220,120630,null,null,null,null,null,null,null,null,null,null,null,null,null,null,null,null,null,null,null,null,null,null,null,null,null,null,null,null,null,null,523,"N/A","0.7 mg/l AA","Fe: 4mg/l (95%) 8mg/l (UT)",151,null,null,null,null,null,null,null,null,null,null,null,null,null,null,null,null,null,null,null,null,4.3,null,null,null,null,null,null,"(Permit no. 10/2/2023)",null,null,0,1,1,1,"WWN","£m",1,"See comment for WINEP ID 7SO200347. Expected to be delivered by target date."]
["SSD00343","Changed",null,null,null,"WQ","South East","Solent and South Downs","Southern Water Services Ltd","7SO200356","Calbourne WWTW","Caul Bourne","GB107101006020","River","Isle of Wight Rivers",null,null,null,"WFD_IMPg","Phosphorus",null,null,null,null,"Continuous Discharge","2024-12-22","Amber","A00191",442049,86880,null,null,null,null,null,null,null,null,null,null,null,null,null,null,null,null,null,null,null,null,null,null,null,null,null,null,null,null,null,null,196,"N/A","0.5 mg/l AA","Fe: 4mg/l (95%) 8mg/l (UT)",177,null,null,null,null,null,null,null,null,null,null,null,null,null,null,null,null,null,null,null,null,2,null,null,null,null,null,null,"(Permit no. WACT/263)",null,null,0,1,1,1,"WWN","£m",1,"See comment for WINEP ID 7SO200347. Expected to be delivered by target date."]
["SSD00344","Changed",null,null,null,"WQ","South East","Solent and South Downs","Southern Water Services Ltd","7SO200357","Chiddingfold WWTW","Loxwood Stm-Hambledon Trb","GB107041017980","River","Arun Upper",null,null,null,"WFD_IMPg","Phosphorus",null,null,null,null,"Continuous Discharge","2024-12-22","Amber","A01131",496900,136700,null,null,null,null,null,null,null,null,null,null,null,null,null,null,null,null,null,null,null,null,null,null,null,null,null,null,null,null,null,null,3398,"1 mg/l AA","0.4 mg/l AA","Fe: 4mg/l (95%) 8mg/l (UT)",639,null,null,null,null,null,null,null,null,null,null,null,null,null,null,null,null,null,null,null,null,2.5,null,null,null,null,null,null,"(Permit no. A.1131/S/01)",null,null,0,1,1,1,"WWN","£m",1,"See comment for WINEP ID 7SO200347. Expected to be delivered by target date."]
["SSD00346","Changed",null,null,null,"WQ","South East","Solent and South Downs","Southern Water Services Ltd","7SO200359","East Boldre WWTW","Hatchet Stream","GB107042011400","River","New Forest - Hatchet Sowley",null,null,null,"WFD_IMPg","Phosphorus",null,null,null,null,"Continuous Discharge","2024-12-22","Amber","W00250",437900,100700,null,null,null,null,null,null,null,null,null,null,null,null,null,null,null,null,null,null,null,null,null,null,null,null,null,null,null,null,null,null,503,"N/A","0.25 mg/l AA","Fe: 4mg/l (95%) 8mg/l (UT)",284,null,null,null,null,null,"",null,null,null,null,null,null,null,null,null,null,null,null,null,null,5,null,null,null,null,null,null,"(Permit no. 61/6) ",null,null,0,1,1,1,"WWN","£m",1,"See comment for WINEP ID 7SO200347. Expected to be delivered by target date."]
["SSD00347","Changed",null,null,null,"WQ","South East","Solent and South Downs","Southern Water Services Ltd","7SO200360","East Meon WWTW","Meon","GB107042016640","River","East Hampshire Rivers",null,null,null,"WFD_IMPg","Phosphorus",null,null,null,null,"Continuous Discharge","2024-12-22","Amber","W00247",467270,122400,null,null,null,null,null,null,null,null,null,null,null,null,null,null,null,null,null,null,null,null,null,null,null,null,null,null,null,null,null,null,842,"N/A","0.6 mg/l AA","Fe: 4mg/l (95%) 8mg/l (UT)",175,null,null,null,null,null,"",null,null,null,null,null,null,null,null,null,null,null,null,null,null,3.4,null,null,null,null,null,null,"(Permit no. 48)",null,null,0,1,1,1,"WWN","£m",1,"See comment for WINEP ID 7SO200347. Expected to be delivered by target date."]
["SSD00349","Changed",null,null,null,"WQ","South East","Solent and South Downs","Southern Water Services Ltd","7SO200362","Flexford Lane Sway WWTW","Avon Water","GB107042011300","River","New Forest - Lymington and Beaulieu",null,null,null,"WFD_IMPg","Phosphorus",null,null,null,null,"Continuous Discharge","2024-12-22","Amber","W00244 ",428780,96530,null,null,null,null,null,null,null,null,null,null,null,null,null,null,null,null,null,null,null,null,null,null,null,null,null,null,null,null,null,null,2700,"N/A","0.4 mg/l AA","Fe: 4mg/l (95%) 8mg/l (UT)",776,null,null,null,null,null,"",null,null,null,null,null,null,null,null,null,null,null,null,null,null,6.2,null,null,null,null,null,null,"(Permit no. PP (A) 38/449/H99/80) ",null,null,0,1,1,1,"WWN","£m",1,"See comment for WINEP ID 7SO200347. Expected to be delivered by target date."]
["SSD00350","Changed",null,null,null,"WQ","South East","Solent and South Downs","Southern Water Services Ltd","7SO200363","Forest Green WWTW","North River","GB107041017990","River","Arun Upper",null,null,null,"WFD_IMPg","Phosphorus",null,null,null,null,"Continuous Discharge","2024-12-22","Amber","W00068",512110,140720,null,null,null,null,null,null,null,null,null,null,null,null,null,null,null,null,null,null,null,null,null,null,null,null,null,null,null,null,null,null,304,"N/A","1 mg/l AA","Fe: 4mg/l (95%) 8mg/l (UT)","n/a",null,null,null,null,null,"",null,null,null,null,null,null,null,null,null,null,null,null,null,null,6.9,null,null,null,null,null,null,"(Permit no. COPA/5743 ) ",null,null,0,1,1,1,"WWN","£m",1,"See comment for WINEP ID 7SO200347. Unlikely this measure will meet the currently agreed completion date. Slippage due to supply chain issues. Forecast completion date 24/02/2025. "]
["SSD00351","Changed",null,null,null,"WQ","South East","Solent and South Downs","Southern Water Services Ltd","7SO200364","Fulking WWTW","Woodsmill Stream","GB107041012060","River","Adur Upper",null,null,null,"WFD_IMPg","Phosphorus",null,null,null,null,"Continuous Discharge","2024-12-22","Amber","W00107",524560,111710,null,null,null,null,null,null,null,null,null,null,null,null,null,null,null,null,null,null,null,null,null,null,null,null,null,null,null,null,null,null,238,"N/A","0.5 mg/l AA","Fe: 4mg/l (95%) 8mg/l (UT)","n/a",null,null,null,null,null,"",null,null,null,null,null,null,null,null,null,null,null,null,null,null,4.5,null,null,null,null,null,null,"(Permit no. COPA/5753 ) ",null,null,0,1,1,1,"WWN","£m",1,"See comment for WINEP ID 7SO200347. Expected to be delivered by target date."]
["SSD00352","Changed",null,null,null,"WQ","South East","Solent and South Downs","Southern Water Services Ltd","7SO200365","Burgess Hill Goddards Green WWTW","Adur East (Goddards Green)","GB107041012210","River","Adur Upper",null,null,null,"WFD_IMPm","Phosphorus",null,null,null,null,"Continuous Discharge","2024-12-22","Amber","A00576",528802,120568,null,null,null,null,null,null,null,null,null,null,null,null,null,null,null,null,null,null,null,null,null,null,null,null,null,null,null,null,null,null,56830,"2 mg/l AA","0.25 mg/l AA","Fe: 4mg/l (95%) 8mg/l (UT)",9917,null,null,null,null,null,"",null,null,null,null,null,null,null,null,null,null,null,null,null,null,8,null,null,null,null,null,null,"(Permit no. A.576/S/90) ",null,null,0,1,1,1,"WWN","£m",1,"See comment for WINEP ID 7SO200347. Expected to be delivered by target date."]
["SSD00353","Changed",null,null,null,"WQ","South East","Solent and South Downs","Southern Water Services Ltd","7SO200366","Godshill WWTW","Eastern Yar (Upper)","GB107101006220","River","Isle of Wight Rivers",null,null,null,"WFD_IMPg","Phosphorus",null,null,null,null,"Continuous Discharge","2024-12-22","Amber","W00147",452500,82600,null,null,null,null,null,null,null,null,null,null,null,null,null,null,null,null,null,null,null,null,null,null,null,null,null,null,null,null,null,null,2045,"N/A","0.5 mg/l AA","Fe: 4mg/l (95%) 8mg/l (UT)",552,null,null,null,null,null,"",null,null,null,null,null,null,null,null,null,null,null,null,null,null,7.2,null,null,null,null,null,null,"(Permit no. PP(A)38/522/IOW62/83)",null,null,0,1,1,1,"WWN","£m",1,"See comment for WINEP ID 7SO200347. Expected to be delivered by target date."]
["SSD00354","Changed",null,null,null,"WQ","South East","Solent and South Downs","Southern Water Services Ltd","7SO200367","Grayswood WWTW","Loxwood/Chiddingfold Trib","GB107041017960","River","Arun Upper",null,null,null,"WFD_IMPg","Phosphorus",null,null,null,null,"Continuous Discharge","2024-12-22","Amber","W00393",492380,134430,null,null,null,null,null,null,null,null,null,null,null,null,null,null,null,null,null,null,null,null,null,null,null,null,null,null,null,null,null,null,524,"2 mg/l AA","0.3 mg/l AA","Fe: 3mg/l (95%) 8mg/l (UT)",101,null,null,null,null,null,"",null,null,null,null,null,null,null,null,null,null,null,null,null,null,7.4,null,null,null,null,null,null,"(Permit no. 399/10/2/194 )",null,null,0,1,1,1,"WWN","£m",1,"See comment for WINEP ID 7SO200347. Expected to be delivered by target date."]
["SSD00362","Changed",null,null,null,"WQ","South East","Solent and South Downs","Southern Water Services Ltd","7SO200375","Horsham WWTW","Arun Horsham","GB107041012310","River","Arun Upper",null,null,null,"WFD_IMPm","Phosphorus",null,null,null,null,"Continuous Discharge","2024-12-22","Amber","A00152",515041,129694,null,null,null,null,null,null,null,null,null,null,null,null,null,null,null,null,null,null,null,null,null,null,null,null,null,null,null,null,null,null,81161,"1 mg/l AA","0.25 mg/l AA","Fe: 3mg/l (95%) 8mg/l (UT)",16500,null,null,null,null,null,"",null,null,null,null,null,null,null,null,null,null,null,null,null,null,5.0999999999999996,null,null,null,null,null,null,"(Permit no. COPA/4682)",null,null,0,1,1,1,"WWN","£m",1,"See comment for WINEP ID 7SO200347. Expected to be delivered by target date."]
["SSD00365","Changed",null,null,null,"WQ","South East","Solent and South Downs","Southern Water Services Ltd","7SO200378","Mannings Heath WWTW","Arun Source","GB107041012920","River","Arun Upper",null,null,null,"WFD_IMPm","Phosphorus",null,null,null,null,"Continuous Discharge","2024-12-22","Amber","A01165",520295,129050,null,null,null,null,null,null,null,null,null,null,null,null,null,null,null,null,null,null,null,null,null,null,null,null,null,null,null,null,null,null,1118,"N/A","0.4 mg/l AA","Fe: 4mg/l (95%) 8mg/l (UT)",264,null,null,null,null,null,"",null,null,null,null,null,null,null,null,null,null,null,null,null,null,17.2,null,null,null,null,null,null,"(Permit no. A1165/S/02) PR14 indicative limit now tighter to achieve Moderate so Amber with 2024 completion date",null,null,0,1,1,1,"WWN","£m",1,"See comment for WINEP ID 7SO200347. Expected to be delivered by target date."]
["SSD00367","Changed",null,null,null,"WQ","South East","Solent and South Downs","Southern Water Services Ltd","7SO200380","Northchapel WWTW","Kird","GB107041012300","River","Arun Upper",null,null,null,"WFD_IMPg","Phosphorus",null,null,null,null,"Continuous Discharge","2024-12-22","Amber","W00364",495155,129059,null,null,null,null,null,null,null,null,null,null,null,null,null,null,null,null,null,null,null,null,null,null,null,null,null,null,null,null,null,null,621,"N/A","0.7 mg/l AA","Fe: 4mg/l (95%) 8mg/l (UT)",140,null,null,null,null,null,"",null,null,null,null,null,null,null,null,null,null,null,null,null,null,3.5,null,null,null,null,null,null,"(Permit no. A633/S/92)",null,null,0,1,1,1,"WWN","£m",1,"See comment for WINEP ID 7SO200347. Expected to be delivered by target date."]
["SSD00368","Changed",null,null,null,"WQ","South East","Solent and South Downs","Southern Water Services Ltd","7SO200381","Ockley West WWTW","North River","GB107041017990","River","Arun Upper",null,null,null,"WFD_IMPg","Phosphorus",null,null,null,null,"Continuous Discharge","2024-12-22","Amber","W00394",514400,139800,null,null,null,null,null,null,null,null,null,null,null,null,null,null,null,null,null,null,null,null,null,null,null,null,null,null,null,null,null,null,323,"N/A","1 mg/l AA","Fe: 4mg/l (95%) 8mg/l (UT)",80,null,null,null,null,null,"",null,null,null,null,null,null,null,null,null,null,null,null,null,null,7,null,null,null,null,null,null,"(Permit no. 315/10/2/186B)",null,null,0,1,1,1,"WWN","£m",1,"See comment for WINEP ID 7SO200347. Expected to be delivered by target date."]
["SSD00369","Changed",null,null,null,"WQ","South East","Solent and South Downs","Southern Water Services Ltd","7SO200382","Handcross WWTW","Ouse from Slaugham to Ardingly Resevoir","GB107041012730","River","Ouse Upper",null,null,null,"WFD_IMPg","Phosphorus",null,null,null,null,"Continuous Discharge","2024-12-22","Amber","W00381",526090,129190,null,null,null,null,null,null,null,null,null,null,null,null,null,null,null,null,null,null,null,null,null,null,null,null,null,null,null,null,null,null,1249,"2 mg/l AA","0.5 mg/l AA","Fe: 4mg/l (95%) 8mg/l (UT)",186,null,null,null,null,null,"",null,null,null,null,null,null,null,null,null,null,null,null,null,null,1.4,null,null,null,null,null,null,"(Permit no. 62/1/50) aka Park Road Handcross WWTW",null,null,0,1,1,1,"WWN","£m",1,"See comment for WINEP ID 7SO200347. Expected to be delivered by target date."]
["SSD00370","Changed",null,null,null,"WQ","South East","Solent and South Downs","Southern Water Services Ltd","7SO200383","Petersfield WWTW","Stanbridge Stream","GB107041012790","River","Rother Western",null,null,null,"WFD_IMPg","Phosphorus",null,null,null,null,"Continuous Discharge","2024-12-22","Amber","W00424",476833,122907,null,null,null,null,null,null,null,null,null,null,null,null,null,null,null,null,null,null,null,null,null,null,null,null,null,null,null,null,null,null,22147,"2 mg/l AA","0.6 mg/l AA","Fe: 4mg/l (95%) 8mg/l (UT)",4980,null,null,null,null,null,"",null,null,null,null,null,null,null,null,null,null,null,null,null,null,8.3000000000000007,null,null,null,null,null,null,"(Permit no. PP(A)38/451/S178/80)",null,null,0,1,1,1,"WWN","£m",1,"See comment for WINEP ID 7SO200347. Expected to be delivered by target date."]
["SSD00371","Changed",null,null,null,"WQ","South East","Solent and South Downs","Southern Water Services Ltd","7SO200384","Poynings WWTW","Woodsmill Stream","GB107041012060","River","Adur Upper",null,null,null,"WFD_IMPg","Phosphorus",null,null,null,null,"Continuous Discharge","2024-12-22","Amber","A01216",525935,112357,null,null,null,null,null,null,null,null,null,null,null,null,null,null,null,null,null,null,null,null,null,null,null,null,null,null,null,null,null,null,469,"N/A","0.5 mg/l AA","Fe: 4mg/l (95%) 8mg/l (UT)",67,null,null,null,null,null,"",null,null,null,null,null,null,null,null,null,null,null,null,null,null,1.5,null,null,null,null,null,null,"(Permit no. A1216/S/04)",null,null,0,1,1,1,"WWN","£m",1,"See comment for WINEP ID 7SO200347. Expected to be delivered by target date."]
["SSD00372","Changed",null,null,null,"WQ","South East","Solent and South Downs","Southern Water Services Ltd","7SO200385","Redlynch WWTW","Blackwater","GB107042016810","River","Test Lower and Southampton Streams",null,null,null,"WFD_IMPg","Phosphorus",null,null,null,null,"Continuous Discharge","2024-12-22","Amber","W00240",421890,120030,null,null,null,null,null,null,null,null,null,null,null,null,null,null,null,null,null,null,null,null,null,null,null,null,null,null,null,null,null,null,872,"N/A","0.3 mg/l AA","Fe: 4mg/l (95%) 8mg/l (UT)",290,null,null,null,null,null,"",null,null,null,null,null,null,null,null,null,null,null,null,null,null,7.1,null,null,null,null,null,null,"(Permit no. 51/121)",null,null,0,1,1,1,"WWN","£m",1,"See comment for WINEP ID 7SO200347. Expected to be delivered by target date."]
["SSD00373","Changed",null,null,null,"WQ","South East","Solent and South Downs","Southern Water Services Ltd","7SO200386","Roud WWTW","Eastern Yar (Upper)","GB107101006220","River","Isle of Wight Rivers",null,null,null,"WFD_IMPg","Phosphorus",null,null,null,null,"Continuous Discharge","2024-12-22","Amber","W00154",451400,79900,null,null,null,null,null,null,null,null,null,null,null,null,null,null,null,null,null,null,null,null,null,null,null,null,null,null,null,null,null,null,1878,"N/A","0.3 mg/l AA","Fe: 4mg/l (95%) 8mg/l (UT)",756,null,null,null,null,null,"",null,null,null,null,null,null,null,null,null,null,null,null,null,null,7.2,null,null,null,null,null,null,"(Permit no. 257)",null,null,0,1,1,1,"WWN","£m",1,"See comment for WINEP ID 7SO200347. Expected to be delivered by target date."]
["SSD00374","Changed",null,null,null,"WQ","South East","Solent and South Downs","Southern Water Services Ltd","7SO200387","Rudgwick WWTW","Arun (U/S Pallingham)","GB107041017950","River","Arun Upper",null,null,null,"WFD_IMPm","Phosphorus",null,null,null,null,"Continuous Discharge","2024-12-22","Amber","A01161",507984,131905,null,null,null,null,null,null,null,null,null,null,null,null,null,null,null,null,null,null,null,null,null,null,null,null,null,null,null,null,null,null,2588,"N/A","0.4 mg/l AA","Fe: 4mg/l (95%) 8mg/l (UT)",645,null,null,null,null,null,"",null,null,null,null,null,null,null,null,null,null,null,null,null,null,4.2,null,null,null,null,null,null,"(Permit no. A.1161/S/02 ) PR14 indicative limit now tighter to achieve Moderate so Amber with 2024 completion date",null,null,0,1,1,1,"WWN","£m",1,"See comment for WINEP ID 7SO200347. Expected to be delivered by target date."]
["SSD00375","Changed",null,null,null,"WQ","South East","Solent and South Downs","Southern Water Services Ltd","7SO200388","Scaynes Hill WWTW","Middle Ouse","GB107041012710","River","Ouse Upper",null,null,null,"WFD_IMPg","Phosphorus",null,null,null,null,"Continuous Discharge","2024-12-22","Amber","W00008",537905,124301,null,null,null,null,null,null,null,null,null,null,null,null,null,null,null,null,null,null,null,null,null,null,null,null,null,null,null,null,null,null,44338,"2 mg/l AA","0.25 mg/l AA","Fe: 4mg/l (95%) 8mg/l (UT)",10725,null,null,null,null,null,"",null,null,null,null,null,null,null,null,null,null,null,null,null,null,3.7,null,null,null,null,null,null,"(Permit no. COPA/433) ",null,null,0,1,1,1,"WWN","£m",1,"See comment for WINEP ID 7SO200347. Expected to be delivered by target date."]
["SSD00376","Changed",null,null,null,"WQ","South East","Solent and South Downs","Southern Water Services Ltd","7SO200389","Shalfeet WWTW","Caul Bourne","GB107101006020","River","Isle of Wight Rivers",null,null,null,"WFD_IMPg","Phosphorus",null,null,null,null,"Continuous Discharge","2024-12-22","Amber","W00161",441251,88821,null,null,null,null,null,null,null,null,null,null,null,null,null,null,null,null,null,null,null,null,null,null,null,null,null,null,null,null,null,null,834,"N/A","1 mg/l AA","Fe: 4mg/l (95%) 8mg/l (UT)",177,null,null,null,null,null,"",null,null,null,null,null,null,null,null,null,null,null,null,null,null,2,null,null,null,null,null,null,"(Permit no. PP(A)38/469/IOW69/81)",null,null,0,1,1,1,"WWN","£m",1,"See comment for WINEP ID 7SO200347. Expected to be delivered by target date."]
["SSD00378","Changed",null,null,null,"WQ","South East","Solent and South Downs","Southern Water Services Ltd","7SO200391","Slinfold WWTW","Arun (U/S Pallingham)","GB107041017950","River","Arun Upper",null,null,null,"WFD_IMPm","Phosphorus",null,null,null,null,"Continuous Discharge","2024-12-22","Amber","A01205",511344,132054,null,null,null,null,null,null,null,null,null,null,null,null,null,null,null,null,null,null,null,null,null,null,null,null,null,null,null,null,null,null,1256,"N/A","0.4 mg/l AA","Fe: 4mg/l (95%) 8mg/l (UT)",261,null,null,null,null,null,"",null,null,null,null,null,null,null,null,null,null,null,null,null,null,9.6,null,null,null,null,null,null,"(Permit no. A1205/S/03) PR14 indicative limit now tighter to achieve Moderate so Amber with 2024 completion date",null,null,0,1,1,1,"WWN","£m",1,"See comment for WINEP ID 7SO200347. Expected to be delivered by target date."]
["SSD00379","Changed",null,null,null,"WQ","South East","Solent and South Downs","Southern Water Services Ltd","7SO200392","Small Dole WWTW","Woodsmill Stream","GB107041012060","River","Adur Upper",null,null,null,"WFD_IMPg","Phosphorus",null,null,null,null,"Continuous Discharge","2024-12-22","Amber","W00398",521547,113661,null,null,null,null,null,null,null,null,null,null,null,null,null,null,null,null,null,null,null,null,null,null,null,null,null,null,null,null,null,null,841,"N/A","1 mg/l AA","Fe: 4mg/l (95%) 8mg/l (UT)",181,null,null,null,null,null,"",null,null,null,null,null,null,null,null,null,null,null,null,null,null,1.5,null,null,null,null,null,null,"(Permit no. 96/10/3)",null,null,0,1,1,1,"WWN","£m",1,"See comment for WINEP ID 7SO200347. Expected to be delivered by target date."]
["SSD00380","Changed",null,null,null,"WQ","South East","Solent and South Downs","Southern Water Services Ltd","7SO200393","South Ambersham WWTW","Western Rother","GB107041012810","River","Rother Western",null,null,null,"WFD_IMPg","Phosphorus",null,null,null,null,"Continuous Discharge","2024-12-22","Amber","W00383",491760,121170,null,null,null,null,null,null,null,null,null,null,null,null,null,null,null,null,null,null,null,null,null,null,null,null,null,null,null,null,null,null,14007,"2 mg/l AA","1.5 mg/l AA","Fe: 4mg/l (95%) 8mg/l (UT)",3194,null,null,null,null,null,"",null,null,null,null,null,null,null,null,null,null,null,null,null,null,15.6,null,null,null,null,null,null,"(Permit no. 62/1/171)",null,null,0,1,1,1,"WWN","£m",1,"See comment for WINEP ID 7SO200347. Expected to be delivered by target date."]
["SSD00381","Changed",null,null,null,"WQ","South East","Solent and South Downs","Southern Water Services Ltd","7SO200394","South Harting WWTW","Elsted Stream","GB107041013010","River","Rother Western",null,null,null,"WFD_IMPg","Phosphorus",null,null,null,null,"Continuous Discharge","2024-12-22","Amber","W00600",479350,119850,null,null,null,null,null,null,null,null,null,null,null,null,null,null,null,null,null,null,null,null,null,null,null,null,null,null,null,null,null,null,989,"1 mg/l AA","0.7 mg/l AA","Fe: 4mg/l (95%) 8mg/l (UT)",638,null,null,null,null,null,"",null,null,null,null,null,null,null,null,null,null,null,null,null,null,17.8,null,null,null,null,null,null," (Permit no. 361/10/2/91) ",null,null,0,1,1,1,"WWN","£m",1,"See comment for WINEP ID 7SO200347. Expected to be delivered by target date."]
["SSD00382","Changed",null,null,null,"WQ","South East","Solent and South Downs","Southern Water Services Ltd","7SO200395","Staplefield WWTW","Ouse from Slaugham to Ardingly Resevoir","GB107041012730","River","Ouse Upper",null,null,null,"WFD_IMPg","Phosphorus",null,null,null,null,"Continuous Discharge","2024-12-22","Amber","W00338",528000,127350,null,null,null,null,null,null,null,null,null,null,null,null,null,null,null,null,null,null,null,null,null,null,null,null,null,null,null,null,null,null,220,"2 mg/l AA","0.5 mg/l AA","Fe: 4mg/l (95%) 8mg/l (UT)",55,null,null,null,null,null,"",null,null,null,null,null,null,null,null,null,null,null,null,null,null,1.4,null,null,null,null,null,null,"(Permit no. 80/12)",null,null,0,1,1,1,"WWN","£m",1,"See comment for WINEP ID 7SO200347. Expected to be delivered by target date."]
["SSD00383","Changed",null,null,null,"WQ","South East","Solent and South Downs","Southern Water Services Ltd","7SO200396","Storrington WWTW","Stor","GB107041012100","River","Arun Lower",null,null,null,"WFD_IMPg","Phosphorus",null,null,null,null,"Continuous Discharge","2024-12-22","Amber","A01171",507621,115371,null,null,null,null,null,null,null,null,null,null,null,null,null,null,null,null,null,null,null,null,null,null,null,null,null,null,null,null,null,null,8191,"N/A","0.5 mg/l AA","Fe: 4mg/l (95%) 8mg/l (UT)",1728,null,null,null,null,null,"",null,null,null,null,null,null,null,null,null,null,null,null,null,null,3,null,null,null,null,null,null,"(Permit no. A1171/S/02)",null,null,0,1,1,1,"WWN","£m",1,"See comment for WINEP ID 7SO200347. Expected to be delivered by target date."]
["SSD00384","Changed",null,null,null,"WQ","South East","Solent and South Downs","Southern Water Services Ltd","7SO200397","Pagham WWTW","Pagham Rife","GB107041012880","River","Western Streams",null,null,null,"WFD_IMPg","Phosphorus",null,null,null,null,"Continuous Discharge","2024-12-22","Amber","A01192",488332,"098767",null,null,null,null,null,null,null,null,null,null,null,null,null,null,null,null,null,null,null,null,null,null,null,null,null,null,null,null,null,null,8810,"N/A","0.25 mg/l AA","Fe: 4mg/l (95%) 8mg/l (UT)",2309,null,null,null,null,null,"",null,null,null,null,null,null,null,null,null,null,null,null,null,null,1.5,null,null,null,null,null,null,"(Permit no. A1192/5/03) aka Summer Lane Pagham WWTW",null,null,{"$f":" WINEP_Inputs!$CR$13 - CR13","v":3.4727780499999881},1,0,1,"WWN","£m",1,"See comment for WINEP ID 7SO200347. Expected to be delivered by target date.",null,"Carry Over - New",null,null,null,"WINEP National Aug 2024 update states original completion date 22/12/24 and current completion date (according to AGREED changes) 31/05/2025. Clawback of 3.47 (Pagham) calculated in cell CR13 to be carried over. Water company confirm this is part of a group of AMP7 WINEP actions with new delivery dates of 31/05/2025 (all others already carried over from the recon model in DD pub). ","2024-05-31","Column CR includes allowed totex of 3.47. Colum CT set to zero. Colum DA wording added to reflect new carry over"]
["SSD00385","Changed",null,null,null,"WQ","South East","Solent and South Downs","Southern Water Services Ltd","7SO200398","Tangmere WWTW","Aldingbourne Rife","GB107041011980","River","Western Streams",null,null,null,"WFD_IMPm","Phosphorus",null,null,null,null,"Continuous Discharge","2024-12-22","Amber","A001125",491762,106712,null,null,null,null,null,null,null,null,null,null,null,null,null,null,null,null,null,null,null,null,null,null,null,null,null,null,null,null,null,null,5337,"5 mg/l AA","0.25 mg/l AA","Fe: 1mg/l (95%) 8mg/l (UT)",3000,null,null,null,null,null,"",null,null,null,null,null,null,null,null,null,null,null,null,null,null,8.3000000000000007,null,null,null,null,null,null,"(Permit no. A.1125/S/01) ",null,null,0,1,1,1,"WWN","£m",1,"See comment for WINEP ID 7SO200347. Expected to be delivered by target date."]
["SSD00388","Changed",null,null,null,"WQ","South East","Solent and South Downs","Southern Water Services Ltd","7SO200401","Whiteparish WWTW","Whiteparish Trib","GB107042016440","River","Test Lower and Southampton Streams",null,null,null,"WFD_IMPg","Phosphorus",null,null,null,null,"Continuous Discharge","2024-12-22","Amber","W00238",423890,122410,null,null,null,null,null,null,null,null,null,null,null,null,null,null,null,null,null,null,null,null,null,null,null,null,null,null,null,null,null,null,1124,"N/A","0.3 mg/l AA","Fe: 4mg/l (95%) 8mg/l (UT)",367,null,null,null,null,null,"",null,null,null,null,null,null,null,null,null,null,null,null,null,null,6.2,null,null,null,null,null,null,"(Permit no. 51/161)",null,null,0,1,1,1,"WWN","£m",1,"See comment for WINEP ID 7SO200347. Expected to be delivered by target date."]
["SSD00520","Changed","Yes – alteration made",null,null,"WQ","South East","Solent and South Downs","Southern Water Services Ltd","7SO200533","East End WWTW ","Sowley Pond","GB30745790","Lake","New Forest - Hatchet Sowley",null,null,null,"WFD_IMPg","Phosphorus",null,null,null,null,"Continuous Discharge","2024-12-22","Amber","W00043",436520,"097230",null,null,null,null,null,null,null,null,null,null,null,null,null,null,null,null,null,null,null,null,null,null,null,null,null,null,null,null,null,null,141,"N/A","2 mg/l AA","Fe: 4mg/l (95%) 8mg/l (UT)","N/A",null,null,null,null,null,"",null,null,null,null,null,null,null,null,null,null,null,null,null,null,null,0.16,null,null,null,null,null,"(Permit no.COPA/3888) - this is the same obligation as 7SO200534 so only requires funding once, this line is to improve Sowley Pond",null,null,0,1,1,1,"WWN","£m",1,"See comment for WINEP ID 7SO200347. Expected to be delivered by target date."]
["SSD00521","Changed","Yes – alteration made",null,null,"WQ","South East","Solent and South Downs","Southern Water Services Ltd","7SO200534","East End WWTW ","Sowley Stream","GB107042011190","River","New Forest - Hatchet Sowley",null,null,null,"WFD_IMPg","Phosphorus",null,null,null,null,"Continuous Discharge","2024-12-22","Amber","W00043",436520,"097230",null,null,null,null,null,null,null,null,null,null,null,null,null,null,null,null,null,null,null,null,null,null,null,null,null,null,null,null,null,null,141,"N/A","2 mg/l AA","Fe: 4mg/l (95%) 8mg/l (UT)","N/A",null,null,null,null,null,"",null,null,null,null,null,null,null,null,null,null,null,null,null,null,1,null,null,null,null,null,null,"(Permit no.COPA/3888) - this is the same obligation as 7SO200533 so only requires funding once, this line is to improve Sowley Stream",null,null,0,1,1,1,"WWN","£m",1,"See comment for WINEP ID 7SO200347. Expected to be delivered by target date."]
["SSD00554","Addition",null,null,null,"WQ","South East","Solent and South Downs","Southern Water Services Ltd","7SO300428","Horsted Keynes WWTW","Cockhaise Brook","GB107041012740","River","Ouse Upper",null,null,null,"WFD_IMPg","Phosphorus",null,null,null,null,"Continuous Discharge","2024-12-22","Amber","A00192",537600,128270,null,null,null,null,null,null,null,null,null,null,null,null,null,null,null,null,null,null,null,null,null,null,null,null,null,null,null,null,null,null,1274,"N/A","2 mg/l AA","Fe: 4mg/l (95%) 8mg/l (UT)",250,null,null,null,null,null,null,null,null,null,null,null,null,null,null,null,null,null,null,null,null,3.7,null,null,null,null,null,null,"(Permit no.WACT / 259)",null,null,0,1,1,1,"WWN","£m",1,"See comment for WINEP ID 7SO200347. Expected to be delivered by target date."]
["KSL00123",null,null,null,null,"FBG","Thames","Kent South London and East Sussex","Southern Water Services Ltd","7SO200025","Bewl-Darwell Transfer - Southern Water","Bewl Water","GB30644398","Lake","Teise",null,null,null,"INNS_ND",null,null,null,null,null,"Catchment Measure","2025-03-31","Amber","05/098",568090,133570,null,null,"Implement preferred option from AMP6",null,null,null,null,null,null,null,null,null,null,null,null,null,null,null,null,"Pathways of spread – Raw water transfer","Zebra Mussels, Floating Pennywort, Crassula helmsii",null,null,null,null,null,null,null,null,null,null,null,null,null,null,null,null,null,null,null,"",null,null,null,null,null,null,null,null,null,null,null,null,null,null,null,0.29099999999999998,null,null,null,null,null,"Implementation of options for Southern Water to address the risk of transfer of invasive non-native species from the Medway Catchment to the Rother Catchment through the Bewl-Darwell transfer pipeline. Joint scheme with South East Water.\nOutcome is half area of Darwell reservoir (joint scheme with South East Water)",null,null,7.2999999999999995E-2,1,1,1,"WR","£m",1,"Expected to be delivered by target date."]
["KSL00175","Changed",null,null,null,"WQ","South East","Kent South London and East Sussex","Southern Water Services Ltd","7SO200065","Battle wwtw","Brede","GB107040013550","River","Brede and Tillingham",null,null,null,"WFD_IMPg","Phosphorus",null,null,null,null,"Continuous Discharge","2024-12-22","Amber","W00538",575980,116170,null,null,null,null,null,null,null,null,null,null,null,null,null,null,null,null,null,null,null,null,null,null,null,null,null,null,null,null,null,null,6533,"1 mean","0.5 mean","Fe: 3mg/l (95%) 8mg/l (UT)",1493,null,null,null,null,null,"",null,null,null,null,null,null,null,null,null,null,null,null,null,null,1.1000000000000001,null,null,null,null,null,null,"Scheme also necessary for improvements in downstream reaches",null,null,0,1,1,1,"WWN","£m",1,"See comment for WINEP ID 7SO200347. Expected to be delivered by target date."]
["KSL00178","Changed",null,null,null,"WQ","South East","Kent South London and East Sussex","Southern Water Services Ltd","7SO200068","Charing wwtw","Upper Great Stour","GB107040019660","River","Stour Upper",null,null,null,"WFD_IMPg","Phosphorus",null,null,null,null,"Continuous Discharge","2024-12-22","Amber","W00542",595410,148500,null,null,null,null,null,null,null,null,null,null,null,null,null,null,null,null,null,null,null,null,null,null,null,null,null,null,null,null,null,null,2663,"1 mean","0.5 mean","Fe: 4mg/l (95%) 8mg/l (UT)",605,null,null,null,null,null,"",null,null,null,null,null,null,null,null,null,null,null,null,null,null,15.6,null,null,null,null,null,null,"Outcome depends on upstream improvements and also necessary for improvements in downstream reaches",null,null,0,1,1,1,"WWN","£m",1,"See comment for WINEP ID 7SO200347. Expected to be delivered by target date."]
["KSL00183","Changed",null,null,null,"WQ","South East","Kent South London and East Sussex","Southern Water Services Ltd","7SO200073","Herne Bay wwtw","Hogwell Sewer and Chislet North Stream","GB107040019770","River","Stour Marshes",null,null,null,"WFD_IMPm","Phosphorus",null,null,null,null,"Continuous Discharge","2024-12-22","Amber","A00643",621170,167521,null,null,null,null,null,null,null,null,null,null,null,null,null,null,null,null,null,null,null,null,null,null,null,null,null,null,null,null,null,null,42773,"2 mean","0.3 mean","Fe: 3mg/l (95%) 8mg/l (UT)",2867,null,null,null,null,null,"",null,null,null,null,null,null,null,null,null,null,null,null,null,null,3.8,null,null,null,null,null,null,"Achieve moderate scheme. Permitted discharge activity \"A1:Final effluent via Outlet 1\" to the Hogwell Sewer",null,null,0,1,1,1,"WWN","£m",1,"See comment for WINEP ID 7SO200347. Expected to be delivered by target date."]
["KSL00185","Changed",null,null,null,"WQ","South East","Kent South London and East Sussex","Southern Water Services Ltd","7SO200075","Lenham wwtw","Upper Great Stour","GB107040019660","River","Stour Upper",null,null,null,"WFD_IMPg","Phosphorus",null,null,null,null,"Continuous Discharge","2024-12-22","Amber","W00517",590480,150810,null,null,null,null,null,null,null,null,null,null,null,null,null,null,null,null,null,null,null,null,null,null,null,null,null,null,null,null,null,null,3146,"1 mean","0.5 mean","Fe: 4mg/l (95%) 8mg/l (UT)",688,null,null,null,null,null,"",null,null,null,null,null,null,null,null,null,null,null,null,null,null,8.5,null,null,null,null,null,null,"Scheme also necessary for improvements in downstream reaches",null,null,0,1,1,1,"WWN","£m",1,"See comment for WINEP ID 7SO200347. Expected to be delivered by target date."]
["KSL00187","Changed",null,null,null,"WQ","South East","Kent South London and East Sussex","Southern Water Services Ltd","7SO200077","Netherfield wwtw","Line","GB107040013540","River","Brede and Tillingham",null,null,null,"WFD_IMPg","Phosphorus",null,null,null,null,"Continuous Discharge","2024-12-22","Amber","W00509",571400,119000,null,null,null,null,null,null,null,null,null,null,null,null,null,null,null,null,null,null,null,null,null,null,null,null,null,null,null,null,null,null,382,null,"0.5 mean","Fe: 3mg/l (95%) 8mg/l (UT)",75,null,null,null,null,null,"",null,null,null,null,null,null,null,null,null,null,null,null,null,null,4.9000000000000004,null,null,null,null,null,null,"Scheme also necessary for improvements in downstream reaches",null,null,0,1,1,1,"WWN","£m",1,"See comment for WINEP ID 7SO200347. Expected to be delivered by target date."]
["KSL00188","Changed",null,null,null,"WQ","South East","Kent South London and East Sussex","Southern Water Services Ltd","7SO200078","Newnham Valley wwtw","Wingham and Little Stour","GB107040019570","River","Little Stour and Wingham",null,null,null,"WFD_IMPg","Phosphorus",null,null,null,null,"Continuous Discharge","2024-12-22","Amber","W00515",623500,161100,null,null,null,null,null,null,null,null,null,null,null,null,null,null,null,null,null,null,null,null,null,null,null,null,null,null,null,null,null,null,7247,null,"1.0 mean","Fe: 4mg/l (95%) 8mg/l (UT)",2371,null,null,null,null,null,"",null,null,null,null,null,null,null,null,null,null,null,null,null,null,2.6,null,null,null,null,null,null,"Outcome depends on improvements upstream",null,null,0,1,1,1,"WWN","£m",1,"See comment for WINEP ID 7SO200347. Expected to be delivered by target date."]
["KSL00189","Changed",null,null,null,"WQ","South East","Kent South London and East Sussex","Southern Water Services Ltd","7SO200079","Sedlescombe wwtw","Brede","GB107040013550","River","Brede and Tillingham",null,null,null,"WFD_IMPg","Phosphorus",null,null,null,null,"Continuous Discharge","2024-12-22","Amber","W00552",578920,117870,null,null,null,null,null,null,null,null,null,null,null,null,null,null,null,null,null,null,null,null,null,null,null,null,null,null,null,null,null,null,1113,"1 mean","0.7 mean","Fe: 4mg/l (95%) 8mg/l (UT)",253,null,null,null,null,null,"",null,null,null,null,null,null,null,null,null,null,null,null,null,null,12.8,null,null,null,null,null,null,"Outcome depends on improvements upstream",null,null,0,1,1,1,"WWN","£m",1,"See comment for WINEP ID 7SO200347. Expected to be delivered by target date."]
["KSL00190","Changed",null,null,null,"WQ","South East","Kent South London and East Sussex","Southern Water Services Ltd","7SO200080","Sellindge wwtw","East Stour","GB107040019640","River","Stour Upper",null,null,null,"WFD_IMPg","Phosphorus",null,null,null,null,"Continuous Discharge","2024-12-22","Amber","A00533",608600,138110,null,null,null,null,null,null,null,null,null,null,null,null,null,null,null,null,null,null,null,null,null,null,null,null,null,null,null,null,null,null,7780,"1 mean","0.5 mean","Fe: 4mg/l (95%) 8mg/l (UT)",1594,null,null,null,null,null,"",null,null,null,null,null,null,null,null,null,null,null,null,null,null,12.9,null,null,null,null,null,null,"Outcome depends on upstream improvements and also necessary for improvements in downstream reaches",null,null,0,1,1,1,"WWN","£m",1,"See comment for WINEP ID 7SO200347. Expected to be delivered by target date."]
["KSL00191","Changed",null,null,null,"WQ","South East","Kent South London and East Sussex","Southern Water Services Ltd","7SO200081","Shrub Lane (Burwash Village) wwtw","Rother between Coggins Mill Stream and Etchin","GB107040013590","River","Rother Upper",null,null,null,"WFD_IMPg","Phosphorus",null,null,null,null,"Continuous Discharge","2024-12-22","Amber","W00122",568530,126050,null,null,null,null,null,null,null,null,null,null,null,null,null,null,null,null,null,null,null,null,null,null,null,null,null,null,null,null,null,null,1363,null,"0.9 mean","Fe: 3mg/l (95%) 8mg/l (UT)",525,null,null,null,null,null,"",null,null,null,null,null,null,null,null,null,null,null,null,null,null,5.0999999999999996,null,null,null,null,null,null,"Outcome depends on upstream improvements and also necessary for improvements in downstream reaches",null,null,0,1,1,1,"WWN","£m",1,"See comment for WINEP ID 7SO200347. Expected to be delivered by target date."]
["KSL00192","Changed",null,null,null,"WQ","South East","Kent South London and East Sussex","Southern Water Services Ltd","7SO200082","Ticehurst wwtw","Limden","GB107040013610","River","Rother Upper",null,null,null,"WFD_IMPg","Phosphorus",null,null,null,null,"Continuous Discharge","2024-12-22","Amber","W00506",570550,129900,null,null,null,null,null,null,null,null,null,null,null,null,null,null,null,null,null,null,null,null,null,null,null,null,null,null,null,null,null,null,2934,null,"0.3 mean","Fe: 4mg/l (95%) 8mg/l (UT)",545,null,null,null,null,null,"",null,null,null,null,null,null,null,null,null,null,null,null,null,null,10.3,null,null,null,null,null,null,"3.4 km to moderate, 1.7 km to good then 5.2 km improvement in GB107040013640. Outcome depends on other improvements upstream",null,null,0,1,1,1,"WWN","£m",1,"See comment for WINEP ID 7SO200347. Expected to be delivered by target date."]
["KSL00195","Changed",null,null,null,"WQ","South East","Kent South London and East Sussex","Southern Water Services Ltd","7SO200085","Wingham (Dambridge) wwtw","Wingham and Little Stour","GB107040019570","River","Little Stour and Wingham",null,null,null,"WFD_IMPg","Phosphorus",null,null,null,null,"Continuous Discharge","2024-12-22","Amber","W00519",625400,157530,null,null,null,null,null,null,null,null,null,null,null,null,null,null,null,null,null,null,null,null,null,null,null,null,null,null,null,null,null,null,24212,"2 mean","0.25 mean","Fe: 4mg/l (95%) 8mg/l (UT)",3510,null,null,null,null,null,"",null,null,null,null,null,null,null,null,null,null,null,null,null,null,5.8,null,null,null,null,null,null,"2.3 km to moderate, 3.5 km to good then further improvements in downstream reach",null,null,0,1,1,1,"WWN","£m",1,"See comment for WINEP ID 7SO200347. Expected to be delivered by target date."]
["KSL00206","Changed",null,null,null,"WQ","Thames","Kent South London and East Sussex","Southern Water Services Ltd","7SO200096","Eden Vale wwtw","Eden Brook","GB106040018660","River","Eden",null,null,null,"WFD_IMPg","Phosphorus",null,null,null,null,"Continuous Discharge","2024-12-22","Amber","W00520",539258,140380,null,null,null,null,null,null,null,null,null,null,null,null,null,null,null,null,null,null,null,null,null,null,null,null,null,null,null,null,null,null,14219,"2 mean","0.3 mean","Fe: 4mg/l (95%) 8mg/l (UT)",2524,null,null,null,null,null,"",null,null,null,null,null,null,null,null,null,null,null,null,null,null,2.4,null,null,null,null,null,null,"Outcome depends on improvements at Felbridge, Lingfield, Godstone and Limpsfield and Oxted. Scheme also necessary for improvements downstream of Edenbridge",null,null,0,1,1,1,"WWN","£m",1,"See comment for WINEP ID 7SO200347. Expected to be delivered by target date."]
["KSL00207","Changed",null,null,null,"WQ","Thames","Kent South London and East Sussex","Southern Water Services Ltd","7SO200097","Edenbridge wwtw","Lower Eden","GB106040018160","River","Eden",null,null,null,"WFD_IMPg","Phosphorus",null,null,null,null,"Continuous Discharge","2024-12-22","Amber","A00528",545420,146490,null,null,null,null,null,null,null,null,null,null,null,null,null,null,null,null,null,null,null,null,null,null,null,null,null,null,null,null,null,null,11327,"2 mean","0.5 mean","Fe: 4mg/l (95%) 8mg/l (UT)",2240,null,null,null,null,null,"",null,null,null,null,null,null,null,null,null,null,null,null,null,null,12.8,null,null,null,null,null,null,"Outcome depends on improvements upstream",null,null,0,1,1,1,"WWN","£m",1,"See comment for WINEP ID 7SO200347. Expected to be delivered by target date."]
["KSL00208","Changed",null,null,null,"WQ","Thames","Kent South London and East Sussex","Southern Water Services Ltd","7SO200098","Felbridge wwtw","Eden Brook","GB106040018660","River","Eden",null,null,null,"WFD_IMPg","Phosphorus",null,null,null,null,"Continuous Discharge","2024-12-22","Amber","W00564",536416,140926,null,null,null,null,null,null,null,null,null,null,null,null,null,null,null,null,null,null,null,null,null,null,null,null,null,null,null,null,null,null,7038,null,"0.25 mean","Fe: 4mg/l (95%) 8mg/l (UT)",1312,null,null,null,null,null,"",null,null,null,null,null,null,null,null,null,null,null,null,null,null,4,null,null,null,null,null,null,"Scheme also necessary for improvements in all downstream reaches",null,null,0,1,1,1,"WWN","£m",1,"See comment for WINEP ID 7SO200347. Expected to be delivered by target date."]
["KSL00212","Changed",null,null,null,"WQ","Thames","Kent South London and East Sussex","Southern Water Services Ltd","7SO200102","Godstone wwtw","Gibbs Brook","GB106040018640","River","Eden",null,null,null,"WFD_IMPg","Phosphorus",null,null,null,null,"Continuous Discharge","2024-12-22","Amber","W00004",536700,150380,null,null,null,null,null,null,null,null,null,null,null,null,null,null,null,null,null,null,null,null,null,null,null,null,null,null,null,null,null,null,5288,null,"0.3 mean","Fe: 4mg/l (95%) 8mg/l (UT)",1202,null,null,null,null,null,"",null,null,null,null,null,null,null,null,null,null,null,null,null,null,10.6,null,null,null,null,null,null,"Outcome depends on improvements at Limpsfield and Oxted. Scheme also necessary for improvements in all downstream reaches",null,null,0,1,1,1,"WWN","£m",1,"See comment for WINEP ID 7SO200347. Expected to be delivered by target date."]
["KSL00215","Changed",null,null,null,"WQ","Thames","Kent South London and East Sussex","Southern Water Services Ltd","7SO200105","Kilndown wwtw","Tributary of Teise","GB106040018510","River","Teise",null,null,null,"WFD_IMPg","Phosphorus",null,null,null,null,"Continuous Discharge","2024-12-22","Amber","A00005",570700,135050,null,null,null,null,null,null,null,null,null,null,null,null,null,null,null,null,null,null,null,null,null,null,null,null,null,null,null,null,null,null,333,null,"0.5 mean","Fe: 4mg/l (95%) 8mg/l (UT)",70,null,null,null,null,null,"",null,null,null,null,null,null,null,null,null,null,null,null,null,null,2.6,null,null,null,null,null,null,null,null,null,0,1,1,1,"WWN","£m",1,"See comment for WINEP ID 7SO200347. Expected to be delivered by target date."]
["KSL00217","Changed",null,null,null,"WQ","Thames","Kent South London and East Sussex","Southern Water Services Ltd","7SO200107","Limpsfield and Oxted wwtw","Upper Eden","GB106040018630","River","Eden",null,null,null,"WFD_IMPg","Phosphorus",null,null,null,null,"Continuous Discharge","2024-12-22","Amber","A00193",539779,150132,null,null,null,null,null,null,null,null,null,null,null,null,null,null,null,null,null,null,null,null,null,null,null,null,null,null,null,null,null,null,16252,"2 mean","0.25 mean","Fe: 4mg/l (95%) 8mg/l (UT)",4724,null,null,null,null,null,"",null,null,null,null,null,null,null,null,null,null,null,null,null,null,1.8,null,null,null,null,null,null,"Scheme also necessary for improvements in all downstream reaches",null,null,0,1,1,1,"WWN","£m",1,"See comment for WINEP ID 7SO200347. Expected to be delivered by target date."]
["KSL00218","Changed",null,null,null,"WQ","Thames","Kent South London and East Sussex","Southern Water Services Ltd","7SO200108","Lingfield wwtw","Ray Brook","GB106040018340","River","Eden",null,null,null,"WFD_IMPg","Phosphorus",null,null,null,null,"Continuous Discharge","2024-12-22","Amber","A00194",538852,145020,null,null,null,null,null,null,null,null,null,null,null,null,null,null,null,null,null,null,null,null,null,null,null,null,null,null,null,null,null,null,11753,"2 mean","0.25 mean","Fe: 4mg/l (95%) 8mg/l (UT)",3656,null,null,null,null,null,"",null,null,null,null,null,null,null,null,null,null,null,null,null,null,8.5,null,null,null,null,null,null,"Modelled is 0.2 mg/l. TAL of 0.25 set. Scheme also necessary for improvements in all downstream reaches",null,null,0,1,1,1,"WWN","£m",1,"See comment for WINEP ID 7SO200347. Expected to be delivered by target date."]
["KSL00229","Changed",null,null,null,"WQ","Thames","Kent South London and East Sussex","Southern Water Services Ltd","7SO200119","Tunbridge Wells South wwtw","Grom","GB106040018400","River","Medway Upper",null,null,null,"WFD_IMPm","Phosphorus",null,null,null,null,"Continuous Discharge","2024-12-22","Amber","A00200",552690,137420,null,null,null,null,null,null,null,null,null,null,null,null,null,null,null,null,null,null,null,null,null,null,null,null,null,null,null,null,null,null,32240,"2 mean","0.25 mean","Fe: 4mg/l (95%) 8mg/l (UT)",8850,null,null,null,null,null,"",null,null,null,null,null,null,null,null,null,null,null,null,null,null,3.5,null,null,null,null,null,null,"Achieve Moderate status scheme, phosphorus.",null,null,0,1,1,1,"WWN","£m",1,"See comment for WINEP ID 7SO200347. Expected to be delivered by target date."]
["KSL00385","Addition",null,null,null,"WQ","South East","Kent South London and East Sussex","Southern Water Services Ltd","7TW300089","Fairlight wwtw","Marsham and Pannel Sewers","GB107040013390","River","Brede and Tillingham",null,null,null,"WFD_IMPg","Phosphorus",null,null,null,null,"Continuous Discharge","2024-12-22","Amber","W00545",588150,112870,null,null,null,null,null,null,null,null,null,null,null,null,null,null,null,null,null,null,null,null,null,null,null,null,null,null,null,null,null,null,1702,"1 mean, 5 max","0.5 mean, 5 max","Fe: 4mg/l (95%) 8mg/l (UT)",375,null,null,null,null,null,"",null,null,null,null,null,null,null,null,null,null,null,null,null,null,5.5,null,null,null,null,null,null,"Scheme improves status to the Pannel Sewer confluence and beyond, to end of water body.",null,null,0,1,1,1,"WWN","£m",1,"See comment for WINEP ID 7SO200347. Expected to be delivered by target date."]
["KSL00386","Addition",null,null,null,"WQ","Thames","Kent South London and East Sussex","Southern Water Services Ltd","7TW300090","Bethersden wwtw","Upper Beult","GB106040018280","River","Beult",null,null,null,"WFD_IMPm","Phosphorus",null,null,null,null,"Continuous Discharge","2024-12-22","Amber","W00489",592424,140297,null,null,null,null,null,null,null,null,null,null,null,null,null,null,null,null,null,null,null,null,null,null,null,null,null,null,null,null,null,null,803,"2 mean, 5 max","0.25 mean, 5 max","Fe: 3.5mg/l (95%) 8mg/l (UT)",244,null,null,null,null,null,"",null,null,null,null,null,null,null,null,null,null,null,null,null,null,2,null,null,null,null,null,null,"Modelled is 0.2 mg/l. TAL of 0.25 set. 2 km improvement to moderate from wwtw to High Halden confluence. Required for further downstream improvement",null,null,0,1,1,1,"WWN","£m",1,"See comment for WINEP ID 7SO200347. Expected to be delivered by target date."]
["KSL00387","Addition",null,null,null,"WQ","Thames","Kent South London and East Sussex","Southern Water Services Ltd","7TW300091","High Halden","Upper Beult","GB106040018280","River","Beult",null,null,null,"WFD_IMPg","Phosphorus",null,null,null,null,"Continuous Discharge","2024-12-22","Amber","W00480",588941,137719,null,null,null,null,null,null,null,null,null,null,null,null,null,null,null,null,null,null,null,null,null,null,null,null,null,null,null,null,null,null,1082,"1 mean, 5 max","0.25 mean, 5 max","Fe: 4mg/l (95%) 8mg/l (UT)",226,null,null,null,null,null,"",null,null,null,null,null,null,null,null,null,null,null,null,null,null,2.5,null,null,null,null,null,null,"Modelled is 0.2 mg/l. TAL of 0.25 set. 2.5 km improvement to good from High Halden confluence to end of water body, in conjunction with Bethersden",null,null,0,1,1,1,"WWN","£m",1,"See comment for WINEP ID 7SO200347. Expected to be delivered by target date."]
["CHM00218","Addition",null,null,null,"WQ","South East","Solent and South Downs","Southern Water Services Ltd","7SO300016","Cuckfield WWTW (CIP2 T2)","Copyhold Stream","GB107041012240","River","Adur Upper",null,null,null,"WFD_IMP_CHEM",null,null,null,null,null,"Continuous Discharge","2024-12-31","Amber","W00406",530220,123882,null,null,null,null,null,null,null,null,null,null,null,null,null,null,null,null,null,null,null,null,null,null,null,null,"Iron (total)",null,null,null,null,null,null,null,"1.5 mg/l (95%ile)\n4 mg/l (UT)",null,null,null,null,null,null,null,null,null,null,null,null,null,null,null,null,null,null,null,null,null,null,7.1,null,null,null,null,null,null,"(Permit No. (PP(A)38/470/S186/81)",null,null,2.2440000000000002,1,1,1,"WWN","£m",1,"Added WINEP Model input data. Expected to be delivered by target date."]
["SSD00026",null,"Yes – alteration made",null,null,"WQ","South East","Pan Area","Southern Water Services Ltd","7SO200191","Pan Area, Southern Water PR19 frequently spilling overflows requirements, Water Company Scale, Water Company Scale, Water Company Scale, Water Company Scale, Blank, Blank, Blank, ",null,null,null,null,null,null,null,"U_IMP4",null,null,null,null,null,"Intermittent Discharge","2025-03-31","Green",null,null,null,"Tier 3 ",null,"Undertake spill reduction scheme or agreed alternative as defined by the agreed (by WaSC and Environment Agency) outcome from the U_INV investigation",null,null,null,null,null,null,null,null,null,null,null,null,null,null,null,null,null,null,null,null,null,null,null,null,null,null,null,null,null,null,null,null,null,null,null,null,null,null,null,null,null,null,null,null,null,null,null,null,null,null,null,null,null,null,null,null,null,null,null,null,null,null,0.29199999999999998,1,0,1,"WWN","£m",1,"Holding line - Removed and replaced with site specific requirement at Dittons Road Ploegate CSO (Row 80). Admin alteration to confirm details of U_IMP4 programme following conclusion of Op Garden. Only 1 site required so holding line modified. \n\nAllowed totex rate taken from PR19 Final Determination funding for this driver, from https://view.officeapps.live.com/op/view.aspx?src=https%3A%2F%2Fwww.ofwat.gov.uk%2Fwp-content%2Fuploads%2F2019%2F12%2FFM_E_WWW_spill-frequency_FD.xlsx&wdOrigin=BROWSELINK. The feeder model used a volume of 94m3."]
["SSD00026",null,"Yes – alteration made",null,null,"WQ","South East","Solent and South Downs","Southern Water Services Ltd","7SO200191","Dittons Road Polgate CSO","Pevensey Haven","GB107041006670","River","Pevensey",null,null,null,"U_IMP4",null,null,null,null,null,"Intermittent Discharge","2025-03-31","Green","NPSWQD002642",560230,104707,"Tier 3 ",null,"Undertake spill reduction scheme or agreed alternative as defined by the agreed (by WaSC and Environment Agency) outcome from the U_INV investigation",null,null,null,null,null,null,null,null,null,null,null,null,null,null,null,null,null,null,null,null,null,null,null,null,null,null,null,null,null,null,null,null,null,null,null,null,null,null,null,null,null,null,null,null,null,null,null,null,null,null,null,null,null,null,null,null,null,null,null,null,null,null,3.3845000000000001,1,1,0,"WWN","£m",1,"Admin alteration to confirm details of U_IMP4 programme following conclusion of Op Garden. Only 1 site required so holding line modified. Allowed totex rate calculated using the formula: 2.778 + 0.001213A where: A is the cumulative volume of new or additional storage provided (in m3). Total volume provided (estimated at time of entry) is 500m3.\n\nExpected to be delivered by target date.","Cell CS80 amended from 0 to 1. This is so the model will remove totex already funded (0.292) from holding line (as qty delivered of holding line set to zero) and, with the amend to this cell, will now calculate the actual totex delivered (3.3845)\n"]
["SSD00570",null,"Yes – alteration made",null,null,"WQ","South East","Pan Area","Southern Water Services Ltd","7SO300448","Southern Water PR19 flow requirements","Water Company Scale","Water Company Scale","Water Company Scale","Water Company Scale",null,null,null,"U_IMP5",null,null,null,null,null,"Continuous Discharge","2025-03-31","Green",null,null,null,null,null,null,null,null,null,null,null,null,null,null,null,null,null,null,null,null,null,null,null,null,null,null,null,null,null,null,null,null,null,null,null,null,null,null,null,null,null,null,null,null,null,null,null,null,null,null,null,null,null,null,null,null,null,null,null,null,null,null,null,null,null,null,null,null,132.55446095860722,1,0,1,"WWN","£m",1,"Holding line - Removed and replaced with 67 lines below. As funding was given at PR19 against this holding line, marked as '1' in column CU. Marked as '0' in column CT as this line has been removed from WINEP and replaced by the individual schemes below. ","Cell CR81 amended from 146.6 to 132.554461. A 9.6% WINEP in the round reduction adjustment was made at PR19 FD. This comes from the published PR19 FD enhancement aggregator feeder model, where the catch-up efficiency and frontier shift adjustments are applied. See cell G19 in the \"WINEP-in-the-round\" tab."]
["SSD00653",null,null,null,null,"WQ","South East","Solent and South Downs","Southern Water Services Ltd","7SO300564","WARNHAM WWTW","Boldings Brook","GB107041012910","River","Arun Upper",null,null,null,"U_IMP5",null,null,null,null,null,"Continuous Discharge","2025-03-31","Green","A01204",516690,134120,null,null,null,null,null,null,null,null,null,null,null,null,null,null,null,null,null,null,null,null,null,null,null,null,null,null,null,null,null,null,null,null,null,null,null,null,null,null,null,null,null,null,null,null,null,null,null,null,null,null,null,null,null,null,null,null,null,null,null,null,null,null,null,null,null,99.183000000000007,1,1,0,"WWN","£m",1,"Allowed totex rate is the total for the U_IMP5 programme (rows 82 to 148), using the formula: 0.61327A + 0.009564B + 1.28168A^0.6681*B^0.14683 where: A is no. of STWs being enhanced, and B is the cumulative shortfall in capacity being addressed (in l/s). Shortfall addressed at Warnham WTW = 4.8 l/s. The requirement at Warnham has been delivered and signed off by the EA in November 2022.\n\nFor rows 82 to 148 the '1' has been entered in column CS if the site was in the PR19 FD, the funding however was in the total shown against the programme holding line in row 81. Quantity delivered in column CT is '1' as all schemes are in WINEP and due to be delivered. Column CU is '0' for all lines as the total funding for the programme was against the programme holding line rather than individual schemes. Please see individual lines for commentary on delivery. \n\n","Cell CR82: Totex unit rate amened from 136.47 (total input entered by SRN in company model which included all actions) to 99.183 (Ofwat calculation of allowed totex based on total actions that are likely to deliver in PR19 only) as per SRN's delivery likelihood  populations (column CU and DB). This does not include any removed actions or actions where delivery will carryover beyond PR19. Columns DB-DD have been added by Ofwat to evidence FD calculations used. Cell CS82: amended from 0 to 1, this is so the model will remove totex already funded (132.554461) from holding line (as qty delivered of holding line set to zero) and, with the amend to this cell, will now calculate the actual totex delivered within PR19 (99.183).",null,{"$f":"(0.61327*57)+(0.009564*SUM( DD82:DD89,DD91:DD95,DD97:DD113,DD115:DD120,DD122:DD124,DD126,DD128:DD134,DD136:DD143,DD147:DD148))+((1.28168*(57^0.6681)*(SUM( DD82:DD89,DD91:DD95,DD97:DD113,DD115:DD120,DD122:DD124,DD126,DD128:DD134,DD136:DD143,DD147:DD148)^0.14683)))","v":99.18252808137413},{"$f":"(0.61327*67)+(0.009564*SUM(DD82:DD148))+((1.28168*(67^0.6681))*(SUM( DD82:DD148)^0.14683))","v":136.46560766478729},4.8]
["SSD00608",null,null,null,null,"WQ","South East","Solent and South Downs","Southern Water Services Ltd","7SO300500","ASHINGTON WWTW","Honeybridge Stream","GB107041012120","River","Adur Upper",null,null,null,"U_IMP5",null,null,null,null,null,"Continuous Discharge","2025-03-31","Green","A01183",513610,115570,null,null,null,null,null,null,null,null,null,null,null,null,null,null,null,null,null,null,null,null,null,null,null,null,null,null,null,null,null,null,null,null,null,null,null,null,null,null,null,null,null,null,null,null,null,null,null,null,null,null,null,null,null,null,null,null,null,null,null,null,null,null,null,null,null,0,1,1,0,"WWN","£m",1,"Shortfall addressed at Ashington WTW = 4.6 l/s. Expected to be delivered by target date.",null,null,null,null,4.5999999999999996]
["SSD00609",null,null,null,null,"WQ","South East","Solent and South Downs","Southern Water Services Ltd","7SO300501","ASHLETT CREEK FAWLEY WWTW","SOUTHAMPTON WATER","GB520704202800","Transitional","Southampton Water",null,null,null,"U_IMP5",null,null,null,null,null,"Continuous Discharge","2025-03-31","Green","A00797",448070,103510,null,null,null,null,null,null,null,null,null,null,null,null,null,null,null,null,null,null,null,null,null,null,null,null,null,null,null,null,null,null,null,null,null,null,null,null,null,null,null,null,null,null,null,null,null,null,null,null,null,null,null,null,null,null,null,null,null,null,null,null,null,null,null,null,null,0,0,1,0,"WWN","£m",1,"Shortfall addressed at Ashlett Creek WTW = 20.0 l/s. Expected to be delivered by target date.",null,null,null,null,20]
["SSD00610",null,null,null,null,"WQ","South East","Solent and South Downs","Southern Water Services Ltd","7SO300502","BARCOMBE NEW WWTW","Bevern Stream","GB107041012570","River","Ouse Upper",null,null,null,"U_IMP5",null,null,null,null,null,"Continuous Discharge","2025-03-31","Green","W00362",541335,116897,null,null,null,null,null,null,null,null,null,null,null,null,null,null,null,null,null,null,null,null,null,null,null,null,null,null,null,null,null,null,null,null,null,null,null,null,null,null,null,null,null,null,null,null,null,null,null,null,null,null,null,null,null,null,null,null,null,null,null,null,null,null,null,null,null,0,0,1,0,"WWN","£m",1,"Shortfall addressed at Barcombe New WTW = 0.8 l/s. Expected to be delivered by target date.",null,null,null,null,0.8]
["KSL00432",null,null,null,null,"WQ","South East","Kent South London and East Sussex","Southern Water Services Ltd","7SO300503","BATTLE WWTW","Brede","GB107040013550","River","Brede and Tillingham",null,null,null,"U_IMP5",null,null,null,null,null,"Continuous Discharge","2025-03-31","Green","W00538",575980,116170,null,null,null,null,null,null,null,null,null,null,null,null,null,null,null,null,null,null,null,null,null,null,null,null,null,null,null,null,null,null,null,null,null,null,null,null,null,null,null,null,null,null,null,null,null,null,null,null,null,null,null,null,null,null,null,null,null,null,null,null,null,null,null,null,null,0,0,1,0,"WWN","£m",1,"Shortfall addressed at Battle WTW = 12.8 l/s. Expected to be delivered by target date.",null,null,null,null,12.8]
["SSD00611",null,null,null,null,"WQ","South East","Solent and South Downs","Southern Water Services Ltd","7SO300504","BLACKBOYS WWTW",null,null,null,null,null,null,null,"U_IMP5",null,null,null,null,null,"Continuous Discharge","2025-03-31","Green","W00361",552000,121200,null,null,null,null,null,null,null,null,null,null,null,null,null,null,null,null,null,null,null,null,null,null,null,null,null,null,null,null,null,null,null,null,null,null,null,null,null,null,null,null,null,null,null,null,null,null,null,null,null,null,null,null,null,null,null,null,null,null,null,null,null,null,null,null,null,0,1,1,0,"WWN","£m",1,"Shortfall addressed at Blackboys WTW = 2.8 l/s. Expected to be delivered by target date.",null,null,null,null,2.8]
["SSD00612",null,null,null,null,"WQ","South East","Solent and South Downs","Southern Water Services Ltd","7SO300505","BRIGHSTONE WWTW",null,null,null,null,null,null,null,"U_IMP5",null,null,null,null,null,"Continuous Discharge","2025-03-31","Green","A00527",442300,82200,null,null,null,null,null,null,null,null,null,null,null,null,null,null,null,null,null,null,null,null,null,null,null,null,null,null,null,null,null,null,null,null,null,null,null,null,null,null,null,null,null,null,null,null,null,null,null,null,null,null,null,null,null,null,null,null,null,null,null,null,null,null,null,null,null,0,0,1,0,"WWN","£m",1,"Shortfall addressed at Brightstone WTW = 2.8 l/s. Expected to be delivered by target date.",null,null,null,null,2.8]
["SSD00613",null,null,null,null,"WQ","South East","Solent and South Downs","Southern Water Services Ltd","7SO300506","BROCKENHURST WWTW","Lymington River","GB107042011220","River","New Forest - Lymington and Beaulieu",null,null,null,"U_IMP5",null,null,null,null,null,"Continuous Discharge","2025-03-31","Green","W00311",431158,102777,null,null,null,null,null,null,null,null,null,null,null,null,null,null,null,null,null,null,null,null,null,null,null,null,null,null,null,null,null,null,null,null,null,null,null,null,null,null,null,null,null,null,null,null,null,null,null,null,null,null,null,null,null,null,null,null,null,null,null,null,null,null,null,null,null,0,1,1,0,"WWN","£m",1,"Shortfall addressed at Brockenhurst WTW = 10.4 l/s. Expected to be delivered by target date.",null,null,null,null,10.4]
["SSD00614",null,null,null,null,"WQ","South East","Solent and South Downs","Southern Water Services Ltd","7SO300507","BUDDS FARM HAVANT (Havant) WWTW","LANGSTONE HARBOUR","GB580705130000","Transitional","Hampshire East TraC",null,null,null,"U_IMP5",null,null,null,null,null,"Continuous Discharge","2025-03-31","Green","A00751",470540,105100,null,null,null,null,null,null,null,null,null,null,null,null,null,null,null,null,null,null,null,null,null,null,null,null,null,null,null,null,null,null,null,null,null,null,null,null,null,null,null,null,null,null,null,null,null,null,null,null,null,null,null,null,null,null,null,null,null,null,null,null,null,null,null,null,null,0,1,0,0,"WWN","£m",1,"Shortfall addressed at Budds Farm Havant WTW = 395.0 l/s. Unlikely this measure will meet the currently agreed completion date. Scale and complexity of project larger than anticipated (forecast cost more than double reconciled FD funding). Ensuring AMP7 solution is aligned with AMP8 EnvAct_IMP2 Spills Reduction driver. Focusing delivery on U_IMP6 driver. Regulatory date alteration being sought from EA. Forecast completion date 31/03/2028.","SRN confirm in model (column CY) expected delivery in PR24 year 2027/28 and EA confirm (March 2024) delivery will not be in PR19 (alteration rejected). Amend is by means of removal of this action from the totex calculation for the group in cell CR82.   ","Carry over",null,null,395]
["SSD00615",null,null,null,null,"WQ","South East","Solent and South Downs","Southern Water Services Ltd","7SO300508","BURITON WWTW","Stanbridge Stream","GB107041012790","River","Rother Western",null,null,null,"U_IMP5",null,null,null,null,null,"Continuous Discharge","2025-03-31","Green","W00325",474220,120630,null,null,null,null,null,null,null,null,null,null,null,null,null,null,null,null,null,null,null,null,null,null,null,null,null,null,null,null,null,null,null,null,null,null,null,null,null,null,null,null,null,null,null,null,null,null,null,null,null,null,null,null,null,null,null,null,null,null,null,null,null,null,null,null,null,0,1,1,0,"WWN","£m",1,"Shortfall addressed at Buriton WTW = 2.2 l/s. Expected to be delivered by target date.",null,null,null,null,2.2000000000000002]
["KSL00433",null,null,null,null,"WQ",null,"Kent South London and East Sussex","Southern Water Services Ltd","7SO300509","BURWASH COMMON WWTW",null,null,null,null,null,null,null,"U_IMP5",null,null,null,null,null,"Continuous Discharge","2025-03-31","Green","W00555",565826,122782,null,null,null,null,null,null,null,null,null,null,null,null,null,null,null,null,null,null,null,null,null,null,null,null,null,null,null,null,null,null,null,null,null,null,null,null,null,null,null,null,null,null,null,null,null,null,null,null,null,null,null,null,null,null,null,null,null,null,null,null,null,null,null,null,null,0,1,1,0,"WWN","£m",1,"Shortfall addressed at Burwash Common WTW = 1.0 l/s. Expected to be delivered by target date.",null,null,null,null,1]
["SSD00616",null,null,null,null,"WQ","South East","Solent and South Downs","Southern Water Services Ltd","7SO300510","BURY WWTW",null,null,null,null,null,null,null,"U_IMP5",null,null,null,null,null,"Continuous Discharge","2025-03-31","Green","W00367",501389,112676,null,null,null,null,null,null,null,null,null,null,null,null,null,null,null,null,null,null,null,null,null,null,null,null,null,null,null,null,null,null,null,null,null,null,null,null,null,null,null,null,null,null,null,null,null,null,null,null,null,null,null,null,null,null,null,null,null,null,null,null,null,null,null,null,null,0,1,1,0,"WWN","£m",1,"Shortfall addressed at Bury WTW = 0.8 l/s. Expected to be delivered by target date.",null,null,null,null,0.8]
["SSD00617",null,null,null,null,"WQ","South East","Solent and South Downs","Southern Water Services Ltd","7SO300511","BUXTED WWTW","Uck Upstream of Buxted","GB107041012990","River","Ouse Upper",null,null,null,"U_IMP5",null,null,null,null,null,"Continuous Discharge","2025-03-31","Green","W00607",549470,123690,null,null,null,null,null,null,null,null,null,null,null,null,null,null,null,null,null,null,null,null,null,null,null,null,null,null,null,null,null,null,null,null,null,null,null,null,null,null,null,null,null,null,null,null,null,null,null,null,null,null,null,null,null,null,null,null,null,null,null,null,null,null,null,null,null,0,1,1,0,"WWN","£m",1,"Shortfall addressed at Buxted WTW = 9.8 l/s. Expected to be delivered by target date.",null,null,null,null,9.8000000000000007]
["SSD00618",null,null,null,null,"WQ","South East","Solent and South Downs","Southern Water Services Ltd","7SO300512","CALBOURNE WWTW","Caul Bourne","GB107101006020","River","Isle of Wight Rivers",null,null,null,"U_IMP5",null,null,null,null,null,"Continuous Discharge","2025-03-31","Green","A00191",442049,86880,null,null,null,null,null,null,null,null,null,null,null,null,null,null,null,null,null,null,null,null,null,null,null,null,null,null,null,null,null,null,null,null,null,null,null,null,null,null,null,null,null,null,null,null,null,null,null,null,null,null,null,null,null,null,null,null,null,null,null,null,null,null,null,null,null,0,1,1,0,"WWN","£m",1,"Shortfall addressed at Calbourne WTW = 1.5 l/s. Expected to be delivered by target date.",null,null,null,null,1.5]
["SSD00619",null,null,null,null,"WQ","South East","Solent and South Downs","Southern Water Services Ltd","7SO300513","CHICHESTER WWTW","Lavant (Sussex)","GB107041006520","River","Western Streams",null,null,null,"U_IMP5",null,null,null,null,null,"Continuous Discharge","2025-03-31","Green","W00137",484316,103917,null,null,null,null,null,null,null,null,null,null,null,null,null,null,null,null,null,null,null,null,null,null,null,null,null,null,null,null,null,null,null,null,null,null,null,null,null,null,null,null,null,null,null,null,null,null,null,null,null,null,null,null,null,null,null,null,null,null,null,null,null,null,null,null,null,0,1,0,0,"WWN","£m",1,"Shortfall addressed at Chichester WTW = 169.5 l/s. Unlikely this measure will meet the currently agreed completion date. Scale and complexity of project larger than anticipated (forecast cost around double reconciled FD funding). Ensure AMP7 solution is aligned with AMP8 drivers in the wider Chichester Harbour catchment, and preventing abortive spend. Ongoing catchment infiltration reduction works, programme will continue into AMP8. Regulatory date alteration being sought from EA. Forecast completion date 31/03/2028.","SRN confirm in model (column CY) expected delivery in PR24 year 2027/28 and EA confirm (March 2024) delivery will not be in PR19 (alteration rejected). Amend is by means of removal of this action from the totex calculation for the group in cell CR82.   ","Carry over",null,null,169.5]
["SSD00620",null,null,null,null,"WQ","South East","Solent and South Downs","Southern Water Services Ltd","7SO300514","CHIDDINGFOLD WWTW","Loxwood Stm-Hambledon Trb","GB107041017980","River","Arun Upper",null,null,null,"U_IMP5",null,null,null,null,null,"Continuous Discharge","2025-03-31","Green","A01131",496900,136700,null,null,null,null,null,null,null,null,null,null,null,null,null,null,null,null,null,null,null,null,null,null,null,null,null,null,null,null,null,null,null,null,null,null,null,null,null,null,null,null,null,null,null,null,null,null,null,null,null,null,null,null,null,null,null,null,null,null,null,null,null,null,null,null,null,0,0,1,0,"WWN","£m",1,"Shortfall addressed at Chiddingfold WTW = 2.9 l/s. Expected to be delivered by target date.",null,null,null,null,2.9]
["SSD00621",null,null,null,null,"WQ","South East","Solent and South Downs","Southern Water Services Ltd","7SO300515","CHILBOLTON WWTW","Test - conf Dever to conf Anton","GB107042022750","River","Test Upper and Middle",null,null,null,"U_IMP5",null,null,null,null,null,"Continuous Discharge","2025-03-31","Green","W00246",438650,139460,null,null,null,null,null,null,null,null,null,null,null,null,null,null,null,null,null,null,null,null,null,null,null,null,null,null,null,null,null,null,null,null,null,null,null,null,null,null,null,null,null,null,null,null,null,null,null,null,null,null,null,null,null,null,null,null,null,null,null,null,null,null,null,null,null,0,0,1,0,"WWN","£m",1,"Shortfall addressed at Chilbolton WTW = 1.9 l/s. Expected to be delivered by target date.",null,null,null,null,1.9]
["KSL00434",null,null,null,null,"WQ",null,"Kent South London and East Sussex","Southern Water Services Ltd","7SO300516","COWDEN WWTW",null,null,null,null,null,null,null,"U_IMP5",null,null,null,null,null,"Continuous Discharge","2025-03-31","Green",null,null,null,null,null,null,null,null,null,null,null,null,null,null,null,null,null,null,null,null,null,null,null,null,null,null,null,null,null,null,null,null,null,null,null,null,null,null,null,null,null,null,null,null,null,null,null,null,null,null,null,null,null,null,null,null,null,null,null,null,null,null,null,null,null,null,null,null,0,0,1,0,"WWN","£m",1,"Shortfall addressed at Cowden WTW = 0.7 l/s. Expected to be delivered by target date.",null,null,null,null,0.7]
["KSL00435",null,null,null,null,"WQ","Thames","Kent South London and East Sussex","Southern Water Services Ltd","7SO300517","CRANBROOK WWTW","Hammer Stream","GB106040018290","River","Beult",null,null,null,"U_IMP5",null,null,null,null,null,"Continuous Discharge","2025-03-31","Green","W00497",578248,136081,null,null,null,null,null,null,null,null,null,null,null,null,null,null,null,null,null,null,null,null,null,null,null,null,null,null,null,null,null,null,null,null,null,null,null,null,null,null,null,null,null,null,null,null,null,null,null,null,null,null,null,null,null,null,null,null,null,null,null,null,null,null,null,null,null,0,1,1,0,"WWN","£m",1,"Shortfall addressed at Cranbrook WTW = 16.4 l/s. Expected to be delivered by target date.",null,null,null,null,16.399999999999999]
["SSD00622",null,null,null,null,"WQ","South East","Solent and South Downs","Southern Water Services Ltd","7SO300518","DITCHLING WWTW",null,null,null,null,null,null,null,"U_IMP5",null,null,null,null,null,"Continuous Discharge","2025-03-31","Green","W00340",533702,115306,null,null,null,null,null,null,null,null,null,null,null,null,null,null,null,null,null,null,null,null,null,null,null,null,null,null,null,null,null,null,null,null,null,null,null,null,null,null,null,null,null,null,null,null,null,null,null,null,null,null,null,null,null,null,null,null,null,null,null,null,null,null,null,null,null,0,1,1,0,"WWN","£m",1,"Shortfall addressed at Ditchling WTW = 0.9 l/s. Expected to be delivered by target date.",null,null,null,null,0.9]
["SSD00623",null,null,null,null,"WQ","South East","Solent and South Downs","Southern Water Services Ltd","7SO300519","EAST GRIMSTEAD WWTW","Dun","GB107042022640","River","Test Lower and Southampton Streams",null,null,null,"U_IMP5",null,null,null,null,null,"Continuous Discharge","2025-03-31","Green","W00313",423038,127419,null,null,null,null,null,null,null,null,null,null,null,null,null,null,null,null,null,null,null,null,null,null,null,null,null,null,null,null,null,null,null,null,null,null,null,null,null,null,null,null,null,null,null,null,null,null,null,null,null,null,null,null,null,null,null,null,null,null,null,null,null,null,null,null,null,0,1,1,0,"WWN","£m",1,"Shortfall addressed at East Grimstead WTW = 0.9 l/s. Expected to be delivered by target date.",null,null,null,null,0.9]
["SSD00624",null,null,null,null,"WQ","South East","Solent and South Downs","Southern Water Services Ltd","7SO300520","FITTLEWORTH WWTW","Western Rother","GB107041012810","River","Rother Western",null,null,null,"U_IMP5",null,null,null,null,null,"Continuous Discharge","2025-03-31","Green",null,501320,118130,null,null,null,null,null,null,null,null,null,null,null,null,null,null,null,null,null,null,null,null,null,null,null,null,null,null,null,null,null,null,null,null,null,null,null,null,null,null,null,null,null,null,null,null,null,null,null,null,null,null,null,null,null,null,null,null,null,null,null,null,null,null,null,null,null,0,1,1,0,"WWN","£m",1,"Shortfall addressed at Fittleworth WTW = 2.1 l/s. Expected to be delivered by target date.",null,null,null,null,2.1]
["SSD00625",null,null,null,null,"WQ","South East","Solent and South Downs","Southern Water Services Ltd","7SO300521","FLEXFORD LANE SWAY WWTW","Avon Water","GB107042011300","River","New Forest - Lymington and Beaulieu",null,null,null,"U_IMP5",null,null,null,null,null,"Continuous Discharge","2025-03-31","Green","W00244 ",428780,96530,null,null,null,null,null,null,null,null,null,null,null,null,null,null,null,null,null,null,null,null,null,null,null,null,null,null,null,null,null,null,null,null,null,null,null,null,null,null,null,null,null,null,null,null,null,null,null,null,null,null,null,null,null,null,null,null,null,null,null,null,null,null,null,null,null,0,0,1,0,"WWN","£m",1,"Shortfall addressed at Flexford Lane Sway WTW = 8.2 l/s. Expected to be delivered by target date.",null,null,null,null,8.1999999999999993]
["SSD00626",null,null,null,null,"WQ","South East","Solent and South Downs","Southern Water Services Ltd","7SO300522","HALLAND WWTW",null,null,null,null,null,null,null,"U_IMP5",null,null,null,null,null,"Continuous Discharge","2025-03-31","Green","A00567",550330,117070,null,null,null,null,null,null,null,null,null,null,null,null,null,null,null,null,null,null,null,null,null,null,null,null,null,null,null,null,null,null,null,null,null,null,null,null,null,null,null,null,null,null,null,null,null,null,null,null,null,null,null,null,null,null,null,null,null,null,null,null,null,null,null,null,null,0,1,1,0,"WWN","£m",1,"Shortfall addressed at Halland WTW = 2.6 l/s. Expected to be delivered by target date.",null,null,null,null,2.6]
["KSL00436",null,null,null,null,"WQ","South East","Kent South London and East Sussex","Southern Water Services Ltd","7SO300523","HAMSTREET WWTW","Romney Marsh between Appledore and West Hythe","GB107040019700","River","Reading Cradlebridge and RMC",null,null,null,"U_IMP5",null,null,null,null,null,"Continuous Discharge","2025-03-31","Green","W00021",599860,133420,null,null,null,null,null,null,null,null,null,null,null,null,null,null,null,null,null,null,null,null,null,null,null,null,null,null,null,null,null,null,null,null,null,null,null,null,null,null,null,null,null,null,null,null,null,null,null,null,null,null,null,null,null,null,null,null,null,null,null,null,null,null,null,null,null,0,0,1,0,"WWN","£m",1,"Shortfall addressed at Hamstreet WTW = 2.4 l/s. Expected to be delivered by target date.",null,null,null,null,2.4]
["KSL00437",null,null,null,null,"WQ",null,"Kent South London and East Sussex","Southern Water Services Ltd","7SO300524","HAWKHURST NORTH WWTW",null,null,null,null,null,null,null,"U_IMP5",null,null,null,null,null,"Continuous Discharge","2025-03-31","Green","A01217",576760,131247,null,null,null,null,null,null,null,null,null,null,null,null,null,null,null,null,null,null,null,null,null,null,null,null,null,null,null,null,null,null,null,null,null,null,null,null,null,null,null,null,null,null,null,null,null,null,null,null,null,null,null,null,null,null,null,null,null,null,null,null,null,null,null,null,null,0,1,1,0,"WWN","£m",1,"Shortfall addressed at Hawkhurst North WTW = 8.9 l/s. Expected to be delivered by target date.",null,null,null,null,8.9]
["KSL00438",null,null,null,null,"WQ","South East","Kent South London and East Sussex","Southern Water Services Ltd","7SO300525","HAWKHURST SOUTH WWTW","Kent Ditch","GB107040013600","River","Rother Levels",null,null,null,"U_IMP5",null,null,null,null,null,"Continuous Discharge","2025-03-31","Green","W00540",576910,129326,null,null,null,null,null,null,null,null,null,null,null,null,null,null,null,null,null,null,null,null,null,null,null,null,null,null,null,null,null,null,null,null,null,null,null,null,null,null,null,null,null,null,null,null,null,null,null,null,null,null,null,null,null,null,null,null,null,null,null,null,null,null,null,null,null,0,1,1,0,"WWN","£m",1,"Shortfall addressed at Hawkhurst South WTW = 2.8 l/s. Expected to be delivered by target date.",null,null,null,null,2.8]
["SSD00627",null,null,null,null,"WQ","South East","Solent and South Downs","Southern Water Services Ltd","7SO300526","HENFIELD WWTW","Chess Stream","GB107041012110","River","Adur Upper",null,null,null,"U_IMP5",null,null,null,null,null,"Continuous Discharge","2025-03-31","Green","W00015",521749,117097,null,null,null,null,null,null,null,null,null,null,null,null,null,null,null,null,null,null,null,null,null,null,null,null,null,null,null,null,null,null,null,null,null,null,null,null,null,null,null,null,null,null,null,null,null,null,null,null,null,null,null,null,null,null,null,null,null,null,null,null,null,null,null,null,null,0,1,1,0,"WWN","£m",1,"Shortfall addressed at Henfield WTW = 15.6 l/s. Expected to be delivered by target date.",null,null,null,null,15.6]
["KSL00439",null,null,null,null,"WQ","Thames","Kent South London and East Sussex","Southern Water Services Ltd","7SO300527","HIGH HALDEN WWTW","Upper Beult","GB106040018280","River","Beult",null,null,null,"U_IMP5",null,null,null,null,null,"Continuous Discharge","2025-03-31","Green","W00480",588941,137719,null,null,null,null,null,null,null,null,null,null,null,null,null,null,null,null,null,null,null,null,null,null,null,null,null,null,null,null,null,null,null,null,null,null,null,null,null,null,null,null,null,null,null,null,null,null,null,null,null,null,null,null,null,null,null,null,null,null,null,null,null,null,null,null,null,0,1,1,0,"WWN","£m",1,"Shortfall addressed at High Halden WTW = 1.5 l/s. Expected to be delivered by target date.",null,null,null,null,1.5]
["SSD00628",null,null,null,null,"WQ","South East","Solent and South Downs","Southern Water Services Ltd","7SO300528","HORSTED KEYNES WWTW","Cockhaise Brook","GB107041012740","River","Ouse Upper",null,null,null,"U_IMP5",null,null,null,null,null,"Continuous Discharge","2025-03-31","Green","A00192",537600,128270,null,null,null,null,null,null,null,null,null,null,null,null,null,null,null,null,null,null,null,null,null,null,null,null,null,null,null,null,null,null,null,null,null,null,null,null,null,null,null,null,null,null,null,null,null,null,null,null,null,null,null,null,null,null,null,null,null,null,null,null,null,null,null,null,null,0,1,1,0,"WWN","£m",1,"Shortfall addressed at Horsted Keynes WTW = 1.7 l/s. Expected to be delivered by target date.",null,null,null,null,1.7]
["SSD00629",null,null,null,null,"WQ","South East","Solent and South Downs","Southern Water Services Ltd","7SO300529","KINGS SOMBORNE WWTW","Test - conf Anton to conf Dun","GB107042022670","River","Test Upper and Middle",null,null,null,"U_IMP5",null,null,null,null,null,"Continuous Discharge","2025-03-31","Green","W00237",433710,128750,null,null,null,null,null,null,null,null,null,null,null,null,null,null,null,null,null,null,null,null,null,null,null,null,null,null,null,null,null,null,null,null,null,null,null,null,null,null,null,null,null,null,null,null,null,null,null,null,null,null,null,null,null,null,null,null,null,null,null,null,null,null,null,null,null,0,1,1,0,"WWN","£m",1,"Shortfall addressed at Kings Somborne WTW = 2.7 l/s. Expected to be delivered by target date.",null,null,null,null,2.7]
["SSD00630",null,null,null,null,"WQ","South East","Solent and South Downs","Southern Water Services Ltd","7SO300530","LAVANT WWTW",null,null,null,null,null,null,null,"U_IMP5",null,null,null,null,null,"Continuous Discharge","2025-03-31","Green","W00359",486459,107921,null,null,null,null,null,null,null,null,null,null,null,null,null,null,null,null,null,null,null,null,null,null,null,null,null,null,null,null,null,null,null,null,null,null,null,null,null,null,null,null,null,null,null,null,null,null,null,null,null,null,null,null,null,null,null,null,null,null,null,null,null,null,null,null,null,0,1,1,0,"WWN","£m",1,"Shortfall addressed at Lavant WTW = 24.8 l/s. Expected to be delivered by target date.",null,null,null,null,24.8]
["SSD00631",null,null,null,null,"WQ","South East","Solent and South Downs","Southern Water Services Ltd","7SO300531","LIDSEY WWTW","Lidsey Rife","GB107041012010","River","Western Streams",null,null,null,"U_IMP5",null,null,null,null,null,"Continuous Discharge","2025-03-31","Green","A01209",494490,103290,null,null,null,null,null,null,null,null,null,null,null,null,null,null,null,null,null,null,null,null,null,null,null,null,null,null,null,null,null,null,null,null,null,null,null,null,null,null,null,null,null,null,null,null,null,null,null,null,null,null,null,null,null,null,null,null,null,null,null,null,null,null,null,null,null,0,1,0,0,"WWN","£m",1,"Shortfall addressed at Lydsey WTW = 73.5 l/s. Unlikely this measure will meet the currently agreed completion date. Scale and complexity of project larger than anticipated (forecast cost significantly more than reconciled FD funding). Ensure AMP7 solution is aligned with AMP8 BOD and growth drivers, delivering AMP8 driver earlier. Interim mitigation is not possible. However, we are reviewing the option of accelerating the delivery of the wetland to reduce storm overflow spills as part of EnvAct_IMP4 Driver. Forecast completion date 31/03/2028.","SRN confirm in model (column CY) delivery expected in PR24 year 2027/28 and EA confirm (March 2024) delivery will not be in PR19 (alteration rejected). Amend is by means of removal of this action from the totex calculation for the group in cell CR82.   ","Carry over",null,null,73.5]
["KSL00440",null,null,null,null,"WQ","Thames","Kent South London and East Sussex","Southern Water Services Ltd","7SO300532","LINGFIELD WWTW","Ray Brook","GB106040018340","River","Eden",null,null,null,"U_IMP5",null,null,null,null,null,"Continuous Discharge","2025-03-31","Green","A00194",538852,145020,null,null,null,null,null,null,null,null,null,null,null,null,null,null,null,null,null,null,null,null,null,null,null,null,null,null,null,null,null,null,null,null,null,null,null,null,null,null,null,null,null,null,null,null,null,null,null,null,null,null,null,null,null,null,null,null,null,null,null,null,null,null,null,null,null,0,1,1,0,"WWN","£m",1,"Shortfall addressed at Lingfield WTW = 43.9 l/s. Expected to be delivered by target date.",null,null,null,null,43.9]
["SSD00632",null,null,null,null,"WQ","South East","Solent and South Downs","Southern Water Services Ltd","7SO300533","LISS WWTW",null,null,null,null,null,null,null,"U_IMP5",null,null,null,null,null,"Continuous Discharge","2025-03-31","Green",null,null,null,null,null,null,null,null,null,null,null,null,null,null,null,null,null,null,null,null,null,null,null,null,null,null,null,null,null,null,null,null,null,null,null,null,null,null,null,null,null,null,null,null,null,null,null,null,null,null,null,null,null,null,null,null,null,null,null,null,null,null,null,null,null,null,null,null,0,1,1,0,"WWN","£m",1,"Shortfall addressed at Liss WTW = 12.4 l/s. Expected to be delivered by target date.",null,null,null,null,12.4]
["SSD00633",null,null,null,null,"WQ","South East","Solent and South Downs","Southern Water Services Ltd","7SO300534","LOXWOOD WWTW","Loxwood Stream","GB107041017970","River","Arun Upper",null,null,null,"U_IMP5",null,null,null,null,null,"Continuous Discharge","2025-03-31","Green","A01501",504701,130686,null,null,null,null,null,null,null,null,null,null,null,null,null,null,null,null,null,null,null,null,null,null,null,null,null,null,null,null,null,null,null,null,null,null,null,null,null,null,null,null,null,null,null,null,null,null,null,null,null,null,null,null,null,null,null,null,null,null,null,null,null,null,null,null,null,0,1,1,0,"WWN","£m",1,"Shortfall addressed at Loxwood WTW = 1.6 l/s. Expected to be delivered by target date.",null,null,null,null,1.6]
["SSD00634",null,null,null,null,"WQ","South East","Solent and South Downs","Southern Water Services Ltd","7SO300535","LYNDHURST WWTW","Beaulieu","GB107042016340","River","New Forest - Lymington and Beaulieu",null,null,null,"U_IMP5",null,null,null,null,null,"Continuous Discharge","2025-03-31","Green","W00236",431000,108860,null,null,null,null,null,null,null,null,null,null,null,null,null,null,null,null,null,null,null,null,null,null,null,null,null,null,null,null,null,null,null,null,null,null,null,null,null,null,null,null,null,null,null,null,null,null,null,null,null,null,null,null,null,null,null,null,null,null,null,null,null,null,null,null,null,0,0,1,0,"WWN","£m",1,"Shortfall addressed at Lyndhurst WTW = 7.8 l/s. Expected to be delivered by target date.",null,null,null,null,7.8]
["SSD00635",null,null,null,null,"WQ","South East","Solent and South Downs","Southern Water Services Ltd","7SO300536","MANNINGS HEATH WWTW","Arun Source","GB107041012920","River","Arun Upper",null,null,null,"U_IMP5",null,null,null,null,null,"Continuous Discharge","2025-03-31","Green","A01165",520295,129050,null,null,null,null,null,null,null,null,null,null,null,null,null,null,null,null,null,null,null,null,null,null,null,null,null,null,null,null,null,null,null,null,null,null,null,null,null,null,null,null,null,null,null,null,null,null,null,null,null,null,null,null,null,null,null,null,null,null,null,null,null,null,null,null,null,0,1,1,0,"WWN","£m",1,"Shortfall addressed at Mannings Heath WTW = 2.1 l/s. Expected to be delivered by target date.",null,null,null,null,2.1]
["SSD00636",null,null,null,null,"WQ","South East","Solent and South Downs","Southern Water Services Ltd","7SO300537","MARESFIELD WWTW","Shortbridge Stream","GB107041012980","River","Ouse Upper",null,null,null,"U_IMP5",null,null,null,null,null,"Continuous Discharge","2025-03-31","Green","W00342",545640,123170,null,null,null,null,null,null,null,null,null,null,null,null,null,null,null,null,null,null,null,null,null,null,null,null,null,null,null,null,null,null,null,null,null,null,null,null,null,null,null,null,null,null,null,null,null,null,null,null,null,null,null,null,null,null,null,null,null,null,null,null,null,null,null,null,null,0,1,1,0,"WWN","£m",1,"Shortfall addressed at Maresfield WTW = 5.77 l/s. Expected to be delivered by target date.",null,null,null,null,5.77]
["SSD00637",null,null,null,null,"WQ","South East","Solent and South Downs","Southern Water Services Ltd","7SO300538","MILFORD ROAD PENNINGTON WWTW","Avon Water","GB107042011300","River","New Forest - Lymington and Beaulieu",null,null,null,"U_IMP5",null,null,null,null,null,"Continuous Discharge","2025-03-31","Green",null,null,null,null,null,null,null,null,null,null,null,null,null,null,null,null,null,null,null,null,null,null,null,null,null,null,null,null,null,null,null,null,null,null,null,null,null,null,null,null,null,null,null,null,null,null,null,null,null,null,null,null,null,null,null,null,null,null,null,null,null,null,null,null,null,null,null,null,0,1,0,0,"WWN","£m",1,"Shortfall addressed at Milford Road Pennington WTW = 175.0 l/s. Unlikely this measure will meet the currently agreed completion date. Scale and complexity of project larger than anticipated (forecast cost 50% more than reconciled FD funding). Ensure AMP7 solution is aligned with AMP8 EnvAct_IMP2 spill reduction requirements. Regulatory date alteration being sought from EA. Forecast completion date 31/03/2028.","SRN confirm in model (column CY) expected delivery in PR24 year 2027/28 and EA confirm (March 2024) delivery will not be in PR19 (alteration approved). Amend is by means of removal of this action from the totex calculation for the group in cell CR82.    ","Carry over",null,null,175]
["SSD00638",null,null,null,null,"WQ","South East","Solent and South Downs","Southern Water Services Ltd","7SO300539","MILLBROOK WWTW","Tanner's Brook","GB107042016620","River","Test Lower and Southampton Streams",null,null,null,"U_IMP5",null,null,null,null,null,"Continuous Discharge","2025-03-31","Green","A00016 ",438710,111760,null,null,null,null,null,null,null,null,null,null,null,null,null,null,null,null,null,null,null,null,null,null,null,null,null,null,null,null,null,null,null,null,null,null,null,null,null,null,null,null,null,null,null,null,null,null,null,null,null,null,null,null,null,null,null,null,null,null,null,null,null,null,null,null,null,0,1,1,0,"WWN","£m",1,"Shortfall addressed at Millbrook WTW = 293.0 l/s. Expected to be delivered by target date.",null,null,null,null,293]
["SSD00639",null,null,null,null,"WQ","South East","Solent and South Downs","Southern Water Services Ltd","7SO300540","MONKS GATE WWTW","Blakes Gill","GB107041012280","River","Adur Upper",null,null,null,"U_IMP5",null,null,null,null,null,"Continuous Discharge","2025-03-31","Green",null,519950,127450,null,null,null,null,null,null,null,null,null,null,null,null,null,null,null,null,null,null,null,null,null,null,null,null,null,null,null,null,null,null,null,null,null,null,null,null,null,null,null,null,null,null,null,null,null,null,null,null,null,null,null,null,null,null,null,null,null,null,null,null,null,null,null,null,null,0,1,1,0,"WWN","£m",1,"Shortfall addressed at Monks Gate WTW = 0.2 l/s. Expected to be delivered by target date.",null,null,null,null,0.2]
["SSD00640",null,null,null,null,"WQ","South East","Solent and South Downs","Southern Water Services Ltd","7SO300541","NORTHCHAPEL WWTW","Kird","GB107041012300","River","Arun Upper",null,null,null,"U_IMP5",null,null,null,null,null,"Continuous Discharge","2025-03-31","Green","W00364",495260,129020,null,null,null,null,null,null,null,null,null,null,null,null,null,null,null,null,null,null,null,null,null,null,null,null,null,null,null,null,null,null,null,null,null,null,null,null,null,null,null,null,null,null,null,null,null,null,null,null,null,null,null,null,null,null,null,null,null,null,null,null,null,null,null,null,null,0,1,1,0,"WWN","£m",1,"Shortfall addressed at Northchapel WTW = 1.3 l/s. Expected to be delivered by target date.",null,null,null,null,1.3]
["KSL00441",null,null,null,null,"WQ","Thames","Kent South London and East Sussex","Southern Water Services Ltd","7SO300542","OXTED WWTW","Upper Eden","GB106040018630","River","Eden",null,null,null,"U_IMP5",null,null,null,null,null,"Continuous Discharge","2025-03-31","Green","A00193",539780,150040,null,null,null,null,null,null,null,null,null,null,null,null,null,null,null,null,null,null,null,null,null,null,null,null,null,null,null,null,null,null,null,null,null,null,null,null,null,null,null,null,null,null,null,null,null,null,null,null,null,null,null,null,null,null,null,null,null,null,null,null,null,null,null,null,null,0,1,0,0,"WWN","£m",1,"Shortfall addressed at Oxted WTW = 30.0 l/s. Unlikely this measure will meet the currently agreed completion date. Scale and complexity of project larger than anticipated (forecast cost more than triple reconciled FD funding). Ensure AMP7 solution is aligned with AMP8 growth and WINEP drivers (EnvAct_IMP4 spill reduction and WFD_IMP_MOD (P)), delivering AMP8 P scheme early. Forecast completion date 31/03/2028. Catchment scheme to reduce infiltration. Additional storm tank required as part of growth driver to be delivered by end of AMP7. ","SRN confirm in model (column CY) expected delivery in PR24 year 2027/28 and EA confirm (March 2024) delivery will not be in PR19 (alteration rejected). Amend is by means of removal of this action from the totex calculation for the group in cell CR82.   ","Carry over",null,null,30]
["SSD00641",null,null,null,null,"WQ","South East","Solent and South Downs","Southern Water Services Ltd","7SO300543","PARTRIDGE GREEN WWTW",null,null,null,null,null,null,null,"U_IMP5",null,null,null,null,null,"Continuous Discharge","2025-03-31","Green","W00470",519386,118667,null,null,null,null,null,null,null,null,null,null,null,null,null,null,null,null,null,null,null,null,null,null,null,null,null,null,null,null,null,null,null,null,null,null,null,null,null,null,null,null,null,null,null,null,null,null,null,null,null,null,null,null,null,null,null,null,null,null,null,null,null,null,null,null,null,0,1,1,0,"WWN","£m",1,"Shortfall addressed at Partridge Green WTW = 9.4. l/s. Expected to be delivered by target date.",null,null,null,null,9.4]
["SSD00642",null,null,null,null,"WQ","South East","Solent and South Downs","Southern Water Services Ltd","7SO300544","PEEL COMMON WWTW","Alver","GB107042011370","River","East Hampshire Rivers",null,null,null,"U_IMP5",null,null,null,null,null,"Continuous Discharge","2025-03-31","Green","W00131",458100,97700,null,null,null,null,null,null,null,null,null,null,null,null,null,null,null,null,null,null,null,null,null,null,null,null,null,null,null,null,null,null,null,null,null,null,null,null,null,null,null,null,null,null,null,null,null,null,null,null,null,null,null,null,null,null,null,null,null,null,null,null,null,null,null,null,null,0,1,0,0,"WWN","£m",1,"Shortfall addressed at Peel Common WTW = 622.0 l/s. Unlikely this measure will meet the currently agreed completion date. Scale and complexity of project larger than anticipated (forecast cost more than double reconciled FD funding). Ensure AMP7 solution is aligned with AMP8 growth drivers to prevent inefficiency and additional cost, delivering capacity for growth early. Interim mitigation is not possible. Regulatory date alteration being sought from EA. Forecast completion date 31/03/2028.","SRN confirm in model (column CY) expected delivery in PR24 year 2027/28 and EA confirm (March 2024) delivery will not be in PR19 (alteration rejected). Amend is by means of removal of this action from the totex calculation for the group in cell CR82.   ","Carry over",null,null,622]
["KSL00442",null,null,null,null,"WQ","Thames","Kent South London and East Sussex","Southern Water Services Ltd","7SO300545","QUEENBOROUGH WWTW","SWALE","GB530604011500","Transitional","Medway Swale Estuary",null,null,null,"U_IMP5",null,null,null,null,null,"Continuous Discharge","2025-03-31","Green","A00697",590850,169970,null,null,null,null,null,null,null,null,null,null,null,null,null,null,null,null,null,null,null,null,null,null,null,null,null,null,null,null,null,null,null,null,null,null,null,null,null,null,null,null,null,null,null,null,null,null,null,null,null,null,null,null,null,null,null,null,null,null,null,null,null,null,null,null,null,0,1,1,0,"WWN","£m",1,"Shortfall addressed at Queenborough WTW = 137.7 l/s. Expected to be delivered by target date.",null,null,null,null,137.69999999999999]
["KSL00443",null,null,null,null,"WQ","South East","Kent South London and East Sussex","Southern Water Services Ltd","7SO300546","QUICKBOURNE LANE NORTHIAM WWTW","Lower Rother from Etchingham to Scott's Float","GB107040013640","River","Rother Levels",null,null,null,"U_IMP5",null,null,null,null,null,"Continuous Discharge","2025-03-31","Green","A00002",583540,125720,null,null,null,null,null,null,null,null,null,null,null,null,null,null,null,null,null,null,null,null,null,null,null,null,null,null,null,null,null,null,null,null,null,null,null,null,null,null,null,null,null,null,null,null,null,null,null,null,null,null,null,null,null,null,null,null,null,null,null,null,null,null,null,null,null,0,1,1,0,"WWN","£m",1,"Shortfall addressed at Quickbourne Lane Northiam WTW = 3.0 l/s. Expected to be delivered by target date.",null,null,null,null,3]
["SSD00643",null,null,null,null,"WQ","South East","Solent and South Downs","Southern Water Services Ltd","7SO300547","REDLYNCH WWTW","Blackwater","GB107042016810","River","Test Lower and Southampton Streams",null,null,null,"U_IMP5",null,null,null,null,null,"Continuous Discharge","2025-03-31","Green","W00240",421890,120030,null,null,null,null,null,null,null,null,null,null,null,null,null,null,null,null,null,null,null,null,null,null,null,null,null,null,null,null,null,null,null,null,null,null,null,null,null,null,null,null,null,null,null,null,null,null,null,null,null,null,null,null,null,null,null,null,null,null,null,null,null,null,null,null,null,0,0,1,0,"WWN","£m",1,"Shortfall addressed at Redlynch WTW = 5.0 l/s. Expected to be delivered by target date.",null,null,null,null,5]
["KSL00444",null,null,null,null,"WQ","South East","Kent South London and East Sussex","Southern Water Services Ltd","7SO300548","ROBERTSBRIDGE WWTW","Lower Rother from Etchingham to Scott's Float","GB107040013640","River","Rother Levels",null,null,null,"U_IMP5",null,null,null,null,null,"Continuous Discharge","2025-03-31","Green","A00195",574320,123510,null,null,null,null,null,null,null,null,null,null,null,null,null,null,null,null,null,null,null,null,null,null,null,null,null,null,null,null,null,null,null,null,null,null,null,null,null,null,null,null,null,null,null,null,null,null,null,null,null,null,null,null,null,null,null,null,null,null,null,null,null,null,null,null,null,0,1,1,0,"WWN","£m",1,"Shortfall addressed at Robertsbridge WTW = 3.1 l/s. Expected to be delivered by target date.",null,null,null,null,3.1]
["SSD00644",null,null,null,null,"WQ","South East","Solent and South Downs","Southern Water Services Ltd","7SO300549","ROUD WWTW","Eastern Yar (Upper)","GB107101006220","River","Isle of Wight Rivers",null,null,null,"U_IMP5",null,null,null,null,null,"Continuous Discharge","2025-03-31","Green","W00154",451400,79900,null,null,null,null,null,null,null,null,null,null,null,null,null,null,null,null,null,null,null,null,null,null,null,null,null,null,null,null,null,null,null,null,null,null,null,null,null,null,null,null,null,null,null,null,null,null,null,null,null,null,null,null,null,null,null,null,null,null,null,null,null,null,null,null,null,0,1,1,0,"WWN","£m",1,"Shortfall addressed at Roud WTW = 8.2 l/s. Expected to be delivered by target date.",null,null,null,null,8.1999999999999993]
["KSL00445",null,null,null,null,"WQ",null,"Kent South London and East Sussex","Southern Water Services Ltd","7SO300550","SANDHURST WWTW",null,null,null,null,null,null,null,"U_IMP5",null,null,null,null,null,"Continuous Discharge","2025-03-31","Green","W00549",581150,129200,null,null,null,null,null,null,null,null,null,null,null,null,null,null,null,null,null,null,null,null,null,null,null,null,null,null,null,null,null,null,null,null,null,null,null,null,null,null,null,null,null,null,null,null,null,null,null,null,null,null,null,null,null,null,null,null,null,null,null,null,null,null,null,null,null,0,1,1,0,"WWN","£m",1,"Shortfall addressed at Sandhurst WTW = 1.3 l/s. Expected to be delivered by target date.",null,null,null,null,1.3]
["SSD00645",null,null,null,null,"WQ","South East","Solent and South Downs","Southern Water Services Ltd","7SO300551","SANDOWN NEW WWTW",null,null,null,null,null,null,null,"U_IMP5",null,null,null,null,null,"Continuous Discharge","2025-03-31","Green","A00726",460201,85190,null,null,null,null,null,null,null,null,null,null,null,null,null,null,null,null,null,null,null,null,null,null,null,null,null,null,null,null,null,null,null,null,null,null,null,null,null,null,null,null,null,null,null,null,null,null,null,null,null,null,null,null,null,null,null,null,null,null,null,null,null,null,null,null,null,0,1,1,0,"WWN","£m",1,"Shortfall addressed at Sandown New WTW = 191.3 l/s. Expected to be delivered by target date.",null,null,null,null,191.3]
["KSL00446",null,null,null,null,"WQ","Thames","Kent South London and East Sussex","Southern Water Services Ltd","7SO300552","SITTINGBOURNE WWTW","SWALE","GB530604011500","Transitional","Medway Swale Estuary",null,null,null,"U_IMP5",null,null,null,null,null,"Continuous Discharge","2025-03-31","Green","W00518",591260,164740,null,null,null,null,null,null,null,null,null,null,null,null,null,null,null,null,null,null,null,null,null,null,null,null,null,null,null,null,null,null,null,null,null,null,null,null,null,null,null,null,null,null,null,null,null,null,null,null,null,null,null,null,null,null,null,null,null,null,null,null,null,null,null,null,null,0,0,0,0,"WWN","£m",1,"Shortfall addressed at Sittingbourne WTW = 117.0 l/s. Unlikely this measure will meet the currently agreed completion date. Includes Growth driver. Time needed to agree new DWF/FFT and tighter effluent standards with the EA. Ensure AMP7 solution is aligned with AMP8 Shellfish drivers. U_IMP6 being delivered by end of AMP7. Solution will take account of spills reduction requirements of SW_ND driver which has a regulatory date of 30 June 2027. Regulatory date alteration being sought from EA. Forecast completion date 31/03/2028.","SRN confirm in model (column CY) expected delivery in PR24 year 2027/28 and EA confirm (March 2024) delivery will not be in PR19 (alteration rejected). Amend is by means of removal of this action from the totex calculation for the group in cell CR82.   ","Carry over",null,null,117]
["SSD00646",null,null,null,null,"WQ","South East","Solent and South Downs","Southern Water Services Ltd","7SO300553","SLINFOLD WWTW","Arun (U/S Pallingham)","GB107041017950","River","Arun Upper",null,null,null,"U_IMP5",null,null,null,null,null,"Continuous Discharge","2025-03-31","Green","A01205",511344,132054,null,null,null,null,null,null,null,null,null,null,null,null,null,null,null,null,null,null,null,null,null,null,null,null,null,null,null,null,null,null,null,null,null,null,null,null,null,null,null,null,null,null,null,null,null,null,null,null,null,null,null,null,null,null,null,null,null,null,null,null,null,null,null,null,null,0,1,1,0,"WWN","£m",1,"Shortfall addressed at Slinfold WTW = 1.7 l/s. Expected to be delivered by target date.",null,null,null,null,1.7]
["SSD00647",null,null,null,null,"WQ","South East","Solent and South Downs","Southern Water Services Ltd","7SO300554","SLOWHILL COPSE MARCHWOOD WWTW","SOUTHAMPTON WATER","GB520704202800","Transitional","Southampton Water",null,null,null,"U_IMP5",null,null,null,null,null,"Continuous Discharge","2025-03-31","Green","W00288",438620,111350,null,null,null,null,null,null,null,null,null,null,null,null,null,null,null,null,null,null,null,null,null,null,null,null,null,null,null,null,null,null,null,null,null,null,null,null,null,null,null,null,null,null,null,null,null,null,null,null,null,null,null,null,null,null,null,null,null,null,null,null,null,null,null,null,null,0,1,1,0,"WWN","£m",1,"Shortfall addressed at Slowhill Copse Marchwood WTW = 128.0 l/s. Expected to be delivered by target date.",null,null,null,null,128]
["SSD00648",null,null,null,null,"WQ","South East","Solent and South Downs","Southern Water Services Ltd","7SO300555","SMALL DOLE WWTW","Woodsmill Stream","GB107041012060","River","Adur Upper",null,null,null,"U_IMP5",null,null,null,null,null,"Continuous Discharge","2025-03-31","Green","W00398",521547,113661,null,null,null,null,null,null,null,null,null,null,null,null,null,null,null,null,null,null,null,null,null,null,null,null,null,null,null,null,null,null,null,null,null,null,null,null,null,null,null,null,null,null,null,null,null,null,null,null,null,null,null,null,null,null,null,null,null,null,null,null,null,null,null,null,null,0,0,1,0,"WWN","£m",1,"Shortfall addressed at Small Dole WTW = 1.0 l/s. Expected to be delivered by target date.",null,null,null,null,1]
["SSD00649",null,null,null,null,"WQ","South East","Solent and South Downs","Southern Water Services Ltd","7SO300556","SOUTH HARTING WWTW","Elsted Stream","GB107041013010","River","Rother Western",null,null,null,"U_IMP5",null,null,null,null,null,"Continuous Discharge","2025-03-31","Green","W00600",479350,119850,null,null,null,null,null,null,null,null,null,null,null,null,null,null,null,null,null,null,null,null,null,null,null,null,null,null,null,null,null,null,null,null,null,null,null,null,null,null,null,null,null,null,null,null,null,null,null,null,null,null,null,null,null,null,null,null,null,null,null,null,null,null,null,null,null,0,1,1,0,"WWN","£m",1,"Shortfall addressed at South Harting WTW = 10.6 l/s. Expected to be delivered by target date.",null,null,null,null,10.6]
["SSD00650",null,null,null,null,"WQ","South East","Solent and South Downs","Southern Water Services Ltd","7SO300557","ST HELENS WWTW",null,null,null,null,null,null,null,"U_IMP5",null,null,null,null,null,"Continuous Discharge","2025-03-31","Green",null,null,null,null,null,null,null,null,null,null,null,null,null,null,null,null,null,null,null,null,null,null,null,null,null,null,null,null,null,null,null,null,null,null,null,null,null,null,null,null,null,null,null,null,null,null,null,null,null,null,null,null,null,null,null,null,null,null,null,null,null,null,null,null,null,null,null,null,0,0,1,0,"WWN","£m",1,"Shortfall addressed at St Helens WTW = 1.1 l/s. Expected to be delivered by target date.",null,null,null,null,1.1000000000000001]
["SSD00651",null,null,null,null,"WQ","South East","Solent and South Downs","Southern Water Services Ltd","7SO300558","STEYNING WWTW",null,null,null,null,null,null,null,"U_IMP5",null,null,null,null,null,"Continuous Discharge","2025-03-31","Green","W00390",518626,112061,null,null,null,null,null,null,null,null,null,null,null,null,null,null,null,null,null,null,null,null,null,null,null,null,null,null,null,null,null,null,null,null,null,null,null,null,null,null,null,null,null,null,null,null,null,null,null,null,null,null,null,null,null,null,null,null,null,null,null,null,null,null,null,null,null,0,0,1,0,"WWN","£m",1,"Shortfall addressed at Steyning WTW = 7.0 l/s. Expected to be delivered by target date.",null,null,null,null,7]
["KSL00447",null,null,null,null,"WQ","Thames","Kent South London and East Sussex","Southern Water Services Ltd","7SO300559","STONE HILL ROAD EGERTON WWTW","Medway","GB106040018320","River","Medway",null,null,null,"U_IMP5",null,null,null,null,null,"Continuous Discharge","2025-03-31","Green","W00003",590610,147090,null,null,null,null,null,null,null,null,null,null,null,null,null,null,null,null,null,null,null,null,null,null,null,null,null,null,null,null,null,null,null,null,null,null,null,null,null,null,null,null,null,null,null,null,null,null,null,null,null,null,null,null,null,null,null,null,null,null,null,null,null,null,null,null,null,0,0,1,0,"WWN","£m",1,"Shortfall addressed at Stone Hill Road Egerton WTW = 1.0 l/s. Expected to be delivered by target date.",null,null,null,null,1]
["KSL00448",null,null,null,null,"WQ","South East","Kent South London and East Sussex","Southern Water Services Ltd","7SO300560","STUBBS LANE BREDE WWTW","Brede","GB107040013550","River","Brede and Tillingham",null,null,null,"U_IMP5",null,null,null,null,null,"Continuous Discharge","2025-03-31","Green","A00591",582950,118819,null,null,null,null,null,null,null,null,null,null,null,null,null,null,null,null,null,null,null,null,null,null,null,null,null,null,null,null,null,null,null,null,null,null,null,null,null,null,null,null,null,null,null,null,null,null,null,null,null,null,null,null,null,null,null,null,null,null,null,null,null,null,null,null,null,0,1,1,0,"WWN","£m",1,"Shortfall addressed at Stubbs Lane Brede WTW = 2.2 l/s. Expected to be delivered by target date.",null,null,null,null,2.2000000000000002]
["SSD00652",null,null,null,null,"WQ","South East","Solent and South Downs","Southern Water Services Ltd","7SO300561","SUMMER LANE PAGHAM WWTW","Pagham Rife","GB107041012880","River","Western Streams",null,null,null,"U_IMP5",null,null,null,null,null,"Continuous Discharge","2025-03-31","Green","A01192",488270,98950,null,null,null,null,null,null,null,null,null,null,null,null,null,null,null,null,null,null,null,null,null,null,null,null,null,null,null,null,null,null,null,null,null,null,null,null,null,null,null,null,null,null,null,null,null,null,null,null,null,null,null,null,null,null,null,null,null,null,null,null,null,null,null,null,null,0,1,0,0,"WWN","£m",1,"Shortfall addressed at Summer Lane Pagham WTW = 21.1 l/s. Unlikely this measure will meet the currently agreed completion date. Delay to completion of project due to unforeseen environmental impacts. EA aware and alteration to regulatory date to be requested - delays to project due to badger set and illegal asbestos dumping. Forecast completion date 22/05/2025.","SRN confirm in model (column CY) expected delivery in PR24 year 2025/26 and EA confirm (March 2024) delivery will not be in PR19 (alteration rejected). Amend is by means of removal of this action from the overall group totex calculation in cell CR82.   ","Carry over",null,null,21.1,"Part of group of actions highlighted in query return OFW-REP-SRN-052 as carry over to AMP8. Already addressed as carry over to AMP8 in DD Model. No further action required.","2024-05-31"]
["KSL00449",null,null,null,null,"WQ","South East","Kent South London and East Sussex","Southern Water Services Ltd","7SO300562","SWALECLIFFE WWTW","Swalecliffe Brook","GB107040019630","River","Oyster Coast Brooks",null,null,null,"U_IMP5",null,null,null,null,null,"Continuous Discharge","2025-03-31","Green","A01102",613500,168150,null,null,null,null,null,null,null,null,null,null,null,null,null,null,null,null,null,null,null,null,null,null,null,null,null,null,null,null,null,null,null,null,null,null,null,null,null,null,null,null,null,null,null,null,null,null,null,null,null,null,null,null,null,null,null,null,null,null,null,null,null,null,null,null,null,0,0,0,0,"WWN","£m",1,"Shortfall addressed at Swalecliffe WTW = 59.2 l/s. Unlikely this measure will meet the currently agreed completion date. We are prioritising other site improvements, i.e. storm tank reconfiguration and construction of a new SSO, based on greater environmental benefit. Reg 36 / SSO scheme to be delivered by Sept 24. There are archaeological constraints on any work to be carried out on the site. Brook Rd CSO has been isolated, Storm Tank recongifuration works (as agreed with the EA) have commenced, Inlet Screen upgrade project on-going. AMP7 catchment works to reduce surface water flows into network are planned for Yr4 (AMP7). Forecast completion date 31/03/2028.","SRN confirm in model (column CY) expected delivery in PR24 year 2027/28 and EA confirm (March 2024) delivery will not be in PR19 (alteration rejected). Amend is by means of removal of this action from the group totex calculation in cell CR82.   ","Carry over",null,null,59.2]
["KSL00450",null,null,null,null,"WQ","Thames","Kent South London and East Sussex","Southern Water Services Ltd","7SO300563","TUNBRIDGE WELLS SOUTH WWTW","Grom","GB106040018400","River","Medway Upper",null,null,null,"U_IMP5",null,null,null,null,null,"Continuous Discharge","2025-03-31","Green","A00200",552690,137420,null,null,null,null,null,null,null,null,null,null,null,null,null,null,null,null,null,null,null,null,null,null,null,null,null,null,null,null,null,null,null,null,null,null,null,null,null,null,null,null,null,null,null,null,null,null,null,null,null,null,null,null,null,null,null,null,null,null,null,null,null,null,null,null,null,0,0,0,0,"WWN","£m",1,"Shortfall addressed at Tunbridge Wells South WTW = 47.2 l/s. Unlikely this measure will meet the currently agreed completion date. Scale and complexity of project larger than anticipated (forecast cost more than triple reconciled FD funding). Ensure AMP7 solution is aligned with AMP8 drivers. WFD_IMP P reduction driver will still be delivered in AMP7. Regulatory date alteration being sought from EA. Forecast completion date 31/03/2028.","SRN confirm in model (column CY) expected delivery in PR24 year 2027/28 and EA confirm (March 2024) delivery will not be in PR19 (alteration rejected). Amend is by means of removal of this action from the group totex calculation in cell CR82.   ","Carry over",null,null,47.2]
["KSL00451",null,null,null,null,"WQ",null,"Kent South London and East Sussex","Southern Water Services Ltd","7SO300565","WEST HYTHE WWTW",null,null,null,null,null,null,null,"U_IMP5",null,null,null,null,null,"Continuous Discharge","2025-03-31","Green",null,null,null,null,null,null,null,null,null,null,null,null,null,null,null,null,null,null,null,null,null,null,null,null,null,null,null,null,null,null,null,null,null,null,null,null,null,null,null,null,null,null,null,null,null,null,null,null,null,null,null,null,null,null,null,null,null,null,null,null,null,null,null,null,null,null,null,null,0,0,1,0,"WWN","£m",1,"Shortfall addressed at West Hythe WTW = 34.0 l/s. Expected to be delivered by target date.",null,null,null,null,34]
["SSD00654",null,null,null,null,"WQ","South East","Solent and South Downs","Southern Water Services Ltd","7SO300566","WEST WELLOW WWTW","Blackwater (Test and Itchen)","GB107042016791","River","Test Lower and Southampton Streams",null,null,null,"U_IMP5",null,null,null,null,null,"Continuous Discharge","2025-03-31","Green","A00640",431720,119160,null,null,null,null,null,null,null,null,null,null,null,null,null,null,null,null,null,null,null,null,null,null,null,null,null,null,null,null,null,null,null,null,null,null,null,null,null,null,null,null,null,null,null,null,null,null,null,null,null,null,null,null,null,null,null,null,null,null,null,null,null,null,null,null,null,0,1,1,0,"WWN","£m",1,"Shortfall addressed at West Wellow WTW = 34.1 l/s. Expected to be delivered by target date.",null,null,null,null,34.1]
["SSD00571",null,null,null,null,"WQ","South East","Pan Area","Southern Water Services Ltd","7SO300449","Southern Water PR19 flow requirements","Water Company Scale","Water Company Scale","Water Company Scale","Water Company Scale",null,null,null,"U_IMP6",null,null,null,null,null,"Continuous Discharge","2025-03-31","Green",null,null,null,null,null,null,null,null,null,null,null,null,null,null,null,null,null,null,null,null,null,null,null,null,null,null,null,null,null,null,null,null,null,null,null,null,null,null,null,null,null,null,null,null,null,null,null,null,null,null,null,null,null,null,null,null,null,null,null,null,null,null,null,null,null,null,null,null,74.053276620122318,1,0,1,"WWN","£m",1,"Holding line - Removed and replaced with 56 lines below. As funding was given at PR19 against this holding line, marked as '1' in column CU. Marked as '0' in column CT as this line has been removed from WINEP and replaced by the individual schemes below. ","Cell CR81: amended from 81.90 to 74.05327662.  A 9.6% WINEP in the round reduction adjustment was made at PR19 FD. This comes from the published PR19 FD enhancement aggregator feeder model, where the catch-up efficiency and frontier shift adjustments are applied. See cell G19 in the \"WINEP-in-the-round\" tab."]
["KSL00709",null,null,null,null,"WQ","South East","Kent South London and East Sussex","Southern Water Services Ltd","7SO400112","ASHFORD","Great Stour between Ashford and Wye","GB107040019741","River","Stour Upper",null,null,null,"U_IMP6",null,null,null,null,null,"Continuous Discharge","2025-03-31","Green","A00805",601823,143463,null,null,null,null,null,null,null,null,null,null,null,null,null,null,null,null,null,null,null,null,null,null,null,null,null,null,null,null,null,null,null,null,null,null,null,null,null,null,null,null,null,null,null,null,null,null,null,null,null,null,null,null,null,null,null,null,null,null,null,null,null,null,null,null,null,33.523000000000003,1,1,0,"WWN","£m",1,"Allowed totex rate is the total for the U_IMP6 programme (rows 150 to 205), using the formula: 0.0012432A^0.87119 + 0.0043895A^0.78719B^0.19137 where: A is the cumulative volume of new or additional storage provided (in m3) and B is the no. of STWs being \nenhanced. Shortfall addressed Ashford WTW = 1261 m3. The requirement at Ashford is expected to be delivered by target date.\n\nFor rows 150 to 205  '1' has been entered in column CS if the site was in the PR19 FD, the funding however was in the total shown against the programme holding line in row 148. Quantity delivered in column CT is '1' as all schemes are in WINEP and due to be delivered. Column CU is '0' for all lines as the total funding for the programme was against the programme holding line rather than individual schemes. Please see individual lines for commentary on delivery. ","Cell CR150: Totex unit rate amened from 44.49 (total input entered by SRN in company model which included all actions) to 33.523 (Ofwat calculation of allowed totex based on total actions that are likely to deliver in PR19 only) as per SRN's delivery likelihood entries. This does not include any removed actions or actions that will carryover on delivery beyond PR19. Please note columns DB-DD have been added by Ofwat to evidence FD calculations used.",null,{"$f":"(0.0012432*(SUM( DD150:DD157,DD159:DD176,DD179:DD198,DD200:DD205)^0.87119))+(0.0043895*(SUM( DD150:DD157,DD159:DD176,DD179:DD198,DD200:DD205))^0.78719)*(52^0.19137)","v":33.522899269585466},{"$f":"(0.0012432*(SUM(DD150:DD205)^0.87119))+(0.0043895*(SUM(DD150:DD205)^0.78719))*(56^0.19137)","v":44.112014907123708},1261]
["SSD00942",null,null,null,null,"WQ",null,"Solent and South Downs","Southern Water Services Ltd","7SO400113","ASHINGTON","Honeybridge Stream","GB107041012120","River","Adur Upper",null,null,null,"U_IMP6",null,null,null,null,null,"Continuous Discharge","2025-03-31","Green","A01183",513610,115570,null,null,null,null,null,null,null,null,null,null,null,null,null,null,null,null,null,null,null,null,null,null,null,null,null,null,null,null,null,null,null,null,null,null,null,null,null,null,null,null,null,null,null,null,null,null,null,null,null,null,null,null,null,null,null,null,null,null,null,null,null,null,null,null,null,0,0,1,0,"WWN","£m",1,"Shortfall addressed Ashington WTW = 42 m3. Expected to be delivered by target date.",null,null,null,null,42]
["SSD00943",null,null,null,null,"WQ","South East","Solent and South Downs","Southern Water Services Ltd","7SO400114","BALCOMBE","Ouse from Slaugham to Ardingly Resevoir","GB107041012730","River","Ouse Upper",null,null,null,"U_IMP6",null,null,null,null,null,"Continuous Discharge","2025-03-31","Green","A01510",531281,128418,null,null,null,null,null,null,null,null,null,null,null,null,null,null,null,null,null,null,null,null,null,null,null,null,null,null,null,null,null,null,null,null,null,null,null,null,null,null,null,null,null,null,null,null,null,null,null,null,null,null,null,null,null,null,null,null,null,null,null,null,null,null,null,null,null,0,1,1,0,"WWN","£m",1,"Shortfall addressed Balcombe WTW = 20 m3. Expected to be delivered by target date.",null,null,null,null,20]
["SSD00944",null,null,null,null,"WQ","South East","Solent and South Downs","Southern Water Services Ltd","7SO400115","BARCOMBE NEW","Bevern Stream","GB107041012570","River","Ouse Upper",null,null,null,"U_IMP6",null,null,null,null,null,"Continuous Discharge","2025-03-31","Green","W00362",541410,116690,null,null,null,null,null,null,null,null,null,null,null,null,null,null,null,null,null,null,null,null,null,null,null,null,null,null,null,null,null,null,null,null,null,null,null,null,null,null,null,null,null,null,null,null,null,null,null,null,null,null,null,null,null,null,null,null,null,null,null,null,null,null,null,null,null,0,0,1,0,"WWN","£m",1,"Shortfall addressed Barcombe New WTW = 292 m3. Expected to be delivered by target date.",null,null,null,null,292]
["SSD00945",null,null,null,null,"WQ","South East","Solent and South Downs","Southern Water Services Ltd","7SO400116","BARNS GREEN","Adur & Ouse","GB107041012290","River","Adur & Ouse",null,null,null,"U_IMP6",null,null,null,null,null,"Continuous Discharge","2025-03-31","Green","W00385",512580,126250,null,null,null,null,null,null,null,null,null,null,null,null,null,null,null,null,null,null,null,null,null,null,null,null,null,null,null,null,null,null,null,null,null,null,null,null,null,null,null,null,null,null,null,null,null,null,null,null,null,null,null,null,null,null,null,null,null,null,null,null,null,null,null,null,null,0,0,1,0,"WWN","£m",1,"Shortfall addressed Barns Green WTW = 100 m3. Expected to be delivered by target date.",null,null,null,null,100]
["KSL00710",null,null,null,null,"WQ","South East","Kent South London and East Sussex","Southern Water Services Ltd","7SO400117","BATTLE","Brede","GB107040013550","River","Brede and Tillingham",null,null,null,"U_IMP6",null,null,null,null,null,"Continuous Discharge","2025-03-31","Green","W00538",575980,116170,null,null,null,null,null,null,null,null,null,null,null,null,null,null,null,null,null,null,null,null,null,null,null,null,null,null,null,null,null,null,null,null,null,null,null,null,null,null,null,null,null,null,null,null,null,null,null,null,null,null,null,null,null,null,null,null,null,null,null,null,null,null,null,null,null,0,1,1,0,"WWN","£m",1,"Shortfall addressed Battle WTW = 182 m3. Expected to be delivered by target date.",null,null,null,null,182]
["SSD00946",null,null,null,null,"WQ","South East","Solent and South Downs","Southern Water Services Ltd","7SO400118","BILLINGSHURST","Arun (U/S Pallingham)","GB107041017950","River","Arun Upper",null,null,null,"U_IMP6",null,null,null,null,null,"Continuous Discharge","2025-03-31","Green","A00526",507802,124727,null,null,null,null,null,null,null,null,null,null,null,null,null,null,null,null,null,null,null,null,null,null,null,null,null,null,null,null,null,null,null,null,null,null,null,null,null,null,null,null,null,null,null,null,null,null,null,null,null,null,null,null,null,null,null,null,null,null,null,null,null,null,null,null,null,0,1,1,0,"WWN","£m",1,"Shortfall addressed Billingshurst WTW = 155 m3. Expected to be delivered by target date.",null,null,null,null,155]
["SSD00947",null,null,null,null,"WQ","South East","Solent and South Downs","Southern Water Services Ltd","7SO400119","BLACKBOYS",null,null,null,null,null,null,null,"U_IMP6",null,null,null,null,null,"Continuous Discharge","2025-03-31","Green","W00361",552000,121200,null,null,null,null,null,null,null,null,null,null,null,null,null,null,null,null,null,null,null,null,null,null,null,null,null,null,null,null,null,null,null,null,null,null,null,null,null,null,null,null,null,null,null,null,null,null,null,null,null,null,null,null,null,null,null,null,null,null,null,null,null,null,null,null,null,0,1,1,0,"WWN","£m",1,"Shortfall addressed BlackboysWTW = 32 m3. Expected to be delivered by target date.",null,null,null,null,32]
["SSD00948",null,null,null,null,"WQ","South East","Solent and South Downs","Southern Water Services Ltd","7SO400120","BUDDS FARM HAVANT (Havant)","LANGSTONE HARBOUR","GB580705130000","Transitional","Hampshire East TraC",null,null,null,"U_IMP6",null,null,null,null,null,"Continuous Discharge","2025-03-31","Green","A00751",470540,105100,null,null,null,null,null,null,null,null,null,null,null,null,null,null,null,null,null,null,null,null,null,null,null,null,null,null,null,null,null,null,null,null,null,null,null,null,null,null,null,null,null,null,null,null,null,null,null,null,null,null,null,null,null,null,null,null,null,null,null,null,null,null,null,null,null,0,1,0,0,"WWN","£m",1,"Shortfall addressed Budds Farm Havant WTW = 3378 m3. Unlikely this measure will meet the currently agreed completion date. Delivery date sliped due to complexity of project. Forecast delivery date 11/11/2025.","SRN confirm in model (column CY) expected delivery in PR24 year 2025/26 and EA confirm (March 2024) delivery will not be in PR19 (alteration approved). Amend is by means of removal of this action from the group totex calculation in cell CR150.   ","Carry over",null,null,3378]
["SSD00949",null,null,null,null,"WQ","South East","Solent and South Downs","Southern Water Services Ltd","7SO400121","BUXTED","Uck Upstream of Buxted","GB107041012990","River","Ouse Upper",null,null,null,"U_IMP6",null,null,null,null,null,"Continuous Discharge","2025-03-31","Green","W00607",549470,123690,null,null,null,null,null,null,null,null,null,null,null,null,null,null,null,null,null,null,null,null,null,null,null,null,null,null,null,null,null,null,null,null,null,null,null,null,null,null,null,null,null,null,null,null,null,null,null,null,null,null,null,null,null,null,null,null,null,null,null,null,null,null,null,null,null,0,0,1,0,"WWN","£m",1,"Shortfall addressed Buxted WTW = 58 m3. Expected to be delivered by target date.",null,null,null,null,58]
["SSD00950",null,null,null,null,"WQ","South East","Solent and South Downs","Southern Water Services Ltd","7SO400122","CHICKENHALL EASTLEIGH","Itchen","GB107042022580","River","Itchen",null,null,null,"U_IMP6",null,null,null,null,null,"Continuous Discharge","2025-03-31","Green","A00154",446818,117888,null,null,null,null,null,null,null,null,null,null,null,null,null,null,null,null,null,null,null,null,null,null,null,null,null,null,null,null,null,null,null,null,null,null,null,null,null,null,null,null,null,null,null,null,null,null,null,null,null,null,null,null,null,null,null,null,null,null,null,null,null,null,null,null,null,0,1,1,0,"WWN","£m",1,"Shortfall addressed Chickenhall Eastleigh WTW = 1421 m3. Expected to be delivered by target date.",null,null,null,null,1421]
["KSL00711",null,null,null,null,"WQ","South East","Kent South London and East Sussex","Southern Water Services Ltd","7SO400123","DAMBRIDGE WINGHAM","Wingham and Little Stour","GB107040019570","River","Little Stour and Wingham",null,null,null,"U_IMP6",null,null,null,null,null,"Continuous Discharge","2025-03-31","Green","W00519",625400,157530,null,null,null,null,null,null,null,null,null,null,null,null,null,null,null,null,null,null,null,null,null,null,null,null,null,null,null,null,null,null,null,null,null,null,null,null,null,null,null,null,null,null,null,null,null,null,null,null,null,null,null,null,null,null,null,null,null,null,null,null,null,null,null,null,null,0,0,1,0,"WWN","£m",1,"Shortfall addressed Dambridge Wingham WTW = 404 m3. Expected to be delivered by target date.",null,null,null,null,404]
["SSD00951",null,null,null,null,"WQ","South East","Solent and South Downs","Southern Water Services Ltd","7SO400124","DITCHLING",null,null,null,null,null,null,null,"U_IMP6",null,null,null,null,null,"Continuous Discharge","2025-03-31","Green","W00340",533702,115306,null,null,null,null,null,null,null,null,null,null,null,null,null,null,null,null,null,null,null,null,null,null,null,null,null,null,null,null,null,null,null,null,null,null,null,null,null,null,null,null,null,null,null,null,null,null,null,null,null,null,null,null,null,null,null,null,null,null,null,null,null,null,null,null,null,0,1,1,0,"WWN","£m",1,"Shortfall addressed Ditchling WTW = 74.48 m3. Expected to be delivered by target date.",null,null,null,null,74.48]
["KSL00712",null,null,null,null,"WQ",null,"Kent South London and East Sussex","Southern Water Services Ltd","7SO400125","DITTON",null,null,null,null,null,null,null,"U_IMP6",null,null,null,null,null,"Continuous Discharge","2025-03-31","Green","W00022",572038,159332,null,null,null,null,null,null,null,null,null,null,null,null,null,null,null,null,null,null,null,null,null,null,null,null,null,null,null,null,null,null,null,null,null,null,null,null,null,null,null,null,null,null,null,null,null,null,null,null,null,null,null,null,null,null,null,null,null,null,null,null,null,null,null,null,null,0,1,1,0,"WWN","£m",1,"Shortfall addressed Ditton WTW = 713 m3. Expected to be delivered by target date.",null,null,null,null,713]
["SSD00952",null,null,null,null,"WQ","South East","Solent and South Downs","Southern Water Services Ltd","7SO400126","EAST DEAN","Sussex","GB640704540003","Coastal","Sussex TraC",null,null,null,"U_IMP6",null,null,null,null,null,"Continuous Discharge","2025-03-31","Green","W00329",555740,96310,null,null,null,null,null,null,null,null,null,null,null,null,null,null,null,null,null,null,null,null,null,null,null,null,null,null,null,null,null,null,null,null,null,null,null,null,null,null,null,null,null,null,null,null,null,null,null,null,null,null,null,null,null,null,null,null,null,null,null,null,null,null,null,null,null,0,1,1,0,"WWN","£m",1,"Shortfall addressed East Dean WTW = 30 m3. Expected to be delivered by target date.",null,null,null,null,30]
["SSD00953",null,null,null,null,"WQ","South East","Solent and South Downs","Southern Water Services Ltd","7SO400127","EAST GRIMSTEAD","Dun","GB107042022640","River","Test Lower and Southampton Streams",null,null,null,"U_IMP6",null,null,null,null,null,"Continuous Discharge","2025-03-31","Green","W00313",423038,127419,null,null,null,null,null,null,null,null,null,null,null,null,null,null,null,null,null,null,null,null,null,null,null,null,null,null,null,null,null,null,null,null,null,null,null,null,null,null,null,null,null,null,null,null,null,null,null,null,null,null,null,null,null,null,null,null,null,null,null,null,null,null,null,null,null,0,1,1,0,"WWN","£m",1,"Shortfall addressed East Grimstead WTW = 77 m3. Expected to be delivered by target date.",null,null,null,null,77]
["KSL00713",null,null,null,null,"WQ","Thames","Kent South London and East Sussex","Southern Water Services Ltd","7SO400128","EDEN VALE EAST GRINSTEAD","Eden Brook","GB106040018660","River","Eden",null,null,null,"U_IMP6",null,null,null,null,null,"Continuous Discharge","2025-03-31","Green","W00520",539258,140380,null,null,null,null,null,null,null,null,null,null,null,null,null,null,null,null,null,null,null,null,null,null,null,null,null,null,null,null,null,null,null,null,null,null,null,null,null,null,null,null,null,null,null,null,null,null,null,null,null,null,null,null,null,null,null,null,null,null,null,null,null,null,null,null,null,0,0,1,0,"WWN","£m",1,"Shortfall addressed Eden Vale East Grinstead WTW = 298 m3. Expected to be delivered by target date.",null,null,null,null,298]
["KSL00714",null,null,null,null,"WQ","Thames","Kent South London and East Sussex","Southern Water Services Ltd","7SO400129","EDENBRIDGE","Lower Eden","GB106040018160","River","Eden",null,null,null,"U_IMP6",null,null,null,null,null,"Continuous Discharge","2025-03-31","Green","A00528",545420,146490,null,null,null,null,null,null,null,null,null,null,null,null,null,null,null,null,null,null,null,null,null,null,null,null,null,null,null,null,null,null,null,null,null,null,null,null,null,null,null,null,null,null,null,null,null,null,null,null,null,null,null,null,null,null,null,null,null,null,null,null,null,null,null,null,null,0,0,1,0,"WWN","£m",1,"Shortfall addressed Edenbridge WTW = 49 m3. Expected to be delivered by target date.",null,null,null,null,49]
["KSL00715",null,null,null,null,"WQ",null,"Kent South London and East Sussex","Southern Water Services Ltd","7SO400130","GRAVESEND",null,null,null,null,null,null,null,"U_IMP6",null,null,null,null,null,"Continuous Discharge","2025-03-31","Green","CATM.2969",null,null,null,null,null,null,null,null,null,null,null,null,null,null,null,null,null,null,null,null,null,null,null,null,null,null,null,null,null,null,null,null,null,null,null,null,null,null,null,null,null,null,null,null,null,null,null,null,null,null,null,null,null,null,null,null,null,null,null,null,null,null,null,null,null,null,null,0,1,1,0,"WWN","£m",1,"Shortfall addressed Gravesend WTW = 1159 m3. Expected to be delivered by target date.",null,null,null,null,1159]
["KSL00716",null,null,null,null,"WQ","Thames","Kent South London and East Sussex","Southern Water Services Ltd","7SO400131","HAM HILL","Leybourne Stream","GB106040018450","River","Medway Middle",null,null,null,"U_IMP6",null,null,null,null,null,"Continuous Discharge","2025-03-31","Green","W00503",571190,161330,null,null,null,null,null,null,null,null,null,null,null,null,null,null,null,null,null,null,null,null,null,null,null,null,null,null,null,null,null,null,null,null,null,null,null,null,null,null,null,null,null,null,null,null,null,null,null,null,null,null,null,null,null,null,null,null,null,null,null,null,null,null,null,null,null,0,0,1,0,"WWN","£m",1,"Shortfall addressed Ham Hill WTW = 2606 m3. Expected to be delivered by target date.",null,null,null,null,2606]
["SSD00954",null,null,null,null,"WQ","South East","Solent and South Downs","Southern Water Services Ltd","7SO400132","HARTFIELD",null,null,null,null,null,null,null,"U_IMP6",null,null,null,null,null,"Continuous Discharge","2025-03-31","Green","W00120",548241,136107,null,null,null,null,null,null,null,null,null,null,null,null,null,null,null,null,null,null,null,null,null,null,null,null,null,null,null,null,null,null,null,null,null,null,null,null,null,null,null,null,null,null,null,null,null,null,null,null,null,null,null,null,null,null,null,null,null,null,null,null,null,null,null,null,null,0,0,1,0,"WWN","£m",1,"Shortfall addressed Hartfield WTW = 19 m3. Expected to be delivered by target date.",null,null,null,null,19]
["KSL00717",null,null,null,null,"WQ","South East","Kent South London and East Sussex","Southern Water Services Ltd","7SO400133","HAWKHURST NORTH","Kent Ditch","GB107040013600","River","Rother Levels",null,null,null,"U_IMP6",null,null,null,null,null,"Continuous Discharge","2025-03-31","Green","A01217",576760,131247,null,null,null,null,null,null,null,null,null,null,null,null,null,null,null,null,null,null,null,null,null,null,null,null,null,null,null,null,null,null,null,null,null,null,null,null,null,null,null,null,null,null,null,null,null,null,null,null,null,null,null,null,null,null,null,null,null,null,null,null,null,null,null,null,null,0,1,1,0,"WWN","£m",1,"Shortfall addressed Hawkhurst North WTW = 21 m3. Expected to be delivered by target date.",null,null,null,null,21]
["SSD00955",null,null,null,null,"WQ","South East","Solent and South Downs","Southern Water Services Ltd","7SO400134","HENFIELD","Chess Stream","GB107041012110","River","Adur Upper",null,null,null,"U_IMP6",null,null,null,null,null,"Continuous Discharge","2025-03-31","Green","W00015",521749,117097,null,null,null,null,null,null,null,null,null,null,null,null,null,null,null,null,null,null,null,null,null,null,null,null,null,null,null,null,null,null,null,null,null,null,null,null,null,null,null,null,null,null,null,null,null,null,null,null,null,null,null,null,null,null,null,null,null,null,null,null,null,null,null,null,null,0,1,1,0,"WWN","£m",1,"Shortfall addressed Henfield WTW = 116.1 m3. Expected to be delivered by target date.",null,null,null,null,116.1]
["KSL00718",null,null,null,null,"WQ","Thames","Kent South London and East Sussex","Southern Water Services Ltd","7SO400135","HIGH HALDEN","Upper Beult","GB106040018280","River","Beult",null,null,null,"U_IMP6",null,null,null,null,null,"Continuous Discharge","2025-03-31","Green","W00480",588941,137719,null,null,null,null,null,null,null,null,null,null,null,null,null,null,null,null,null,null,null,null,null,null,null,null,null,null,null,null,null,null,null,null,null,null,null,null,null,null,null,null,null,null,null,null,null,null,null,null,null,null,null,null,null,null,null,null,null,null,null,null,null,null,null,null,null,0,1,1,0,"WWN","£m",1,"Shortfall addressed High Halden WTW = 19.58 m3. Expected to be delivered by target date.",null,null,null,null,19.579999999999998]
["KSL00719",null,null,null,null,"WQ",null,"Kent South London and East Sussex","Southern Water Services Ltd","7SO400136","IDEN",null,null,null,null,null,null,null,"U_IMP6",null,null,null,null,null,"Continuous Discharge","2025-03-31","Green","W00513",591458,124968,null,null,null,null,null,null,null,null,null,null,null,null,null,null,null,null,null,null,null,null,null,null,null,null,null,null,null,null,null,null,null,null,null,null,null,null,null,null,null,null,null,null,null,null,null,null,null,null,null,null,null,null,null,null,null,null,null,null,null,null,null,null,null,null,null,0,0,1,0,"WWN","£m",1,"Shortfall addressed Iden WTW = 31 m3. Expected to be delivered by target date.",null,null,null,null,31]
["KSL00720",null,null,null,null,"WQ","Thames","Kent South London and East Sussex","Southern Water Services Ltd","7SO400137","KILNDOWN","Tributary of Teise","GB106040018510","River","Teise",null,null,null,"U_IMP6",null,null,null,null,null,"Continuous Discharge","2025-03-31","Green","A00005",570700,135050,null,null,null,null,null,null,null,null,null,null,null,null,null,null,null,null,null,null,null,null,null,null,null,null,null,null,null,null,null,null,null,null,null,null,null,null,null,null,null,null,null,null,null,null,null,null,null,null,null,null,null,null,null,null,null,null,null,null,null,null,null,null,null,null,null,0,0,1,0,"WWN","£m",1,"Shortfall addressed Kilndown WTW = 4 m3. Expected to be delivered by target date.",null,null,null,null,4]
["SSD00956",null,null,null,null,"WQ","South East","Solent and South Downs","Southern Water Services Ltd","7SO400138","LAVANT",null,null,null,null,null,null,null,"U_IMP6",null,null,null,null,null,"Continuous Discharge","2025-03-31","Green","W00359",486459,107921,null,null,null,null,null,null,null,null,null,null,null,null,null,null,null,null,null,null,null,null,null,null,null,null,null,null,null,null,null,null,null,null,null,null,null,null,null,null,null,null,null,null,null,null,null,null,null,null,null,null,null,null,null,null,null,null,null,null,null,null,null,null,null,null,null,0,0,1,0,"WWN","£m",1,"Shortfall addressed Lavant WTW = 46 m3. Expected to be delivered by target date.",null,null,null,null,46]
["SSD00957",null,null,null,null,"WQ","South East","Solent and South Downs","Southern Water Services Ltd","7SO400139","MORESTEAD ROAD WINCHESTER",null,null,null,null,null,null,null,"U_IMP6",null,null,null,null,null,"Continuous Discharge","2025-03-31","Green","A00712",449057,127887,null,null,null,null,null,null,null,null,null,null,null,null,null,null,null,null,null,null,null,null,null,null,null,null,null,null,null,null,null,null,null,null,null,null,null,null,null,null,null,null,null,null,null,null,null,null,null,null,null,null,null,null,null,null,null,null,null,null,null,null,null,null,null,null,null,0,0,0,0,"WWN","£m",1,"Shortfall addressed Morestead Road Winchester WTW = 0 m3 - to be removed","SRN confirm in model (column CY) removal. Amend is by means of removal of this action from the group totex calculation in cell CR150.   ","Removal",null,null,0]
["KSL00721",null,null,null,null,"WQ","Thames","Kent South London and East Sussex","Southern Water Services Ltd","7SO400140","MOTNEY HILL","MEDWAY","GB530604002300","Transitional","Medway Swale Estuary",null,null,null,"U_IMP6",null,null,null,null,null,"Continuous Discharge","2025-03-31","Green","A00720",583150,169000,null,null,null,null,null,null,null,null,null,null,null,null,null,null,null,null,null,null,null,null,null,null,null,null,null,null,null,null,null,null,null,null,null,null,null,null,null,null,null,null,null,null,null,null,null,null,null,null,null,null,null,null,null,null,null,null,null,null,null,null,null,null,null,null,null,0,0,0,0,"WWN","£m",1,"Shortfall addressed Motney Hill WTW = 5522 m3. Unlikely this measure will meet the currently agreed completion date. Opportunity to have a holistic solution that also addresses the AMP8 EnvAct_IMP4 Spills Reduction driver. Regulatory date alteration being sought from EA. Forecast completion date 31/03/2028. ","SRN confirm in model (column CY) expected delivery in PR24 year 2027/28 and EA confirm (March 2024) delivery will not be in PR19 (alteration rejected). Amend is by means of removal of this action from the group totex calculation in cell CR150.   ","Carry over",null,null,5522]
["SSD00958",null,null,null,null,"WQ","South East","Solent and South Downs","Southern Water Services Ltd","7SO400141","NEW ALRESFORD","Itchen (Cheriton Stream)","GB107042016670","River","Itchen",null,null,null,"U_IMP6",null,null,null,null,null,"Continuous Discharge","2025-03-31","Green","W00227",459050,130710,null,null,null,null,null,null,null,null,null,null,null,null,null,null,null,null,null,null,null,null,null,null,null,null,null,null,null,null,null,null,null,null,null,null,null,null,null,null,null,null,null,null,null,null,null,null,null,null,null,null,null,null,null,null,null,null,null,null,null,null,null,null,null,null,null,0,0,1,0,"WWN","£m",1,"Shortfall addressed New Alresford WTW = 364 m3. Expected to be delivered by target date.",null,null,null,null,364]
["KSL00722",null,null,null,null,"WQ","South East","Kent South London and East Sussex","Southern Water Services Ltd","7SO400142","NEWBURY LANE CUCKFIELD",null,null,null,null,null,null,null,"U_IMP6",null,null,null,null,null,"Continuous Discharge","2025-03-31","Green","W00406",530220,123882,null,null,null,null,null,null,null,null,null,null,null,null,null,null,null,null,null,null,null,null,null,null,null,null,null,null,null,null,null,null,null,null,null,null,null,null,null,null,null,null,null,null,null,null,null,null,null,null,null,null,null,null,null,null,null,null,null,null,null,null,null,null,null,null,null,0,1,1,0,"WWN","£m",1,"Shortfall addressed Newbury Lane Cuckfield WTW = 153 m3. Expected to be delivered by target date.",null,null,null,null,153]
["SSD00959",null,null,null,null,"WQ","South East","Solent and South Downs","Southern Water Services Ltd","7SO400143","NEWICK","Middle Ouse","GB107041012710","River","Ouse Upper",null,null,null,"U_IMP6",null,null,null,null,null,"Continuous Discharge","2025-03-31","Green","W00358",542022,121714,null,null,null,null,null,null,null,null,null,null,null,null,null,null,null,null,null,null,null,null,null,null,null,null,null,null,null,null,null,null,null,null,null,null,null,null,null,null,null,null,null,null,null,null,null,null,null,null,null,null,null,null,null,null,null,null,null,null,null,null,null,null,null,null,null,0,0,1,0,"WWN","£m",1,"Shortfall addressed Newick WTW = 63 m3. Expected to be delivered by target date.",null,null,null,null,63]
["SSD00960",null,null,null,null,"WQ","South East","Solent and South Downs","Southern Water Services Ltd","7SO400144","OVERTON","Test (Upper)","GB107042022710","River","Test Upper and Middle",null,null,null,"U_IMP6",null,null,null,null,null,"Continuous Discharge","2025-03-31","Green","NPSWQD010441",450355,149723,null,null,null,null,null,null,null,null,null,null,null,null,null,null,null,null,null,null,null,null,null,null,null,null,null,null,null,null,null,null,null,null,null,null,null,null,null,null,null,null,null,null,null,null,null,null,null,null,null,null,null,null,null,null,null,null,null,null,null,null,null,null,null,null,null,0,1,1,0,"WWN","£m",1,"Shortfall addressed Overton WTW = 272 m3. Expected to be delivered by target date.",null,null,null,null,272]
["SSD00961",null,null,null,null,"WQ","South East","Solent and South Downs","Southern Water Services Ltd","7SO400145","PETERSFIELD","Arun & Western ","GB107041012790","River","Rother Western",null,null,null,"U_IMP6",null,null,null,null,null,"Continuous Discharge","2025-03-31","Green","W00424",null,null,null,null,null,null,null,null,null,null,null,null,null,null,null,null,null,null,null,null,null,null,null,null,null,null,null,null,null,null,null,null,null,null,null,null,null,null,null,null,null,null,null,null,null,null,null,null,null,null,null,null,null,null,null,null,null,null,null,null,null,null,null,null,null,null,null,0,1,1,0,"WWN","£m",1,"Shortfall addressed Petersfield WTW = 481 m3. Expected to be delivered by target date.",null,null,null,null,481]
["SSD00962",null,null,null,null,"WQ","South East","Solent and South Downs","Southern Water Services Ltd","7SO400146","PORTSWOOD","SOUTHAMPTON WATER","GB520704202800","Transitional","Southampton Water",null,null,null,"U_IMP6",null,null,null,null,null,"Continuous Discharge","2025-03-31","Green","W00314",443580,114590,null,null,null,null,null,null,null,null,null,null,null,null,null,null,null,null,null,null,null,null,null,null,null,null,null,null,null,null,null,null,null,null,null,null,null,null,null,null,null,null,null,null,null,null,null,null,null,null,null,null,null,null,null,null,null,null,null,null,null,null,null,null,null,null,null,0,1,1,0,"WWN","£m",1,"Shortfall addressed Portswood WTW = 3017 m3. Expected to be delivered by target date.",null,null,null,null,3017]
["KSL00723",null,null,null,null,"WQ","Thames","Kent South London and East Sussex","Southern Water Services Ltd","7SO400147","QUEENBOROUGH","SWALE","GB530604011500","Transitional","Medway Swale Estuary",null,null,null,"U_IMP6",null,null,null,null,null,"Continuous Discharge","2025-03-31","Green","A00697",590850,169970,null,null,null,null,null,null,null,null,null,null,null,null,null,null,null,null,null,null,null,null,null,null,null,null,null,null,null,null,null,null,null,null,null,null,null,null,null,null,null,null,null,null,null,null,null,null,null,null,null,null,null,null,null,null,null,null,null,null,null,null,null,null,null,null,null,0,1,1,0,"WWN","£m",1,"Shortfall addressed Queenborough WTW = 579 m3. Expected to be delivered by target date.",null,null,null,null,579]
["KSL00724",null,null,null,null,"WQ","South East","Kent South London and East Sussex","Southern Water Services Ltd","7SO400148","QUICKBOURNE LANE NORTHIAM","Lower Rother from Etchingham to Scott's Float","GB107040013640","River","Rother Levels",null,null,null,"U_IMP6",null,null,null,null,null,"Continuous Discharge","2025-03-31","Green","A00002",583540,125720,null,null,null,null,null,null,null,null,null,null,null,null,null,null,null,null,null,null,null,null,null,null,null,null,null,null,null,null,null,null,null,null,null,null,null,null,null,null,null,null,null,null,null,null,null,null,null,null,null,null,null,null,null,null,null,null,null,null,null,null,null,null,null,null,null,0,1,1,0,"WWN","£m",1,"Shortfall addressed Quickbourne Lane Northiam WTW = 22 m3. Expected to be delivered by target date.",null,null,null,null,22]
["KSL00725",null,null,null,null,"WQ","South East","Kent South London and East Sussex","Southern Water Services Ltd","7SO400149","READING STREET","Reading Sewer (Newmill Channel to Cradlebridge Sewer)","GB107040013520","River","Reading Cradlebridge and RMC",null,null,null,"U_IMP6",null,null,null,null,null,"Continuous Discharge","2025-03-31","Green","A00676",592050,130450,null,null,null,null,null,null,null,null,null,null,null,null,null,null,null,null,null,null,null,null,null,null,null,null,null,null,null,null,null,null,null,null,null,null,null,null,null,null,null,null,null,null,null,null,null,null,null,null,null,null,null,null,null,null,null,null,null,null,null,null,null,null,null,null,null,0,0,1,0,"WWN","£m",1,"Shortfall addressed Reading Street WTW = 3 m3. Expected to be delivered by target date.",null,null,null,null,3]
["SSD00963",null,null,null,null,"WQ","South East","Solent and South Downs","Southern Water Services Ltd","7SO400150","REDLYNCH","Blackwater","GB107042016810","River","Test Lower and Southampton Streams",null,null,null,"U_IMP6",null,null,null,null,null,"Continuous Discharge","2025-03-31","Green","W00240",421890,120030,null,null,null,null,null,null,null,null,null,null,null,null,null,null,null,null,null,null,null,null,null,null,null,null,null,null,null,null,null,null,null,null,null,null,null,null,null,null,null,null,null,null,null,null,null,null,null,null,null,null,null,null,null,null,null,null,null,null,null,null,null,null,null,null,null,0,0,1,0,"WWN","£m",1,"Shortfall addressed Redlynch WTW = 15 m3. Expected to be delivered by target date.",null,null,null,null,15]
["SSD00964",null,null,null,null,"WQ","South East","Solent and South Downs","Southern Water Services Ltd","7SO400151","ROGATE",null,null,null,null,null,null,null,"U_IMP6",null,null,null,null,null,"Continuous Discharge","2025-03-31","Green","W00400",480975,123243,null,null,null,null,null,null,null,null,null,null,null,null,null,null,null,null,null,null,null,null,null,null,null,null,null,null,null,null,null,null,null,null,null,null,null,null,null,null,null,null,null,null,null,null,null,null,null,null,null,null,null,null,null,null,null,null,null,null,null,null,null,null,null,null,null,0,1,1,0,"WWN","£m",1,"Shortfall addressed Rogate WTW = 17 m3. Expected to be delivered by target date.",null,null,null,null,17]
["KSL00726",null,null,null,null,"WQ",null,"Kent South London and East Sussex","Southern Water Services Ltd","7SO400152","SANDHURST",null,null,null,null,null,null,null,"U_IMP6",null,null,null,null,null,"Continuous Discharge","2025-03-31","Green","W00549",581150,129200,null,null,null,null,null,null,null,null,null,null,null,null,null,null,null,null,null,null,null,null,null,null,null,null,null,null,null,null,null,null,null,null,null,null,null,null,null,null,null,null,null,null,null,null,null,null,null,null,null,null,null,null,null,null,null,null,null,null,null,null,null,null,null,null,null,0,0,1,0,"WWN","£m",1,"Shortfall addressed Sandhurst WTW = 9 m3. Expected to be delivered by target date.",null,null,null,null,9]
["SSD00965",null,null,null,null,"WQ","South East","Solent and South Downs","Southern Water Services Ltd","7SO400153","SANDOWN NEW",null,null,null,null,null,null,null,"U_IMP6",null,null,null,null,null,"Continuous Discharge","2025-03-31","Green","A00726",460201,85190,null,null,null,null,null,null,null,null,null,null,null,null,null,null,null,null,null,null,null,null,null,null,null,null,null,null,null,null,null,null,null,null,null,null,null,null,null,null,null,null,null,null,null,null,null,null,null,null,null,null,null,null,null,null,null,null,null,null,null,null,null,null,null,null,null,0,0,1,0,"WWN","£m",1,"Shortfall addressed Sandwon New WTW = 2173 m3. Expected to be delivered by target date.",null,null,null,null,2173]
["SSD00966",null,null,null,null,"WQ","South East","Solent and South Downs","Southern Water Services Ltd","7SO400154","SHORWELL",null,null,null,null,null,null,null,"U_IMP6",null,null,null,null,null,"Continuous Discharge","2025-03-31","Green","A00197",444900,82500,null,null,null,null,null,null,null,null,null,null,null,null,null,null,null,null,null,null,null,null,null,null,null,null,null,null,null,null,null,null,null,null,null,null,null,null,null,null,null,null,null,null,null,null,null,null,null,null,null,null,null,null,null,null,null,null,null,null,null,null,null,null,null,null,null,0,1,1,0,"WWN","£m",1,"Shortfall addressed Shorwell WTW = 25 m3. Expected to be delivered by target date.",null,null,null,null,25]
["SSD00967",null,null,null,null,"WQ","South East","Solent and South Downs","Southern Water Services Ltd","7SO400155","SIDLESHAM","Broad Rife","GB107041006580","River","Western Streams",null,null,null,"U_IMP6",null,null,null,null,null,"Continuous Discharge","2025-03-31","Green","W00384",484980,95809,null,null,null,null,null,null,null,null,null,null,null,null,null,null,null,null,null,null,null,null,null,null,null,null,null,null,null,null,null,null,null,null,null,null,null,null,null,null,null,null,null,null,null,null,null,null,null,null,null,null,null,null,null,null,null,null,null,null,null,null,null,null,null,null,null,0,0,1,0,"WWN","£m",1,"Shortfall addressed Sidlesham WTW = 515.07 m3. Expected to be delivered by target date.",null,null,null,null,515.07000000000005]
["KSL00727",null,null,null,null,"WQ","Thames","Kent South London and East Sussex","Southern Water Services Ltd","7SO400156","SITTINGBOURNE","SWALE","GB530604011500","Transitional","Medway Swale Estuary",null,null,null,"U_IMP6",null,null,null,null,null,"Continuous Discharge","2025-03-31","Green","W00518",591260,164740,null,null,null,null,null,null,null,null,null,null,null,null,null,null,null,null,null,null,null,null,null,null,null,null,null,null,null,null,null,null,null,null,null,null,null,null,null,null,null,null,null,null,null,null,null,null,null,null,null,null,null,null,null,null,null,null,null,null,null,null,null,null,null,null,null,0,1,1,0,"WWN","£m",1,"Shortfall addressed Sittingbourne WTW = 2983 m3. Expected to be delivered by target date.",null,null,null,null,2983]
["KSL00728",null,null,null,null,"WQ",null,"Kent South London and East Sussex","Southern Water Services Ltd","7SO400157","SMARDEN",null,null,null,null,null,null,null,"U_IMP6",null,null,null,null,null,"Continuous Discharge","2025-03-31","Green","W00486",587765,142285,null,null,null,null,null,null,null,null,null,null,null,null,null,null,null,null,null,null,null,null,null,null,null,null,null,null,null,null,null,null,null,null,null,null,null,null,null,null,null,null,null,null,null,null,null,null,null,null,null,null,null,null,null,null,null,null,null,null,null,null,null,null,null,null,null,0,0,1,0,"WWN","£m",1,"Shortfall addressed Smarden WTW = 11 m3. Expected to be delivered by target date.",null,null,null,null,11]
["SSD00968",null,null,null,null,"WQ","South East","Solent and South Downs","Southern Water Services Ltd","7SO400158","SOUTH AMBERSHAM","Western Rother","GB107041012810","River","Rother Western",null,null,null,"U_IMP6",null,null,null,null,null,"Continuous Discharge","2025-03-31","Green","W00383   ",491760,121170,null,null,null,null,null,null,null,null,null,null,null,null,null,null,null,null,null,null,null,null,null,null,null,null,null,null,null,null,null,null,null,null,null,null,null,null,null,null,null,null,null,null,null,null,null,null,null,null,null,null,null,null,null,null,null,null,null,null,null,null,null,null,null,null,null,0,1,1,0,"WWN","£m",1,"Shortfall addressed South Ambersham WTW = 632 m3. Expected to be delivered by target date.",null,null,null,null,632]
["KSL00729",null,null,null,null,"WQ",null,"Kent South London and East Sussex","Southern Water Services Ltd","7SO400159","STAPLECROSS",null,null,null,null,null,null,null,"U_IMP6",null,null,null,null,null,"Continuous Discharge","2025-03-31","Green","A01199",579776,122237,null,null,null,null,null,null,null,null,null,null,null,null,null,null,null,null,null,null,null,null,null,null,null,null,null,null,null,null,null,null,null,null,null,null,null,null,null,null,null,null,null,null,null,null,null,null,null,null,null,null,null,null,null,null,null,null,null,null,null,null,null,null,null,null,null,0,0,1,0,"WWN","£m",1,"Shortfall addressed Staplecross WTW = 27 m3. Expected to be delivered by target date.",null,null,null,null,27]
["SSD00969",null,null,null,null,"WQ","South East","Solent and South Downs","Southern Water Services Ltd","7SO400160","STORRINGTON","Stor","GB107041012100","River","Arun Lower",null,null,null,"U_IMP6",null,null,null,null,null,"Continuous Discharge","2025-03-31","Green","A01171",507621,115371,null,null,null,null,null,null,null,null,null,null,null,null,null,null,null,null,null,null,null,null,null,null,null,null,null,null,null,null,null,null,null,null,null,null,null,null,null,null,null,null,null,null,null,null,null,null,null,null,null,null,null,null,null,null,null,null,null,null,null,null,null,null,null,null,null,0,1,1,0,"WWN","£m",1,"Shortfall addressed Storrington WTW = 92 m3. Expected to be delivered by target date.",null,null,null,null,92]
["SSD00970",null,null,null,null,"WQ","South East","Solent and South Downs","Southern Water Services Ltd","7SO400161","SUMMER LANE PAGHAM","Pagham Rife","GB107041012880","River","Western Streams",null,null,null,"U_IMP6",null,null,null,null,null,"Continuous Discharge","2025-03-31","Green","A01192",488270,98950,null,null,null,null,null,null,null,null,null,null,null,null,null,null,null,null,null,null,null,null,null,null,null,null,null,null,null,null,null,null,null,null,null,null,null,null,null,null,null,null,null,null,null,null,null,null,null,null,null,null,null,null,null,null,null,null,null,null,null,null,null,null,null,null,null,0,0,0,0,"WWN","£m",1,"Shortfall addressed Summer Lane Pagham WTW = 90 m3. Unlikely this measure will meet the currently agreed completion date. Delay to completion of project due to unforeseen environmental impacts. EA aware and alteration to regulatory date to be requested - delays to project due to badger set and illegal asbestos dumping. Forecast completion date 22/05/2025.","SRN confirm in model (column CY) expected delivery in PR24 year 2025/26 and EA confirm (March 2024) delivery will not be in PR19 (alteration rejected). Amend is by means of removal of this action from the group totex calculation in cell CR150.   ","Carry over",null,null,90," Part of group of actions highlighted in query return OFW-REP-SRN-052 as carry over to AMP8. Already addressed as carry over to AMP8 in DD Model. No further action required.  ","2024-05-31"]
["SSD00971",null,null,null,null,"WQ","South East","Solent and South Downs","Southern Water Services Ltd","7SO400162","TANGMERE","Aldingbourne Rife","GB107041011980","River","Western Streams",null,null,null,"U_IMP6",null,null,null,null,null,"Continuous Discharge","2025-03-31","Green","A001125",491762,106712,null,null,null,null,null,null,null,null,null,null,null,null,null,null,null,null,null,null,null,null,null,null,null,null,null,null,null,null,null,null,null,null,null,null,null,null,null,null,null,null,null,null,null,null,null,null,null,null,null,null,null,null,null,null,null,null,null,null,null,null,null,null,null,null,null,0,0,1,0,"WWN","£m",1,"Shortfall addressed Tangmere WTW = 698 m3. Expected to be delivered by target date.",null,null,null,null,698]
["KSL00730",null,null,null,null,"WQ",null,"Kent South London and East Sussex","Southern Water Services Ltd","7SO400163","TEYNHAM",null,null,null,null,null,null,null,"U_IMP6",null,null,null,null,null,"Continuous Discharge","2025-03-31","Green","W00577",595642,163383,null,null,null,null,null,null,null,null,null,null,null,null,null,null,null,null,null,null,null,null,null,null,null,null,null,null,null,null,null,null,null,null,null,null,null,null,null,null,null,null,null,null,null,null,null,null,null,null,null,null,null,null,null,null,null,null,null,null,null,null,null,null,null,null,null,0,0,1,0,"WWN","£m",1,"Shortfall addressed Teynham WTW = 77 m3. Expected to be delivered by target date.",null,null,null,null,77]
["KSL00731",null,null,null,null,"WQ",null,"Kent South London and East Sussex","Southern Water Services Ltd","7SO400164","WESTBERE",null,null,null,null,null,null,null,"U_IMP6",null,null,null,null,null,"Continuous Discharge","2025-03-31","Green","W00541",620158,161342,null,null,null,null,null,null,null,null,null,null,null,null,null,null,null,null,null,null,null,null,null,null,null,null,null,null,null,null,null,null,null,null,null,null,null,null,null,null,null,null,null,null,null,null,null,null,null,null,null,null,null,null,null,null,null,null,null,null,null,null,null,null,null,null,null,0,0,1,0,"WWN","£m",1,"Shortfall addressed Westbere WTW = 532 m3. Expected to be delivered by target date.",null,null,null,null,532]
["KSL00732",null,null,null,null,"WQ",null,"Kent South London and East Sussex","Southern Water Services Ltd","7SO400165","WHITEWALL CREEK",null,null,null,null,null,null,null,"U_IMP6",null,null,null,null,null,"Continuous Discharge","2025-03-31","Green","W00510",575018,170275,null,null,null,null,null,null,null,null,null,null,null,null,null,null,null,null,null,null,null,null,null,null,null,null,null,null,null,null,null,null,null,null,null,null,null,null,null,null,null,null,null,null,null,null,null,null,null,null,null,null,null,null,null,null,null,null,null,null,null,null,null,null,null,null,null,0,1,1,0,"WWN","£m",1,"Shortfall addressed Whitewall Creek WTW = 1508 m3. Expected to be delivered by target date.",null,null,null,null,1058]
["SSD00972",null,null,null,null,"WQ","South East","Solent and South Downs","Southern Water Services Ltd","7SO400166","WICKHAM","Meon","GB107042016640","River","East Hampshire Rivers",null,null,null,"U_IMP6",null,null,null,null,null,"Continuous Discharge","2025-03-31","Green","W00598",456670,110750,null,null,null,null,null,null,null,null,null,null,null,null,null,null,null,null,null,null,null,null,null,null,null,null,null,null,null,null,null,null,null,null,null,null,null,null,null,null,null,null,null,null,null,null,null,null,null,null,null,null,null,null,null,null,null,null,null,null,null,null,null,null,null,null,null,0,0,1,0,"WWN","£m",1,"Shortfall addressed Wickham WTW = 84 m3. Expected to be delivered by target date.",null,null,null,null,84]
["KSL00733",null,null,null,null,"WQ","South East","Kent South London and East Sussex","Southern Water Services Ltd","7SO400167","WINDMILL HILL HERSTMONCEUX","Nunningham Stream","GB107041012610","River","Pevensey",null,null,null,"U_IMP6",null,null,null,null,null,"Continuous Discharge","2025-03-31","Green","A01222",564920,112930,null,null,null,null,null,null,null,null,null,null,null,null,null,null,null,null,null,null,null,null,null,null,null,null,null,null,null,null,null,null,null,null,null,null,null,null,null,null,null,null,null,null,null,null,null,null,null,null,null,null,null,null,null,null,null,null,null,null,null,null,null,null,null,null,null,0,0,1,0,"WWN","£m",1,"Shortfall addressed Windmill Hill Herstmonceux WTW = 135 m3. Expected to be delivered by target date.",null,null,null,null,135]
["SSD00037",null,null,null,null,"WQ","South East","Pan Area","Southern Water Services Ltd","7SO200202","Southern Water PR19 shellfish water requirements","Water Company Scale","Water Company Scale","Water Company Scale","Water Company Scale",null,null,null,"SW_IMP",null,null,null,null,null,null,"2025-03-31","Green",null,null,null,null,null,null,null,null,null,null,null,null,null,null,null,null,null,null,null,null,null,null,null,null,null,null,null,null,null,null,null,null,null,null,null,null,null,null,null,null,null,null,null,null,null,null,null,null,null,null,null,null,null,null,null,null,null,null,null,null,null,null,null,null,null,null,null,null,0,1,0,0,"WWN","£m",1,"No schemes developed for this driver and not funded"]
["SSD00041",null,null,null,null,"WQ","South East","Pan Area","Southern Water Services Ltd","7SO200206","Southern Water PR19 shellfish water requirements","Water Company Scale","Water Company Scale","Water Company Scale","Water Company Scale",null,null,null,"SW_ND",null,null,null,null,null,null,"2021-06-30","Green",null,null,null,null,null,null,null,null,null,null,null,null,null,null,null,null,null,null,null,null,null,null,null,null,null,null,null,null,null,null,null,null,null,null,null,null,null,null,null,null,null,null,null,null,null,null,null,null,null,null,null,null,null,null,null,null,null,null,null,null,null,null,null,null,null,null,null,null,24.406838776641781,1,0,1,"WWN","£m",1,"Holding line - Removed and replaced with 7 lines below. Two lines in FD against this driver; coservation drivers and ultraviolet disinfection @ £13.5m each. As funding was given at PR19 against this holding line, marked as '1' in column CU. Marked as '0' in column CT as this line has been removed from WINEP and replaced by the individual schemes below. ","Cell CR81: amended from 26.993 to 24.40683878. A 9.6% WINEP in the round reduction adjustment was made at PR19 FD. This comes from the published PR19 FD enhancement aggregator feeder model, where the catch-up efficiency and frontier shift adjustments are applied. See cell G19 in the \"WINEP-in-the-round\" tab."]
["SSD00659",null,null,null,null,"WQ","South East","Solent and South Downs","Southern Water Services Ltd","7SO300571","Millbrook WwTW Storm Overflow","SOUTHAMPTON WATER","GB520704202800","Transitional","Southampton Water",null,null,null,"SW_ND",null,null,null,null,null,null,"2022-07-31","Green",null,null,null,null,null,null,null,null,null,null,null,null,null,null,null,null,null,null,null,null,null,null,null,null,null,null,null,null,null,null,null,null,null,null,null,null,null,null,null,null,null,null,null,null,null,null,null,null,null,null,null,null,null,null,null,null,null,null,null,null,null,null,null,null,null,null,null,null,{"$f":"14.476/5","v":2.8952},1,1,0,"WWN","£m",1,"Expected to be delivered by target date.\n\nAs there is no specific mechanism identified in the FD cost adjustment table for the conservation driver we have applied the U_IMP6 adjustment formula to the 5 applicable schemes (7SO300571, 7SO300569, 7SO300574, 7SO300568, 7SO300573) scheme as it is for increased storm storage. Unit rate shown here is that toal (£14.476m) divided by number of schemes (5). \n\nFor rows 208 to 214  '1' has been entered in column CS if the site was in the PR19 FD, the funding however was in the total shown against the programme holding line in row 207. Quantity delivered in column CT is '1' as all schemes are in WINEP and due to be delivered. Column CU is '0' for all lines as the total funding for the programme was against the programme holding line rather than individual schemes. Please see individual lines for commentary on delivery. "]
["SSD00660",null,null,null,null,"WQ","South East","Solent and South Downs","Southern Water Services Ltd","7SO300572","Slowhill Copse WwTW Continuous","SOUTHAMPTON WATER","GB520704202800","Transitional","Southampton Water",null,null,null,"SW_ND",null,null,null,null,null,null,"2023-11-09","Green",null,null,null,null,null,null,null,null,null,null,null,null,null,null,null,null,null,null,null,null,null,null,null,null,null,null,null,null,null,null,null,null,null,null,null,null,null,null,null,null,null,null,null,null,null,null,null,null,null,null,null,null,null,null,null,null,null,null,null,null,null,null,null,null,null,null,null,null,{"$f":"13.46/2","v":6.73},1,1,0,"WWN","£m",1,"Unit rate taken from PR19 FD enhancement feeder model FM_E_WWW_uv-disinfection_FD. Total allowance £13.46m divided by 2 schemes. This scheme remains the same as included in the feeder model. Expected to be delivered by target date."]
["SSD00658",null,null,null,null,"WQ","South East","Solent and South Downs","Southern Water Services Ltd","7SO300570","Millbrook WwTW Continuous","SOUTHAMPTON WATER","GB520704202800","Transitional","Southampton Water",null,null,null,"SW_ND",null,null,null,null,null,null,"2023-12-01","Green",null,null,null,null,null,null,null,null,null,null,null,null,null,null,null,null,null,null,null,null,null,null,null,null,null,null,null,null,null,null,null,null,null,null,null,null,null,null,null,null,null,null,null,null,null,null,null,null,null,null,null,null,null,null,null,null,null,null,null,null,null,null,null,null,null,null,null,null,{"$f":"13.46/2","v":6.73},1,1,0,"WWN","£m",1,"Unit rate taken from PR19 FD enhancement feeder model FM_E_WWW_uv-disinfection_FD. Total allowance £13.46m divided by 2 schemes. This scheme remains the same as included in the feeder model. Expected to be delivered by target date."]
["SSD00657",null,null,null,null,"WQ","South East","Solent and South Downs","Southern Water Services Ltd","7SO300569","Ensign Park Storm Overflow","SOUTHAMPTON WATER","GB520704202800","Transitional","Southampton Water",null,null,null,"SW_ND",null,null,null,null,null,null,"2023-02-28","Green","A01359",447170,106490,null,null,null,null,null,null,null,null,null,null,null,null,null,null,null,null,null,null,null,null,null,null,null,null,null,null,null,null,null,null,null,null,null,null,null,null,null,null,null,null,null,null,null,null,null,null,null,null,null,null,null,null,null,null,null,null,null,null,null,null,null,null,null,null,null,{"$f":"14.476/5","v":2.8952},1,1,0,"WWN","£m",1,"As there is no specific mechanism identified in the FD cost adjustment table for the conservation driver we have applied the U_IMP6 adjustment formula to the 5 applicable schemes (7SO300571, 7SO300569, 7SO300574, 7SO300568, 7SO300573) scheme as it is for increased storm storage. Unit rate shown here is that toal (£14.476m) divided by number of schemes (5). Expected to be delivered by target date."]
["SSD00662",null,null,null,null,"WQ","South East","Solent and South Downs","Southern Water Services Ltd","7SO300574","Woolston WwTW Storm Overflow","SOUTHAMPTON WATER","GB520704202800","Transitional","Southampton Water",null,null,null,"SW_ND",null,null,null,null,null,null,"2024-04-08","Green",null,null,null,null,null,null,null,null,null,null,null,null,null,null,null,null,null,null,null,null,null,null,null,null,null,null,null,null,null,null,null,null,null,null,null,null,null,null,null,null,null,null,null,null,null,null,null,null,null,null,null,null,null,null,null,null,null,null,null,null,null,null,null,null,null,null,null,null,2.8952,0,1,0,"WWN","£m",1,"As there is no specific mechanism identified in the FD cost adjustment table for the conservation driver we have applied the U_IMP6 adjustment formula to the 5 applicable schemes (7SO300571, 7SO300569, 7SO300574, 7SO300568, 7SO300573) scheme as it is for increased storm storage. Unit rate shown here is that toal (£14.476m) divided by number of schemes (5). \n\nThis scheme was not identified as being required under the SW_ND driver at PR19 and therefore was not included in the feeder model. This is a new requirement under the SW_ND driver not identified at PR19 due to being unable to confirm individual sites with the EA at the time.\n\nUnlikely this measure will meet the currently agreed completion date. Delays due to complexity of project and bad weather, also focussing on delivering the UV elemnt of the SW_ND schemes at Millbrook WwTW and Slowhill Copse WwTW. Forecast delivery date 01/11/2024."]
["SSD00656",null,null,null,null,"WQ","South East","Solent and South Downs","Southern Water Services Ltd","7SO300568","Ashlett Creek WwTW Storm Overflow","SOUTHAMPTON WATER","GB520704202800","Transitional","Southampton Water",null,null,null,"SW_ND",null,null,null,null,null,null,"2024-12-31","Green",null,null,null,null,null,null,null,null,null,null,null,null,null,null,null,null,null,null,null,null,null,null,null,null,null,null,null,null,null,null,null,null,null,null,null,null,null,null,null,null,null,null,null,null,null,null,null,null,null,null,null,null,null,null,null,null,null,null,null,null,null,null,null,null,null,null,null,null,2.8952,0,1,0,"WWN","£m",1,"As there is no specific mechanism identified in the FD cost adjustment table for the conservation driver we have applied the U_IMP6 adjustment formula to the 5 applicable schemes (7SO300571, 7SO300569, 7SO300574, 7SO300568, 7SO300573) scheme as it is for increased storm storage. Unit rate shown here is that toal (£14.476m) divided by number of schemes (5). Expected to be delivered by target date.\n\nThis scheme was not identified as being required under the SW_ND driver at PR19 and therefore was not included in the feeder model. This is a new requirement under the SW_ND driver not identified at PR19 due to being unable to confirm individual sites with the EA at the time."]
["SSD00661",null,null,null,null,"WQ","South East","Solent and South Downs","Southern Water Services Ltd","7SO300573","Slowhill Copse WwTW Storm Overflow","SOUTHAMPTON WATER","GB520704202800","Transitional","Southampton Water",null,null,null,"SW_ND",null,null,null,null,null,null,"2025-03-31","Green",null,null,null,null,null,null,null,null,null,null,null,null,null,null,null,null,null,null,null,null,null,null,null,null,null,null,null,null,null,null,null,null,null,null,null,null,null,null,null,null,null,null,null,null,null,null,null,null,null,null,null,null,null,null,null,null,null,null,null,null,null,null,null,null,null,null,null,null,2.8952,1,1,0,"WWN","£m",1,"As there is no specific mechanism identified in the FD cost adjustment table for the conservation driver we have applied the U_IMP6 adjustment formula to the 5 applicable schemes (7SO300571, 7SO300569, 7SO300574, 7SO300568, 7SO300573) scheme as it is for increased storm storage. Unit rate shown here is that toal (£14.476m) divided by number of schemes (5). Expected to be delivered by target date."]
["SSD00572",null,null,null,null,"WQ","South East","Pan Area","Southern Water Services Ltd","7SO300450","Southern Water PR19 flow requirements","Water Company Scale","Water Company Scale","Water Company Scale","Water Company Scale",null,null,null,"U_MON3",null,null,null,null,null,null,"2025-03-31","Green",null,null,null,null,null,null,null,null,null,null,null,null,null,null,null,null,null,null,null,null,null,null,null,null,null,null,null,null,null,null,null,null,null,null,null,null,null,null,null,null,null,null,null,null,null,null,null,null,null,null,null,null,null,null,null,null,null,null,null,null,null,null,null,null,null,null,null,null,0.9,1,0,1,"WWN","£m",1,"Holding line - Removed and replaced with 245 lines below. £0.9m unit rate based on 40 schemes identified in the PR19 Business Plan (TA.12.WW06 Wastewater Environmental Programme)"]
["SSD00665",null,null,null,null,"WQ","South East","Solent and South Downs","Southern Water Services Ltd","7SO300582","ALFRISTON WPS",null,null,null,null,null,null,null,"U_MON3",null,null,null,null,null,null,"2022-03-31","Green","W00343",551810,102134,null,null,null,null,null,null,null,null,null,null,null,null,null,null,null,null,null,null,null,null,null,null,null,null,null,null,null,null,null,null,null,null,null,null,null,null,null,null,null,null,null,null,null,null,null,null,null,null,null,null,null,null,null,null,null,null,null,null,null,null,null,null,null,null,null,0.56651999999999991,1,1,0,"WWN","£m",1,"Allowed totex rate is the total for the U_MON3 programme (rows 216 to 460), using the formula: 0.01165A + 0.0014B where: A is the number of EDMs installed and B is the number of permit activities carried out.\n\nFor rows 216 to 460  '1' has been entered in column CS if the site was in the PR19 FD, the funding however was in the total shown against the programme holding line in row 215. Quantity delivered in column CT is '1' as all schemes are in WINEP and due to be delivered. Column CU is '0' for all lines as the total funding for the programme was against the programme holding line rather than individual schemes. Please see individual lines for commentary on delivery. \n\nAlfriston WPS is expected to be delivered by target date.\n\n","Cell CS216: amended from 0 to 1, so the model will remove totex already funded (0.9) from holding line (as qty delivered of holding line set to zero). The model calculates the funded totex delivered (0.56652) as a result of this amend."]
["SSD00668",null,null,null,null,"WQ","South East","Solent and South Downs","Southern Water Services Ltd","7SO300587","ARDINGLY WWTW","Ouse Ardingly to confluence with Scrase Brk","GB107041012720","River","Ouse Upper",null,null,null,"U_MON3",null,null,null,null,null,null,"2022-03-31","Green","A00190",534990,128620,null,null,null,null,null,null,null,null,null,null,null,null,null,null,null,null,null,null,null,null,null,null,null,null,null,null,null,null,null,null,null,null,null,null,null,null,null,null,null,null,null,null,null,null,null,null,null,null,null,null,null,null,null,null,null,null,null,null,null,null,null,null,null,null,null,0,0,1,0,"WWN","£m",1,"See comment row 216. Expected to be delivered by target date."]
["KSL00461",null,null,null,null,"WQ",null,"Kent South London and East Sussex","Southern Water Services Ltd","7SO300591","ASHFORD WWTW",null,null,null,null,null,null,null,"U_MON3",null,null,null,null,null,null,"2022-03-31","Green","A00805",601823,143463,null,null,null,null,null,null,null,null,null,null,null,null,null,null,null,null,null,null,null,null,null,null,null,null,null,null,null,null,null,null,null,null,null,null,null,null,null,null,null,null,null,null,null,null,null,null,null,null,null,null,null,null,null,null,null,null,null,null,null,null,null,null,null,null,null,0,0,1,0,"WWN","£m",1,"See comment row 216. Expected to be delivered by target date."]
["SSD00670",null,null,null,null,"WQ","South East","Solent and South Downs","Southern Water Services Ltd","7SO300593","ASHINGTON WWTW","Honeybridge Stream","GB107041012120","River","Adur Upper",null,null,null,"U_MON3",null,null,null,null,null,null,"2022-03-31","Green","A01183",513610,115570,null,null,null,null,null,null,null,null,null,null,null,null,null,null,null,null,null,null,null,null,null,null,null,null,null,null,null,null,null,null,null,null,null,null,null,null,null,null,null,null,null,null,null,null,null,null,null,null,null,null,null,null,null,null,null,null,null,null,null,null,null,null,null,null,null,0,0,1,0,"WWN","£m",1,"See comment row 216. Expected to be delivered by target date."]
["KSL00466",null,null,null,null,"WQ","South East","Kent South London and East Sussex","Southern Water Services Ltd","7SO300606","BATTLE WWTW","Brede","GB107040013550","River","Brede and Tillingham",null,null,null,"U_MON3",null,null,null,null,null,null,"2022-03-31","Green","W00538",575980,116170,null,null,null,null,null,null,null,null,null,null,null,null,null,null,null,null,null,null,null,null,null,null,null,null,null,null,null,null,null,null,null,null,null,null,null,null,null,null,null,null,null,null,null,null,null,null,null,null,null,null,null,null,null,null,null,null,null,null,null,null,null,null,null,null,null,0,0,1,0,"WWN","£m",1,"See comment row 216. Expected to be delivered by target date."]
["SSD00680",null,null,null,null,"WQ","South East","Solent and South Downs","Southern Water Services Ltd","7SO300608","BEAULIEU VILLAGE WWTW","BEAULIEU RIVER","GB520704201400","Transitional","Lymington Beaulieu Estuaries",null,null,null,"U_MON3",null,null,null,null,null,null,"2022-03-31","Green","A00853",439130,101900,null,null,null,null,null,null,null,null,null,null,null,null,null,null,null,null,null,null,null,null,null,null,null,null,null,null,null,null,null,null,null,null,null,null,null,null,null,null,null,null,null,null,null,null,null,null,null,null,null,null,null,null,null,null,null,null,null,null,null,null,null,null,null,null,null,0,0,1,0,"WWN","£m",1,"See comment row 216. Expected to be delivered by target date."]
["KSL00468",null,null,null,null,"WQ",null,"Kent South London and East Sussex","Southern Water Services Ltd","7SO300610","BECKLEY WWTW",null,null,null,null,null,null,null,"U_MON3",null,null,null,null,null,null,"2022-03-31","Green","W00537",585350,124550,null,null,null,null,null,null,null,null,null,null,null,null,null,null,null,null,null,null,null,null,null,null,null,null,null,null,null,null,null,null,null,null,null,null,null,null,null,null,null,null,null,null,null,null,null,null,null,null,null,null,null,null,null,null,null,null,null,null,null,null,null,null,null,null,null,0,0,1,0,"WWN","£m",1,"See comment row 216. Expected to be delivered by target date."]
["KSL00470",null,null,null,null,"WQ","South East","Kent South London and East Sussex","Southern Water Services Ltd","7SO300612","BENENDEN WWTW","Tributary of Newmill Channel upstream of Rolvenden","GB107040019680","River","Rother Levels",null,null,null,"U_MON3",null,null,null,null,null,null,"2022-03-31","Green","A00667",581815,133488,null,null,null,null,null,null,null,null,null,null,null,null,null,null,null,null,null,null,null,null,null,null,null,null,null,null,null,null,null,null,null,null,null,null,null,null,null,null,null,null,null,null,null,null,null,null,null,null,null,null,null,null,null,null,null,null,null,null,null,null,null,null,null,null,null,0,0,1,0,"WWN","£m",1,"See comment row 216. Expected to be delivered by target date."]
["SSD00682",null,null,null,null,"WQ","South East","Solent and South Downs","Southern Water Services Ltd","7SO300614","BERWICK WWTW",null,null,null,null,null,null,null,"U_MON3",null,null,null,null,null,null,"2022-03-31","Green","W00360",552949,106663,null,null,null,null,null,null,null,null,null,null,null,null,null,null,null,null,null,null,null,null,null,null,null,null,null,null,null,null,null,null,null,null,null,null,null,null,null,null,null,null,null,null,null,null,null,null,null,null,null,null,null,null,null,null,null,null,null,null,null,null,null,null,null,null,null,0,0,1,0,"WWN","£m",1,"See comment row 216. Expected to be delivered by target date."]
["SSD00684",null,null,null,null,"WQ","South East","Solent and South Downs","Southern Water Services Ltd","7SO300618","BEXHILL & HASTINGS WWTW","Combe Haven between Powdermill Str conf and Coast","GB107041012480","River","Combe Haven",null,null,null,"U_MON3",null,null,null,null,null,null,"2022-03-31","Green","A00857",578330,105500,null,null,null,null,null,null,null,null,null,null,null,null,null,null,null,null,null,null,null,null,null,null,null,null,null,null,null,null,null,null,null,null,null,null,null,null,null,null,null,null,null,null,null,null,null,null,null,null,null,null,null,null,null,null,null,null,null,null,null,null,null,null,null,null,null,0,0,1,0,"WWN","£m",1,"See comment row 216. Expected to be delivered by target date."]
["KSL00474",null,null,null,null,"WQ","Thames","Kent South London and East Sussex","Southern Water Services Ltd","7SO300620","BIDBOROUGH WWTW","Barden Mill stream","GB106040018100","River","Medway Upper",null,null,null,"U_MON3",null,null,null,null,null,null,"2022-03-31","Green","A00602",556090,142370,null,null,null,null,null,null,null,null,null,null,null,null,null,null,null,null,null,null,null,null,null,null,null,null,null,null,null,null,null,null,null,null,null,null,null,null,null,null,null,null,null,null,null,null,null,null,null,null,null,null,null,null,null,null,null,null,null,null,null,null,null,null,null,null,null,0,0,1,0,"WWN","£m",1,"See comment row 216. Expected to be delivered by target date."]
["KSL00476",null,null,null,null,"WQ",null,"Kent South London and East Sussex","Southern Water Services Ltd","7SO300622","BIDDENDEN WWTW",null,null,null,null,null,null,null,"U_MON3",null,null,null,null,null,null,"2022-03-31","Green","W00514",584805,138746,null,null,null,null,null,null,null,null,null,null,null,null,null,null,null,null,null,null,null,null,null,null,null,null,null,null,null,null,null,null,null,null,null,null,null,null,null,null,null,null,null,null,null,null,null,null,null,null,null,null,null,null,null,null,null,null,null,null,null,null,null,null,null,null,null,0,0,1,0,"WWN","£m",1,"See comment row 216. Expected to be delivered by target date."]
["SSD00686",null,null,null,null,"WQ","South East","Solent and South Downs","Southern Water Services Ltd","7SO300624","BILLINGSHURST WWTW","Arun (U/S Pallingham)","GB107041017950","River","Arun Upper",null,null,null,"U_MON3",null,null,null,null,null,null,"2022-03-31","Green","A00526",507802,124727,null,null,null,null,null,null,null,null,null,null,null,null,null,null,null,null,null,null,null,null,null,null,null,null,null,null,null,null,null,null,null,null,null,null,null,null,null,null,null,null,null,null,null,null,null,null,null,null,null,null,null,null,null,null,null,null,null,null,null,null,null,null,null,null,null,0,0,1,0,"WWN","£m",1,"See comment row 216. Expected to be delivered by target date."]
["SSD00688",null,null,null,null,"WQ","South East","Solent and South Downs","Southern Water Services Ltd","7SO300626","BISHOPS WALTHAM WWTW","Upper Hamble","GB107042016280","River","East Hampshire Rivers",null,null,null,"U_MON3",null,null,null,null,null,null,"2022-03-31","Green","W00006",454275,116156,null,null,null,null,null,null,null,null,null,null,null,null,null,null,null,null,null,null,null,null,null,null,null,null,null,null,null,null,null,null,null,null,null,null,null,null,null,null,null,null,null,null,null,null,null,null,null,null,null,null,null,null,null,null,null,null,null,null,null,null,null,null,null,null,null,0,0,1,0,"WWN","£m",1,"See comment row 216. Expected to be delivered by target date."]
["SSD00690",null,null,null,null,"WQ","South East","Solent and South Downs","Southern Water Services Ltd","7SO300628","BLACKBOYS WWTW",null,null,null,null,null,null,null,"U_MON3",null,null,null,null,null,null,"2022-03-31","Green","W00361",552000,121200,null,null,null,null,null,null,null,null,null,null,null,null,null,null,null,null,null,null,null,null,null,null,null,null,null,null,null,null,null,null,null,null,null,null,null,null,null,null,null,null,null,null,null,null,null,null,null,null,null,null,null,null,null,null,null,null,null,null,null,null,null,null,null,null,null,0,0,1,0,"WWN","£m",1,"See comment row 216. Expected to be delivered by target date."]
["SSD00692",null,null,null,null,"WQ","South East","Solent and South Downs","Southern Water Services Ltd","7SO300631","BOLDRE WWTW","Lymington River","GB107042011220","River","New Forest - Lymington and Beaulieu",null,null,null,"U_MON3",null,null,null,null,null,null,"2022-03-31","Green","W00242",432090,98890,null,null,null,null,null,null,null,null,null,null,null,null,null,null,null,null,null,null,null,null,null,null,null,null,null,null,null,null,null,null,null,null,null,null,null,null,null,null,null,null,null,null,null,null,null,null,null,null,null,null,null,null,null,null,null,null,null,null,null,null,null,null,null,null,null,0,0,1,0,"WWN","£m",1,"See comment row 216. Expected to be delivered by target date."]
["SSD00698",null,null,null,null,"WQ","South East","Solent and South Downs","Southern Water Services Ltd","7SO300637","BRIGHSTONE WWTW",null,null,null,null,null,null,null,"U_MON3",null,null,null,null,null,null,"2022-03-31","Green","A00527",442300,82200,null,null,null,null,null,null,null,null,null,null,null,null,null,null,null,null,null,null,null,null,null,null,null,null,null,null,null,null,null,null,null,null,null,null,null,null,null,null,null,null,null,null,null,null,null,null,null,null,null,null,null,null,null,null,null,null,null,null,null,null,null,null,null,null,null,0,0,1,0,"WWN","£m",1,"See comment row 216. Expected to be delivered by target date."]
["SSD00700",null,null,null,null,"WQ","South East","Solent and South Downs","Southern Water Services Ltd","7SO300641","BROCKENHURST WWTW","Lymington River","GB107042011220","River","New Forest - Lymington and Beaulieu",null,null,null,"U_MON3",null,null,null,null,null,null,"2022-03-31","Green","W00311",431158,102777,null,null,null,null,null,null,null,null,null,null,null,null,null,null,null,null,null,null,null,null,null,null,null,null,null,null,null,null,null,null,null,null,null,null,null,null,null,null,null,null,null,null,null,null,null,null,null,null,null,null,null,null,null,null,null,null,null,null,null,null,null,null,null,null,null,0,0,1,0,"WWN","£m",1,"See comment row 216. Expected to be delivered by target date."]
["SSD00702",null,null,null,null,"WQ","South East","Solent and South Downs","Southern Water Services Ltd","7SO300643","BUDDS FARM HAVANT WWTW","LANGSTONE HARBOUR","GB580705130000","Transitional","Hampshire East TraC",null,null,null,"U_MON3",null,null,null,null,null,null,"2022-03-31","Green","A00751",470540,105100,null,null,null,null,null,null,null,null,null,null,null,null,null,null,null,null,null,null,null,null,null,null,null,null,null,null,null,null,null,null,null,null,null,null,null,null,null,null,null,null,null,null,null,null,null,null,null,null,null,null,null,null,null,null,null,null,null,null,null,null,null,null,null,null,null,0,0,1,0,"WWN","£m",1,"See comment row 216. Expected to be delivered by target date."]
["SSD00704",null,null,null,null,"WQ","South East","Solent and South Downs","Southern Water Services Ltd","7SO300647","BURITON WWTW","Stanbridge Stream","GB107041012790","River","Rother Western",null,null,null,"U_MON3",null,null,null,null,null,null,"2022-03-31","Green","W00325",474220,120630,null,null,null,null,null,null,null,null,null,null,null,null,null,null,null,null,null,null,null,null,null,null,null,null,null,null,null,null,null,null,null,null,null,null,null,null,null,null,null,null,null,null,null,null,null,null,null,null,null,null,null,null,null,null,null,null,null,null,null,null,null,null,null,null,null,0,0,1,0,"WWN","£m",1,"See comment row 216. Expected to be delivered by target date."]
["KSL00485",null,null,null,null,"WQ","South East","Kent South London and East Sussex","Southern Water Services Ltd","7SO300651","BURWASH VILLAGE WWTW","Rother between Coggins Mill Stream and Etchin","GB107040013590","River","Rother Upper",null,null,null,"U_MON3",null,null,null,null,null,null,"2022-03-31","Green","W00122",568530,126050,null,null,null,null,null,null,null,null,null,null,null,null,null,null,null,null,null,null,null,null,null,null,null,null,null,null,null,null,null,null,null,null,null,null,null,null,null,null,null,null,null,null,null,null,null,null,null,null,null,null,null,null,null,null,null,null,null,null,null,null,null,null,null,null,null,0,0,1,0,"WWN","£m",1,"See comment row 216. Expected to be delivered by target date."]
["SSD00708",null,null,null,null,"WQ","South East","Solent and South Downs","Southern Water Services Ltd","7SO300655","BUXTED WWTW","Uck Upstream of Buxted","GB107041012990","River","Ouse Upper",null,null,null,"U_MON3",null,null,null,null,null,null,"2022-03-31","Green","W00607",549470,123690,null,null,null,null,null,null,null,null,null,null,null,null,null,null,null,null,null,null,null,null,null,null,null,null,null,null,null,null,null,null,null,null,null,null,null,null,null,null,null,null,null,null,null,null,null,null,null,null,null,null,null,null,null,null,null,null,null,null,null,null,null,null,null,null,null,0,0,1,0,"WWN","£m",1,"See comment row 216. Expected to be delivered by target date."]
["SSD00710",null,null,null,null,"WQ","South East","Solent and South Downs","Southern Water Services Ltd","7SO300658","CALBOURNE WWTW","Caul Bourne","GB107101006020","River","Isle of Wight Rivers",null,null,null,"U_MON3",null,null,null,null,null,null,"2022-03-31","Green","A00191",442049,86880,null,null,null,null,null,null,null,null,null,null,null,null,null,null,null,null,null,null,null,null,null,null,null,null,null,null,null,null,null,null,null,null,null,null,null,null,null,null,null,null,null,null,null,null,null,null,null,null,null,null,null,null,null,null,null,null,null,null,null,null,null,null,null,null,null,0,0,1,0,"WWN","£m",1,"See comment row 216. Expected to be delivered by target date."]
["KSL00491",null,null,null,null,"WQ",null,"Kent South London and East Sussex","Southern Water Services Ltd","7SO300663","CASTLE ROAD ALLINGTON WPS",null,null,null,null,null,null,null,"U_MON3",null,null,null,null,null,null,"2022-03-31","Green","A00654",574590,158120,null,null,null,null,null,null,null,null,null,null,null,null,null,null,null,null,null,null,null,null,null,null,null,null,null,null,null,null,null,null,null,null,null,null,null,null,null,null,null,null,null,null,null,null,null,null,null,null,null,null,null,null,null,null,null,null,null,null,null,null,null,null,null,null,null,0,0,1,0,"WWN","£m",1,"See comment row 216. Expected to be delivered by target date."]
["SSD00712",null,null,null,null,"WQ","South East","Solent and South Downs","Southern Water Services Ltd","7SO300665","CATSFIELD WWTW","Watermill Stream","GB107041012540","River","Combe Haven",null,null,null,"U_MON3",null,null,null,null,null,null,"2022-03-31","Green","W00336",571610,113380,null,null,null,null,null,null,null,null,null,null,null,null,null,null,null,null,null,null,null,null,null,null,null,null,null,null,null,null,null,null,null,null,null,null,null,null,null,null,null,null,null,null,null,null,null,null,null,null,null,null,null,null,null,null,null,null,null,null,null,null,null,null,null,null,null,0,0,1,0,"WWN","£m",1,"See comment row 216. Expected to be delivered by target date."]
["SSD00714",null,null,null,null,"WQ","South East","Solent and South Downs","Southern Water Services Ltd","7SO300667","CHALE WWTW","Medina","GB107101005990","River","Isle of Wight Rivers",null,null,null,"U_MON3",null,null,null,null,null,null,"2022-03-31","Green","W00155",449050,80680,null,null,null,null,null,null,null,null,null,null,null,null,null,null,null,null,null,null,null,null,null,null,null,null,null,null,null,null,null,null,null,null,null,null,null,null,null,null,null,null,null,null,null,null,null,null,null,null,null,null,null,null,null,null,null,null,null,null,null,null,null,null,null,null,null,0,0,1,0,"WWN","£m",1,"See comment row 216. Expected to be delivered by target date."]
["KSL00493",null,null,null,null,"WQ","South East","Kent South London and East Sussex","Southern Water Services Ltd","7SO300669","CHARING WWTW","Upper Great Stour","GB107040019660","River","Stour Upper",null,null,null,"U_MON3",null,null,null,null,null,null,"2022-03-31","Green","W00542",595410,148500,null,null,null,null,null,null,null,null,null,null,null,null,null,null,null,null,null,null,null,null,null,null,null,null,null,null,null,null,null,null,null,null,null,null,null,null,null,null,null,null,null,null,null,null,null,null,null,null,null,null,null,null,null,null,null,null,null,null,null,null,null,null,null,null,null,0,0,1,0,"WWN","£m",1,"See comment row 216. Expected to be delivered by target date."]
["SSD00717",null,null,null,null,"WQ","South East","Solent and South Downs","Southern Water Services Ltd","7SO300674","CHICHESTER WWTW","Lavant (Sussex)","GB107041006520","River","Western Streams",null,null,null,"U_MON3",null,null,null,null,null,null,"2022-03-31","Green","W00137",484316,103917,null,null,null,null,null,null,null,null,null,null,null,null,null,null,null,null,null,null,null,null,null,null,null,null,null,null,null,null,null,null,null,null,null,null,null,null,null,null,null,null,null,null,null,null,null,null,null,null,null,null,null,null,null,null,null,null,null,null,null,null,null,null,null,null,null,0,0,1,0,"WWN","£m",1,"See comment row 216. Expected to be delivered by target date."]
["SSD00719",null,null,null,null,"WQ","South East","Solent and South Downs","Southern Water Services Ltd","7SO300676","CHICKENHALL EASTLEIGH WWTW","Itchen","GB107042022580","River","Itchen",null,null,null,"U_MON3",null,null,null,null,null,null,"2022-03-31","Green","A00154",446818,117888,null,null,null,null,null,null,null,null,null,null,null,null,null,null,null,null,null,null,null,null,null,null,null,null,null,null,null,null,null,null,null,null,null,null,null,null,null,null,null,null,null,null,null,null,null,null,null,null,null,null,null,null,null,null,null,null,null,null,null,null,null,null,null,null,null,0,0,1,0,"WWN","£m",1,"See comment row 216. Expected to be delivered by target date."]
["SSD00721",null,null,null,null,"WQ","South East","Solent and South Downs","Southern Water Services Ltd","7SO300678","CHIDDINGFOLD WWTW","Loxwood Stm-Hambledon Trb","GB107041017980","River","Arun Upper",null,null,null,"U_MON3",null,null,null,null,null,null,"2022-03-31","Green","A01131",496900,136700,null,null,null,null,null,null,null,null,null,null,null,null,null,null,null,null,null,null,null,null,null,null,null,null,null,null,null,null,null,null,null,null,null,null,null,null,null,null,null,null,null,null,null,null,null,null,null,null,null,null,null,null,null,null,null,null,null,null,null,null,null,null,null,null,null,0,0,1,0,"WWN","£m",1,"See comment row 216. Expected to be delivered by target date."]
["SSD00730",null,null,null,null,"WQ","South East","Solent and South Downs","Southern Water Services Ltd","7SO300692","COWFOLD WWTW","Adur & Ouse","GB107041012260","River","Adur & Ouse",null,null,null,"U_MON3",null,null,null,null,null,null,"2022-03-31","Green","W00356",521530,121970,null,null,null,null,null,null,null,null,null,null,null,null,null,null,null,null,null,null,null,null,null,null,null,null,null,null,null,null,null,null,null,null,null,null,null,null,null,null,null,null,null,null,null,null,null,null,null,null,null,null,null,null,null,null,null,null,null,null,null,null,null,null,null,null,null,0,0,1,0,"WWN","£m",1,"See comment row 216. Expected to be delivered by target date."]
["KSL00504",null,null,null,null,"WQ",null,"Kent South London and East Sussex","Southern Water Services Ltd","7SO300696","CROUCH FARM MAYFIELD WWTW",null,null,null,null,null,null,null,"U_MON3",null,null,null,null,null,null,"2022-03-31","Green","W00589",557888,125311,null,null,null,null,null,null,null,null,null,null,null,null,null,null,null,null,null,null,null,null,null,null,null,null,null,null,null,null,null,null,null,null,null,null,null,null,null,null,null,null,null,null,null,null,null,null,null,null,null,null,null,null,null,null,null,null,null,null,null,null,null,null,null,null,null,0,0,1,0,"WWN","£m",1,"See comment row 216. Expected to be delivered by target date."]
["SSD00732",null,null,null,null,"WQ","South East","Solent and South Downs","Southern Water Services Ltd","7SO300701","DANEHILL WWTW",null,null,null,null,null,null,null,"U_MON3",null,null,null,null,null,null,"2022-03-31","Green","W00377",540810,127350,null,null,null,null,null,null,null,null,null,null,null,null,null,null,null,null,null,null,null,null,null,null,null,null,null,null,null,null,null,null,null,null,null,null,null,null,null,null,null,null,null,null,null,null,null,null,null,null,null,null,null,null,null,null,null,null,null,null,null,null,null,null,null,null,null,0,0,1,0,"WWN","£m",1,"See comment row 216. Expected to be delivered by target date."]
["SSD00734",null,null,null,null,"WQ","South East","Solent and South Downs","Southern Water Services Ltd","7SO300703","DITCHLING WWTW",null,null,null,null,null,null,null,"U_MON3",null,null,null,null,null,null,"2022-03-31","Green","W00340",533702,115306,null,null,null,null,null,null,null,null,null,null,null,null,null,null,null,null,null,null,null,null,null,null,null,null,null,null,null,null,null,null,null,null,null,null,null,null,null,null,null,null,null,null,null,null,null,null,null,null,null,null,null,null,null,null,null,null,null,null,null,null,null,null,null,null,null,0,0,1,0,"WWN","£m",1,"See comment row 216. Expected to be delivered by target date."]
["KSL00509",null,null,null,null,"WQ",null,"Kent South London and East Sussex","Southern Water Services Ltd","7SO300705","DITTON WWTW",null,null,null,null,null,null,null,"U_MON3",null,null,null,null,null,null,"2022-03-31","Green","W00022",572038,159332,null,null,null,null,null,null,null,null,null,null,null,null,null,null,null,null,null,null,null,null,null,null,null,null,null,null,null,null,null,null,null,null,null,null,null,null,null,null,null,null,null,null,null,null,null,null,null,null,null,null,null,null,null,null,null,null,null,null,null,null,null,null,null,null,null,0,0,1,0,"WWN","£m",1,"See comment row 216. Expected to be delivered by target date."]
["SSD00736",null,null,null,null,"WQ","South East","Solent and South Downs","Southern Water Services Ltd","7SO300707","EAST BOLDRE WWTW","Hatchet Stream","GB107042011400","River","New Forest - Hatchet Sowley",null,null,null,"U_MON3",null,null,null,null,null,null,"2022-03-31","Green","W00250",438020,100700,null,null,null,null,null,null,null,null,null,null,null,null,null,null,null,null,null,null,null,null,null,null,null,null,null,null,null,null,null,null,null,null,null,null,null,null,null,null,null,null,null,null,null,null,null,null,null,null,null,null,null,null,null,null,null,null,null,null,null,null,null,null,null,null,null,0,0,1,0,"WWN","£m",1,"See comment row 216. Expected to be delivered by target date."]
["SSD00738",null,null,null,null,"WQ","South East","Solent and South Downs","Southern Water Services Ltd","7SO300709","EAST DEAN WWTW","Sussex","GB640704540003","Coastal","Sussex TraC",null,null,null,"U_MON3",null,null,null,null,null,null,"2022-03-31","Green","W00329",555740,96310,null,null,null,null,null,null,null,null,null,null,null,null,null,null,null,null,null,null,null,null,null,null,null,null,null,null,null,null,null,null,null,null,null,null,null,null,null,null,null,null,null,null,null,null,null,null,null,null,null,null,null,null,null,null,null,null,null,null,null,null,null,null,null,null,null,0,0,1,0,"WWN","£m",1,"See comment row 216. Expected to be delivered by target date."]
["SSD00746",null,null,null,null,"WQ","South East","Solent and South Downs","Southern Water Services Ltd","7SO300717","EAST WORTHING WWTW",null,null,null,null,null,null,null,"U_MON3",null,null,null,null,null,null,"2022-03-31","Green",null,null,null,null,null,null,null,null,null,null,null,null,null,null,null,null,null,null,null,null,null,null,null,null,null,null,null,null,null,null,null,null,null,null,null,null,null,null,null,null,null,null,null,null,null,null,null,null,null,null,null,null,null,null,null,null,null,null,null,null,null,null,null,null,null,null,null,null,0,0,1,0,"WWN","£m",1,"See comment row 216. Expected to be delivered by target date."]
["KSL00513",null,null,null,null,"WQ","Thames","Kent South London and East Sussex","Southern Water Services Ltd","7SO300723","EDEN VALE EAST GRINSTEAD WWTW","Eden Brook","GB106040018660","River","Eden",null,null,null,"U_MON3",null,null,null,null,null,null,"2022-03-31","Green","W00520",539258,140380,null,null,null,null,null,null,null,null,null,null,null,null,null,null,null,null,null,null,null,null,null,null,null,null,null,null,null,null,null,null,null,null,null,null,null,null,null,null,null,null,null,null,null,null,null,null,null,null,null,null,null,null,null,null,null,null,null,null,null,null,null,null,null,null,null,0,0,1,0,"WWN","£m",1,"See comment row 216. Expected to be delivered by target date."]
["KSL00515",null,null,null,null,"WQ","Thames","Kent South London and East Sussex","Southern Water Services Ltd","7SO300725","EDENBRIDGE WWTW","Lower Eden","GB106040018160","River","Eden",null,null,null,"U_MON3",null,null,null,null,null,null,"2022-03-31","Green","A00528",545420,146490,null,null,null,null,null,null,null,null,null,null,null,null,null,null,null,null,null,null,null,null,null,null,null,null,null,null,null,null,null,null,null,null,null,null,null,null,null,null,null,null,null,null,null,null,null,null,null,null,null,null,null,null,null,null,null,null,null,null,null,null,null,null,null,null,null,0,0,1,0,"WWN","£m",1,"See comment row 216. Expected to be delivered by target date."]
["KSL00518",null,null,null,null,"WQ","South East","Kent South London and East Sussex","Southern Water Services Ltd","7SO300728","FAIRLIGHT WWTW","Marsham and Pannel Sewers","GB107040013390","River","Brede and Tillingham",null,null,null,"U_MON3",null,null,null,null,null,null,"2022-03-31","Green","W00545",588150,112870,null,null,null,null,null,null,null,null,null,null,null,null,null,null,null,null,null,null,null,null,null,null,null,null,null,null,null,null,null,null,null,null,null,null,null,null,null,null,null,null,null,null,null,null,null,null,null,null,null,null,null,null,null,null,null,null,null,null,null,null,null,null,null,null,null,0,0,1,0,"WWN","£m",1,"See comment row 216. Expected to be delivered by target date."]
["KSL00520",null,null,null,null,"WQ","Thames","Kent South London and East Sussex","Southern Water Services Ltd","7SO300730","FAVERSHAM WWTW","SWALE","GB530604011500","Transitional","Medway Swale Estuary",null,null,null,"U_MON3",null,null,null,null,null,null,"2022-03-31","Green","W00511",602867,162171,null,null,null,null,null,null,null,null,null,null,null,null,null,null,null,null,null,null,null,null,null,null,null,null,null,null,null,null,null,null,null,null,null,null,null,null,null,null,null,null,null,null,null,null,null,null,null,null,null,null,null,null,null,null,null,null,null,null,null,null,null,null,null,null,null,0,0,1,0,"WWN","£m",1,"See comment row 216. Expected to be delivered by target date."]
["SSD00750",null,null,null,null,"WQ","South East","Solent and South Downs","Southern Water Services Ltd","7SO300734","FERNHURST WWTW",null,null,null,null,null,null,null,"U_MON3",null,null,null,null,null,null,"2022-03-31","Green","W00352",489558,127408,null,null,null,null,null,null,null,null,null,null,null,null,null,null,null,null,null,null,null,null,null,null,null,null,null,null,null,null,null,null,null,null,null,null,null,null,null,null,null,null,null,null,null,null,null,null,null,null,null,null,null,null,null,null,null,null,null,null,null,null,null,null,null,null,null,0,0,1,0,"WWN","£m",1,"See comment row 216. Expected to be delivered by target date."]
["KSL00524",null,null,null,null,"WQ",null,"Kent South London and East Sussex","Southern Water Services Ltd","7SO300736","FERRY HILL WINCHELSEA WWTW",null,null,null,null,null,null,null,"U_MON3",null,null,null,null,null,null,"2022-03-31","Green","W00560",590268,117774,null,null,null,null,null,null,null,null,null,null,null,null,null,null,null,null,null,null,null,null,null,null,null,null,null,null,null,null,null,null,null,null,null,null,null,null,null,null,null,null,null,null,null,null,null,null,null,null,null,null,null,null,null,null,null,null,null,null,null,null,null,null,null,null,null,0,0,1,0,"WWN","£m",1,"See comment row 216. Expected to be delivered by target date."]
["SSD00752",null,null,null,null,"WQ","South East","Solent and South Downs","Southern Water Services Ltd","7SO300738","FITTLEWORTH WWTW","Western Rother","GB107041012810","River","Rother Western",null,null,null,"U_MON3",null,null,null,null,null,null,"2022-03-31","Green","W00468",501320,118130,null,null,null,null,null,null,null,null,null,null,null,null,null,null,null,null,null,null,null,null,null,null,null,null,null,null,null,null,null,null,null,null,null,null,null,null,null,null,null,null,null,null,null,null,null,null,null,null,null,null,null,null,null,null,null,null,null,null,null,null,null,null,null,null,null,0,0,1,0,"WWN","£m",1,"See comment row 216. Expected to be delivered by target date."]
["KSL00530",null,null,null,null,"WQ","Thames","Kent South London and East Sussex","Southern Water Services Ltd","7SO300747","FORDCOMBE WWTW","Mid Medway from Hartfield to Eden Confluence","GB106040018181","River","Medway Upper",null,null,null,"U_MON3",null,null,null,null,null,null,"2022-03-31","Green",null,552320,140410,null,null,null,null,null,null,null,null,null,null,null,null,null,null,null,null,null,null,null,null,null,null,null,null,null,null,null,null,null,null,null,null,null,null,null,null,null,null,null,null,null,null,null,null,null,null,null,null,null,null,null,null,null,null,null,null,null,null,null,null,null,null,null,null,null,0,0,1,0,"WWN","£m",1,"See comment row 216. Expected to be delivered by target date."]
["KSL00532",null,null,null,null,"WQ","Thames","Kent South London and East Sussex","Southern Water Services Ltd","7SO300749","FOREST ROW WWTW","Medway at Weir Wood","GB106040018070","River","Medway Upper",null,null,null,"U_MON3",null,null,null,null,null,null,"2022-03-31","Green","W00041",545550,135580,null,null,null,null,null,null,null,null,null,null,null,null,null,null,null,null,null,null,null,null,null,null,null,null,null,null,null,null,null,null,null,null,null,null,null,null,null,null,null,null,null,null,null,null,null,null,null,null,null,null,null,null,null,null,null,null,null,null,null,null,null,null,null,null,null,0,0,1,0,"WWN","£m",1,"See comment row 216. Expected to be delivered by target date."]
["KSL00534",null,null,null,null,"WQ","South East","Kent South London and East Sussex","Southern Water Services Ltd","7SO300751","FRANT WWTW","Bartley Mill Stream","GB106040018240","River","Teise",null,null,null,"U_MON3",null,null,null,null,null,null,"2022-03-31","Green","W00019",560160,133600,null,null,null,null,null,null,null,null,null,null,null,null,null,null,null,null,null,null,null,null,null,null,null,null,null,null,null,null,null,null,null,null,null,null,null,null,null,null,null,null,null,null,null,null,null,null,null,null,null,null,null,null,null,null,null,null,null,null,null,null,null,null,null,null,null,0,0,1,0,"WWN","£m",1,"See comment row 216. Expected to be delivered by target date."]
["KSL00536",null,null,null,null,"WQ","Thames","Kent South London and East Sussex","Southern Water Services Ltd","7SO300753","FRITTENDEN WWTW","Medway","GB106040018030","River","Medway",null,null,null,"U_MON3",null,null,null,null,null,null,"2022-03-31","Green","W00028",581390,141930,null,null,null,null,null,null,null,null,null,null,null,null,null,null,null,null,null,null,null,null,null,null,null,null,null,null,null,null,null,null,null,null,null,null,null,null,null,null,null,null,null,null,null,null,null,null,null,null,null,null,null,null,null,null,null,null,null,null,null,null,null,null,null,null,null,0,0,1,0,"WWN","£m",1,"See comment row 216. Expected to be delivered by target date."]
["SSD00757",null,null,null,null,"WQ","South East","Solent and South Downs","Southern Water Services Ltd","7SO300755","FULLERTON WWTW","Test - conf Dever to conf Anton","GB107042022750","River","Test Upper and Middle",null,null,null,"U_MON3",null,null,null,null,null,null,"2022-03-31","Green","A00804",438160,139170,null,null,null,null,null,null,null,null,null,null,null,null,null,null,null,null,null,null,null,null,null,null,null,null,null,null,null,null,null,null,null,null,null,null,null,null,null,null,null,null,null,null,null,null,null,null,null,null,null,null,null,null,null,null,null,null,null,null,null,null,null,null,null,null,null,0,0,1,0,"WWN","£m",1,"See comment row 216. Expected to be delivered by target date."]
["SSD00760",null,null,null,null,"WQ","South East","Solent and South Downs","Southern Water Services Ltd","7SO300758","GODDARDS GREEN WWTW","Adur East (Goddards Green)","GB107041012210","River","Adur Upper",null,null,null,"U_MON3",null,null,null,null,null,null,"2022-03-31","Green","A00576",528802,120568,null,null,null,null,null,null,null,null,null,null,null,null,null,null,null,null,null,null,null,null,null,null,null,null,null,null,null,null,null,null,null,null,null,null,null,null,null,null,null,null,null,null,null,null,null,null,null,null,null,null,null,null,null,null,null,null,null,null,null,null,null,null,null,null,null,0,0,1,0,"WWN","£m",1,"See comment row 216. Expected to be delivered by target date."]
["SSD00762",null,null,null,null,"WQ","South East","Solent and South Downs","Southern Water Services Ltd","7SO300760","GODSHILL WWTW","Eastern Yar (Upper)","GB107101006220","River","Isle of Wight Rivers",null,null,null,"U_MON3",null,null,null,null,null,null,"2022-03-31","Green","W00147",452500,82600,null,null,null,null,null,null,null,null,null,null,null,null,null,null,null,null,null,null,null,null,null,null,null,null,null,null,null,null,null,null,null,null,null,null,null,null,null,null,null,null,null,null,null,null,null,null,null,null,null,null,null,null,null,null,null,null,null,null,null,null,null,null,null,null,null,0,0,1,0,"WWN","£m",1,"See comment row 216. Expected to be delivered by target date."]
["KSL00538",null,null,null,null,"WQ","Thames","Kent South London and East Sussex","Southern Water Services Ltd","7SO300762","GODSTONE WWTW","Gibbs Brook","GB106040018640","River","Eden",null,null,null,"U_MON3",null,null,null,null,null,null,"2022-03-31","Green","W00004",536700,150380,null,null,null,null,null,null,null,null,null,null,null,null,null,null,null,null,null,null,null,null,null,null,null,null,null,null,null,null,null,null,null,null,null,null,null,null,null,null,null,null,null,null,null,null,null,null,null,null,null,null,null,null,null,null,null,null,null,null,null,null,null,null,null,null,null,0,0,1,0,"WWN","£m",1,"See comment row 216. Expected to be delivered by target date."]
["KSL00540",null,null,null,null,"WQ",null,"Kent South London and East Sussex","Southern Water Services Ltd","7SO300764","GOLF ROAD DEAL WPS",null,null,null,null,null,null,null,"U_MON3",null,null,null,null,null,null,"2022-03-31","Green","A00660",638150,154600,null,null,null,null,null,null,null,null,null,null,null,null,null,null,null,null,null,null,null,null,null,null,null,null,null,null,null,null,null,null,null,null,null,null,null,null,null,null,null,null,null,null,null,null,null,null,null,null,null,null,null,null,null,null,null,null,null,null,null,null,null,null,null,null,null,0,0,1,0,"WWN","£m",1,"See comment row 216. Expected to be delivered by target date."]
["KSL00542",null,null,null,null,"WQ","Thames","Kent South London and East Sussex","Southern Water Services Ltd","7SO300766","GRAIN WWTW","MEDWAY","GB530604002300","Transitional","Medway Swale Estuary",null,null,null,"U_MON3",null,null,null,null,null,null,"2022-03-31","Green","K02057",589270,176180,null,null,null,null,null,null,null,null,null,null,null,null,null,null,null,null,null,null,null,null,null,null,null,null,null,null,null,null,null,null,null,null,null,null,null,null,null,null,null,null,null,null,null,null,null,null,null,null,null,null,null,null,null,null,null,null,null,null,null,null,null,null,null,null,null,0,0,1,0,"WWN","£m",1,"See comment row 216. Expected to be delivered by target date."]
["KSL00544",null,null,null,null,"WQ",null,"Kent South London and East Sussex","Southern Water Services Ltd","7SO300768","GRAVESEND WWTW",null,null,null,null,null,null,null,"U_MON3",null,null,null,null,null,null,"2022-03-31","Green","CATM.2969",null,null,null,null,null,null,null,null,null,null,null,null,null,null,null,null,null,null,null,null,null,null,null,null,null,null,null,null,null,null,null,null,null,null,null,null,null,null,null,null,null,null,null,null,null,null,null,null,null,null,null,null,null,null,null,null,null,null,null,null,null,null,null,null,null,null,null,0,0,1,0,"WWN","£m",1,"See comment row 216. Expected to be delivered by target date."]
["KSL00546",null,null,null,null,"WQ","South East","Kent South London and East Sussex","Southern Water Services Ltd","7SO300772","GUESTLING GREEN WWTW","Marsham and Pannel Sewers","GB107040013390","River","Brede and Tillingham",null,null,null,"U_MON3",null,null,null,null,null,null,"2022-03-31","Green","W00529",585900,114270,null,null,null,null,null,null,null,null,null,null,null,null,null,null,null,null,null,null,null,null,null,null,null,null,null,null,null,null,null,null,null,null,null,null,null,null,null,null,null,null,null,null,null,null,null,null,null,null,null,null,null,null,null,null,null,null,null,null,null,null,null,null,null,null,null,0,0,1,0,"WWN","£m",1,"See comment row 216. Expected to be delivered by target date."]
["SSD00766",null,null,null,null,"WQ","South East","Solent and South Downs","Southern Water Services Ltd","7SO300775","HAILSHAM NORTH WWTW","Hurst Haven at Hailsham","GB107041012500","River","Pevensey",null,null,null,"U_MON3",null,null,null,null,null,null,"2022-03-31","Green","A01166",560170,110650,null,null,null,null,null,null,null,null,null,null,null,null,null,null,null,null,null,null,null,null,null,null,null,null,null,null,null,null,null,null,null,null,null,null,null,null,null,null,null,null,null,null,null,null,null,null,null,null,null,null,null,null,null,null,null,null,null,null,null,null,null,null,null,null,null,0,0,1,0,"WWN","£m",1,"See comment row 216. Expected to be delivered by target date."]
["SSD00770",null,null,null,null,"WQ","South East","Solent and South Downs","Southern Water Services Ltd","7SO300781","HALLAND WWTW",null,null,null,null,null,null,null,"U_MON3",null,null,null,null,null,null,"2022-03-31","Green","A00567",550330,117070,null,null,null,null,null,null,null,null,null,null,null,null,null,null,null,null,null,null,null,null,null,null,null,null,null,null,null,null,null,null,null,null,null,null,null,null,null,null,null,null,null,null,null,null,null,null,null,null,null,null,null,null,null,null,null,null,null,null,null,null,null,null,null,null,null,0,0,1,0,"WWN","£m",1,"See comment row 216. Expected to be delivered by target date."]
["KSL00551",null,null,null,null,"WQ","Thames","Kent South London and East Sussex","Southern Water Services Ltd","7SO300783","HAM HILL WWTW","Leybourne Stream","GB106040018450","River","Medway Middle",null,null,null,"U_MON3",null,null,null,null,null,null,"2022-03-31","Green","W00503",571190,161330,null,null,null,null,null,null,null,null,null,null,null,null,null,null,null,null,null,null,null,null,null,null,null,null,null,null,null,null,null,null,null,null,null,null,null,null,null,null,null,null,null,null,null,null,null,null,null,null,null,null,null,null,null,null,null,null,null,null,null,null,null,null,null,null,null,0,0,1,0,"WWN","£m",1,"See comment row 216. Expected to be delivered by target date."]
["SSD00772",null,null,null,null,"WQ","South East","Solent and South Downs","Southern Water Services Ltd","7SO300787","HARESTOCK WWTW","Nun's Walk Stream","GB107042022730","River","Itchen",null,null,null,"U_MON3",null,null,null,null,null,null,"2022-03-31","Green","W00235",449280,131410,null,null,null,null,null,null,null,null,null,null,null,null,null,null,null,null,null,null,null,null,null,null,null,null,null,null,null,null,null,null,null,null,null,null,null,null,null,null,null,null,null,null,null,null,null,null,null,null,null,null,null,null,null,null,null,null,null,null,null,null,null,null,null,null,null,0,0,1,0,"WWN","£m",1,"See comment row 216. Expected to be delivered by target date."]
["KSL00555",null,null,null,null,"WQ",null,"Kent South London and East Sussex","Southern Water Services Ltd","7SO300789","HARRIETSHAM WWTW",null,null,null,null,null,null,null,"U_MON3",null,null,null,null,null,null,"2022-03-31","Green","A00601",586850,151950,null,null,null,null,null,null,null,null,null,null,null,null,null,null,null,null,null,null,null,null,null,null,null,null,null,null,null,null,null,null,null,null,null,null,null,null,null,null,null,null,null,null,null,null,null,null,null,null,null,null,null,null,null,null,null,null,null,null,null,null,null,null,null,null,null,0,0,1,0,"WWN","£m",1,"See comment row 216. Expected to be delivered by target date."]
["SSD00774",null,null,null,null,"WQ","South East","Solent and South Downs","Southern Water Services Ltd","7SO300791","HARTFIELD WWTW",null,null,null,null,null,null,null,"U_MON3",null,null,null,null,null,null,"2022-03-31","Green","W00120",548241,136107,null,null,null,null,null,null,null,null,null,null,null,null,null,null,null,null,null,null,null,null,null,null,null,null,null,null,null,null,null,null,null,null,null,null,null,null,null,null,null,null,null,null,null,null,null,null,null,null,null,null,null,null,null,null,null,null,null,null,null,null,null,null,null,null,null,0,0,1,0,"WWN","£m",1,"See comment row 216. Expected to be delivered by target date."]
["KSL00559",null,null,null,null,"WQ",null,"Kent South London and East Sussex","Southern Water Services Ltd","7SO300795","HAWKHURST NORTH WWTW",null,null,null,null,null,null,null,"U_MON3",null,null,null,null,null,null,"2022-03-31","Green","A01217",576760,131247,null,null,null,null,null,null,null,null,null,null,null,null,null,null,null,null,null,null,null,null,null,null,null,null,null,null,null,null,null,null,null,null,null,null,null,null,null,null,null,null,null,null,null,null,null,null,null,null,null,null,null,null,null,null,null,null,null,null,null,null,null,null,null,null,null,0,0,1,0,"WWN","£m",1,"See comment row 216. Expected to be delivered by target date."]
["KSL00561",null,null,null,null,"WQ","South East","Kent South London and East Sussex","Southern Water Services Ltd","7SO300797","HAWKHURST SOUTH WWTW","Kent Ditch","GB107040013600","River","Rother Levels",null,null,null,"U_MON3",null,null,null,null,null,null,"2022-03-31","Green","W00540",576910,129326,null,null,null,null,null,null,null,null,null,null,null,null,null,null,null,null,null,null,null,null,null,null,null,null,null,null,null,null,null,null,null,null,null,null,null,null,null,null,null,null,null,null,null,null,null,null,null,null,null,null,null,null,null,null,null,null,null,null,null,null,null,null,null,null,null,0,0,1,0,"WWN","£m",1,"See comment row 216. Expected to be delivered by target date."]
["SSD00776",null,null,null,null,"WQ","South East","Solent and South Downs","Southern Water Services Ltd","7SO300800","HENFIELD WWTW","Chess Stream","GB107041012110","River","Adur Upper",null,null,null,"U_MON3",null,null,null,null,null,null,"2022-03-31","Green","W00015",521749,117097,null,null,null,null,null,null,null,null,null,null,null,null,null,null,null,null,null,null,null,null,null,null,null,null,null,null,null,null,null,null,null,null,null,null,null,null,null,null,null,null,null,null,null,null,null,null,null,null,null,null,null,null,null,null,null,null,null,null,null,null,null,null,null,null,null,0,0,1,0,"WWN","£m",1,"See comment row 216. Expected to be delivered by target date."]
["KSL00564",null,null,null,null,"WQ","Thames","Kent South London and East Sussex","Southern Water Services Ltd","7SO300802","HIGH HALDEN WWTW","Upper Beult","GB106040018280","River","Beult",null,null,null,"U_MON3",null,null,null,null,null,null,"2022-03-31","Green","W00480",588941,137719,null,null,null,null,null,null,null,null,null,null,null,null,null,null,null,null,null,null,null,null,null,null,null,null,null,null,null,null,null,null,null,null,null,null,null,null,null,null,null,null,null,null,null,null,null,null,null,null,null,null,null,null,null,null,null,null,null,null,null,null,null,null,null,null,null,0,0,1,0,"WWN","£m",1,"See comment row 216. Expected to be delivered by target date."]
["SSD00780",null,null,null,null,"WQ","South East","Solent and South Downs","Southern Water Services Ltd","7SO300806","HORSHAM NEW WWTW","Arun Horsham","GB107041012310","River","Arun Upper",null,null,null,"U_MON3",null,null,null,null,null,null,"2022-03-31","Green","A00152",515041,129694,null,null,null,null,null,null,null,null,null,null,null,null,null,null,null,null,null,null,null,null,null,null,null,null,null,null,null,null,null,null,null,null,null,null,null,null,null,null,null,null,null,null,null,null,null,null,null,null,null,null,null,null,null,null,null,null,null,null,null,null,null,null,null,null,null,0,0,1,0,"WWN","£m",1,"See comment row 216. Expected to be delivered by target date."]
["SSD00783",null,null,null,null,"WQ","South East","Solent and South Downs","Southern Water Services Ltd","7SO300810","HORSTED KEYNES WWTW","Cockhaise Brook","GB107041012740","River","Ouse Upper",null,null,null,"U_MON3",null,null,null,null,null,null,"2022-03-31","Green","A00192",537600,128270,null,null,null,null,null,null,null,null,null,null,null,null,null,null,null,null,null,null,null,null,null,null,null,null,null,null,null,null,null,null,null,null,null,null,null,null,null,null,null,null,null,null,null,null,null,null,null,null,null,null,null,null,null,null,null,null,null,null,null,null,null,null,null,null,null,0,0,1,0,"WWN","£m",1,"See comment row 216. Expected to be delivered by target date."]
["KSL00569",null,null,null,null,"WQ","South East","Kent South London and East Sussex","Southern Water Services Ltd","7SO300813","ICKLESHAM WWTW","Brede","GB107040013550","River","Brede and Tillingham",null,null,null,"U_MON3",null,null,null,null,null,null,"2022-03-31","Green","W00502",589050,116460,null,null,null,null,null,null,null,null,null,null,null,null,null,null,null,null,null,null,null,null,null,null,null,null,null,null,null,null,null,null,null,null,null,null,null,null,null,null,null,null,null,null,null,null,null,null,null,null,null,null,null,null,null,null,null,null,null,null,null,null,null,null,null,null,null,0,0,1,0,"WWN","£m",1,"See comment row 216. Expected to be delivered by target date."]
["SSD00787",null,null,null,null,"WQ","South East","Solent and South Downs","Southern Water Services Ltd","7SO300822","KINGSTON HOLLOW WWTW",null,null,null,null,null,null,null,"U_MON3",null,null,null,null,null,null,"2022-03-31","Green","A01223",540447,108147,null,null,null,null,null,null,null,null,null,null,null,null,null,null,null,null,null,null,null,null,null,null,null,null,null,null,null,null,null,null,null,null,null,null,null,null,null,null,null,null,null,null,null,null,null,null,null,null,null,null,null,null,null,null,null,null,null,null,null,null,null,null,null,null,null,0,0,1,0,"WWN","£m",1,"See comment row 216. Expected to be delivered by target date."]
["SSD00792",null,null,null,null,"WQ","South East","Solent and South Downs","Southern Water Services Ltd","7SO300832","LIDSEY WWTW","Lidsey Rife","GB107041012010","River","Western Streams",null,null,null,"U_MON3",null,null,null,null,null,null,"2022-03-31","Green","A01209",494490,103290,null,null,null,null,null,null,null,null,null,null,null,null,null,null,null,null,null,null,null,null,null,null,null,null,null,null,null,null,null,null,null,null,null,null,null,null,null,null,null,null,null,null,null,null,null,null,null,null,null,null,null,null,null,null,null,null,null,null,null,null,null,null,null,null,null,0,0,1,0,"WWN","£m",1,"See comment row 216. Expected to be delivered by target date."]
["KSL00580",null,null,null,null,"WQ","Thames","Kent South London and East Sussex","Southern Water Services Ltd","7SO300834","LINGFIELD WWTW","Ray Brook","GB106040018340","River","Eden",null,null,null,"U_MON3",null,null,null,null,null,null,"2022-03-31","Green","A00194",538852,145020,null,null,null,null,null,null,null,null,null,null,null,null,null,null,null,null,null,null,null,null,null,null,null,null,null,null,null,null,null,null,null,null,null,null,null,null,null,null,null,null,null,null,null,null,null,null,null,null,null,null,null,null,null,null,null,null,null,null,null,null,null,null,null,null,null,0,0,1,0,"WWN","£m",1,"See comment row 216. Expected to be delivered by target date."]
["SSD00796",null,null,null,null,"WQ","South East","Solent and South Downs","Southern Water Services Ltd","7SO300840","LOXWOOD WWTW","Loxwood Stream","GB107041017970","River","Arun Upper",null,null,null,"U_MON3",null,null,null,null,null,null,"2022-03-31","Green","A01501",504701,130686,null,null,null,null,null,null,null,null,null,null,null,null,null,null,null,null,null,null,null,null,null,null,null,null,null,null,null,null,null,null,null,null,null,null,null,null,null,null,null,null,null,null,null,null,null,null,null,null,null,null,null,null,null,null,null,null,null,null,null,null,null,null,null,null,null,0,0,1,0,"WWN","£m",1,"See comment row 216. Expected to be delivered by target date."]
["SSD00798",null,null,null,null,"WQ","South East","Solent and South Downs","Southern Water Services Ltd","7SO300842","LUNSFORDS CROSS WWTW",null,null,null,null,null,null,null,"U_MON3",null,null,null,null,null,null,"2022-03-31","Green","W00380",571650,110720,null,null,null,null,null,null,null,null,null,null,null,null,null,null,null,null,null,null,null,null,null,null,null,null,null,null,null,null,null,null,null,null,null,null,null,null,null,null,null,null,null,null,null,null,null,null,null,null,null,null,null,null,null,null,null,null,null,null,null,null,null,null,null,null,null,0,0,1,0,"WWN","£m",1,"See comment row 216. Expected to be delivered by target date."]
["KSL00584",null,null,null,null,"WQ","Thames","Kent South London and East Sussex","Southern Water Services Ltd","7SO300845","LUXFORDS LANE EAST GRINSTEAD WWTW","Medway at Weir Wood","GB106040018070","River","Medway Upper",null,null,null,"U_MON3",null,null,null,null,null,null,"2022-03-31","Green","A00532",540400,126250,null,null,null,null,null,null,null,null,null,null,null,null,null,null,null,null,null,null,null,null,null,null,null,null,null,null,null,null,null,null,null,null,null,null,null,null,null,null,null,null,null,null,null,null,null,null,null,null,null,null,null,null,null,null,null,null,null,null,null,null,null,null,null,null,null,0,0,1,0,"WWN","£m",1,"See comment row 216. Expected to be delivered by target date."]
["SSD00805",null,null,null,null,"WQ","South East","Solent and South Downs","Southern Water Services Ltd","7SO300853","MANNINGS HEATH WWTW","Arun Source","GB107041012920","River","Arun Upper",null,null,null,"U_MON3",null,null,null,null,null,null,"2022-03-31","Green","A01165",520295,129050,null,null,null,null,null,null,null,null,null,null,null,null,null,null,null,null,null,null,null,null,null,null,null,null,null,null,null,null,null,null,null,null,null,null,null,null,null,null,null,null,null,null,null,null,null,null,null,null,null,null,null,null,null,null,null,null,null,null,null,null,null,null,null,null,null,0,0,1,0,"WWN","£m",1,"See comment row 216. Expected to be delivered by target date."]
["SSD00807",null,null,null,null,"WQ","South East","Solent and South Downs","Southern Water Services Ltd","7SO300855","MARESFIELD WWTW","Shortbridge Stream","GB107041012980","River","Ouse Upper",null,null,null,"U_MON3",null,null,null,null,null,null,"2022-03-31","Green","W00342",545640,123170,null,null,null,null,null,null,null,null,null,null,null,null,null,null,null,null,null,null,null,null,null,null,null,null,null,null,null,null,null,null,null,null,null,null,null,null,null,null,null,null,null,null,null,null,null,null,null,null,null,null,null,null,null,null,null,null,null,null,null,null,null,null,null,null,null,0,0,1,0,"WWN","£m",1,"See comment row 216. Expected to be delivered by target date."]
["KSL00590",null,null,null,null,"WQ","South East","Kent South London and East Sussex","Southern Water Services Ltd","7SO300859","MAY STREET HERNE BAY WWTW","Hogwell Sewer and Chislet North Stream","GB107040019770","River","Stour Marshes",null,null,null,"U_MON3",null,null,null,null,null,null,"2022-03-31","Green","A00643",621110,167520,null,null,null,null,null,null,null,null,null,null,null,null,null,null,null,null,null,null,null,null,null,null,null,null,null,null,null,null,null,null,null,null,null,null,null,null,null,null,null,null,null,null,null,null,null,null,null,null,null,null,null,null,null,null,null,null,null,null,null,null,null,null,null,null,null,0,0,1,0,"WWN","£m",1,"See comment row 216. Expected to be delivered by target date."]
["KSL00592",null,null,null,null,"WQ","South East","Kent South London and East Sussex","Southern Water Services Ltd","7SO300861","MERES FARM MAYFIELD WWTW",null,null,"River","Rother Upper",null,null,null,"U_MON3",null,null,null,null,null,null,"2022-03-31","Green","W00589",558000,125360,null,null,null,null,null,null,null,null,null,null,null,null,null,null,null,null,null,null,null,null,null,null,null,null,null,null,null,null,null,null,null,null,null,null,null,null,null,null,null,null,null,null,null,null,null,null,null,null,null,null,null,null,null,null,null,null,null,null,null,null,null,null,null,null,null,0,0,1,0,"WWN","£m",1,"See comment row 216. Expected to be delivered by target date."]
["SSD00809",null,null,null,null,"WQ","South East","Solent and South Downs","Southern Water Services Ltd","7SO300863","MILFORD ROAD PENNINGTON WWTW","Avon Water","GB107042011300","River","New Forest - Lymington and Beaulieu",null,null,null,"U_MON3",null,null,null,null,null,null,"2022-03-31","Green","A00665",431074,93458,null,null,null,null,null,null,null,null,null,null,null,null,null,null,null,null,null,null,null,null,null,null,null,null,null,null,null,null,null,null,null,null,null,null,null,null,null,null,null,null,null,null,null,null,null,null,null,null,null,null,null,null,null,null,null,null,null,null,null,null,null,null,null,null,null,0,0,1,0,"WWN","£m",1,"See comment row 216. Expected to be delivered by target date."]
["SSD00814",null,null,null,null,"WQ","South East","Solent and South Downs","Southern Water Services Ltd","7SO300871","MILLBROOK WWTW","Tanner's Brook","GB107042016620","River","Test Lower and Southampton Streams",null,null,null,"U_MON3",null,null,null,null,null,null,"2022-03-31","Green","A00016 ",438710,111760,null,null,null,null,null,null,null,null,null,null,null,null,null,null,null,null,null,null,null,null,null,null,null,null,null,null,null,null,null,null,null,null,null,null,null,null,null,null,null,null,null,null,null,null,null,null,null,null,null,null,null,null,null,null,null,null,null,null,null,null,null,null,null,null,null,0,0,1,0,"WWN","£m",1,"See comment row 216. Expected to be delivered by target date."]
["KSL00597",null,null,null,null,"WQ",null,"Kent South London and East Sussex","Southern Water Services Ltd","7SO300873","MINSTER IOT WWTW",null,null,null,null,null,null,null,"U_MON3",null,null,null,null,null,null,"2022-03-31","Green",null,null,null,null,null,null,null,null,null,null,null,null,null,null,null,null,null,null,null,null,null,null,null,null,null,null,null,null,null,null,null,null,null,null,null,null,null,null,null,null,null,null,null,null,null,null,null,null,null,null,null,null,null,null,null,null,null,null,null,null,null,null,null,null,null,null,null,null,0,0,1,0,"WWN","£m",1,"See comment row 216. Expected to be delivered by target date."]
["SSD00820",null,null,null,null,"WQ","South East","Solent and South Downs","Southern Water Services Ltd","7SO300883","NEAVES LANE RINGMER WWTW","Glynde Reach","GB107041012510","River","Ouse Upper",null,null,null,"U_MON3",null,null,null,null,null,null,"2022-03-31","Green","A01196",546370,112580,null,null,null,null,null,null,null,null,null,null,null,null,null,null,null,null,null,null,null,null,null,null,null,null,null,null,null,null,null,null,null,null,null,null,null,null,null,null,null,null,null,null,null,null,null,null,null,null,null,null,null,null,null,null,null,null,null,null,null,null,null,null,null,null,null,0,0,1,0,"WWN","£m",1,"See comment row 216. Expected to be delivered by target date."]
["KSL00603",null,null,null,null,"WQ","South East","Kent South London and East Sussex","Southern Water Services Ltd","7SO300887","NEW ROMNEY WWTW","Kent South","GB640704540001","Coastal","Kent East Coast",null,null,null,"U_MON3",null,null,null,null,null,null,"2022-03-31","Green","A01500",607380,123950,null,null,null,null,null,null,null,null,null,null,null,null,null,null,null,null,null,null,null,null,null,null,null,null,null,null,null,null,null,null,null,null,null,null,null,null,null,null,null,null,null,null,null,null,null,null,null,null,null,null,null,null,null,null,null,null,null,null,null,null,null,null,null,null,null,0,0,1,0,"WWN","£m",1,"See comment row 216. Expected to be delivered by target date."]
["SSD00829",null,null,null,null,"WQ","South East","Solent and South Downs","Southern Water Services Ltd","7SO300894","NEWHAVEN MAIN WWTW",null,null,null,null,null,null,null,"U_MON3",null,null,null,null,null,null,"2022-03-31","Green","A00755",545197,100749,null,null,null,null,null,null,null,null,null,null,null,null,null,null,null,null,null,null,null,null,null,null,null,null,null,null,null,null,null,null,null,null,null,null,null,null,null,null,null,null,null,null,null,null,null,null,null,null,null,null,null,null,null,null,null,null,null,null,null,null,null,null,null,null,null,0,0,1,0,"WWN","£m",1,"See comment row 216. Expected to be delivered by target date."]
["SSD00833",null,null,null,null,"WQ","South East","Solent and South Downs","Southern Water Services Ltd","7SO300898","NORTHCHAPEL WWTW","Kird","GB107041012300","River","Arun Upper",null,null,null,"U_MON3",null,null,null,null,null,null,"2022-03-31","Green","W00364",495260,129020,null,null,null,null,null,null,null,null,null,null,null,null,null,null,null,null,null,null,null,null,null,null,null,null,null,null,null,null,null,null,null,null,null,null,null,null,null,null,null,null,null,null,null,null,null,null,null,null,null,null,null,null,null,null,null,null,null,null,null,null,null,null,null,null,null,0,0,1,0,"WWN","£m",1,"See comment row 216. Expected to be delivered by target date."]
["KSL00607",null,null,null,null,"WQ","Thames","Kent South London and East Sussex","Southern Water Services Ltd","7SO300906","OXTED WWTW","Upper Eden","GB106040018630","River","Eden",null,null,null,"U_MON3",null,null,null,null,null,null,"2022-03-31","Green","A00193",539780,150040,null,null,null,null,null,null,null,null,null,null,null,null,null,null,null,null,null,null,null,null,null,null,null,null,null,null,null,null,null,null,null,null,null,null,null,null,null,null,null,null,null,null,null,null,null,null,null,null,null,null,null,null,null,null,null,null,null,null,null,null,null,null,null,null,null,0,0,1,0,"WWN","£m",1,"See comment row 216. Expected to be delivered by target date."]
["KSL00609",null,null,null,null,"WQ",null,"Kent South London and East Sussex","Southern Water Services Ltd","7SO300908","PADDOCK WOOD WWTW",null,null,null,null,null,null,null,"U_MON3",null,null,null,null,null,null,"2022-03-31","Green","W00587",567650,145650,null,null,null,null,null,null,null,null,null,null,null,null,null,null,null,null,null,null,null,null,null,null,null,null,null,null,null,null,null,null,null,null,null,null,null,null,null,null,null,null,null,null,null,null,null,null,null,null,null,null,null,null,null,null,null,null,null,null,null,null,null,null,null,null,null,0,0,1,0,"WWN","£m",1,"See comment row 216. Expected to be delivered by target date."]
["SSD00842",null,null,null,null,"WQ","South East","Solent and South Downs","Southern Water Services Ltd","7SO300913","PEEL COMMON WWTW","Alver","GB107042011370","River","East Hampshire Rivers",null,null,null,"U_MON3",null,null,null,null,null,null,"2022-03-31","Green","W00131",458100,97700,null,null,null,null,null,null,null,null,null,null,null,null,null,null,null,null,null,null,null,null,null,null,null,null,null,null,null,null,null,null,null,null,null,null,null,null,null,null,null,null,null,null,null,null,null,null,null,null,null,null,null,null,null,null,null,null,null,null,null,null,null,null,null,null,null,0,0,1,0,"WWN","£m",1,"See comment row 216. Expected to be delivered by target date."]
["KSL00613",null,null,null,null,"WQ",null,"Kent South London and East Sussex","Southern Water Services Ltd","7SO300917","PENSHURST WWTW",null,null,null,null,null,null,null,"U_MON3",null,null,null,null,null,null,"2022-03-31","Green","W00026",553252,143715,null,null,null,null,null,null,null,null,null,null,null,null,null,null,null,null,null,null,null,null,null,null,null,null,null,null,null,null,null,null,null,null,null,null,null,null,null,null,null,null,null,null,null,null,null,null,null,null,null,null,null,null,null,null,null,null,null,null,null,null,null,null,null,null,null,0,0,1,0,"WWN","£m",1,"See comment row 216. Expected to be delivered by target date."]
["SSD00850",null,null,null,null,"WQ","South East","Solent and South Downs","Southern Water Services Ltd","7SO300926","PORTSWOOD WWTW","SOUTHAMPTON WATER","GB520704202800","Transitional","Southampton Water",null,null,null,"U_MON3",null,null,null,null,null,null,"2022-03-31","Green","W00314",443580,114590,null,null,null,null,null,null,null,null,null,null,null,null,null,null,null,null,null,null,null,null,null,null,null,null,null,null,null,null,null,null,null,null,null,null,null,null,null,null,null,null,null,null,null,null,null,null,null,null,null,null,null,null,null,null,null,null,null,null,null,null,null,null,null,null,null,0,0,1,0,"WWN","£m",1,"See comment row 216. Expected to be delivered by target date."]
["SSD00852",null,null,null,null,"WQ","South East","Solent and South Downs","Southern Water Services Ltd","7SO300928","POYNINGS WWTW","Woodsmill Stream","GB107041012060","River","Adur Upper",null,null,null,"U_MON3",null,null,null,null,null,null,"2022-03-31","Green","A01216",525935,112357,null,null,null,null,null,null,null,null,null,null,null,null,null,null,null,null,null,null,null,null,null,null,null,null,null,null,null,null,null,null,null,null,null,null,null,null,null,null,null,null,null,null,null,null,null,null,null,null,null,null,null,null,null,null,null,null,null,null,null,null,null,null,null,null,null,0,0,1,0,"WWN","£m",1,"See comment row 216. Expected to be delivered by target date."]
["KSL00625",null,null,null,null,"WQ","Thames","Kent South London and East Sussex","Southern Water Services Ltd","7SO300941","REDGATE MILL CROWBOROUGH WWTW","Eridge Stream","GB106040018390","River","Medway Upper",null,null,null,"U_MON3",null,null,null,null,null,null,"2022-03-31","Green","W00479",555230,132520,null,null,null,null,null,null,null,null,null,null,null,null,null,null,null,null,null,null,null,null,null,null,null,null,null,null,null,null,null,null,null,null,null,null,null,null,null,null,null,null,null,null,null,null,null,null,null,null,null,null,null,null,null,null,null,null,null,null,null,null,null,null,null,null,null,0,0,1,0,"WWN","£m",1,"See comment row 216. Expected to be delivered by target date."]
["SSD00858",null,null,null,null,"WQ","South East","Solent and South Downs","Southern Water Services Ltd","7SO300945","RIPE WWTW","Glynde Reach","GB107041012510","River","Ouse Upper",null,null,null,"U_MON3",null,null,null,null,null,null,"2022-03-31","Green","A01230",550940,109730,null,null,null,null,null,null,null,null,null,null,null,null,null,null,null,null,null,null,null,null,null,null,null,null,null,null,null,null,null,null,null,null,null,null,null,null,null,null,null,null,null,null,null,null,null,null,null,null,null,null,null,null,null,null,null,null,null,null,null,null,null,null,null,null,null,0,0,1,0,"WWN","£m",1,"See comment row 216. Expected to be delivered by target date."]
["KSL00629",null,null,null,null,"WQ","South East","Kent South London and East Sussex","Southern Water Services Ltd","7SO300951","ROLVENDEN LAYNE WWTW","Hexden Channel","GB107040019670","River","Rother Levels",null,null,null,"U_MON3",null,null,null,null,null,null,"2022-03-31","Green","W00501",585250,129500,null,null,null,null,null,null,null,null,null,null,null,null,null,null,null,null,null,null,null,null,null,null,null,null,null,null,null,null,null,null,null,null,null,null,null,null,null,null,null,null,null,null,null,null,null,null,null,null,null,null,null,null,null,null,null,null,null,null,null,null,null,null,null,null,null,0,0,1,0,"WWN","£m",1,"See comment row 216. Expected to be delivered by target date."]
["SSD00862",null,null,null,null,"WQ","South East","Solent and South Downs","Southern Water Services Ltd","7SO300953","ROMSEY WWTW","Test - conf Dun to Tadburn Lake","GB107042016460","River","Test Lower and Southampton Streams",null,null,null,"U_MON3",null,null,null,null,null,null,"2022-03-31","Green","W00219",434950,120620,null,null,null,null,null,null,null,null,null,null,null,null,null,null,null,null,null,null,null,null,null,null,null,null,null,null,null,null,null,null,null,null,null,null,null,null,null,null,null,null,null,null,null,null,null,null,null,null,null,null,null,null,null,null,null,null,null,null,null,null,null,null,null,null,null,0,0,1,0,"WWN","£m",1,"See comment row 216. Expected to be delivered by target date."]
["SSD00871",null,null,null,null,"WQ","South East","Solent and South Downs","Southern Water Services Ltd","7SO300968","SANDOWN NEW WWTW",null,null,null,null,null,null,null,"U_MON3",null,null,null,null,null,null,"2022-03-31","Green","A00726",460201,85190,null,null,null,null,null,null,null,null,null,null,null,null,null,null,null,null,null,null,null,null,null,null,null,null,null,null,null,null,null,null,null,null,null,null,null,null,null,null,null,null,null,null,null,null,null,null,null,null,null,null,null,null,null,null,null,null,null,null,null,null,null,null,null,null,null,0,0,1,0,"WWN","£m",1,"See comment row 216. Expected to be delivered by target date."]
["KSL00637",null,null,null,null,"WQ","South East","Kent South London and East Sussex","Southern Water Services Ltd","7SO300975","SELLINDGE WWTW","East Stour","GB107040019640","River","Stour Upper",null,null,null,"U_MON3",null,null,null,null,null,null,"2022-03-31","Green","A00533",608600,138110,null,null,null,null,null,null,null,null,null,null,null,null,null,null,null,null,null,null,null,null,null,null,null,null,null,null,null,null,null,null,null,null,null,null,null,null,null,null,null,null,null,null,null,null,null,null,null,null,null,null,null,null,null,null,null,null,null,null,null,null,null,null,null,null,null,0,0,1,0,"WWN","£m",1,"See comment row 216. Expected to be delivered by target date."]
["SSD00879",null,null,null,null,"WQ","South East","Solent and South Downs","Southern Water Services Ltd","7SO300978","SHOREHAM WWTW","Sussex","GB640704540003","Coastal","Sussex TraC",null,null,null,"U_MON3",null,null,null,null,null,null,"2022-03-31","Green","A01105",524950,101600,null,null,null,null,null,null,null,null,null,null,null,null,null,null,null,null,null,null,null,null,null,null,null,null,null,null,null,null,null,null,null,null,null,null,null,null,null,null,null,null,null,null,null,null,null,null,null,null,null,null,null,null,null,null,null,null,null,null,null,null,null,null,null,null,null,0,0,1,0,"WWN","£m",1,"See comment row 216. Expected to be delivered by target date."]
["SSD00881",null,null,null,null,"WQ","South East","Solent and South Downs","Southern Water Services Ltd","7SO300980","SHORWELL WWTW",null,null,null,null,null,null,null,"U_MON3",null,null,null,null,null,null,"2022-03-31","Green","A00197",444900,82500,null,null,null,null,null,null,null,null,null,null,null,null,null,null,null,null,null,null,null,null,null,null,null,null,null,null,null,null,null,null,null,null,null,null,null,null,null,null,null,null,null,null,null,null,null,null,null,null,null,null,null,null,null,null,null,null,null,null,null,null,null,null,null,null,null,0,0,1,0,"WWN","£m",1,"See comment row 216. Expected to be delivered by target date."]
["SSD00883",null,null,null,null,"WQ","South East","Solent and South Downs","Southern Water Services Ltd","7SO300982","SIDLESHAM WWTW","Broad Rife","GB107041006580","River","Western Streams",null,null,null,"U_MON3",null,null,null,null,null,null,"2022-03-31","Green","W00384",484980,95809,null,null,null,null,null,null,null,null,null,null,null,null,null,null,null,null,null,null,null,null,null,null,null,null,null,null,null,null,null,null,null,null,null,null,null,null,null,null,null,null,null,null,null,null,null,null,null,null,null,null,null,null,null,null,null,null,null,null,null,null,null,null,null,null,null,0,0,1,0,"WWN","£m",1,"See comment row 216. Expected to be delivered by target date."]
["KSL00641",null,null,null,null,"WQ","Thames","Kent South London and East Sussex","Southern Water Services Ltd","7SO300986","SITTINGBOURNE WWTW","SWALE","GB530604011500","Transitional","Medway Swale Estuary",null,null,null,"U_MON3",null,null,null,null,null,null,"2022-03-31","Green","W00518",591260,164740,null,null,null,null,null,null,null,null,null,null,null,null,null,null,null,null,null,null,null,null,null,null,null,null,null,null,null,null,null,null,null,null,null,null,null,null,null,null,null,null,null,null,null,null,null,null,null,null,null,null,null,null,null,null,null,null,null,null,null,null,null,null,null,null,null,0,0,1,0,"WWN","£m",1,"See comment row 216. Expected to be delivered by target date."]
["SSD00885",null,null,null,null,"WQ","South East","Solent and South Downs","Southern Water Services Ltd","7SO300988","SLINFOLD WWTW","Arun (U/S Pallingham)","GB107041017950","River","Arun Upper",null,null,null,"U_MON3",null,null,null,null,null,null,"2022-03-31","Green","A01205",511344,132054,null,null,null,null,null,null,null,null,null,null,null,null,null,null,null,null,null,null,null,null,null,null,null,null,null,null,null,null,null,null,null,null,null,null,null,null,null,null,null,null,null,null,null,null,null,null,null,null,null,null,null,null,null,null,null,null,null,null,null,null,null,null,null,null,null,0,0,1,0,"WWN","£m",1,"See comment row 216. Expected to be delivered by target date."]
["SSD00887",null,null,null,null,"WQ","South East","Solent and South Downs","Southern Water Services Ltd","7SO300990","SLOWHILL COPSE MARCHWOOD WWTW","SOUTHAMPTON WATER","GB520704202800","Transitional","Southampton Water",null,null,null,"U_MON3",null,null,null,null,null,null,"2022-03-31","Green","W00288",438620,111350,null,null,null,null,null,null,null,null,null,null,null,null,null,null,null,null,null,null,null,null,null,null,null,null,null,null,null,null,null,null,null,null,null,null,null,null,null,null,null,null,null,null,null,null,null,null,null,null,null,null,null,null,null,null,null,null,null,null,null,null,null,null,null,null,null,0,0,1,0,"WWN","£m",1,"See comment row 216. Expected to be delivered by target date."]
["SSD00889",null,null,null,null,"WQ","South East","Solent and South Downs","Southern Water Services Ltd","7SO300992","SMALL DOLE WWTW","Woodsmill Stream","GB107041012060","River","Adur Upper",null,null,null,"U_MON3",null,null,null,null,null,null,"2022-03-31","Green","W00398",521547,113661,null,null,null,null,null,null,null,null,null,null,null,null,null,null,null,null,null,null,null,null,null,null,null,null,null,null,null,null,null,null,null,null,null,null,null,null,null,null,null,null,null,null,null,null,null,null,null,null,null,null,null,null,null,null,null,null,null,null,null,null,null,null,null,null,null,0,0,1,0,"WWN","£m",1,"See comment row 216. Expected to be delivered by target date."]
["KSL00643",null,null,null,null,"WQ",null,"Kent South London and East Sussex","Southern Water Services Ltd","7SO300994","SMARDEN WWTW",null,null,null,null,null,null,null,"U_MON3",null,null,null,null,null,null,"2022-03-31","Green","W00486",587765,142285,null,null,null,null,null,null,null,null,null,null,null,null,null,null,null,null,null,null,null,null,null,null,null,null,null,null,null,null,null,null,null,null,null,null,null,null,null,null,null,null,null,null,null,null,null,null,null,null,null,null,null,null,null,null,null,null,null,null,null,null,null,null,null,null,null,0,0,1,0,"WWN","£m",1,"See comment row 216. Expected to be delivered by target date."]
["KSL00645",null,null,null,null,"WQ",null,"Kent South London and East Sussex","Southern Water Services Ltd","7SO300996","SMITHS LANE GOUDHURST WWTW",null,null,null,null,null,null,null,"U_MON3",null,null,null,null,null,null,"2022-03-31","Green","A01200",571847,138178,null,null,null,null,null,null,null,null,null,null,null,null,null,null,null,null,null,null,null,null,null,null,null,null,null,null,null,null,null,null,null,null,null,null,null,null,null,null,null,null,null,null,null,null,null,null,null,null,null,null,null,null,null,null,null,null,null,null,null,null,null,null,null,null,null,0,0,1,0,"WWN","£m",1,"See comment row 216. Expected to be delivered by target date."]
["KSL00647",null,null,null,null,"WQ",null,"Kent South London and East Sussex","Southern Water Services Ltd","7SO400003","SOUTH STREET EAST BARMING WPS",null,null,null,null,null,null,null,"U_MON3",null,null,null,null,null,null,"2022-03-31","Green","W00593",572400,154100,null,null,null,null,null,null,null,null,null,null,null,null,null,null,null,null,null,null,null,null,null,null,null,null,null,null,null,null,null,null,null,null,null,null,null,null,null,null,null,null,null,null,null,null,null,null,null,null,null,null,null,null,null,null,null,null,null,null,null,null,null,null,null,null,null,0,0,1,0,"WWN","£m",1,"See comment row 216. Expected to be delivered by target date."]
["KSL00649",null,null,null,null,"WQ",null,"Kent South London and East Sussex","Southern Water Services Ltd","7SO400009","ST JOHNS CROWBOROUGH WWTW",null,null,null,null,null,null,null,"U_MON3",null,null,null,null,null,null,"2022-03-31","Green","W00037",550015,133149,null,null,null,null,null,null,null,null,null,null,null,null,null,null,null,null,null,null,null,null,null,null,null,null,null,null,null,null,null,null,null,null,null,null,null,null,null,null,null,null,null,null,null,null,null,null,null,null,null,null,null,null,null,null,null,null,null,null,null,null,null,null,null,null,null,0,0,1,0,"WWN","£m",1,"See comment row 216. Expected to be delivered by target date."]
["SSD00899",null,null,null,null,"WQ","South East","Solent and South Downs","Southern Water Services Ltd","7SO400013","STAPLEFIELD WWTW","Ouse from Slaugham to Ardingly Resevoir","GB107041012730","River","Ouse Upper",null,null,null,"U_MON3",null,null,null,null,null,null,"2022-03-31","Green","W00338",528000,127350,null,null,null,null,null,null,null,null,null,null,null,null,null,null,null,null,null,null,null,null,null,null,null,null,null,null,null,null,null,null,null,null,null,null,null,null,null,null,null,null,null,null,null,null,null,null,null,null,null,null,null,null,null,null,null,null,null,null,null,null,null,null,null,null,null,0,0,1,0,"WWN","£m",1,"See comment row 216. Expected to be delivered by target date."]
["KSL00653",null,null,null,null,"WQ",null,"Kent South London and East Sussex","Southern Water Services Ltd","7SO400015","STAPLEHURST WWTW",null,null,null,null,null,null,null,"U_MON3",null,null,null,null,null,null,"2022-03-31","Green","W00533",578958,144553,null,null,null,null,null,null,null,null,null,null,null,null,null,null,null,null,null,null,null,null,null,null,null,null,null,null,null,null,null,null,null,null,null,null,null,null,null,null,null,null,null,null,null,null,null,null,null,null,null,null,null,null,null,null,null,null,null,null,null,null,null,null,null,null,null,0,0,1,0,"WWN","£m",1,"See comment row 216. Expected to be delivered by target date."]
["SSD00901",null,null,null,null,"WQ","South East","Solent and South Downs","Southern Water Services Ltd","7SO400017","STEYNING WWTW",null,null,null,null,null,null,null,"U_MON3",null,null,null,null,null,null,"2022-03-31","Green","W00390",518626,112061,null,null,null,null,null,null,null,null,null,null,null,null,null,null,null,null,null,null,null,null,null,null,null,null,null,null,null,null,null,null,null,null,null,null,null,null,null,null,null,null,null,null,null,null,null,null,null,null,null,null,null,null,null,null,null,null,null,null,null,null,null,null,null,null,null,0,0,1,0,"WWN","£m",1,"See comment row 216. Expected to be delivered by target date."]
["SSD00903",null,null,null,null,"WQ","South East","Solent and South Downs","Southern Water Services Ltd","7SO400019","STOCKBRIDGE WWTW","Test - conf Anton to conf Dun","GB107042022670","River","Test Upper and Middle",null,null,null,"U_MON3",null,null,null,null,null,null,"2022-03-31","Green","W00241",435340,134440,null,null,null,null,null,null,null,null,null,null,null,null,null,null,null,null,null,null,null,null,null,null,null,null,null,null,null,null,null,null,null,null,null,null,null,null,null,null,null,null,null,null,null,null,null,null,null,null,null,null,null,null,null,null,null,null,null,null,null,null,null,null,null,null,null,0,0,1,0,"WWN","£m",1,"See comment row 216. Expected to be delivered by target date."]
["KSL00657",null,null,null,null,"WQ","Thames","Kent South London and East Sussex","Southern Water Services Ltd","7SO400023","STONE HILL ROAD EGERTON WWTW","Medway","GB106040018320","River","Medway",null,null,null,"U_MON3",null,null,null,null,null,null,"2022-03-31","Green","W00003",590610,147090,null,null,null,null,null,null,null,null,null,null,null,null,null,null,null,null,null,null,null,null,null,null,null,null,null,null,null,null,null,null,null,null,null,null,null,null,null,null,null,null,null,null,null,null,null,null,null,null,null,null,null,null,null,null,null,null,null,null,null,null,null,null,null,null,null,0,0,1,0,"WWN","£m",1,"See comment row 216. Expected to be delivered by target date."]
["SSD00905",null,null,null,null,"WQ","South East","Solent and South Downs","Southern Water Services Ltd","7SO400027","STORRINGTON WWTW","Stor","GB107041012100","River","Arun Lower",null,null,null,"U_MON3",null,null,null,null,null,null,"2022-03-31","Green","A01171",507621,115371,null,null,null,null,null,null,null,null,null,null,null,null,null,null,null,null,null,null,null,null,null,null,null,null,null,null,null,null,null,null,null,null,null,null,null,null,null,null,null,null,null,null,null,null,null,null,null,null,null,null,null,null,null,null,null,null,null,null,null,null,null,null,null,null,null,0,0,1,0,"WWN","£m",1,"See comment row 216. Expected to be delivered by target date."]
["KSL00661",null,null,null,null,"WQ","South East","Kent South London and East Sussex","Southern Water Services Ltd","7SO400029","STUBBS LANE BREDE WWTW","Brede","GB107040013550","River","Brede and Tillingham",null,null,null,"U_MON3",null,null,null,null,null,null,"2022-03-31","Green","A00591",582950,118819,null,null,null,null,null,null,null,null,null,null,null,null,null,null,null,null,null,null,null,null,null,null,null,null,null,null,null,null,null,null,null,null,null,null,null,null,null,null,null,null,null,null,null,null,null,null,null,null,null,null,null,null,null,null,null,null,null,null,null,null,null,null,null,null,null,0,0,1,0,"WWN","£m",1,"See comment row 216. Expected to be delivered by target date."]
["SSD00907",null,null,null,null,"WQ","South East","Solent and South Downs","Southern Water Services Ltd","7SO400031","SUMMER LANE PAGHAM WWTW","Pagham Rife","GB107041012880","River","Western Streams",null,null,null,"U_MON3",null,null,null,null,null,null,"2022-03-31","Green","A01192",488270,98950,null,null,null,null,null,null,null,null,null,null,null,null,null,null,null,null,null,null,null,null,null,null,null,null,null,null,null,null,null,null,null,null,null,null,null,null,null,null,null,null,null,null,null,null,null,null,null,null,null,null,null,null,null,null,null,null,null,null,null,null,null,null,null,null,null,0,0,1,0,"WWN","£m",1,"See comment row 216. Expected to be delivered by target date."]
["KSL00663",null,null,null,null,"WQ",null,"Kent South London and East Sussex","Southern Water Services Ltd","7SO400033","SUTTON VALENCE WWTW",null,null,null,null,null,null,null,"U_MON3",null,null,null,null,null,null,"2022-03-31","Green","W00481",580972,148223,null,null,null,null,null,null,null,null,null,null,null,null,null,null,null,null,null,null,null,null,null,null,null,null,null,null,null,null,null,null,null,null,null,null,null,null,null,null,null,null,null,null,null,null,null,null,null,null,null,null,null,null,null,null,null,null,null,null,null,null,null,null,null,null,null,0,0,1,0,"WWN","£m",1,"See comment row 216. Expected to be delivered by target date."]
["KSL00665",null,null,null,null,"WQ","South East","Kent South London and East Sussex","Southern Water Services Ltd","7SO400035","SWALECLIFFE WWTW","Swalecliffe Brook","GB107040019630","River","Oyster Coast Brooks",null,null,null,"U_MON3",null,null,null,null,null,null,"2022-03-31","Green","A01102",613500,168150,null,null,null,null,null,null,null,null,null,null,null,null,null,null,null,null,null,null,null,null,null,null,null,null,null,null,null,null,null,null,null,null,null,null,null,null,null,null,null,null,null,null,null,null,null,null,null,null,null,null,null,null,null,null,null,null,null,null,null,null,null,null,null,null,null,0,0,1,0,"WWN","£m",1,"See comment row 216. Expected to be delivered by target date."]
["SSD00909",null,null,null,null,"WQ","South East","Solent and South Downs","Southern Water Services Ltd","7SO400037","TANGMERE WWTW","Aldingbourne Rife","GB107041011980","River","Western Streams",null,null,null,"U_MON3",null,null,null,null,null,null,"2022-03-31","Green","A001125",491762,106712,null,null,null,null,null,null,null,null,null,null,null,null,null,null,null,null,null,null,null,null,null,null,null,null,null,null,null,null,null,null,null,null,null,null,null,null,null,null,null,null,null,null,null,null,null,null,null,null,null,null,null,null,null,null,null,null,null,null,null,null,null,null,null,null,null,0,0,1,0,"WWN","£m",1,"See comment row 216. Expected to be delivered by target date."]
["KSL00667",null,null,null,null,"WQ",null,"Kent South London and East Sussex","Southern Water Services Ltd","7SO400040","TENTERDEN WWTW",null,null,null,null,null,null,null,"U_MON3",null,null,null,null,null,null,"2022-03-31","Green","A00199",586659,132641,null,null,null,null,null,null,null,null,null,null,null,null,null,null,null,null,null,null,null,null,null,null,null,null,null,null,null,null,null,null,null,null,null,null,null,null,null,null,null,null,null,null,null,null,null,null,null,null,null,null,null,null,null,null,null,null,null,null,null,null,null,null,null,null,null,0,0,1,0,"WWN","£m",1,"See comment row 216. Expected to be delivered by target date."]
["SSD00913",null,null,null,null,"WQ","South East","Solent and South Downs","Southern Water Services Ltd","7SO400047","THORNHAM WWTW","CHICHESTER HARBOUR","GB580705210000","Transitional","Western Streams TraC",null,null,null,"U_MON3",null,null,null,null,null,null,"2022-03-31","Green","W00354",475820,104730,null,null,null,null,null,null,null,null,null,null,null,null,null,null,null,null,null,null,null,null,null,null,null,null,null,null,null,null,null,null,null,null,null,null,null,null,null,null,null,null,null,null,null,null,null,null,null,null,null,null,null,null,null,null,null,null,null,null,null,null,null,null,null,null,null,0,0,1,0,"WWN","£m",1,"See comment row 216. Expected to be delivered by target date."]
["KSL00678",null,null,null,null,"WQ","South East","Kent South London and East Sussex","Southern Water Services Ltd","7SO400054","TUNBRIDGE WELLS NORTH WWTW","Somerhill Stream","GB106040018410","River","Medway Middle",null,null,null,"U_MON3",null,null,null,null,null,null,"2022-03-31","Green","A00814",560292,142590,null,null,null,null,null,null,null,null,null,null,null,null,null,null,null,null,null,null,null,null,null,null,null,null,null,null,null,null,null,null,null,null,null,null,null,null,null,null,null,null,null,null,null,null,null,null,null,null,null,null,null,null,null,null,null,null,null,null,null,null,null,null,null,null,null,0,0,1,0,"WWN","£m",1,"See comment row 216. Expected to be delivered by target date."]
["KSL00680",null,null,null,null,"WQ","Thames","Kent South London and East Sussex","Southern Water Services Ltd","7SO400056","TUNBRIDGE WELLS SOUTH WWTW","Grom","GB106040018400","River","Medway Upper",null,null,null,"U_MON3",null,null,null,null,null,null,"2022-03-31","Green","A00200",552690,137420,null,null,null,null,null,null,null,null,null,null,null,null,null,null,null,null,null,null,null,null,null,null,null,null,null,null,null,null,null,null,null,null,null,null,null,null,null,null,null,null,null,null,null,null,null,null,null,null,null,null,null,null,null,null,null,null,null,null,null,null,null,null,null,null,null,0,0,1,0,"WWN","£m",1,"See comment row 216. Expected to be delivered by target date."]
["SSD00915",null,null,null,null,"WQ","South East","Solent and South Downs","Southern Water Services Ltd","7SO400058","UCKFIELD WWTW","Uck at Uckfield","GB107041012660","River","Ouse Upper",null,null,null,"U_MON3",null,null,null,null,null,null,"2022-03-31","Green","A00534",546590,120664,null,null,null,null,null,null,null,null,null,null,null,null,null,null,null,null,null,null,null,null,null,null,null,null,null,null,null,null,null,null,null,null,null,null,null,null,null,null,null,null,null,null,null,null,null,null,null,null,null,null,null,null,null,null,null,null,null,null,null,null,null,null,null,null,null,0,0,1,0,"WWN","£m",1,"See comment row 216. Expected to be delivered by target date."]
["KSL00684",null,null,null,null,"WQ",null,"Kent South London and East Sussex","Southern Water Services Ltd","7SO400062","UNDERHILL GOUDHURST WWTW",null,null,null,null,null,null,null,"U_MON3",null,null,null,null,null,null,"2022-03-31","Green","W00134",572226,137206,null,null,null,null,null,null,null,null,null,null,null,null,null,null,null,null,null,null,null,null,null,null,null,null,null,null,null,null,null,null,null,null,null,null,null,null,null,null,null,null,null,null,null,null,null,null,null,null,null,null,null,null,null,null,null,null,null,null,null,null,null,null,null,null,null,0,0,1,0,"WWN","£m",1,"See comment row 216. Expected to be delivered by target date."]
["SSD00918",null,null,null,null,"WQ","South East","Solent and South Downs","Southern Water Services Ltd","7SO400065","VINES CROSS WWTW","Waldron Ghyll","GB107041012391","River","Cuckmere Upper",null,null,null,"U_MON3",null,null,null,null,null,null,"2022-03-31","Green","W00013",559587,117038,null,null,null,null,null,null,null,null,null,null,null,null,null,null,null,null,null,null,null,null,null,null,null,null,null,null,null,null,null,null,null,null,null,null,null,null,null,null,null,null,null,null,null,null,null,null,null,null,null,null,null,null,null,null,null,null,null,null,null,null,null,null,null,null,null,0,0,1,0,"WWN","£m",1,"See comment row 216. Expected to be delivered by target date."]
["KSL00686",null,null,null,null,"WQ","South East","Kent South London and East Sussex","Southern Water Services Ltd","7SO400069","WASHWELL LANE WADHURST WWTW","Rother","GB107040013620","River","Rother",null,null,null,"U_MON3",null,null,null,null,null,null,"2022-03-31","Green","W00553",563720,130920,null,null,null,null,null,null,null,null,null,null,null,null,null,null,null,null,null,null,null,null,null,null,null,null,null,null,null,null,null,null,null,null,null,null,null,null,null,null,null,null,null,null,null,null,null,null,null,null,null,null,null,null,null,null,null,null,null,null,null,null,null,null,null,null,null,0,0,1,0,"WWN","£m",1,"See comment row 216. Expected to be delivered by target date."]
["SSD00924",null,null,null,null,"WQ","South East","Solent and South Downs","Southern Water Services Ltd","7SO400079","WEST WELLOW WWTW","Blackwater (Test and Itchen)","GB107042016791","River","Test Lower and Southampton Streams",null,null,null,"U_MON3",null,null,null,null,null,null,"2022-03-31","Green","A00640",431720,119160,null,null,null,null,null,null,null,null,null,null,null,null,null,null,null,null,null,null,null,null,null,null,null,null,null,null,null,null,null,null,null,null,null,null,null,null,null,null,null,null,null,null,null,null,null,null,null,null,null,null,null,null,null,null,null,null,null,null,null,null,null,null,null,null,null,0,0,1,0,"WWN","£m",1,"See comment row 216. Expected to be delivered by target date."]
["KSL00694",null,null,null,null,"WQ",null,"Kent South London and East Sussex","Southern Water Services Ltd","7SO400081","WESTBERE WWTW",null,null,null,null,null,null,null,"U_MON3",null,null,null,null,null,null,"2022-03-31","Green","W00541",620158,161342,null,null,null,null,null,null,null,null,null,null,null,null,null,null,null,null,null,null,null,null,null,null,null,null,null,null,null,null,null,null,null,null,null,null,null,null,null,null,null,null,null,null,null,null,null,null,null,null,null,null,null,null,null,null,null,null,null,null,null,null,null,null,null,null,null,0,0,1,0,"WWN","£m",1,"See comment row 216. Expected to be delivered by target date."]
["KSL00698",null,null,null,null,"WQ","South East","Kent South London and East Sussex","Southern Water Services Ltd","7SO400086","WHITEGATES LANE WADHURST WWTW","Bartley Mill Stream","GB106040018240","River","Teise",null,null,null,"U_MON3",null,null,null,null,null,null,"2022-03-31","Green","W00033",563100,134140,null,null,null,null,null,null,null,null,null,null,null,null,null,null,null,null,null,null,null,null,null,null,null,null,null,null,null,null,null,null,null,null,null,null,null,null,null,null,null,null,null,null,null,null,null,null,null,null,null,null,null,null,null,null,null,null,null,null,null,null,null,null,null,null,null,0,0,1,0,"WWN","£m",1,"See comment row 216. Expected to be delivered by target date."]
["KSL00700",null,null,null,null,"WQ",null,"Kent South London and East Sussex","Southern Water Services Ltd","7SO400090","WHITEWALL CREEK WWTW",null,null,null,null,null,null,null,"U_MON3",null,null,null,null,null,null,"2022-03-31","Green","W00510",575018,170275,null,null,null,null,null,null,null,null,null,null,null,null,null,null,null,null,null,null,null,null,null,null,null,null,null,null,null,null,null,null,null,null,null,null,null,null,null,null,null,null,null,null,null,null,null,null,null,null,null,null,null,null,null,null,null,null,null,null,null,null,null,null,null,null,null,0,0,1,0,"WWN","£m",1,"See comment row 216. Expected to be delivered by target date."]
["SSD00931",null,null,null,null,"WQ","South East","Solent and South Downs","Southern Water Services Ltd","7SO400094","WINDMILL HILL HERSTMONCEUX WWTW","Nunningham Stream","GB107041012610","River","Pevensey",null,null,null,"U_MON3",null,null,null,null,null,null,"2022-03-31","Green","A01222",564920,112930,null,null,null,null,null,null,null,null,null,null,null,null,null,null,null,null,null,null,null,null,null,null,null,null,null,null,null,null,null,null,null,null,null,null,null,null,null,null,null,null,null,null,null,null,null,null,null,null,null,null,null,null,null,null,null,null,null,null,null,null,null,null,null,null,null,0,0,1,0,"WWN","£m",1,"See comment row 216. Expected to be delivered by target date."]
["SSD00935",null,null,null,null,"WQ","South East","Solent and South Downs","Southern Water Services Ltd","7SO400100","WIVELSFIELD WWTW","Adur East (Goddards Green)","GB107041012210","River","Adur Upper",null,null,null,"U_MON3",null,null,null,null,null,null,"2022-03-31","Green","W00369",533651,120442,null,null,null,null,null,null,null,null,null,null,null,null,null,null,null,null,null,null,null,null,null,null,null,null,null,null,null,null,null,null,null,null,null,null,null,null,null,null,null,null,null,null,null,null,null,null,null,null,null,null,null,null,null,null,null,null,null,null,null,null,null,null,null,null,null,0,0,1,0,"WWN","£m",1,"See comment row 216. Expected to be delivered by target date."]
["KSL00707",null,null,null,null,"WQ","Thames","Kent South London and East Sussex","Southern Water Services Ltd","7SO400109","YALDING OLD WORKS WPS","Medway at Maidstone","GB106040018440","River","Medway Middle",null,null,null,"U_MON3",null,null,null,null,null,null,"2022-03-31","Green","A00268",569110,150420,null,null,null,null,null,null,null,null,null,null,null,null,null,null,null,null,null,null,null,null,null,null,null,null,null,null,null,null,null,null,null,null,null,null,null,null,null,null,null,null,null,null,null,null,null,null,null,null,null,null,null,null,null,null,null,null,null,null,null,null,null,null,null,null,null,0,0,1,0,"WWN","£m",1,"See comment row 216. Expected to be delivered by target date."]
["KSL00457",null,null,null,null,"WQ",null,"Kent South London and East Sussex","Southern Water Services Ltd","7SO300585","APPLEDORE ROAD WOODCHURCH WPS",null,null,null,null,null,null,null,"U_MON3",null,null,null,null,null,null,"2025-03-31","Green","A00266",594840,133990,null,null,null,null,null,null,null,null,null,null,null,null,null,null,null,null,null,null,null,null,null,null,null,null,null,null,null,null,null,null,null,null,null,null,null,null,null,null,null,null,null,null,null,null,null,null,null,null,null,null,null,null,null,null,null,null,null,null,null,null,null,null,null,null,null,0,0,1,0,"WWN","£m",1,"See comment row 216. Expected to be delivered by target date."]
["KSL00459",null,null,null,null,"WQ",null,"Kent South London and East Sussex","Southern Water Services Ltd","7SO300589","ASHFORD ROAD CHILHAM WPS",null,null,null,null,null,null,null,"U_MON3",null,null,null,null,null,null,"2025-03-31","Green",null,null,null,null,null,null,null,null,null,null,null,null,null,null,null,null,null,null,null,null,null,null,null,null,null,null,null,null,null,null,null,null,null,null,null,null,null,null,null,null,null,null,null,null,null,null,null,null,null,null,null,null,null,null,null,null,null,null,null,null,null,null,null,null,null,null,null,null,0,0,1,0,"WWN","£m",1,"See comment row 216. Expected to be delivered by target date."]
["SSD00672",null,null,null,null,"WQ","South East","Solent and South Downs","Southern Water Services Ltd","7SO300595","ASHLETT CREEK FAWLEY WWTW","SOUTHAMPTON WATER","GB520704202800","Transitional","Southampton Water",null,null,null,"U_MON3",null,null,null,null,null,null,"2025-03-31","Green","A00797",448070,103510,null,null,null,null,null,null,null,null,null,null,null,null,null,null,null,null,null,null,null,null,null,null,null,null,null,null,null,null,null,null,null,null,null,null,null,null,null,null,null,null,null,null,null,null,null,null,null,null,null,null,null,null,null,null,null,null,null,null,null,null,null,null,null,null,null,0,0,1,0,"WWN","£m",1,"See comment row 216. Expected to be delivered by target date."]
["KSL00463",null,null,null,null,"WQ","Thames","Kent South London and East Sussex","Southern Water Services Ltd","7SO300597","AYLESFORD BRIDGE AYLESFORD WPS",null,null,null,null,null,null,null,"U_MON3",null,null,null,null,null,null,"2025-03-31","Green",null,null,null,null,null,null,null,null,null,null,null,null,null,null,null,null,null,null,null,null,null,null,null,null,null,null,null,null,null,null,null,null,null,null,null,null,null,null,null,null,null,null,null,null,null,null,null,null,null,null,null,null,null,null,null,null,null,null,null,null,null,null,null,null,null,null,null,null,0,0,1,0,"WWN","£m",1,"See comment row 216. Expected to be delivered by target date."]
["SSD00674",null,null,null,null,"WQ","South East","Solent and South Downs","Southern Water Services Ltd","7SO300600","BALCOMBE WWTW","Ouse from Slaugham to Ardingly Resevoir","GB107041012730","River","Ouse Upper",null,null,null,"U_MON3",null,null,null,null,null,null,"2025-03-31","Green","A01510",531281,128418,null,null,null,null,null,null,null,null,null,null,null,null,null,null,null,null,null,null,null,null,null,null,null,null,null,null,null,null,null,null,null,null,null,null,null,null,null,null,null,null,null,null,null,null,null,null,null,null,null,null,null,null,null,null,null,null,null,null,null,null,null,null,null,null,null,0,0,1,0,"WWN","£m",1,"See comment row 216. Expected to be delivered by target date."]
["SSD00676",null,null,null,null,"WQ","South East","Solent and South Downs","Southern Water Services Ltd","7SO300602","BARCOMBE NEW WWTW","Bevern Stream","GB107041012570","River","Ouse Upper",null,null,null,"U_MON3",null,null,null,null,null,null,"2025-03-31","Green","W00362",541410,116690,null,null,null,null,null,null,null,null,null,null,null,null,null,null,null,null,null,null,null,null,null,null,null,null,null,null,null,null,null,null,null,null,null,null,null,null,null,null,null,null,null,null,null,null,null,null,null,null,null,null,null,null,null,null,null,null,null,null,null,null,null,null,null,null,null,0,0,1,0,"WWN","£m",1,"See comment row 216. Expected to be delivered by target date."]
["SSD00678",null,null,null,null,"WQ","South East","Solent and South Downs","Southern Water Services Ltd","7SO300604","BARNS GREEN WWTW","Adur & Ouse","GB107041012290","River","Adur & Ouse",null,null,null,"U_MON3",null,null,null,null,null,null,"2025-03-31","Green","W00385",512580,126250,null,null,null,null,null,null,null,null,null,null,null,null,null,null,null,null,null,null,null,null,null,null,null,null,null,null,null,null,null,null,null,null,null,null,null,null,null,null,null,null,null,null,null,null,null,null,null,null,null,null,null,null,null,null,null,null,null,null,null,null,null,null,null,null,null,0,0,1,0,"WWN","£m",1,"See comment row 216. Expected to be delivered by target date."]
["KSL00472",null,null,null,null,"WQ","Thames","Kent South London and East Sussex","Southern Water Services Ltd","7SO300616","BETHERSDEN WWTW","Upper Beult","GB106040018280","River","Beult",null,null,null,"U_MON3",null,null,null,null,null,null,"2025-03-31","Green","W00489",592424,140297,null,null,null,null,null,null,null,null,null,null,null,null,null,null,null,null,null,null,null,null,null,null,null,null,null,null,null,null,null,null,null,null,null,null,null,null,null,null,null,null,null,null,null,null,null,null,null,null,null,null,null,null,null,null,null,null,null,null,null,null,null,null,null,null,null,0,0,1,0,"WWN","£m",1,"See comment row 216. Expected to be delivered by target date."]
["SSD00694",null,null,null,null,"WQ","South East","Solent and South Downs","Southern Water Services Ltd","7SO300633","BOSHAM WWTW","CHICHESTER HARBOUR","GB580705210000","Transitional","Western Streams TraC",null,null,null,"U_MON3",null,null,null,null,null,null,"2025-03-31","Green","W00133",480880,101940,null,null,null,null,null,null,null,null,null,null,null,null,null,null,null,null,null,null,null,null,null,null,null,null,null,null,null,null,null,null,null,null,null,null,null,null,null,null,null,null,null,null,null,null,null,null,null,null,null,null,null,null,null,null,null,null,null,null,null,null,null,null,null,null,null,0,0,1,0,"WWN","£m",1,"See comment row 216. Expected to be delivered by target date."]
["SSD00696",null,null,null,null,"WQ","South East","Solent and South Downs","Southern Water Services Ltd","7SO300635","BRIDGEFOOT KIRDFORD WPS","Kird","GB107041012300","River","Arun Upper",null,null,null,"U_MON3",null,null,null,null,null,null,"2025-03-31","Green","A00619",501660,126320,null,null,null,null,null,null,null,null,null,null,null,null,null,null,null,null,null,null,null,null,null,null,null,null,null,null,null,null,null,null,null,null,null,null,null,null,null,null,null,null,null,null,null,null,null,null,null,null,null,null,null,null,null,null,null,null,null,null,null,null,null,null,null,null,null,0,0,1,0,"WWN","£m",1,"See comment row 216. Expected to be delivered by target date."]
["KSL00481",null,null,null,null,"WQ",null,"Kent South London and East Sussex","Southern Water Services Ltd","7SO300645","BURHAM & ECCLES WPS",null,null,null,null,null,null,null,"U_MON3",null,null,null,null,null,null,"2025-03-31","Green",null,null,null,null,null,null,null,null,null,null,null,null,null,null,null,null,null,null,null,null,null,null,null,null,null,null,null,null,null,null,null,null,null,null,null,null,null,null,null,null,null,null,null,null,null,null,null,null,null,null,null,null,null,null,null,null,null,null,null,null,null,null,null,null,null,null,null,null,0,0,1,0,"WWN","£m",1,"See comment row 216. Expected to be delivered by target date."]
["KSL00483",null,null,null,null,"WQ",null,"Kent South London and East Sussex","Southern Water Services Ltd","7SO300649","BURWASH COMMON WWTW",null,null,null,null,null,null,null,"U_MON3",null,null,null,null,null,null,"2025-03-31","Green","W00555",565826,122782,null,null,null,null,null,null,null,null,null,null,null,null,null,null,null,null,null,null,null,null,null,null,null,null,null,null,null,null,null,null,null,null,null,null,null,null,null,null,null,null,null,null,null,null,null,null,null,null,null,null,null,null,null,null,null,null,null,null,null,null,null,null,null,null,null,0,0,1,0,"WWN","£m",1,"See comment row 216. Expected to be delivered by target date."]
["SSD00706",null,null,null,null,"WQ","South East","Solent and South Downs","Southern Water Services Ltd","7SO300653","BURY WWTW",null,null,null,null,null,null,null,"U_MON3",null,null,null,null,null,null,"2025-03-31","Green","W00367",501389,112676,null,null,null,null,null,null,null,null,null,null,null,null,null,null,null,null,null,null,null,null,null,null,null,null,null,null,null,null,null,null,null,null,null,null,null,null,null,null,null,null,null,null,null,null,null,null,null,null,null,null,null,null,null,null,null,null,null,null,null,null,null,null,null,null,null,0,0,1,0,"WWN","£m",1,"See comment row 216. Expected to be delivered by target date."]
["KSL00489",null,null,null,null,"WQ",null,"Kent South London and East Sussex","Southern Water Services Ltd","7SO300661","CANTERBURY WWTW",null,null,null,null,null,null,null,"U_MON3",null,null,null,null,null,null,"2025-03-31","Green","W00532",616940,159719,null,null,null,null,null,null,null,null,null,null,null,null,null,null,null,null,null,null,null,null,null,null,null,null,null,null,null,null,null,null,null,null,null,null,null,null,null,null,null,null,null,null,null,null,null,null,null,null,null,null,null,null,null,null,null,null,null,null,null,null,null,null,null,null,null,0,0,1,0,"WWN","£m",1,"See comment row 216. Expected to be delivered by target date."]
["KSL00495",null,null,null,null,"WQ",null,"Kent South London and East Sussex","Southern Water Services Ltd","7SO300672","CHEQUERS LAMBERHURST WPS",null,null,null,null,null,null,null,"U_MON3",null,null,null,null,null,null,"2025-03-31","Green","A00598",567740,136230,null,null,null,null,null,null,null,null,null,null,null,null,null,null,null,null,null,null,null,null,null,null,null,null,null,null,null,null,null,null,null,null,null,null,null,null,null,null,null,null,null,null,null,null,null,null,null,null,null,null,null,null,null,null,null,null,null,null,null,null,null,null,null,null,null,0,0,1,0,"WWN","£m",1,"See comment row 216. Expected to be delivered by target date."]
["SSD00723",null,null,null,null,"WQ","South East","Solent and South Downs","Southern Water Services Ltd","7SO300680","CHILBOLTON WWTW","Test - conf Dever to conf Anton","GB107042022750","River","Test Upper and Middle",null,null,null,"U_MON3",null,null,null,null,null,null,"2025-03-31","Green","W00246",438650,139460,null,null,null,null,null,null,null,null,null,null,null,null,null,null,null,null,null,null,null,null,null,null,null,null,null,null,null,null,null,null,null,null,null,null,null,null,null,null,null,null,null,null,null,null,null,null,null,null,null,null,null,null,null,null,null,null,null,null,null,null,null,null,null,null,null,0,0,1,0,"WWN","£m",1,"See comment row 216. Expected to be delivered by target date."]
["KSL00498",null,null,null,null,"WQ",null,"Kent South London and East Sussex","Southern Water Services Ltd","7SO300683","CHURCHFIELD WAY WYE WPS",null,null,null,null,null,null,null,"U_MON3",null,null,null,null,null,null,"2025-03-31","Green","A00267",605000,147000,null,null,null,null,null,null,null,null,null,null,null,null,null,null,null,null,null,null,null,null,null,null,null,null,null,null,null,null,null,null,null,null,null,null,null,null,null,null,null,null,null,null,null,null,null,null,null,null,null,null,null,null,null,null,null,null,null,null,null,null,null,null,null,null,null,0,0,1,0,"WWN","£m",1,"See comment row 216. Expected to be delivered by target date."]
["SSD00725",null,null,null,null,"WQ","South East","Solent and South Downs","Southern Water Services Ltd","7SO300685","COLDWALTHAM WWTW",null,null,null,null,null,null,null,"U_MON3",null,null,null,null,null,null,"2025-03-31","Green","W00379",502163,115894,null,null,null,null,null,null,null,null,null,null,null,null,null,null,null,null,null,null,null,null,null,null,null,null,null,null,null,null,null,null,null,null,null,null,null,null,null,null,null,null,null,null,null,null,null,null,null,null,null,null,null,null,null,null,null,null,null,null,null,null,null,null,null,null,null,0,0,1,0,"WWN","£m",1,"See comment row 216. Expected to be delivered by target date."]
["SSD00727",null,null,null,null,"WQ","South East","Solent and South Downs","Southern Water Services Ltd","7SO300687","COOKSBRIDGE WPS","OUSE","GB540704104900","Transitional","Ouse Lower",null,null,null,"U_MON3",null,null,null,null,null,null,"2025-03-31","Green","A01203",540270,113850,null,null,null,null,null,null,null,null,null,null,null,null,null,null,null,null,null,null,null,null,null,null,null,null,null,null,null,null,null,null,null,null,null,null,null,null,null,null,null,null,null,null,null,null,null,null,null,null,null,null,null,null,null,null,null,null,null,null,null,null,null,null,null,null,null,0,0,1,0,"WWN","£m",1,"See comment row 216. Expected to be delivered by target date."]
["KSL00500",null,null,null,null,"WQ",null,"Kent South London and East Sussex","Southern Water Services Ltd","7SO300690","COWDEN WWTW",null,null,null,null,null,null,null,"U_MON3",null,null,null,null,null,null,"2025-03-31","Green","W00024",546581,140230,null,null,null,null,null,null,null,null,null,null,null,null,null,null,null,null,null,null,null,null,null,null,null,null,null,null,null,null,null,null,null,null,null,null,null,null,null,null,null,null,null,null,null,null,null,null,null,null,null,null,null,null,null,null,null,null,null,null,null,null,null,null,null,null,null,0,0,1,0,"WWN","£m",1,"See comment row 216. Expected to be delivered by target date."]
["KSL00502",null,null,null,null,"WQ","Thames","Kent South London and East Sussex","Southern Water Services Ltd","7SO300694","CRANBROOK WWTW","Hammer Stream","GB106040018290","River","Beult",null,null,null,"U_MON3",null,null,null,null,null,null,"2025-03-31","Green","W00497",578248,136081,null,null,null,null,null,null,null,null,null,null,null,null,null,null,null,null,null,null,null,null,null,null,null,null,null,null,null,null,null,null,null,null,null,null,null,null,null,null,null,null,null,null,null,null,null,null,null,null,null,null,null,null,null,null,null,null,null,null,null,null,null,null,null,null,null,0,0,1,0,"WWN","£m",1,"See comment row 216. Expected to be delivered by target date."]
["KSL00506",null,null,null,null,"WQ",null,"Kent South London and East Sussex","Southern Water Services Ltd","7SO300698","CURTISDEN GREEN GOUDHURST WPS",null,null,null,null,null,null,null,"U_MON3",null,null,null,null,null,null,"2025-03-31","Green",null,null,null,null,null,null,null,null,null,null,null,null,null,null,null,null,null,null,null,null,null,null,null,null,null,null,null,null,null,null,null,null,null,null,null,null,null,null,null,null,null,null,null,null,null,null,null,null,null,null,null,null,null,null,null,null,null,null,null,null,null,null,null,null,null,null,null,null,0,0,1,0,"WWN","£m",1,"See comment row 216. Expected to be delivered by target date."]
["KSL00507",null,null,null,null,"WQ","South East","Kent South London and East Sussex","Southern Water Services Ltd","7SO300699","DAMBRIDGE WINGHAM WWTW","Wingham and Little Stour","GB107040019570","River","Little Stour and Wingham",null,null,null,"U_MON3",null,null,null,null,null,null,"2025-03-31","Green","W00519",625400,157530,null,null,null,null,null,null,null,null,null,null,null,null,null,null,null,null,null,null,null,null,null,null,null,null,null,null,null,null,null,null,null,null,null,null,null,null,null,null,null,null,null,null,null,null,null,null,null,null,null,null,null,null,null,null,null,null,null,null,null,null,null,null,null,null,null,0,0,1,0,"WWN","£m",1,"See comment row 216. Expected to be delivered by target date."]
["SSD00740",null,null,null,null,"WQ","South East","Solent and South Downs","Southern Water Services Ltd","7SO300711","EAST GRIMSTEAD WWTW","Dun","GB107042022640","River","Test Lower and Southampton Streams",null,null,null,"U_MON3",null,null,null,null,null,null,"2025-03-31","Green","W00313",423038,127419,null,null,null,null,null,null,null,null,null,null,null,null,null,null,null,null,null,null,null,null,null,null,null,null,null,null,null,null,null,null,null,null,null,null,null,null,null,null,null,null,null,null,null,null,null,null,null,null,null,null,null,null,null,null,null,null,null,null,null,null,null,null,null,null,null,0,0,1,0,"WWN","£m",1,"See comment row 216. Expected to be delivered by target date."]
["SSD00742",null,null,null,null,"WQ",null,"Solent and South Downs","Southern Water Services Ltd","7SO300713","EAST HOATHLY WWTW",null,null,null,null,null,null,null,"U_MON3",null,null,null,null,null,null,"2025-03-31","Green","W00339",552150,115350,null,null,null,null,null,null,null,null,null,null,null,null,null,null,null,null,null,null,null,null,null,null,null,null,null,null,null,null,null,null,null,null,null,null,null,null,null,null,null,null,null,null,null,null,null,null,null,null,null,null,null,null,null,null,null,null,null,null,null,null,null,null,null,null,null,0,0,1,0,"WWN","£m",1,"See comment row 216. Expected to be delivered by target date."]
["SSD00744",null,null,null,null,"WQ","South East","Solent and South Downs","Southern Water Services Ltd","7SO300715","EAST MEON WWTW","Meon","GB107042016640","River","East Hampshire Rivers",null,null,null,"U_MON3",null,null,null,null,null,null,"2025-03-31","Green","W00247",467300,122370,null,null,null,null,null,null,null,null,null,null,null,null,null,null,null,null,null,null,null,null,null,null,null,null,null,null,null,null,null,null,null,null,null,null,null,null,null,null,null,null,null,null,null,null,null,null,null,null,null,null,null,null,null,null,null,null,null,null,null,null,null,null,null,null,null,0,0,1,0,"WWN","£m",1,"See comment row 216. Expected to be delivered by target date."]
["SSD00748",null,null,null,null,"WQ","South East","Solent and South Downs","Southern Water Services Ltd","7SO300719","EASTBOURNE WWTW","Langney Sewer at Eastbourne","GB107041006650","River","Pevensey",null,null,null,"U_MON3",null,null,null,null,null,null,"2025-03-31","Green","A01106",565770,98150,null,null,null,null,null,null,null,null,null,null,null,null,null,null,null,null,null,null,null,null,null,null,null,null,null,null,null,null,null,null,null,null,null,null,null,null,null,null,null,null,null,null,null,null,null,null,null,null,null,null,null,null,null,null,null,null,null,null,null,null,null,null,null,null,null,0,0,1,0,"WWN","£m",1,"See comment row 216. Expected to be delivered by target date."]
["KSL00511",null,null,null,null,"WQ","Thames","Kent South London and East Sussex","Southern Water Services Ltd","7SO300721","EASTCHURCH WWTW","SWALE","GB530604011500","Transitional","Medway Swale Estuary",null,null,null,"U_MON3",null,null,null,null,null,null,"2025-03-31","Green","W00512",598100,167400,null,null,null,null,null,null,null,null,null,null,null,null,null,null,null,null,null,null,null,null,null,null,null,null,null,null,null,null,null,null,null,null,null,null,null,null,null,null,null,null,null,null,null,null,null,null,null,null,null,null,null,null,null,null,null,null,null,null,null,null,null,null,null,null,null,0,0,1,0,"WWN","£m",1,"See comment row 216. Expected to be delivered by target date."]
["KSL00517",null,null,null,null,"WQ",null,"Kent South London and East Sussex","Southern Water Services Ltd","7SO300727","ELIZABETH STREET DOVER WPS",null,null,null,null,null,null,null,"U_MON3",null,null,null,null,null,null,"2025-03-31","Green",null,null,null,null,null,null,null,null,null,null,null,null,null,null,null,null,null,null,null,null,null,null,null,null,null,null,null,null,null,null,null,null,null,null,null,null,null,null,null,null,null,null,null,null,null,null,null,null,null,null,null,null,null,null,null,null,null,null,null,null,null,null,null,null,null,null,null,null,0,0,1,0,"WWN","£m",1,"See comment row 216. Expected to be delivered by target date."]
["KSL00522",null,null,null,null,"WQ","Thames","Kent South London and East Sussex","Southern Water Services Ltd","7SO300732","FELBRIDGE WWTW","Eden Brook","GB106040018660","River","Eden",null,null,null,"U_MON3",null,null,null,null,null,null,"2025-03-31","Green","W00564",536416,140926,null,null,null,null,null,null,null,null,null,null,null,null,null,null,null,null,null,null,null,null,null,null,null,null,null,null,null,null,null,null,null,null,null,null,null,null,null,null,null,null,null,null,null,null,null,null,null,null,null,null,null,null,null,null,null,null,null,null,null,null,null,null,null,null,null,0,0,1,0,"WWN","£m",1,"See comment row 216. Expected to be delivered by target date."]
["SSD00754",null,null,null,null,"WQ","South East","Solent and South Downs","Southern Water Services Ltd","7SO300740","FLEXFORD LANE SWAY WWTW","Avon Water","GB107042011300","River","New Forest - Lymington and Beaulieu",null,null,null,"U_MON3",null,null,null,null,null,null,"2025-03-31","Green","W00244 ",428780,96530,null,null,null,null,null,null,null,null,null,null,null,null,null,null,null,null,null,null,null,null,null,null,null,null,null,null,null,null,null,null,null,null,null,null,null,null,null,null,null,null,null,null,null,null,null,null,null,null,null,null,null,null,null,null,null,null,null,null,null,null,null,null,null,null,null,0,0,1,0,"WWN","£m",1,"See comment row 216. Expected to be delivered by target date."]
["KSL00527",null,null,null,null,"WQ",null,"Kent South London and East Sussex","Southern Water Services Ltd","7SO300743","FOADS LANE RAMSGATE WPS",null,null,null,null,null,null,null,"U_MON3",null,null,null,null,null,null,"2025-03-31","Green","A00430",635170,164090,null,null,null,null,null,null,null,null,null,null,null,null,null,null,null,null,null,null,null,null,null,null,null,null,null,null,null,null,null,null,null,null,null,null,null,null,null,null,null,null,null,null,null,null,null,null,null,null,null,null,null,null,null,null,null,null,null,null,null,null,null,null,null,null,null,0,0,1,0,"WWN","£m",1,"See comment row 216. Expected to be delivered by target date."]
["KSL00529",null,null,null,null,"WQ",null,"Kent South London and East Sussex","Southern Water Services Ltd","7SO300745","FOLKESTONE JUNCTION WPS",null,null,null,null,null,null,null,"U_MON3",null,null,null,null,null,null,"2025-03-31","Green",null,null,null,null,null,null,null,null,null,null,null,null,null,null,null,null,null,null,null,null,null,null,null,null,null,null,null,null,null,null,null,null,null,null,null,null,null,null,null,null,null,null,null,null,null,null,null,null,null,null,null,null,null,null,null,null,null,null,null,null,null,null,null,null,null,null,null,null,0,0,1,0,"WWN","£m",1,"See comment row 216. Expected to be delivered by target date."]
["SSD00764",null,null,null,null,"WQ","South East","Solent and South Downs","Southern Water Services Ltd","7SO300770","GRAYSWOOD WWTW","Loxwood/Chiddingfold Trib","GB107041017960","River","Arun Upper",null,null,null,"U_MON3",null,null,null,null,null,null,"2025-03-31","Green","W00393",492380,134430,null,null,null,null,null,null,null,null,null,null,null,null,null,null,null,null,null,null,null,null,null,null,null,null,null,null,null,null,null,null,null,null,null,null,null,null,null,null,null,null,null,null,null,null,null,null,null,null,null,null,null,null,null,null,null,null,null,null,null,null,null,null,null,null,null,0,0,1,0,"WWN","£m",1,"See comment row 216. Expected to be delivered by target date."]
["SSD00768",null,null,null,null,"WQ","South East","Solent and South Downs","Southern Water Services Ltd","7SO300777","HAILSHAM SOUTH WWTW","Horse Eye Sewer","GB107041012420","River","Pevensey",null,null,null,"U_MON3",null,null,null,null,null,null,"2025-03-31","Green","A01164",559650,108730,null,null,null,null,null,null,null,null,null,null,null,null,null,null,null,null,null,null,null,null,null,null,null,null,null,null,null,null,null,null,null,null,null,null,null,null,null,null,null,null,null,null,null,null,null,null,null,null,null,null,null,null,null,null,null,null,null,null,null,null,null,null,null,null,null,0,0,1,0,"WWN","£m",1,"See comment row 216. Expected to be delivered by target date."]
["KSL00550",null,null,null,null,"WQ","Thames","Kent South London and East Sussex","Southern Water Services Ltd","7SO300780","HALL ROAD AYLESFORD WPS ",null,null,null,null,null,null,null,"U_MON3",null,null,null,null,null,null,"2025-03-31","Green","K02096",572600,158800,null,null,null,null,null,null,null,null,null,null,null,null,null,null,null,null,null,null,null,null,null,null,null,null,null,null,null,null,null,null,null,null,null,null,null,null,null,null,null,null,null,null,null,null,null,null,null,null,null,null,null,null,null,null,null,null,null,null,null,null,null,null,null,null,null,0,0,1,0,"WWN","£m",1,"See comment row 216. Expected to be delivered by target date."]
["KSL00553",null,null,null,null,"WQ","South East","Kent South London and East Sussex","Southern Water Services Ltd","7SO300785","HAMSTREET WWTW","Romney Marsh between Appledore and West Hythe","GB107040019700","River","Reading Cradlebridge and RMC",null,null,null,"U_MON3",null,null,null,null,null,null,"2025-03-31","Green","W00021",599860,133420,null,null,null,null,null,null,null,null,null,null,null,null,null,null,null,null,null,null,null,null,null,null,null,null,null,null,null,null,null,null,null,null,null,null,null,null,null,null,null,null,null,null,null,null,null,null,null,null,null,null,null,null,null,null,null,null,null,null,null,null,null,null,null,null,null,0,0,1,0,"WWN","£m",1,"See comment row 216. Expected to be delivered by target date."]
["KSL00557",null,null,null,null,"WQ",null,"Kent South London and East Sussex","Southern Water Services Ltd","7SO300793","HARTLAKE ROAD HADLOW WPS",null,null,null,null,null,null,null,"U_MON3",null,null,null,null,null,null,"2025-03-31","Green","A00166",563611,148114,null,null,null,null,null,null,null,null,null,null,null,null,null,null,null,null,null,null,null,null,null,null,null,null,null,null,null,null,null,null,null,null,null,null,null,null,null,null,null,null,null,null,null,null,null,null,null,null,null,null,null,null,null,null,null,null,null,null,null,null,null,null,null,null,null,0,0,1,0,"WWN","£m",1,"See comment row 216. Expected to be delivered by target date."]
["SSD00778",null,null,null,null,"WQ","South East","Solent and South Downs","Southern Water Services Ltd","7SO300804","HORSEMERE GREEN 1 WPS",null,null,null,null,null,null,null,"U_MON3",null,null,null,null,null,null,"2025-03-31","Green",null,null,null,null,null,null,null,null,null,null,null,null,null,null,null,null,null,null,null,null,null,null,null,null,null,null,null,null,null,null,null,null,null,null,null,null,null,null,null,null,null,null,null,null,null,null,null,null,null,null,null,null,null,null,null,null,null,null,null,null,null,null,null,null,null,null,null,null,0,0,1,0,"WWN","£m",1,"See comment row 216. Expected to be delivered by target date."]
["KSL00567",null,null,null,null,"WQ","South East","Kent South London and East Sussex","Southern Water Services Ltd","7SO300811","HURST GREEN WWTW","Lower Rother from Etchingham to Scott's Float","GB107040013640","River","Rother Levels",null,null,null,"U_MON3",null,null,null,null,null,null,"2025-03-31","Green","A01218",572660,126170,null,null,null,null,null,null,null,null,null,null,null,null,null,null,null,null,null,null,null,null,null,null,null,null,null,null,null,null,null,null,null,null,null,null,null,null,null,null,null,null,null,null,null,null,null,null,null,null,null,null,null,null,null,null,null,null,null,null,null,null,null,null,null,null,null,0,0,1,0,"WWN","£m",1,"See comment row 216. Expected to be delivered by target date."]
["KSL00571",null,null,null,null,"WQ",null,"Kent South London and East Sussex","Southern Water Services Ltd","7SO300815","IDEN WWTW",null,null,null,null,null,null,null,"U_MON3",null,null,null,null,null,null,"2025-03-31","Green","W00513",591458,124968,null,null,null,null,null,null,null,null,null,null,null,null,null,null,null,null,null,null,null,null,null,null,null,null,null,null,null,null,null,null,null,null,null,null,null,null,null,null,null,null,null,null,null,null,null,null,null,null,null,null,null,null,null,null,null,null,null,null,null,null,null,null,null,null,null,0,0,1,0,"WWN","£m",1,"See comment row 216. Expected to be delivered by target date."]
["KSL00573",null,null,null,null,"WQ","Thames","Kent South London and East Sussex","Southern Water Services Ltd","7SO300818","KILNDOWN WWTW","Tributary of Teise","GB106040018510","River","Teise",null,null,null,"U_MON3",null,null,null,null,null,null,"2025-03-31","Green","A00005",570700,135050,null,null,null,null,null,null,null,null,null,null,null,null,null,null,null,null,null,null,null,null,null,null,null,null,null,null,null,null,null,null,null,null,null,null,null,null,null,null,null,null,null,null,null,null,null,null,null,null,null,null,null,null,null,null,null,null,null,null,null,null,null,null,null,null,null,0,0,1,0,"WWN","£m",1,"See comment row 216. Expected to be delivered by target date."]
["SSD00785",null,null,null,null,"WQ","South East","Solent and South Downs","Southern Water Services Ltd","7SO300820","KINGS SOMBORNE WWTW","Test - conf Anton to conf Dun","GB107042022670","River","Test Upper and Middle",null,null,null,"U_MON3",null,null,null,null,null,null,"2025-03-31","Green","W00237",433710,128750,null,null,null,null,null,null,null,null,null,null,null,null,null,null,null,null,null,null,null,null,null,null,null,null,null,null,null,null,null,null,null,null,null,null,null,null,null,null,null,null,null,null,null,null,null,null,null,null,null,null,null,null,null,null,null,null,null,null,null,null,null,null,null,null,null,0,0,1,0,"WWN","£m",1,"See comment row 216. Expected to be delivered by target date."]
["SSD00790",null,null,null,null,"WQ",null,"Solent and South Downs","Southern Water Services Ltd","7SO300826","LAVANT WWTW",null,null,null,null,null,null,null,"U_MON3",null,null,null,null,null,null,"2025-03-31","Green","W00359",486459,107921,null,null,null,null,null,null,null,null,null,null,null,null,null,null,null,null,null,null,null,null,null,null,null,null,null,null,null,null,null,null,null,null,null,null,null,null,null,null,null,null,null,null,null,null,null,null,null,null,null,null,null,null,null,null,null,null,null,null,null,null,null,null,null,null,null,0,0,1,0,"WWN","£m",1,"See comment row 216. Expected to be delivered by target date."]
["KSL00576",null,null,null,null,"WQ",null,"Kent South London and East Sussex","Southern Water Services Ltd","7SO300828","LEEDS WWTW",null,null,null,null,null,null,null,"U_MON3",null,null,null,null,null,null,"2025-03-31","Green","A00531",582300,153600,null,null,null,null,null,null,null,null,null,null,null,null,null,null,null,null,null,null,null,null,null,null,null,null,null,null,null,null,null,null,null,null,null,null,null,null,null,null,null,null,null,null,null,null,null,null,null,null,null,null,null,null,null,null,null,null,null,null,null,null,null,null,null,null,null,0,0,1,0,"WWN","£m",1,"See comment row 216. Expected to be delivered by target date."]
["KSL00578",null,null,null,null,"WQ","South East","Kent South London and East Sussex","Southern Water Services Ltd","7SO300830","LENHAM WWTW","Upper Great Stour","GB107040019660","River","Stour Upper",null,null,null,"U_MON3",null,null,null,null,null,null,"2025-03-31","Green","W00517",590480,150810,null,null,null,null,null,null,null,null,null,null,null,null,null,null,null,null,null,null,null,null,null,null,null,null,null,null,null,null,null,null,null,null,null,null,null,null,null,null,null,null,null,null,null,null,null,null,null,null,null,null,null,null,null,null,null,null,null,null,null,null,null,null,null,null,null,0,0,1,0,"WWN","£m",1,"See comment row 216. Expected to be delivered by target date."]
["KSL00582",null,null,null,null,"WQ",null,"Kent South London and East Sussex","Southern Water Services Ltd","7SO300836","LINTON WWTW",null,null,null,null,null,null,null,"U_MON3",null,null,null,null,null,null,"2025-03-31","Green","W00539",575283,149044,null,null,null,null,null,null,null,null,null,null,null,null,null,null,null,null,null,null,null,null,null,null,null,null,null,null,null,null,null,null,null,null,null,null,null,null,null,null,null,null,null,null,null,null,null,null,null,null,null,null,null,null,null,null,null,null,null,null,null,null,null,null,null,null,null,0,0,1,0,"WWN","£m",1,"See comment row 216. Expected to be delivered by target date."]
["SSD00794",null,null,null,null,"WQ","South East","Solent and South Downs","Southern Water Services Ltd","7SO300838","LISS WWTW",null,null,null,null,null,null,null,"U_MON3",null,null,null,null,null,null,"2025-03-31","Green","W00401",477200,127000,null,null,null,null,null,null,null,null,null,null,null,null,null,null,null,null,null,null,null,null,null,null,null,null,null,null,null,null,null,null,null,null,null,null,null,null,null,null,null,null,null,null,null,null,null,null,null,null,null,null,null,null,null,null,null,null,null,null,null,null,null,null,null,null,null,0,0,1,0,"WWN","£m",1,"See comment row 216. Expected to be delivered by target date."]
["KSL00586",null,null,null,null,"WQ",null,"Kent South London and East Sussex","Southern Water Services Ltd","7SO300847","LYDD ROAD CAMBER WPS",null,null,null,null,null,null,null,"U_MON3",null,null,null,null,null,null,"2025-03-31","Green","A00292",596900,118600,null,null,null,null,null,null,null,null,null,null,null,null,null,null,null,null,null,null,null,null,null,null,null,null,null,null,null,null,null,null,null,null,null,null,null,null,null,null,null,null,null,null,null,null,null,null,null,null,null,null,null,null,null,null,null,null,null,null,null,null,null,null,null,null,null,0,0,1,0,"WWN","£m",1,"See comment row 216. Expected to be delivered by target date."]
["SSD00802",null,null,null,null,"WQ","South East","Solent and South Downs","Southern Water Services Ltd","7SO300850","LYNDHURST WWTW","Beaulieu","GB107042016340","River","New Forest - Lymington and Beaulieu",null,null,null,"U_MON3",null,null,null,null,null,null,"2025-03-31","Green","W00236",431000,108860,null,null,null,null,null,null,null,null,null,null,null,null,null,null,null,null,null,null,null,null,null,null,null,null,null,null,null,null,null,null,null,null,null,null,null,null,null,null,null,null,null,null,null,null,null,null,null,null,null,null,null,null,null,null,null,null,null,null,null,null,null,null,null,null,null,0,0,1,0,"WWN","£m",1,"See comment row 216. Expected to be delivered by target date."]
["KSL00588",null,null,null,null,"WQ","South East","Kent South London and East Sussex","Southern Water Services Ltd","7SO300857","MARGATE WPS",null,null,null,null,null,null,null,"U_MON3",null,null,null,null,null,null,"2025-03-31","Green","A01213",null,null,null,null,null,null,null,null,null,null,null,null,null,null,null,null,null,null,null,null,null,null,null,null,null,null,null,null,null,null,null,null,null,null,null,null,null,null,null,null,null,null,null,null,null,null,null,null,null,null,null,null,null,null,null,null,null,null,null,null,null,null,null,null,null,null,null,0,0,1,0,"WWN","£m",1,"See comment row 216. Expected to be delivered by target date."]
["KSL00594",null,null,null,null,"WQ",null,"Kent South London and East Sussex","Southern Water Services Ltd","7SO300865","MILITARY ROAD RAMSGATE WPS",null,null,null,null,null,null,null,"U_MON3",null,null,null,null,null,null,"2025-03-31","Green",null,null,null,null,null,null,null,null,null,null,null,null,null,null,null,null,null,null,null,null,null,null,null,null,null,null,null,null,null,null,null,null,null,null,null,null,null,null,null,null,null,null,null,null,null,null,null,null,null,null,null,null,null,null,null,null,null,null,null,null,null,null,null,null,null,null,null,null,0,0,1,0,"WWN","£m",1,"See comment row 216. Expected to be delivered by target date."]
["SSD00813",null,null,null,null,"WQ","South East","Solent and South Downs","Southern Water Services Ltd","7SO300870","MILL LANE SHALFLEET WPS",null,null,null,null,null,null,null,"U_MON3",null,null,null,null,null,null,"2025-03-31","Green","W00190",441540,89420,null,null,null,null,null,null,null,null,null,null,null,null,null,null,null,null,null,null,null,null,null,null,null,null,null,null,null,null,null,null,null,null,null,null,null,null,null,null,null,null,null,null,null,null,null,null,null,null,null,null,null,null,null,null,null,null,null,null,null,null,null,null,null,null,null,0,0,1,0,"WWN","£m",1,"See comment row 216. Expected to be delivered by target date."]
["KSL00599",null,null,null,null,"WQ",null,"Kent South London and East Sussex","Southern Water Services Ltd","7SO300875","MOAT ROAD HEADCORN NEW WPS",null,null,null,null,null,null,null,"U_MON3",null,null,null,null,null,null,"2025-03-31","Green","A01116",582910,144130,null,null,null,null,null,null,null,null,null,null,null,null,null,null,null,null,null,null,null,null,null,null,null,null,null,null,null,null,null,null,null,null,null,null,null,null,null,null,null,null,null,null,null,null,null,null,null,null,null,null,null,null,null,null,null,null,null,null,null,null,null,null,null,null,null,0,0,1,0,"WWN","£m",1,"See comment row 216. Expected to be delivered by target date."]
["SSD00816",null,null,null,null,"WQ","South East","Solent and South Downs","Southern Water Services Ltd","7SO300876","MONKS GATE WWTW","Blakes Gill","GB107041012280","River","Adur Upper",null,null,null,"U_MON3",null,null,null,null,null,null,"2025-03-31","Green","W00363",519950,127450,null,null,null,null,null,null,null,null,null,null,null,null,null,null,null,null,null,null,null,null,null,null,null,null,null,null,null,null,null,null,null,null,null,null,null,null,null,null,null,null,null,null,null,null,null,null,null,null,null,null,null,null,null,null,null,null,null,null,null,null,null,null,null,null,null,0,0,1,0,"WWN","£m",1,"See comment row 216. Expected to be delivered by target date."]
["SSD00818",null,null,null,null,"WQ","South East","Solent and South Downs","Southern Water Services Ltd","7SO300878","MORESTEAD ROAD WINCHESTER WWTW",null,null,null,null,null,null,null,"U_MON3",null,null,null,null,null,null,"2025-03-31","Green","A00712",449057,127887,null,null,null,null,null,null,null,null,null,null,null,null,null,null,null,null,null,null,null,null,null,null,null,null,null,null,null,null,null,null,null,null,null,null,null,null,null,null,null,null,null,null,null,null,null,null,null,null,null,null,null,null,null,null,null,null,null,null,null,null,null,null,null,null,null,0,0,1,0,"WWN","£m",1,"See comment row 216. Expected to be delivered by target date."]
["KSL00600",null,null,null,null,"WQ","Thames","Kent South London and East Sussex","Southern Water Services Ltd","7SO300880","MOTNEY HILL WWTW","MEDWAY","GB530604002300","Transitional","Medway Swale Estuary",null,null,null,"U_MON3",null,null,null,null,null,null,"2025-03-31","Green","A00720",583150,169000,null,null,null,null,null,null,null,null,null,null,null,null,null,null,null,null,null,null,null,null,null,null,null,null,null,null,null,null,null,null,null,null,null,null,null,null,null,null,null,null,null,null,null,null,null,null,null,null,null,null,null,null,null,null,null,null,null,null,null,null,null,null,null,null,null,0,0,1,0,"WWN","£m",1,"See comment row 216. Expected to be delivered by target date."]
["SSD00822",null,null,null,null,"WQ","South East","Solent and South Downs","Southern Water Services Ltd","7SO300885","NEW ALRESFORD WWTW","Itchen (Cheriton Stream)","GB107042016670","River","Itchen",null,null,null,"U_MON3",null,null,null,null,null,null,"2025-03-31","Green","W00227",459050,130710,null,null,null,null,null,null,null,null,null,null,null,null,null,null,null,null,null,null,null,null,null,null,null,null,null,null,null,null,null,null,null,null,null,null,null,null,null,null,null,null,null,null,null,null,null,null,null,null,null,null,null,null,null,null,null,null,null,null,null,null,null,null,null,null,null,0,0,1,0,"WWN","£m",1,"See comment row 216. Expected to be delivered by target date."]
["SSD00824",null,null,null,null,"WQ",null,"Solent and South Downs","Southern Water Services Ltd","7SO300889","NEWBRIDGE ROAD NEWBRIDGE WPS",null,null,null,null,null,null,null,"U_MON3",null,null,null,null,null,null,"2025-03-31","Green","W00196",null,null,null,null,null,null,null,null,null,null,null,null,null,null,null,null,null,null,null,null,null,null,null,null,null,null,null,null,null,null,null,null,null,null,null,null,null,null,null,null,null,null,null,null,null,null,null,null,null,null,null,null,null,null,null,null,null,null,null,null,null,null,null,null,null,null,null,0,0,1,0,"WWN","£m",1,"See comment row 216. Expected to be delivered by target date."]
["SSD00826",null,null,null,null,"WQ","South East","Solent and South Downs","Southern Water Services Ltd","7SO300891","NEWBURY LANE CUCKFIELD WWTW",null,null,null,null,null,null,null,"U_MON3",null,null,null,null,null,null,"2025-03-31","Green","W00406",530220,123882,null,null,null,null,null,null,null,null,null,null,null,null,null,null,null,null,null,null,null,null,null,null,null,null,null,null,null,null,null,null,null,null,null,null,null,null,null,null,null,null,null,null,null,null,null,null,null,null,null,null,null,null,null,null,null,null,null,null,null,null,null,null,null,null,null,0,0,1,0,"WWN","£m",1,"See comment row 216. Expected to be delivered by target date."]
["SSD00831",null,null,null,null,"WQ","South East","Solent and South Downs","Southern Water Services Ltd","7SO300896","NEWICK WWTW","Middle Ouse","GB107041012710","River","Ouse Upper",null,null,null,"U_MON3",null,null,null,null,null,null,"2025-03-31","Green","W00358",542022,121714,null,null,null,null,null,null,null,null,null,null,null,null,null,null,null,null,null,null,null,null,null,null,null,null,null,null,null,null,null,null,null,null,null,null,null,null,null,null,null,null,null,null,null,null,null,null,null,null,null,null,null,null,null,null,null,null,null,null,null,null,null,null,null,null,null,0,0,1,0,"WWN","£m",1,"See comment row 216. Expected to be delivered by target date."]
["KSL00605",null,null,null,null,"WQ",null,"Kent South London and East Sussex","Southern Water Services Ltd","7SO300900","NORTHFLEET WWTW",null,null,null,null,null,null,null,"U_MON3",null,null,null,null,null,null,"2025-03-31","Green","CSSC.0411",561880,173610,null,null,null,null,null,null,null,null,null,null,null,null,null,null,null,null,null,null,null,null,null,null,null,null,null,null,null,null,null,null,null,null,null,null,null,null,null,null,null,null,null,null,null,null,null,null,null,null,null,null,null,null,null,null,null,null,null,null,null,null,null,null,null,null,null,0,0,1,0,"WWN","£m",1,"See comment row 216. Expected to be delivered by target date."]
["SSD00835",null,null,null,null,"WQ",null,"Solent and South Downs","Southern Water Services Ltd","7SO300902","NUTLEY WWTW",null,null,null,null,null,null,null,"U_MON3",null,null,null,null,null,null,"2025-03-31","Green","W00115",544071,128611,null,null,null,null,null,null,null,null,null,null,null,null,null,null,null,null,null,null,null,null,null,null,null,null,null,null,null,null,null,null,null,null,null,null,null,null,null,null,null,null,null,null,null,null,null,null,null,null,null,null,null,null,null,null,null,null,null,null,null,null,null,null,null,null,null,0,0,1,0,"WWN","£m",1,"See comment row 216. Expected to be delivered by target date."]
["SSD00837",null,null,null,null,"WQ","South East","Solent and South Downs","Southern Water Services Ltd","7SO300904","OVERTON WWTW","Test (Upper)","GB107042022710","River","Test Upper and Middle",null,null,null,"U_MON3",null,null,null,null,null,null,"2025-03-31","Green","NPSWQD010441",450355,149723,null,null,null,null,null,null,null,null,null,null,null,null,null,null,null,null,null,null,null,null,null,null,null,null,null,null,null,null,null,null,null,null,null,null,null,null,null,null,null,null,null,null,null,null,null,null,null,null,null,null,null,null,null,null,null,null,null,null,null,null,null,null,null,null,null,0,0,1,0,"WWN","£m",1,"See comment row 216. Expected to be delivered by target date."]
["SSD00839",null,null,null,null,"WQ","South East","Solent and South Downs","Southern Water Services Ltd","7SO300910","PARTRIDGE GREEN WWTW",null,null,null,null,null,null,null,"U_MON3",null,null,null,null,null,null,"2025-03-31","Green","W00470",519386,118667,null,null,null,null,null,null,null,null,null,null,null,null,null,null,null,null,null,null,null,null,null,null,null,null,null,null,null,null,null,null,null,null,null,null,null,null,null,null,null,null,null,null,null,null,null,null,null,null,null,null,null,null,null,null,null,null,null,null,null,null,null,null,null,null,null,0,0,1,0,"WWN","£m",1,"See comment row 216. Expected to be delivered by target date."]
["KSL00611",null,null,null,null,"WQ","Thames","Kent South London and East Sussex","Southern Water Services Ltd","7SO300915","PEMBURY WWTW","Tudeley Brook","GB106040018120","River","Medway Middle",null,null,null,"U_MON3",null,null,null,null,null,null,"2025-03-31","Green","W00527",564400,142500,null,null,null,null,null,null,null,null,null,null,null,null,null,null,null,null,null,null,null,null,null,null,null,null,null,null,null,null,null,null,null,null,null,null,null,null,null,null,null,null,null,null,null,null,null,null,null,null,null,null,null,null,null,null,null,null,null,null,null,null,null,null,null,null,null,0,0,1,0,"WWN","£m",1,"See comment row 216. Expected to be delivered by target date."]
["KSL00615",null,null,null,null,"WQ",null,"Kent South London and East Sussex","Southern Water Services Ltd","7SO300919","PESTALOZZI HOUSE WPS",null,null,null,null,null,null,null,"U_MON3",null,null,null,null,null,null,"2025-03-31","Green",null,null,null,null,null,null,null,null,null,null,null,null,null,null,null,null,null,null,null,null,null,null,null,null,null,null,null,null,null,null,null,null,null,null,null,null,null,null,null,null,null,null,null,null,null,null,null,null,null,null,null,null,null,null,null,null,null,null,null,null,null,null,null,null,null,null,null,null,0,0,1,0,"WWN","£m",1,"See comment row 216. Expected to be delivered by target date."]
["SSD00844",null,null,null,null,"WQ","South East","Solent and South Downs","Southern Water Services Ltd","7SO300920","PETERSFIELD WWTW","Arun & Western ","GB107041012790","River","Rother Western",null,null,null,"U_MON3",null,null,null,null,null,null,"2025-03-31","Green","W00424",null,null,null,null,null,null,null,null,null,null,null,null,null,null,null,null,null,null,null,null,null,null,null,null,null,null,null,null,null,null,null,null,null,null,null,null,null,null,null,null,null,null,null,null,null,null,null,null,null,null,null,null,null,null,null,null,null,null,null,null,null,null,null,null,null,null,null,0,0,1,0,"WWN","£m",1,"See comment row 216. Expected to be delivered by target date."]
["SSD00846",null,null,null,null,"WQ","South East","Solent and South Downs","Southern Water Services Ltd","7SO300922","PETWORTH WWTW","Haslingbourne Stream","GB107041012780","River","Rother Western",null,null,null,"U_MON3",null,null,null,null,null,null,"2025-03-31","Green","W00471",497830,119130,null,null,null,null,null,null,null,null,null,null,null,null,null,null,null,null,null,null,null,null,null,null,null,null,null,null,null,null,null,null,null,null,null,null,null,null,null,null,null,null,null,null,null,null,null,null,null,null,null,null,null,null,null,null,null,null,null,null,null,null,null,null,null,null,null,0,0,1,0,"WWN","£m",1,"See comment row 216. Expected to be delivered by target date."]
["SSD00849",null,null,null,null,"WQ","South East","Solent and South Downs","Southern Water Services Ltd","7SO300925","PORTOBELLO BRIGHTON WPS","Sussex","GB640704540003","Coastal","Sussex TraC",null,null,null,"U_MON3",null,null,null,null,null,null,"2025-03-31","Green","A01242",538660,99740,null,null,null,null,null,null,null,null,null,null,null,null,null,null,null,null,null,null,null,null,null,null,null,null,null,null,null,null,null,null,null,null,null,null,null,null,null,null,null,null,null,null,null,null,null,null,null,null,null,null,null,null,null,null,null,null,null,null,null,null,null,null,null,null,null,0,0,1,0,"WWN","£m",1,"See comment row 216. Expected to be delivered by target date."]
["SSD00853",null,null,null,null,"WQ","South East","Solent and South Downs","Southern Water Services Ltd","7SO300929","PULBOROUGH WWTW","ARUN","GB540704105000","Transitional","Arun Lower TraC",null,null,null,"U_MON3",null,null,null,null,null,null,"2025-03-31","Green","A00020",506180,118140,null,null,null,null,null,null,null,null,null,null,null,null,null,null,null,null,null,null,null,null,null,null,null,null,null,null,null,null,null,null,null,null,null,null,null,null,null,null,null,null,null,null,null,null,null,null,null,null,null,null,null,null,null,null,null,null,null,null,null,null,null,null,null,null,null,0,0,1,0,"WWN","£m",1,"See comment row 216. Expected to be delivered by target date."]
["KSL00616",null,null,null,null,"WQ","Thames","Kent South London and East Sussex","Southern Water Services Ltd","7SO300931","QUEENBOROUGH WWTW","SWALE","GB530604011500","Transitional","Medway Swale Estuary",null,null,null,"U_MON3",null,null,null,null,null,null,"2025-03-31","Green","A00697",590850,169970,null,null,null,null,null,null,null,null,null,null,null,null,null,null,null,null,null,null,null,null,null,null,null,null,null,null,null,null,null,null,null,null,null,null,null,null,null,null,null,null,null,null,null,null,null,null,null,null,null,null,null,null,null,null,null,null,null,null,null,null,null,null,null,null,null,0,0,1,0,"WWN","£m",1,"See comment row 216. Expected to be delivered by target date."]
["KSL00619",null,null,null,null,"WQ","South East","Kent South London and East Sussex","Southern Water Services Ltd","7SO300934","QUICKBOURNE LANE NORTHIAM WWTW","Lower Rother from Etchingham to Scott's Float","GB107040013640","River","Rother Levels",null,null,null,"U_MON3",null,null,null,null,null,null,"2025-03-31","Green","A00002",583540,125720,null,null,null,null,null,null,null,null,null,null,null,null,null,null,null,null,null,null,null,null,null,null,null,null,null,null,null,null,null,null,null,null,null,null,null,null,null,null,null,null,null,null,null,null,null,null,null,null,null,null,null,null,null,null,null,null,null,null,null,null,null,null,null,null,null,0,0,1,0,"WWN","£m",1,"See comment row 216. Expected to be delivered by target date."]
["KSL00621",null,null,null,null,"WQ",null,"Kent South London and East Sussex","Southern Water Services Ltd","7SO300937","RANGE ROAD HYTHE K WPS",null,null,null,null,null,null,null,"U_MON3",null,null,null,null,null,null,"2025-03-31","Green",null,null,null,null,null,null,null,null,null,null,null,null,null,null,null,null,null,null,null,null,null,null,null,null,null,null,null,null,null,null,null,null,null,null,null,null,null,null,null,null,null,null,null,null,null,null,null,null,null,null,null,null,null,null,null,null,null,null,null,null,null,null,null,null,null,null,null,null,0,0,1,0,"WWN","£m",1,"See comment row 216. Expected to be delivered by target date."]
["KSL00623",null,null,null,null,"WQ",null,"Kent South London and East Sussex","Southern Water Services Ltd","7SO300939","RECTORY CLOSE WOULDHAM WPS",null,null,null,null,null,null,null,"U_MON3",null,null,null,null,null,null,"2025-03-31","Green","A01462",571256,164317,null,null,null,null,null,null,null,null,null,null,null,null,null,null,null,null,null,null,null,null,null,null,null,null,null,null,null,null,null,null,null,null,null,null,null,null,null,null,null,null,null,null,null,null,null,null,null,null,null,null,null,null,null,null,null,null,null,null,null,null,null,null,null,null,null,0,0,1,0,"WWN","£m",1,"See comment row 216. Expected to be delivered by target date."]
["SSD00856",null,null,null,null,"WQ","South East","Solent and South Downs","Southern Water Services Ltd","7SO300943","REDLYNCH WWTW","Blackwater","GB107042016810","River","Test Lower and Southampton Streams",null,null,null,"U_MON3",null,null,null,null,null,null,"2025-03-31","Green","W00240",421890,120030,null,null,null,null,null,null,null,null,null,null,null,null,null,null,null,null,null,null,null,null,null,null,null,null,null,null,null,null,null,null,null,null,null,null,null,null,null,null,null,null,null,null,null,null,null,null,null,null,null,null,null,null,null,null,null,null,null,null,null,null,null,null,null,null,null,0,0,1,0,"WWN","£m",1,"See comment row 216. Expected to be delivered by target date."]
["KSL00627",null,null,null,null,"WQ","South East","Kent South London and East Sussex","Southern Water Services Ltd","7SO300947","ROBERTSBRIDGE WWTW","Lower Rother from Etchingham to Scott's Float","GB107040013640","River","Rother Levels",null,null,null,"U_MON3",null,null,null,null,null,null,"2025-03-31","Green","A00195",574320,123510,null,null,null,null,null,null,null,null,null,null,null,null,null,null,null,null,null,null,null,null,null,null,null,null,null,null,null,null,null,null,null,null,null,null,null,null,null,null,null,null,null,null,null,null,null,null,null,null,null,null,null,null,null,null,null,null,null,null,null,null,null,null,null,null,null,0,0,1,0,"WWN","£m",1,"See comment row 216. Expected to be delivered by target date."]
["SSD00860",null,null,null,null,"WQ","South East","Solent and South Downs","Southern Water Services Ltd","7SO300949","ROGATE WWTW",null,null,null,null,null,null,null,"U_MON3",null,null,null,null,null,null,"2025-03-31","Green","W00400",480975,123243,null,null,null,null,null,null,null,null,null,null,null,null,null,null,null,null,null,null,null,null,null,null,null,null,null,null,null,null,null,null,null,null,null,null,null,null,null,null,null,null,null,null,null,null,null,null,null,null,null,null,null,null,null,null,null,null,null,null,null,null,null,null,null,null,null,0,0,1,0,"WWN","£m",1,"See comment row 216. Expected to be delivered by target date."]
["SSD00864",null,null,null,null,"WQ","South East","Solent and South Downs","Southern Water Services Ltd","7SO300955","ROPE WALK LITTLEHAMPTON WPS",null,null,null,null,null,null,null,"U_MON3",null,null,null,null,null,null,"2025-03-31","Green",null,null,null,null,null,null,null,null,null,null,null,null,null,null,null,null,null,null,null,null,null,null,null,null,null,null,null,null,null,null,null,null,null,null,null,null,null,null,null,null,null,null,null,null,null,null,null,null,null,null,null,null,null,null,null,null,null,null,null,null,null,null,null,null,null,null,null,null,0,0,1,0,"WWN","£m",1,"See comment row 216. Expected to be delivered by target date."]
["SSD00866",null,null,null,null,"WQ","South East","Solent and South Downs","Southern Water Services Ltd","7SO300957","ROUD WWTW","Eastern Yar (Upper)","GB107101006220","River","Isle of Wight Rivers",null,null,null,"U_MON3",null,null,null,null,null,null,"2025-03-31","Green","W00154",451400,79900,null,null,null,null,null,null,null,null,null,null,null,null,null,null,null,null,null,null,null,null,null,null,null,null,null,null,null,null,null,null,null,null,null,null,null,null,null,null,null,null,null,null,null,null,null,null,null,null,null,null,null,null,null,null,null,null,null,null,null,null,null,null,null,null,null,0,0,1,0,"WWN","£m",1,"See comment row 216. Expected to be delivered by target date."]
["KSL00631",null,null,null,null,"WQ",null,"Kent South London and East Sussex","Southern Water Services Ltd","7SO300959","ROUGHLANDS MARDEN WPS",null,null,null,null,null,null,null,"U_MON3",null,null,null,null,null,null,"2025-03-31","Green",null,null,null,null,null,null,null,null,null,null,null,null,null,null,null,null,null,null,null,null,null,null,null,null,null,null,null,null,null,null,null,null,null,null,null,null,null,null,null,null,null,null,null,null,null,null,null,null,null,null,null,null,null,null,null,null,null,null,null,null,null,null,null,null,null,null,null,null,0,0,1,0,"WWN","£m",1,"See comment row 216. Expected to be delivered by target date."]
["SSD00868",null,null,null,null,"WQ","South East","Solent and South Downs","Southern Water Services Ltd","7SO300961","RUDGWICK RECREATION GROUND WPS",null,null,null,null,null,null,null,"U_MON3",null,null,null,null,null,null,"2025-03-31","Green","W00332",508060,132630,null,null,null,null,null,null,null,null,null,null,null,null,null,null,null,null,null,null,null,null,null,null,null,null,null,null,null,null,null,null,null,null,null,null,null,null,null,null,null,null,null,null,null,null,null,null,null,null,null,null,null,null,null,null,null,null,null,null,null,null,null,null,null,null,null,0,0,1,0,"WWN","£m",1,"See comment row 216. Expected to be delivered by target date."]
["KSL00633",null,null,null,null,"WQ","South East","Kent South London and East Sussex","Southern Water Services Ltd","7SO300964","RYE WWTW","ROTHER","GB540704016100","Transitional","East Sussex Coast",null,null,null,"U_MON3",null,null,null,null,null,null,"2025-03-31","Green","W00546",592930,119900,null,null,null,null,null,null,null,null,null,null,null,null,null,null,null,null,null,null,null,null,null,null,null,null,null,null,null,null,null,null,null,null,null,null,null,null,null,null,null,null,null,null,null,null,null,null,null,null,null,null,null,null,null,null,null,null,null,null,null,null,null,null,null,null,null,0,0,1,0,"WWN","£m",1,"See comment row 216. Expected to be delivered by target date."]
["KSL00635",null,null,null,null,"WQ",null,"Kent South London and East Sussex","Southern Water Services Ltd","7SO300966","SANDHURST WWTW",null,null,null,null,null,null,null,"U_MON3",null,null,null,null,null,null,"2025-03-31","Green","W00549",581150,129200,null,null,null,null,null,null,null,null,null,null,null,null,null,null,null,null,null,null,null,null,null,null,null,null,null,null,null,null,null,null,null,null,null,null,null,null,null,null,null,null,null,null,null,null,null,null,null,null,null,null,null,null,null,null,null,null,null,null,null,null,null,null,null,null,null,0,0,1,0,"WWN","£m",1,"See comment row 216. Expected to be delivered by target date."]
["SSD00873",null,null,null,null,"WQ","South East","Solent and South Downs","Southern Water Services Ltd","7SO300970","SCAYNES HILL WWTW","Middle Ouse","GB107041012710","River","Ouse Upper",null,null,null,"U_MON3",null,null,null,null,null,null,"2025-03-31","Green","W00008",537905,124301,null,null,null,null,null,null,null,null,null,null,null,null,null,null,null,null,null,null,null,null,null,null,null,null,null,null,null,null,null,null,null,null,null,null,null,null,null,null,null,null,null,null,null,null,null,null,null,null,null,null,null,null,null,null,null,null,null,null,null,null,null,null,null,null,null,0,0,1,0,"WWN","£m",1,"See comment row 216. Expected to be delivered by target date."]
["SSD00876",null,null,null,null,"WQ","South East","Solent and South Downs","Southern Water Services Ltd","7SO300973","SEA ROAD LITTLEHAMPTON WPS",null,null,null,null,null,null,null,"U_MON3",null,null,null,null,null,null,"2025-03-31","Green",null,null,null,null,null,null,null,null,null,null,null,null,null,null,null,null,null,null,null,null,null,null,null,null,null,null,null,null,null,null,null,null,null,null,null,null,null,null,null,null,null,null,null,null,null,null,null,null,null,null,null,null,null,null,null,null,null,null,null,null,null,null,null,null,null,null,null,null,0,0,1,0,"WWN","£m",1,"See comment row 216. Expected to be delivered by target date."]
["KSL00639",null,null,null,null,"WQ",null,"Kent South London and East Sussex","Southern Water Services Ltd","7SO300984","SISSINGHURST WWTW",null,null,null,null,null,null,null,"U_MON3",null,null,null,null,null,null,"2025-03-31","Green","W00556",579661,137792,null,null,null,null,null,null,null,null,null,null,null,null,null,null,null,null,null,null,null,null,null,null,null,null,null,null,null,null,null,null,null,null,null,null,null,null,null,null,null,null,null,null,null,null,null,null,null,null,null,null,null,null,null,null,null,null,null,null,null,null,null,null,null,null,null,0,0,1,0,"WWN","£m",1,"See comment row 216. Expected to be delivered by target date."]
["SSD00891",null,null,null,null,"WQ","South East","Solent and South Downs","Southern Water Services Ltd","7SO300998","SOUTH AMBERSHAM WWTW","Western Rother","GB107041012810","River","Rother Western",null,null,null,"U_MON3",null,null,null,null,null,null,"2025-03-31","Green","W00383   ",491760,121170,null,null,null,null,null,null,null,null,null,null,null,null,null,null,null,null,null,null,null,null,null,null,null,null,null,null,null,null,null,null,null,null,null,null,null,null,null,null,null,null,null,null,null,null,null,null,null,null,null,null,null,null,null,null,null,null,null,null,null,null,null,null,null,null,null,0,0,1,0,"WWN","£m",1,"See comment row 216. Expected to be delivered by target date."]
["SSD00893",null,null,null,null,"WQ","South East","Solent and South Downs","Southern Water Services Ltd","7SO400001","SOUTH HARTING WWTW","Elsted Stream","GB107041013010","River","Rother Western",null,null,null,"U_MON3",null,null,null,null,null,null,"2025-03-31","Green","W00600",479350,119850,null,null,null,null,null,null,null,null,null,null,null,null,null,null,null,null,null,null,null,null,null,null,null,null,null,null,null,null,null,null,null,null,null,null,null,null,null,null,null,null,null,null,null,null,null,null,null,null,null,null,null,null,null,null,null,null,null,null,null,null,null,null,null,null,null,0,0,1,0,"WWN","£m",1,"See comment row 216. Expected to be delivered by target date."]
["SSD00895",null,null,null,null,"WQ","South East","Solent and South Downs","Southern Water Services Ltd","7SO400005","SOUTHWICK WWTW",null,null,null,null,null,null,null,"U_MON3",null,null,null,null,null,null,"2025-03-31","Green","W00248",461829,108667,null,null,null,null,null,null,null,null,null,null,null,null,null,null,null,null,null,null,null,null,null,null,null,null,null,null,null,null,null,null,null,null,null,null,null,null,null,null,null,null,null,null,null,null,null,null,null,null,null,null,null,null,null,null,null,null,null,null,null,null,null,null,null,null,null,0,0,1,0,"WWN","£m",1,"See comment row 216. Expected to be delivered by target date."]
["SSD00897",null,null,null,null,"WQ","South East","Solent and South Downs","Southern Water Services Ltd","7SO400007","ST HELENS WWTW",null,null,null,null,null,null,null,"U_MON3",null,null,null,null,null,null,"2025-03-31","Green","A00198",462514,88538,null,null,null,null,null,null,null,null,null,null,null,null,null,null,null,null,null,null,null,null,null,null,null,null,null,null,null,null,null,null,null,null,null,null,null,null,null,null,null,null,null,null,null,null,null,null,null,null,null,null,null,null,null,null,null,null,null,null,null,null,null,null,null,null,null,0,0,1,0,"WWN","£m",1,"See comment row 216. Expected to be delivered by target date."]
["KSL00651",null,null,null,null,"WQ",null,"Kent South London and East Sussex","Southern Water Services Ltd","7SO400011","STAPLECROSS WWTW",null,null,null,null,null,null,null,"U_MON3",null,null,null,null,null,null,"2025-03-31","Green","A01199",579776,122237,null,null,null,null,null,null,null,null,null,null,null,null,null,null,null,null,null,null,null,null,null,null,null,null,null,null,null,null,null,null,null,null,null,null,null,null,null,null,null,null,null,null,null,null,null,null,null,null,null,null,null,null,null,null,null,null,null,null,null,null,null,null,null,null,null,0,0,1,0,"WWN","£m",1,"See comment row 216. Expected to be delivered by target date."]
["KSL00655",null,null,null,null,"WQ",null,"Kent South London and East Sussex","Southern Water Services Ltd","7SO400021","STONE GREEN STONE IN OXNEY WWTW",null,null,null,null,null,null,null,"U_MON3",null,null,null,null,null,null,"2025-03-31","Green","W00579",594082,127567,null,null,null,null,null,null,null,null,null,null,null,null,null,null,null,null,null,null,null,null,null,null,null,null,null,null,null,null,null,null,null,null,null,null,null,null,null,null,null,null,null,null,null,null,null,null,null,null,null,null,null,null,null,null,null,null,null,null,null,null,null,null,null,null,null,0,0,1,0,"WWN","£m",1,"See comment row 216. Expected to be delivered by target date."]
["KSL00659",null,null,null,null,"WQ",null,"Kent South London and East Sussex","Southern Water Services Ltd","7SO400025","STONEBRIDGE ROAD BROOK K WPS",null,null,null,null,null,null,null,"U_MON3",null,null,null,null,null,null,"2025-03-31","Green","A01473",606323,144191,null,null,null,null,null,null,null,null,null,null,null,null,null,null,null,null,null,null,null,null,null,null,null,null,null,null,null,null,null,null,null,null,null,null,null,null,null,null,null,null,null,null,null,null,null,null,null,null,null,null,null,null,null,null,null,null,null,null,null,null,null,null,null,null,null,0,0,1,0,"WWN","£m",1,"See comment row 216. Expected to be delivered by target date."]
["KSL00669",null,null,null,null,"WQ",null,"Kent South London and East Sussex","Southern Water Services Ltd","7SO400042","TEYNHAM WWTW",null,null,null,null,null,null,null,"U_MON3",null,null,null,null,null,null,"2025-03-31","Green","W00577",595642,163383,null,null,null,null,null,null,null,null,null,null,null,null,null,null,null,null,null,null,null,null,null,null,null,null,null,null,null,null,null,null,null,null,null,null,null,null,null,null,null,null,null,null,null,null,null,null,null,null,null,null,null,null,null,null,null,null,null,null,null,null,null,null,null,null,null,0,0,1,0,"WWN","£m",1,"See comment row 216. Expected to be delivered by target date."]
["KSL00671",null,null,null,null,"WQ",null,"Kent South London and East Sussex","Southern Water Services Ltd","7SO400044","THE BULWARK SANDWICH WPS",null,null,null,null,null,null,null,"U_MON3",null,null,null,null,null,null,"2025-03-31","Green","A00622",633530,158080,null,null,null,null,null,null,null,null,null,null,null,null,null,null,null,null,null,null,null,null,null,null,null,null,null,null,null,null,null,null,null,null,null,null,null,null,null,null,null,null,null,null,null,null,null,null,null,null,null,null,null,null,null,null,null,null,null,null,null,null,null,null,null,null,null,0,0,1,0,"WWN","£m",1,"See comment row 216. Expected to be delivered by target date."]
["KSL00674",null,null,null,null,"WQ","South East","Kent South London and East Sussex","Southern Water Services Ltd","7SO400050","TINKERS LANE TICEHURST WPS","Limden","GB107040013610","River","Rother Upper",null,null,null,"U_MON3",null,null,null,null,null,null,"2025-03-31","Green",null,null,null,null,null,null,null,null,null,null,null,null,null,null,null,null,null,null,null,null,null,null,null,null,null,null,null,null,null,null,null,null,null,null,null,null,null,null,null,null,null,null,null,null,null,null,null,null,null,null,null,null,null,null,null,null,null,null,null,null,null,null,null,null,null,null,null,null,0,0,1,0,"WWN","£m",1,"See comment row 216. Expected to be delivered by target date."]
["KSL00676",null,null,null,null,"WQ","Thames","Kent South London and East Sussex","Southern Water Services Ltd","7SO400052","TONBRIDGE WWTW",null,null,null,null,null,null,null,"U_MON3",null,null,null,null,null,null,"2025-03-31","Green","A00036",559969,146229,null,null,null,null,null,null,null,null,null,null,null,null,null,null,null,null,null,null,null,null,null,null,null,null,null,null,null,null,null,null,null,null,null,null,null,null,null,null,null,null,null,null,null,null,null,null,null,null,null,null,null,null,null,null,null,null,null,null,null,null,null,null,null,null,null,0,0,1,0,"WWN","£m",1,"See comment row 216. Expected to be delivered by target date."]
["KSL00682",null,null,null,null,"WQ","Thames","Kent South London and East Sussex","Southern Water Services Ltd","7SO400060","ULCOMBE WWTW","Medway","GB106040018330","River","Medway",null,null,null,"U_MON3",null,null,null,null,null,null,"2025-03-31","Green","W00508",584631,148295,null,null,null,null,null,null,null,null,null,null,null,null,null,null,null,null,null,null,null,null,null,null,null,null,null,null,null,null,null,null,null,null,null,null,null,null,null,null,null,null,null,null,null,null,null,null,null,null,null,null,null,null,null,null,null,null,null,null,null,null,null,null,null,null,null,0,0,1,0,"WWN","£m",1,"See comment row 216. Expected to be delivered by target date."]
["SSD00920",null,null,null,null,"WQ","South East","Solent and South Downs","Southern Water Services Ltd","7SO400067","WARNHAM WWTW","Boldings Brook","GB107041012910","River","Arun Upper",null,null,null,"U_MON3",null,null,null,null,null,null,"2025-03-31","Green","A01204",516690,134120,null,null,null,null,null,null,null,null,null,null,null,null,null,null,null,null,null,null,null,null,null,null,null,null,null,null,null,null,null,null,null,null,null,null,null,null,null,null,null,null,null,null,null,null,null,null,null,null,null,null,null,null,null,null,null,null,null,null,null,null,null,null,null,null,null,0,0,1,0,"WWN","£m",1,"See comment row 216. Expected to be delivered by target date."]
["KSL00691",null,null,null,null,"WQ","Thames","Kent South London and East Sussex","Southern Water Services Ltd","7SO400074","WEST HOATHLY WWTW",null,null,null,null,null,null,null,"U_MON3",null,null,null,null,null,null,"2025-03-31","Green","W00020",537497,133517,null,null,null,null,null,null,null,null,null,null,null,null,null,null,null,null,null,null,null,null,null,null,null,null,null,null,null,null,null,null,null,null,null,null,null,null,null,null,null,null,null,null,null,null,null,null,null,null,null,null,null,null,null,null,null,null,null,null,null,null,null,null,null,null,null,0,0,1,0,"WWN","£m",1,"See comment row 216. Expected to be delivered by target date."]
["SSD00922",null,null,null,null,"WQ","South East","Solent and South Downs","Southern Water Services Ltd","7SO400077","WEST PARK BOGNOR REGIS WPS",null,null,null,null,null,null,null,"U_MON3",null,null,null,null,null,null,"2025-03-31","Green",null,null,null,null,null,null,null,null,null,null,null,null,null,null,null,null,null,null,null,null,null,null,null,null,null,null,null,null,null,null,null,null,null,null,null,null,null,null,null,null,null,null,null,null,null,null,null,null,null,null,null,null,null,null,null,null,null,null,null,null,null,null,null,null,null,null,null,null,0,0,1,0,"WWN","£m",1,"See comment row 216. Expected to be delivered by target date."]
["KSL00696",null,null,null,null,"WQ","South East","Kent South London and East Sussex","Southern Water Services Ltd","7SO400083","WESTFIELD WWTW","Doleham Ditch","GB107040013380","River","Brede and Tillingham",null,null,null,"U_MON3",null,null,null,null,null,null,"2025-03-31","Green","W00504",582020,115360,null,null,null,null,null,null,null,null,null,null,null,null,null,null,null,null,null,null,null,null,null,null,null,null,null,null,null,null,null,null,null,null,null,null,null,null,null,null,null,null,null,null,null,null,null,null,null,null,null,null,null,null,null,null,null,null,null,null,null,null,null,null,null,null,null,0,0,1,0,"WWN","£m",1,"See comment row 216. Expected to be delivered by target date."]
["SSD00927",null,null,null,null,"WQ","South East","Solent and South Downs","Southern Water Services Ltd","7SO400088","WHITEPARISH WWTW","Whiteparish Trib","GB107042016440","River","Test Lower and Southampton Streams",null,null,null,"U_MON3",null,null,null,null,null,null,"2025-03-31","Green","W00238",424110,122540,null,null,null,null,null,null,null,null,null,null,null,null,null,null,null,null,null,null,null,null,null,null,null,null,null,null,null,null,null,null,null,null,null,null,null,null,null,null,null,null,null,null,null,null,null,null,null,null,null,null,null,null,null,null,null,null,null,null,null,null,null,null,null,null,null,0,0,1,0,"WWN","£m",1,"See comment row 216. Expected to be delivered by target date."]
["SSD00929",null,null,null,null,"WQ","South East","Solent and South Downs","Southern Water Services Ltd","7SO400092","WICKHAM WWTW","Meon","GB107042016640","River","East Hampshire Rivers",null,null,null,"U_MON3",null,null,null,null,null,null,"2025-03-31","Green","W00598",456670,110750,null,null,null,null,null,null,null,null,null,null,null,null,null,null,null,null,null,null,null,null,null,null,null,null,null,null,null,null,null,null,null,null,null,null,null,null,null,null,null,null,null,null,null,null,null,null,null,null,null,null,null,null,null,null,null,null,null,null,null,null,null,null,null,null,null,0,0,1,0,"WWN","£m",1,"See comment row 216. Expected to be delivered by target date."]
["SSD00933",null,null,null,null,"WQ","South East","Solent and South Downs","Southern Water Services Ltd","7SO400096","WISBOROUGH GREEN WWTW","Kird","GB107041012300","River","Arun Upper",null,null,null,"U_MON3",null,null,null,null,null,null,"2025-03-31","Green","A01206",505350,125390,null,null,null,null,null,null,null,null,null,null,null,null,null,null,null,null,null,null,null,null,null,null,null,null,null,null,null,null,null,null,null,null,null,null,null,null,null,null,null,null,null,null,null,null,null,null,null,null,null,null,null,null,null,null,null,null,null,null,null,null,null,null,null,null,null,0,0,1,0,"WWN","£m",1,"See comment row 216. Expected to be delivered by target date."]
["KSL00702",null,null,null,null,"WQ",null,"Kent South London and East Sussex","Southern Water Services Ltd","7SO400098","WITTERSHAM WWTW",null,null,null,null,null,null,null,"U_MON3",null,null,null,null,null,null,"2025-03-31","Green","W00523",588750,126250,null,null,null,null,null,null,null,null,null,null,null,null,null,null,null,null,null,null,null,null,null,null,null,null,null,null,null,null,null,null,null,null,null,null,null,null,null,null,null,null,null,null,null,null,null,null,null,null,null,null,null,null,null,null,null,null,null,null,null,null,null,null,null,null,null,0,0,1,0,"WWN","£m",1,"See comment row 216. Expected to be delivered by target date."]
["SSD00937",null,null,null,null,"WQ","South East","Solent and South Downs","Southern Water Services Ltd","7SO400103","WOOLSTON WWTW","SOUTHAMPTON WATER","GB520704202800","Transitional","Southampton Water",null,null,null,"U_MON3",null,null,null,null,null,null,"2025-03-31","Green","A00856",443380,110440,null,null,null,null,null,null,null,null,null,null,null,null,null,null,null,null,null,null,null,null,null,null,null,null,null,null,null,null,null,null,null,null,null,null,null,null,null,null,null,null,null,null,null,null,null,null,null,null,null,null,null,null,null,null,null,null,null,null,null,null,null,null,null,null,null,0,0,1,0,"WWN","£m",1,"See comment row 216. Expected to be delivered by target date."]
["SSD00939",null,null,null,null,"WQ","South East","Solent and South Downs","Southern Water Services Ltd","7SO400106","WROXALL WWTW","Wroxall Stream","GB107101006210","River","Isle of Wight Rivers",null,null,null,"U_MON3",null,null,null,null,null,null,"2025-03-31","Green","W00203",454844,"080945",null,null,null,null,null,null,null,null,null,null,null,null,null,null,null,null,null,null,null,null,null,null,null,null,null,null,null,null,null,null,null,null,null,null,null,null,null,null,null,null,null,null,null,null,null,null,null,null,null,null,null,null,null,null,null,null,null,null,null,null,null,null,null,null,null,0,0,1,0,"WWN","£m",1,"See comment row 216. Expected to be delivered by target date."]
["SSD00038",null,null,null,null,"WQ","South East","Pan Area","Southern Water Services Ltd","7SO200203","Southern Water PR19 shellfish water requirements","Water Company Scale","Water Company Scale","Water Company Scale","Water Company Scale",null,null,null,"SW_INV1",null,null,null,null,null,"Investigation ","2022-09-30","Green",null,null,null,null,null,null,null,null,null,null,null,null,null,null,null,null,null,null,null,null,null,null,null,null,null,null,null,null,null,null,null,null,null,null,null,null,null,null,null,null,null,null,null,null,null,null,null,null,null,null,null,null,null,null,null,null,null,null,null,null,null,null,null,null,null,null,null,null,0,1,0,1,"WWN","£m",1,"Holding line - Removed and replaced with 8 lines below. We're unable to calculate the unit rate for individual studies therefore totex unit rate recorded as 0. However the total number of studies under the SW_INV1 driver currently in WINEP (10) exceeds the total number of studies proposed at PR19 (9) by 1, therefore propose no reconciliation required."]
["SSD00664",null,null,null,null,"WQ","South East","Solent and South Downs","Southern Water Services Ltd","7SO300581","Chichester Harbour (Chichester Channel) Shellfish Investigations","Chichester Harbour","GB580705210000","Transitional","Western Streams TraC",null,null,null,"SW_INV1",null,null,null,null,null,"Investigation and Options Appraisal","2022-09-30","Green",null,null,null,null,null,null,null,null,null,null,null,null,null,null,null,null,null,null,null,null,null,null,null,null,null,null,null,null,null,null,null,null,null,null,null,null,null,null,null,null,null,null,null,null,null,null,null,null,null,null,null,null,null,null,null,null,null,null,null,null,null,null,null,null,null,null,null,null,0,0,1,0,"WWN","£m",1,"See comment row 461. Expected to be delivered by target date."]
["SSD00663",null,null,null,null,"WQ","South East","Solent and South Downs","Southern Water Services Ltd","7SO300580","Chichester Harbour (Emsworth Channel) Shellfish Investigations","Chichester Harbour","GB580705210000","Transitional","Western Streams TraC",null,null,null,"SW_INV1",null,null,null,null,null,"Investigation and Options Appraisal","2022-09-30","Green",null,null,null,null,null,null,null,null,null,null,null,null,null,null,null,null,null,null,null,null,null,null,null,null,null,null,null,null,null,null,null,null,null,null,null,null,null,null,null,null,null,null,null,null,null,null,null,null,null,null,null,null,null,null,null,null,null,null,null,null,null,null,null,null,null,null,null,null,0,0,1,0,"WWN","£m",1,"See comment row 461. Expected to be delivered by target date."]
["SSD00941",null,null,null,null,"WQ","South East","Solent and South Downs","Southern Water Services Ltd","7SO400111","Chichester Harbour (Thornham Channel) Shellfish Investigations","Chichester Harbour","GB580705210000","Transitional","Western Streams TraC",null,null,null,"SW_INV1",null,null,null,null,null,"Investigation and Options Appraisal","2022-09-30","Green",null,null,null,null,null,null,null,null,null,null,null,null,null,null,null,null,null,null,null,null,null,null,null,null,null,null,null,null,null,null,null,null,null,null,null,null,null,null,null,null,null,null,null,null,null,null,null,null,null,null,null,null,null,null,null,null,null,null,null,null,null,null,null,null,null,null,null,null,0,0,1,0,"WWN","£m",1,"See comment row 461. Expected to be delivered by target date."]
["KSL00452",null,null,null,null,"WQ","South East","Kent South London and East Sussex","Southern Water Services Ltd","7SO300575","Outer Thames Shellfish Investigations","Essex","GB650503520001","Coastal","Essex TraC",null,null,null,"SW_INV1",null,null,null,null,null,"Investigation and Options Appraisal","2022-09-30","Green",null,null,null,null,null,null,null,null,null,null,null,null,null,null,null,null,null,null,null,null,null,null,null,null,null,null,null,null,null,null,null,null,null,null,null,null,null,null,null,null,null,null,null,null,null,null,null,null,null,null,null,null,null,null,null,null,null,null,null,null,null,null,null,null,null,null,null,null,0,0,1,0,"WWN","£m",1,"See comment row 461. Expected to be delivered by target date."]
["KSL00453",null,null,null,null,"WQ","South East","Kent South London and East Sussex","Southern Water Services Ltd","7SO300576","Sheppey Shellfish Investigations","Thames Lower","GB530603911401","Transitional","Tidal Thames",null,null,null,"SW_INV1",null,null,null,null,null,"Investigation and Options Appraisal","2022-09-30","Green",null,null,null,null,null,null,null,null,null,null,null,null,null,null,null,null,null,null,null,null,null,null,null,null,null,null,null,null,null,null,null,null,null,null,null,null,null,null,null,null,null,null,null,null,null,null,null,null,null,null,null,null,null,null,null,null,null,null,null,null,null,null,null,null,null,null,null,null,0,0,1,0,"WWN","£m",1,"See comment row 461. Expected to be delivered by target date."]
["KSL00456",null,null,null,null,"WQ","South East","Kent South London and East Sussex","Southern Water Services Ltd","7SO300579","Swale Central Shellfish Investigations","Swale","GB530604011500","Transitional","Medway Swale Estuary",null,null,null,"SW_INV1",null,null,null,null,null,"Investigation and Options Appraisal","2022-09-30","Green",null,null,null,null,null,null,null,null,null,null,null,null,null,null,null,null,null,null,null,null,null,null,null,null,null,null,null,null,null,null,null,null,null,null,null,null,null,null,null,null,null,null,null,null,null,null,null,null,null,null,null,null,null,null,null,null,null,null,null,null,null,null,null,null,null,null,null,null,0,0,1,0,"WWN","£m",1,"See comment row 461. Expected to be delivered by target date."]
["KSL00455",null,null,null,null,"WQ","South East","Kent South London and East Sussex","Southern Water Services Ltd","7SO300578","Swale East Shellfish Investigations","Swale","GB530604011500","Transitional","Medway Swale Estuary",null,null,null,"SW_INV1",null,null,null,null,null,"Investigation and Options Appraisal","2022-09-30","Green",null,null,null,null,null,null,null,null,null,null,null,null,null,null,null,null,null,null,null,null,null,null,null,null,null,null,null,null,null,null,null,null,null,null,null,null,null,null,null,null,null,null,null,null,null,null,null,null,null,null,null,null,null,null,null,null,null,null,null,null,null,null,null,null,null,null,null,null,0,0,1,0,"WWN","£m",1,"See comment row 461. Expected to be delivered by target date."]
["KSL00454",null,null,null,null,"WQ","South East","Kent South London and East Sussex","Southern Water Services Ltd","7SO300577","Swalecliffe Shellfish Investigations","Kent North","GB650704510000","Coastal","Kent East Coast",null,null,null,"SW_INV1",null,null,null,null,null,"Investigation and Options Appraisal","2022-09-30","Green",null,null,null,null,null,null,null,null,null,null,null,null,null,null,null,null,null,null,null,null,null,null,null,null,null,null,null,null,null,null,null,null,null,null,null,null,null,null,null,null,null,null,null,null,null,null,null,null,null,null,null,null,null,null,null,null,null,null,null,null,null,null,null,null,null,null,null,null,0,0,1,0,"WWN","£m",1,"See comment row 461. Expected to be delivered by target date."]
["SSD00025",null,null,null,null,"WQ","South East","Pan Area","Southern Water Services Ltd","7SO200190","Southern Water PR19 frequently spilling overflows requirements","Water Company Scale","Water Company Scale","Water Company Scale","Water Company Scale",null,null,null,"U_INV",null,null,null,null,null,"Investigation and Options Appraisal","2025-03-31","Green",null,null,null,null,null,null,null,null,null,null,null,null,null,null,null,null,null,null,null,null,null,null,null,null,null,null,null,null,null,null,null,null,null,null,null,null,null,null,null,null,null,null,null,null,null,null,null,null,null,null,null,null,null,null,null,null,null,null,null,null,null,null,null,null,null,null,null,null,0,1,0,1,"WWN","£m",1,"Holding line - Removed and replaced with 61 lines below. We're unable to calculate the unit rate for individual studies, or the allowance for this holding line therefore the totex unit rate is entered as 0. However, as there are no substantive changes between the number of studies submitted in the PR19 Business Plan and the number required to be delivered under WINEP we propose no reconciliation is required. "]
["KSL00423",null,null,null,null,"WQ","Thames","Kent South London and East Sussex","Southern Water Services Ltd","7SO300479"," High Halden WTW Storm Tank Overflow","Upper Beult - High Halden and Bethersden Stream","GB106040018280","River","Beult",null,null,null,"U_INV",null,null,null,null,null,"Investigation and Options Appraisal","2023-03-31","Green",null,588870,137690,null,null,null,null,null,null,null,null,null,null,null,null,null,null,null,null,null,null,null,null,null,null,null,null,null,null,null,null,null,null,null,null,null,null,null,null,null,null,null,null,null,null,null,null,null,null,null,null,null,null,null,null,null,null,null,null,null,null,null,null,null,null,null,null,null,0,0,1,0,"WWN","£m",1,"See comment row 470. Expected to be delivered by target date."]
["KSL00428",null,null,null,null,"WQ","Thames","Kent South London and East Sussex","Southern Water Services Ltd","7SO300491","Apple Tree Lane Tunbridge Wells CSO","Somerhill Stream","GB106040018410","River","Medway Middle",null,null,null,"U_INV",null,null,null,null,null,"Investigation and Options Appraisal","2023-03-31","Green",null,559770,141850,null,null,null,null,null,null,null,null,null,null,null,null,null,null,null,null,null,null,null,null,null,null,null,null,null,null,null,null,null,null,null,null,null,null,null,null,null,null,null,null,null,null,null,null,null,null,null,null,null,null,null,null,null,null,null,null,null,null,null,null,null,null,null,null,null,0,0,1,0,"WWN","£m",1,"See comment row 470. Expected to be delivered by target date."]
["SSD00590",null,null,null,null,"WQ","South East","Solent and South Downs","Southern Water Services Ltd","7SO300468","Ashington WTW Storm Tank Overflow","Honeybridge Stream","GB107041012120","River","Adur Upper",null,null,null,"U_INV",null,null,null,null,null,"Investigation and Options Appraisal","2023-03-31","Green",null,513610,115570,null,null,null,null,null,null,null,null,null,null,null,null,null,null,null,null,null,null,null,null,null,null,null,null,null,null,null,null,null,null,null,null,null,null,null,null,null,null,null,null,null,null,null,null,null,null,null,null,null,null,null,null,null,null,null,null,null,null,null,null,null,null,null,null,null,0,0,1,0,"WWN","£m",1,"See comment row 470. Expected to be delivered by target date."]
["SSD00591",null,null,null,null,"WQ","South East","Solent and South Downs","Southern Water Services Ltd","7SO300469","Barcombe New WTW Inlet Works","Bevern Stream","GB107041012570","River","Ouse Upper",null,null,null,"U_INV",null,null,null,null,null,"Investigation and Options Appraisal","2023-03-31","Green",null,541410,116690,null,null,null,null,null,null,null,null,null,null,null,null,null,null,null,null,null,null,null,null,null,null,null,null,null,null,null,null,null,null,null,null,null,null,null,null,null,null,null,null,null,null,null,null,null,null,null,null,null,null,null,null,null,null,null,null,null,null,null,null,null,null,null,null,null,0,0,1,0,"WWN","£m",1,"See comment row 470. Expected to be delivered by target date."]
["SSD00596",null,null,null,null,"WQ","South East","Solent and South Downs","Southern Water Services Ltd","7SO300481","Billingshurst WTW Storm Tank Overflow","Arun (U/S Pallingham)","GB107041017950","River","Arun Upper",null,null,null,"U_INV",null,null,null,null,null,"Investigation and Options Appraisal","2023-03-31","Green",null,507790,124720,null,null,null,null,null,null,null,null,null,null,null,null,null,null,null,null,null,null,null,null,null,null,null,null,null,null,null,null,null,null,null,null,null,null,null,null,null,null,null,null,null,null,null,null,null,null,null,null,null,null,null,null,null,null,null,null,null,null,null,null,null,null,null,null,null,0,0,1,0,"WWN","£m",1,"See comment row 470. Expected to be delivered by target date."]
["SSD00597",null,null,null,null,"WQ","South East","Solent and South Downs","Southern Water Services Ltd","7SO300482","Calbourne WTW Inlet Works","Caul Bourne","GB107101006020","River","Isle of Wight Rivers",null,null,null,"U_INV",null,null,null,null,null,"Investigation and Options Appraisal","2023-03-31","Green",null,441900,86800,null,null,null,null,null,null,null,null,null,null,null,null,null,null,null,null,null,null,null,null,null,null,null,null,null,null,null,null,null,null,null,null,null,null,null,null,null,null,null,null,null,null,null,null,null,null,null,null,null,null,null,null,null,null,null,null,null,null,null,null,null,null,null,null,null,0,0,1,0,"WWN","£m",1,"See comment row 470. Expected to be delivered by target date."]
["KSL00425",null,null,null,null,"WQ","Thames","Kent South London and East Sussex","Southern Water Services Ltd","7SO300483","Cannon Lane Tonbridge CSO","Mid Medway from Eden Confluence to Yalding","GB106040018182","River","Medway Middle",null,null,null,"U_INV",null,null,null,null,null,"Investigation and Options Appraisal","2023-03-31","Green",null,559630,146820,null,null,null,null,null,null,null,null,null,null,null,null,null,null,null,null,null,null,null,null,null,null,null,null,null,null,null,null,null,null,null,null,null,null,null,null,null,null,null,null,null,null,null,null,null,null,null,null,null,null,null,null,null,null,null,null,null,null,null,null,null,null,null,null,null,0,0,1,0,"WWN","£m",1,"See comment row 470. Expected to be delivered by target date."]
["KSL00418",null,null,null,null,"WQ","South East","Kent South London and East Sussex","Southern Water Services Ltd","7SO300470","Charing WTW Storm Tank Overflow","Upper Great Stour","GB107040019660","River","Stour Upper",null,null,null,"U_INV",null,null,null,null,null,"Investigation and Options Appraisal","2023-03-31","Green",null,595400,148500,null,null,null,null,null,null,null,null,null,null,null,null,null,null,null,null,null,null,null,null,null,null,null,null,null,null,null,null,null,null,null,null,null,null,null,null,null,null,null,null,null,null,null,null,null,null,null,null,null,null,null,null,null,null,null,null,null,null,null,null,null,null,null,null,null,0,0,1,0,"WWN","£m",1,"See comment row 470. Expected to be delivered by target date."]
["SSD00595",null,null,null,null,"WQ","South East","Solent and South Downs","Southern Water Services Ltd","7SO300478","Chiddingfold WTW Inlet Works","Loxwood Stm-Hambledon Trb","GB107041017980","River","Arun Upper",null,null,null,"U_INV",null,null,null,null,null,"Investigation and Options Appraisal","2023-03-31","Green",null,496910,136710,null,null,null,null,null,null,null,null,null,null,null,null,null,null,null,null,null,null,null,null,null,null,null,null,null,null,null,null,null,null,null,null,null,null,null,null,null,null,null,null,null,null,null,null,null,null,null,null,null,null,null,null,null,null,null,null,null,null,null,null,null,null,null,null,null,0,0,1,0,"WWN","£m",1,"See comment row 470. Expected to be delivered by target date."]
["KSL00415",null,null,null,null,"WQ","Thames","Kent South London and East Sussex","Southern Water Services Ltd","7SO300464","Cranbrook WTW Storm Tank Overflow","Hammer Stream","GB106040018290","River","Beult",null,null,null,"U_INV",null,null,null,null,null,"Investigation and Options Appraisal","2023-03-31","Green",null,578250,136210,null,null,null,null,null,null,null,null,null,null,null,null,null,null,null,null,null,null,null,null,null,null,null,null,null,null,null,null,null,null,null,null,null,null,null,null,null,null,null,null,null,null,null,null,null,null,null,null,null,null,null,null,null,null,null,null,null,null,null,null,null,null,null,null,null,0,0,1,0,"WWN","£m",1,"See comment row 470. Expected to be delivered by target date."]
["KSL00416",null,null,null,null,"WQ","Thames","Kent South London and East Sussex","Southern Water Services Ltd","7SO300465","Felbridge WTW Inlet Works","Eden Brook","GB106040018660","River","Eden",null,null,null,"U_INV",null,null,null,null,null,"Investigation and Options Appraisal","2023-03-31","Green",null,536430,140930,null,null,null,null,null,null,null,null,null,null,null,null,null,null,null,null,null,null,null,null,null,null,null,null,null,null,null,null,null,null,null,null,null,null,null,null,null,null,null,null,null,null,null,null,null,null,null,null,null,null,null,null,null,null,null,null,null,null,null,null,null,null,null,null,null,0,0,1,0,"WWN","£m",1,"See comment row 470. Expected to be delivered by target date."]
["SSD00598",null,null,null,null,"WQ","South East","Solent and South Downs","Southern Water Services Ltd","7SO300484","Fittleworth WTW Storm Tank Overflow","Western Rother","GB107041012810","River","Rother Western",null,null,null,"U_INV",null,null,null,null,null,"Investigation and Options Appraisal","2023-03-31","Green",null,501320,118130,null,null,null,null,null,null,null,null,null,null,null,null,null,null,null,null,null,null,null,null,null,null,null,null,null,null,null,null,null,null,null,null,null,null,null,null,null,null,null,null,null,null,null,null,null,null,null,null,null,null,null,null,null,null,null,null,null,null,null,null,null,null,null,null,null,0,0,1,0,"WWN","£m",1,"See comment row 470. Expected to be delivered by target date."]
["KSL00419",null,null,null,null,"WQ","Thames","Kent South London and East Sussex","Southern Water Services Ltd","7SO300471","Fordcombe WTW Inlet Works","Mid Medway from Hartfield to Eden Confluence","GB106040018181","River","Medway Upper",null,null,null,"U_INV",null,null,null,null,null,"Investigation and Options Appraisal","2023-03-31","Green",null,552320,140410,null,null,null,null,null,null,null,null,null,null,null,null,null,null,null,null,null,null,null,null,null,null,null,null,null,null,null,null,null,null,null,null,null,null,null,null,null,null,null,null,null,null,null,null,null,null,null,null,null,null,null,null,null,null,null,null,null,null,null,null,null,null,null,null,null,0,0,1,0,"WWN","£m",1,"See comment row 470. Expected to be delivered by target date."]
["KSL00426",null,null,null,null,"WQ","South East","Kent South London and East Sussex","Southern Water Services Ltd","7SO300485","Guestling Green WTW Storm Tank Overflow","Marsham and Pannel Sewers","GB107040013390","River","Brede and Tillingham",null,null,null,"U_INV",null,null,null,null,null,"Investigation and Options Appraisal","2023-03-31","Green",null,585900,114270,null,null,null,null,null,null,null,null,null,null,null,null,null,null,null,null,null,null,null,null,null,null,null,null,null,null,null,null,null,null,null,null,null,null,null,null,null,null,null,null,null,null,null,null,null,null,null,null,null,null,null,null,null,null,null,null,null,null,null,null,null,null,null,null,null,0,0,1,0,"WWN","£m",1,"See comment row 470. Expected to be delivered by target date."]
["SSD00603",null,null,null,null,"WQ","South East","Solent and South Downs","Southern Water Services Ltd","7SO300492","Hailsham North WTW Storm Tank Overflow","Hurst Haven at Hailsham","GB107041012500","River","Pevensey",null,null,null,"U_INV",null,null,null,null,null,"Investigation and Options Appraisal","2023-03-31","Green",null,560170,110650,null,null,null,null,null,null,null,null,null,null,null,null,null,null,null,null,null,null,null,null,null,null,null,null,null,null,null,null,null,null,null,null,null,null,null,null,null,null,null,null,null,null,null,null,null,null,null,null,null,null,null,null,null,null,null,null,null,null,null,null,null,null,null,null,null,0,0,1,0,"WWN","£m",1,"See comment row 470. Expected to be delivered by target date."]
["SSD00604",null,null,null,null,"WQ","South East","Solent and South Downs","Southern Water Services Ltd","7SO300493","Hailsham South WTW Inlet Works","Horse Eye Sewer","GB107041012420","River","Pevensey",null,null,null,"U_INV",null,null,null,null,null,"Investigation and Options Appraisal","2023-03-31","Green",null,559650,108730,null,null,null,null,null,null,null,null,null,null,null,null,null,null,null,null,null,null,null,null,null,null,null,null,null,null,null,null,null,null,null,null,null,null,null,null,null,null,null,null,null,null,null,null,null,null,null,null,null,null,null,null,null,null,null,null,null,null,null,null,null,null,null,null,null,0,0,1,0,"WWN","£m",1,"See comment row 470. Expected to be delivered by target date."]
["KSL00429",null,null,null,null,"WQ","South East","Kent South London and East Sussex","Southern Water Services Ltd","7SO300494","Hawkhurst South WTW Storm Tank Overflow","Kent Ditch","GB107040013600","River","Rother Levels",null,null,null,"U_INV",null,null,null,null,null,"Investigation and Options Appraisal","2023-03-31","Green",null,576880,129340,null,null,null,null,null,null,null,null,null,null,null,null,null,null,null,null,null,null,null,null,null,null,null,null,null,null,null,null,null,null,null,null,null,null,null,null,null,null,null,null,null,null,null,null,null,null,null,null,null,null,null,null,null,null,null,null,null,null,null,null,null,null,null,null,null,0,0,1,0,"WWN","£m",1,"See comment row 470. Expected to be delivered by target date."]
["KSL00430",null,null,null,null,"WQ","Thames","Kent South London and East Sussex","Southern Water Services Ltd","7SO300495","Hilden Park Road Hildenborough WPS","Mid Medway from Eden Confluence to Yalding","GB106040018182","River","Medway Middle",null,null,null,"U_INV",null,null,null,null,null,"Investigation and Options Appraisal","2023-03-31","Green",null,557686,147727,null,null,null,null,null,null,null,null,null,null,null,null,null,null,null,null,null,null,null,null,null,null,null,null,null,null,null,null,null,null,null,null,null,null,null,null,null,null,null,null,null,null,null,null,null,null,null,null,null,null,null,null,null,null,null,null,null,null,null,null,null,null,null,null,null,0,0,1,0,"WWN","£m",1,"See comment row 470. Expected to be delivered by target date."]
["KSL00420",null,null,null,null,"WQ","Thames","Kent South London and East Sussex","Southern Water Services Ltd","7SO300472","Lingfield WTW Storm Tank Overflow","Ray Brook","GB106040018340","River","Eden",null,null,null,"U_INV",null,null,null,null,null,"Investigation and Options Appraisal","2023-03-31","Green",null,538800,145040,null,null,null,null,null,null,null,null,null,null,null,null,null,null,null,null,null,null,null,null,null,null,null,null,null,null,null,null,null,null,null,null,null,null,null,null,null,null,null,null,null,null,null,null,null,null,null,null,null,null,null,null,null,null,null,null,null,null,null,null,null,null,null,null,null,0,0,1,0,"WWN","£m",1,"See comment row 470. Expected to be delivered by target date."]
["SSD00605",null,null,null,null,"WQ","South East","Solent and South Downs","Southern Water Services Ltd","7SO300496","Loxwood WTW Storm Tank Overflow","Loxwood Stream","GB107041017970","River","Arun Upper",null,null,null,"U_INV",null,null,null,null,null,"Investigation and Options Appraisal","2023-03-31","Green",null,504820,130850,null,null,null,null,null,null,null,null,null,null,null,null,null,null,null,null,null,null,null,null,null,null,null,null,null,null,null,null,null,null,null,null,null,null,null,null,null,null,null,null,null,null,null,null,null,null,null,null,null,null,null,null,null,null,null,null,null,null,null,null,null,null,null,null,null,0,0,1,0,"WWN","£m",1,"See comment row 470. Expected to be delivered by target date."]
["SSD00606",null,null,null,null,"WQ","South East","Solent and South Downs","Southern Water Services Ltd","7SO300497","Marshall Close Barnham CSO","Lidsey Rife","GB107041012010","River","Western Streams",null,null,null,"U_INV",null,null,null,null,null,"Investigation and Options Appraisal","2023-03-31","Green",null,495920,104280,null,null,null,null,null,null,null,null,null,null,null,null,null,null,null,null,null,null,null,null,null,null,null,null,null,null,null,null,null,null,null,null,null,null,null,null,null,null,null,null,null,null,null,null,null,null,null,null,null,null,null,null,null,null,null,null,null,null,null,null,null,null,null,null,null,0,0,1,0,"WWN","£m",1,"See comment row 470. Expected to be delivered by target date."]
["KSL00424",null,null,null,null,"WQ","South East","Kent South London and East Sussex","Southern Water Services Ltd","7SO300480","May Street Herne Bay WTW Storm tank overflow","Hogwell Sewer and Chislet North Stream","GB107040019770","River","Stour Marshes",null,null,null,"U_INV",null,null,null,null,null,"Investigation and Options Appraisal","2023-03-31","Green",null,621110,167520,null,null,null,null,null,null,null,null,null,null,null,null,null,null,null,null,null,null,null,null,null,null,null,null,null,null,null,null,null,null,null,null,null,null,null,null,null,null,null,null,null,null,null,null,null,null,null,null,null,null,null,null,null,null,null,null,null,null,null,null,null,null,null,null,null,0,0,1,0,"WWN","£m",1,"See comment row 470. Expected to be delivered by target date."]
["SSD00599",null,null,null,null,"WQ","South East","Solent and South Downs","Southern Water Services Ltd","7SO300486","Mill Corner Northiam WTW Inlet Works","Lower Rother from Etchingham to Scott's Float","GB107040013640","River","Rother Levels",null,null,null,"U_INV",null,null,null,null,null,"Investigation and Options Appraisal","2023-03-31","Green",null,582800,123710,null,null,null,null,null,null,null,null,null,null,null,null,null,null,null,null,null,null,null,null,null,null,null,null,null,null,null,null,null,null,null,null,null,null,null,null,null,null,null,null,null,null,null,null,null,null,null,null,null,null,null,null,null,null,null,null,null,null,null,null,null,null,null,null,null,0,0,1,0,"WWN","£m",1,"See comment row 470. Expected to be delivered by target date."]
["SSD00592",null,null,null,null,"WQ","South East","Solent and South Downs","Southern Water Services Ltd","7SO300473","Monks Gate WTW Storm Tank Overflow","Blakes Gill","GB107041012280","River","Adur Upper",null,null,null,"U_INV",null,null,null,null,null,"Investigation and Options Appraisal","2023-03-31","Green",null,519950,127450,null,null,null,null,null,null,null,null,null,null,null,null,null,null,null,null,null,null,null,null,null,null,null,null,null,null,null,null,null,null,null,null,null,null,null,null,null,null,null,null,null,null,null,null,null,null,null,null,null,null,null,null,null,null,null,null,null,null,null,null,null,null,null,null,null,0,0,1,0,"WWN","£m",1,"See comment row 470. Expected to be delivered by target date."]
["SSD00589",null,null,null,null,"WQ","South East","Solent and South Downs","Southern Water Services Ltd","7SO300466","Neaves Lane Ringmer WTW Storm Tank Overflow","Glynde Reach","GB107041012510","River","Ouse Upper",null,null,null,"U_INV",null,null,null,null,null,"Investigation and Options Appraisal","2023-03-31","Green",null,546370,112580,null,null,null,null,null,null,null,null,null,null,null,null,null,null,null,null,null,null,null,null,null,null,null,null,null,null,null,null,null,null,null,null,null,null,null,null,null,null,null,null,null,null,null,null,null,null,null,null,null,null,null,null,null,null,null,null,null,null,null,null,null,null,null,null,null,0,0,1,0,"WWN","£m",1,"See comment row 470. Expected to be delivered by target date."]
["KSL00431",null,null,null,null,"WQ","Thames","Kent South London and East Sussex","Southern Water Services Ltd","7SO300498","Oxted WTW Storm Tank Overflow","Upper Eden","GB106040018630","River","Eden",null,null,null,"U_INV",null,null,null,null,null,"Investigation and Options Appraisal","2023-03-31","Green",null,539780,150040,null,null,null,null,null,null,null,null,null,null,null,null,null,null,null,null,null,null,null,null,null,null,null,null,null,null,null,null,null,null,null,null,null,null,null,null,null,null,null,null,null,null,null,null,null,null,null,null,null,null,null,null,null,null,null,null,null,null,null,null,null,null,null,null,null,0,0,1,0,"WWN","£m",1,"See comment row 470. Expected to be delivered by target date."]
["SSD00600",null,null,null,null,"WQ","South East","Solent and South Downs","Southern Water Services Ltd","7SO300487","Petworth WTW Inlet Works","Haslingbourne Stream","GB107041012780","River","Rother Western",null,null,null,"U_INV",null,null,null,null,null,"Investigation and Options Appraisal","2023-03-31","Green",null,497830,119130,null,null,null,null,null,null,null,null,null,null,null,null,null,null,null,null,null,null,null,null,null,null,null,null,null,null,null,null,null,null,null,null,null,null,null,null,null,null,null,null,null,null,null,null,null,null,null,null,null,null,null,null,null,null,null,null,null,null,null,null,null,null,null,null,null,0,0,1,0,"WWN","£m",1,"See comment row 470. Expected to be delivered by target date."]
["KSL00427",null,null,null,null,"WQ","Thames","Kent South London and East Sussex","Southern Water Services Ltd","7SO300488","Priory Mill Tonbridge WPS","Somerhill Stream","GB106040018410","River","Medway Middle",null,null,null,"U_INV",null,null,null,null,null,"Investigation and Options Appraisal","2023-03-31","Green",null,560300,145600,null,null,null,null,null,null,null,null,null,null,null,null,null,null,null,null,null,null,null,null,null,null,null,null,null,null,null,null,null,null,null,null,null,null,null,null,null,null,null,null,null,null,null,null,null,null,null,null,null,null,null,null,null,null,null,null,null,null,null,null,null,null,null,null,null,0,0,1,0,"WWN","£m",1,"See comment row 470. Expected to be delivered by target date."]
["KSL00417",null,null,null,null,"WQ","Thames","Kent South London and East Sussex","Southern Water Services Ltd","7SO300467","Redgate Mill Crowborough WTW Storm Tank Overflow","Eridge Stream","GB106040018390","River","Medway Upper",null,null,null,"U_INV",null,null,null,null,null,"Investigation and Options Appraisal","2023-03-31","Green",null,555250,132520,null,null,null,null,null,null,null,null,null,null,null,null,null,null,null,null,null,null,null,null,null,null,null,null,null,null,null,null,null,null,null,null,null,null,null,null,null,null,null,null,null,null,null,null,null,null,null,null,null,null,null,null,null,null,null,null,null,null,null,null,null,null,null,null,null,0,0,1,0,"WWN","£m",1,"See comment row 470. Expected to be delivered by target date."]
["SSD00593",null,null,null,null,"WQ","South East","Solent and South Downs","Southern Water Services Ltd","7SO300474","Slinfold WTW Inlet Works","Arun (U/S Pallingham)","GB107041017950","River","Arun Upper",null,null,null,"U_INV",null,null,null,null,null,"Investigation and Options Appraisal","2023-03-31","Green",null,511320,132090,null,null,null,null,null,null,null,null,null,null,null,null,null,null,null,null,null,null,null,null,null,null,null,null,null,null,null,null,null,null,null,null,null,null,null,null,null,null,null,null,null,null,null,null,null,null,null,null,null,null,null,null,null,null,null,null,null,null,null,null,null,null,null,null,null,0,0,1,0,"WWN","£m",1,"See comment row 470. Expected to be delivered by target date."]
["SSD00601",null,null,null,null,"WQ","South East","Solent and South Downs","Southern Water Services Ltd","7SO300489","Small Dole WTW Storm Tank Overflow","Woodsmill Stream","GB107041012060","River","Adur Upper",null,null,null,"U_INV",null,null,null,null,null,"Investigation and Options Appraisal","2023-03-31","Green",null,521560,113710,null,null,null,null,null,null,null,null,null,null,null,null,null,null,null,null,null,null,null,null,null,null,null,null,null,null,null,null,null,null,null,null,null,null,null,null,null,null,null,null,null,null,null,null,null,null,null,null,null,null,null,null,null,null,null,null,null,null,null,null,null,null,null,null,null,0,0,1,0,"WWN","£m",1,"See comment row 470. Expected to be delivered by target date."]
["KSL00421",null,null,null,null,"WQ","South East","Kent South London and East Sussex","Southern Water Services Ltd","7SO300475","Stubbs Lane Brede WTW Storm Tank Overflow","Brede","GB107040013550","River","Brede and Tillingham",null,null,null,"U_INV",null,null,null,null,null,"Investigation and Options Appraisal","2023-03-31","Green",null,582970,118820,null,null,null,null,null,null,null,null,null,null,null,null,null,null,null,null,null,null,null,null,null,null,null,null,null,null,null,null,null,null,null,null,null,null,null,null,null,null,null,null,null,null,null,null,null,null,null,null,null,null,null,null,null,null,null,null,null,null,null,null,null,null,null,null,null,0,0,1,0,"WWN","£m",1,"See comment row 470. Expected to be delivered by target date."]
["SSD00607",null,null,null,null,"WQ","South East","Solent and South Downs","Southern Water Services Ltd","7SO300499","Summer Lane Pagham WTW Storm Tank Overflow","Pagham Rife","GB107041012880","River","Western Streams",null,null,null,"U_INV",null,null,null,null,null,"Investigation and Options Appraisal","2023-03-31","Green",null,488270,98950,null,null,null,null,null,null,null,null,null,null,null,null,null,null,null,null,null,null,null,null,null,null,null,null,null,null,null,null,null,null,null,null,null,null,null,null,null,null,null,null,null,null,null,null,null,null,null,null,null,null,null,null,null,null,null,null,null,null,null,null,null,null,null,null,null,0,0,1,0,"WWN","£m",1,"See comment row 470. Expected to be delivered by target date."]
["SSD00602",null,null,null,null,"WQ","South East","Solent and South Downs","Southern Water Services Ltd","7SO300490","West Wellow WTW Storm Tank Overflow","Blackwater (Test and Itchen)","GB107042016791","River","Test Lower and Southampton Streams",null,null,null,"U_INV",null,null,null,null,null,"Investigation and Options Appraisal","2023-03-31","Green",null,431720,119160,null,null,null,null,null,null,null,null,null,null,null,null,null,null,null,null,null,null,null,null,null,null,null,null,null,null,null,null,null,null,null,null,null,null,null,null,null,null,null,null,null,null,null,null,null,null,null,null,null,null,null,null,null,null,null,null,null,null,null,null,null,null,null,null,null,0,0,1,0,"WWN","£m",1,"See comment row 470. Expected to be delivered by target date."]
["KSL00422",null,null,null,null,"WQ","South East","Kent South London and East Sussex","Southern Water Services Ltd","7SO300476","Westfield WTW Storm Tank Overflow","Doleham Ditch","GB107040013380","River","Brede and Tillingham",null,null,null,"U_INV",null,null,null,null,null,"Investigation and Options Appraisal","2023-03-31","Green",null,582020,115360,null,null,null,null,null,null,null,null,null,null,null,null,null,null,null,null,null,null,null,null,null,null,null,null,null,null,null,null,null,null,null,null,null,null,null,null,null,null,null,null,null,null,null,null,null,null,null,null,null,null,null,null,null,null,null,null,null,null,null,null,null,null,null,null,null,0,0,1,0,"WWN","£m",1,"See comment row 470. Expected to be delivered by target date."]
["SSD00594",null,null,null,null,"WQ","South East","Solent and South Downs","Southern Water Services Ltd","7SO300477","Wickham WTW Storm Tank Overflow","Meon","GB107042016640","River","East Hampshire Rivers",null,null,null,"U_INV",null,null,null,null,null,"Investigation and Options Appraisal","2023-03-31","Green",null,456670,110750,null,null,null,null,null,null,null,null,null,null,null,null,null,null,null,null,null,null,null,null,null,null,null,null,null,null,null,null,null,null,null,null,null,null,null,null,null,null,null,null,null,null,null,null,null,null,null,null,null,null,null,null,null,null,null,null,null,null,null,null,null,null,null,null,null,0,0,1,0,"WWN","£m",1,"See comment row 470. Expected to be delivered by target date."]
["KSL00735",null,null,null,null,"WQ","South East","Kent South London and East Sussex","Southern Water Services Ltd","7SO400169","Burwash Common WTW","Dudwell","GB107040013570","River","Rother Upper",null,null,null,"U_INV",null,null,null,null,null,"Investigation and Options Appraisal","2025-03-31","Green","W00555",565826,122782,null,null,null,null,null,null,null,null,null,null,null,null,null,null,null,null,null,null,null,null,null,null,null,null,null,null,null,null,null,null,null,null,null,null,null,null,null,null,null,null,null,null,null,null,null,null,null,null,null,null,null,null,null,null,null,null,null,null,null,null,null,null,null,null,null,0,0,1,0,"WWN","£m",1,"See comment row 470. Expected to be delivered by target date."]
["KSL00736",null,null,null,null,"WQ","South East","Kent South London and East Sussex","Southern Water Services Ltd","7SO400170","Castle Terrace Hawkhurst CSO","Hexden Channel","GB107040019670","River","Rother Levels",null,null,null,"U_INV",null,null,null,null,null,"Investigation and Options Appraisal","2025-03-31","Green","A00168",576170,131230,null,null,null,null,null,null,null,null,null,null,null,null,null,null,null,null,null,null,null,null,null,null,null,null,null,null,null,null,null,null,null,null,null,null,null,null,null,null,null,null,null,null,null,null,null,null,null,null,null,null,null,null,null,null,null,null,null,null,null,null,null,null,null,null,null,0,0,1,0,"WWN","£m",1,"See comment row 470. Expected to be delivered by target date."]
["KSL00737",null,null,null,null,"WQ","Thames","Kent South London and East Sussex","Southern Water Services Ltd","7SO400171","Coldharbour Lane Hildenborough WPS","Hilden Brook","GB106040018170","River","Medway Middle",null,null,null,"U_INV",null,null,null,null,null,"Investigation and Options Appraisal","2025-03-31","Green","A01475",557300,148900,null,null,null,null,null,null,null,null,null,null,null,null,null,null,null,null,null,null,null,null,null,null,null,null,null,null,null,null,null,null,null,null,null,null,null,null,null,null,null,null,null,null,null,null,null,null,null,null,null,null,null,null,null,null,null,null,null,null,null,null,null,null,null,null,null,0,0,1,0,"WWN","£m",1,"See comment row 470. Expected to be delivered by target date."]
["KSL00738",null,null,null,null,"WQ","Thames","Kent South London and East Sussex","Southern Water Services Ltd","7SO400172","Lingfield WTW","Ray Brook","GB106040018340","River","Eden",null,null,null,"U_INV",null,null,null,null,null,"Investigation and Options Appraisal","2025-03-31","Green","A00194",538852,145020,null,null,null,null,null,null,null,null,null,null,null,null,null,null,null,null,null,null,null,null,null,null,null,null,null,null,null,null,null,null,null,null,null,null,null,null,null,null,null,null,null,null,null,null,null,null,null,null,null,null,null,null,null,null,null,null,null,null,null,null,null,null,null,null,null,0,0,1,0,"WWN","£m",1,"See comment row 470. Expected to be delivered by target date."]
["KSL00739",null,null,null,null,"WQ","Thames","Kent South London and East Sussex","Southern Water Services Ltd","7SO400173","Cross Lane East Gravesend - TraC","Thames Lower","GB530603911401","Transitional","Thames Trac",null,null,null,"U_INV",null,null,null,null,null,"Investigation and Options Appraisal","2025-03-31","Green","CASM.0011",564810,174520,null,null,null,null,null,null,null,null,null,null,null,null,null,null,null,null,null,null,null,null,null,null,null,null,null,null,null,null,null,null,null,null,null,null,null,null,null,null,null,null,null,null,null,null,null,null,null,null,null,null,null,null,null,null,null,null,null,null,null,null,null,null,null,null,null,0,0,1,0,"WWN","£m",1,"See comment row 470. Expected to be delivered by target date."]
["KSL00740",null,null,null,null,"WQ","South East","Kent South London and East Sussex","Southern Water Services Ltd","7SO400174","Station Road Robertsbridge","Glottenham Stream","GB107040013430","River","Rother Levels",null,null,null,"U_INV",null,null,null,null,null,"Investigation and Options Appraisal","2025-03-31","Green","K02081",573640,123540,null,null,null,null,null,null,null,null,null,null,null,null,null,null,null,null,null,null,null,null,null,null,null,null,null,null,null,null,null,null,null,null,null,null,null,null,null,null,null,null,null,null,null,null,null,null,null,null,null,null,null,null,null,null,null,null,null,null,null,null,null,null,null,null,null,0,0,1,0,"WWN","£m",1,"See comment row 470. Expected to be delivered by target date."]
["KSL00741",null,null,null,null,"WQ","South East","Kent South London and East Sussex","Southern Water Services Ltd","7SO400175","St Margaret’s Terrace Rye CEO","Tillingham","GB107040013560","River","Brede and Tillingham",null,null,null,"U_INV",null,null,null,null,null,"Investigation and Options Appraisal","2025-03-31","Green","NPSWQD010087",591927,120122,null,null,null,null,null,null,null,null,null,null,null,null,null,null,null,null,null,null,null,null,null,null,null,null,null,null,null,null,null,null,null,null,null,null,null,null,null,null,null,null,null,null,null,null,null,null,null,null,null,null,null,null,null,null,null,null,null,null,null,null,null,null,null,null,null,0,0,1,0,"WWN","£m",1,"See comment row 470. Expected to be delivered by target date."]
["KSL00742",null,null,null,null,"WQ","South East","Kent South London and East Sussex","Southern Water Services Ltd","7SO400176","Penshurst WTW","Mid Medway from Eden Confluence to Yalding","GB106040018182","River","Medway Middle",null,null,null,"U_INV",null,null,null,null,null,"Investigation and Options Appraisal","2025-03-31","Green","W00026",553252,143715,null,null,null,null,null,null,null,null,null,null,null,null,null,null,null,null,null,null,null,null,null,null,null,null,null,null,null,null,null,null,null,null,null,null,null,null,null,null,null,null,null,null,null,null,null,null,null,null,null,null,null,null,null,null,null,null,null,null,null,null,null,null,null,null,null,0,0,1,0,"WWN","£m",1,"See comment row 470. Expected to be delivered by target date."]
["KSL00743",null,null,null,null,"WQ","South East","Kent South London and East Sussex","Southern Water Services Ltd","7SO400177","FRANT WTW","Bartley Mill Stream","GB106040018240","River","Teise",null,null,null,"U_INV",null,null,null,null,null,"Investigation and Options Appraisal","2025-03-31","Green","W00019",560160,133600,null,null,null,null,null,null,null,null,null,null,null,null,null,null,null,null,null,null,null,null,null,null,null,null,null,null,null,null,null,null,null,null,null,null,null,null,null,null,null,null,null,null,null,null,null,null,null,null,null,null,null,null,null,null,null,null,null,null,null,null,null,null,null,null,null,0,0,1,0,"WWN","£m",1,"See comment row 470. Expected to be delivered by target date."]
["KSL00744",null,null,null,null,"WQ","Thames","Kent South London and East Sussex","Southern Water Services Ltd","7SO400178","TUNBRIDGE WELLS SOUTH WTW","Grom","GB106040018400","River","Medway Upper",null,null,null,"U_INV",null,null,null,null,null,"Investigation and Options Appraisal","2025-03-31","Green","A00200",552690,137420,null,null,null,null,null,null,null,null,null,null,null,null,null,null,null,null,null,null,null,null,null,null,null,null,null,null,null,null,null,null,null,null,null,null,null,null,null,null,null,null,null,null,null,null,null,null,null,null,null,null,null,null,null,null,null,null,null,null,null,null,null,null,null,null,null,0,0,1,0,"WWN","£m",1,"See comment row 470. Expected to be delivered by target date."]
["SSD00973",null,null,null,null,"WQ","South East","Solent and South Downs","Southern Water Services Ltd","7SO400179","Barnetts Bridge Graffam WPS","Western Rother","GB107041012810","River","Rother Western ",null,null,null,"U_INV",null,null,null,null,null,"Investigation and Options Appraisal","2025-03-31","Green","A00017",494100,119160,null,null,null,null,null,null,null,null,null,null,null,null,null,null,null,null,null,null,null,null,null,null,null,null,null,null,null,null,null,null,null,null,null,null,null,null,null,null,null,null,null,null,null,null,null,null,null,null,null,null,null,null,null,null,null,null,null,null,null,null,null,null,null,null,null,0,0,1,0,"WWN","£m",1,"See comment row 470. Expected to be delivered by target date."]
["SSD00974",null,null,null,null,"WQ","South East","Solent and South Downs","Southern Water Services Ltd","7SO400180","Brockenhurst WTW ","Lymington River","GB107042011220","River","New Forest - Lymington and Beaulieu",null,null,null,"U_INV",null,null,null,null,null,"Investigation and Options Appraisal","2025-03-31","Green","W00311",430900,102600,null,null,null,null,null,null,null,null,null,null,null,null,null,null,null,null,null,null,null,null,null,null,null,null,null,null,null,null,null,null,null,null,null,null,null,null,null,null,null,null,null,null,null,null,null,null,null,null,null,null,null,null,null,null,null,null,null,null,null,null,null,null,null,null,null,0,0,1,0,"WWN","£m",1,"See comment row 470. Expected to be delivered by target date."]
["SSD00975",null,null,null,null,"WQ","South East","Solent and South Downs","Southern Water Services Ltd","7SO400181","Goddards Green WTW","Adur East (Goddards Green)","GB107041012210","River","Adur Upper",null,null,null,"U_INV",null,null,null,null,null,"Investigation and Options Appraisal","2025-03-31","Green","A00576",528802,120568,null,null,null,null,null,null,null,null,null,null,null,null,null,null,null,null,null,null,null,null,null,null,null,null,null,null,null,null,null,null,null,null,null,null,null,null,null,null,null,null,null,null,null,null,null,null,null,null,null,null,null,null,null,null,null,null,null,null,null,null,null,null,null,null,null,0,0,1,0,"WWN","£m",1,"See comment row 470. Expected to be delivered by target date."]
["SSD00976",null,null,null,null,"WQ","South East","Solent and South Downs","Southern Water Services Ltd","7SO400182","Grayswood WTW","Loxwood/Chiddingfold Trib","GB107041017960","River","Arun Upper",null,null,null,"U_INV",null,null,null,null,null,"Investigation and Options Appraisal","2025-03-31","Green","A01480",492380,134430,null,null,null,null,null,null,null,null,null,null,null,null,null,null,null,null,null,null,null,null,null,null,null,null,null,null,null,null,null,null,null,null,null,null,null,null,null,null,null,null,null,null,null,null,null,null,null,null,null,null,null,null,null,null,null,null,null,null,null,null,null,null,null,null,null,0,0,1,0,"WWN","£m",1,"See comment row 470. Expected to be delivered by target date."]
["SSD00977",null,null,null,null,"WQ","South East","Solent and South Downs","Southern Water Services Ltd","7SO400183","Heathen Lane Durley WPS","Horton Heath Stream","GB107042016270","River","East Hampshire Rivers",null,null,null,"U_INV",null,null,null,null,null,"Investigation and Options Appraisal","2025-03-31","Green","A01367",451520,115880,null,null,null,null,null,null,null,null,null,null,null,null,null,null,null,null,null,null,null,null,null,null,null,null,null,null,null,null,null,null,null,null,null,null,null,null,null,null,null,null,null,null,null,null,null,null,null,null,null,null,null,null,null,null,null,null,null,null,null,null,null,null,null,null,null,0,0,1,0,"WWN","£m",1,"See comment row 470. Expected to be delivered by target date."]
["SSD00978",null,null,null,null,"WQ","South East","Solent and South Downs","Southern Water Services Ltd","7SO400184","Rookley WPS","Medina","GB107101005990","River","Isle of Wight Rivers",null,null,null,"U_INV",null,null,null,null,null,"Investigation and Options Appraisal","2025-03-31","Green","A00673",451000,84100,null,null,null,null,null,null,null,null,null,null,null,null,null,null,null,null,null,null,null,null,null,null,null,null,null,null,null,null,null,null,null,null,null,null,null,null,null,null,null,null,null,null,null,null,null,null,null,null,null,null,null,null,null,null,null,null,null,null,null,null,null,null,null,null,null,0,0,1,0,"WWN","£m",1,"See comment row 470. Expected to be delivered by target date."]
["SSD00979",null,null,null,null,"WQ","South East","Solent and South Downs","Southern Water Services Ltd","7SO400185","Pulborough WTW","Arun","GB540704105000","Transitional","Arun Lower TraC",null,null,null,"U_INV",null,null,null,null,null,"Investigation and Options Appraisal","2025-03-31","Green","A00020",506180,118140,null,null,null,null,null,null,null,null,null,null,null,null,null,null,null,null,null,null,null,null,null,null,null,null,null,null,null,null,null,null,null,null,null,null,null,null,null,null,null,null,null,null,null,null,null,null,null,null,null,null,null,null,null,null,null,null,null,null,null,null,null,null,null,null,null,0,0,1,0,"WWN","£m",1,"See comment row 470. Expected to be delivered by target date."]
["SSD00980",null,null,null,null,"WQ","South East","Solent and South Downs","Southern Water Services Ltd","7SO400186","Stockbridge WTW ","Test - conf Anton to conf Dun","GB107042022670","River","Test Upper and Middle",null,null,null,"U_INV",null,null,null,null,null,"Investigation and Options Appraisal","2025-03-31","Green","W00241",435340,134440,null,null,null,null,null,null,null,null,null,null,null,null,null,null,null,null,null,null,null,null,null,null,null,null,null,null,null,null,null,null,null,null,null,null,null,null,null,null,null,null,null,null,null,null,null,null,null,null,null,null,null,null,null,null,null,null,null,null,null,null,null,null,null,null,null,0,0,1,0,"WWN","£m",1,"See comment row 470. Expected to be delivered by target date."]
["SSD00981",null,null,null,null,"WQ","South East","Solent and South Downs","Southern Water Services Ltd","7SO400187","Ham Lane Lewes New WPS","Ouse","GB540704104900","Transitional","Ouse Lower",null,null,null,"U_INV",null,null,null,null,null,"Investigation and Options Appraisal","2025-03-31","Green","A0757",542280,109182,null,null,null,null,null,null,null,null,null,null,null,null,null,null,null,null,null,null,null,null,null,null,null,null,null,null,null,null,null,null,null,null,null,null,null,null,null,null,null,null,null,null,null,null,null,null,null,null,null,null,null,null,null,null,null,null,null,null,null,null,null,null,null,null,null,0,0,1,0,"WWN","£m",1,"See comment row 470. Expected to be delivered by target date."]
["SSD00982",null,null,null,null,"WQ","South East","Solent and South Downs","Southern Water Services Ltd","7SO400188","Marine Drive Brighton - TraC","Sussex ","GB640704540003","Coastal","Sussex TraC",null,null,null,"U_INV",null,null,null,null,null,"Investigation and Options Appraisal","2025-03-31","Green","A01241",533604,103357,null,null,null,null,null,null,null,null,null,null,null,null,null,null,null,null,null,null,null,null,null,null,null,null,null,null,null,null,null,null,null,null,null,null,null,null,null,null,null,null,null,null,null,null,null,null,null,null,null,null,null,null,null,null,null,null,null,null,null,null,null,null,null,null,null,0,0,1,0,"WWN","£m",1,"See comment row 470. Expected to be delivered by target date."]
["SSD00983",null,null,null,null,"WQ","South East","Solent and South Downs","Southern Water Services Ltd","7SO400189","The Spots Alfriston PS","River Cuckmere","GB540704104800","River","Transitional Water",null,null,null,"U_INV",null,null,null,null,null,"Investigation and Options Appraisal","2025-03-31","Green","A00727",552190,103100,null,null,null,null,null,null,null,null,null,null,null,null,null,null,null,null,null,null,null,null,null,null,null,null,null,null,null,null,null,null,null,null,null,null,null,null,null,null,null,null,null,null,null,null,null,null,null,null,null,null,null,null,null,null,null,null,null,null,null,null,null,null,null,null,null,0,0,1,0,"WWN","£m",1,"See comment row 470. Expected to be delivered by target date."]
["SSD00984",null,null,null,null,"WQ","South East","Solent and South Downs","Southern Water Services Ltd","7SO400190","DANEHILL WTW","Sheffield Park Stream","GB107041013000","River","Ouse Upper",null,null,null,"U_INV",null,null,null,null,null,"Investigation and Options Appraisal","2025-03-31","Green","W00377",540810,127350,null,null,null,null,null,null,null,null,null,null,null,null,null,null,null,null,null,null,null,null,null,null,null,null,null,null,null,null,null,null,null,null,null,null,null,null,null,null,null,null,null,null,null,null,null,null,null,null,null,null,null,null,null,null,null,null,null,null,null,null,null,null,null,null,null,0,0,1,0,"WWN","£m",1,"See comment row 470. Expected to be delivered by target date."]
["SSD00985",null,null,null,null,"WQ","South East","Solent and South Downs","Southern Water Services Ltd","7SO400191","LAVANT WTW","Lavant (Sussex)","GB107041006520","River","Western Streams",null,null,null,"U_INV",null,null,null,null,null,"Investigation and Options Appraisal","2025-03-31","Green","W00359",486459,107921,null,null,null,null,null,null,null,null,null,null,null,null,null,null,null,null,null,null,null,null,null,null,null,null,null,null,null,null,null,null,null,null,null,null,null,null,null,null,null,null,null,null,null,null,null,null,null,null,null,null,null,null,null,null,null,null,null,null,null,null,null,null,null,null,null,0,0,1,0,"WWN","£m",1,"See comment row 470. Expected to be delivered by target date."]
["SSD00986",null,null,null,null,"WQ","South East","Solent and South Downs","Southern Water Services Ltd","7SO400192","Newhaven Main STW","Sussex","GB640704540003","Coastal","Sussex TraC",null,null,null,"U_INV",null,null,null,null,null,"Investigation and Options Appraisal","2025-03-31","Green","A00755",545197,100749,null,null,null,null,null,null,null,null,null,null,null,null,null,null,null,null,null,null,null,null,null,null,null,null,null,null,null,null,null,null,null,null,null,null,null,null,null,null,null,null,null,null,null,null,null,null,null,null,null,null,null,null,null,null,null,null,null,null,null,null,null,null,null,null,null,0,0,1,0,"WWN","£m",1,"See comment row 470. Expected to be delivered by target date."]
["THM00790",null,null,null,null,"WQ","South East","Thames","Southern Water Services Ltd","7SO400193","REDGATE MILL CROWBOROUGH WTW","Eridge Stream","GB106040018390","River","Medway Upper",null,null,null,"U_INV",null,null,null,null,null,"Investigation and Options Appraisal","2025-03-31","Green","W00479",555230,132520,null,null,null,null,null,null,null,null,null,null,null,null,null,null,null,null,null,null,null,null,null,null,null,null,null,null,null,null,null,null,null,null,null,null,null,null,null,null,null,null,null,null,null,null,null,null,null,null,null,null,null,null,null,null,null,null,null,null,null,null,null,null,null,null,null,0,0,1,0,"WWN","£m",1,"See comment row 470. Expected to be delivered by target date."]
["SSD00030",null,null,null,null,"WQ","South East","Pan Area","Southern Water Services Ltd","7SO200195","Southern Water PR19 bathing water requirements","Water Company Scale","Water Company Scale","Water Company Scale","Water Company Scale",null,null,null,"BW_INV1",null,null,null,null,null,"Investigation ","2022-09-30","Green",null,null,null,null,null,null,null,null,null,null,null,null,null,null,null,null,null,null,null,null,null,null,null,null,null,null,null,null,null,null,null,null,null,null,null,null,null,null,null,null,null,null,null,null,null,null,null,null,null,null,null,null,null,null,null,null,null,null,null,null,null,null,null,null,null,null,null,null,null,null,null,null,null,null,null,"Holding line - Removed as no longer required. No changes to schemes from original WINEP."]
["SSD00031",null,null,null,null,"WQ","South East","Pan Area","Southern Water Services Ltd","7SO200196","Southern Water PR19 bathing water requirements","Water Company Scale","Water Company Scale","Water Company Scale","Water Company Scale",null,null,null,"BW_INV2",null,null,null,null,null,"Investigation ","2022-09-30","Green",null,null,null,null,null,null,null,null,null,null,null,null,null,null,null,null,null,null,null,null,null,null,null,null,null,null,null,null,null,null,null,null,null,null,null,null,null,null,null,null,null,null,null,null,null,null,null,null,null,null,null,null,null,null,null,null,null,null,null,null,null,null,null,null,null,null,null,null,null,null,null,null,null,null,null,"Holding line - Removed as no longer required. No changes to schemes from original WINEP."]
["SSD00032",null,null,null,null,"WQ","South East","Pan Area","Southern Water Services Ltd","7SO200197","Southern Water PR19 bathing water requirements","Water Company Scale","Water Company Scale","Water Company Scale","Water Company Scale",null,null,null,"BW_INV3",null,null,null,null,null,"Investigation ","2022-09-30","Green",null,null,null,null,null,null,null,null,null,null,null,null,null,null,null,null,null,null,null,null,null,null,null,null,null,null,null,null,null,null,null,null,null,null,null,null,null,null,null,null,null,null,null,null,null,null,null,null,null,null,null,null,null,null,null,null,null,null,null,null,null,null,null,null,null,null,null,null,null,null,null,null,null,null,null,"Holding line - Removed as no longer required. We're unable to calculate the unit rate allowance for this holding line. "]
["SSD00033",null,null,null,null,"WQ","South East","Pan Area","Southern Water Services Ltd","7SO200198","Southern Water PR19 bathing water requirements","Water Company Scale","Water Company Scale","Water Company Scale","Water Company Scale",null,null,null,"BW_INV4",null,null,null,null,null,"Investigation ","2021-09-30","Green",null,null,null,null,null,null,null,null,null,null,null,null,null,null,null,null,null,null,null,null,null,null,null,null,null,null,null,null,null,null,null,null,null,null,null,null,null,null,null,null,null,null,null,null,null,null,null,null,null,null,null,null,null,null,null,null,null,null,null,null,null,null,null,null,null,null,null,null,null,null,null,null,null,null,null,"Holding line - Removed as no longer required. No changes to schemes from original WINEP."]
["SSD00036",null,null,null,null,"WQ","South East","Pan Area","Southern Water Services Ltd","7SO200201","Southern Water PR19 bathing water requirements","Water Company Scale","Water Company Scale","Water Company Scale","Water Company Scale",null,null,null,"BW_NDINV",null,null,null,null,null,null,"2022-09-30","Green",null,null,null,null,null,null,null,null,null,null,null,null,null,null,null,null,null,null,null,null,null,null,null,null,null,null,null,null,null,null,null,null,null,null,null,null,null,null,null,null,null,null,null,null,null,null,null,null,null,null,null,null,null,null,null,null,null,null,null,null,null,null,null,null,null,null,null,null,null,null,null,null,null,null,null,"Holding line - Removed as no longer required. No changes to schemes from original WINEP."]
["SSD00039",null,null,null,null,"WQ","South East","Pan Area","Southern Water Services Ltd","7SO200204","Southern Water PR19 shellfish water requirements","Water Company Scale","Water Company Scale","Water Company Scale","Water Company Scale",null,null,null,"SW_INV2",null,null,null,null,null,"Investigation ","2021-09-30","Green",null,null,null,null,null,null,null,null,null,null,null,null,null,null,null,null,null,null,null,null,null,null,null,null,null,null,null,null,null,null,null,null,null,null,null,null,null,null,null,null,null,null,null,null,null,null,null,null,null,null,null,null,null,null,null,null,null,null,null,null,null,null,null,null,null,null,null,null,null,null,null,null,null,null,null,"Holding line - Removed as no longer required. We're unable to calculate the unit rate allowance for this holding line. "]
["EDM01143",null,null,null,null,"WQ","South East","Pan Area","Southern Water Services Ltd","7SO200199","Southern Water PR19 bathing water requirements","Water Company Scale","Water Company Scale","Water Company Scale","Water Company Scale",null,null,null,"BW_MON",null,null,null,null,null,"Intermittent Discharge","2021-03-31","Green",null,null,null,null,null,null,null,null,null,null,null,null,null,null,null,null,null,null,null,null,null,null,null,null,null,null,null,null,null,null,null,null,null,null,null,null,null,null,null,null,null,null,null,null,null,null,null,null,null,null,null,null,null,null,null,null,null,null,null,null,null,null,null,null,null,null,null,null,null,null,null,null,null,null,null,"Holding line - Removed as no longer required. No changes to schemes from original WINEP."]
["EDM01144",null,null,null,null,"WQ","South East","Pan Area","Southern Water Services Ltd","7SO200205","Southern Water PR19 shellfish water requirements","Water Company Scale","Water Company Scale","Water Company Scale","Water Company Scale",null,null,null,"SW_MON",null,null,null,null,null,"Intermittent Discharge","2021-03-31","Green",null,null,null,null,null,null,null,null,null,null,null,null,null,null,null,null,null,null,null,null,null,null,null,null,null,null,null,null,null,null,null,null,null,null,null,null,null,null,null,null,null,null,null,null,null,null,null,null,null,null,null,null,null,null,null,null,null,null,null,null,null,null,null,null,null,null,null,null,null,null,null,null,null,null,null,"Holding line - Removed as no longer required. No changes to schemes from original WINEP."]
["SSD00573",null,null,null,null,"WQ","South East","Pan Area","Southern Water Services Ltd","7SO300451","Southern Water PR19 flow requirements","Water Company Scale","Water Company Scale","Water Company Scale","Water Company Scale",null,null,null,"U_MON4",null,null,null,null,null,"Intermittent Discharge","2025-03-31","Green",null,null,null,null,null,null,null,null,null,null,null,null,null,null,null,null,null,null,null,null,null,null,null,null,null,null,null,null,null,null,null,null,null,null,null,null,null,null,null,null,null,null,null,null,null,null,null,null,null,null,null,null,null,null,null,null,null,null,null,null,null,null,null,null,null,null,null,null,null,null,null,null,null,null,null,"Holding line - Removed as no longer required. We're unable to calculate the unit rate allowance for this holding line. "]
["SSD00027",null,null,null,null,"WQ","South East","Pan Area","Southern Water Services Ltd","7SO200192","Southern Water PR19 bathing water requirements","Water Company Scale","Water Company Scale","Water Company Scale","Water Company Scale",null,null,null,"BW_IMP1",null,null,null,null,null,null,"2021-03-31","Green",null,null,null,null,null,null,null,null,null,null,null,null,null,null,null,null,null,null,null,null,null,null,null,null,null,null,null,null,null,null,null,null,null,null,null,null,null,null,null,null,null,null,null,null,null,null,null,null,null,null,null,null,null,null,null,null,null,null,null,null,null,null,null,null,null,null,null,null,null,null,null,null,null,null,null,"Holding line - Removed as no longer required. We're unable to calculate the unit rate allowance for this holding line. "]
["SSD00028",null,null,null,null,"WQ","South East","Pan Area","Southern Water Services Ltd","7SO200193","Southern Water PR19 bathing water requirements","Water Company Scale","Water Company Scale","Water Company Scale","Water Company Scale",null,null,null,"BW_IMP2",null,null,null,null,null,null,"2021-03-31","Green",null,null,null,null,null,null,null,null,null,null,null,null,null,null,null,null,null,null,null,null,null,null,null,null,null,null,null,null,null,null,null,null,null,null,null,null,null,null,null,null,null,null,null,null,null,null,null,null,null,null,null,null,null,null,null,null,null,null,null,null,null,null,null,null,null,null,null,null,null,null,null,null,null,null,null,"Holding line - Removed as no longer required. We're unable to calculate the unit rate allowance for this holding line. "]
["SSD00029",null,null,null,null,"WQ","South East","Pan Area","Southern Water Services Ltd","7SO200194","Southern Water PR19 bathing water requirements","Water Company Scale","Water Company Scale","Water Company Scale","Water Company Scale",null,null,null,"BW_IMP3",null,null,null,null,null,null,"2025-03-31","Green",null,null,null,null,null,null,null,null,null,null,null,null,null,null,null,null,null,null,null,null,null,null,null,null,null,null,null,null,null,null,null,null,null,null,null,null,null,null,null,null,null,null,null,null,null,null,null,null,null,null,null,null,null,null,null,null,null,null,null,null,null,null,null,null,null,null,null,null,null,null,null,null,null,null,null,"Holding line - Removed as no longer required. We're unable to calculate the unit rate allowance for this holding line. "]
["SSD00035",null,null,null,null,"WQ","South East","Pan Area","Southern Water Services Ltd","7SO200200","Southern Water PR19 bathing water requirements","Water Company Scale","Water Company Scale","Water Company Scale","Water Company Scale",null,null,null,"BW_ND",null,null,null,null,null,null,"2022-03-31","Green",null,null,null,null,null,null,null,null,null,null,null,null,null,null,null,null,null,null,null,null,null,null,null,null,null,null,null,null,null,null,null,null,null,null,null,null,null,null,null,null,null,null,null,null,null,null,null,null,null,null,null,null,null,null,null,null,null,null,null,null,null,null,null,null,null,null,null,null,null,null,null,null,null,null,null,"Holding line - Removed as no longer required. We're unable to calculate the unit rate allowance for this holding line. "]

{"sheet":"InpActive","index":8,"n_rows":48,"n_cols":19,"rows_kept":48,"cut":false,"hidden":false,"merged":[]}
[{"$f":" RIGHT(CELL(\"filename\", $A$1), LEN(CELL(\"filename\", $A$1)) - SEARCH(\"]\", CELL(\"filename\", $A$1)))","v":{"$error":"#VALUE!"}}]
[null,null,null,null,{"$f":"Time!E25","v":"Model period ending"},{"$f":"Check!F2","v":0},"Checks",null,null,{"$f":" Time!J$25","v":"2019-03-31"},{"$f":" Time!K$25","v":"2020-03-31"},{"$f":" Time!L$25","v":"2021-03-31"},{"$f":" Time!M$25","v":"2022-03-31"},{"$f":" Time!N$25","v":"2023-03-31"},{"$f":" Time!O$25","v":"2024-03-31"},{"$f":" Time!P$25","v":"2025-03-31"},{"$f":" Time!Q$25","v":"2026-03-31"},{"$f":" Time!R$25","v":"2027-03-31"},{"$f":" Time!S$25","v":"2028-03-31"}]
[null,null,null,null,{"$f":"Time!E107","v":"Timeline label"},{"$f":"Check!F3","v":3},"Track chgs",null,null,{"$f":" Time!J$107","v":"Pre-Fcst"},{"$f":" Time!K$107","v":"Pre-Fcst"},{"$f":" Time!L$107","v":"Forecast"},{"$f":" Time!M$107","v":"Forecast"},{"$f":" Time!N$107","v":"Forecast"},{"$f":" Time!O$107","v":"Forecast"},{"$f":" Time!P$107","v":"Forecast"},{"$f":" Time!Q$107","v":"Post-Fcst"},{"$f":" Time!R$107","v":"Post-Fcst"},{"$f":" Time!S$107","v":"Post-Fcst"}]
[null,null,null,null,{"$f":"Time!E130","v":"Financial year ending"},null,null,null,null,{"$f":" Time!J$130","v":2019},{"$f":" Time!K$130","v":2020},{"$f":" Time!L$130","v":2021},{"$f":" Time!M$130","v":2022},{"$f":" Time!N$130","v":2023},{"$f":" Time!O$130","v":2024},{"$f":" Time!P$130","v":2025},{"$f":" Time!Q$130","v":2026},{"$f":" Time!R$130","v":2027},{"$f":" Time!S$130","v":2028}]
[null,null,null,null,{"$f":"Time!E10","v":"Model column counter"},"Constant","Unit","Total",null,{"$f":" Time!J$10","v":1},{"$f":" Time!K$10","v":2},{"$f":" Time!L$10","v":3},{"$f":" Time!M$10","v":4},{"$f":" Time!N$10","v":5},{"$f":" Time!O$10","v":6},{"$f":" Time!P$10","v":7},{"$f":" Time!Q$10","v":8},{"$f":" Time!R$10","v":9},{"$f":" Time!S$10","v":10}]
[]
["A: TIME"]
[]
[null,"Timeline setup"]
[]
[null,null,"Timeline start dates"]
[null,null,null,null,"1st model column start date","2018-04-01","date","Date should be the first date of the financial year"]
[]
[null,null,"Financial year inputs"]
[null,null,null,null,"First modelling column financial year #",2019,"year #","Financial model start year"]
[null,null,null,null,"Financial year end month number #",3,"month #","Month of financial year end for financial model"]
[]
[null,null,"Timeline labels"]
[null,null,null,null,"Pre - forecast period","Pre-Fcst","label"]
[null,null,null,null,"Forecast period","Forecast","label"]
[null,null,null,null,"Post - forecast period","Post-Fcst","label"]
[]
[null,"Project dates"]
[]
[null,null,null,null,"Forecast start date","2020-04-01","date"]
[null,null,null,null,"Forecast duration",5,"years"]
[null,null,null,null,"Forecast duration (text)","2020-25","years #","For Info only"]
[]
[null,null,null,null,"Forecast period reconcilation is profiled from",3,"year"]
[]
["B: FINANCING INPUTS"]
[]
[null,null,null,null,"Financing cost index",null,"Index",null,null,null,null,4,3,2,1,0]
[]
[null,null,null,null,"Financing Cost",2.92E-2,"%"]
[]
["C: NON CHANGEABLE MODEL TECHNICAL INPUTS"]
[]
[null,null,null,null,"Months per model period",12,"months"]
[]
[null,null,null,null,"Track Tolerance Level",1E-3,"tolerance"]
[null,null,null,null,"Check Tolerance Level",9.9999999999999995E-8,"tolerance"]
[]
[null,null,null,null,"Thousands in a million",1000,"thousands"]
[null,null,null,null,"Units in a million",1000000,"unit"]
[null,null,null,null,"Unit conversion to percentage",100,"unit"]
[]
["End of sheet"]

{"sheet":"Calcs >>","index":9,"n_rows":0,"n_cols":0,"rows_kept":0,"cut":false,"hidden":false,"merged":[]}

{"sheet":"WINEP_Schemes","index":10,"n_rows":562,"n_cols":14,"rows_kept":562,"cut":false,"hidden":false,"merged":[]}
[{"$f":" RIGHT(CELL(\"filename\", $A$1), LEN(CELL(\"filename\", $A$1)) - SEARCH(\"]\", CELL(\"filename\", $A$1)))","v":{"$error":"#VALUE!"}}]
[null,null,null,null,null,{"$f":" Check!F2","v":0},"Checks"]
[null,null,null,null,null,{"$f":" Check!F3","v":3},"Track chgs"]
[]
["AMBER WINEP SCHEMES"]
[]
[null,null,"List of WINEP schemes that were unconfirmed at FD"]
[]
[null,null,"WINEPID","Unique ID","Scheme category / name","Unit","Unit Conversion to £m",null,"Allowed totex unit rate","Quantity in PR19 FD","Quantity Delivered","1 = In FD, funded\n0 = In FD, not funded","Price Control","Proportion Confirmed"]
[null,null,{"$f":" WINEP_Inputs!A5","v":"SSD00101"},{"$f":" WINEP_Inputs!J5","v":"7SO200246"},{"$f":" WINEP_Inputs!K5","v":"ANDOVER (ANTON AND PILLHILL BROOK RSA)"},{"$f":"WINEP_Inputs!CW5","v":"£m per scheme"},{"$f":"WINEP_Inputs!CX5","v":1},null,{"$f":" WINEP_Inputs!CR5","v":9.8000000000000004E-2},{"$f":" WINEP_Inputs!CS5","v":1},{"$f":" WINEP_Inputs!CT5","v":1},{"$f":" WINEP_Inputs!CU5","v":1},{"$f":" WINEP_Inputs!CV5","v":"WR"},{"$f":" IF(K10 = 0, 0, K10 / J10)","v":1}]
[null,null,{"$f":" WINEP_Inputs!A6","v":"SSD00109"},{"$f":" WINEP_Inputs!J6","v":"7SO1000193"},{"$f":" WINEP_Inputs!K6","v":"CARISBROOKE (PLAISH MEADOWS AND LUKELY BROOK RSA)"},{"$f":"WINEP_Inputs!CW6","v":"£m per scheme"},{"$f":"WINEP_Inputs!CX6","v":1},null,{"$f":" WINEP_Inputs!CR6","v":9.8000000000000004E-2},{"$f":" WINEP_Inputs!CS6","v":1},{"$f":" WINEP_Inputs!CT6","v":1},{"$f":" WINEP_Inputs!CU6","v":1},{"$f":" WINEP_Inputs!CV6","v":"WR"},1]
[null,null,{"$f":" WINEP_Inputs!A7","v":"SSD00110"},{"$f":" WINEP_Inputs!J7","v":"7SO1000194"},{"$f":" WINEP_Inputs!K7","v":"BOWCOMBE (PLAISH MEADOWS AND LUKELY BROOK RSA) "},{"$f":"WINEP_Inputs!CW7","v":"£m per scheme"},{"$f":"WINEP_Inputs!CX7","v":1},null,{"$f":" WINEP_Inputs!CR7","v":9.8000000000000004E-2},{"$f":" WINEP_Inputs!CS7","v":1},{"$f":" WINEP_Inputs!CT7","v":1},{"$f":" WINEP_Inputs!CU7","v":1},{"$f":" WINEP_Inputs!CV7","v":"WR"},1]
[null,null,{"$f":" WINEP_Inputs!A8","v":"SSD00177"},{"$f":" WINEP_Inputs!J8","v":"7SO200256"},{"$f":" WINEP_Inputs!K8","v":"Investigation to determine the costs and technical feasibility of reaching or maintaining revised CSMG water quality targets for the Lymington River SSSI. "},{"$f":"WINEP_Inputs!CW8","v":"£m"},{"$f":"WINEP_Inputs!CX8","v":1},null,{"$f":" WINEP_Inputs!CR8","v":0.114},{"$f":" WINEP_Inputs!CS8","v":1},{"$f":" WINEP_Inputs!CT8","v":1},{"$f":" WINEP_Inputs!CU8","v":1},{"$f":" WINEP_Inputs!CV8","v":"WWN"},1]
[null,null,{"$f":" WINEP_Inputs!A9","v":"SSD00199"},{"$f":" WINEP_Inputs!J9","v":"7SO200272"},{"$f":" WINEP_Inputs!K9","v":"River Itchen Wetlands"},{"$f":"WINEP_Inputs!CW9","v":"£m per scheme"},{"$f":"WINEP_Inputs!CX9","v":1},null,{"$f":" WINEP_Inputs!CR9","v":0.11},{"$f":" WINEP_Inputs!CS9","v":1},{"$f":" WINEP_Inputs!CT9","v":1},{"$f":" WINEP_Inputs!CU9","v":1},{"$f":" WINEP_Inputs!CV9","v":"WR"},1]
[null,null,{"$f":" WINEP_Inputs!A10","v":"SSD00202"},{"$f":" WINEP_Inputs!J10","v":"7SO200274"},{"$f":" WINEP_Inputs!K10","v":"River Itchen Southern Damselfly investigation/options appraisal"},{"$f":"WINEP_Inputs!CW10","v":"£m per scheme"},{"$f":"WINEP_Inputs!CX10","v":1},null,{"$f":" WINEP_Inputs!CR10","v":0.11},{"$f":" WINEP_Inputs!CS10","v":1},{"$f":" WINEP_Inputs!CT10","v":1},{"$f":" WINEP_Inputs!CU10","v":1},{"$f":" WINEP_Inputs!CV10","v":"WR"},1]
[null,null,{"$f":" WINEP_Inputs!A11","v":"SSD00327"},{"$f":" WINEP_Inputs!J11","v":"7SO200340"},{"$f":" WINEP_Inputs!K11","v":"Buriton WWTW"},{"$f":"WINEP_Inputs!CW11","v":"£m"},{"$f":"WINEP_Inputs!CX11","v":1},null,{"$f":" WINEP_Inputs!CR11","v":1.1659999999999999},{"$f":" WINEP_Inputs!CS11","v":1},{"$f":" WINEP_Inputs!CT11","v":1},{"$f":" WINEP_Inputs!CU11","v":1},{"$f":" WINEP_Inputs!CV11","v":"WWN"},{"$f":" IF(K16 = 0, 0, K16 / J16)","v":1}]
[null,null,{"$f":" WINEP_Inputs!A12","v":"SSD00396"},{"$f":" WINEP_Inputs!J12","v":"7SO200409"},{"$f":" WINEP_Inputs!K12","v":"Chiddingfold WWTW"},{"$f":"WINEP_Inputs!CW12","v":"£m"},{"$f":"WINEP_Inputs!CX12","v":1},null,{"$f":" WINEP_Inputs!CR12","v":1.1659999999999999},{"$f":" WINEP_Inputs!CS12","v":1},{"$f":" WINEP_Inputs!CT12","v":1},{"$f":" WINEP_Inputs!CU12","v":1},{"$f":" WINEP_Inputs!CV12","v":"WWN"},1]
[null,null,{"$f":" WINEP_Inputs!A13","v":"SSD00334"},{"$f":" WINEP_Inputs!J13","v":"7SO200347"},{"$f":" WINEP_Inputs!K13","v":"Ashington WWTW"},{"$f":"WINEP_Inputs!CW13","v":"£m"},{"$f":"WINEP_Inputs!CX13","v":1},null,{"$f":" WINEP_Inputs!CR13","v":180.98836241500001},{"$f":" WINEP_Inputs!CS13","v":1},{"$f":" WINEP_Inputs!CT13","v":1},{"$f":" WINEP_Inputs!CU13","v":1},{"$f":" WINEP_Inputs!CV13","v":"WWN"},1]
[null,null,{"$f":" WINEP_Inputs!A14","v":"SSD00335"},{"$f":" WINEP_Inputs!J14","v":"7SO200348"},{"$f":" WINEP_Inputs!K14","v":"Balcombe WWTW"},{"$f":"WINEP_Inputs!CW14","v":"£m"},{"$f":"WINEP_Inputs!CX14","v":1},null,{"$f":" WINEP_Inputs!CR14","v":0},{"$f":" WINEP_Inputs!CS14","v":1},{"$f":" WINEP_Inputs!CT14","v":1},{"$f":" WINEP_Inputs!CU14","v":1},{"$f":" WINEP_Inputs!CV14","v":"WWN"},1]
[null,null,{"$f":" WINEP_Inputs!A15","v":"SSD00336"},{"$f":" WINEP_Inputs!J15","v":"7SO200349"},{"$f":" WINEP_Inputs!K15","v":"Barcombe New WWTW"},{"$f":"WINEP_Inputs!CW15","v":"£m"},{"$f":"WINEP_Inputs!CX15","v":1},null,{"$f":" WINEP_Inputs!CR15","v":0},{"$f":" WINEP_Inputs!CS15","v":1},{"$f":" WINEP_Inputs!CT15","v":1},{"$f":" WINEP_Inputs!CU15","v":1},{"$f":" WINEP_Inputs!CV15","v":"WWN"},1]
[null,null,{"$f":" WINEP_Inputs!A16","v":"SSD00338"},{"$f":" WINEP_Inputs!J16","v":"7SO200351"},{"$f":" WINEP_Inputs!K16","v":"Bishops Waltham WWTW"},{"$f":"WINEP_Inputs!CW16","v":"£m"},{"$f":"WINEP_Inputs!CX16","v":1},null,{"$f":" WINEP_Inputs!CR16","v":0},{"$f":" WINEP_Inputs!CS16","v":1},{"$f":" WINEP_Inputs!CT16","v":1},{"$f":" WINEP_Inputs!CU16","v":1},{"$f":" WINEP_Inputs!CV16","v":"WWN"},1]
[null,null,{"$f":" WINEP_Inputs!A17","v":"SSD00339"},{"$f":" WINEP_Inputs!J17","v":"7SO200352"},{"$f":" WINEP_Inputs!K17","v":"Blackstone WWTW"},{"$f":"WINEP_Inputs!CW17","v":"£m"},{"$f":"WINEP_Inputs!CX17","v":1},null,{"$f":" WINEP_Inputs!CR17","v":0},{"$f":" WINEP_Inputs!CS17","v":1},{"$f":" WINEP_Inputs!CT17","v":1},{"$f":" WINEP_Inputs!CU17","v":1},{"$f":" WINEP_Inputs!CV17","v":"WWN"},1]
[null,null,{"$f":" WINEP_Inputs!A18","v":"SSD00340"},{"$f":" WINEP_Inputs!J18","v":"7SO200353"},{"$f":" WINEP_Inputs!K18","v":"Boldre WWTW"},{"$f":"WINEP_Inputs!CW18","v":"£m"},{"$f":"WINEP_Inputs!CX18","v":1},null,{"$f":" WINEP_Inputs!CR18","v":0},{"$f":" WINEP_Inputs!CS18","v":1},{"$f":" WINEP_Inputs!CT18","v":1},{"$f":" WINEP_Inputs!CU18","v":1},{"$f":" WINEP_Inputs!CV18","v":"WWN"},1]
[null,null,{"$f":" WINEP_Inputs!A19","v":"SSD00341"},{"$f":" WINEP_Inputs!J19","v":"7SO200354"},{"$f":" WINEP_Inputs!K19","v":"Brockenhurst WWTW"},{"$f":"WINEP_Inputs!CW19","v":"£m"},{"$f":"WINEP_Inputs!CX19","v":1},null,{"$f":" WINEP_Inputs!CR19","v":0},{"$f":" WINEP_Inputs!CS19","v":1},{"$f":" WINEP_Inputs!CT19","v":1},{"$f":" WINEP_Inputs!CU19","v":1},{"$f":" WINEP_Inputs!CV19","v":"WWN"},1]
[null,null,{"$f":" WINEP_Inputs!A20","v":"SSD00342"},{"$f":" WINEP_Inputs!J20","v":"7SO200355"},{"$f":" WINEP_Inputs!K20","v":"Buriton WWTW"},{"$f":"WINEP_Inputs!CW20","v":"£m"},{"$f":"WINEP_Inputs!CX20","v":1},null,{"$f":" WINEP_Inputs!CR20","v":0},{"$f":" WINEP_Inputs!CS20","v":1},{"$f":" WINEP_Inputs!CT20","v":1},{"$f":" WINEP_Inputs!CU20","v":1},{"$f":" WINEP_Inputs!CV20","v":"WWN"},1]
[null,null,{"$f":" WINEP_Inputs!A21","v":"SSD00343"},{"$f":" WINEP_Inputs!J21","v":"7SO200356"},{"$f":" WINEP_Inputs!K21","v":"Calbourne WWTW"},{"$f":"WINEP_Inputs!CW21","v":"£m"},{"$f":"WINEP_Inputs!CX21","v":1},null,{"$f":" WINEP_Inputs!CR21","v":0},{"$f":" WINEP_Inputs!CS21","v":1},{"$f":" WINEP_Inputs!CT21","v":1},{"$f":" WINEP_Inputs!CU21","v":1},{"$f":" WINEP_Inputs!CV21","v":"WWN"},1]
[null,null,{"$f":" WINEP_Inputs!A22","v":"SSD00344"},{"$f":" WINEP_Inputs!J22","v":"7SO200357"},{"$f":" WINEP_Inputs!K22","v":"Chiddingfold WWTW"},{"$f":"WINEP_Inputs!CW22","v":"£m"},{"$f":"WINEP_Inputs!CX22","v":1},null,{"$f":" WINEP_Inputs!CR22","v":0},{"$f":" WINEP_Inputs!CS22","v":1},{"$f":" WINEP_Inputs!CT22","v":1},{"$f":" WINEP_Inputs!CU22","v":1},{"$f":" WINEP_Inputs!CV22","v":"WWN"},1]
[null,null,{"$f":" WINEP_Inputs!A23","v":"SSD00346"},{"$f":" WINEP_Inputs!J23","v":"7SO200359"},{"$f":" WINEP_Inputs!K23","v":"East Boldre WWTW"},{"$f":"WINEP_Inputs!CW23","v":"£m"},{"$f":"WINEP_Inputs!CX23","v":1},null,{"$f":" WINEP_Inputs!CR23","v":0},{"$f":" WINEP_Inputs!CS23","v":1},{"$f":" WINEP_Inputs!CT23","v":1},{"$f":" WINEP_Inputs!CU23","v":1},{"$f":" WINEP_Inputs!CV23","v":"WWN"},1]
[null,null,{"$f":" WINEP_Inputs!A24","v":"SSD00347"},{"$f":" WINEP_Inputs!J24","v":"7SO200360"},{"$f":" WINEP_Inputs!K24","v":"East Meon WWTW"},{"$f":"WINEP_Inputs!CW24","v":"£m"},{"$f":"WINEP_Inputs!CX24","v":1},null,{"$f":" WINEP_Inputs!CR24","v":0},{"$f":" WINEP_Inputs!CS24","v":1},{"$f":" WINEP_Inputs!CT24","v":1},{"$f":" WINEP_Inputs!CU24","v":1},{"$f":" WINEP_Inputs!CV24","v":"WWN"},1]
[null,null,{"$f":" WINEP_Inputs!A25","v":"SSD00349"},{"$f":" WINEP_Inputs!J25","v":"7SO200362"},{"$f":" WINEP_Inputs!K25","v":"Flexford Lane Sway WWTW"},{"$f":"WINEP_Inputs!CW25","v":"£m"},{"$f":"WINEP_Inputs!CX25","v":1},null,{"$f":" WINEP_Inputs!CR25","v":0},{"$f":" WINEP_Inputs!CS25","v":1},{"$f":" WINEP_Inputs!CT25","v":1},{"$f":" WINEP_Inputs!CU25","v":1},{"$f":" WINEP_Inputs!CV25","v":"WWN"},1]
[null,null,{"$f":" WINEP_Inputs!A26","v":"SSD00350"},{"$f":" WINEP_Inputs!J26","v":"7SO200363"},{"$f":" WINEP_Inputs!K26","v":"Forest Green WWTW"},{"$f":"WINEP_Inputs!CW26","v":"£m"},{"$f":"WINEP_Inputs!CX26","v":1},null,{"$f":" WINEP_Inputs!CR26","v":0},{"$f":" WINEP_Inputs!CS26","v":1},{"$f":" WINEP_Inputs!CT26","v":1},{"$f":" WINEP_Inputs!CU26","v":1},{"$f":" WINEP_Inputs!CV26","v":"WWN"},1]
[null,null,{"$f":" WINEP_Inputs!A27","v":"SSD00351"},{"$f":" WINEP_Inputs!J27","v":"7SO200364"},{"$f":" WINEP_Inputs!K27","v":"Fulking WWTW"},{"$f":"WINEP_Inputs!CW27","v":"£m"},{"$f":"WINEP_Inputs!CX27","v":1},null,{"$f":" WINEP_Inputs!CR27","v":0},{"$f":" WINEP_Inputs!CS27","v":1},{"$f":" WINEP_Inputs!CT27","v":1},{"$f":" WINEP_Inputs!CU27","v":1},{"$f":" WINEP_Inputs!CV27","v":"WWN"},1]
[null,null,{"$f":" WINEP_Inputs!A28","v":"SSD00352"},{"$f":" WINEP_Inputs!J28","v":"7SO200365"},{"$f":" WINEP_Inputs!K28","v":"Burgess Hill Goddards Green WWTW"},{"$f":"WINEP_Inputs!CW28","v":"£m"},{"$f":"WINEP_Inputs!CX28","v":1},null,{"$f":" WINEP_Inputs!CR28","v":0},{"$f":" WINEP_Inputs!CS28","v":1},{"$f":" WINEP_Inputs!CT28","v":1},{"$f":" WINEP_Inputs!CU28","v":1},{"$f":" WINEP_Inputs!CV28","v":"WWN"},1]
[null,null,{"$f":" WINEP_Inputs!A29","v":"SSD00353"},{"$f":" WINEP_Inputs!J29","v":"7SO200366"},{"$f":" WINEP_Inputs!K29","v":"Godshill WWTW"},{"$f":"WINEP_Inputs!CW29","v":"£m"},{"$f":"WINEP_Inputs!CX29","v":1},null,{"$f":" WINEP_Inputs!CR29","v":0},{"$f":" WINEP_Inputs!CS29","v":1},{"$f":" WINEP_Inputs!CT29","v":1},{"$f":" WINEP_Inputs!CU29","v":1},{"$f":" WINEP_Inputs!CV29","v":"WWN"},1]
[null,null,{"$f":" WINEP_Inputs!A30","v":"SSD00354"},{"$f":" WINEP_Inputs!J30","v":"7SO200367"},{"$f":" WINEP_Inputs!K30","v":"Grayswood WWTW"},{"$f":"WINEP_Inputs!CW30","v":"£m"},{"$f":"WINEP_Inputs!CX30","v":1},null,{"$f":" WINEP_Inputs!CR30","v":0},{"$f":" WINEP_Inputs!CS30","v":1},{"$f":" WINEP_Inputs!CT30","v":1},{"$f":" WINEP_Inputs!CU30","v":1},{"$f":" WINEP_Inputs!CV30","v":"WWN"},1]
[null,null,{"$f":" WINEP_Inputs!A31","v":"SSD00362"},{"$f":" WINEP_Inputs!J31","v":"7SO200375"},{"$f":" WINEP_Inputs!K31","v":"Horsham WWTW"},{"$f":"WINEP_Inputs!CW31","v":"£m"},{"$f":"WINEP_Inputs!CX31","v":1},null,{"$f":" WINEP_Inputs!CR31","v":0},{"$f":" WINEP_Inputs!CS31","v":1},{"$f":" WINEP_Inputs!CT31","v":1},{"$f":" WINEP_Inputs!CU31","v":1},{"$f":" WINEP_Inputs!CV31","v":"WWN"},1]
[null,null,{"$f":" WINEP_Inputs!A32","v":"SSD00365"},{"$f":" WINEP_Inputs!J32","v":"7SO200378"},{"$f":" WINEP_Inputs!K32","v":"Mannings Heath WWTW"},{"$f":"WINEP_Inputs!CW32","v":"£m"},{"$f":"WINEP_Inputs!CX32","v":1},null,{"$f":" WINEP_Inputs!CR32","v":0},{"$f":" WINEP_Inputs!CS32","v":1},{"$f":" WINEP_Inputs!CT32","v":1},{"$f":" WINEP_Inputs!CU32","v":1},{"$f":" WINEP_Inputs!CV32","v":"WWN"},1]
[null,null,{"$f":" WINEP_Inputs!A33","v":"SSD00367"},{"$f":" WINEP_Inputs!J33","v":"7SO200380"},{"$f":" WINEP_Inputs!K33","v":"Northchapel WWTW"},{"$f":"WINEP_Inputs!CW33","v":"£m"},{"$f":"WINEP_Inputs!CX33","v":1},null,{"$f":" WINEP_Inputs!CR33","v":0},{"$f":" WINEP_Inputs!CS33","v":1},{"$f":" WINEP_Inputs!CT33","v":1},{"$f":" WINEP_Inputs!CU33","v":1},{"$f":" WINEP_Inputs!CV33","v":"WWN"},1]
[null,null,{"$f":" WINEP_Inputs!A34","v":"SSD00368"},{"$f":" WINEP_Inputs!J34","v":"7SO200381"},{"$f":" WINEP_Inputs!K34","v":"Ockley West WWTW"},{"$f":"WINEP_Inputs!CW34","v":"£m"},{"$f":"WINEP_Inputs!CX34","v":1},null,{"$f":" WINEP_Inputs!CR34","v":0},{"$f":" WINEP_Inputs!CS34","v":1},{"$f":" WINEP_Inputs!CT34","v":1},{"$f":" WINEP_Inputs!CU34","v":1},{"$f":" WINEP_Inputs!CV34","v":"WWN"},1]
[null,null,{"$f":" WINEP_Inputs!A35","v":"SSD00369"},{"$f":" WINEP_Inputs!J35","v":"7SO200382"},{"$f":" WINEP_Inputs!K35","v":"Handcross WWTW"},{"$f":"WINEP_Inputs!CW35","v":"£m"},{"$f":"WINEP_Inputs!CX35","v":1},null,{"$f":" WINEP_Inputs!CR35","v":0},{"$f":" WINEP_Inputs!CS35","v":1},{"$f":" WINEP_Inputs!CT35","v":1},{"$f":" WINEP_Inputs!CU35","v":1},{"$f":" WINEP_Inputs!CV35","v":"WWN"},1]
[null,null,{"$f":" WINEP_Inputs!A36","v":"SSD00370"},{"$f":" WINEP_Inputs!J36","v":"7SO200383"},{"$f":" WINEP_Inputs!K36","v":"Petersfield WWTW"},{"$f":"WINEP_Inputs!CW36","v":"£m"},{"$f":"WINEP_Inputs!CX36","v":1},null,{"$f":" WINEP_Inputs!CR36","v":0},{"$f":" WINEP_Inputs!CS36","v":1},{"$f":" WINEP_Inputs!CT36","v":1},{"$f":" WINEP_Inputs!CU36","v":1},{"$f":" WINEP_Inputs!CV36","v":"WWN"},1]
[null,null,{"$f":" WINEP_Inputs!A37","v":"SSD00371"},{"$f":" WINEP_Inputs!J37","v":"7SO200384"},{"$f":" WINEP_Inputs!K37","v":"Poynings WWTW"},{"$f":"WINEP_Inputs!CW37","v":"£m"},{"$f":"WINEP_Inputs!CX37","v":1},null,{"$f":" WINEP_Inputs!CR37","v":0},{"$f":" WINEP_Inputs!CS37","v":1},{"$f":" WINEP_Inputs!CT37","v":1},{"$f":" WINEP_Inputs!CU37","v":1},{"$f":" WINEP_Inputs!CV37","v":"WWN"},1]
[null,null,{"$f":" WINEP_Inputs!A38","v":"SSD00372"},{"$f":" WINEP_Inputs!J38","v":"7SO200385"},{"$f":" WINEP_Inputs!K38","v":"Redlynch WWTW"},{"$f":"WINEP_Inputs!CW38","v":"£m"},{"$f":"WINEP_Inputs!CX38","v":1},null,{"$f":" WINEP_Inputs!CR38","v":0},{"$f":" WINEP_Inputs!CS38","v":1},{"$f":" WINEP_Inputs!CT38","v":1},{"$f":" WINEP_Inputs!CU38","v":1},{"$f":" WINEP_Inputs!CV38","v":"WWN"},1]
[null,null,{"$f":" WINEP_Inputs!A39","v":"SSD00373"},{"$f":" WINEP_Inputs!J39","v":"7SO200386"},{"$f":" WINEP_Inputs!K39","v":"Roud WWTW"},{"$f":"WINEP_Inputs!CW39","v":"£m"},{"$f":"WINEP_Inputs!CX39","v":1},null,{"$f":" WINEP_Inputs!CR39","v":0},{"$f":" WINEP_Inputs!CS39","v":1},{"$f":" WINEP_Inputs!CT39","v":1},{"$f":" WINEP_Inputs!CU39","v":1},{"$f":" WINEP_Inputs!CV39","v":"WWN"},1]
[null,null,{"$f":" WINEP_Inputs!A40","v":"SSD00374"},{"$f":" WINEP_Inputs!J40","v":"7SO200387"},{"$f":" WINEP_Inputs!K40","v":"Rudgwick WWTW"},{"$f":"WINEP_Inputs!CW40","v":"£m"},{"$f":"WINEP_Inputs!CX40","v":1},null,{"$f":" WINEP_Inputs!CR40","v":0},{"$f":" WINEP_Inputs!CS40","v":1},{"$f":" WINEP_Inputs!CT40","v":1},{"$f":" WINEP_Inputs!CU40","v":1},{"$f":" WINEP_Inputs!CV40","v":"WWN"},1]
[null,null,{"$f":" WINEP_Inputs!A41","v":"SSD00375"},{"$f":" WINEP_Inputs!J41","v":"7SO200388"},{"$f":" WINEP_Inputs!K41","v":"Scaynes Hill WWTW"},{"$f":"WINEP_Inputs!CW41","v":"£m"},{"$f":"WINEP_Inputs!CX41","v":1},null,{"$f":" WINEP_Inputs!CR41","v":0},{"$f":" WINEP_Inputs!CS41","v":1},{"$f":" WINEP_Inputs!CT41","v":1},{"$f":" WINEP_Inputs!CU41","v":1},{"$f":" WINEP_Inputs!CV41","v":"WWN"},1]
[null,null,{"$f":" WINEP_Inputs!A42","v":"SSD00376"},{"$f":" WINEP_Inputs!J42","v":"7SO200389"},{"$f":" WINEP_Inputs!K42","v":"Shalfeet WWTW"},{"$f":"WINEP_Inputs!CW42","v":"£m"},{"$f":"WINEP_Inputs!CX42","v":1},null,{"$f":" WINEP_Inputs!CR42","v":0},{"$f":" WINEP_Inputs!CS42","v":1},{"$f":" WINEP_Inputs!CT42","v":1},{"$f":" WINEP_Inputs!CU42","v":1},{"$f":" WINEP_Inputs!CV42","v":"WWN"},1]
[null,null,{"$f":" WINEP_Inputs!A43","v":"SSD00378"},{"$f":" WINEP_Inputs!J43","v":"7SO200391"},{"$f":" WINEP_Inputs!K43","v":"Slinfold WWTW"},{"$f":"WINEP_Inputs!CW43","v":"£m"},{"$f":"WINEP_Inputs!CX43","v":1},null,{"$f":" WINEP_Inputs!CR43","v":0},{"$f":" WINEP_Inputs!CS43","v":1},{"$f":" WINEP_Inputs!CT43","v":1},{"$f":" WINEP_Inputs!CU43","v":1},{"$f":" WINEP_Inputs!CV43","v":"WWN"},1]
[null,null,{"$f":" WINEP_Inputs!A44","v":"SSD00379"},{"$f":" WINEP_Inputs!J44","v":"7SO200392"},{"$f":" WINEP_Inputs!K44","v":"Small Dole WWTW"},{"$f":"WINEP_Inputs!CW44","v":"£m"},{"$f":"WINEP_Inputs!CX44","v":1},null,{"$f":" WINEP_Inputs!CR44","v":0},{"$f":" WINEP_Inputs!CS44","v":1},{"$f":" WINEP_Inputs!CT44","v":1},{"$f":" WINEP_Inputs!CU44","v":1},{"$f":" WINEP_Inputs!CV44","v":"WWN"},1]
[null,null,{"$f":" WINEP_Inputs!A45","v":"SSD00380"},{"$f":" WINEP_Inputs!J45","v":"7SO200393"},{"$f":" WINEP_Inputs!K45","v":"South Ambersham WWTW"},{"$f":"WINEP_Inputs!CW45","v":"£m"},{"$f":"WINEP_Inputs!CX45","v":1},null,{"$f":" WINEP_Inputs!CR45","v":0},{"$f":" WINEP_Inputs!CS45","v":1},{"$f":" WINEP_Inputs!CT45","v":1},{"$f":" WINEP_Inputs!CU45","v":1},{"$f":" WINEP_Inputs!CV45","v":"WWN"},1]
[null,null,{"$f":" WINEP_Inputs!A46","v":"SSD00381"},{"$f":" WINEP_Inputs!J46","v":"7SO200394"},{"$f":" WINEP_Inputs!K46","v":"South Harting WWTW"},{"$f":"WINEP_Inputs!CW46","v":"£m"},{"$f":"WINEP_Inputs!CX46","v":1},null,{"$f":" WINEP_Inputs!CR46","v":0},{"$f":" WINEP_Inputs!CS46","v":1},{"$f":" WINEP_Inputs!CT46","v":1},{"$f":" WINEP_Inputs!CU46","v":1},{"$f":" WINEP_Inputs!CV46","v":"WWN"},1]
[null,null,{"$f":" WINEP_Inputs!A47","v":"SSD00382"},{"$f":" WINEP_Inputs!J47","v":"7SO200395"},{"$f":" WINEP_Inputs!K47","v":"Staplefield WWTW"},{"$f":"WINEP_Inputs!CW47","v":"£m"},{"$f":"WINEP_Inputs!CX47","v":1},null,{"$f":" WINEP_Inputs!CR47","v":0},{"$f":" WINEP_Inputs!CS47","v":1},{"$f":" WINEP_Inputs!CT47","v":1},{"$f":" WINEP_Inputs!CU47","v":1},{"$f":" WINEP_Inputs!CV47","v":"WWN"},1]
[null,null,{"$f":" WINEP_Inputs!A48","v":"SSD00383"},{"$f":" WINEP_Inputs!J48","v":"7SO200396"},{"$f":" WINEP_Inputs!K48","v":"Storrington WWTW"},{"$f":"WINEP_Inputs!CW48","v":"£m"},{"$f":"WINEP_Inputs!CX48","v":1},null,{"$f":" WINEP_Inputs!CR48","v":0},{"$f":" WINEP_Inputs!CS48","v":1},{"$f":" WINEP_Inputs!CT48","v":1},{"$f":" WINEP_Inputs!CU48","v":1},{"$f":" WINEP_Inputs!CV48","v":"WWN"},1]
[null,null,{"$f":" WINEP_Inputs!A49","v":"SSD00384"},{"$f":" WINEP_Inputs!J49","v":"7SO200397"},{"$f":" WINEP_Inputs!K49","v":"Pagham WWTW"},{"$f":"WINEP_Inputs!CW49","v":"£m"},{"$f":"WINEP_Inputs!CX49","v":1},null,{"$f":" WINEP_Inputs!CR49","v":3.4727780499999881},{"$f":" WINEP_Inputs!CS49","v":1},{"$f":" WINEP_Inputs!CT49","v":0},{"$f":" WINEP_Inputs!CU49","v":1},{"$f":" WINEP_Inputs!CV49","v":"WWN"},0]
[null,null,{"$f":" WINEP_Inputs!A50","v":"SSD00385"},{"$f":" WINEP_Inputs!J50","v":"7SO200398"},{"$f":" WINEP_Inputs!K50","v":"Tangmere WWTW"},{"$f":"WINEP_Inputs!CW50","v":"£m"},{"$f":"WINEP_Inputs!CX50","v":1},null,{"$f":" WINEP_Inputs!CR50","v":0},{"$f":" WINEP_Inputs!CS50","v":1},{"$f":" WINEP_Inputs!CT50","v":1},{"$f":" WINEP_Inputs!CU50","v":1},{"$f":" WINEP_Inputs!CV50","v":"WWN"},1]
[null,null,{"$f":" WINEP_Inputs!A51","v":"SSD00388"},{"$f":" WINEP_Inputs!J51","v":"7SO200401"},{"$f":" WINEP_Inputs!K51","v":"Whiteparish WWTW"},{"$f":"WINEP_Inputs!CW51","v":"£m"},{"$f":"WINEP_Inputs!CX51","v":1},null,{"$f":" WINEP_Inputs!CR51","v":0},{"$f":" WINEP_Inputs!CS51","v":1},{"$f":" WINEP_Inputs!CT51","v":1},{"$f":" WINEP_Inputs!CU51","v":1},{"$f":" WINEP_Inputs!CV51","v":"WWN"},1]
[null,null,{"$f":" WINEP_Inputs!A52","v":"SSD00520"},{"$f":" WINEP_Inputs!J52","v":"7SO200533"},{"$f":" WINEP_Inputs!K52","v":"East End WWTW "},{"$f":"WINEP_Inputs!CW52","v":"£m"},{"$f":"WINEP_Inputs!CX52","v":1},null,{"$f":" WINEP_Inputs!CR52","v":0},{"$f":" WINEP_Inputs!CS52","v":1},{"$f":" WINEP_Inputs!CT52","v":1},{"$f":" WINEP_Inputs!CU52","v":1},{"$f":" WINEP_Inputs!CV52","v":"WWN"},1]
[null,null,{"$f":" WINEP_Inputs!A53","v":"SSD00521"},{"$f":" WINEP_Inputs!J53","v":"7SO200534"},{"$f":" WINEP_Inputs!K53","v":"East End WWTW "},{"$f":"WINEP_Inputs!CW53","v":"£m"},{"$f":"WINEP_Inputs!CX53","v":1},null,{"$f":" WINEP_Inputs!CR53","v":0},{"$f":" WINEP_Inputs!CS53","v":1},{"$f":" WINEP_Inputs!CT53","v":1},{"$f":" WINEP_Inputs!CU53","v":1},{"$f":" WINEP_Inputs!CV53","v":"WWN"},1]
[null,null,{"$f":" WINEP_Inputs!A54","v":"SSD00554"},{"$f":" WINEP_Inputs!J54","v":"7SO300428"},{"$f":" WINEP_Inputs!K54","v":"Horsted Keynes WWTW"},{"$f":"WINEP_Inputs!CW54","v":"£m"},{"$f":"WINEP_Inputs!CX54","v":1},null,{"$f":" WINEP_Inputs!CR54","v":0},{"$f":" WINEP_Inputs!CS54","v":1},{"$f":" WINEP_Inputs!CT54","v":1},{"$f":" WINEP_Inputs!CU54","v":1},{"$f":" WINEP_Inputs!CV54","v":"WWN"},1]
[null,null,{"$f":" WINEP_Inputs!A55","v":"KSL00123"},{"$f":" WINEP_Inputs!J55","v":"7SO200025"},{"$f":" WINEP_Inputs!K55","v":"Bewl-Darwell Transfer - Southern Water"},{"$f":"WINEP_Inputs!CW55","v":"£m"},{"$f":"WINEP_Inputs!CX55","v":1},null,{"$f":" WINEP_Inputs!CR55","v":7.2999999999999995E-2},{"$f":" WINEP_Inputs!CS55","v":1},{"$f":" WINEP_Inputs!CT55","v":1},{"$f":" WINEP_Inputs!CU55","v":1},{"$f":" WINEP_Inputs!CV55","v":"WR"},1]
[null,null,{"$f":" WINEP_Inputs!A56","v":"KSL00175"},{"$f":" WINEP_Inputs!J56","v":"7SO200065"},{"$f":" WINEP_Inputs!K56","v":"Battle wwtw"},{"$f":"WINEP_Inputs!CW56","v":"£m"},{"$f":"WINEP_Inputs!CX56","v":1},null,{"$f":" WINEP_Inputs!CR56","v":0},{"$f":" WINEP_Inputs!CS56","v":1},{"$f":" WINEP_Inputs!CT56","v":1},{"$f":" WINEP_Inputs!CU56","v":1},{"$f":" WINEP_Inputs!CV56","v":"WWN"},1]
[null,null,{"$f":" WINEP_Inputs!A57","v":"KSL00178"},{"$f":" WINEP_Inputs!J57","v":"7SO200068"},{"$f":" WINEP_Inputs!K57","v":"Charing wwtw"},{"$f":"WINEP_Inputs!CW57","v":"£m"},{"$f":"WINEP_Inputs!CX57","v":1},null,{"$f":" WINEP_Inputs!CR57","v":0},{"$f":" WINEP_Inputs!CS57","v":1},{"$f":" WINEP_Inputs!CT57","v":1},{"$f":" WINEP_Inputs!CU57","v":1},{"$f":" WINEP_Inputs!CV57","v":"WWN"},1]
[null,null,{"$f":" WINEP_Inputs!A58","v":"KSL00183"},{"$f":" WINEP_Inputs!J58","v":"7SO200073"},{"$f":" WINEP_Inputs!K58","v":"Herne Bay wwtw"},{"$f":"WINEP_Inputs!CW58","v":"£m"},{"$f":"WINEP_Inputs!CX58","v":1},null,{"$f":" WINEP_Inputs!CR58","v":0},{"$f":" WINEP_Inputs!CS58","v":1},{"$f":" WINEP_Inputs!CT58","v":1},{"$f":" WINEP_Inputs!CU58","v":1},{"$f":" WINEP_Inputs!CV58","v":"WWN"},1]
[null,null,{"$f":" WINEP_Inputs!A59","v":"KSL00185"},{"$f":" WINEP_Inputs!J59","v":"7SO200075"},{"$f":" WINEP_Inputs!K59","v":"Lenham wwtw"},{"$f":"WINEP_Inputs!CW59","v":"£m"},{"$f":"WINEP_Inputs!CX59","v":1},null,{"$f":" WINEP_Inputs!CR59","v":0},{"$f":" WINEP_Inputs!CS59","v":1},{"$f":" WINEP_Inputs!CT59","v":1},{"$f":" WINEP_Inputs!CU59","v":1},{"$f":" WINEP_Inputs!CV59","v":"WWN"},1]
[null,null,{"$f":" WINEP_Inputs!A60","v":"KSL00187"},{"$f":" WINEP_Inputs!J60","v":"7SO200077"},{"$f":" WINEP_Inputs!K60","v":"Netherfield wwtw"},{"$f":"WINEP_Inputs!CW60","v":"£m"},{"$f":"WINEP_Inputs!CX60","v":1},null,{"$f":" WINEP_Inputs!CR60","v":0},{"$f":" WINEP_Inputs!CS60","v":1},{"$f":" WINEP_Inputs!CT60","v":1},{"$f":" WINEP_Inputs!CU60","v":1},{"$f":" WINEP_Inputs!CV60","v":"WWN"},1]
[null,null,{"$f":" WINEP_Inputs!A61","v":"KSL00188"},{"$f":" WINEP_Inputs!J61","v":"7SO200078"},{"$f":" WINEP_Inputs!K61","v":"Newnham Valley wwtw"},{"$f":"WINEP_Inputs!CW61","v":"£m"},{"$f":"WINEP_Inputs!CX61","v":1},null,{"$f":" WINEP_Inputs!CR61","v":0},{"$f":" WINEP_Inputs!CS61","v":1},{"$f":" WINEP_Inputs!CT61","v":1},{"$f":" WINEP_Inputs!CU61","v":1},{"$f":" WINEP_Inputs!CV61","v":"WWN"},1]
[null,null,{"$f":" WINEP_Inputs!A62","v":"KSL00189"},{"$f":" WINEP_Inputs!J62","v":"7SO200079"},{"$f":" WINEP_Inputs!K62","v":"Sedlescombe wwtw"},{"$f":"WINEP_Inputs!CW62","v":"£m"},{"$f":"WINEP_Inputs!CX62","v":1},null,{"$f":" WINEP_Inputs!CR62","v":0},{"$f":" WINEP_Inputs!CS62","v":1},{"$f":" WINEP_Inputs!CT62","v":1},{"$f":" WINEP_Inputs!CU62","v":1},{"$f":" WINEP_Inputs!CV62","v":"WWN"},1]
[null,null,{"$f":" WINEP_Inputs!A63","v":"KSL00190"},{"$f":" WINEP_Inputs!J63","v":"7SO200080"},{"$f":" WINEP_Inputs!K63","v":"Sellindge wwtw"},{"$f":"WINEP_Inputs!CW63","v":"£m"},{"$f":"WINEP_Inputs!CX63","v":1},null,{"$f":" WINEP_Inputs!CR63","v":0},{"$f":" WINEP_Inputs!CS63","v":1},{"$f":" WINEP_Inputs!CT63","v":1},{"$f":" WINEP_Inputs!CU63","v":1},{"$f":" WINEP_Inputs!CV63","v":"WWN"},1]
[null,null,{"$f":" WINEP_Inputs!A64","v":"KSL00191"},{"$f":" WINEP_Inputs!J64","v":"7SO200081"},{"$f":" WINEP_Inputs!K64","v":"Shrub Lane (Burwash Village) wwtw"},{"$f":"WINEP_Inputs!CW64","v":"£m"},{"$f":"WINEP_Inputs!CX64","v":1},null,{"$f":" WINEP_Inputs!CR64","v":0},{"$f":" WINEP_Inputs!CS64","v":1},{"$f":" WINEP_Inputs!CT64","v":1},{"$f":" WINEP_Inputs!CU64","v":1},{"$f":" WINEP_Inputs!CV64","v":"WWN"},1]
[null,null,{"$f":" WINEP_Inputs!A65","v":"KSL00192"},{"$f":" WINEP_Inputs!J65","v":"7SO200082"},{"$f":" WINEP_Inputs!K65","v":"Ticehurst wwtw"},{"$f":"WINEP_Inputs!CW65","v":"£m"},{"$f":"WINEP_Inputs!CX65","v":1},null,{"$f":" WINEP_Inputs!CR65","v":0},{"$f":" WINEP_Inputs!CS65","v":1},{"$f":" WINEP_Inputs!CT65","v":1},{"$f":" WINEP_Inputs!CU65","v":1},{"$f":" WINEP_Inputs!CV65","v":"WWN"},1]
[null,null,{"$f":" WINEP_Inputs!A66","v":"KSL00195"},{"$f":" WINEP_Inputs!J66","v":"7SO200085"},{"$f":" WINEP_Inputs!K66","v":"Wingham (Dambridge) wwtw"},{"$f":"WINEP_Inputs!CW66","v":"£m"},{"$f":"WINEP_Inputs!CX66","v":1},null,{"$f":" WINEP_Inputs!CR66","v":0},{"$f":" WINEP_Inputs!CS66","v":1},{"$f":" WINEP_Inputs!CT66","v":1},{"$f":" WINEP_Inputs!CU66","v":1},{"$f":" WINEP_Inputs!CV66","v":"WWN"},1]
[null,null,{"$f":" WINEP_Inputs!A67","v":"KSL00206"},{"$f":" WINEP_Inputs!J67","v":"7SO200096"},{"$f":" WINEP_Inputs!K67","v":"Eden Vale wwtw"},{"$f":"WINEP_Inputs!CW67","v":"£m"},{"$f":"WINEP_Inputs!CX67","v":1},null,{"$f":" WINEP_Inputs!CR67","v":0},{"$f":" WINEP_Inputs!CS67","v":1},{"$f":" WINEP_Inputs!CT67","v":1},{"$f":" WINEP_Inputs!CU67","v":1},{"$f":" WINEP_Inputs!CV67","v":"WWN"},1]
[null,null,{"$f":" WINEP_Inputs!A68","v":"KSL00207"},{"$f":" WINEP_Inputs!J68","v":"7SO200097"},{"$f":" WINEP_Inputs!K68","v":"Edenbridge wwtw"},{"$f":"WINEP_Inputs!CW68","v":"£m"},{"$f":"WINEP_Inputs!CX68","v":1},null,{"$f":" WINEP_Inputs!CR68","v":0},{"$f":" WINEP_Inputs!CS68","v":1},{"$f":" WINEP_Inputs!CT68","v":1},{"$f":" WINEP_Inputs!CU68","v":1},{"$f":" WINEP_Inputs!CV68","v":"WWN"},1]
[null,null,{"$f":" WINEP_Inputs!A69","v":"KSL00208"},{"$f":" WINEP_Inputs!J69","v":"7SO200098"},{"$f":" WINEP_Inputs!K69","v":"Felbridge wwtw"},{"$f":"WINEP_Inputs!CW69","v":"£m"},{"$f":"WINEP_Inputs!CX69","v":1},null,{"$f":" WINEP_Inputs!CR69","v":0},{"$f":" WINEP_Inputs!CS69","v":1},{"$f":" WINEP_Inputs!CT69","v":1},{"$f":" WINEP_Inputs!CU69","v":1},{"$f":" WINEP_Inputs!CV69","v":"WWN"},1]
[null,null,{"$f":" WINEP_Inputs!A70","v":"KSL00212"},{"$f":" WINEP_Inputs!J70","v":"7SO200102"},{"$f":" WINEP_Inputs!K70","v":"Godstone wwtw"},{"$f":"WINEP_Inputs!CW70","v":"£m"},{"$f":"WINEP_Inputs!CX70","v":1},null,{"$f":" WINEP_Inputs!CR70","v":0},{"$f":" WINEP_Inputs!CS70","v":1},{"$f":" WINEP_Inputs!CT70","v":1},{"$f":" WINEP_Inputs!CU70","v":1},{"$f":" WINEP_Inputs!CV70","v":"WWN"},1]
[null,null,{"$f":" WINEP_Inputs!A71","v":"KSL00215"},{"$f":" WINEP_Inputs!J71","v":"7SO200105"},{"$f":" WINEP_Inputs!K71","v":"Kilndown wwtw"},{"$f":"WINEP_Inputs!CW71","v":"£m"},{"$f":"WINEP_Inputs!CX71","v":1},null,{"$f":" WINEP_Inputs!CR71","v":0},{"$f":" WINEP_Inputs!CS71","v":1},{"$f":" WINEP_Inputs!CT71","v":1},{"$f":" WINEP_Inputs!CU71","v":1},{"$f":" WINEP_Inputs!CV71","v":"WWN"},1]
[null,null,{"$f":" WINEP_Inputs!A72","v":"KSL00217"},{"$f":" WINEP_Inputs!J72","v":"7SO200107"},{"$f":" WINEP_Inputs!K72","v":"Limpsfield and Oxted wwtw"},{"$f":"WINEP_Inputs!CW72","v":"£m"},{"$f":"WINEP_Inputs!CX72","v":1},null,{"$f":" WINEP_Inputs!CR72","v":0},{"$f":" WINEP_Inputs!CS72","v":1},{"$f":" WINEP_Inputs!CT72","v":1},{"$f":" WINEP_Inputs!CU72","v":1},{"$f":" WINEP_Inputs!CV72","v":"WWN"},1]
[null,null,{"$f":" WINEP_Inputs!A73","v":"KSL00218"},{"$f":" WINEP_Inputs!J73","v":"7SO200108"},{"$f":" WINEP_Inputs!K73","v":"Lingfield wwtw"},{"$f":"WINEP_Inputs!CW73","v":"£m"},{"$f":"WINEP_Inputs!CX73","v":1},null,{"$f":" WINEP_Inputs!CR73","v":0},{"$f":" WINEP_Inputs!CS73","v":1},{"$f":" WINEP_Inputs!CT73","v":1},{"$f":" WINEP_Inputs!CU73","v":1},{"$f":" WINEP_Inputs!CV73","v":"WWN"},1]
[null,null,{"$f":" WINEP_Inputs!A74","v":"KSL00229"},{"$f":" WINEP_Inputs!J74","v":"7SO200119"},{"$f":" WINEP_Inputs!K74","v":"Tunbridge Wells South wwtw"},{"$f":"WINEP_Inputs!CW74","v":"£m"},{"$f":"WINEP_Inputs!CX74","v":1},null,{"$f":" WINEP_Inputs!CR74","v":0},{"$f":" WINEP_Inputs!CS74","v":1},{"$f":" WINEP_Inputs!CT74","v":1},{"$f":" WINEP_Inputs!CU74","v":1},{"$f":" WINEP_Inputs!CV74","v":"WWN"},1]
[null,null,{"$f":" WINEP_Inputs!A75","v":"KSL00385"},{"$f":" WINEP_Inputs!J75","v":"7TW300089"},{"$f":" WINEP_Inputs!K75","v":"Fairlight wwtw"},{"$f":"WINEP_Inputs!CW75","v":"£m"},{"$f":"WINEP_Inputs!CX75","v":1},null,{"$f":" WINEP_Inputs!CR75","v":0},{"$f":" WINEP_Inputs!CS75","v":1},{"$f":" WINEP_Inputs!CT75","v":1},{"$f":" WINEP_Inputs!CU75","v":1},{"$f":" WINEP_Inputs!CV75","v":"WWN"},{"$f":" IF(K80 = 0, 0, K80 / J80)","v":1}]
[null,null,{"$f":" WINEP_Inputs!A76","v":"KSL00386"},{"$f":" WINEP_Inputs!J76","v":"7TW300090"},{"$f":" WINEP_Inputs!K76","v":"Bethersden wwtw"},{"$f":"WINEP_Inputs!CW76","v":"£m"},{"$f":"WINEP_Inputs!CX76","v":1},null,{"$f":" WINEP_Inputs!CR76","v":0},{"$f":" WINEP_Inputs!CS76","v":1},{"$f":" WINEP_Inputs!CT76","v":1},{"$f":" WINEP_Inputs!CU76","v":1},{"$f":" WINEP_Inputs!CV76","v":"WWN"},1]
[null,null,{"$f":" WINEP_Inputs!A77","v":"KSL00387"},{"$f":" WINEP_Inputs!J77","v":"7TW300091"},{"$f":" WINEP_Inputs!K77","v":"High Halden"},{"$f":"WINEP_Inputs!CW77","v":"£m"},{"$f":"WINEP_Inputs!CX77","v":1},null,{"$f":" WINEP_Inputs!CR77","v":0},{"$f":" WINEP_Inputs!CS77","v":1},{"$f":" WINEP_Inputs!CT77","v":1},{"$f":" WINEP_Inputs!CU77","v":1},{"$f":" WINEP_Inputs!CV77","v":"WWN"},1]
[null,null,{"$f":" WINEP_Inputs!A78","v":"CHM00218"},{"$f":" WINEP_Inputs!J78","v":"7SO300016"},{"$f":" WINEP_Inputs!K78","v":"Cuckfield WWTW (CIP2 T2)"},{"$f":"WINEP_Inputs!CW78","v":"£m"},{"$f":"WINEP_Inputs!CX78","v":1},null,{"$f":" WINEP_Inputs!CR78","v":2.2440000000000002},{"$f":" WINEP_Inputs!CS78","v":1},{"$f":" WINEP_Inputs!CT78","v":1},{"$f":" WINEP_Inputs!CU78","v":1},{"$f":" WINEP_Inputs!CV78","v":"WWN"},1]
[null,null,{"$f":" WINEP_Inputs!A79","v":"SSD00026"},{"$f":" WINEP_Inputs!J79","v":"7SO200191"},{"$f":" WINEP_Inputs!K79","v":"Pan Area, Southern Water PR19 frequently spilling overflows requirements, Water Company Scale, Water Company Scale, Water Company Scale, Water Company Scale, Blank, Blank, Blank, "},{"$f":"WINEP_Inputs!CW79","v":"£m"},{"$f":"WINEP_Inputs!CX79","v":1},null,{"$f":" WINEP_Inputs!CR79","v":0.29199999999999998},{"$f":" WINEP_Inputs!CS79","v":1},{"$f":" WINEP_Inputs!CT79","v":0},{"$f":" WINEP_Inputs!CU79","v":1},{"$f":" WINEP_Inputs!CV79","v":"WWN"},0]
[null,null,{"$f":" WINEP_Inputs!A80","v":"SSD00026"},{"$f":" WINEP_Inputs!J80","v":"7SO200191"},{"$f":" WINEP_Inputs!K80","v":"Dittons Road Polgate CSO"},{"$f":"WINEP_Inputs!CW80","v":"£m"},{"$f":"WINEP_Inputs!CX80","v":1},null,{"$f":" WINEP_Inputs!CR80","v":3.3845000000000001},{"$f":" WINEP_Inputs!CS80","v":1},{"$f":" WINEP_Inputs!CT80","v":1},{"$f":" WINEP_Inputs!CU80","v":0},{"$f":" WINEP_Inputs!CV80","v":"WWN"},1]
[null,null,{"$f":" WINEP_Inputs!A81","v":"SSD00570"},{"$f":" WINEP_Inputs!J81","v":"7SO300448"},{"$f":" WINEP_Inputs!K81","v":"Southern Water PR19 flow requirements"},{"$f":"WINEP_Inputs!CW81","v":"£m"},{"$f":"WINEP_Inputs!CX81","v":1},null,{"$f":" WINEP_Inputs!CR81","v":132.55446095860722},{"$f":" WINEP_Inputs!CS81","v":1},{"$f":" WINEP_Inputs!CT81","v":0},{"$f":" WINEP_Inputs!CU81","v":1},{"$f":" WINEP_Inputs!CV81","v":"WWN"},0]
[null,null,{"$f":" WINEP_Inputs!A82","v":"SSD00653"},{"$f":" WINEP_Inputs!J82","v":"7SO300564"},{"$f":" WINEP_Inputs!K82","v":"WARNHAM WWTW"},{"$f":"WINEP_Inputs!CW82","v":"£m"},{"$f":"WINEP_Inputs!CX82","v":1},null,{"$f":" WINEP_Inputs!CR82","v":99.183000000000007},{"$f":" WINEP_Inputs!CS82","v":1},{"$f":" WINEP_Inputs!CT82","v":1},{"$f":" WINEP_Inputs!CU82","v":0},{"$f":" WINEP_Inputs!CV82","v":"WWN"},1]
[null,null,{"$f":" WINEP_Inputs!A83","v":"SSD00608"},{"$f":" WINEP_Inputs!J83","v":"7SO300500"},{"$f":" WINEP_Inputs!K83","v":"ASHINGTON WWTW"},{"$f":"WINEP_Inputs!CW83","v":"£m"},{"$f":"WINEP_Inputs!CX83","v":1},null,{"$f":" WINEP_Inputs!CR83","v":0},{"$f":" WINEP_Inputs!CS83","v":1},{"$f":" WINEP_Inputs!CT83","v":1},{"$f":" WINEP_Inputs!CU83","v":0},{"$f":" WINEP_Inputs!CV83","v":"WWN"},1]
[null,null,{"$f":" WINEP_Inputs!A84","v":"SSD00609"},{"$f":" WINEP_Inputs!J84","v":"7SO300501"},{"$f":" WINEP_Inputs!K84","v":"ASHLETT CREEK FAWLEY WWTW"},{"$f":"WINEP_Inputs!CW84","v":"£m"},{"$f":"WINEP_Inputs!CX84","v":1},null,{"$f":" WINEP_Inputs!CR84","v":0},{"$f":" WINEP_Inputs!CS84","v":0},{"$f":" WINEP_Inputs!CT84","v":1},{"$f":" WINEP_Inputs!CU84","v":0},{"$f":" WINEP_Inputs!CV84","v":"WWN"}]
[null,null,{"$f":" WINEP_Inputs!A85","v":"SSD00610"},{"$f":" WINEP_Inputs!J85","v":"7SO300502"},{"$f":" WINEP_Inputs!K85","v":"BARCOMBE NEW WWTW"},{"$f":"WINEP_Inputs!CW85","v":"£m"},{"$f":"WINEP_Inputs!CX85","v":1},null,{"$f":" WINEP_Inputs!CR85","v":0},{"$f":" WINEP_Inputs!CS85","v":0},{"$f":" WINEP_Inputs!CT85","v":1},{"$f":" WINEP_Inputs!CU85","v":0},{"$f":" WINEP_Inputs!CV85","v":"WWN"}]
[null,null,{"$f":" WINEP_Inputs!A86","v":"KSL00432"},{"$f":" WINEP_Inputs!J86","v":"7SO300503"},{"$f":" WINEP_Inputs!K86","v":"BATTLE WWTW"},{"$f":"WINEP_Inputs!CW86","v":"£m"},{"$f":"WINEP_Inputs!CX86","v":1},null,{"$f":" WINEP_Inputs!CR86","v":0},{"$f":" WINEP_Inputs!CS86","v":0},{"$f":" WINEP_Inputs!CT86","v":1},{"$f":" WINEP_Inputs!CU86","v":0},{"$f":" WINEP_Inputs!CV86","v":"WWN"}]
[null,null,{"$f":" WINEP_Inputs!A87","v":"SSD00611"},{"$f":" WINEP_Inputs!J87","v":"7SO300504"},{"$f":" WINEP_Inputs!K87","v":"BLACKBOYS WWTW"},{"$f":"WINEP_Inputs!CW87","v":"£m"},{"$f":"WINEP_Inputs!CX87","v":1},null,{"$f":" WINEP_Inputs!CR87","v":0},{"$f":" WINEP_Inputs!CS87","v":1},{"$f":" WINEP_Inputs!CT87","v":1},{"$f":" WINEP_Inputs!CU87","v":0},{"$f":" WINEP_Inputs!CV87","v":"WWN"},1]
[null,null,{"$f":" WINEP_Inputs!A88","v":"SSD00612"},{"$f":" WINEP_Inputs!J88","v":"7SO300505"},{"$f":" WINEP_Inputs!K88","v":"BRIGHSTONE WWTW"},{"$f":"WINEP_Inputs!CW88","v":"£m"},{"$f":"WINEP_Inputs!CX88","v":1},null,{"$f":" WINEP_Inputs!CR88","v":0},{"$f":" WINEP_Inputs!CS88","v":0},{"$f":" WINEP_Inputs!CT88","v":1},{"$f":" WINEP_Inputs!CU88","v":0},{"$f":" WINEP_Inputs!CV88","v":"WWN"}]
[null,null,{"$f":" WINEP_Inputs!A89","v":"SSD00613"},{"$f":" WINEP_Inputs!J89","v":"7SO300506"},{"$f":" WINEP_Inputs!K89","v":"BROCKENHURST WWTW"},{"$f":"WINEP_Inputs!CW89","v":"£m"},{"$f":"WINEP_Inputs!CX89","v":1},null,{"$f":" WINEP_Inputs!CR89","v":0},{"$f":" WINEP_Inputs!CS89","v":1},{"$f":" WINEP_Inputs!CT89","v":1},{"$f":" WINEP_Inputs!CU89","v":0},{"$f":" WINEP_Inputs!CV89","v":"WWN"},1]
[null,null,{"$f":" WINEP_Inputs!A90","v":"SSD00614"},{"$f":" WINEP_Inputs!J90","v":"7SO300507"},{"$f":" WINEP_Inputs!K90","v":"BUDDS FARM HAVANT (Havant) WWTW"},{"$f":"WINEP_Inputs!CW90","v":"£m"},{"$f":"WINEP_Inputs!CX90","v":1},null,{"$f":" WINEP_Inputs!CR90","v":0},{"$f":" WINEP_Inputs!CS90","v":1},{"$f":" WINEP_Inputs!CT90","v":0},{"$f":" WINEP_Inputs!CU90","v":0},{"$f":" WINEP_Inputs!CV90","v":"WWN"},0]
[null,null,{"$f":" WINEP_Inputs!A91","v":"SSD00615"},{"$f":" WINEP_Inputs!J91","v":"7SO300508"},{"$f":" WINEP_Inputs!K91","v":"BURITON WWTW"},{"$f":"WINEP_Inputs!CW91","v":"£m"},{"$f":"WINEP_Inputs!CX91","v":1},null,{"$f":" WINEP_Inputs!CR91","v":0},{"$f":" WINEP_Inputs!CS91","v":1},{"$f":" WINEP_Inputs!CT91","v":1},{"$f":" WINEP_Inputs!CU91","v":0},{"$f":" WINEP_Inputs!CV91","v":"WWN"},1]
[null,null,{"$f":" WINEP_Inputs!A92","v":"KSL00433"},{"$f":" WINEP_Inputs!J92","v":"7SO300509"},{"$f":" WINEP_Inputs!K92","v":"BURWASH COMMON WWTW"},{"$f":"WINEP_Inputs!CW92","v":"£m"},{"$f":"WINEP_Inputs!CX92","v":1},null,{"$f":" WINEP_Inputs!CR92","v":0},{"$f":" WINEP_Inputs!CS92","v":1},{"$f":" WINEP_Inputs!CT92","v":1},{"$f":" WINEP_Inputs!CU92","v":0},{"$f":" WINEP_Inputs!CV92","v":"WWN"},1]
[null,null,{"$f":" WINEP_Inputs!A93","v":"SSD00616"},{"$f":" WINEP_Inputs!J93","v":"7SO300510"},{"$f":" WINEP_Inputs!K93","v":"BURY WWTW"},{"$f":"WINEP_Inputs!CW93","v":"£m"},{"$f":"WINEP_Inputs!CX93","v":1},null,{"$f":" WINEP_Inputs!CR93","v":0},{"$f":" WINEP_Inputs!CS93","v":1},{"$f":" WINEP_Inputs!CT93","v":1},{"$f":" WINEP_Inputs!CU93","v":0},{"$f":" WINEP_Inputs!CV93","v":"WWN"},1]
[null,null,{"$f":" WINEP_Inputs!A94","v":"SSD00617"},{"$f":" WINEP_Inputs!J94","v":"7SO300511"},{"$f":" WINEP_Inputs!K94","v":"BUXTED WWTW"},{"$f":"WINEP_Inputs!CW94","v":"£m"},{"$f":"WINEP_Inputs!CX94","v":1},null,{"$f":" WINEP_Inputs!CR94","v":0},{"$f":" WINEP_Inputs!CS94","v":1},{"$f":" WINEP_Inputs!CT94","v":1},{"$f":" WINEP_Inputs!CU94","v":0},{"$f":" WINEP_Inputs!CV94","v":"WWN"},1]
[null,null,{"$f":" WINEP_Inputs!A95","v":"SSD00618"},{"$f":" WINEP_Inputs!J95","v":"7SO300512"},{"$f":" WINEP_Inputs!K95","v":"CALBOURNE WWTW"},{"$f":"WINEP_Inputs!CW95","v":"£m"},{"$f":"WINEP_Inputs!CX95","v":1},null,{"$f":" WINEP_Inputs!CR95","v":0},{"$f":" WINEP_Inputs!CS95","v":1},{"$f":" WINEP_Inputs!CT95","v":1},{"$f":" WINEP_Inputs!CU95","v":0},{"$f":" WINEP_Inputs!CV95","v":"WWN"},1]
[null,null,{"$f":" WINEP_Inputs!A96","v":"SSD00619"},{"$f":" WINEP_Inputs!J96","v":"7SO300513"},{"$f":" WINEP_Inputs!K96","v":"CHICHESTER WWTW"},{"$f":"WINEP_Inputs!CW96","v":"£m"},{"$f":"WINEP_Inputs!CX96","v":1},null,{"$f":" WINEP_Inputs!CR96","v":0},{"$f":" WINEP_Inputs!CS96","v":1},{"$f":" WINEP_Inputs!CT96","v":0},{"$f":" WINEP_Inputs!CU96","v":0},{"$f":" WINEP_Inputs!CV96","v":"WWN"},0]
[null,null,{"$f":" WINEP_Inputs!A97","v":"SSD00620"},{"$f":" WINEP_Inputs!J97","v":"7SO300514"},{"$f":" WINEP_Inputs!K97","v":"CHIDDINGFOLD WWTW"},{"$f":"WINEP_Inputs!CW97","v":"£m"},{"$f":"WINEP_Inputs!CX97","v":1},null,{"$f":" WINEP_Inputs!CR97","v":0},{"$f":" WINEP_Inputs!CS97","v":0},{"$f":" WINEP_Inputs!CT97","v":1},{"$f":" WINEP_Inputs!CU97","v":0},{"$f":" WINEP_Inputs!CV97","v":"WWN"}]
[null,null,{"$f":" WINEP_Inputs!A98","v":"SSD00621"},{"$f":" WINEP_Inputs!J98","v":"7SO300515"},{"$f":" WINEP_Inputs!K98","v":"CHILBOLTON WWTW"},{"$f":"WINEP_Inputs!CW98","v":"£m"},{"$f":"WINEP_Inputs!CX98","v":1},null,{"$f":" WINEP_Inputs!CR98","v":0},{"$f":" WINEP_Inputs!CS98","v":0},{"$f":" WINEP_Inputs!CT98","v":1},{"$f":" WINEP_Inputs!CU98","v":0},{"$f":" WINEP_Inputs!CV98","v":"WWN"}]
[null,null,{"$f":" WINEP_Inputs!A99","v":"KSL00434"},{"$f":" WINEP_Inputs!J99","v":"7SO300516"},{"$f":" WINEP_Inputs!K99","v":"COWDEN WWTW"},{"$f":"WINEP_Inputs!CW99","v":"£m"},{"$f":"WINEP_Inputs!CX99","v":1},null,{"$f":" WINEP_Inputs!CR99","v":0},{"$f":" WINEP_Inputs!CS99","v":0},{"$f":" WINEP_Inputs!CT99","v":1},{"$f":" WINEP_Inputs!CU99","v":0},{"$f":" WINEP_Inputs!CV99","v":"WWN"}]
[null,null,{"$f":" WINEP_Inputs!A100","v":"KSL00435"},{"$f":" WINEP_Inputs!J100","v":"7SO300517"},{"$f":" WINEP_Inputs!K100","v":"CRANBROOK WWTW"},{"$f":"WINEP_Inputs!CW100","v":"£m"},{"$f":"WINEP_Inputs!CX100","v":1},null,{"$f":" WINEP_Inputs!CR100","v":0},{"$f":" WINEP_Inputs!CS100","v":1},{"$f":" WINEP_Inputs!CT100","v":1},{"$f":" WINEP_Inputs!CU100","v":0},{"$f":" WINEP_Inputs!CV100","v":"WWN"},1]
[null,null,{"$f":" WINEP_Inputs!A101","v":"SSD00622"},{"$f":" WINEP_Inputs!J101","v":"7SO300518"},{"$f":" WINEP_Inputs!K101","v":"DITCHLING WWTW"},{"$f":"WINEP_Inputs!CW101","v":"£m"},{"$f":"WINEP_Inputs!CX101","v":1},null,{"$f":" WINEP_Inputs!CR101","v":0},{"$f":" WINEP_Inputs!CS101","v":1},{"$f":" WINEP_Inputs!CT101","v":1},{"$f":" WINEP_Inputs!CU101","v":0},{"$f":" WINEP_Inputs!CV101","v":"WWN"},1]
[null,null,{"$f":" WINEP_Inputs!A102","v":"SSD00623"},{"$f":" WINEP_Inputs!J102","v":"7SO300519"},{"$f":" WINEP_Inputs!K102","v":"EAST GRIMSTEAD WWTW"},{"$f":"WINEP_Inputs!CW102","v":"£m"},{"$f":"WINEP_Inputs!CX102","v":1},null,{"$f":" WINEP_Inputs!CR102","v":0},{"$f":" WINEP_Inputs!CS102","v":1},{"$f":" WINEP_Inputs!CT102","v":1},{"$f":" WINEP_Inputs!CU102","v":0},{"$f":" WINEP_Inputs!CV102","v":"WWN"},1]
[null,null,{"$f":" WINEP_Inputs!A103","v":"SSD00624"},{"$f":" WINEP_Inputs!J103","v":"7SO300520"},{"$f":" WINEP_Inputs!K103","v":"FITTLEWORTH WWTW"},{"$f":"WINEP_Inputs!CW103","v":"£m"},{"$f":"WINEP_Inputs!CX103","v":1},null,{"$f":" WINEP_Inputs!CR103","v":0},{"$f":" WINEP_Inputs!CS103","v":1},{"$f":" WINEP_Inputs!CT103","v":1},{"$f":" WINEP_Inputs!CU103","v":0},{"$f":" WINEP_Inputs!CV103","v":"WWN"},1]
[null,null,{"$f":" WINEP_Inputs!A104","v":"SSD00625"},{"$f":" WINEP_Inputs!J104","v":"7SO300521"},{"$f":" WINEP_Inputs!K104","v":"FLEXFORD LANE SWAY WWTW"},{"$f":"WINEP_Inputs!CW104","v":"£m"},{"$f":"WINEP_Inputs!CX104","v":1},null,{"$f":" WINEP_Inputs!CR104","v":0},{"$f":" WINEP_Inputs!CS104","v":0},{"$f":" WINEP_Inputs!CT104","v":1},{"$f":" WINEP_Inputs!CU104","v":0},{"$f":" WINEP_Inputs!CV104","v":"WWN"}]
[null,null,{"$f":" WINEP_Inputs!A105","v":"SSD00626"},{"$f":" WINEP_Inputs!J105","v":"7SO300522"},{"$f":" WINEP_Inputs!K105","v":"HALLAND WWTW"},{"$f":"WINEP_Inputs!CW105","v":"£m"},{"$f":"WINEP_Inputs!CX105","v":1},null,{"$f":" WINEP_Inputs!CR105","v":0},{"$f":" WINEP_Inputs!CS105","v":1},{"$f":" WINEP_Inputs!CT105","v":1},{"$f":" WINEP_Inputs!CU105","v":0},{"$f":" WINEP_Inputs!CV105","v":"WWN"},1]
[null,null,{"$f":" WINEP_Inputs!A106","v":"KSL00436"},{"$f":" WINEP_Inputs!J106","v":"7SO300523"},{"$f":" WINEP_Inputs!K106","v":"HAMSTREET WWTW"},{"$f":"WINEP_Inputs!CW106","v":"£m"},{"$f":"WINEP_Inputs!CX106","v":1},null,{"$f":" WINEP_Inputs!CR106","v":0},{"$f":" WINEP_Inputs!CS106","v":0},{"$f":" WINEP_Inputs!CT106","v":1},{"$f":" WINEP_Inputs!CU106","v":0},{"$f":" WINEP_Inputs!CV106","v":"WWN"}]
[null,null,{"$f":" WINEP_Inputs!A107","v":"KSL00437"},{"$f":" WINEP_Inputs!J107","v":"7SO300524"},{"$f":" WINEP_Inputs!K107","v":"HAWKHURST NORTH WWTW"},{"$f":"WINEP_Inputs!CW107","v":"£m"},{"$f":"WINEP_Inputs!CX107","v":1},null,{"$f":" WINEP_Inputs!CR107","v":0},{"$f":" WINEP_Inputs!CS107","v":1},{"$f":" WINEP_Inputs!CT107","v":1},{"$f":" WINEP_Inputs!CU107","v":0},{"$f":" WINEP_Inputs!CV107","v":"WWN"},1]
[null,null,{"$f":" WINEP_Inputs!A108","v":"KSL00438"},{"$f":" WINEP_Inputs!J108","v":"7SO300525"},{"$f":" WINEP_Inputs!K108","v":"HAWKHURST SOUTH WWTW"},{"$f":"WINEP_Inputs!CW108","v":"£m"},{"$f":"WINEP_Inputs!CX108","v":1},null,{"$f":" WINEP_Inputs!CR108","v":0},{"$f":" WINEP_Inputs!CS108","v":1},{"$f":" WINEP_Inputs!CT108","v":1},{"$f":" WINEP_Inputs!CU108","v":0},{"$f":" WINEP_Inputs!CV108","v":"WWN"},1]
[null,null,{"$f":" WINEP_Inputs!A109","v":"SSD00627"},{"$f":" WINEP_Inputs!J109","v":"7SO300526"},{"$f":" WINEP_Inputs!K109","v":"HENFIELD WWTW"},{"$f":"WINEP_Inputs!CW109","v":"£m"},{"$f":"WINEP_Inputs!CX109","v":1},null,{"$f":" WINEP_Inputs!CR109","v":0},{"$f":" WINEP_Inputs!CS109","v":1},{"$f":" WINEP_Inputs!CT109","v":1},{"$f":" WINEP_Inputs!CU109","v":0},{"$f":" WINEP_Inputs!CV109","v":"WWN"},1]
[null,null,{"$f":" WINEP_Inputs!A110","v":"KSL00439"},{"$f":" WINEP_Inputs!J110","v":"7SO300527"},{"$f":" WINEP_Inputs!K110","v":"HIGH HALDEN WWTW"},{"$f":"WINEP_Inputs!CW110","v":"£m"},{"$f":"WINEP_Inputs!CX110","v":1},null,{"$f":" WINEP_Inputs!CR110","v":0},{"$f":" WINEP_Inputs!CS110","v":1},{"$f":" WINEP_Inputs!CT110","v":1},{"$f":" WINEP_Inputs!CU110","v":0},{"$f":" WINEP_Inputs!CV110","v":"WWN"},1]
[null,null,{"$f":" WINEP_Inputs!A111","v":"SSD00628"},{"$f":" WINEP_Inputs!J111","v":"7SO300528"},{"$f":" WINEP_Inputs!K111","v":"HORSTED KEYNES WWTW"},{"$f":"WINEP_Inputs!CW111","v":"£m"},{"$f":"WINEP_Inputs!CX111","v":1},null,{"$f":" WINEP_Inputs!CR111","v":0},{"$f":" WINEP_Inputs!CS111","v":1},{"$f":" WINEP_Inputs!CT111","v":1},{"$f":" WINEP_Inputs!CU111","v":0},{"$f":" WINEP_Inputs!CV111","v":"WWN"},1]
[null,null,{"$f":" WINEP_Inputs!A112","v":"SSD00629"},{"$f":" WINEP_Inputs!J112","v":"7SO300529"},{"$f":" WINEP_Inputs!K112","v":"KINGS SOMBORNE WWTW"},{"$f":"WINEP_Inputs!CW112","v":"£m"},{"$f":"WINEP_Inputs!CX112","v":1},null,{"$f":" WINEP_Inputs!CR112","v":0},{"$f":" WINEP_Inputs!CS112","v":1},{"$f":" WINEP_Inputs!CT112","v":1},{"$f":" WINEP_Inputs!CU112","v":0},{"$f":" WINEP_Inputs!CV112","v":"WWN"},1]
[null,null,{"$f":" WINEP_Inputs!A113","v":"SSD00630"},{"$f":" WINEP_Inputs!J113","v":"7SO300530"},{"$f":" WINEP_Inputs!K113","v":"LAVANT WWTW"},{"$f":"WINEP_Inputs!CW113","v":"£m"},{"$f":"WINEP_Inputs!CX113","v":1},null,{"$f":" WINEP_Inputs!CR113","v":0},{"$f":" WINEP_Inputs!CS113","v":1},{"$f":" WINEP_Inputs!CT113","v":1},{"$f":" WINEP_Inputs!CU113","v":0},{"$f":" WINEP_Inputs!CV113","v":"WWN"},1]
[null,null,{"$f":" WINEP_Inputs!A114","v":"SSD00631"},{"$f":" WINEP_Inputs!J114","v":"7SO300531"},{"$f":" WINEP_Inputs!K114","v":"LIDSEY WWTW"},{"$f":"WINEP_Inputs!CW114","v":"£m"},{"$f":"WINEP_Inputs!CX114","v":1},null,{"$f":" WINEP_Inputs!CR114","v":0},{"$f":" WINEP_Inputs!CS114","v":1},{"$f":" WINEP_Inputs!CT114","v":0},{"$f":" WINEP_Inputs!CU114","v":0},{"$f":" WINEP_Inputs!CV114","v":"WWN"},0]
[null,null,{"$f":" WINEP_Inputs!A115","v":"KSL00440"},{"$f":" WINEP_Inputs!J115","v":"7SO300532"},{"$f":" WINEP_Inputs!K115","v":"LINGFIELD WWTW"},{"$f":"WINEP_Inputs!CW115","v":"£m"},{"$f":"WINEP_Inputs!CX115","v":1},null,{"$f":" WINEP_Inputs!CR115","v":0},{"$f":" WINEP_Inputs!CS115","v":1},{"$f":" WINEP_Inputs!CT115","v":1},{"$f":" WINEP_Inputs!CU115","v":0},{"$f":" WINEP_Inputs!CV115","v":"WWN"},1]
[null,null,{"$f":" WINEP_Inputs!A116","v":"SSD00632"},{"$f":" WINEP_Inputs!J116","v":"7SO300533"},{"$f":" WINEP_Inputs!K116","v":"LISS WWTW"},{"$f":"WINEP_Inputs!CW116","v":"£m"},{"$f":"WINEP_Inputs!CX116","v":1},null,{"$f":" WINEP_Inputs!CR116","v":0},{"$f":" WINEP_Inputs!CS116","v":1},{"$f":" WINEP_Inputs!CT116","v":1},{"$f":" WINEP_Inputs!CU116","v":0},{"$f":" WINEP_Inputs!CV116","v":"WWN"},1]
[null,null,{"$f":" WINEP_Inputs!A117","v":"SSD00633"},{"$f":" WINEP_Inputs!J117","v":"7SO300534"},{"$f":" WINEP_Inputs!K117","v":"LOXWOOD WWTW"},{"$f":"WINEP_Inputs!CW117","v":"£m"},{"$f":"WINEP_Inputs!CX117","v":1},null,{"$f":" WINEP_Inputs!CR117","v":0},{"$f":" WINEP_Inputs!CS117","v":1},{"$f":" WINEP_Inputs!CT117","v":1},{"$f":" WINEP_Inputs!CU117","v":0},{"$f":" WINEP_Inputs!CV117","v":"WWN"},1]
[null,null,{"$f":" WINEP_Inputs!A118","v":"SSD00634"},{"$f":" WINEP_Inputs!J118","v":"7SO300535"},{"$f":" WINEP_Inputs!K118","v":"LYNDHURST WWTW"},{"$f":"WINEP_Inputs!CW118","v":"£m"},{"$f":"WINEP_Inputs!CX118","v":1},null,{"$f":" WINEP_Inputs!CR118","v":0},{"$f":" WINEP_Inputs!CS118","v":0},{"$f":" WINEP_Inputs!CT118","v":1},{"$f":" WINEP_Inputs!CU118","v":0},{"$f":" WINEP_Inputs!CV118","v":"WWN"}]
[null,null,{"$f":" WINEP_Inputs!A119","v":"SSD00635"},{"$f":" WINEP_Inputs!J119","v":"7SO300536"},{"$f":" WINEP_Inputs!K119","v":"MANNINGS HEATH WWTW"},{"$f":"WINEP_Inputs!CW119","v":"£m"},{"$f":"WINEP_Inputs!CX119","v":1},null,{"$f":" WINEP_Inputs!CR119","v":0},{"$f":" WINEP_Inputs!CS119","v":1},{"$f":" WINEP_Inputs!CT119","v":1},{"$f":" WINEP_Inputs!CU119","v":0},{"$f":" WINEP_Inputs!CV119","v":"WWN"},1]
[null,null,{"$f":" WINEP_Inputs!A120","v":"SSD00636"},{"$f":" WINEP_Inputs!J120","v":"7SO300537"},{"$f":" WINEP_Inputs!K120","v":"MARESFIELD WWTW"},{"$f":"WINEP_Inputs!CW120","v":"£m"},{"$f":"WINEP_Inputs!CX120","v":1},null,{"$f":" WINEP_Inputs!CR120","v":0},{"$f":" WINEP_Inputs!CS120","v":1},{"$f":" WINEP_Inputs!CT120","v":1},{"$f":" WINEP_Inputs!CU120","v":0},{"$f":" WINEP_Inputs!CV120","v":"WWN"},1]
[null,null,{"$f":" WINEP_Inputs!A121","v":"SSD00637"},{"$f":" WINEP_Inputs!J121","v":"7SO300538"},{"$f":" WINEP_Inputs!K121","v":"MILFORD ROAD PENNINGTON WWTW"},{"$f":"WINEP_Inputs!CW121","v":"£m"},{"$f":"WINEP_Inputs!CX121","v":1},null,{"$f":" WINEP_Inputs!CR121","v":0},{"$f":" WINEP_Inputs!CS121","v":1},{"$f":" WINEP_Inputs!CT121","v":0},{"$f":" WINEP_Inputs!CU121","v":0},{"$f":" WINEP_Inputs!CV121","v":"WWN"},0]
[null,null,{"$f":" WINEP_Inputs!A122","v":"SSD00638"},{"$f":" WINEP_Inputs!J122","v":"7SO300539"},{"$f":" WINEP_Inputs!K122","v":"MILLBROOK WWTW"},{"$f":"WINEP_Inputs!CW122","v":"£m"},{"$f":"WINEP_Inputs!CX122","v":1},null,{"$f":" WINEP_Inputs!CR122","v":0},{"$f":" WINEP_Inputs!CS122","v":1},{"$f":" WINEP_Inputs!CT122","v":1},{"$f":" WINEP_Inputs!CU122","v":0},{"$f":" WINEP_Inputs!CV122","v":"WWN"},1]
[null,null,{"$f":" WINEP_Inputs!A123","v":"SSD00639"},{"$f":" WINEP_Inputs!J123","v":"7SO300540"},{"$f":" WINEP_Inputs!K123","v":"MONKS GATE WWTW"},{"$f":"WINEP_Inputs!CW123","v":"£m"},{"$f":"WINEP_Inputs!CX123","v":1},null,{"$f":" WINEP_Inputs!CR123","v":0},{"$f":" WINEP_Inputs!CS123","v":1},{"$f":" WINEP_Inputs!CT123","v":1},{"$f":" WINEP_Inputs!CU123","v":0},{"$f":" WINEP_Inputs!CV123","v":"WWN"},1]
[null,null,{"$f":" WINEP_Inputs!A124","v":"SSD00640"},{"$f":" WINEP_Inputs!J124","v":"7SO300541"},{"$f":" WINEP_Inputs!K124","v":"NORTHCHAPEL WWTW"},{"$f":"WINEP_Inputs!CW124","v":"£m"},{"$f":"WINEP_Inputs!CX124","v":1},null,{"$f":" WINEP_Inputs!CR124","v":0},{"$f":" WINEP_Inputs!CS124","v":1},{"$f":" WINEP_Inputs!CT124","v":1},{"$f":" WINEP_Inputs!CU124","v":0},{"$f":" WINEP_Inputs!CV124","v":"WWN"},1]
[null,null,{"$f":" WINEP_Inputs!A125","v":"KSL00441"},{"$f":" WINEP_Inputs!J125","v":"7SO300542"},{"$f":" WINEP_Inputs!K125","v":"OXTED WWTW"},{"$f":"WINEP_Inputs!CW125","v":"£m"},{"$f":"WINEP_Inputs!CX125","v":1},null,{"$f":" WINEP_Inputs!CR125","v":0},{"$f":" WINEP_Inputs!CS125","v":1},{"$f":" WINEP_Inputs!CT125","v":0},{"$f":" WINEP_Inputs!CU125","v":0},{"$f":" WINEP_Inputs!CV125","v":"WWN"},0]
[null,null,{"$f":" WINEP_Inputs!A126","v":"SSD00641"},{"$f":" WINEP_Inputs!J126","v":"7SO300543"},{"$f":" WINEP_Inputs!K126","v":"PARTRIDGE GREEN WWTW"},{"$f":"WINEP_Inputs!CW126","v":"£m"},{"$f":"WINEP_Inputs!CX126","v":1},null,{"$f":" WINEP_Inputs!CR126","v":0},{"$f":" WINEP_Inputs!CS126","v":1},{"$f":" WINEP_Inputs!CT126","v":1},{"$f":" WINEP_Inputs!CU126","v":0},{"$f":" WINEP_Inputs!CV126","v":"WWN"},1]
[null,null,{"$f":" WINEP_Inputs!A127","v":"SSD00642"},{"$f":" WINEP_Inputs!J127","v":"7SO300544"},{"$f":" WINEP_Inputs!K127","v":"PEEL COMMON WWTW"},{"$f":"WINEP_Inputs!CW127","v":"£m"},{"$f":"WINEP_Inputs!CX127","v":1},null,{"$f":" WINEP_Inputs!CR127","v":0},{"$f":" WINEP_Inputs!CS127","v":1},{"$f":" WINEP_Inputs!CT127","v":0},{"$f":" WINEP_Inputs!CU127","v":0},{"$f":" WINEP_Inputs!CV127","v":"WWN"},0]
[null,null,{"$f":" WINEP_Inputs!A128","v":"KSL00442"},{"$f":" WINEP_Inputs!J128","v":"7SO300545"},{"$f":" WINEP_Inputs!K128","v":"QUEENBOROUGH WWTW"},{"$f":"WINEP_Inputs!CW128","v":"£m"},{"$f":"WINEP_Inputs!CX128","v":1},null,{"$f":" WINEP_Inputs!CR128","v":0},{"$f":" WINEP_Inputs!CS128","v":1},{"$f":" WINEP_Inputs!CT128","v":1},{"$f":" WINEP_Inputs!CU128","v":0},{"$f":" WINEP_Inputs!CV128","v":"WWN"},1]
[null,null,{"$f":" WINEP_Inputs!A129","v":"KSL00443"},{"$f":" WINEP_Inputs!J129","v":"7SO300546"},{"$f":" WINEP_Inputs!K129","v":"QUICKBOURNE LANE NORTHIAM WWTW"},{"$f":"WINEP_Inputs!CW129","v":"£m"},{"$f":"WINEP_Inputs!CX129","v":1},null,{"$f":" WINEP_Inputs!CR129","v":0},{"$f":" WINEP_Inputs!CS129","v":1},{"$f":" WINEP_Inputs!CT129","v":1},{"$f":" WINEP_Inputs!CU129","v":0},{"$f":" WINEP_Inputs!CV129","v":"WWN"},1]
[null,null,{"$f":" WINEP_Inputs!A130","v":"SSD00643"},{"$f":" WINEP_Inputs!J130","v":"7SO300547"},{"$f":" WINEP_Inputs!K130","v":"REDLYNCH WWTW"},{"$f":"WINEP_Inputs!CW130","v":"£m"},{"$f":"WINEP_Inputs!CX130","v":1},null,{"$f":" WINEP_Inputs!CR130","v":0},{"$f":" WINEP_Inputs!CS130","v":0},{"$f":" WINEP_Inputs!CT130","v":1},{"$f":" WINEP_Inputs!CU130","v":0},{"$f":" WINEP_Inputs!CV130","v":"WWN"}]
[null,null,{"$f":" WINEP_Inputs!A131","v":"KSL00444"},{"$f":" WINEP_Inputs!J131","v":"7SO300548"},{"$f":" WINEP_Inputs!K131","v":"ROBERTSBRIDGE WWTW"},{"$f":"WINEP_Inputs!CW131","v":"£m"},{"$f":"WINEP_Inputs!CX131","v":1},null,{"$f":" WINEP_Inputs!CR131","v":0},{"$f":" WINEP_Inputs!CS131","v":1},{"$f":" WINEP_Inputs!CT131","v":1},{"$f":" WINEP_Inputs!CU131","v":0},{"$f":" WINEP_Inputs!CV131","v":"WWN"},1]
[null,null,{"$f":" WINEP_Inputs!A132","v":"SSD00644"},{"$f":" WINEP_Inputs!J132","v":"7SO300549"},{"$f":" WINEP_Inputs!K132","v":"ROUD WWTW"},{"$f":"WINEP_Inputs!CW132","v":"£m"},{"$f":"WINEP_Inputs!CX132","v":1},null,{"$f":" WINEP_Inputs!CR132","v":0},{"$f":" WINEP_Inputs!CS132","v":1},{"$f":" WINEP_Inputs!CT132","v":1},{"$f":" WINEP_Inputs!CU132","v":0},{"$f":" WINEP_Inputs!CV132","v":"WWN"},1]
[null,null,{"$f":" WINEP_Inputs!A133","v":"KSL00445"},{"$f":" WINEP_Inputs!J133","v":"7SO300550"},{"$f":" WINEP_Inputs!K133","v":"SANDHURST WWTW"},{"$f":"WINEP_Inputs!CW133","v":"£m"},{"$f":"WINEP_Inputs!CX133","v":1},null,{"$f":" WINEP_Inputs!CR133","v":0},{"$f":" WINEP_Inputs!CS133","v":1},{"$f":" WINEP_Inputs!CT133","v":1},{"$f":" WINEP_Inputs!CU133","v":0},{"$f":" WINEP_Inputs!CV133","v":"WWN"},1]
[null,null,{"$f":" WINEP_Inputs!A134","v":"SSD00645"},{"$f":" WINEP_Inputs!J134","v":"7SO300551"},{"$f":" WINEP_Inputs!K134","v":"SANDOWN NEW WWTW"},{"$f":"WINEP_Inputs!CW134","v":"£m"},{"$f":"WINEP_Inputs!CX134","v":1},null,{"$f":" WINEP_Inputs!CR134","v":0},{"$f":" WINEP_Inputs!CS134","v":1},{"$f":" WINEP_Inputs!CT134","v":1},{"$f":" WINEP_Inputs!CU134","v":0},{"$f":" WINEP_Inputs!CV134","v":"WWN"},1]
[null,null,{"$f":" WINEP_Inputs!A135","v":"KSL00446"},{"$f":" WINEP_Inputs!J135","v":"7SO300552"},{"$f":" WINEP_Inputs!K135","v":"SITTINGBOURNE WWTW"},{"$f":"WINEP_Inputs!CW135","v":"£m"},{"$f":"WINEP_Inputs!CX135","v":1},null,{"$f":" WINEP_Inputs!CR135","v":0},{"$f":" WINEP_Inputs!CS135","v":0},{"$f":" WINEP_Inputs!CT135","v":0},{"$f":" WINEP_Inputs!CU135","v":0},{"$f":" WINEP_Inputs!CV135","v":"WWN"},0]
[null,null,{"$f":" WINEP_Inputs!A136","v":"SSD00646"},{"$f":" WINEP_Inputs!J136","v":"7SO300553"},{"$f":" WINEP_Inputs!K136","v":"SLINFOLD WWTW"},{"$f":"WINEP_Inputs!CW136","v":"£m"},{"$f":"WINEP_Inputs!CX136","v":1},null,{"$f":" WINEP_Inputs!CR136","v":0},{"$f":" WINEP_Inputs!CS136","v":1},{"$f":" WINEP_Inputs!CT136","v":1},{"$f":" WINEP_Inputs!CU136","v":0},{"$f":" WINEP_Inputs!CV136","v":"WWN"},1]
[null,null,{"$f":" WINEP_Inputs!A137","v":"SSD00647"},{"$f":" WINEP_Inputs!J137","v":"7SO300554"},{"$f":" WINEP_Inputs!K137","v":"SLOWHILL COPSE MARCHWOOD WWTW"},{"$f":"WINEP_Inputs!CW137","v":"£m"},{"$f":"WINEP_Inputs!CX137","v":1},null,{"$f":" WINEP_Inputs!CR137","v":0},{"$f":" WINEP_Inputs!CS137","v":1},{"$f":" WINEP_Inputs!CT137","v":1},{"$f":" WINEP_Inputs!CU137","v":0},{"$f":" WINEP_Inputs!CV137","v":"WWN"},1]
[null,null,{"$f":" WINEP_Inputs!A138","v":"SSD00648"},{"$f":" WINEP_Inputs!J138","v":"7SO300555"},{"$f":" WINEP_Inputs!K138","v":"SMALL DOLE WWTW"},{"$f":"WINEP_Inputs!CW138","v":"£m"},{"$f":"WINEP_Inputs!CX138","v":1},null,{"$f":" WINEP_Inputs!CR138","v":0},{"$f":" WINEP_Inputs!CS138","v":0},{"$f":" WINEP_Inputs!CT138","v":1},{"$f":" WINEP_Inputs!CU138","v":0},{"$f":" WINEP_Inputs!CV138","v":"WWN"}]
[null,null,{"$f":" WINEP_Inputs!A139","v":"SSD00649"},{"$f":" WINEP_Inputs!J139","v":"7SO300556"},{"$f":" WINEP_Inputs!K139","v":"SOUTH HARTING WWTW"},{"$f":"WINEP_Inputs!CW139","v":"£m"},{"$f":"WINEP_Inputs!CX139","v":1},null,{"$f":" WINEP_Inputs!CR139","v":0},{"$f":" WINEP_Inputs!CS139","v":1},{"$f":" WINEP_Inputs!CT139","v":1},{"$f":" WINEP_Inputs!CU139","v":0},{"$f":" WINEP_Inputs!CV139","v":"WWN"},{"$f":" IF(K144 = 0, 0, K144 / J144)","v":1}]
[null,null,{"$f":" WINEP_Inputs!A140","v":"SSD00650"},{"$f":" WINEP_Inputs!J140","v":"7SO300557"},{"$f":" WINEP_Inputs!K140","v":"ST HELENS WWTW"},{"$f":"WINEP_Inputs!CW140","v":"£m"},{"$f":"WINEP_Inputs!CX140","v":1},null,{"$f":" WINEP_Inputs!CR140","v":0},{"$f":" WINEP_Inputs!CS140","v":0},{"$f":" WINEP_Inputs!CT140","v":1},{"$f":" WINEP_Inputs!CU140","v":0},{"$f":" WINEP_Inputs!CV140","v":"WWN"}]
[null,null,{"$f":" WINEP_Inputs!A141","v":"SSD00651"},{"$f":" WINEP_Inputs!J141","v":"7SO300558"},{"$f":" WINEP_Inputs!K141","v":"STEYNING WWTW"},{"$f":"WINEP_Inputs!CW141","v":"£m"},{"$f":"WINEP_Inputs!CX141","v":1},null,{"$f":" WINEP_Inputs!CR141","v":0},{"$f":" WINEP_Inputs!CS141","v":0},{"$f":" WINEP_Inputs!CT141","v":1},{"$f":" WINEP_Inputs!CU141","v":0},{"$f":" WINEP_Inputs!CV141","v":"WWN"}]
[null,null,{"$f":" WINEP_Inputs!A142","v":"KSL00447"},{"$f":" WINEP_Inputs!J142","v":"7SO300559"},{"$f":" WINEP_Inputs!K142","v":"STONE HILL ROAD EGERTON WWTW"},{"$f":"WINEP_Inputs!CW142","v":"£m"},{"$f":"WINEP_Inputs!CX142","v":1},null,{"$f":" WINEP_Inputs!CR142","v":0},{"$f":" WINEP_Inputs!CS142","v":0},{"$f":" WINEP_Inputs!CT142","v":1},{"$f":" WINEP_Inputs!CU142","v":0},{"$f":" WINEP_Inputs!CV142","v":"WWN"}]
[null,null,{"$f":" WINEP_Inputs!A143","v":"KSL00448"},{"$f":" WINEP_Inputs!J143","v":"7SO300560"},{"$f":" WINEP_Inputs!K143","v":"STUBBS LANE BREDE WWTW"},{"$f":"WINEP_Inputs!CW143","v":"£m"},{"$f":"WINEP_Inputs!CX143","v":1},null,{"$f":" WINEP_Inputs!CR143","v":0},{"$f":" WINEP_Inputs!CS143","v":1},{"$f":" WINEP_Inputs!CT143","v":1},{"$f":" WINEP_Inputs!CU143","v":0},{"$f":" WINEP_Inputs!CV143","v":"WWN"},1]
[null,null,{"$f":" WINEP_Inputs!A144","v":"SSD00652"},{"$f":" WINEP_Inputs!J144","v":"7SO300561"},{"$f":" WINEP_Inputs!K144","v":"SUMMER LANE PAGHAM WWTW"},{"$f":"WINEP_Inputs!CW144","v":"£m"},{"$f":"WINEP_Inputs!CX144","v":1},null,{"$f":" WINEP_Inputs!CR144","v":0},{"$f":" WINEP_Inputs!CS144","v":1},{"$f":" WINEP_Inputs!CT144","v":0},{"$f":" WINEP_Inputs!CU144","v":0},{"$f":" WINEP_Inputs!CV144","v":"WWN"},0]
[null,null,{"$f":" WINEP_Inputs!A145","v":"KSL00449"},{"$f":" WINEP_Inputs!J145","v":"7SO300562"},{"$f":" WINEP_Inputs!K145","v":"SWALECLIFFE WWTW"},{"$f":"WINEP_Inputs!CW145","v":"£m"},{"$f":"WINEP_Inputs!CX145","v":1},null,{"$f":" WINEP_Inputs!CR145","v":0},{"$f":" WINEP_Inputs!CS145","v":0},{"$f":" WINEP_Inputs!CT145","v":0},{"$f":" WINEP_Inputs!CU145","v":0},{"$f":" WINEP_Inputs!CV145","v":"WWN"},0]
[null,null,{"$f":" WINEP_Inputs!A146","v":"KSL00450"},{"$f":" WINEP_Inputs!J146","v":"7SO300563"},{"$f":" WINEP_Inputs!K146","v":"TUNBRIDGE WELLS SOUTH WWTW"},{"$f":"WINEP_Inputs!CW146","v":"£m"},{"$f":"WINEP_Inputs!CX146","v":1},null,{"$f":" WINEP_Inputs!CR146","v":0},{"$f":" WINEP_Inputs!CS146","v":0},{"$f":" WINEP_Inputs!CT146","v":0},{"$f":" WINEP_Inputs!CU146","v":0},{"$f":" WINEP_Inputs!CV146","v":"WWN"},0]
[null,null,{"$f":" WINEP_Inputs!A147","v":"KSL00451"},{"$f":" WINEP_Inputs!J147","v":"7SO300565"},{"$f":" WINEP_Inputs!K147","v":"WEST HYTHE WWTW"},{"$f":"WINEP_Inputs!CW147","v":"£m"},{"$f":"WINEP_Inputs!CX147","v":1},null,{"$f":" WINEP_Inputs!CR147","v":0},{"$f":" WINEP_Inputs!CS147","v":0},{"$f":" WINEP_Inputs!CT147","v":1},{"$f":" WINEP_Inputs!CU147","v":0},{"$f":" WINEP_Inputs!CV147","v":"WWN"}]
[null,null,{"$f":" WINEP_Inputs!A148","v":"SSD00654"},{"$f":" WINEP_Inputs!J148","v":"7SO300566"},{"$f":" WINEP_Inputs!K148","v":"WEST WELLOW WWTW"},{"$f":"WINEP_Inputs!CW148","v":"£m"},{"$f":"WINEP_Inputs!CX148","v":1},null,{"$f":" WINEP_Inputs!CR148","v":0},{"$f":" WINEP_Inputs!CS148","v":1},{"$f":" WINEP_Inputs!CT148","v":1},{"$f":" WINEP_Inputs!CU148","v":0},{"$f":" WINEP_Inputs!CV148","v":"WWN"},1]
[null,null,{"$f":" WINEP_Inputs!A149","v":"SSD00571"},{"$f":" WINEP_Inputs!J149","v":"7SO300449"},{"$f":" WINEP_Inputs!K149","v":"Southern Water PR19 flow requirements"},{"$f":"WINEP_Inputs!CW149","v":"£m"},{"$f":"WINEP_Inputs!CX149","v":1},null,{"$f":" WINEP_Inputs!CR149","v":74.053276620122318},{"$f":" WINEP_Inputs!CS149","v":1},{"$f":" WINEP_Inputs!CT149","v":0},{"$f":" WINEP_Inputs!CU149","v":1},{"$f":" WINEP_Inputs!CV149","v":"WWN"},0]
[null,null,{"$f":" WINEP_Inputs!A150","v":"KSL00709"},{"$f":" WINEP_Inputs!J150","v":"7SO400112"},{"$f":" WINEP_Inputs!K150","v":"ASHFORD"},{"$f":"WINEP_Inputs!CW150","v":"£m"},{"$f":"WINEP_Inputs!CX150","v":1},null,{"$f":" WINEP_Inputs!CR150","v":33.523000000000003},{"$f":" WINEP_Inputs!CS150","v":1},{"$f":" WINEP_Inputs!CT150","v":1},{"$f":" WINEP_Inputs!CU150","v":0},{"$f":" WINEP_Inputs!CV150","v":"WWN"},1]
[null,null,{"$f":" WINEP_Inputs!A151","v":"SSD00942"},{"$f":" WINEP_Inputs!J151","v":"7SO400113"},{"$f":" WINEP_Inputs!K151","v":"ASHINGTON"},{"$f":"WINEP_Inputs!CW151","v":"£m"},{"$f":"WINEP_Inputs!CX151","v":1},null,{"$f":" WINEP_Inputs!CR151","v":0},{"$f":" WINEP_Inputs!CS151","v":0},{"$f":" WINEP_Inputs!CT151","v":1},{"$f":" WINEP_Inputs!CU151","v":0},{"$f":" WINEP_Inputs!CV151","v":"WWN"}]
[null,null,{"$f":" WINEP_Inputs!A152","v":"SSD00943"},{"$f":" WINEP_Inputs!J152","v":"7SO400114"},{"$f":" WINEP_Inputs!K152","v":"BALCOMBE"},{"$f":"WINEP_Inputs!CW152","v":"£m"},{"$f":"WINEP_Inputs!CX152","v":1},null,{"$f":" WINEP_Inputs!CR152","v":0},{"$f":" WINEP_Inputs!CS152","v":1},{"$f":" WINEP_Inputs!CT152","v":1},{"$f":" WINEP_Inputs!CU152","v":0},{"$f":" WINEP_Inputs!CV152","v":"WWN"},1]
[null,null,{"$f":" WINEP_Inputs!A153","v":"SSD00944"},{"$f":" WINEP_Inputs!J153","v":"7SO400115"},{"$f":" WINEP_Inputs!K153","v":"BARCOMBE NEW"},{"$f":"WINEP_Inputs!CW153","v":"£m"},{"$f":"WINEP_Inputs!CX153","v":1},null,{"$f":" WINEP_Inputs!CR153","v":0},{"$f":" WINEP_Inputs!CS153","v":0},{"$f":" WINEP_Inputs!CT153","v":1},{"$f":" WINEP_Inputs!CU153","v":0},{"$f":" WINEP_Inputs!CV153","v":"WWN"}]
[null,null,{"$f":" WINEP_Inputs!A154","v":"SSD00945"},{"$f":" WINEP_Inputs!J154","v":"7SO400116"},{"$f":" WINEP_Inputs!K154","v":"BARNS GREEN"},{"$f":"WINEP_Inputs!CW154","v":"£m"},{"$f":"WINEP_Inputs!CX154","v":1},null,{"$f":" WINEP_Inputs!CR154","v":0},{"$f":" WINEP_Inputs!CS154","v":0},{"$f":" WINEP_Inputs!CT154","v":1},{"$f":" WINEP_Inputs!CU154","v":0},{"$f":" WINEP_Inputs!CV154","v":"WWN"}]
[null,null,{"$f":" WINEP_Inputs!A155","v":"KSL00710"},{"$f":" WINEP_Inputs!J155","v":"7SO400117"},{"$f":" WINEP_Inputs!K155","v":"BATTLE"},{"$f":"WINEP_Inputs!CW155","v":"£m"},{"$f":"WINEP_Inputs!CX155","v":1},null,{"$f":" WINEP_Inputs!CR155","v":0},{"$f":" WINEP_Inputs!CS155","v":1},{"$f":" WINEP_Inputs!CT155","v":1},{"$f":" WINEP_Inputs!CU155","v":0},{"$f":" WINEP_Inputs!CV155","v":"WWN"},1]
[null,null,{"$f":" WINEP_Inputs!A156","v":"SSD00946"},{"$f":" WINEP_Inputs!J156","v":"7SO400118"},{"$f":" WINEP_Inputs!K156","v":"BILLINGSHURST"},{"$f":"WINEP_Inputs!CW156","v":"£m"},{"$f":"WINEP_Inputs!CX156","v":1},null,{"$f":" WINEP_Inputs!CR156","v":0},{"$f":" WINEP_Inputs!CS156","v":1},{"$f":" WINEP_Inputs!CT156","v":1},{"$f":" WINEP_Inputs!CU156","v":0},{"$f":" WINEP_Inputs!CV156","v":"WWN"},1]
[null,null,{"$f":" WINEP_Inputs!A157","v":"SSD00947"},{"$f":" WINEP_Inputs!J157","v":"7SO400119"},{"$f":" WINEP_Inputs!K157","v":"BLACKBOYS"},{"$f":"WINEP_Inputs!CW157","v":"£m"},{"$f":"WINEP_Inputs!CX157","v":1},null,{"$f":" WINEP_Inputs!CR157","v":0},{"$f":" WINEP_Inputs!CS157","v":1},{"$f":" WINEP_Inputs!CT157","v":1},{"$f":" WINEP_Inputs!CU157","v":0},{"$f":" WINEP_Inputs!CV157","v":"WWN"},1]
[null,null,{"$f":" WINEP_Inputs!A158","v":"SSD00948"},{"$f":" WINEP_Inputs!J158","v":"7SO400120"},{"$f":" WINEP_Inputs!K158","v":"BUDDS FARM HAVANT (Havant)"},{"$f":"WINEP_Inputs!CW158","v":"£m"},{"$f":"WINEP_Inputs!CX158","v":1},null,{"$f":" WINEP_Inputs!CR158","v":0},{"$f":" WINEP_Inputs!CS158","v":1},{"$f":" WINEP_Inputs!CT158","v":0},{"$f":" WINEP_Inputs!CU158","v":0},{"$f":" WINEP_Inputs!CV158","v":"WWN"},0]
[null,null,{"$f":" WINEP_Inputs!A159","v":"SSD00949"},{"$f":" WINEP_Inputs!J159","v":"7SO400121"},{"$f":" WINEP_Inputs!K159","v":"BUXTED"},{"$f":"WINEP_Inputs!CW159","v":"£m"},{"$f":"WINEP_Inputs!CX159","v":1},null,{"$f":" WINEP_Inputs!CR159","v":0},{"$f":" WINEP_Inputs!CS159","v":0},{"$f":" WINEP_Inputs!CT159","v":1},{"$f":" WINEP_Inputs!CU159","v":0},{"$f":" WINEP_Inputs!CV159","v":"WWN"}]
[null,null,{"$f":" WINEP_Inputs!A160","v":"SSD00950"},{"$f":" WINEP_Inputs!J160","v":"7SO400122"},{"$f":" WINEP_Inputs!K160","v":"CHICKENHALL EASTLEIGH"},{"$f":"WINEP_Inputs!CW160","v":"£m"},{"$f":"WINEP_Inputs!CX160","v":1},null,{"$f":" WINEP_Inputs!CR160","v":0},{"$f":" WINEP_Inputs!CS160","v":1},{"$f":" WINEP_Inputs!CT160","v":1},{"$f":" WINEP_Inputs!CU160","v":0},{"$f":" WINEP_Inputs!CV160","v":"WWN"},1]
[null,null,{"$f":" WINEP_Inputs!A161","v":"KSL00711"},{"$f":" WINEP_Inputs!J161","v":"7SO400123"},{"$f":" WINEP_Inputs!K161","v":"DAMBRIDGE WINGHAM"},{"$f":"WINEP_Inputs!CW161","v":"£m"},{"$f":"WINEP_Inputs!CX161","v":1},null,{"$f":" WINEP_Inputs!CR161","v":0},{"$f":" WINEP_Inputs!CS161","v":0},{"$f":" WINEP_Inputs!CT161","v":1},{"$f":" WINEP_Inputs!CU161","v":0},{"$f":" WINEP_Inputs!CV161","v":"WWN"}]
[null,null,{"$f":" WINEP_Inputs!A162","v":"SSD00951"},{"$f":" WINEP_Inputs!J162","v":"7SO400124"},{"$f":" WINEP_Inputs!K162","v":"DITCHLING"},{"$f":"WINEP_Inputs!CW162","v":"£m"},{"$f":"WINEP_Inputs!CX162","v":1},null,{"$f":" WINEP_Inputs!CR162","v":0},{"$f":" WINEP_Inputs!CS162","v":1},{"$f":" WINEP_Inputs!CT162","v":1},{"$f":" WINEP_Inputs!CU162","v":0},{"$f":" WINEP_Inputs!CV162","v":"WWN"},1]
[null,null,{"$f":" WINEP_Inputs!A163","v":"KSL00712"},{"$f":" WINEP_Inputs!J163","v":"7SO400125"},{"$f":" WINEP_Inputs!K163","v":"DITTON"},{"$f":"WINEP_Inputs!CW163","v":"£m"},{"$f":"WINEP_Inputs!CX163","v":1},null,{"$f":" WINEP_Inputs!CR163","v":0},{"$f":" WINEP_Inputs!CS163","v":1},{"$f":" WINEP_Inputs!CT163","v":1},{"$f":" WINEP_Inputs!CU163","v":0},{"$f":" WINEP_Inputs!CV163","v":"WWN"},1]
[null,null,{"$f":" WINEP_Inputs!A164","v":"SSD00952"},{"$f":" WINEP_Inputs!J164","v":"7SO400126"},{"$f":" WINEP_Inputs!K164","v":"EAST DEAN"},{"$f":"WINEP_Inputs!CW164","v":"£m"},{"$f":"WINEP_Inputs!CX164","v":1},null,{"$f":" WINEP_Inputs!CR164","v":0},{"$f":" WINEP_Inputs!CS164","v":1},{"$f":" WINEP_Inputs!CT164","v":1},{"$f":" WINEP_Inputs!CU164","v":0},{"$f":" WINEP_Inputs!CV164","v":"WWN"},1]
[null,null,{"$f":" WINEP_Inputs!A165","v":"SSD00953"},{"$f":" WINEP_Inputs!J165","v":"7SO400127"},{"$f":" WINEP_Inputs!K165","v":"EAST GRIMSTEAD"},{"$f":"WINEP_Inputs!CW165","v":"£m"},{"$f":"WINEP_Inputs!CX165","v":1},null,{"$f":" WINEP_Inputs!CR165","v":0},{"$f":" WINEP_Inputs!CS165","v":1},{"$f":" WINEP_Inputs!CT165","v":1},{"$f":" WINEP_Inputs!CU165","v":0},{"$f":" WINEP_Inputs!CV165","v":"WWN"},1]
[null,null,{"$f":" WINEP_Inputs!A166","v":"KSL00713"},{"$f":" WINEP_Inputs!J166","v":"7SO400128"},{"$f":" WINEP_Inputs!K166","v":"EDEN VALE EAST GRINSTEAD"},{"$f":"WINEP_Inputs!CW166","v":"£m"},{"$f":"WINEP_Inputs!CX166","v":1},null,{"$f":" WINEP_Inputs!CR166","v":0},{"$f":" WINEP_Inputs!CS166","v":0},{"$f":" WINEP_Inputs!CT166","v":1},{"$f":" WINEP_Inputs!CU166","v":0},{"$f":" WINEP_Inputs!CV166","v":"WWN"}]
[null,null,{"$f":" WINEP_Inputs!A167","v":"KSL00714"},{"$f":" WINEP_Inputs!J167","v":"7SO400129"},{"$f":" WINEP_Inputs!K167","v":"EDENBRIDGE"},{"$f":"WINEP_Inputs!CW167","v":"£m"},{"$f":"WINEP_Inputs!CX167","v":1},null,{"$f":" WINEP_Inputs!CR167","v":0},{"$f":" WINEP_Inputs!CS167","v":0},{"$f":" WINEP_Inputs!CT167","v":1},{"$f":" WINEP_Inputs!CU167","v":0},{"$f":" WINEP_Inputs!CV167","v":"WWN"}]
[null,null,{"$f":" WINEP_Inputs!A168","v":"KSL00715"},{"$f":" WINEP_Inputs!J168","v":"7SO400130"},{"$f":" WINEP_Inputs!K168","v":"GRAVESEND"},{"$f":"WINEP_Inputs!CW168","v":"£m"},{"$f":"WINEP_Inputs!CX168","v":1},null,{"$f":" WINEP_Inputs!CR168","v":0},{"$f":" WINEP_Inputs!CS168","v":1},{"$f":" WINEP_Inputs!CT168","v":1},{"$f":" WINEP_Inputs!CU168","v":0},{"$f":" WINEP_Inputs!CV168","v":"WWN"},1]
[null,null,{"$f":" WINEP_Inputs!A169","v":"KSL00716"},{"$f":" WINEP_Inputs!J169","v":"7SO400131"},{"$f":" WINEP_Inputs!K169","v":"HAM HILL"},{"$f":"WINEP_Inputs!CW169","v":"£m"},{"$f":"WINEP_Inputs!CX169","v":1},null,{"$f":" WINEP_Inputs!CR169","v":0},{"$f":" WINEP_Inputs!CS169","v":0},{"$f":" WINEP_Inputs!CT169","v":1},{"$f":" WINEP_Inputs!CU169","v":0},{"$f":" WINEP_Inputs!CV169","v":"WWN"}]
[null,null,{"$f":" WINEP_Inputs!A170","v":"SSD00954"},{"$f":" WINEP_Inputs!J170","v":"7SO400132"},{"$f":" WINEP_Inputs!K170","v":"HARTFIELD"},{"$f":"WINEP_Inputs!CW170","v":"£m"},{"$f":"WINEP_Inputs!CX170","v":1},null,{"$f":" WINEP_Inputs!CR170","v":0},{"$f":" WINEP_Inputs!CS170","v":0},{"$f":" WINEP_Inputs!CT170","v":1},{"$f":" WINEP_Inputs!CU170","v":0},{"$f":" WINEP_Inputs!CV170","v":"WWN"}]
[null,null,{"$f":" WINEP_Inputs!A171","v":"KSL00717"},{"$f":" WINEP_Inputs!J171","v":"7SO400133"},{"$f":" WINEP_Inputs!K171","v":"HAWKHURST NORTH"},{"$f":"WINEP_Inputs!CW171","v":"£m"},{"$f":"WINEP_Inputs!CX171","v":1},null,{"$f":" WINEP_Inputs!CR171","v":0},{"$f":" WINEP_Inputs!CS171","v":1},{"$f":" WINEP_Inputs!CT171","v":1},{"$f":" WINEP_Inputs!CU171","v":0},{"$f":" WINEP_Inputs!CV171","v":"WWN"},1]
[null,null,{"$f":" WINEP_Inputs!A172","v":"SSD00955"},{"$f":" WINEP_Inputs!J172","v":"7SO400134"},{"$f":" WINEP_Inputs!K172","v":"HENFIELD"},{"$f":"WINEP_Inputs!CW172","v":"£m"},{"$f":"WINEP_Inputs!CX172","v":1},null,{"$f":" WINEP_Inputs!CR172","v":0},{"$f":" WINEP_Inputs!CS172","v":1},{"$f":" WINEP_Inputs!CT172","v":1},{"$f":" WINEP_Inputs!CU172","v":0},{"$f":" WINEP_Inputs!CV172","v":"WWN"},1]
[null,null,{"$f":" WINEP_Inputs!A173","v":"KSL00718"},{"$f":" WINEP_Inputs!J173","v":"7SO400135"},{"$f":" WINEP_Inputs!K173","v":"HIGH HALDEN"},{"$f":"WINEP_Inputs!CW173","v":"£m"},{"$f":"WINEP_Inputs!CX173","v":1},null,{"$f":" WINEP_Inputs!CR173","v":0},{"$f":" WINEP_Inputs!CS173","v":1},{"$f":" WINEP_Inputs!CT173","v":1},{"$f":" WINEP_Inputs!CU173","v":0},{"$f":" WINEP_Inputs!CV173","v":"WWN"},1]
[null,null,{"$f":" WINEP_Inputs!A174","v":"KSL00719"},{"$f":" WINEP_Inputs!J174","v":"7SO400136"},{"$f":" WINEP_Inputs!K174","v":"IDEN"},{"$f":"WINEP_Inputs!CW174","v":"£m"},{"$f":"WINEP_Inputs!CX174","v":1},null,{"$f":" WINEP_Inputs!CR174","v":0},{"$f":" WINEP_Inputs!CS174","v":0},{"$f":" WINEP_Inputs!CT174","v":1},{"$f":" WINEP_Inputs!CU174","v":0},{"$f":" WINEP_Inputs!CV174","v":"WWN"}]
[null,null,{"$f":" WINEP_Inputs!A175","v":"KSL00720"},{"$f":" WINEP_Inputs!J175","v":"7SO400137"},{"$f":" WINEP_Inputs!K175","v":"KILNDOWN"},{"$f":"WINEP_Inputs!CW175","v":"£m"},{"$f":"WINEP_Inputs!CX175","v":1},null,{"$f":" WINEP_Inputs!CR175","v":0},{"$f":" WINEP_Inputs!CS175","v":0},{"$f":" WINEP_Inputs!CT175","v":1},{"$f":" WINEP_Inputs!CU175","v":0},{"$f":" WINEP_Inputs!CV175","v":"WWN"}]
[null,null,{"$f":" WINEP_Inputs!A176","v":"SSD00956"},{"$f":" WINEP_Inputs!J176","v":"7SO400138"},{"$f":" WINEP_Inputs!K176","v":"LAVANT"},{"$f":"WINEP_Inputs!CW176","v":"£m"},{"$f":"WINEP_Inputs!CX176","v":1},null,{"$f":" WINEP_Inputs!CR176","v":0},{"$f":" WINEP_Inputs!CS176","v":0},{"$f":" WINEP_Inputs!CT176","v":1},{"$f":" WINEP_Inputs!CU176","v":0},{"$f":" WINEP_Inputs!CV176","v":"WWN"}]
[null,null,{"$f":" WINEP_Inputs!A177","v":"SSD00957"},{"$f":" WINEP_Inputs!J177","v":"7SO400139"},{"$f":" WINEP_Inputs!K177","v":"MORESTEAD ROAD WINCHESTER"},{"$f":"WINEP_Inputs!CW177","v":"£m"},{"$f":"WINEP_Inputs!CX177","v":1},null,{"$f":" WINEP_Inputs!CR177","v":0},{"$f":" WINEP_Inputs!CS177","v":0},{"$f":" WINEP_Inputs!CT177","v":0},{"$f":" WINEP_Inputs!CU177","v":0},{"$f":" WINEP_Inputs!CV177","v":"WWN"},0]
[null,null,{"$f":" WINEP_Inputs!A178","v":"KSL00721"},{"$f":" WINEP_Inputs!J178","v":"7SO400140"},{"$f":" WINEP_Inputs!K178","v":"MOTNEY HILL"},{"$f":"WINEP_Inputs!CW178","v":"£m"},{"$f":"WINEP_Inputs!CX178","v":1},null,{"$f":" WINEP_Inputs!CR178","v":0},{"$f":" WINEP_Inputs!CS178","v":0},{"$f":" WINEP_Inputs!CT178","v":0},{"$f":" WINEP_Inputs!CU178","v":0},{"$f":" WINEP_Inputs!CV178","v":"WWN"},0]
[null,null,{"$f":" WINEP_Inputs!A179","v":"SSD00958"},{"$f":" WINEP_Inputs!J179","v":"7SO400141"},{"$f":" WINEP_Inputs!K179","v":"NEW ALRESFORD"},{"$f":"WINEP_Inputs!CW179","v":"£m"},{"$f":"WINEP_Inputs!CX179","v":1},null,{"$f":" WINEP_Inputs!CR179","v":0},{"$f":" WINEP_Inputs!CS179","v":0},{"$f":" WINEP_Inputs!CT179","v":1},{"$f":" WINEP_Inputs!CU179","v":0},{"$f":" WINEP_Inputs!CV179","v":"WWN"}]
[null,null,{"$f":" WINEP_Inputs!A180","v":"KSL00722"},{"$f":" WINEP_Inputs!J180","v":"7SO400142"},{"$f":" WINEP_Inputs!K180","v":"NEWBURY LANE CUCKFIELD"},{"$f":"WINEP_Inputs!CW180","v":"£m"},{"$f":"WINEP_Inputs!CX180","v":1},null,{"$f":" WINEP_Inputs!CR180","v":0},{"$f":" WINEP_Inputs!CS180","v":1},{"$f":" WINEP_Inputs!CT180","v":1},{"$f":" WINEP_Inputs!CU180","v":0},{"$f":" WINEP_Inputs!CV180","v":"WWN"},1]
[null,null,{"$f":" WINEP_Inputs!A181","v":"SSD00959"},{"$f":" WINEP_Inputs!J181","v":"7SO400143"},{"$f":" WINEP_Inputs!K181","v":"NEWICK"},{"$f":"WINEP_Inputs!CW181","v":"£m"},{"$f":"WINEP_Inputs!CX181","v":1},null,{"$f":" WINEP_Inputs!CR181","v":0},{"$f":" WINEP_Inputs!CS181","v":0},{"$f":" WINEP_Inputs!CT181","v":1},{"$f":" WINEP_Inputs!CU181","v":0},{"$f":" WINEP_Inputs!CV181","v":"WWN"}]
[null,null,{"$f":" WINEP_Inputs!A182","v":"SSD00960"},{"$f":" WINEP_Inputs!J182","v":"7SO400144"},{"$f":" WINEP_Inputs!K182","v":"OVERTON"},{"$f":"WINEP_Inputs!CW182","v":"£m"},{"$f":"WINEP_Inputs!CX182","v":1},null,{"$f":" WINEP_Inputs!CR182","v":0},{"$f":" WINEP_Inputs!CS182","v":1},{"$f":" WINEP_Inputs!CT182","v":1},{"$f":" WINEP_Inputs!CU182","v":0},{"$f":" WINEP_Inputs!CV182","v":"WWN"},1]
[null,null,{"$f":" WINEP_Inputs!A183","v":"SSD00961"},{"$f":" WINEP_Inputs!J183","v":"7SO400145"},{"$f":" WINEP_Inputs!K183","v":"PETERSFIELD"},{"$f":"WINEP_Inputs!CW183","v":"£m"},{"$f":"WINEP_Inputs!CX183","v":1},null,{"$f":" WINEP_Inputs!CR183","v":0},{"$f":" WINEP_Inputs!CS183","v":1},{"$f":" WINEP_Inputs!CT183","v":1},{"$f":" WINEP_Inputs!CU183","v":0},{"$f":" WINEP_Inputs!CV183","v":"WWN"},1]
[null,null,{"$f":" WINEP_Inputs!A184","v":"SSD00962"},{"$f":" WINEP_Inputs!J184","v":"7SO400146"},{"$f":" WINEP_Inputs!K184","v":"PORTSWOOD"},{"$f":"WINEP_Inputs!CW184","v":"£m"},{"$f":"WINEP_Inputs!CX184","v":1},null,{"$f":" WINEP_Inputs!CR184","v":0},{"$f":" WINEP_Inputs!CS184","v":1},{"$f":" WINEP_Inputs!CT184","v":1},{"$f":" WINEP_Inputs!CU184","v":0},{"$f":" WINEP_Inputs!CV184","v":"WWN"},1]
[null,null,{"$f":" WINEP_Inputs!A185","v":"KSL00723"},{"$f":" WINEP_Inputs!J185","v":"7SO400147"},{"$f":" WINEP_Inputs!K185","v":"QUEENBOROUGH"},{"$f":"WINEP_Inputs!CW185","v":"£m"},{"$f":"WINEP_Inputs!CX185","v":1},null,{"$f":" WINEP_Inputs!CR185","v":0},{"$f":" WINEP_Inputs!CS185","v":1},{"$f":" WINEP_Inputs!CT185","v":1},{"$f":" WINEP_Inputs!CU185","v":0},{"$f":" WINEP_Inputs!CV185","v":"WWN"},1]
[null,null,{"$f":" WINEP_Inputs!A186","v":"KSL00724"},{"$f":" WINEP_Inputs!J186","v":"7SO400148"},{"$f":" WINEP_Inputs!K186","v":"QUICKBOURNE LANE NORTHIAM"},{"$f":"WINEP_Inputs!CW186","v":"£m"},{"$f":"WINEP_Inputs!CX186","v":1},null,{"$f":" WINEP_Inputs!CR186","v":0},{"$f":" WINEP_Inputs!CS186","v":1},{"$f":" WINEP_Inputs!CT186","v":1},{"$f":" WINEP_Inputs!CU186","v":0},{"$f":" WINEP_Inputs!CV186","v":"WWN"},1]
[null,null,{"$f":" WINEP_Inputs!A187","v":"KSL00725"},{"$f":" WINEP_Inputs!J187","v":"7SO400149"},{"$f":" WINEP_Inputs!K187","v":"READING STREET"},{"$f":"WINEP_Inputs!CW187","v":"£m"},{"$f":"WINEP_Inputs!CX187","v":1},null,{"$f":" WINEP_Inputs!CR187","v":0},{"$f":" WINEP_Inputs!CS187","v":0},{"$f":" WINEP_Inputs!CT187","v":1},{"$f":" WINEP_Inputs!CU187","v":0},{"$f":" WINEP_Inputs!CV187","v":"WWN"}]
[null,null,{"$f":" WINEP_Inputs!A188","v":"SSD00963"},{"$f":" WINEP_Inputs!J188","v":"7SO400150"},{"$f":" WINEP_Inputs!K188","v":"REDLYNCH"},{"$f":"WINEP_Inputs!CW188","v":"£m"},{"$f":"WINEP_Inputs!CX188","v":1},null,{"$f":" WINEP_Inputs!CR188","v":0},{"$f":" WINEP_Inputs!CS188","v":0},{"$f":" WINEP_Inputs!CT188","v":1},{"$f":" WINEP_Inputs!CU188","v":0},{"$f":" WINEP_Inputs!CV188","v":"WWN"}]
[null,null,{"$f":" WINEP_Inputs!A189","v":"SSD00964"},{"$f":" WINEP_Inputs!J189","v":"7SO400151"},{"$f":" WINEP_Inputs!K189","v":"ROGATE"},{"$f":"WINEP_Inputs!CW189","v":"£m"},{"$f":"WINEP_Inputs!CX189","v":1},null,{"$f":" WINEP_Inputs!CR189","v":0},{"$f":" WINEP_Inputs!CS189","v":1},{"$f":" WINEP_Inputs!CT189","v":1},{"$f":" WINEP_Inputs!CU189","v":0},{"$f":" WINEP_Inputs!CV189","v":"WWN"},1]
[null,null,{"$f":" WINEP_Inputs!A190","v":"KSL00726"},{"$f":" WINEP_Inputs!J190","v":"7SO400152"},{"$f":" WINEP_Inputs!K190","v":"SANDHURST"},{"$f":"WINEP_Inputs!CW190","v":"£m"},{"$f":"WINEP_Inputs!CX190","v":1},null,{"$f":" WINEP_Inputs!CR190","v":0},{"$f":" WINEP_Inputs!CS190","v":0},{"$f":" WINEP_Inputs!CT190","v":1},{"$f":" WINEP_Inputs!CU190","v":0},{"$f":" WINEP_Inputs!CV190","v":"WWN"}]
[null,null,{"$f":" WINEP_Inputs!A191","v":"SSD00965"},{"$f":" WINEP_Inputs!J191","v":"7SO400153"},{"$f":" WINEP_Inputs!K191","v":"SANDOWN NEW"},{"$f":"WINEP_Inputs!CW191","v":"£m"},{"$f":"WINEP_Inputs!CX191","v":1},null,{"$f":" WINEP_Inputs!CR191","v":0},{"$f":" WINEP_Inputs!CS191","v":0},{"$f":" WINEP_Inputs!CT191","v":1},{"$f":" WINEP_Inputs!CU191","v":0},{"$f":" WINEP_Inputs!CV191","v":"WWN"}]
[null,null,{"$f":" WINEP_Inputs!A192","v":"SSD00966"},{"$f":" WINEP_Inputs!J192","v":"7SO400154"},{"$f":" WINEP_Inputs!K192","v":"SHORWELL"},{"$f":"WINEP_Inputs!CW192","v":"£m"},{"$f":"WINEP_Inputs!CX192","v":1},null,{"$f":" WINEP_Inputs!CR192","v":0},{"$f":" WINEP_Inputs!CS192","v":1},{"$f":" WINEP_Inputs!CT192","v":1},{"$f":" WINEP_Inputs!CU192","v":0},{"$f":" WINEP_Inputs!CV192","v":"WWN"},1]
[null,null,{"$f":" WINEP_Inputs!A193","v":"SSD00967"},{"$f":" WINEP_Inputs!J193","v":"7SO400155"},{"$f":" WINEP_Inputs!K193","v":"SIDLESHAM"},{"$f":"WINEP_Inputs!CW193","v":"£m"},{"$f":"WINEP_Inputs!CX193","v":1},null,{"$f":" WINEP_Inputs!CR193","v":0},{"$f":" WINEP_Inputs!CS193","v":0},{"$f":" WINEP_Inputs!CT193","v":1},{"$f":" WINEP_Inputs!CU193","v":0},{"$f":" WINEP_Inputs!CV193","v":"WWN"}]
[null,null,{"$f":" WINEP_Inputs!A194","v":"KSL00727"},{"$f":" WINEP_Inputs!J194","v":"7SO400156"},{"$f":" WINEP_Inputs!K194","v":"SITTINGBOURNE"},{"$f":"WINEP_Inputs!CW194","v":"£m"},{"$f":"WINEP_Inputs!CX194","v":1},null,{"$f":" WINEP_Inputs!CR194","v":0},{"$f":" WINEP_Inputs!CS194","v":1},{"$f":" WINEP_Inputs!CT194","v":1},{"$f":" WINEP_Inputs!CU194","v":0},{"$f":" WINEP_Inputs!CV194","v":"WWN"},1]
[null,null,{"$f":" WINEP_Inputs!A195","v":"KSL00728"},{"$f":" WINEP_Inputs!J195","v":"7SO400157"},{"$f":" WINEP_Inputs!K195","v":"SMARDEN"},{"$f":"WINEP_Inputs!CW195","v":"£m"},{"$f":"WINEP_Inputs!CX195","v":1},null,{"$f":" WINEP_Inputs!CR195","v":0},{"$f":" WINEP_Inputs!CS195","v":0},{"$f":" WINEP_Inputs!CT195","v":1},{"$f":" WINEP_Inputs!CU195","v":0},{"$f":" WINEP_Inputs!CV195","v":"WWN"}]
[null,null,{"$f":" WINEP_Inputs!A196","v":"SSD00968"},{"$f":" WINEP_Inputs!J196","v":"7SO400158"},{"$f":" WINEP_Inputs!K196","v":"SOUTH AMBERSHAM"},{"$f":"WINEP_Inputs!CW196","v":"£m"},{"$f":"WINEP_Inputs!CX196","v":1},null,{"$f":" WINEP_Inputs!CR196","v":0},{"$f":" WINEP_Inputs!CS196","v":1},{"$f":" WINEP_Inputs!CT196","v":1},{"$f":" WINEP_Inputs!CU196","v":0},{"$f":" WINEP_Inputs!CV196","v":"WWN"},1]
[null,null,{"$f":" WINEP_Inputs!A197","v":"KSL00729"},{"$f":" WINEP_Inputs!J197","v":"7SO400159"},{"$f":" WINEP_Inputs!K197","v":"STAPLECROSS"},{"$f":"WINEP_Inputs!CW197","v":"£m"},{"$f":"WINEP_Inputs!CX197","v":1},null,{"$f":" WINEP_Inputs!CR197","v":0},{"$f":" WINEP_Inputs!CS197","v":0},{"$f":" WINEP_Inputs!CT197","v":1},{"$f":" WINEP_Inputs!CU197","v":0},{"$f":" WINEP_Inputs!CV197","v":"WWN"}]
[null,null,{"$f":" WINEP_Inputs!A198","v":"SSD00969"},{"$f":" WINEP_Inputs!J198","v":"7SO400160"},{"$f":" WINEP_Inputs!K198","v":"STORRINGTON"},{"$f":"WINEP_Inputs!CW198","v":"£m"},{"$f":"WINEP_Inputs!CX198","v":1},null,{"$f":" WINEP_Inputs!CR198","v":0},{"$f":" WINEP_Inputs!CS198","v":1},{"$f":" WINEP_Inputs!CT198","v":1},{"$f":" WINEP_Inputs!CU198","v":0},{"$f":" WINEP_Inputs!CV198","v":"WWN"},1]
[null,null,{"$f":" WINEP_Inputs!A199","v":"SSD00970"},{"$f":" WINEP_Inputs!J199","v":"7SO400161"},{"$f":" WINEP_Inputs!K199","v":"SUMMER LANE PAGHAM"},{"$f":"WINEP_Inputs!CW199","v":"£m"},{"$f":"WINEP_Inputs!CX199","v":1},null,{"$f":" WINEP_Inputs!CR199","v":0},{"$f":" WINEP_Inputs!CS199","v":0},{"$f":" WINEP_Inputs!CT199","v":0},{"$f":" WINEP_Inputs!CU199","v":0},{"$f":" WINEP_Inputs!CV199","v":"WWN"},0]
[null,null,{"$f":" WINEP_Inputs!A200","v":"SSD00971"},{"$f":" WINEP_Inputs!J200","v":"7SO400162"},{"$f":" WINEP_Inputs!K200","v":"TANGMERE"},{"$f":"WINEP_Inputs!CW200","v":"£m"},{"$f":"WINEP_Inputs!CX200","v":1},null,{"$f":" WINEP_Inputs!CR200","v":0},{"$f":" WINEP_Inputs!CS200","v":0},{"$f":" WINEP_Inputs!CT200","v":1},{"$f":" WINEP_Inputs!CU200","v":0},{"$f":" WINEP_Inputs!CV200","v":"WWN"}]
[null,null,{"$f":" WINEP_Inputs!A201","v":"KSL00730"},{"$f":" WINEP_Inputs!J201","v":"7SO400163"},{"$f":" WINEP_Inputs!K201","v":"TEYNHAM"},{"$f":"WINEP_Inputs!CW201","v":"£m"},{"$f":"WINEP_Inputs!CX201","v":1},null,{"$f":" WINEP_Inputs!CR201","v":0},{"$f":" WINEP_Inputs!CS201","v":0},{"$f":" WINEP_Inputs!CT201","v":1},{"$f":" WINEP_Inputs!CU201","v":0},{"$f":" WINEP_Inputs!CV201","v":"WWN"}]
[null,null,{"$f":" WINEP_Inputs!A202","v":"KSL00731"},{"$f":" WINEP_Inputs!J202","v":"7SO400164"},{"$f":" WINEP_Inputs!K202","v":"WESTBERE"},{"$f":"WINEP_Inputs!CW202","v":"£m"},{"$f":"WINEP_Inputs!CX202","v":1},null,{"$f":" WINEP_Inputs!CR202","v":0},{"$f":" WINEP_Inputs!CS202","v":0},{"$f":" WINEP_Inputs!CT202","v":1},{"$f":" WINEP_Inputs!CU202","v":0},{"$f":" WINEP_Inputs!CV202","v":"WWN"}]
[null,null,{"$f":" WINEP_Inputs!A203","v":"KSL00732"},{"$f":" WINEP_Inputs!J203","v":"7SO400165"},{"$f":" WINEP_Inputs!K203","v":"WHITEWALL CREEK"},{"$f":"WINEP_Inputs!CW203","v":"£m"},{"$f":"WINEP_Inputs!CX203","v":1},null,{"$f":" WINEP_Inputs!CR203","v":0},{"$f":" WINEP_Inputs!CS203","v":1},{"$f":" WINEP_Inputs!CT203","v":1},{"$f":" WINEP_Inputs!CU203","v":0},{"$f":" WINEP_Inputs!CV203","v":"WWN"},{"$f":" IF(K208 = 0, 0, K208 / J208)","v":1}]
[null,null,{"$f":" WINEP_Inputs!A204","v":"SSD00972"},{"$f":" WINEP_Inputs!J204","v":"7SO400166"},{"$f":" WINEP_Inputs!K204","v":"WICKHAM"},{"$f":"WINEP_Inputs!CW204","v":"£m"},{"$f":"WINEP_Inputs!CX204","v":1},null,{"$f":" WINEP_Inputs!CR204","v":0},{"$f":" WINEP_Inputs!CS204","v":0},{"$f":" WINEP_Inputs!CT204","v":1},{"$f":" WINEP_Inputs!CU204","v":0},{"$f":" WINEP_Inputs!CV204","v":"WWN"}]
[null,null,{"$f":" WINEP_Inputs!A205","v":"KSL00733"},{"$f":" WINEP_Inputs!J205","v":"7SO400167"},{"$f":" WINEP_Inputs!K205","v":"WINDMILL HILL HERSTMONCEUX"},{"$f":"WINEP_Inputs!CW205","v":"£m"},{"$f":"WINEP_Inputs!CX205","v":1},null,{"$f":" WINEP_Inputs!CR205","v":0},{"$f":" WINEP_Inputs!CS205","v":0},{"$f":" WINEP_Inputs!CT205","v":1},{"$f":" WINEP_Inputs!CU205","v":0},{"$f":" WINEP_Inputs!CV205","v":"WWN"}]
[null,null,{"$f":" WINEP_Inputs!A206","v":"SSD00037"},{"$f":" WINEP_Inputs!J206","v":"7SO200202"},{"$f":" WINEP_Inputs!K206","v":"Southern Water PR19 shellfish water requirements"},{"$f":"WINEP_Inputs!CW206","v":"£m"},{"$f":"WINEP_Inputs!CX206","v":1},null,{"$f":" WINEP_Inputs!CR206","v":0},{"$f":" WINEP_Inputs!CS206","v":1},{"$f":" WINEP_Inputs!CT206","v":0},{"$f":" WINEP_Inputs!CU206","v":0},{"$f":" WINEP_Inputs!CV206","v":"WWN"},0]
[null,null,{"$f":" WINEP_Inputs!A207","v":"SSD00041"},{"$f":" WINEP_Inputs!J207","v":"7SO200206"},{"$f":" WINEP_Inputs!K207","v":"Southern Water PR19 shellfish water requirements"},{"$f":"WINEP_Inputs!CW207","v":"£m"},{"$f":"WINEP_Inputs!CX207","v":1},null,{"$f":" WINEP_Inputs!CR207","v":24.406838776641781},{"$f":" WINEP_Inputs!CS207","v":1},{"$f":" WINEP_Inputs!CT207","v":0},{"$f":" WINEP_Inputs!CU207","v":1},{"$f":" WINEP_Inputs!CV207","v":"WWN"},0]
[null,null,{"$f":" WINEP_Inputs!A208","v":"SSD00659"},{"$f":" WINEP_Inputs!J208","v":"7SO300571"},{"$f":" WINEP_Inputs!K208","v":"Millbrook WwTW Storm Overflow"},{"$f":"WINEP_Inputs!CW208","v":"£m"},{"$f":"WINEP_Inputs!CX208","v":1},null,{"$f":" WINEP_Inputs!CR208","v":2.8952},{"$f":" WINEP_Inputs!CS208","v":1},{"$f":" WINEP_Inputs!CT208","v":1},{"$f":" WINEP_Inputs!CU208","v":0},{"$f":" WINEP_Inputs!CV208","v":"WWN"},1]
[null,null,{"$f":" WINEP_Inputs!A209","v":"SSD00660"},{"$f":" WINEP_Inputs!J209","v":"7SO300572"},{"$f":" WINEP_Inputs!K209","v":"Slowhill Copse WwTW Continuous"},{"$f":"WINEP_Inputs!CW209","v":"£m"},{"$f":"WINEP_Inputs!CX209","v":1},null,{"$f":" WINEP_Inputs!CR209","v":6.73},{"$f":" WINEP_Inputs!CS209","v":1},{"$f":" WINEP_Inputs!CT209","v":1},{"$f":" WINEP_Inputs!CU209","v":0},{"$f":" WINEP_Inputs!CV209","v":"WWN"},1]
[null,null,{"$f":" WINEP_Inputs!A210","v":"SSD00658"},{"$f":" WINEP_Inputs!J210","v":"7SO300570"},{"$f":" WINEP_Inputs!K210","v":"Millbrook WwTW Continuous"},{"$f":"WINEP_Inputs!CW210","v":"£m"},{"$f":"WINEP_Inputs!CX210","v":1},null,{"$f":" WINEP_Inputs!CR210","v":6.73},{"$f":" WINEP_Inputs!CS210","v":1},{"$f":" WINEP_Inputs!CT210","v":1},{"$f":" WINEP_Inputs!CU210","v":0},{"$f":" WINEP_Inputs!CV210","v":"WWN"},1]
[null,null,{"$f":" WINEP_Inputs!A211","v":"SSD00657"},{"$f":" WINEP_Inputs!J211","v":"7SO300569"},{"$f":" WINEP_Inputs!K211","v":"Ensign Park Storm Overflow"},{"$f":"WINEP_Inputs!CW211","v":"£m"},{"$f":"WINEP_Inputs!CX211","v":1},null,{"$f":" WINEP_Inputs!CR211","v":2.8952},{"$f":" WINEP_Inputs!CS211","v":1},{"$f":" WINEP_Inputs!CT211","v":1},{"$f":" WINEP_Inputs!CU211","v":0},{"$f":" WINEP_Inputs!CV211","v":"WWN"},1]
[null,null,{"$f":" WINEP_Inputs!A212","v":"SSD00662"},{"$f":" WINEP_Inputs!J212","v":"7SO300574"},{"$f":" WINEP_Inputs!K212","v":"Woolston WwTW Storm Overflow"},{"$f":"WINEP_Inputs!CW212","v":"£m"},{"$f":"WINEP_Inputs!CX212","v":1},null,{"$f":" WINEP_Inputs!CR212","v":2.8952},{"$f":" WINEP_Inputs!CS212","v":0},{"$f":" WINEP_Inputs!CT212","v":1},{"$f":" WINEP_Inputs!CU212","v":0},{"$f":" WINEP_Inputs!CV212","v":"WWN"}]
[null,null,{"$f":" WINEP_Inputs!A213","v":"SSD00656"},{"$f":" WINEP_Inputs!J213","v":"7SO300568"},{"$f":" WINEP_Inputs!K213","v":"Ashlett Creek WwTW Storm Overflow"},{"$f":"WINEP_Inputs!CW213","v":"£m"},{"$f":"WINEP_Inputs!CX213","v":1},null,{"$f":" WINEP_Inputs!CR213","v":2.8952},{"$f":" WINEP_Inputs!CS213","v":0},{"$f":" WINEP_Inputs!CT213","v":1},{"$f":" WINEP_Inputs!CU213","v":0},{"$f":" WINEP_Inputs!CV213","v":"WWN"}]
[null,null,{"$f":" WINEP_Inputs!A214","v":"SSD00661"},{"$f":" WINEP_Inputs!J214","v":"7SO300573"},{"$f":" WINEP_Inputs!K214","v":"Slowhill Copse WwTW Storm Overflow"},{"$f":"WINEP_Inputs!CW214","v":"£m"},{"$f":"WINEP_Inputs!CX214","v":1},null,{"$f":" WINEP_Inputs!CR214","v":2.8952},{"$f":" WINEP_Inputs!CS214","v":1},{"$f":" WINEP_Inputs!CT214","v":1},{"$f":" WINEP_Inputs!CU214","v":0},{"$f":" WINEP_Inputs!CV214","v":"WWN"},1]
[null,null,{"$f":" WINEP_Inputs!A215","v":"SSD00572"},{"$f":" WINEP_Inputs!J215","v":"7SO300450"},{"$f":" WINEP_Inputs!K215","v":"Southern Water PR19 flow requirements"},{"$f":"WINEP_Inputs!CW215","v":"£m"},{"$f":"WINEP_Inputs!CX215","v":1},null,{"$f":" WINEP_Inputs!CR215","v":0.9},{"$f":" WINEP_Inputs!CS215","v":1},{"$f":" WINEP_Inputs!CT215","v":0},{"$f":" WINEP_Inputs!CU215","v":1},{"$f":" WINEP_Inputs!CV215","v":"WWN"},0]
[null,null,{"$f":" WINEP_Inputs!A216","v":"SSD00665"},{"$f":" WINEP_Inputs!J216","v":"7SO300582"},{"$f":" WINEP_Inputs!K216","v":"ALFRISTON WPS"},{"$f":"WINEP_Inputs!CW216","v":"£m"},{"$f":"WINEP_Inputs!CX216","v":1},null,{"$f":" WINEP_Inputs!CR216","v":0.56651999999999991},{"$f":" WINEP_Inputs!CS216","v":1},{"$f":" WINEP_Inputs!CT216","v":1},{"$f":" WINEP_Inputs!CU216","v":0},{"$f":" WINEP_Inputs!CV216","v":"WWN"},1]
[null,null,{"$f":" WINEP_Inputs!A217","v":"SSD00668"},{"$f":" WINEP_Inputs!J217","v":"7SO300587"},{"$f":" WINEP_Inputs!K217","v":"ARDINGLY WWTW"},{"$f":"WINEP_Inputs!CW217","v":"£m"},{"$f":"WINEP_Inputs!CX217","v":1},null,{"$f":" WINEP_Inputs!CR217","v":0},{"$f":" WINEP_Inputs!CS217","v":0},{"$f":" WINEP_Inputs!CT217","v":1},{"$f":" WINEP_Inputs!CU217","v":0},{"$f":" WINEP_Inputs!CV217","v":"WWN"}]
[null,null,{"$f":" WINEP_Inputs!A218","v":"KSL00461"},{"$f":" WINEP_Inputs!J218","v":"7SO300591"},{"$f":" WINEP_Inputs!K218","v":"ASHFORD WWTW"},{"$f":"WINEP_Inputs!CW218","v":"£m"},{"$f":"WINEP_Inputs!CX218","v":1},null,{"$f":" WINEP_Inputs!CR218","v":0},{"$f":" WINEP_Inputs!CS218","v":0},{"$f":" WINEP_Inputs!CT218","v":1},{"$f":" WINEP_Inputs!CU218","v":0},{"$f":" WINEP_Inputs!CV218","v":"WWN"}]
[null,null,{"$f":" WINEP_Inputs!A219","v":"SSD00670"},{"$f":" WINEP_Inputs!J219","v":"7SO300593"},{"$f":" WINEP_Inputs!K219","v":"ASHINGTON WWTW"},{"$f":"WINEP_Inputs!CW219","v":"£m"},{"$f":"WINEP_Inputs!CX219","v":1},null,{"$f":" WINEP_Inputs!CR219","v":0},{"$f":" WINEP_Inputs!CS219","v":0},{"$f":" WINEP_Inputs!CT219","v":1},{"$f":" WINEP_Inputs!CU219","v":0},{"$f":" WINEP_Inputs!CV219","v":"WWN"}]
[null,null,{"$f":" WINEP_Inputs!A220","v":"KSL00466"},{"$f":" WINEP_Inputs!J220","v":"7SO300606"},{"$f":" WINEP_Inputs!K220","v":"BATTLE WWTW"},{"$f":"WINEP_Inputs!CW220","v":"£m"},{"$f":"WINEP_Inputs!CX220","v":1},null,{"$f":" WINEP_Inputs!CR220","v":0},{"$f":" WINEP_Inputs!CS220","v":0},{"$f":" WINEP_Inputs!CT220","v":1},{"$f":" WINEP_Inputs!CU220","v":0},{"$f":" WINEP_Inputs!CV220","v":"WWN"}]
[null,null,{"$f":" WINEP_Inputs!A221","v":"SSD00680"},{"$f":" WINEP_Inputs!J221","v":"7SO300608"},{"$f":" WINEP_Inputs!K221","v":"BEAULIEU VILLAGE WWTW"},{"$f":"WINEP_Inputs!CW221","v":"£m"},{"$f":"WINEP_Inputs!CX221","v":1},null,{"$f":" WINEP_Inputs!CR221","v":0},{"$f":" WINEP_Inputs!CS221","v":0},{"$f":" WINEP_Inputs!CT221","v":1},{"$f":" WINEP_Inputs!CU221","v":0},{"$f":" WINEP_Inputs!CV221","v":"WWN"}]
[null,null,{"$f":" WINEP_Inputs!A222","v":"KSL00468"},{"$f":" WINEP_Inputs!J222","v":"7SO300610"},{"$f":" WINEP_Inputs!K222","v":"BECKLEY WWTW"},{"$f":"WINEP_Inputs!CW222","v":"£m"},{"$f":"WINEP_Inputs!CX222","v":1},null,{"$f":" WINEP_Inputs!CR222","v":0},{"$f":" WINEP_Inputs!CS222","v":0},{"$f":" WINEP_Inputs!CT222","v":1},{"$f":" WINEP_Inputs!CU222","v":0},{"$f":" WINEP_Inputs!CV222","v":"WWN"}]
[null,null,{"$f":" WINEP_Inputs!A223","v":"KSL00470"},{"$f":" WINEP_Inputs!J223","v":"7SO300612"},{"$f":" WINEP_Inputs!K223","v":"BENENDEN WWTW"},{"$f":"WINEP_Inputs!CW223","v":"£m"},{"$f":"WINEP_Inputs!CX223","v":1},null,{"$f":" WINEP_Inputs!CR223","v":0},{"$f":" WINEP_Inputs!CS223","v":0},{"$f":" WINEP_Inputs!CT223","v":1},{"$f":" WINEP_Inputs!CU223","v":0},{"$f":" WINEP_Inputs!CV223","v":"WWN"}]
[null,null,{"$f":" WINEP_Inputs!A224","v":"SSD00682"},{"$f":" WINEP_Inputs!J224","v":"7SO300614"},{"$f":" WINEP_Inputs!K224","v":"BERWICK WWTW"},{"$f":"WINEP_Inputs!CW224","v":"£m"},{"$f":"WINEP_Inputs!CX224","v":1},null,{"$f":" WINEP_Inputs!CR224","v":0},{"$f":" WINEP_Inputs!CS224","v":0},{"$f":" WINEP_Inputs!CT224","v":1},{"$f":" WINEP_Inputs!CU224","v":0},{"$f":" WINEP_Inputs!CV224","v":"WWN"}]
[null,null,{"$f":" WINEP_Inputs!A225","v":"SSD00684"},{"$f":" WINEP_Inputs!J225","v":"7SO300618"},{"$f":" WINEP_Inputs!K225","v":"BEXHILL & HASTINGS WWTW"},{"$f":"WINEP_Inputs!CW225","v":"£m"},{"$f":"WINEP_Inputs!CX225","v":1},null,{"$f":" WINEP_Inputs!CR225","v":0},{"$f":" WINEP_Inputs!CS225","v":0},{"$f":" WINEP_Inputs!CT225","v":1},{"$f":" WINEP_Inputs!CU225","v":0},{"$f":" WINEP_Inputs!CV225","v":"WWN"}]
[null,null,{"$f":" WINEP_Inputs!A226","v":"KSL00474"},{"$f":" WINEP_Inputs!J226","v":"7SO300620"},{"$f":" WINEP_Inputs!K226","v":"BIDBOROUGH WWTW"},{"$f":"WINEP_Inputs!CW226","v":"£m"},{"$f":"WINEP_Inputs!CX226","v":1},null,{"$f":" WINEP_Inputs!CR226","v":0},{"$f":" WINEP_Inputs!CS226","v":0},{"$f":" WINEP_Inputs!CT226","v":1},{"$f":" WINEP_Inputs!CU226","v":0},{"$f":" WINEP_Inputs!CV226","v":"WWN"}]
[null,null,{"$f":" WINEP_Inputs!A227","v":"KSL00476"},{"$f":" WINEP_Inputs!J227","v":"7SO300622"},{"$f":" WINEP_Inputs!K227","v":"BIDDENDEN WWTW"},{"$f":"WINEP_Inputs!CW227","v":"£m"},{"$f":"WINEP_Inputs!CX227","v":1},null,{"$f":" WINEP_Inputs!CR227","v":0},{"$f":" WINEP_Inputs!CS227","v":0},{"$f":" WINEP_Inputs!CT227","v":1},{"$f":" WINEP_Inputs!CU227","v":0},{"$f":" WINEP_Inputs!CV227","v":"WWN"}]
[null,null,{"$f":" WINEP_Inputs!A228","v":"SSD00686"},{"$f":" WINEP_Inputs!J228","v":"7SO300624"},{"$f":" WINEP_Inputs!K228","v":"BILLINGSHURST WWTW"},{"$f":"WINEP_Inputs!CW228","v":"£m"},{"$f":"WINEP_Inputs!CX228","v":1},null,{"$f":" WINEP_Inputs!CR228","v":0},{"$f":" WINEP_Inputs!CS228","v":0},{"$f":" WINEP_Inputs!CT228","v":1},{"$f":" WINEP_Inputs!CU228","v":0},{"$f":" WINEP_Inputs!CV228","v":"WWN"}]
[null,null,{"$f":" WINEP_Inputs!A229","v":"SSD00688"},{"$f":" WINEP_Inputs!J229","v":"7SO300626"},{"$f":" WINEP_Inputs!K229","v":"BISHOPS WALTHAM WWTW"},{"$f":"WINEP_Inputs!CW229","v":"£m"},{"$f":"WINEP_Inputs!CX229","v":1},null,{"$f":" WINEP_Inputs!CR229","v":0},{"$f":" WINEP_Inputs!CS229","v":0},{"$f":" WINEP_Inputs!CT229","v":1},{"$f":" WINEP_Inputs!CU229","v":0},{"$f":" WINEP_Inputs!CV229","v":"WWN"}]
[null,null,{"$f":" WINEP_Inputs!A230","v":"SSD00690"},{"$f":" WINEP_Inputs!J230","v":"7SO300628"},{"$f":" WINEP_Inputs!K230","v":"BLACKBOYS WWTW"},{"$f":"WINEP_Inputs!CW230","v":"£m"},{"$f":"WINEP_Inputs!CX230","v":1},null,{"$f":" WINEP_Inputs!CR230","v":0},{"$f":" WINEP_Inputs!CS230","v":0},{"$f":" WINEP_Inputs!CT230","v":1},{"$f":" WINEP_Inputs!CU230","v":0},{"$f":" WINEP_Inputs!CV230","v":"WWN"}]
[null,null,{"$f":" WINEP_Inputs!A231","v":"SSD00692"},{"$f":" WINEP_Inputs!J231","v":"7SO300631"},{"$f":" WINEP_Inputs!K231","v":"BOLDRE WWTW"},{"$f":"WINEP_Inputs!CW231","v":"£m"},{"$f":"WINEP_Inputs!CX231","v":1},null,{"$f":" WINEP_Inputs!CR231","v":0},{"$f":" WINEP_Inputs!CS231","v":0},{"$f":" WINEP_Inputs!CT231","v":1},{"$f":" WINEP_Inputs!CU231","v":0},{"$f":" WINEP_Inputs!CV231","v":"WWN"}]
[null,null,{"$f":" WINEP_Inputs!A232","v":"SSD00698"},{"$f":" WINEP_Inputs!J232","v":"7SO300637"},{"$f":" WINEP_Inputs!K232","v":"BRIGHSTONE WWTW"},{"$f":"WINEP_Inputs!CW232","v":"£m"},{"$f":"WINEP_Inputs!CX232","v":1},null,{"$f":" WINEP_Inputs!CR232","v":0},{"$f":" WINEP_Inputs!CS232","v":0},{"$f":" WINEP_Inputs!CT232","v":1},{"$f":" WINEP_Inputs!CU232","v":0},{"$f":" WINEP_Inputs!CV232","v":"WWN"}]
[null,null,{"$f":" WINEP_Inputs!A233","v":"SSD00700"},{"$f":" WINEP_Inputs!J233","v":"7SO300641"},{"$f":" WINEP_Inputs!K233","v":"BROCKENHURST WWTW"},{"$f":"WINEP_Inputs!CW233","v":"£m"},{"$f":"WINEP_Inputs!CX233","v":1},null,{"$f":" WINEP_Inputs!CR233","v":0},{"$f":" WINEP_Inputs!CS233","v":0},{"$f":" WINEP_Inputs!CT233","v":1},{"$f":" WINEP_Inputs!CU233","v":0},{"$f":" WINEP_Inputs!CV233","v":"WWN"}]
[null,null,{"$f":" WINEP_Inputs!A234","v":"SSD00702"},{"$f":" WINEP_Inputs!J234","v":"7SO300643"},{"$f":" WINEP_Inputs!K234","v":"BUDDS FARM HAVANT WWTW"},{"$f":"WINEP_Inputs!CW234","v":"£m"},{"$f":"WINEP_Inputs!CX234","v":1},null,{"$f":" WINEP_Inputs!CR234","v":0},{"$f":" WINEP_Inputs!CS234","v":0},{"$f":" WINEP_Inputs!CT234","v":1},{"$f":" WINEP_Inputs!CU234","v":0},{"$f":" WINEP_Inputs!CV234","v":"WWN"}]
[null,null,{"$f":" WINEP_Inputs!A235","v":"SSD00704"},{"$f":" WINEP_Inputs!J235","v":"7SO300647"},{"$f":" WINEP_Inputs!K235","v":"BURITON WWTW"},{"$f":"WINEP_Inputs!CW235","v":"£m"},{"$f":"WINEP_Inputs!CX235","v":1},null,{"$f":" WINEP_Inputs!CR235","v":0},{"$f":" WINEP_Inputs!CS235","v":0},{"$f":" WINEP_Inputs!CT235","v":1},{"$f":" WINEP_Inputs!CU235","v":0},{"$f":" WINEP_Inputs!CV235","v":"WWN"}]
[null,null,{"$f":" WINEP_Inputs!A236","v":"KSL00485"},{"$f":" WINEP_Inputs!J236","v":"7SO300651"},{"$f":" WINEP_Inputs!K236","v":"BURWASH VILLAGE WWTW"},{"$f":"WINEP_Inputs!CW236","v":"£m"},{"$f":"WINEP_Inputs!CX236","v":1},null,{"$f":" WINEP_Inputs!CR236","v":0},{"$f":" WINEP_Inputs!CS236","v":0},{"$f":" WINEP_Inputs!CT236","v":1},{"$f":" WINEP_Inputs!CU236","v":0},{"$f":" WINEP_Inputs!CV236","v":"WWN"}]
[null,null,{"$f":" WINEP_Inputs!A237","v":"SSD00708"},{"$f":" WINEP_Inputs!J237","v":"7SO300655"},{"$f":" WINEP_Inputs!K237","v":"BUXTED WWTW"},{"$f":"WINEP_Inputs!CW237","v":"£m"},{"$f":"WINEP_Inputs!CX237","v":1},null,{"$f":" WINEP_Inputs!CR237","v":0},{"$f":" WINEP_Inputs!CS237","v":0},{"$f":" WINEP_Inputs!CT237","v":1},{"$f":" WINEP_Inputs!CU237","v":0},{"$f":" WINEP_Inputs!CV237","v":"WWN"}]
[null,null,{"$f":" WINEP_Inputs!A238","v":"SSD00710"},{"$f":" WINEP_Inputs!J238","v":"7SO300658"},{"$f":" WINEP_Inputs!K238","v":"CALBOURNE WWTW"},{"$f":"WINEP_Inputs!CW238","v":"£m"},{"$f":"WINEP_Inputs!CX238","v":1},null,{"$f":" WINEP_Inputs!CR238","v":0},{"$f":" WINEP_Inputs!CS238","v":0},{"$f":" WINEP_Inputs!CT238","v":1},{"$f":" WINEP_Inputs!CU238","v":0},{"$f":" WINEP_Inputs!CV238","v":"WWN"}]
[null,null,{"$f":" WINEP_Inputs!A239","v":"KSL00491"},{"$f":" WINEP_Inputs!J239","v":"7SO300663"},{"$f":" WINEP_Inputs!K239","v":"CASTLE ROAD ALLINGTON WPS"},{"$f":"WINEP_Inputs!CW239","v":"£m"},{"$f":"WINEP_Inputs!CX239","v":1},null,{"$f":" WINEP_Inputs!CR239","v":0},{"$f":" WINEP_Inputs!CS239","v":0},{"$f":" WINEP_Inputs!CT239","v":1},{"$f":" WINEP_Inputs!CU239","v":0},{"$f":" WINEP_Inputs!CV239","v":"WWN"}]
[null,null,{"$f":" WINEP_Inputs!A240","v":"SSD00712"},{"$f":" WINEP_Inputs!J240","v":"7SO300665"},{"$f":" WINEP_Inputs!K240","v":"CATSFIELD WWTW"},{"$f":"WINEP_Inputs!CW240","v":"£m"},{"$f":"WINEP_Inputs!CX240","v":1},null,{"$f":" WINEP_Inputs!CR240","v":0},{"$f":" WINEP_Inputs!CS240","v":0},{"$f":" WINEP_Inputs!CT240","v":1},{"$f":" WINEP_Inputs!CU240","v":0},{"$f":" WINEP_Inputs!CV240","v":"WWN"}]
[null,null,{"$f":" WINEP_Inputs!A241","v":"SSD00714"},{"$f":" WINEP_Inputs!J241","v":"7SO300667"},{"$f":" WINEP_Inputs!K241","v":"CHALE WWTW"},{"$f":"WINEP_Inputs!CW241","v":"£m"},{"$f":"WINEP_Inputs!CX241","v":1},null,{"$f":" WINEP_Inputs!CR241","v":0},{"$f":" WINEP_Inputs!CS241","v":0},{"$f":" WINEP_Inputs!CT241","v":1},{"$f":" WINEP_Inputs!CU241","v":0},{"$f":" WINEP_Inputs!CV241","v":"WWN"}]
[null,null,{"$f":" WINEP_Inputs!A242","v":"KSL00493"},{"$f":" WINEP_Inputs!J242","v":"7SO300669"},{"$f":" WINEP_Inputs!K242","v":"CHARING WWTW"},{"$f":"WINEP_Inputs!CW242","v":"£m"},{"$f":"WINEP_Inputs!CX242","v":1},null,{"$f":" WINEP_Inputs!CR242","v":0},{"$f":" WINEP_Inputs!CS242","v":0},{"$f":" WINEP_Inputs!CT242","v":1},{"$f":" WINEP_Inputs!CU242","v":0},{"$f":" WINEP_Inputs!CV242","v":"WWN"}]
[null,null,{"$f":" WINEP_Inputs!A243","v":"SSD00717"},{"$f":" WINEP_Inputs!J243","v":"7SO300674"},{"$f":" WINEP_Inputs!K243","v":"CHICHESTER WWTW"},{"$f":"WINEP_Inputs!CW243","v":"£m"},{"$f":"WINEP_Inputs!CX243","v":1},null,{"$f":" WINEP_Inputs!CR243","v":0},{"$f":" WINEP_Inputs!CS243","v":0},{"$f":" WINEP_Inputs!CT243","v":1},{"$f":" WINEP_Inputs!CU243","v":0},{"$f":" WINEP_Inputs!CV243","v":"WWN"}]
[null,null,{"$f":" WINEP_Inputs!A244","v":"SSD00719"},{"$f":" WINEP_Inputs!J244","v":"7SO300676"},{"$f":" WINEP_Inputs!K244","v":"CHICKENHALL EASTLEIGH WWTW"},{"$f":"WINEP_Inputs!CW244","v":"£m"},{"$f":"WINEP_Inputs!CX244","v":1},null,{"$f":" WINEP_Inputs!CR244","v":0},{"$f":" WINEP_Inputs!CS244","v":0},{"$f":" WINEP_Inputs!CT244","v":1},{"$f":" WINEP_Inputs!CU244","v":0},{"$f":" WINEP_Inputs!CV244","v":"WWN"}]
[null,null,{"$f":" WINEP_Inputs!A245","v":"SSD00721"},{"$f":" WINEP_Inputs!J245","v":"7SO300678"},{"$f":" WINEP_Inputs!K245","v":"CHIDDINGFOLD WWTW"},{"$f":"WINEP_Inputs!CW245","v":"£m"},{"$f":"WINEP_Inputs!CX245","v":1},null,{"$f":" WINEP_Inputs!CR245","v":0},{"$f":" WINEP_Inputs!CS245","v":0},{"$f":" WINEP_Inputs!CT245","v":1},{"$f":" WINEP_Inputs!CU245","v":0},{"$f":" WINEP_Inputs!CV245","v":"WWN"}]
[null,null,{"$f":" WINEP_Inputs!A246","v":"SSD00730"},{"$f":" WINEP_Inputs!J246","v":"7SO300692"},{"$f":" WINEP_Inputs!K246","v":"COWFOLD WWTW"},{"$f":"WINEP_Inputs!CW246","v":"£m"},{"$f":"WINEP_Inputs!CX246","v":1},null,{"$f":" WINEP_Inputs!CR246","v":0},{"$f":" WINEP_Inputs!CS246","v":0},{"$f":" WINEP_Inputs!CT246","v":1},{"$f":" WINEP_Inputs!CU246","v":0},{"$f":" WINEP_Inputs!CV246","v":"WWN"}]
[null,null,{"$f":" WINEP_Inputs!A247","v":"KSL00504"},{"$f":" WINEP_Inputs!J247","v":"7SO300696"},{"$f":" WINEP_Inputs!K247","v":"CROUCH FARM MAYFIELD WWTW"},{"$f":"WINEP_Inputs!CW247","v":"£m"},{"$f":"WINEP_Inputs!CX247","v":1},null,{"$f":" WINEP_Inputs!CR247","v":0},{"$f":" WINEP_Inputs!CS247","v":0},{"$f":" WINEP_Inputs!CT247","v":1},{"$f":" WINEP_Inputs!CU247","v":0},{"$f":" WINEP_Inputs!CV247","v":"WWN"}]
[null,null,{"$f":" WINEP_Inputs!A248","v":"SSD00732"},{"$f":" WINEP_Inputs!J248","v":"7SO300701"},{"$f":" WINEP_Inputs!K248","v":"DANEHILL WWTW"},{"$f":"WINEP_Inputs!CW248","v":"£m"},{"$f":"WINEP_Inputs!CX248","v":1},null,{"$f":" WINEP_Inputs!CR248","v":0},{"$f":" WINEP_Inputs!CS248","v":0},{"$f":" WINEP_Inputs!CT248","v":1},{"$f":" WINEP_Inputs!CU248","v":0},{"$f":" WINEP_Inputs!CV248","v":"WWN"}]
[null,null,{"$f":" WINEP_Inputs!A249","v":"SSD00734"},{"$f":" WINEP_Inputs!J249","v":"7SO300703"},{"$f":" WINEP_Inputs!K249","v":"DITCHLING WWTW"},{"$f":"WINEP_Inputs!CW249","v":"£m"},{"$f":"WINEP_Inputs!CX249","v":1},null,{"$f":" WINEP_Inputs!CR249","v":0},{"$f":" WINEP_Inputs!CS249","v":0},{"$f":" WINEP_Inputs!CT249","v":1},{"$f":" WINEP_Inputs!CU249","v":0},{"$f":" WINEP_Inputs!CV249","v":"WWN"}]
[null,null,{"$f":" WINEP_Inputs!A250","v":"KSL00509"},{"$f":" WINEP_Inputs!J250","v":"7SO300705"},{"$f":" WINEP_Inputs!K250","v":"DITTON WWTW"},{"$f":"WINEP_Inputs!CW250","v":"£m"},{"$f":"WINEP_Inputs!CX250","v":1},null,{"$f":" WINEP_Inputs!CR250","v":0},{"$f":" WINEP_Inputs!CS250","v":0},{"$f":" WINEP_Inputs!CT250","v":1},{"$f":" WINEP_Inputs!CU250","v":0},{"$f":" WINEP_Inputs!CV250","v":"WWN"}]
[null,null,{"$f":" WINEP_Inputs!A251","v":"SSD00736"},{"$f":" WINEP_Inputs!J251","v":"7SO300707"},{"$f":" WINEP_Inputs!K251","v":"EAST BOLDRE WWTW"},{"$f":"WINEP_Inputs!CW251","v":"£m"},{"$f":"WINEP_Inputs!CX251","v":1},null,{"$f":" WINEP_Inputs!CR251","v":0},{"$f":" WINEP_Inputs!CS251","v":0},{"$f":" WINEP_Inputs!CT251","v":1},{"$f":" WINEP_Inputs!CU251","v":0},{"$f":" WINEP_Inputs!CV251","v":"WWN"}]
[null,null,{"$f":" WINEP_Inputs!A252","v":"SSD00738"},{"$f":" WINEP_Inputs!J252","v":"7SO300709"},{"$f":" WINEP_Inputs!K252","v":"EAST DEAN WWTW"},{"$f":"WINEP_Inputs!CW252","v":"£m"},{"$f":"WINEP_Inputs!CX252","v":1},null,{"$f":" WINEP_Inputs!CR252","v":0},{"$f":" WINEP_Inputs!CS252","v":0},{"$f":" WINEP_Inputs!CT252","v":1},{"$f":" WINEP_Inputs!CU252","v":0},{"$f":" WINEP_Inputs!CV252","v":"WWN"}]
[null,null,{"$f":" WINEP_Inputs!A253","v":"SSD00746"},{"$f":" WINEP_Inputs!J253","v":"7SO300717"},{"$f":" WINEP_Inputs!K253","v":"EAST WORTHING WWTW"},{"$f":"WINEP_Inputs!CW253","v":"£m"},{"$f":"WINEP_Inputs!CX253","v":1},null,{"$f":" WINEP_Inputs!CR253","v":0},{"$f":" WINEP_Inputs!CS253","v":0},{"$f":" WINEP_Inputs!CT253","v":1},{"$f":" WINEP_Inputs!CU253","v":0},{"$f":" WINEP_Inputs!CV253","v":"WWN"}]
[null,null,{"$f":" WINEP_Inputs!A254","v":"KSL00513"},{"$f":" WINEP_Inputs!J254","v":"7SO300723"},{"$f":" WINEP_Inputs!K254","v":"EDEN VALE EAST GRINSTEAD WWTW"},{"$f":"WINEP_Inputs!CW254","v":"£m"},{"$f":"WINEP_Inputs!CX254","v":1},null,{"$f":" WINEP_Inputs!CR254","v":0},{"$f":" WINEP_Inputs!CS254","v":0},{"$f":" WINEP_Inputs!CT254","v":1},{"$f":" WINEP_Inputs!CU254","v":0},{"$f":" WINEP_Inputs!CV254","v":"WWN"}]
[null,null,{"$f":" WINEP_Inputs!A255","v":"KSL00515"},{"$f":" WINEP_Inputs!J255","v":"7SO300725"},{"$f":" WINEP_Inputs!K255","v":"EDENBRIDGE WWTW"},{"$f":"WINEP_Inputs!CW255","v":"£m"},{"$f":"WINEP_Inputs!CX255","v":1},null,{"$f":" WINEP_Inputs!CR255","v":0},{"$f":" WINEP_Inputs!CS255","v":0},{"$f":" WINEP_Inputs!CT255","v":1},{"$f":" WINEP_Inputs!CU255","v":0},{"$f":" WINEP_Inputs!CV255","v":"WWN"}]
[null,null,{"$f":" WINEP_Inputs!A256","v":"KSL00518"},{"$f":" WINEP_Inputs!J256","v":"7SO300728"},{"$f":" WINEP_Inputs!K256","v":"FAIRLIGHT WWTW"},{"$f":"WINEP_Inputs!CW256","v":"£m"},{"$f":"WINEP_Inputs!CX256","v":1},null,{"$f":" WINEP_Inputs!CR256","v":0},{"$f":" WINEP_Inputs!CS256","v":0},{"$f":" WINEP_Inputs!CT256","v":1},{"$f":" WINEP_Inputs!CU256","v":0},{"$f":" WINEP_Inputs!CV256","v":"WWN"}]
[null,null,{"$f":" WINEP_Inputs!A257","v":"KSL00520"},{"$f":" WINEP_Inputs!J257","v":"7SO300730"},{"$f":" WINEP_Inputs!K257","v":"FAVERSHAM WWTW"},{"$f":"WINEP_Inputs!CW257","v":"£m"},{"$f":"WINEP_Inputs!CX257","v":1},null,{"$f":" WINEP_Inputs!CR257","v":0},{"$f":" WINEP_Inputs!CS257","v":0},{"$f":" WINEP_Inputs!CT257","v":1},{"$f":" WINEP_Inputs!CU257","v":0},{"$f":" WINEP_Inputs!CV257","v":"WWN"}]
[null,null,{"$f":" WINEP_Inputs!A258","v":"SSD00750"},{"$f":" WINEP_Inputs!J258","v":"7SO300734"},{"$f":" WINEP_Inputs!K258","v":"FERNHURST WWTW"},{"$f":"WINEP_Inputs!CW258","v":"£m"},{"$f":"WINEP_Inputs!CX258","v":1},null,{"$f":" WINEP_Inputs!CR258","v":0},{"$f":" WINEP_Inputs!CS258","v":0},{"$f":" WINEP_Inputs!CT258","v":1},{"$f":" WINEP_Inputs!CU258","v":0},{"$f":" WINEP_Inputs!CV258","v":"WWN"}]
[null,null,{"$f":" WINEP_Inputs!A259","v":"KSL00524"},{"$f":" WINEP_Inputs!J259","v":"7SO300736"},{"$f":" WINEP_Inputs!K259","v":"FERRY HILL WINCHELSEA WWTW"},{"$f":"WINEP_Inputs!CW259","v":"£m"},{"$f":"WINEP_Inputs!CX259","v":1},null,{"$f":" WINEP_Inputs!CR259","v":0},{"$f":" WINEP_Inputs!CS259","v":0},{"$f":" WINEP_Inputs!CT259","v":1},{"$f":" WINEP_Inputs!CU259","v":0},{"$f":" WINEP_Inputs!CV259","v":"WWN"}]
[null,null,{"$f":" WINEP_Inputs!A260","v":"SSD00752"},{"$f":" WINEP_Inputs!J260","v":"7SO300738"},{"$f":" WINEP_Inputs!K260","v":"FITTLEWORTH WWTW"},{"$f":"WINEP_Inputs!CW260","v":"£m"},{"$f":"WINEP_Inputs!CX260","v":1},null,{"$f":" WINEP_Inputs!CR260","v":0},{"$f":" WINEP_Inputs!CS260","v":0},{"$f":" WINEP_Inputs!CT260","v":1},{"$f":" WINEP_Inputs!CU260","v":0},{"$f":" WINEP_Inputs!CV260","v":"WWN"}]
[null,null,{"$f":" WINEP_Inputs!A261","v":"KSL00530"},{"$f":" WINEP_Inputs!J261","v":"7SO300747"},{"$f":" WINEP_Inputs!K261","v":"FORDCOMBE WWTW"},{"$f":"WINEP_Inputs!CW261","v":"£m"},{"$f":"WINEP_Inputs!CX261","v":1},null,{"$f":" WINEP_Inputs!CR261","v":0},{"$f":" WINEP_Inputs!CS261","v":0},{"$f":" WINEP_Inputs!CT261","v":1},{"$f":" WINEP_Inputs!CU261","v":0},{"$f":" WINEP_Inputs!CV261","v":"WWN"}]
[null,null,{"$f":" WINEP_Inputs!A262","v":"KSL00532"},{"$f":" WINEP_Inputs!J262","v":"7SO300749"},{"$f":" WINEP_Inputs!K262","v":"FOREST ROW WWTW"},{"$f":"WINEP_Inputs!CW262","v":"£m"},{"$f":"WINEP_Inputs!CX262","v":1},null,{"$f":" WINEP_Inputs!CR262","v":0},{"$f":" WINEP_Inputs!CS262","v":0},{"$f":" WINEP_Inputs!CT262","v":1},{"$f":" WINEP_Inputs!CU262","v":0},{"$f":" WINEP_Inputs!CV262","v":"WWN"}]
[null,null,{"$f":" WINEP_Inputs!A263","v":"KSL00534"},{"$f":" WINEP_Inputs!J263","v":"7SO300751"},{"$f":" WINEP_Inputs!K263","v":"FRANT WWTW"},{"$f":"WINEP_Inputs!CW263","v":"£m"},{"$f":"WINEP_Inputs!CX263","v":1},null,{"$f":" WINEP_Inputs!CR263","v":0},{"$f":" WINEP_Inputs!CS263","v":0},{"$f":" WINEP_Inputs!CT263","v":1},{"$f":" WINEP_Inputs!CU263","v":0},{"$f":" WINEP_Inputs!CV263","v":"WWN"}]
[null,null,{"$f":" WINEP_Inputs!A264","v":"KSL00536"},{"$f":" WINEP_Inputs!J264","v":"7SO300753"},{"$f":" WINEP_Inputs!K264","v":"FRITTENDEN WWTW"},{"$f":"WINEP_Inputs!CW264","v":"£m"},{"$f":"WINEP_Inputs!CX264","v":1},null,{"$f":" WINEP_Inputs!CR264","v":0},{"$f":" WINEP_Inputs!CS264","v":0},{"$f":" WINEP_Inputs!CT264","v":1},{"$f":" WINEP_Inputs!CU264","v":0},{"$f":" WINEP_Inputs!CV264","v":"WWN"}]
[null,null,{"$f":" WINEP_Inputs!A265","v":"SSD00757"},{"$f":" WINEP_Inputs!J265","v":"7SO300755"},{"$f":" WINEP_Inputs!K265","v":"FULLERTON WWTW"},{"$f":"WINEP_Inputs!CW265","v":"£m"},{"$f":"WINEP_Inputs!CX265","v":1},null,{"$f":" WINEP_Inputs!CR265","v":0},{"$f":" WINEP_Inputs!CS265","v":0},{"$f":" WINEP_Inputs!CT265","v":1},{"$f":" WINEP_Inputs!CU265","v":0},{"$f":" WINEP_Inputs!CV265","v":"WWN"}]
[null,null,{"$f":" WINEP_Inputs!A266","v":"SSD00760"},{"$f":" WINEP_Inputs!J266","v":"7SO300758"},{"$f":" WINEP_Inputs!K266","v":"GODDARDS GREEN WWTW"},{"$f":"WINEP_Inputs!CW266","v":"£m"},{"$f":"WINEP_Inputs!CX266","v":1},null,{"$f":" WINEP_Inputs!CR266","v":0},{"$f":" WINEP_Inputs!CS266","v":0},{"$f":" WINEP_Inputs!CT266","v":1},{"$f":" WINEP_Inputs!CU266","v":0},{"$f":" WINEP_Inputs!CV266","v":"WWN"}]
[null,null,{"$f":" WINEP_Inputs!A267","v":"SSD00762"},{"$f":" WINEP_Inputs!J267","v":"7SO300760"},{"$f":" WINEP_Inputs!K267","v":"GODSHILL WWTW"},{"$f":"WINEP_Inputs!CW267","v":"£m"},{"$f":"WINEP_Inputs!CX267","v":1},null,{"$f":" WINEP_Inputs!CR267","v":0},{"$f":" WINEP_Inputs!CS267","v":0},{"$f":" WINEP_Inputs!CT267","v":1},{"$f":" WINEP_Inputs!CU267","v":0},{"$f":" WINEP_Inputs!CV267","v":"WWN"}]
[null,null,{"$f":" WINEP_Inputs!A268","v":"KSL00538"},{"$f":" WINEP_Inputs!J268","v":"7SO300762"},{"$f":" WINEP_Inputs!K268","v":"GODSTONE WWTW"},{"$f":"WINEP_Inputs!CW268","v":"£m"},{"$f":"WINEP_Inputs!CX268","v":1},null,{"$f":" WINEP_Inputs!CR268","v":0},{"$f":" WINEP_Inputs!CS268","v":0},{"$f":" WINEP_Inputs!CT268","v":1},{"$f":" WINEP_Inputs!CU268","v":0},{"$f":" WINEP_Inputs!CV268","v":"WWN"}]
[null,null,{"$f":" WINEP_Inputs!A269","v":"KSL00540"},{"$f":" WINEP_Inputs!J269","v":"7SO300764"},{"$f":" WINEP_Inputs!K269","v":"GOLF ROAD DEAL WPS"},{"$f":"WINEP_Inputs!CW269","v":"£m"},{"$f":"WINEP_Inputs!CX269","v":1},null,{"$f":" WINEP_Inputs!CR269","v":0},{"$f":" WINEP_Inputs!CS269","v":0},{"$f":" WINEP_Inputs!CT269","v":1},{"$f":" WINEP_Inputs!CU269","v":0},{"$f":" WINEP_Inputs!CV269","v":"WWN"}]
[null,null,{"$f":" WINEP_Inputs!A270","v":"KSL00542"},{"$f":" WINEP_Inputs!J270","v":"7SO300766"},{"$f":" WINEP_Inputs!K270","v":"GRAIN WWTW"},{"$f":"WINEP_Inputs!CW270","v":"£m"},{"$f":"WINEP_Inputs!CX270","v":1},null,{"$f":" WINEP_Inputs!CR270","v":0},{"$f":" WINEP_Inputs!CS270","v":0},{"$f":" WINEP_Inputs!CT270","v":1},{"$f":" WINEP_Inputs!CU270","v":0},{"$f":" WINEP_Inputs!CV270","v":"WWN"}]
[null,null,{"$f":" WINEP_Inputs!A271","v":"KSL00544"},{"$f":" WINEP_Inputs!J271","v":"7SO300768"},{"$f":" WINEP_Inputs!K271","v":"GRAVESEND WWTW"},{"$f":"WINEP_Inputs!CW271","v":"£m"},{"$f":"WINEP_Inputs!CX271","v":1},null,{"$f":" WINEP_Inputs!CR271","v":0},{"$f":" WINEP_Inputs!CS271","v":0},{"$f":" WINEP_Inputs!CT271","v":1},{"$f":" WINEP_Inputs!CU271","v":0},{"$f":" WINEP_Inputs!CV271","v":"WWN"}]
[null,null,{"$f":" WINEP_Inputs!A272","v":"KSL00546"},{"$f":" WINEP_Inputs!J272","v":"7SO300772"},{"$f":" WINEP_Inputs!K272","v":"GUESTLING GREEN WWTW"},{"$f":"WINEP_Inputs!CW272","v":"£m"},{"$f":"WINEP_Inputs!CX272","v":1},null,{"$f":" WINEP_Inputs!CR272","v":0},{"$f":" WINEP_Inputs!CS272","v":0},{"$f":" WINEP_Inputs!CT272","v":1},{"$f":" WINEP_Inputs!CU272","v":0},{"$f":" WINEP_Inputs!CV272","v":"WWN"}]
[null,null,{"$f":" WINEP_Inputs!A273","v":"SSD00766"},{"$f":" WINEP_Inputs!J273","v":"7SO300775"},{"$f":" WINEP_Inputs!K273","v":"HAILSHAM NORTH WWTW"},{"$f":"WINEP_Inputs!CW273","v":"£m"},{"$f":"WINEP_Inputs!CX273","v":1},null,{"$f":" WINEP_Inputs!CR273","v":0},{"$f":" WINEP_Inputs!CS273","v":0},{"$f":" WINEP_Inputs!CT273","v":1},{"$f":" WINEP_Inputs!CU273","v":0},{"$f":" WINEP_Inputs!CV273","v":"WWN"}]
[null,null,{"$f":" WINEP_Inputs!A274","v":"SSD00770"},{"$f":" WINEP_Inputs!J274","v":"7SO300781"},{"$f":" WINEP_Inputs!K274","v":"HALLAND WWTW"},{"$f":"WINEP_Inputs!CW274","v":"£m"},{"$f":"WINEP_Inputs!CX274","v":1},null,{"$f":" WINEP_Inputs!CR274","v":0},{"$f":" WINEP_Inputs!CS274","v":0},{"$f":" WINEP_Inputs!CT274","v":1},{"$f":" WINEP_Inputs!CU274","v":0},{"$f":" WINEP_Inputs!CV274","v":"WWN"}]
[null,null,{"$f":" WINEP_Inputs!A275","v":"KSL00551"},{"$f":" WINEP_Inputs!J275","v":"7SO300783"},{"$f":" WINEP_Inputs!K275","v":"HAM HILL WWTW"},{"$f":"WINEP_Inputs!CW275","v":"£m"},{"$f":"WINEP_Inputs!CX275","v":1},null,{"$f":" WINEP_Inputs!CR275","v":0},{"$f":" WINEP_Inputs!CS275","v":0},{"$f":" WINEP_Inputs!CT275","v":1},{"$f":" WINEP_Inputs!CU275","v":0},{"$f":" WINEP_Inputs!CV275","v":"WWN"}]
[null,null,{"$f":" WINEP_Inputs!A276","v":"SSD00772"},{"$f":" WINEP_Inputs!J276","v":"7SO300787"},{"$f":" WINEP_Inputs!K276","v":"HARESTOCK WWTW"},{"$f":"WINEP_Inputs!CW276","v":"£m"},{"$f":"WINEP_Inputs!CX276","v":1},null,{"$f":" WINEP_Inputs!CR276","v":0},{"$f":" WINEP_Inputs!CS276","v":0},{"$f":" WINEP_Inputs!CT276","v":1},{"$f":" WINEP_Inputs!CU276","v":0},{"$f":" WINEP_Inputs!CV276","v":"WWN"}]
[null,null,{"$f":" WINEP_Inputs!A277","v":"KSL00555"},{"$f":" WINEP_Inputs!J277","v":"7SO300789"},{"$f":" WINEP_Inputs!K277","v":"HARRIETSHAM WWTW"},{"$f":"WINEP_Inputs!CW277","v":"£m"},{"$f":"WINEP_Inputs!CX277","v":1},null,{"$f":" WINEP_Inputs!CR277","v":0},{"$f":" WINEP_Inputs!CS277","v":0},{"$f":" WINEP_Inputs!CT277","v":1},{"$f":" WINEP_Inputs!CU277","v":0},{"$f":" WINEP_Inputs!CV277","v":"WWN"}]
[null,null,{"$f":" WINEP_Inputs!A278","v":"SSD00774"},{"$f":" WINEP_Inputs!J278","v":"7SO300791"},{"$f":" WINEP_Inputs!K278","v":"HARTFIELD WWTW"},{"$f":"WINEP_Inputs!CW278","v":"£m"},{"$f":"WINEP_Inputs!CX278","v":1},null,{"$f":" WINEP_Inputs!CR278","v":0},{"$f":" WINEP_Inputs!CS278","v":0},{"$f":" WINEP_Inputs!CT278","v":1},{"$f":" WINEP_Inputs!CU278","v":0},{"$f":" WINEP_Inputs!CV278","v":"WWN"}]
[null,null,{"$f":" WINEP_Inputs!A279","v":"KSL00559"},{"$f":" WINEP_Inputs!J279","v":"7SO300795"},{"$f":" WINEP_Inputs!K279","v":"HAWKHURST NORTH WWTW"},{"$f":"WINEP_Inputs!CW279","v":"£m"},{"$f":"WINEP_Inputs!CX279","v":1},null,{"$f":" WINEP_Inputs!CR279","v":0},{"$f":" WINEP_Inputs!CS279","v":0},{"$f":" WINEP_Inputs!CT279","v":1},{"$f":" WINEP_Inputs!CU279","v":0},{"$f":" WINEP_Inputs!CV279","v":"WWN"}]
[null,null,{"$f":" WINEP_Inputs!A280","v":"KSL00561"},{"$f":" WINEP_Inputs!J280","v":"7SO300797"},{"$f":" WINEP_Inputs!K280","v":"HAWKHURST SOUTH WWTW"},{"$f":"WINEP_Inputs!CW280","v":"£m"},{"$f":"WINEP_Inputs!CX280","v":1},null,{"$f":" WINEP_Inputs!CR280","v":0},{"$f":" WINEP_Inputs!CS280","v":0},{"$f":" WINEP_Inputs!CT280","v":1},{"$f":" WINEP_Inputs!CU280","v":0},{"$f":" WINEP_Inputs!CV280","v":"WWN"}]
[null,null,{"$f":" WINEP_Inputs!A281","v":"SSD00776"},{"$f":" WINEP_Inputs!J281","v":"7SO300800"},{"$f":" WINEP_Inputs!K281","v":"HENFIELD WWTW"},{"$f":"WINEP_Inputs!CW281","v":"£m"},{"$f":"WINEP_Inputs!CX281","v":1},null,{"$f":" WINEP_Inputs!CR281","v":0},{"$f":" WINEP_Inputs!CS281","v":0},{"$f":" WINEP_Inputs!CT281","v":1},{"$f":" WINEP_Inputs!CU281","v":0},{"$f":" WINEP_Inputs!CV281","v":"WWN"}]
[null,null,{"$f":" WINEP_Inputs!A282","v":"KSL00564"},{"$f":" WINEP_Inputs!J282","v":"7SO300802"},{"$f":" WINEP_Inputs!K282","v":"HIGH HALDEN WWTW"},{"$f":"WINEP_Inputs!CW282","v":"£m"},{"$f":"WINEP_Inputs!CX282","v":1},null,{"$f":" WINEP_Inputs!CR282","v":0},{"$f":" WINEP_Inputs!CS282","v":0},{"$f":" WINEP_Inputs!CT282","v":1},{"$f":" WINEP_Inputs!CU282","v":0},{"$f":" WINEP_Inputs!CV282","v":"WWN"}]
[null,null,{"$f":" WINEP_Inputs!A283","v":"SSD00780"},{"$f":" WINEP_Inputs!J283","v":"7SO300806"},{"$f":" WINEP_Inputs!K283","v":"HORSHAM NEW WWTW"},{"$f":"WINEP_Inputs!CW283","v":"£m"},{"$f":"WINEP_Inputs!CX283","v":1},null,{"$f":" WINEP_Inputs!CR283","v":0},{"$f":" WINEP_Inputs!CS283","v":0},{"$f":" WINEP_Inputs!CT283","v":1},{"$f":" WINEP_Inputs!CU283","v":0},{"$f":" WINEP_Inputs!CV283","v":"WWN"}]
[null,null,{"$f":" WINEP_Inputs!A284","v":"SSD00783"},{"$f":" WINEP_Inputs!J284","v":"7SO300810"},{"$f":" WINEP_Inputs!K284","v":"HORSTED KEYNES WWTW"},{"$f":"WINEP_Inputs!CW284","v":"£m"},{"$f":"WINEP_Inputs!CX284","v":1},null,{"$f":" WINEP_Inputs!CR284","v":0},{"$f":" WINEP_Inputs!CS284","v":0},{"$f":" WINEP_Inputs!CT284","v":1},{"$f":" WINEP_Inputs!CU284","v":0},{"$f":" WINEP_Inputs!CV284","v":"WWN"}]
[null,null,{"$f":" WINEP_Inputs!A285","v":"KSL00569"},{"$f":" WINEP_Inputs!J285","v":"7SO300813"},{"$f":" WINEP_Inputs!K285","v":"ICKLESHAM WWTW"},{"$f":"WINEP_Inputs!CW285","v":"£m"},{"$f":"WINEP_Inputs!CX285","v":1},null,{"$f":" WINEP_Inputs!CR285","v":0},{"$f":" WINEP_Inputs!CS285","v":0},{"$f":" WINEP_Inputs!CT285","v":1},{"$f":" WINEP_Inputs!CU285","v":0},{"$f":" WINEP_Inputs!CV285","v":"WWN"}]
[null,null,{"$f":" WINEP_Inputs!A286","v":"SSD00787"},{"$f":" WINEP_Inputs!J286","v":"7SO300822"},{"$f":" WINEP_Inputs!K286","v":"KINGSTON HOLLOW WWTW"},{"$f":"WINEP_Inputs!CW286","v":"£m"},{"$f":"WINEP_Inputs!CX286","v":1},null,{"$f":" WINEP_Inputs!CR286","v":0},{"$f":" WINEP_Inputs!CS286","v":0},{"$f":" WINEP_Inputs!CT286","v":1},{"$f":" WINEP_Inputs!CU286","v":0},{"$f":" WINEP_Inputs!CV286","v":"WWN"}]
[null,null,{"$f":" WINEP_Inputs!A287","v":"SSD00792"},{"$f":" WINEP_Inputs!J287","v":"7SO300832"},{"$f":" WINEP_Inputs!K287","v":"LIDSEY WWTW"},{"$f":"WINEP_Inputs!CW287","v":"£m"},{"$f":"WINEP_Inputs!CX287","v":1},null,{"$f":" WINEP_Inputs!CR287","v":0},{"$f":" WINEP_Inputs!CS287","v":0},{"$f":" WINEP_Inputs!CT287","v":1},{"$f":" WINEP_Inputs!CU287","v":0},{"$f":" WINEP_Inputs!CV287","v":"WWN"}]
[null,null,{"$f":" WINEP_Inputs!A288","v":"KSL00580"},{"$f":" WINEP_Inputs!J288","v":"7SO300834"},{"$f":" WINEP_Inputs!K288","v":"LINGFIELD WWTW"},{"$f":"WINEP_Inputs!CW288","v":"£m"},{"$f":"WINEP_Inputs!CX288","v":1},null,{"$f":" WINEP_Inputs!CR288","v":0},{"$f":" WINEP_Inputs!CS288","v":0},{"$f":" WINEP_Inputs!CT288","v":1},{"$f":" WINEP_Inputs!CU288","v":0},{"$f":" WINEP_Inputs!CV288","v":"WWN"}]
[null,null,{"$f":" WINEP_Inputs!A289","v":"SSD00796"},{"$f":" WINEP_Inputs!J289","v":"7SO300840"},{"$f":" WINEP_Inputs!K289","v":"LOXWOOD WWTW"},{"$f":"WINEP_Inputs!CW289","v":"£m"},{"$f":"WINEP_Inputs!CX289","v":1},null,{"$f":" WINEP_Inputs!CR289","v":0},{"$f":" WINEP_Inputs!CS289","v":0},{"$f":" WINEP_Inputs!CT289","v":1},{"$f":" WINEP_Inputs!CU289","v":0},{"$f":" WINEP_Inputs!CV289","v":"WWN"}]
[null,null,{"$f":" WINEP_Inputs!A290","v":"SSD00798"},{"$f":" WINEP_Inputs!J290","v":"7SO300842"},{"$f":" WINEP_Inputs!K290","v":"LUNSFORDS CROSS WWTW"},{"$f":"WINEP_Inputs!CW290","v":"£m"},{"$f":"WINEP_Inputs!CX290","v":1},null,{"$f":" WINEP_Inputs!CR290","v":0},{"$f":" WINEP_Inputs!CS290","v":0},{"$f":" WINEP_Inputs!CT290","v":1},{"$f":" WINEP_Inputs!CU290","v":0},{"$f":" WINEP_Inputs!CV290","v":"WWN"}]
[null,null,{"$f":" WINEP_Inputs!A291","v":"KSL00584"},{"$f":" WINEP_Inputs!J291","v":"7SO300845"},{"$f":" WINEP_Inputs!K291","v":"LUXFORDS LANE EAST GRINSTEAD WWTW"},{"$f":"WINEP_Inputs!CW291","v":"£m"},{"$f":"WINEP_Inputs!CX291","v":1},null,{"$f":" WINEP_Inputs!CR291","v":0},{"$f":" WINEP_Inputs!CS291","v":0},{"$f":" WINEP_Inputs!CT291","v":1},{"$f":" WINEP_Inputs!CU291","v":0},{"$f":" WINEP_Inputs!CV291","v":"WWN"}]
[null,null,{"$f":" WINEP_Inputs!A292","v":"SSD00805"},{"$f":" WINEP_Inputs!J292","v":"7SO300853"},{"$f":" WINEP_Inputs!K292","v":"MANNINGS HEATH WWTW"},{"$f":"WINEP_Inputs!CW292","v":"£m"},{"$f":"WINEP_Inputs!CX292","v":1},null,{"$f":" WINEP_Inputs!CR292","v":0},{"$f":" WINEP_Inputs!CS292","v":0},{"$f":" WINEP_Inputs!CT292","v":1},{"$f":" WINEP_Inputs!CU292","v":0},{"$f":" WINEP_Inputs!CV292","v":"WWN"}]
[null,null,{"$f":" WINEP_Inputs!A293","v":"SSD00807"},{"$f":" WINEP_Inputs!J293","v":"7SO300855"},{"$f":" WINEP_Inputs!K293","v":"MARESFIELD WWTW"},{"$f":"WINEP_Inputs!CW293","v":"£m"},{"$f":"WINEP_Inputs!CX293","v":1},null,{"$f":" WINEP_Inputs!CR293","v":0},{"$f":" WINEP_Inputs!CS293","v":0},{"$f":" WINEP_Inputs!CT293","v":1},{"$f":" WINEP_Inputs!CU293","v":0},{"$f":" WINEP_Inputs!CV293","v":"WWN"}]
[null,null,{"$f":" WINEP_Inputs!A294","v":"KSL00590"},{"$f":" WINEP_Inputs!J294","v":"7SO300859"},{"$f":" WINEP_Inputs!K294","v":"MAY STREET HERNE BAY WWTW"},{"$f":"WINEP_Inputs!CW294","v":"£m"},{"$f":"WINEP_Inputs!CX294","v":1},null,{"$f":" WINEP_Inputs!CR294","v":0},{"$f":" WINEP_Inputs!CS294","v":0},{"$f":" WINEP_Inputs!CT294","v":1},{"$f":" WINEP_Inputs!CU294","v":0},{"$f":" WINEP_Inputs!CV294","v":"WWN"}]
[null,null,{"$f":" WINEP_Inputs!A295","v":"KSL00592"},{"$f":" WINEP_Inputs!J295","v":"7SO300861"},{"$f":" WINEP_Inputs!K295","v":"MERES FARM MAYFIELD WWTW"},{"$f":"WINEP_Inputs!CW295","v":"£m"},{"$f":"WINEP_Inputs!CX295","v":1},null,{"$f":" WINEP_Inputs!CR295","v":0},{"$f":" WINEP_Inputs!CS295","v":0},{"$f":" WINEP_Inputs!CT295","v":1},{"$f":" WINEP_Inputs!CU295","v":0},{"$f":" WINEP_Inputs!CV295","v":"WWN"}]
[null,null,{"$f":" WINEP_Inputs!A296","v":"SSD00809"},{"$f":" WINEP_Inputs!J296","v":"7SO300863"},{"$f":" WINEP_Inputs!K296","v":"MILFORD ROAD PENNINGTON WWTW"},{"$f":"WINEP_Inputs!CW296","v":"£m"},{"$f":"WINEP_Inputs!CX296","v":1},null,{"$f":" WINEP_Inputs!CR296","v":0},{"$f":" WINEP_Inputs!CS296","v":0},{"$f":" WINEP_Inputs!CT296","v":1},{"$f":" WINEP_Inputs!CU296","v":0},{"$f":" WINEP_Inputs!CV296","v":"WWN"}]
[null,null,{"$f":" WINEP_Inputs!A297","v":"SSD00814"},{"$f":" WINEP_Inputs!J297","v":"7SO300871"},{"$f":" WINEP_Inputs!K297","v":"MILLBROOK WWTW"},{"$f":"WINEP_Inputs!CW297","v":"£m"},{"$f":"WINEP_Inputs!CX297","v":1},null,{"$f":" WINEP_Inputs!CR297","v":0},{"$f":" WINEP_Inputs!CS297","v":0},{"$f":" WINEP_Inputs!CT297","v":1},{"$f":" WINEP_Inputs!CU297","v":0},{"$f":" WINEP_Inputs!CV297","v":"WWN"}]
[null,null,{"$f":" WINEP_Inputs!A298","v":"KSL00597"},{"$f":" WINEP_Inputs!J298","v":"7SO300873"},{"$f":" WINEP_Inputs!K298","v":"MINSTER IOT WWTW"},{"$f":"WINEP_Inputs!CW298","v":"£m"},{"$f":"WINEP_Inputs!CX298","v":1},null,{"$f":" WINEP_Inputs!CR298","v":0},{"$f":" WINEP_Inputs!CS298","v":0},{"$f":" WINEP_Inputs!CT298","v":1},{"$f":" WINEP_Inputs!CU298","v":0},{"$f":" WINEP_Inputs!CV298","v":"WWN"}]
[null,null,{"$f":" WINEP_Inputs!A299","v":"SSD00820"},{"$f":" WINEP_Inputs!J299","v":"7SO300883"},{"$f":" WINEP_Inputs!K299","v":"NEAVES LANE RINGMER WWTW"},{"$f":"WINEP_Inputs!CW299","v":"£m"},{"$f":"WINEP_Inputs!CX299","v":1},null,{"$f":" WINEP_Inputs!CR299","v":0},{"$f":" WINEP_Inputs!CS299","v":0},{"$f":" WINEP_Inputs!CT299","v":1},{"$f":" WINEP_Inputs!CU299","v":0},{"$f":" WINEP_Inputs!CV299","v":"WWN"}]
[null,null,{"$f":" WINEP_Inputs!A300","v":"KSL00603"},{"$f":" WINEP_Inputs!J300","v":"7SO300887"},{"$f":" WINEP_Inputs!K300","v":"NEW ROMNEY WWTW"},{"$f":"WINEP_Inputs!CW300","v":"£m"},{"$f":"WINEP_Inputs!CX300","v":1},null,{"$f":" WINEP_Inputs!CR300","v":0},{"$f":" WINEP_Inputs!CS300","v":0},{"$f":" WINEP_Inputs!CT300","v":1},{"$f":" WINEP_Inputs!CU300","v":0},{"$f":" WINEP_Inputs!CV300","v":"WWN"}]
[null,null,{"$f":" WINEP_Inputs!A301","v":"SSD00829"},{"$f":" WINEP_Inputs!J301","v":"7SO300894"},{"$f":" WINEP_Inputs!K301","v":"NEWHAVEN MAIN WWTW"},{"$f":"WINEP_Inputs!CW301","v":"£m"},{"$f":"WINEP_Inputs!CX301","v":1},null,{"$f":" WINEP_Inputs!CR301","v":0},{"$f":" WINEP_Inputs!CS301","v":0},{"$f":" WINEP_Inputs!CT301","v":1},{"$f":" WINEP_Inputs!CU301","v":0},{"$f":" WINEP_Inputs!CV301","v":"WWN"}]
[null,null,{"$f":" WINEP_Inputs!A302","v":"SSD00833"},{"$f":" WINEP_Inputs!J302","v":"7SO300898"},{"$f":" WINEP_Inputs!K302","v":"NORTHCHAPEL WWTW"},{"$f":"WINEP_Inputs!CW302","v":"£m"},{"$f":"WINEP_Inputs!CX302","v":1},null,{"$f":" WINEP_Inputs!CR302","v":0},{"$f":" WINEP_Inputs!CS302","v":0},{"$f":" WINEP_Inputs!CT302","v":1},{"$f":" WINEP_Inputs!CU302","v":0},{"$f":" WINEP_Inputs!CV302","v":"WWN"}]
[null,null,{"$f":" WINEP_Inputs!A303","v":"KSL00607"},{"$f":" WINEP_Inputs!J303","v":"7SO300906"},{"$f":" WINEP_Inputs!K303","v":"OXTED WWTW"},{"$f":"WINEP_Inputs!CW303","v":"£m"},{"$f":"WINEP_Inputs!CX303","v":1},null,{"$f":" WINEP_Inputs!CR303","v":0},{"$f":" WINEP_Inputs!CS303","v":0},{"$f":" WINEP_Inputs!CT303","v":1},{"$f":" WINEP_Inputs!CU303","v":0},{"$f":" WINEP_Inputs!CV303","v":"WWN"}]
[null,null,{"$f":" WINEP_Inputs!A304","v":"KSL00609"},{"$f":" WINEP_Inputs!J304","v":"7SO300908"},{"$f":" WINEP_Inputs!K304","v":"PADDOCK WOOD WWTW"},{"$f":"WINEP_Inputs!CW304","v":"£m"},{"$f":"WINEP_Inputs!CX304","v":1},null,{"$f":" WINEP_Inputs!CR304","v":0},{"$f":" WINEP_Inputs!CS304","v":0},{"$f":" WINEP_Inputs!CT304","v":1},{"$f":" WINEP_Inputs!CU304","v":0},{"$f":" WINEP_Inputs!CV304","v":"WWN"}]
[null,null,{"$f":" WINEP_Inputs!A305","v":"SSD00842"},{"$f":" WINEP_Inputs!J305","v":"7SO300913"},{"$f":" WINEP_Inputs!K305","v":"PEEL COMMON WWTW"},{"$f":"WINEP_Inputs!CW305","v":"£m"},{"$f":"WINEP_Inputs!CX305","v":1},null,{"$f":" WINEP_Inputs!CR305","v":0},{"$f":" WINEP_Inputs!CS305","v":0},{"$f":" WINEP_Inputs!CT305","v":1},{"$f":" WINEP_Inputs!CU305","v":0},{"$f":" WINEP_Inputs!CV305","v":"WWN"}]
[null,null,{"$f":" WINEP_Inputs!A306","v":"KSL00613"},{"$f":" WINEP_Inputs!J306","v":"7SO300917"},{"$f":" WINEP_Inputs!K306","v":"PENSHURST WWTW"},{"$f":"WINEP_Inputs!CW306","v":"£m"},{"$f":"WINEP_Inputs!CX306","v":1},null,{"$f":" WINEP_Inputs!CR306","v":0},{"$f":" WINEP_Inputs!CS306","v":0},{"$f":" WINEP_Inputs!CT306","v":1},{"$f":" WINEP_Inputs!CU306","v":0},{"$f":" WINEP_Inputs!CV306","v":"WWN"}]
[null,null,{"$f":" WINEP_Inputs!A307","v":"SSD00850"},{"$f":" WINEP_Inputs!J307","v":"7SO300926"},{"$f":" WINEP_Inputs!K307","v":"PORTSWOOD WWTW"},{"$f":"WINEP_Inputs!CW307","v":"£m"},{"$f":"WINEP_Inputs!CX307","v":1},null,{"$f":" WINEP_Inputs!CR307","v":0},{"$f":" WINEP_Inputs!CS307","v":0},{"$f":" WINEP_Inputs!CT307","v":1},{"$f":" WINEP_Inputs!CU307","v":0},{"$f":" WINEP_Inputs!CV307","v":"WWN"}]
[null,null,{"$f":" WINEP_Inputs!A308","v":"SSD00852"},{"$f":" WINEP_Inputs!J308","v":"7SO300928"},{"$f":" WINEP_Inputs!K308","v":"POYNINGS WWTW"},{"$f":"WINEP_Inputs!CW308","v":"£m"},{"$f":"WINEP_Inputs!CX308","v":1},null,{"$f":" WINEP_Inputs!CR308","v":0},{"$f":" WINEP_Inputs!CS308","v":0},{"$f":" WINEP_Inputs!CT308","v":1},{"$f":" WINEP_Inputs!CU308","v":0},{"$f":" WINEP_Inputs!CV308","v":"WWN"}]
[null,null,{"$f":" WINEP_Inputs!A309","v":"KSL00625"},{"$f":" WINEP_Inputs!J309","v":"7SO300941"},{"$f":" WINEP_Inputs!K309","v":"REDGATE MILL CROWBOROUGH WWTW"},{"$f":"WINEP_Inputs!CW309","v":"£m"},{"$f":"WINEP_Inputs!CX309","v":1},null,{"$f":" WINEP_Inputs!CR309","v":0},{"$f":" WINEP_Inputs!CS309","v":0},{"$f":" WINEP_Inputs!CT309","v":1},{"$f":" WINEP_Inputs!CU309","v":0},{"$f":" WINEP_Inputs!CV309","v":"WWN"}]
[null,null,{"$f":" WINEP_Inputs!A310","v":"SSD00858"},{"$f":" WINEP_Inputs!J310","v":"7SO300945"},{"$f":" WINEP_Inputs!K310","v":"RIPE WWTW"},{"$f":"WINEP_Inputs!CW310","v":"£m"},{"$f":"WINEP_Inputs!CX310","v":1},null,{"$f":" WINEP_Inputs!CR310","v":0},{"$f":" WINEP_Inputs!CS310","v":0},{"$f":" WINEP_Inputs!CT310","v":1},{"$f":" WINEP_Inputs!CU310","v":0},{"$f":" WINEP_Inputs!CV310","v":"WWN"}]
[null,null,{"$f":" WINEP_Inputs!A311","v":"KSL00629"},{"$f":" WINEP_Inputs!J311","v":"7SO300951"},{"$f":" WINEP_Inputs!K311","v":"ROLVENDEN LAYNE WWTW"},{"$f":"WINEP_Inputs!CW311","v":"£m"},{"$f":"WINEP_Inputs!CX311","v":1},null,{"$f":" WINEP_Inputs!CR311","v":0},{"$f":" WINEP_Inputs!CS311","v":0},{"$f":" WINEP_Inputs!CT311","v":1},{"$f":" WINEP_Inputs!CU311","v":0},{"$f":" WINEP_Inputs!CV311","v":"WWN"}]
[null,null,{"$f":" WINEP_Inputs!A312","v":"SSD00862"},{"$f":" WINEP_Inputs!J312","v":"7SO300953"},{"$f":" WINEP_Inputs!K312","v":"ROMSEY WWTW"},{"$f":"WINEP_Inputs!CW312","v":"£m"},{"$f":"WINEP_Inputs!CX312","v":1},null,{"$f":" WINEP_Inputs!CR312","v":0},{"$f":" WINEP_Inputs!CS312","v":0},{"$f":" WINEP_Inputs!CT312","v":1},{"$f":" WINEP_Inputs!CU312","v":0},{"$f":" WINEP_Inputs!CV312","v":"WWN"}]
[null,null,{"$f":" WINEP_Inputs!A313","v":"SSD00871"},{"$f":" WINEP_Inputs!J313","v":"7SO300968"},{"$f":" WINEP_Inputs!K313","v":"SANDOWN NEW WWTW"},{"$f":"WINEP_Inputs!CW313","v":"£m"},{"$f":"WINEP_Inputs!CX313","v":1},null,{"$f":" WINEP_Inputs!CR313","v":0},{"$f":" WINEP_Inputs!CS313","v":0},{"$f":" WINEP_Inputs!CT313","v":1},{"$f":" WINEP_Inputs!CU313","v":0},{"$f":" WINEP_Inputs!CV313","v":"WWN"}]
[null,null,{"$f":" WINEP_Inputs!A314","v":"KSL00637"},{"$f":" WINEP_Inputs!J314","v":"7SO300975"},{"$f":" WINEP_Inputs!K314","v":"SELLINDGE WWTW"},{"$f":"WINEP_Inputs!CW314","v":"£m"},{"$f":"WINEP_Inputs!CX314","v":1},null,{"$f":" WINEP_Inputs!CR314","v":0},{"$f":" WINEP_Inputs!CS314","v":0},{"$f":" WINEP_Inputs!CT314","v":1},{"$f":" WINEP_Inputs!CU314","v":0},{"$f":" WINEP_Inputs!CV314","v":"WWN"}]
[null,null,{"$f":" WINEP_Inputs!A315","v":"SSD00879"},{"$f":" WINEP_Inputs!J315","v":"7SO300978"},{"$f":" WINEP_Inputs!K315","v":"SHOREHAM WWTW"},{"$f":"WINEP_Inputs!CW315","v":"£m"},{"$f":"WINEP_Inputs!CX315","v":1},null,{"$f":" WINEP_Inputs!CR315","v":0},{"$f":" WINEP_Inputs!CS315","v":0},{"$f":" WINEP_Inputs!CT315","v":1},{"$f":" WINEP_Inputs!CU315","v":0},{"$f":" WINEP_Inputs!CV315","v":"WWN"}]
[null,null,{"$f":" WINEP_Inputs!A316","v":"SSD00881"},{"$f":" WINEP_Inputs!J316","v":"7SO300980"},{"$f":" WINEP_Inputs!K316","v":"SHORWELL WWTW"},{"$f":"WINEP_Inputs!CW316","v":"£m"},{"$f":"WINEP_Inputs!CX316","v":1},null,{"$f":" WINEP_Inputs!CR316","v":0},{"$f":" WINEP_Inputs!CS316","v":0},{"$f":" WINEP_Inputs!CT316","v":1},{"$f":" WINEP_Inputs!CU316","v":0},{"$f":" WINEP_Inputs!CV316","v":"WWN"}]
[null,null,{"$f":" WINEP_Inputs!A317","v":"SSD00883"},{"$f":" WINEP_Inputs!J317","v":"7SO300982"},{"$f":" WINEP_Inputs!K317","v":"SIDLESHAM WWTW"},{"$f":"WINEP_Inputs!CW317","v":"£m"},{"$f":"WINEP_Inputs!CX317","v":1},null,{"$f":" WINEP_Inputs!CR317","v":0},{"$f":" WINEP_Inputs!CS317","v":0},{"$f":" WINEP_Inputs!CT317","v":1},{"$f":" WINEP_Inputs!CU317","v":0},{"$f":" WINEP_Inputs!CV317","v":"WWN"}]
[null,null,{"$f":" WINEP_Inputs!A318","v":"KSL00641"},{"$f":" WINEP_Inputs!J318","v":"7SO300986"},{"$f":" WINEP_Inputs!K318","v":"SITTINGBOURNE WWTW"},{"$f":"WINEP_Inputs!CW318","v":"£m"},{"$f":"WINEP_Inputs!CX318","v":1},null,{"$f":" WINEP_Inputs!CR318","v":0},{"$f":" WINEP_Inputs!CS318","v":0},{"$f":" WINEP_Inputs!CT318","v":1},{"$f":" WINEP_Inputs!CU318","v":0},{"$f":" WINEP_Inputs!CV318","v":"WWN"}]
[null,null,{"$f":" WINEP_Inputs!A319","v":"SSD00885"},{"$f":" WINEP_Inputs!J319","v":"7SO300988"},{"$f":" WINEP_Inputs!K319","v":"SLINFOLD WWTW"},{"$f":"WINEP_Inputs!CW319","v":"£m"},{"$f":"WINEP_Inputs!CX319","v":1},null,{"$f":" WINEP_Inputs!CR319","v":0},{"$f":" WINEP_Inputs!CS319","v":0},{"$f":" WINEP_Inputs!CT319","v":1},{"$f":" WINEP_Inputs!CU319","v":0},{"$f":" WINEP_Inputs!CV319","v":"WWN"}]
[null,null,{"$f":" WINEP_Inputs!A320","v":"SSD00887"},{"$f":" WINEP_Inputs!J320","v":"7SO300990"},{"$f":" WINEP_Inputs!K320","v":"SLOWHILL COPSE MARCHWOOD WWTW"},{"$f":"WINEP_Inputs!CW320","v":"£m"},{"$f":"WINEP_Inputs!CX320","v":1},null,{"$f":" WINEP_Inputs!CR320","v":0},{"$f":" WINEP_Inputs!CS320","v":0},{"$f":" WINEP_Inputs!CT320","v":1},{"$f":" WINEP_Inputs!CU320","v":0},{"$f":" WINEP_Inputs!CV320","v":"WWN"}]
[null,null,{"$f":" WINEP_Inputs!A321","v":"SSD00889"},{"$f":" WINEP_Inputs!J321","v":"7SO300992"},{"$f":" WINEP_Inputs!K321","v":"SMALL DOLE WWTW"},{"$f":"WINEP_Inputs!CW321","v":"£m"},{"$f":"WINEP_Inputs!CX321","v":1},null,{"$f":" WINEP_Inputs!CR321","v":0},{"$f":" WINEP_Inputs!CS321","v":0},{"$f":" WINEP_Inputs!CT321","v":1},{"$f":" WINEP_Inputs!CU321","v":0},{"$f":" WINEP_Inputs!CV321","v":"WWN"}]
[null,null,{"$f":" WINEP_Inputs!A322","v":"KSL00643"},{"$f":" WINEP_Inputs!J322","v":"7SO300994"},{"$f":" WINEP_Inputs!K322","v":"SMARDEN WWTW"},{"$f":"WINEP_Inputs!CW322","v":"£m"},{"$f":"WINEP_Inputs!CX322","v":1},null,{"$f":" WINEP_Inputs!CR322","v":0},{"$f":" WINEP_Inputs!CS322","v":0},{"$f":" WINEP_Inputs!CT322","v":1},{"$f":" WINEP_Inputs!CU322","v":0},{"$f":" WINEP_Inputs!CV322","v":"WWN"}]
[null,null,{"$f":" WINEP_Inputs!A323","v":"KSL00645"},{"$f":" WINEP_Inputs!J323","v":"7SO300996"},{"$f":" WINEP_Inputs!K323","v":"SMITHS LANE GOUDHURST WWTW"},{"$f":"WINEP_Inputs!CW323","v":"£m"},{"$f":"WINEP_Inputs!CX323","v":1},null,{"$f":" WINEP_Inputs!CR323","v":0},{"$f":" WINEP_Inputs!CS323","v":0},{"$f":" WINEP_Inputs!CT323","v":1},{"$f":" WINEP_Inputs!CU323","v":0},{"$f":" WINEP_Inputs!CV323","v":"WWN"}]
[null,null,{"$f":" WINEP_Inputs!A324","v":"KSL00647"},{"$f":" WINEP_Inputs!J324","v":"7SO400003"},{"$f":" WINEP_Inputs!K324","v":"SOUTH STREET EAST BARMING WPS"},{"$f":"WINEP_Inputs!CW324","v":"£m"},{"$f":"WINEP_Inputs!CX324","v":1},null,{"$f":" WINEP_Inputs!CR324","v":0},{"$f":" WINEP_Inputs!CS324","v":0},{"$f":" WINEP_Inputs!CT324","v":1},{"$f":" WINEP_Inputs!CU324","v":0},{"$f":" WINEP_Inputs!CV324","v":"WWN"}]
[null,null,{"$f":" WINEP_Inputs!A325","v":"KSL00649"},{"$f":" WINEP_Inputs!J325","v":"7SO400009"},{"$f":" WINEP_Inputs!K325","v":"ST JOHNS CROWBOROUGH WWTW"},{"$f":"WINEP_Inputs!CW325","v":"£m"},{"$f":"WINEP_Inputs!CX325","v":1},null,{"$f":" WINEP_Inputs!CR325","v":0},{"$f":" WINEP_Inputs!CS325","v":0},{"$f":" WINEP_Inputs!CT325","v":1},{"$f":" WINEP_Inputs!CU325","v":0},{"$f":" WINEP_Inputs!CV325","v":"WWN"}]
[null,null,{"$f":" WINEP_Inputs!A326","v":"SSD00899"},{"$f":" WINEP_Inputs!J326","v":"7SO400013"},{"$f":" WINEP_Inputs!K326","v":"STAPLEFIELD WWTW"},{"$f":"WINEP_Inputs!CW326","v":"£m"},{"$f":"WINEP_Inputs!CX326","v":1},null,{"$f":" WINEP_Inputs!CR326","v":0},{"$f":" WINEP_Inputs!CS326","v":0},{"$f":" WINEP_Inputs!CT326","v":1},{"$f":" WINEP_Inputs!CU326","v":0},{"$f":" WINEP_Inputs!CV326","v":"WWN"}]
[null,null,{"$f":" WINEP_Inputs!A327","v":"KSL00653"},{"$f":" WINEP_Inputs!J327","v":"7SO400015"},{"$f":" WINEP_Inputs!K327","v":"STAPLEHURST WWTW"},{"$f":"WINEP_Inputs!CW327","v":"£m"},{"$f":"WINEP_Inputs!CX327","v":1},null,{"$f":" WINEP_Inputs!CR327","v":0},{"$f":" WINEP_Inputs!CS327","v":0},{"$f":" WINEP_Inputs!CT327","v":1},{"$f":" WINEP_Inputs!CU327","v":0},{"$f":" WINEP_Inputs!CV327","v":"WWN"}]
[null,null,{"$f":" WINEP_Inputs!A328","v":"SSD00901"},{"$f":" WINEP_Inputs!J328","v":"7SO400017"},{"$f":" WINEP_Inputs!K328","v":"STEYNING WWTW"},{"$f":"WINEP_Inputs!CW328","v":"£m"},{"$f":"WINEP_Inputs!CX328","v":1},null,{"$f":" WINEP_Inputs!CR328","v":0},{"$f":" WINEP_Inputs!CS328","v":0},{"$f":" WINEP_Inputs!CT328","v":1},{"$f":" WINEP_Inputs!CU328","v":0},{"$f":" WINEP_Inputs!CV328","v":"WWN"}]
[null,null,{"$f":" WINEP_Inputs!A329","v":"SSD00903"},{"$f":" WINEP_Inputs!J329","v":"7SO400019"},{"$f":" WINEP_Inputs!K329","v":"STOCKBRIDGE WWTW"},{"$f":"WINEP_Inputs!CW329","v":"£m"},{"$f":"WINEP_Inputs!CX329","v":1},null,{"$f":" WINEP_Inputs!CR329","v":0},{"$f":" WINEP_Inputs!CS329","v":0},{"$f":" WINEP_Inputs!CT329","v":1},{"$f":" WINEP_Inputs!CU329","v":0},{"$f":" WINEP_Inputs!CV329","v":"WWN"}]
[null,null,{"$f":" WINEP_Inputs!A330","v":"KSL00657"},{"$f":" WINEP_Inputs!J330","v":"7SO400023"},{"$f":" WINEP_Inputs!K330","v":"STONE HILL ROAD EGERTON WWTW"},{"$f":"WINEP_Inputs!CW330","v":"£m"},{"$f":"WINEP_Inputs!CX330","v":1},null,{"$f":" WINEP_Inputs!CR330","v":0},{"$f":" WINEP_Inputs!CS330","v":0},{"$f":" WINEP_Inputs!CT330","v":1},{"$f":" WINEP_Inputs!CU330","v":0},{"$f":" WINEP_Inputs!CV330","v":"WWN"}]
[null,null,{"$f":" WINEP_Inputs!A331","v":"SSD00905"},{"$f":" WINEP_Inputs!J331","v":"7SO400027"},{"$f":" WINEP_Inputs!K331","v":"STORRINGTON WWTW"},{"$f":"WINEP_Inputs!CW331","v":"£m"},{"$f":"WINEP_Inputs!CX331","v":1},null,{"$f":" WINEP_Inputs!CR331","v":0},{"$f":" WINEP_Inputs!CS331","v":0},{"$f":" WINEP_Inputs!CT331","v":1},{"$f":" WINEP_Inputs!CU331","v":0},{"$f":" WINEP_Inputs!CV331","v":"WWN"}]
[null,null,{"$f":" WINEP_Inputs!A332","v":"KSL00661"},{"$f":" WINEP_Inputs!J332","v":"7SO400029"},{"$f":" WINEP_Inputs!K332","v":"STUBBS LANE BREDE WWTW"},{"$f":"WINEP_Inputs!CW332","v":"£m"},{"$f":"WINEP_Inputs!CX332","v":1},null,{"$f":" WINEP_Inputs!CR332","v":0},{"$f":" WINEP_Inputs!CS332","v":0},{"$f":" WINEP_Inputs!CT332","v":1},{"$f":" WINEP_Inputs!CU332","v":0},{"$f":" WINEP_Inputs!CV332","v":"WWN"}]
[null,null,{"$f":" WINEP_Inputs!A333","v":"SSD00907"},{"$f":" WINEP_Inputs!J333","v":"7SO400031"},{"$f":" WINEP_Inputs!K333","v":"SUMMER LANE PAGHAM WWTW"},{"$f":"WINEP_Inputs!CW333","v":"£m"},{"$f":"WINEP_Inputs!CX333","v":1},null,{"$f":" WINEP_Inputs!CR333","v":0},{"$f":" WINEP_Inputs!CS333","v":0},{"$f":" WINEP_Inputs!CT333","v":1},{"$f":" WINEP_Inputs!CU333","v":0},{"$f":" WINEP_Inputs!CV333","v":"WWN"}]
[null,null,{"$f":" WINEP_Inputs!A334","v":"KSL00663"},{"$f":" WINEP_Inputs!J334","v":"7SO400033"},{"$f":" WINEP_Inputs!K334","v":"SUTTON VALENCE WWTW"},{"$f":"WINEP_Inputs!CW334","v":"£m"},{"$f":"WINEP_Inputs!CX334","v":1},null,{"$f":" WINEP_Inputs!CR334","v":0},{"$f":" WINEP_Inputs!CS334","v":0},{"$f":" WINEP_Inputs!CT334","v":1},{"$f":" WINEP_Inputs!CU334","v":0},{"$f":" WINEP_Inputs!CV334","v":"WWN"}]
[null,null,{"$f":" WINEP_Inputs!A335","v":"KSL00665"},{"$f":" WINEP_Inputs!J335","v":"7SO400035"},{"$f":" WINEP_Inputs!K335","v":"SWALECLIFFE WWTW"},{"$f":"WINEP_Inputs!CW335","v":"£m"},{"$f":"WINEP_Inputs!CX335","v":1},null,{"$f":" WINEP_Inputs!CR335","v":0},{"$f":" WINEP_Inputs!CS335","v":0},{"$f":" WINEP_Inputs!CT335","v":1},{"$f":" WINEP_Inputs!CU335","v":0},{"$f":" WINEP_Inputs!CV335","v":"WWN"}]
[null,null,{"$f":" WINEP_Inputs!A336","v":"SSD00909"},{"$f":" WINEP_Inputs!J336","v":"7SO400037"},{"$f":" WINEP_Inputs!K336","v":"TANGMERE WWTW"},{"$f":"WINEP_Inputs!CW336","v":"£m"},{"$f":"WINEP_Inputs!CX336","v":1},null,{"$f":" WINEP_Inputs!CR336","v":0},{"$f":" WINEP_Inputs!CS336","v":0},{"$f":" WINEP_Inputs!CT336","v":1},{"$f":" WINEP_Inputs!CU336","v":0},{"$f":" WINEP_Inputs!CV336","v":"WWN"}]
[null,null,{"$f":" WINEP_Inputs!A337","v":"KSL00667"},{"$f":" WINEP_Inputs!J337","v":"7SO400040"},{"$f":" WINEP_Inputs!K337","v":"TENTERDEN WWTW"},{"$f":"WINEP_Inputs!CW337","v":"£m"},{"$f":"WINEP_Inputs!CX337","v":1},null,{"$f":" WINEP_Inputs!CR337","v":0},{"$f":" WINEP_Inputs!CS337","v":0},{"$f":" WINEP_Inputs!CT337","v":1},{"$f":" WINEP_Inputs!CU337","v":0},{"$f":" WINEP_Inputs!CV337","v":"WWN"}]
[null,null,{"$f":" WINEP_Inputs!A338","v":"SSD00913"},{"$f":" WINEP_Inputs!J338","v":"7SO400047"},{"$f":" WINEP_Inputs!K338","v":"THORNHAM WWTW"},{"$f":"WINEP_Inputs!CW338","v":"£m"},{"$f":"WINEP_Inputs!CX338","v":1},null,{"$f":" WINEP_Inputs!CR338","v":0},{"$f":" WINEP_Inputs!CS338","v":0},{"$f":" WINEP_Inputs!CT338","v":1},{"$f":" WINEP_Inputs!CU338","v":0},{"$f":" WINEP_Inputs!CV338","v":"WWN"}]
[null,null,{"$f":" WINEP_Inputs!A339","v":"KSL00678"},{"$f":" WINEP_Inputs!J339","v":"7SO400054"},{"$f":" WINEP_Inputs!K339","v":"TUNBRIDGE WELLS NORTH WWTW"},{"$f":"WINEP_Inputs!CW339","v":"£m"},{"$f":"WINEP_Inputs!CX339","v":1},null,{"$f":" WINEP_Inputs!CR339","v":0},{"$f":" WINEP_Inputs!CS339","v":0},{"$f":" WINEP_Inputs!CT339","v":1},{"$f":" WINEP_Inputs!CU339","v":0},{"$f":" WINEP_Inputs!CV339","v":"WWN"}]
[null,null,{"$f":" WINEP_Inputs!A340","v":"KSL00680"},{"$f":" WINEP_Inputs!J340","v":"7SO400056"},{"$f":" WINEP_Inputs!K340","v":"TUNBRIDGE WELLS SOUTH WWTW"},{"$f":"WINEP_Inputs!CW340","v":"£m"},{"$f":"WINEP_Inputs!CX340","v":1},null,{"$f":" WINEP_Inputs!CR340","v":0},{"$f":" WINEP_Inputs!CS340","v":0},{"$f":" WINEP_Inputs!CT340","v":1},{"$f":" WINEP_Inputs!CU340","v":0},{"$f":" WINEP_Inputs!CV340","v":"WWN"}]
[null,null,{"$f":" WINEP_Inputs!A341","v":"SSD00915"},{"$f":" WINEP_Inputs!J341","v":"7SO400058"},{"$f":" WINEP_Inputs!K341","v":"UCKFIELD WWTW"},{"$f":"WINEP_Inputs!CW341","v":"£m"},{"$f":"WINEP_Inputs!CX341","v":1},null,{"$f":" WINEP_Inputs!CR341","v":0},{"$f":" WINEP_Inputs!CS341","v":0},{"$f":" WINEP_Inputs!CT341","v":1},{"$f":" WINEP_Inputs!CU341","v":0},{"$f":" WINEP_Inputs!CV341","v":"WWN"}]
[null,null,{"$f":" WINEP_Inputs!A342","v":"KSL00684"},{"$f":" WINEP_Inputs!J342","v":"7SO400062"},{"$f":" WINEP_Inputs!K342","v":"UNDERHILL GOUDHURST WWTW"},{"$f":"WINEP_Inputs!CW342","v":"£m"},{"$f":"WINEP_Inputs!CX342","v":1},null,{"$f":" WINEP_Inputs!CR342","v":0},{"$f":" WINEP_Inputs!CS342","v":0},{"$f":" WINEP_Inputs!CT342","v":1},{"$f":" WINEP_Inputs!CU342","v":0},{"$f":" WINEP_Inputs!CV342","v":"WWN"}]
[null,null,{"$f":" WINEP_Inputs!A343","v":"SSD00918"},{"$f":" WINEP_Inputs!J343","v":"7SO400065"},{"$f":" WINEP_Inputs!K343","v":"VINES CROSS WWTW"},{"$f":"WINEP_Inputs!CW343","v":"£m"},{"$f":"WINEP_Inputs!CX343","v":1},null,{"$f":" WINEP_Inputs!CR343","v":0},{"$f":" WINEP_Inputs!CS343","v":0},{"$f":" WINEP_Inputs!CT343","v":1},{"$f":" WINEP_Inputs!CU343","v":0},{"$f":" WINEP_Inputs!CV343","v":"WWN"}]
[null,null,{"$f":" WINEP_Inputs!A344","v":"KSL00686"},{"$f":" WINEP_Inputs!J344","v":"7SO400069"},{"$f":" WINEP_Inputs!K344","v":"WASHWELL LANE WADHURST WWTW"},{"$f":"WINEP_Inputs!CW344","v":"£m"},{"$f":"WINEP_Inputs!CX344","v":1},null,{"$f":" WINEP_Inputs!CR344","v":0},{"$f":" WINEP_Inputs!CS344","v":0},{"$f":" WINEP_Inputs!CT344","v":1},{"$f":" WINEP_Inputs!CU344","v":0},{"$f":" WINEP_Inputs!CV344","v":"WWN"}]
[null,null,{"$f":" WINEP_Inputs!A345","v":"SSD00924"},{"$f":" WINEP_Inputs!J345","v":"7SO400079"},{"$f":" WINEP_Inputs!K345","v":"WEST WELLOW WWTW"},{"$f":"WINEP_Inputs!CW345","v":"£m"},{"$f":"WINEP_Inputs!CX345","v":1},null,{"$f":" WINEP_Inputs!CR345","v":0},{"$f":" WINEP_Inputs!CS345","v":0},{"$f":" WINEP_Inputs!CT345","v":1},{"$f":" WINEP_Inputs!CU345","v":0},{"$f":" WINEP_Inputs!CV345","v":"WWN"}]
[null,null,{"$f":" WINEP_Inputs!A346","v":"KSL00694"},{"$f":" WINEP_Inputs!J346","v":"7SO400081"},{"$f":" WINEP_Inputs!K346","v":"WESTBERE WWTW"},{"$f":"WINEP_Inputs!CW346","v":"£m"},{"$f":"WINEP_Inputs!CX346","v":1},null,{"$f":" WINEP_Inputs!CR346","v":0},{"$f":" WINEP_Inputs!CS346","v":0},{"$f":" WINEP_Inputs!CT346","v":1},{"$f":" WINEP_Inputs!CU346","v":0},{"$f":" WINEP_Inputs!CV346","v":"WWN"}]
[null,null,{"$f":" WINEP_Inputs!A347","v":"KSL00698"},{"$f":" WINEP_Inputs!J347","v":"7SO400086"},{"$f":" WINEP_Inputs!K347","v":"WHITEGATES LANE WADHURST WWTW"},{"$f":"WINEP_Inputs!CW347","v":"£m"},{"$f":"WINEP_Inputs!CX347","v":1},null,{"$f":" WINEP_Inputs!CR347","v":0},{"$f":" WINEP_Inputs!CS347","v":0},{"$f":" WINEP_Inputs!CT347","v":1},{"$f":" WINEP_Inputs!CU347","v":0},{"$f":" WINEP_Inputs!CV347","v":"WWN"}]
[null,null,{"$f":" WINEP_Inputs!A348","v":"KSL00700"},{"$f":" WINEP_Inputs!J348","v":"7SO400090"},{"$f":" WINEP_Inputs!K348","v":"WHITEWALL CREEK WWTW"},{"$f":"WINEP_Inputs!CW348","v":"£m"},{"$f":"WINEP_Inputs!CX348","v":1},null,{"$f":" WINEP_Inputs!CR348","v":0},{"$f":" WINEP_Inputs!CS348","v":0},{"$f":" WINEP_Inputs!CT348","v":1},{"$f":" WINEP_Inputs!CU348","v":0},{"$f":" WINEP_Inputs!CV348","v":"WWN"}]
[null,null,{"$f":" WINEP_Inputs!A349","v":"SSD00931"},{"$f":" WINEP_Inputs!J349","v":"7SO400094"},{"$f":" WINEP_Inputs!K349","v":"WINDMILL HILL HERSTMONCEUX WWTW"},{"$f":"WINEP_Inputs!CW349","v":"£m"},{"$f":"WINEP_Inputs!CX349","v":1},null,{"$f":" WINEP_Inputs!CR349","v":0},{"$f":" WINEP_Inputs!CS349","v":0},{"$f":" WINEP_Inputs!CT349","v":1},{"$f":" WINEP_Inputs!CU349","v":0},{"$f":" WINEP_Inputs!CV349","v":"WWN"}]
[null,null,{"$f":" WINEP_Inputs!A350","v":"SSD00935"},{"$f":" WINEP_Inputs!J350","v":"7SO400100"},{"$f":" WINEP_Inputs!K350","v":"WIVELSFIELD WWTW"},{"$f":"WINEP_Inputs!CW350","v":"£m"},{"$f":"WINEP_Inputs!CX350","v":1},null,{"$f":" WINEP_Inputs!CR350","v":0},{"$f":" WINEP_Inputs!CS350","v":0},{"$f":" WINEP_Inputs!CT350","v":1},{"$f":" WINEP_Inputs!CU350","v":0},{"$f":" WINEP_Inputs!CV350","v":"WWN"}]
[null,null,{"$f":" WINEP_Inputs!A351","v":"KSL00707"},{"$f":" WINEP_Inputs!J351","v":"7SO400109"},{"$f":" WINEP_Inputs!K351","v":"YALDING OLD WORKS WPS"},{"$f":"WINEP_Inputs!CW351","v":"£m"},{"$f":"WINEP_Inputs!CX351","v":1},null,{"$f":" WINEP_Inputs!CR351","v":0},{"$f":" WINEP_Inputs!CS351","v":0},{"$f":" WINEP_Inputs!CT351","v":1},{"$f":" WINEP_Inputs!CU351","v":0},{"$f":" WINEP_Inputs!CV351","v":"WWN"}]
[null,null,{"$f":" WINEP_Inputs!A352","v":"KSL00457"},{"$f":" WINEP_Inputs!J352","v":"7SO300585"},{"$f":" WINEP_Inputs!K352","v":"APPLEDORE ROAD WOODCHURCH WPS"},{"$f":"WINEP_Inputs!CW352","v":"£m"},{"$f":"WINEP_Inputs!CX352","v":1},null,{"$f":" WINEP_Inputs!CR352","v":0},{"$f":" WINEP_Inputs!CS352","v":0},{"$f":" WINEP_Inputs!CT352","v":1},{"$f":" WINEP_Inputs!CU352","v":0},{"$f":" WINEP_Inputs!CV352","v":"WWN"}]
[null,null,{"$f":" WINEP_Inputs!A353","v":"KSL00459"},{"$f":" WINEP_Inputs!J353","v":"7SO300589"},{"$f":" WINEP_Inputs!K353","v":"ASHFORD ROAD CHILHAM WPS"},{"$f":"WINEP_Inputs!CW353","v":"£m"},{"$f":"WINEP_Inputs!CX353","v":1},null,{"$f":" WINEP_Inputs!CR353","v":0},{"$f":" WINEP_Inputs!CS353","v":0},{"$f":" WINEP_Inputs!CT353","v":1},{"$f":" WINEP_Inputs!CU353","v":0},{"$f":" WINEP_Inputs!CV353","v":"WWN"}]
[null,null,{"$f":" WINEP_Inputs!A354","v":"SSD00672"},{"$f":" WINEP_Inputs!J354","v":"7SO300595"},{"$f":" WINEP_Inputs!K354","v":"ASHLETT CREEK FAWLEY WWTW"},{"$f":"WINEP_Inputs!CW354","v":"£m"},{"$f":"WINEP_Inputs!CX354","v":1},null,{"$f":" WINEP_Inputs!CR354","v":0},{"$f":" WINEP_Inputs!CS354","v":0},{"$f":" WINEP_Inputs!CT354","v":1},{"$f":" WINEP_Inputs!CU354","v":0},{"$f":" WINEP_Inputs!CV354","v":"WWN"}]
[null,null,{"$f":" WINEP_Inputs!A355","v":"KSL00463"},{"$f":" WINEP_Inputs!J355","v":"7SO300597"},{"$f":" WINEP_Inputs!K355","v":"AYLESFORD BRIDGE AYLESFORD WPS"},{"$f":"WINEP_Inputs!CW355","v":"£m"},{"$f":"WINEP_Inputs!CX355","v":1},null,{"$f":" WINEP_Inputs!CR355","v":0},{"$f":" WINEP_Inputs!CS355","v":0},{"$f":" WINEP_Inputs!CT355","v":1},{"$f":" WINEP_Inputs!CU355","v":0},{"$f":" WINEP_Inputs!CV355","v":"WWN"}]
[null,null,{"$f":" WINEP_Inputs!A356","v":"SSD00674"},{"$f":" WINEP_Inputs!J356","v":"7SO300600"},{"$f":" WINEP_Inputs!K356","v":"BALCOMBE WWTW"},{"$f":"WINEP_Inputs!CW356","v":"£m"},{"$f":"WINEP_Inputs!CX356","v":1},null,{"$f":" WINEP_Inputs!CR356","v":0},{"$f":" WINEP_Inputs!CS356","v":0},{"$f":" WINEP_Inputs!CT356","v":1},{"$f":" WINEP_Inputs!CU356","v":0},{"$f":" WINEP_Inputs!CV356","v":"WWN"}]
[null,null,{"$f":" WINEP_Inputs!A357","v":"SSD00676"},{"$f":" WINEP_Inputs!J357","v":"7SO300602"},{"$f":" WINEP_Inputs!K357","v":"BARCOMBE NEW WWTW"},{"$f":"WINEP_Inputs!CW357","v":"£m"},{"$f":"WINEP_Inputs!CX357","v":1},null,{"$f":" WINEP_Inputs!CR357","v":0},{"$f":" WINEP_Inputs!CS357","v":0},{"$f":" WINEP_Inputs!CT357","v":1},{"$f":" WINEP_Inputs!CU357","v":0},{"$f":" WINEP_Inputs!CV357","v":"WWN"}]
[null,null,{"$f":" WINEP_Inputs!A358","v":"SSD00678"},{"$f":" WINEP_Inputs!J358","v":"7SO300604"},{"$f":" WINEP_Inputs!K358","v":"BARNS GREEN WWTW"},{"$f":"WINEP_Inputs!CW358","v":"£m"},{"$f":"WINEP_Inputs!CX358","v":1},null,{"$f":" WINEP_Inputs!CR358","v":0},{"$f":" WINEP_Inputs!CS358","v":0},{"$f":" WINEP_Inputs!CT358","v":1},{"$f":" WINEP_Inputs!CU358","v":0},{"$f":" WINEP_Inputs!CV358","v":"WWN"}]
[null,null,{"$f":" WINEP_Inputs!A359","v":"KSL00472"},{"$f":" WINEP_Inputs!J359","v":"7SO300616"},{"$f":" WINEP_Inputs!K359","v":"BETHERSDEN WWTW"},{"$f":"WINEP_Inputs!CW359","v":"£m"},{"$f":"WINEP_Inputs!CX359","v":1},null,{"$f":" WINEP_Inputs!CR359","v":0},{"$f":" WINEP_Inputs!CS359","v":0},{"$f":" WINEP_Inputs!CT359","v":1},{"$f":" WINEP_Inputs!CU359","v":0},{"$f":" WINEP_Inputs!CV359","v":"WWN"}]
[null,null,{"$f":" WINEP_Inputs!A360","v":"SSD00694"},{"$f":" WINEP_Inputs!J360","v":"7SO300633"},{"$f":" WINEP_Inputs!K360","v":"BOSHAM WWTW"},{"$f":"WINEP_Inputs!CW360","v":"£m"},{"$f":"WINEP_Inputs!CX360","v":1},null,{"$f":" WINEP_Inputs!CR360","v":0},{"$f":" WINEP_Inputs!CS360","v":0},{"$f":" WINEP_Inputs!CT360","v":1},{"$f":" WINEP_Inputs!CU360","v":0},{"$f":" WINEP_Inputs!CV360","v":"WWN"}]
[null,null,{"$f":" WINEP_Inputs!A361","v":"SSD00696"},{"$f":" WINEP_Inputs!J361","v":"7SO300635"},{"$f":" WINEP_Inputs!K361","v":"BRIDGEFOOT KIRDFORD WPS"},{"$f":"WINEP_Inputs!CW361","v":"£m"},{"$f":"WINEP_Inputs!CX361","v":1},null,{"$f":" WINEP_Inputs!CR361","v":0},{"$f":" WINEP_Inputs!CS361","v":0},{"$f":" WINEP_Inputs!CT361","v":1},{"$f":" WINEP_Inputs!CU361","v":0},{"$f":" WINEP_Inputs!CV361","v":"WWN"}]
[null,null,{"$f":" WINEP_Inputs!A362","v":"KSL00481"},{"$f":" WINEP_Inputs!J362","v":"7SO300645"},{"$f":" WINEP_Inputs!K362","v":"BURHAM & ECCLES WPS"},{"$f":"WINEP_Inputs!CW362","v":"£m"},{"$f":"WINEP_Inputs!CX362","v":1},null,{"$f":" WINEP_Inputs!CR362","v":0},{"$f":" WINEP_Inputs!CS362","v":0},{"$f":" WINEP_Inputs!CT362","v":1},{"$f":" WINEP_Inputs!CU362","v":0},{"$f":" WINEP_Inputs!CV362","v":"WWN"}]
[null,null,{"$f":" WINEP_Inputs!A363","v":"KSL00483"},{"$f":" WINEP_Inputs!J363","v":"7SO300649"},{"$f":" WINEP_Inputs!K363","v":"BURWASH COMMON WWTW"},{"$f":"WINEP_Inputs!CW363","v":"£m"},{"$f":"WINEP_Inputs!CX363","v":1},null,{"$f":" WINEP_Inputs!CR363","v":0},{"$f":" WINEP_Inputs!CS363","v":0},{"$f":" WINEP_Inputs!CT363","v":1},{"$f":" WINEP_Inputs!CU363","v":0},{"$f":" WINEP_Inputs!CV363","v":"WWN"}]
[null,null,{"$f":" WINEP_Inputs!A364","v":"SSD00706"},{"$f":" WINEP_Inputs!J364","v":"7SO300653"},{"$f":" WINEP_Inputs!K364","v":"BURY WWTW"},{"$f":"WINEP_Inputs!CW364","v":"£m"},{"$f":"WINEP_Inputs!CX364","v":1},null,{"$f":" WINEP_Inputs!CR364","v":0},{"$f":" WINEP_Inputs!CS364","v":0},{"$f":" WINEP_Inputs!CT364","v":1},{"$f":" WINEP_Inputs!CU364","v":0},{"$f":" WINEP_Inputs!CV364","v":"WWN"}]
[null,null,{"$f":" WINEP_Inputs!A365","v":"KSL00489"},{"$f":" WINEP_Inputs!J365","v":"7SO300661"},{"$f":" WINEP_Inputs!K365","v":"CANTERBURY WWTW"},{"$f":"WINEP_Inputs!CW365","v":"£m"},{"$f":"WINEP_Inputs!CX365","v":1},null,{"$f":" WINEP_Inputs!CR365","v":0},{"$f":" WINEP_Inputs!CS365","v":0},{"$f":" WINEP_Inputs!CT365","v":1},{"$f":" WINEP_Inputs!CU365","v":0},{"$f":" WINEP_Inputs!CV365","v":"WWN"}]
[null,null,{"$f":" WINEP_Inputs!A366","v":"KSL00495"},{"$f":" WINEP_Inputs!J366","v":"7SO300672"},{"$f":" WINEP_Inputs!K366","v":"CHEQUERS LAMBERHURST WPS"},{"$f":"WINEP_Inputs!CW366","v":"£m"},{"$f":"WINEP_Inputs!CX366","v":1},null,{"$f":" WINEP_Inputs!CR366","v":0},{"$f":" WINEP_Inputs!CS366","v":0},{"$f":" WINEP_Inputs!CT366","v":1},{"$f":" WINEP_Inputs!CU366","v":0},{"$f":" WINEP_Inputs!CV366","v":"WWN"}]
[null,null,{"$f":" WINEP_Inputs!A367","v":"SSD00723"},{"$f":" WINEP_Inputs!J367","v":"7SO300680"},{"$f":" WINEP_Inputs!K367","v":"CHILBOLTON WWTW"},{"$f":"WINEP_Inputs!CW367","v":"£m"},{"$f":"WINEP_Inputs!CX367","v":1},null,{"$f":" WINEP_Inputs!CR367","v":0},{"$f":" WINEP_Inputs!CS367","v":0},{"$f":" WINEP_Inputs!CT367","v":1},{"$f":" WINEP_Inputs!CU367","v":0},{"$f":" WINEP_Inputs!CV367","v":"WWN"}]
[null,null,{"$f":" WINEP_Inputs!A368","v":"KSL00498"},{"$f":" WINEP_Inputs!J368","v":"7SO300683"},{"$f":" WINEP_Inputs!K368","v":"CHURCHFIELD WAY WYE WPS"},{"$f":"WINEP_Inputs!CW368","v":"£m"},{"$f":"WINEP_Inputs!CX368","v":1},null,{"$f":" WINEP_Inputs!CR368","v":0},{"$f":" WINEP_Inputs!CS368","v":0},{"$f":" WINEP_Inputs!CT368","v":1},{"$f":" WINEP_Inputs!CU368","v":0},{"$f":" WINEP_Inputs!CV368","v":"WWN"}]
[null,null,{"$f":" WINEP_Inputs!A369","v":"SSD00725"},{"$f":" WINEP_Inputs!J369","v":"7SO300685"},{"$f":" WINEP_Inputs!K369","v":"COLDWALTHAM WWTW"},{"$f":"WINEP_Inputs!CW369","v":"£m"},{"$f":"WINEP_Inputs!CX369","v":1},null,{"$f":" WINEP_Inputs!CR369","v":0},{"$f":" WINEP_Inputs!CS369","v":0},{"$f":" WINEP_Inputs!CT369","v":1},{"$f":" WINEP_Inputs!CU369","v":0},{"$f":" WINEP_Inputs!CV369","v":"WWN"}]
[null,null,{"$f":" WINEP_Inputs!A370","v":"SSD00727"},{"$f":" WINEP_Inputs!J370","v":"7SO300687"},{"$f":" WINEP_Inputs!K370","v":"COOKSBRIDGE WPS"},{"$f":"WINEP_Inputs!CW370","v":"£m"},{"$f":"WINEP_Inputs!CX370","v":1},null,{"$f":" WINEP_Inputs!CR370","v":0},{"$f":" WINEP_Inputs!CS370","v":0},{"$f":" WINEP_Inputs!CT370","v":1},{"$f":" WINEP_Inputs!CU370","v":0},{"$f":" WINEP_Inputs!CV370","v":"WWN"}]
[null,null,{"$f":" WINEP_Inputs!A371","v":"KSL00500"},{"$f":" WINEP_Inputs!J371","v":"7SO300690"},{"$f":" WINEP_Inputs!K371","v":"COWDEN WWTW"},{"$f":"WINEP_Inputs!CW371","v":"£m"},{"$f":"WINEP_Inputs!CX371","v":1},null,{"$f":" WINEP_Inputs!CR371","v":0},{"$f":" WINEP_Inputs!CS371","v":0},{"$f":" WINEP_Inputs!CT371","v":1},{"$f":" WINEP_Inputs!CU371","v":0},{"$f":" WINEP_Inputs!CV371","v":"WWN"}]
[null,null,{"$f":" WINEP_Inputs!A372","v":"KSL00502"},{"$f":" WINEP_Inputs!J372","v":"7SO300694"},{"$f":" WINEP_Inputs!K372","v":"CRANBROOK WWTW"},{"$f":"WINEP_Inputs!CW372","v":"£m"},{"$f":"WINEP_Inputs!CX372","v":1},null,{"$f":" WINEP_Inputs!CR372","v":0},{"$f":" WINEP_Inputs!CS372","v":0},{"$f":" WINEP_Inputs!CT372","v":1},{"$f":" WINEP_Inputs!CU372","v":0},{"$f":" WINEP_Inputs!CV372","v":"WWN"}]
[null,null,{"$f":" WINEP_Inputs!A373","v":"KSL00506"},{"$f":" WINEP_Inputs!J373","v":"7SO300698"},{"$f":" WINEP_Inputs!K373","v":"CURTISDEN GREEN GOUDHURST WPS"},{"$f":"WINEP_Inputs!CW373","v":"£m"},{"$f":"WINEP_Inputs!CX373","v":1},null,{"$f":" WINEP_Inputs!CR373","v":0},{"$f":" WINEP_Inputs!CS373","v":0},{"$f":" WINEP_Inputs!CT373","v":1},{"$f":" WINEP_Inputs!CU373","v":0},{"$f":" WINEP_Inputs!CV373","v":"WWN"}]
[null,null,{"$f":" WINEP_Inputs!A374","v":"KSL00507"},{"$f":" WINEP_Inputs!J374","v":"7SO300699"},{"$f":" WINEP_Inputs!K374","v":"DAMBRIDGE WINGHAM WWTW"},{"$f":"WINEP_Inputs!CW374","v":"£m"},{"$f":"WINEP_Inputs!CX374","v":1},null,{"$f":" WINEP_Inputs!CR374","v":0},{"$f":" WINEP_Inputs!CS374","v":0},{"$f":" WINEP_Inputs!CT374","v":1},{"$f":" WINEP_Inputs!CU374","v":0},{"$f":" WINEP_Inputs!CV374","v":"WWN"}]
[null,null,{"$f":" WINEP_Inputs!A375","v":"SSD00740"},{"$f":" WINEP_Inputs!J375","v":"7SO300711"},{"$f":" WINEP_Inputs!K375","v":"EAST GRIMSTEAD WWTW"},{"$f":"WINEP_Inputs!CW375","v":"£m"},{"$f":"WINEP_Inputs!CX375","v":1},null,{"$f":" WINEP_Inputs!CR375","v":0},{"$f":" WINEP_Inputs!CS375","v":0},{"$f":" WINEP_Inputs!CT375","v":1},{"$f":" WINEP_Inputs!CU375","v":0},{"$f":" WINEP_Inputs!CV375","v":"WWN"}]
[null,null,{"$f":" WINEP_Inputs!A376","v":"SSD00742"},{"$f":" WINEP_Inputs!J376","v":"7SO300713"},{"$f":" WINEP_Inputs!K376","v":"EAST HOATHLY WWTW"},{"$f":"WINEP_Inputs!CW376","v":"£m"},{"$f":"WINEP_Inputs!CX376","v":1},null,{"$f":" WINEP_Inputs!CR376","v":0},{"$f":" WINEP_Inputs!CS376","v":0},{"$f":" WINEP_Inputs!CT376","v":1},{"$f":" WINEP_Inputs!CU376","v":0},{"$f":" WINEP_Inputs!CV376","v":"WWN"}]
[null,null,{"$f":" WINEP_Inputs!A377","v":"SSD00744"},{"$f":" WINEP_Inputs!J377","v":"7SO300715"},{"$f":" WINEP_Inputs!K377","v":"EAST MEON WWTW"},{"$f":"WINEP_Inputs!CW377","v":"£m"},{"$f":"WINEP_Inputs!CX377","v":1},null,{"$f":" WINEP_Inputs!CR377","v":0},{"$f":" WINEP_Inputs!CS377","v":0},{"$f":" WINEP_Inputs!CT377","v":1},{"$f":" WINEP_Inputs!CU377","v":0},{"$f":" WINEP_Inputs!CV377","v":"WWN"}]
[null,null,{"$f":" WINEP_Inputs!A378","v":"SSD00748"},{"$f":" WINEP_Inputs!J378","v":"7SO300719"},{"$f":" WINEP_Inputs!K378","v":"EASTBOURNE WWTW"},{"$f":"WINEP_Inputs!CW378","v":"£m"},{"$f":"WINEP_Inputs!CX378","v":1},null,{"$f":" WINEP_Inputs!CR378","v":0},{"$f":" WINEP_Inputs!CS378","v":0},{"$f":" WINEP_Inputs!CT378","v":1},{"$f":" WINEP_Inputs!CU378","v":0},{"$f":" WINEP_Inputs!CV378","v":"WWN"}]
[null,null,{"$f":" WINEP_Inputs!A379","v":"KSL00511"},{"$f":" WINEP_Inputs!J379","v":"7SO300721"},{"$f":" WINEP_Inputs!K379","v":"EASTCHURCH WWTW"},{"$f":"WINEP_Inputs!CW379","v":"£m"},{"$f":"WINEP_Inputs!CX379","v":1},null,{"$f":" WINEP_Inputs!CR379","v":0},{"$f":" WINEP_Inputs!CS379","v":0},{"$f":" WINEP_Inputs!CT379","v":1},{"$f":" WINEP_Inputs!CU379","v":0},{"$f":" WINEP_Inputs!CV379","v":"WWN"}]
[null,null,{"$f":" WINEP_Inputs!A380","v":"KSL00517"},{"$f":" WINEP_Inputs!J380","v":"7SO300727"},{"$f":" WINEP_Inputs!K380","v":"ELIZABETH STREET DOVER WPS"},{"$f":"WINEP_Inputs!CW380","v":"£m"},{"$f":"WINEP_Inputs!CX380","v":1},null,{"$f":" WINEP_Inputs!CR380","v":0},{"$f":" WINEP_Inputs!CS380","v":0},{"$f":" WINEP_Inputs!CT380","v":1},{"$f":" WINEP_Inputs!CU380","v":0},{"$f":" WINEP_Inputs!CV380","v":"WWN"}]
[null,null,{"$f":" WINEP_Inputs!A381","v":"KSL00522"},{"$f":" WINEP_Inputs!J381","v":"7SO300732"},{"$f":" WINEP_Inputs!K381","v":"FELBRIDGE WWTW"},{"$f":"WINEP_Inputs!CW381","v":"£m"},{"$f":"WINEP_Inputs!CX381","v":1},null,{"$f":" WINEP_Inputs!CR381","v":0},{"$f":" WINEP_Inputs!CS381","v":0},{"$f":" WINEP_Inputs!CT381","v":1},{"$f":" WINEP_Inputs!CU381","v":0},{"$f":" WINEP_Inputs!CV381","v":"WWN"}]
[null,null,{"$f":" WINEP_Inputs!A382","v":"SSD00754"},{"$f":" WINEP_Inputs!J382","v":"7SO300740"},{"$f":" WINEP_Inputs!K382","v":"FLEXFORD LANE SWAY WWTW"},{"$f":"WINEP_Inputs!CW382","v":"£m"},{"$f":"WINEP_Inputs!CX382","v":1},null,{"$f":" WINEP_Inputs!CR382","v":0},{"$f":" WINEP_Inputs!CS382","v":0},{"$f":" WINEP_Inputs!CT382","v":1},{"$f":" WINEP_Inputs!CU382","v":0},{"$f":" WINEP_Inputs!CV382","v":"WWN"}]
[null,null,{"$f":" WINEP_Inputs!A383","v":"KSL00527"},{"$f":" WINEP_Inputs!J383","v":"7SO300743"},{"$f":" WINEP_Inputs!K383","v":"FOADS LANE RAMSGATE WPS"},{"$f":"WINEP_Inputs!CW383","v":"£m"},{"$f":"WINEP_Inputs!CX383","v":1},null,{"$f":" WINEP_Inputs!CR383","v":0},{"$f":" WINEP_Inputs!CS383","v":0},{"$f":" WINEP_Inputs!CT383","v":1},{"$f":" WINEP_Inputs!CU383","v":0},{"$f":" WINEP_Inputs!CV383","v":"WWN"}]
[null,null,{"$f":" WINEP_Inputs!A384","v":"KSL00529"},{"$f":" WINEP_Inputs!J384","v":"7SO300745"},{"$f":" WINEP_Inputs!K384","v":"FOLKESTONE JUNCTION WPS"},{"$f":"WINEP_Inputs!CW384","v":"£m"},{"$f":"WINEP_Inputs!CX384","v":1},null,{"$f":" WINEP_Inputs!CR384","v":0},{"$f":" WINEP_Inputs!CS384","v":0},{"$f":" WINEP_Inputs!CT384","v":1},{"$f":" WINEP_Inputs!CU384","v":0},{"$f":" WINEP_Inputs!CV384","v":"WWN"}]
[null,null,{"$f":" WINEP_Inputs!A385","v":"SSD00764"},{"$f":" WINEP_Inputs!J385","v":"7SO300770"},{"$f":" WINEP_Inputs!K385","v":"GRAYSWOOD WWTW"},{"$f":"WINEP_Inputs!CW385","v":"£m"},{"$f":"WINEP_Inputs!CX385","v":1},null,{"$f":" WINEP_Inputs!CR385","v":0},{"$f":" WINEP_Inputs!CS385","v":0},{"$f":" WINEP_Inputs!CT385","v":1},{"$f":" WINEP_Inputs!CU385","v":0},{"$f":" WINEP_Inputs!CV385","v":"WWN"}]
[null,null,{"$f":" WINEP_Inputs!A386","v":"SSD00768"},{"$f":" WINEP_Inputs!J386","v":"7SO300777"},{"$f":" WINEP_Inputs!K386","v":"HAILSHAM SOUTH WWTW"},{"$f":"WINEP_Inputs!CW386","v":"£m"},{"$f":"WINEP_Inputs!CX386","v":1},null,{"$f":" WINEP_Inputs!CR386","v":0},{"$f":" WINEP_Inputs!CS386","v":0},{"$f":" WINEP_Inputs!CT386","v":1},{"$f":" WINEP_Inputs!CU386","v":0},{"$f":" WINEP_Inputs!CV386","v":"WWN"}]
[null,null,{"$f":" WINEP_Inputs!A387","v":"KSL00550"},{"$f":" WINEP_Inputs!J387","v":"7SO300780"},{"$f":" WINEP_Inputs!K387","v":"HALL ROAD AYLESFORD WPS "},{"$f":"WINEP_Inputs!CW387","v":"£m"},{"$f":"WINEP_Inputs!CX387","v":1},null,{"$f":" WINEP_Inputs!CR387","v":0},{"$f":" WINEP_Inputs!CS387","v":0},{"$f":" WINEP_Inputs!CT387","v":1},{"$f":" WINEP_Inputs!CU387","v":0},{"$f":" WINEP_Inputs!CV387","v":"WWN"}]
[null,null,{"$f":" WINEP_Inputs!A388","v":"KSL00553"},{"$f":" WINEP_Inputs!J388","v":"7SO300785"},{"$f":" WINEP_Inputs!K388","v":"HAMSTREET WWTW"},{"$f":"WINEP_Inputs!CW388","v":"£m"},{"$f":"WINEP_Inputs!CX388","v":1},null,{"$f":" WINEP_Inputs!CR388","v":0},{"$f":" WINEP_Inputs!CS388","v":0},{"$f":" WINEP_Inputs!CT388","v":1},{"$f":" WINEP_Inputs!CU388","v":0},{"$f":" WINEP_Inputs!CV388","v":"WWN"}]
[null,null,{"$f":" WINEP_Inputs!A389","v":"KSL00557"},{"$f":" WINEP_Inputs!J389","v":"7SO300793"},{"$f":" WINEP_Inputs!K389","v":"HARTLAKE ROAD HADLOW WPS"},{"$f":"WINEP_Inputs!CW389","v":"£m"},{"$f":"WINEP_Inputs!CX389","v":1},null,{"$f":" WINEP_Inputs!CR389","v":0},{"$f":" WINEP_Inputs!CS389","v":0},{"$f":" WINEP_Inputs!CT389","v":1},{"$f":" WINEP_Inputs!CU389","v":0},{"$f":" WINEP_Inputs!CV389","v":"WWN"}]
[null,null,{"$f":" WINEP_Inputs!A390","v":"SSD00778"},{"$f":" WINEP_Inputs!J390","v":"7SO300804"},{"$f":" WINEP_Inputs!K390","v":"HORSEMERE GREEN 1 WPS"},{"$f":"WINEP_Inputs!CW390","v":"£m"},{"$f":"WINEP_Inputs!CX390","v":1},null,{"$f":" WINEP_Inputs!CR390","v":0},{"$f":" WINEP_Inputs!CS390","v":0},{"$f":" WINEP_Inputs!CT390","v":1},{"$f":" WINEP_Inputs!CU390","v":0},{"$f":" WINEP_Inputs!CV390","v":"WWN"}]
[null,null,{"$f":" WINEP_Inputs!A391","v":"KSL00567"},{"$f":" WINEP_Inputs!J391","v":"7SO300811"},{"$f":" WINEP_Inputs!K391","v":"HURST GREEN WWTW"},{"$f":"WINEP_Inputs!CW391","v":"£m"},{"$f":"WINEP_Inputs!CX391","v":1},null,{"$f":" WINEP_Inputs!CR391","v":0},{"$f":" WINEP_Inputs!CS391","v":0},{"$f":" WINEP_Inputs!CT391","v":1},{"$f":" WINEP_Inputs!CU391","v":0},{"$f":" WINEP_Inputs!CV391","v":"WWN"}]
[null,null,{"$f":" WINEP_Inputs!A392","v":"KSL00571"},{"$f":" WINEP_Inputs!J392","v":"7SO300815"},{"$f":" WINEP_Inputs!K392","v":"IDEN WWTW"},{"$f":"WINEP_Inputs!CW392","v":"£m"},{"$f":"WINEP_Inputs!CX392","v":1},null,{"$f":" WINEP_Inputs!CR392","v":0},{"$f":" WINEP_Inputs!CS392","v":0},{"$f":" WINEP_Inputs!CT392","v":1},{"$f":" WINEP_Inputs!CU392","v":0},{"$f":" WINEP_Inputs!CV392","v":"WWN"}]
[null,null,{"$f":" WINEP_Inputs!A393","v":"KSL00573"},{"$f":" WINEP_Inputs!J393","v":"7SO300818"},{"$f":" WINEP_Inputs!K393","v":"KILNDOWN WWTW"},{"$f":"WINEP_Inputs!CW393","v":"£m"},{"$f":"WINEP_Inputs!CX393","v":1},null,{"$f":" WINEP_Inputs!CR393","v":0},{"$f":" WINEP_Inputs!CS393","v":0},{"$f":" WINEP_Inputs!CT393","v":1},{"$f":" WINEP_Inputs!CU393","v":0},{"$f":" WINEP_Inputs!CV393","v":"WWN"}]
[null,null,{"$f":" WINEP_Inputs!A394","v":"SSD00785"},{"$f":" WINEP_Inputs!J394","v":"7SO300820"},{"$f":" WINEP_Inputs!K394","v":"KINGS SOMBORNE WWTW"},{"$f":"WINEP_Inputs!CW394","v":"£m"},{"$f":"WINEP_Inputs!CX394","v":1},null,{"$f":" WINEP_Inputs!CR394","v":0},{"$f":" WINEP_Inputs!CS394","v":0},{"$f":" WINEP_Inputs!CT394","v":1},{"$f":" WINEP_Inputs!CU394","v":0},{"$f":" WINEP_Inputs!CV394","v":"WWN"}]
[null,null,{"$f":" WINEP_Inputs!A395","v":"SSD00790"},{"$f":" WINEP_Inputs!J395","v":"7SO300826"},{"$f":" WINEP_Inputs!K395","v":"LAVANT WWTW"},{"$f":"WINEP_Inputs!CW395","v":"£m"},{"$f":"WINEP_Inputs!CX395","v":1},null,{"$f":" WINEP_Inputs!CR395","v":0},{"$f":" WINEP_Inputs!CS395","v":0},{"$f":" WINEP_Inputs!CT395","v":1},{"$f":" WINEP_Inputs!CU395","v":0},{"$f":" WINEP_Inputs!CV395","v":"WWN"}]
[null,null,{"$f":" WINEP_Inputs!A396","v":"KSL00576"},{"$f":" WINEP_Inputs!J396","v":"7SO300828"},{"$f":" WINEP_Inputs!K396","v":"LEEDS WWTW"},{"$f":"WINEP_Inputs!CW396","v":"£m"},{"$f":"WINEP_Inputs!CX396","v":1},null,{"$f":" WINEP_Inputs!CR396","v":0},{"$f":" WINEP_Inputs!CS396","v":0},{"$f":" WINEP_Inputs!CT396","v":1},{"$f":" WINEP_Inputs!CU396","v":0},{"$f":" WINEP_Inputs!CV396","v":"WWN"}]
[null,null,{"$f":" WINEP_Inputs!A397","v":"KSL00578"},{"$f":" WINEP_Inputs!J397","v":"7SO300830"},{"$f":" WINEP_Inputs!K397","v":"LENHAM WWTW"},{"$f":"WINEP_Inputs!CW397","v":"£m"},{"$f":"WINEP_Inputs!CX397","v":1},null,{"$f":" WINEP_Inputs!CR397","v":0},{"$f":" WINEP_Inputs!CS397","v":0},{"$f":" WINEP_Inputs!CT397","v":1},{"$f":" WINEP_Inputs!CU397","v":0},{"$f":" WINEP_Inputs!CV397","v":"WWN"}]
[null,null,{"$f":" WINEP_Inputs!A398","v":"KSL00582"},{"$f":" WINEP_Inputs!J398","v":"7SO300836"},{"$f":" WINEP_Inputs!K398","v":"LINTON WWTW"},{"$f":"WINEP_Inputs!CW398","v":"£m"},{"$f":"WINEP_Inputs!CX398","v":1},null,{"$f":" WINEP_Inputs!CR398","v":0},{"$f":" WINEP_Inputs!CS398","v":0},{"$f":" WINEP_Inputs!CT398","v":1},{"$f":" WINEP_Inputs!CU398","v":0},{"$f":" WINEP_Inputs!CV398","v":"WWN"}]
[null,null,{"$f":" WINEP_Inputs!A399","v":"SSD00794"},{"$f":" WINEP_Inputs!J399","v":"7SO300838"},{"$f":" WINEP_Inputs!K399","v":"LISS WWTW"},{"$f":"WINEP_Inputs!CW399","v":"£m"},{"$f":"WINEP_Inputs!CX399","v":1},null,{"$f":" WINEP_Inputs!CR399","v":0},{"$f":" WINEP_Inputs!CS399","v":0},{"$f":" WINEP_Inputs!CT399","v":1},{"$f":" WINEP_Inputs!CU399","v":0},{"$f":" WINEP_Inputs!CV399","v":"WWN"}]
[null,null,{"$f":" WINEP_Inputs!A400","v":"KSL00586"},{"$f":" WINEP_Inputs!J400","v":"7SO300847"},{"$f":" WINEP_Inputs!K400","v":"LYDD ROAD CAMBER WPS"},{"$f":"WINEP_Inputs!CW400","v":"£m"},{"$f":"WINEP_Inputs!CX400","v":1},null,{"$f":" WINEP_Inputs!CR400","v":0},{"$f":" WINEP_Inputs!CS400","v":0},{"$f":" WINEP_Inputs!CT400","v":1},{"$f":" WINEP_Inputs!CU400","v":0},{"$f":" WINEP_Inputs!CV400","v":"WWN"}]
[null,null,{"$f":" WINEP_Inputs!A401","v":"SSD00802"},{"$f":" WINEP_Inputs!J401","v":"7SO300850"},{"$f":" WINEP_Inputs!K401","v":"LYNDHURST WWTW"},{"$f":"WINEP_Inputs!CW401","v":"£m"},{"$f":"WINEP_Inputs!CX401","v":1},null,{"$f":" WINEP_Inputs!CR401","v":0},{"$f":" WINEP_Inputs!CS401","v":0},{"$f":" WINEP_Inputs!CT401","v":1},{"$f":" WINEP_Inputs!CU401","v":0},{"$f":" WINEP_Inputs!CV401","v":"WWN"}]
[null,null,{"$f":" WINEP_Inputs!A402","v":"KSL00588"},{"$f":" WINEP_Inputs!J402","v":"7SO300857"},{"$f":" WINEP_Inputs!K402","v":"MARGATE WPS"},{"$f":"WINEP_Inputs!CW402","v":"£m"},{"$f":"WINEP_Inputs!CX402","v":1},null,{"$f":" WINEP_Inputs!CR402","v":0},{"$f":" WINEP_Inputs!CS402","v":0},{"$f":" WINEP_Inputs!CT402","v":1},{"$f":" WINEP_Inputs!CU402","v":0},{"$f":" WINEP_Inputs!CV402","v":"WWN"}]
[null,null,{"$f":" WINEP_Inputs!A403","v":"KSL00594"},{"$f":" WINEP_Inputs!J403","v":"7SO300865"},{"$f":" WINEP_Inputs!K403","v":"MILITARY ROAD RAMSGATE WPS"},{"$f":"WINEP_Inputs!CW403","v":"£m"},{"$f":"WINEP_Inputs!CX403","v":1},null,{"$f":" WINEP_Inputs!CR403","v":0},{"$f":" WINEP_Inputs!CS403","v":0},{"$f":" WINEP_Inputs!CT403","v":1},{"$f":" WINEP_Inputs!CU403","v":0},{"$f":" WINEP_Inputs!CV403","v":"WWN"}]
[null,null,{"$f":" WINEP_Inputs!A404","v":"SSD00813"},{"$f":" WINEP_Inputs!J404","v":"7SO300870"},{"$f":" WINEP_Inputs!K404","v":"MILL LANE SHALFLEET WPS"},{"$f":"WINEP_Inputs!CW404","v":"£m"},{"$f":"WINEP_Inputs!CX404","v":1},null,{"$f":" WINEP_Inputs!CR404","v":0},{"$f":" WINEP_Inputs!CS404","v":0},{"$f":" WINEP_Inputs!CT404","v":1},{"$f":" WINEP_Inputs!CU404","v":0},{"$f":" WINEP_Inputs!CV404","v":"WWN"}]
[null,null,{"$f":" WINEP_Inputs!A405","v":"KSL00599"},{"$f":" WINEP_Inputs!J405","v":"7SO300875"},{"$f":" WINEP_Inputs!K405","v":"MOAT ROAD HEADCORN NEW WPS"},{"$f":"WINEP_Inputs!CW405","v":"£m"},{"$f":"WINEP_Inputs!CX405","v":1},null,{"$f":" WINEP_Inputs!CR405","v":0},{"$f":" WINEP_Inputs!CS405","v":0},{"$f":" WINEP_Inputs!CT405","v":1},{"$f":" WINEP_Inputs!CU405","v":0},{"$f":" WINEP_Inputs!CV405","v":"WWN"}]
[null,null,{"$f":" WINEP_Inputs!A406","v":"SSD00816"},{"$f":" WINEP_Inputs!J406","v":"7SO300876"},{"$f":" WINEP_Inputs!K406","v":"MONKS GATE WWTW"},{"$f":"WINEP_Inputs!CW406","v":"£m"},{"$f":"WINEP_Inputs!CX406","v":1},null,{"$f":" WINEP_Inputs!CR406","v":0},{"$f":" WINEP_Inputs!CS406","v":0},{"$f":" WINEP_Inputs!CT406","v":1},{"$f":" WINEP_Inputs!CU406","v":0},{"$f":" WINEP_Inputs!CV406","v":"WWN"}]
[null,null,{"$f":" WINEP_Inputs!A407","v":"SSD00818"},{"$f":" WINEP_Inputs!J407","v":"7SO300878"},{"$f":" WINEP_Inputs!K407","v":"MORESTEAD ROAD WINCHESTER WWTW"},{"$f":"WINEP_Inputs!CW407","v":"£m"},{"$f":"WINEP_Inputs!CX407","v":1},null,{"$f":" WINEP_Inputs!CR407","v":0},{"$f":" WINEP_Inputs!CS407","v":0},{"$f":" WINEP_Inputs!CT407","v":1},{"$f":" WINEP_Inputs!CU407","v":0},{"$f":" WINEP_Inputs!CV407","v":"WWN"}]
[null,null,{"$f":" WINEP_Inputs!A408","v":"KSL00600"},{"$f":" WINEP_Inputs!J408","v":"7SO300880"},{"$f":" WINEP_Inputs!K408","v":"MOTNEY HILL WWTW"},{"$f":"WINEP_Inputs!CW408","v":"£m"},{"$f":"WINEP_Inputs!CX408","v":1},null,{"$f":" WINEP_Inputs!CR408","v":0},{"$f":" WINEP_Inputs!CS408","v":0},{"$f":" WINEP_Inputs!CT408","v":1},{"$f":" WINEP_Inputs!CU408","v":0},{"$f":" WINEP_Inputs!CV408","v":"WWN"}]
[null,null,{"$f":" WINEP_Inputs!A409","v":"SSD00822"},{"$f":" WINEP_Inputs!J409","v":"7SO300885"},{"$f":" WINEP_Inputs!K409","v":"NEW ALRESFORD WWTW"},{"$f":"WINEP_Inputs!CW409","v":"£m"},{"$f":"WINEP_Inputs!CX409","v":1},null,{"$f":" WINEP_Inputs!CR409","v":0},{"$f":" WINEP_Inputs!CS409","v":0},{"$f":" WINEP_Inputs!CT409","v":1},{"$f":" WINEP_Inputs!CU409","v":0},{"$f":" WINEP_Inputs!CV409","v":"WWN"}]
[null,null,{"$f":" WINEP_Inputs!A410","v":"SSD00824"},{"$f":" WINEP_Inputs!J410","v":"7SO300889"},{"$f":" WINEP_Inputs!K410","v":"NEWBRIDGE ROAD NEWBRIDGE WPS"},{"$f":"WINEP_Inputs!CW410","v":"£m"},{"$f":"WINEP_Inputs!CX410","v":1},null,{"$f":" WINEP_Inputs!CR410","v":0},{"$f":" WINEP_Inputs!CS410","v":0},{"$f":" WINEP_Inputs!CT410","v":1},{"$f":" WINEP_Inputs!CU410","v":0},{"$f":" WINEP_Inputs!CV410","v":"WWN"}]
[null,null,{"$f":" WINEP_Inputs!A411","v":"SSD00826"},{"$f":" WINEP_Inputs!J411","v":"7SO300891"},{"$f":" WINEP_Inputs!K411","v":"NEWBURY LANE CUCKFIELD WWTW"},{"$f":"WINEP_Inputs!CW411","v":"£m"},{"$f":"WINEP_Inputs!CX411","v":1},null,{"$f":" WINEP_Inputs!CR411","v":0},{"$f":" WINEP_Inputs!CS411","v":0},{"$f":" WINEP_Inputs!CT411","v":1},{"$f":" WINEP_Inputs!CU411","v":0},{"$f":" WINEP_Inputs!CV411","v":"WWN"}]
[null,null,{"$f":" WINEP_Inputs!A412","v":"SSD00831"},{"$f":" WINEP_Inputs!J412","v":"7SO300896"},{"$f":" WINEP_Inputs!K412","v":"NEWICK WWTW"},{"$f":"WINEP_Inputs!CW412","v":"£m"},{"$f":"WINEP_Inputs!CX412","v":1},null,{"$f":" WINEP_Inputs!CR412","v":0},{"$f":" WINEP_Inputs!CS412","v":0},{"$f":" WINEP_Inputs!CT412","v":1},{"$f":" WINEP_Inputs!CU412","v":0},{"$f":" WINEP_Inputs!CV412","v":"WWN"}]
[null,null,{"$f":" WINEP_Inputs!A413","v":"KSL00605"},{"$f":" WINEP_Inputs!J413","v":"7SO300900"},{"$f":" WINEP_Inputs!K413","v":"NORTHFLEET WWTW"},{"$f":"WINEP_Inputs!CW413","v":"£m"},{"$f":"WINEP_Inputs!CX413","v":1},null,{"$f":" WINEP_Inputs!CR413","v":0},{"$f":" WINEP_Inputs!CS413","v":0},{"$f":" WINEP_Inputs!CT413","v":1},{"$f":" WINEP_Inputs!CU413","v":0},{"$f":" WINEP_Inputs!CV413","v":"WWN"}]
[null,null,{"$f":" WINEP_Inputs!A414","v":"SSD00835"},{"$f":" WINEP_Inputs!J414","v":"7SO300902"},{"$f":" WINEP_Inputs!K414","v":"NUTLEY WWTW"},{"$f":"WINEP_Inputs!CW414","v":"£m"},{"$f":"WINEP_Inputs!CX414","v":1},null,{"$f":" WINEP_Inputs!CR414","v":0},{"$f":" WINEP_Inputs!CS414","v":0},{"$f":" WINEP_Inputs!CT414","v":1},{"$f":" WINEP_Inputs!CU414","v":0},{"$f":" WINEP_Inputs!CV414","v":"WWN"}]
[null,null,{"$f":" WINEP_Inputs!A415","v":"SSD00837"},{"$f":" WINEP_Inputs!J415","v":"7SO300904"},{"$f":" WINEP_Inputs!K415","v":"OVERTON WWTW"},{"$f":"WINEP_Inputs!CW415","v":"£m"},{"$f":"WINEP_Inputs!CX415","v":1},null,{"$f":" WINEP_Inputs!CR415","v":0},{"$f":" WINEP_Inputs!CS415","v":0},{"$f":" WINEP_Inputs!CT415","v":1},{"$f":" WINEP_Inputs!CU415","v":0},{"$f":" WINEP_Inputs!CV415","v":"WWN"}]
[null,null,{"$f":" WINEP_Inputs!A416","v":"SSD00839"},{"$f":" WINEP_Inputs!J416","v":"7SO300910"},{"$f":" WINEP_Inputs!K416","v":"PARTRIDGE GREEN WWTW"},{"$f":"WINEP_Inputs!CW416","v":"£m"},{"$f":"WINEP_Inputs!CX416","v":1},null,{"$f":" WINEP_Inputs!CR416","v":0},{"$f":" WINEP_Inputs!CS416","v":0},{"$f":" WINEP_Inputs!CT416","v":1},{"$f":" WINEP_Inputs!CU416","v":0},{"$f":" WINEP_Inputs!CV416","v":"WWN"}]
[null,null,{"$f":" WINEP_Inputs!A417","v":"KSL00611"},{"$f":" WINEP_Inputs!J417","v":"7SO300915"},{"$f":" WINEP_Inputs!K417","v":"PEMBURY WWTW"},{"$f":"WINEP_Inputs!CW417","v":"£m"},{"$f":"WINEP_Inputs!CX417","v":1},null,{"$f":" WINEP_Inputs!CR417","v":0},{"$f":" WINEP_Inputs!CS417","v":0},{"$f":" WINEP_Inputs!CT417","v":1},{"$f":" WINEP_Inputs!CU417","v":0},{"$f":" WINEP_Inputs!CV417","v":"WWN"}]
[null,null,{"$f":" WINEP_Inputs!A418","v":"KSL00615"},{"$f":" WINEP_Inputs!J418","v":"7SO300919"},{"$f":" WINEP_Inputs!K418","v":"PESTALOZZI HOUSE WPS"},{"$f":"WINEP_Inputs!CW418","v":"£m"},{"$f":"WINEP_Inputs!CX418","v":1},null,{"$f":" WINEP_Inputs!CR418","v":0},{"$f":" WINEP_Inputs!CS418","v":0},{"$f":" WINEP_Inputs!CT418","v":1},{"$f":" WINEP_Inputs!CU418","v":0},{"$f":" WINEP_Inputs!CV418","v":"WWN"}]
[null,null,{"$f":" WINEP_Inputs!A419","v":"SSD00844"},{"$f":" WINEP_Inputs!J419","v":"7SO300920"},{"$f":" WINEP_Inputs!K419","v":"PETERSFIELD WWTW"},{"$f":"WINEP_Inputs!CW419","v":"£m"},{"$f":"WINEP_Inputs!CX419","v":1},null,{"$f":" WINEP_Inputs!CR419","v":0},{"$f":" WINEP_Inputs!CS419","v":0},{"$f":" WINEP_Inputs!CT419","v":1},{"$f":" WINEP_Inputs!CU419","v":0},{"$f":" WINEP_Inputs!CV419","v":"WWN"}]
[null,null,{"$f":" WINEP_Inputs!A420","v":"SSD00846"},{"$f":" WINEP_Inputs!J420","v":"7SO300922"},{"$f":" WINEP_Inputs!K420","v":"PETWORTH WWTW"},{"$f":"WINEP_Inputs!CW420","v":"£m"},{"$f":"WINEP_Inputs!CX420","v":1},null,{"$f":" WINEP_Inputs!CR420","v":0},{"$f":" WINEP_Inputs!CS420","v":0},{"$f":" WINEP_Inputs!CT420","v":1},{"$f":" WINEP_Inputs!CU420","v":0},{"$f":" WINEP_Inputs!CV420","v":"WWN"}]
[null,null,{"$f":" WINEP_Inputs!A421","v":"SSD00849"},{"$f":" WINEP_Inputs!J421","v":"7SO300925"},{"$f":" WINEP_Inputs!K421","v":"PORTOBELLO BRIGHTON WPS"},{"$f":"WINEP_Inputs!CW421","v":"£m"},{"$f":"WINEP_Inputs!CX421","v":1},null,{"$f":" WINEP_Inputs!CR421","v":0},{"$f":" WINEP_Inputs!CS421","v":0},{"$f":" WINEP_Inputs!CT421","v":1},{"$f":" WINEP_Inputs!CU421","v":0},{"$f":" WINEP_Inputs!CV421","v":"WWN"}]
[null,null,{"$f":" WINEP_Inputs!A422","v":"SSD00853"},{"$f":" WINEP_Inputs!J422","v":"7SO300929"},{"$f":" WINEP_Inputs!K422","v":"PULBOROUGH WWTW"},{"$f":"WINEP_Inputs!CW422","v":"£m"},{"$f":"WINEP_Inputs!CX422","v":1},null,{"$f":" WINEP_Inputs!CR422","v":0},{"$f":" WINEP_Inputs!CS422","v":0},{"$f":" WINEP_Inputs!CT422","v":1},{"$f":" WINEP_Inputs!CU422","v":0},{"$f":" WINEP_Inputs!CV422","v":"WWN"}]
[null,null,{"$f":" WINEP_Inputs!A423","v":"KSL00616"},{"$f":" WINEP_Inputs!J423","v":"7SO300931"},{"$f":" WINEP_Inputs!K423","v":"QUEENBOROUGH WWTW"},{"$f":"WINEP_Inputs!CW423","v":"£m"},{"$f":"WINEP_Inputs!CX423","v":1},null,{"$f":" WINEP_Inputs!CR423","v":0},{"$f":" WINEP_Inputs!CS423","v":0},{"$f":" WINEP_Inputs!CT423","v":1},{"$f":" WINEP_Inputs!CU423","v":0},{"$f":" WINEP_Inputs!CV423","v":"WWN"}]
[null,null,{"$f":" WINEP_Inputs!A424","v":"KSL00619"},{"$f":" WINEP_Inputs!J424","v":"7SO300934"},{"$f":" WINEP_Inputs!K424","v":"QUICKBOURNE LANE NORTHIAM WWTW"},{"$f":"WINEP_Inputs!CW424","v":"£m"},{"$f":"WINEP_Inputs!CX424","v":1},null,{"$f":" WINEP_Inputs!CR424","v":0},{"$f":" WINEP_Inputs!CS424","v":0},{"$f":" WINEP_Inputs!CT424","v":1},{"$f":" WINEP_Inputs!CU424","v":0},{"$f":" WINEP_Inputs!CV424","v":"WWN"}]
[null,null,{"$f":" WINEP_Inputs!A425","v":"KSL00621"},{"$f":" WINEP_Inputs!J425","v":"7SO300937"},{"$f":" WINEP_Inputs!K425","v":"RANGE ROAD HYTHE K WPS"},{"$f":"WINEP_Inputs!CW425","v":"£m"},{"$f":"WINEP_Inputs!CX425","v":1},null,{"$f":" WINEP_Inputs!CR425","v":0},{"$f":" WINEP_Inputs!CS425","v":0},{"$f":" WINEP_Inputs!CT425","v":1},{"$f":" WINEP_Inputs!CU425","v":0},{"$f":" WINEP_Inputs!CV425","v":"WWN"}]
[null,null,{"$f":" WINEP_Inputs!A426","v":"KSL00623"},{"$f":" WINEP_Inputs!J426","v":"7SO300939"},{"$f":" WINEP_Inputs!K426","v":"RECTORY CLOSE WOULDHAM WPS"},{"$f":"WINEP_Inputs!CW426","v":"£m"},{"$f":"WINEP_Inputs!CX426","v":1},null,{"$f":" WINEP_Inputs!CR426","v":0},{"$f":" WINEP_Inputs!CS426","v":0},{"$f":" WINEP_Inputs!CT426","v":1},{"$f":" WINEP_Inputs!CU426","v":0},{"$f":" WINEP_Inputs!CV426","v":"WWN"}]
[null,null,{"$f":" WINEP_Inputs!A427","v":"SSD00856"},{"$f":" WINEP_Inputs!J427","v":"7SO300943"},{"$f":" WINEP_Inputs!K427","v":"REDLYNCH WWTW"},{"$f":"WINEP_Inputs!CW427","v":"£m"},{"$f":"WINEP_Inputs!CX427","v":1},null,{"$f":" WINEP_Inputs!CR427","v":0},{"$f":" WINEP_Inputs!CS427","v":0},{"$f":" WINEP_Inputs!CT427","v":1},{"$f":" WINEP_Inputs!CU427","v":0},{"$f":" WINEP_Inputs!CV427","v":"WWN"}]
[null,null,{"$f":" WINEP_Inputs!A428","v":"KSL00627"},{"$f":" WINEP_Inputs!J428","v":"7SO300947"},{"$f":" WINEP_Inputs!K428","v":"ROBERTSBRIDGE WWTW"},{"$f":"WINEP_Inputs!CW428","v":"£m"},{"$f":"WINEP_Inputs!CX428","v":1},null,{"$f":" WINEP_Inputs!CR428","v":0},{"$f":" WINEP_Inputs!CS428","v":0},{"$f":" WINEP_Inputs!CT428","v":1},{"$f":" WINEP_Inputs!CU428","v":0},{"$f":" WINEP_Inputs!CV428","v":"WWN"}]
[null,null,{"$f":" WINEP_Inputs!A429","v":"SSD00860"},{"$f":" WINEP_Inputs!J429","v":"7SO300949"},{"$f":" WINEP_Inputs!K429","v":"ROGATE WWTW"},{"$f":"WINEP_Inputs!CW429","v":"£m"},{"$f":"WINEP_Inputs!CX429","v":1},null,{"$f":" WINEP_Inputs!CR429","v":0},{"$f":" WINEP_Inputs!CS429","v":0},{"$f":" WINEP_Inputs!CT429","v":1},{"$f":" WINEP_Inputs!CU429","v":0},{"$f":" WINEP_Inputs!CV429","v":"WWN"}]
[null,null,{"$f":" WINEP_Inputs!A430","v":"SSD00864"},{"$f":" WINEP_Inputs!J430","v":"7SO300955"},{"$f":" WINEP_Inputs!K430","v":"ROPE WALK LITTLEHAMPTON WPS"},{"$f":"WINEP_Inputs!CW430","v":"£m"},{"$f":"WINEP_Inputs!CX430","v":1},null,{"$f":" WINEP_Inputs!CR430","v":0},{"$f":" WINEP_Inputs!CS430","v":0},{"$f":" WINEP_Inputs!CT430","v":1},{"$f":" WINEP_Inputs!CU430","v":0},{"$f":" WINEP_Inputs!CV430","v":"WWN"}]
[null,null,{"$f":" WINEP_Inputs!A431","v":"SSD00866"},{"$f":" WINEP_Inputs!J431","v":"7SO300957"},{"$f":" WINEP_Inputs!K431","v":"ROUD WWTW"},{"$f":"WINEP_Inputs!CW431","v":"£m"},{"$f":"WINEP_Inputs!CX431","v":1},null,{"$f":" WINEP_Inputs!CR431","v":0},{"$f":" WINEP_Inputs!CS431","v":0},{"$f":" WINEP_Inputs!CT431","v":1},{"$f":" WINEP_Inputs!CU431","v":0},{"$f":" WINEP_Inputs!CV431","v":"WWN"}]
[null,null,{"$f":" WINEP_Inputs!A432","v":"KSL00631"},{"$f":" WINEP_Inputs!J432","v":"7SO300959"},{"$f":" WINEP_Inputs!K432","v":"ROUGHLANDS MARDEN WPS"},{"$f":"WINEP_Inputs!CW432","v":"£m"},{"$f":"WINEP_Inputs!CX432","v":1},null,{"$f":" WINEP_Inputs!CR432","v":0},{"$f":" WINEP_Inputs!CS432","v":0},{"$f":" WINEP_Inputs!CT432","v":1},{"$f":" WINEP_Inputs!CU432","v":0},{"$f":" WINEP_Inputs!CV432","v":"WWN"}]
[null,null,{"$f":" WINEP_Inputs!A433","v":"SSD00868"},{"$f":" WINEP_Inputs!J433","v":"7SO300961"},{"$f":" WINEP_Inputs!K433","v":"RUDGWICK RECREATION GROUND WPS"},{"$f":"WINEP_Inputs!CW433","v":"£m"},{"$f":"WINEP_Inputs!CX433","v":1},null,{"$f":" WINEP_Inputs!CR433","v":0},{"$f":" WINEP_Inputs!CS433","v":0},{"$f":" WINEP_Inputs!CT433","v":1},{"$f":" WINEP_Inputs!CU433","v":0},{"$f":" WINEP_Inputs!CV433","v":"WWN"}]
[null,null,{"$f":" WINEP_Inputs!A434","v":"KSL00633"},{"$f":" WINEP_Inputs!J434","v":"7SO300964"},{"$f":" WINEP_Inputs!K434","v":"RYE WWTW"},{"$f":"WINEP_Inputs!CW434","v":"£m"},{"$f":"WINEP_Inputs!CX434","v":1},null,{"$f":" WINEP_Inputs!CR434","v":0},{"$f":" WINEP_Inputs!CS434","v":0},{"$f":" WINEP_Inputs!CT434","v":1},{"$f":" WINEP_Inputs!CU434","v":0},{"$f":" WINEP_Inputs!CV434","v":"WWN"}]
[null,null,{"$f":" WINEP_Inputs!A435","v":"KSL00635"},{"$f":" WINEP_Inputs!J435","v":"7SO300966"},{"$f":" WINEP_Inputs!K435","v":"SANDHURST WWTW"},{"$f":"WINEP_Inputs!CW435","v":"£m"},{"$f":"WINEP_Inputs!CX435","v":1},null,{"$f":" WINEP_Inputs!CR435","v":0},{"$f":" WINEP_Inputs!CS435","v":0},{"$f":" WINEP_Inputs!CT435","v":1},{"$f":" WINEP_Inputs!CU435","v":0},{"$f":" WINEP_Inputs!CV435","v":"WWN"}]
[null,null,{"$f":" WINEP_Inputs!A436","v":"SSD00873"},{"$f":" WINEP_Inputs!J436","v":"7SO300970"},{"$f":" WINEP_Inputs!K436","v":"SCAYNES HILL WWTW"},{"$f":"WINEP_Inputs!CW436","v":"£m"},{"$f":"WINEP_Inputs!CX436","v":1},null,{"$f":" WINEP_Inputs!CR436","v":0},{"$f":" WINEP_Inputs!CS436","v":0},{"$f":" WINEP_Inputs!CT436","v":1},{"$f":" WINEP_Inputs!CU436","v":0},{"$f":" WINEP_Inputs!CV436","v":"WWN"}]
[null,null,{"$f":" WINEP_Inputs!A437","v":"SSD00876"},{"$f":" WINEP_Inputs!J437","v":"7SO300973"},{"$f":" WINEP_Inputs!K437","v":"SEA ROAD LITTLEHAMPTON WPS"},{"$f":"WINEP_Inputs!CW437","v":"£m"},{"$f":"WINEP_Inputs!CX437","v":1},null,{"$f":" WINEP_Inputs!CR437","v":0},{"$f":" WINEP_Inputs!CS437","v":0},{"$f":" WINEP_Inputs!CT437","v":1},{"$f":" WINEP_Inputs!CU437","v":0},{"$f":" WINEP_Inputs!CV437","v":"WWN"}]
[null,null,{"$f":" WINEP_Inputs!A438","v":"KSL00639"},{"$f":" WINEP_Inputs!J438","v":"7SO300984"},{"$f":" WINEP_Inputs!K438","v":"SISSINGHURST WWTW"},{"$f":"WINEP_Inputs!CW438","v":"£m"},{"$f":"WINEP_Inputs!CX438","v":1},null,{"$f":" WINEP_Inputs!CR438","v":0},{"$f":" WINEP_Inputs!CS438","v":0},{"$f":" WINEP_Inputs!CT438","v":1},{"$f":" WINEP_Inputs!CU438","v":0},{"$f":" WINEP_Inputs!CV438","v":"WWN"}]
[null,null,{"$f":" WINEP_Inputs!A439","v":"SSD00891"},{"$f":" WINEP_Inputs!J439","v":"7SO300998"},{"$f":" WINEP_Inputs!K439","v":"SOUTH AMBERSHAM WWTW"},{"$f":"WINEP_Inputs!CW439","v":"£m"},{"$f":"WINEP_Inputs!CX439","v":1},null,{"$f":" WINEP_Inputs!CR439","v":0},{"$f":" WINEP_Inputs!CS439","v":0},{"$f":" WINEP_Inputs!CT439","v":1},{"$f":" WINEP_Inputs!CU439","v":0},{"$f":" WINEP_Inputs!CV439","v":"WWN"}]
[null,null,{"$f":" WINEP_Inputs!A440","v":"SSD00893"},{"$f":" WINEP_Inputs!J440","v":"7SO400001"},{"$f":" WINEP_Inputs!K440","v":"SOUTH HARTING WWTW"},{"$f":"WINEP_Inputs!CW440","v":"£m"},{"$f":"WINEP_Inputs!CX440","v":1},null,{"$f":" WINEP_Inputs!CR440","v":0},{"$f":" WINEP_Inputs!CS440","v":0},{"$f":" WINEP_Inputs!CT440","v":1},{"$f":" WINEP_Inputs!CU440","v":0},{"$f":" WINEP_Inputs!CV440","v":"WWN"}]
[null,null,{"$f":" WINEP_Inputs!A441","v":"SSD00895"},{"$f":" WINEP_Inputs!J441","v":"7SO400005"},{"$f":" WINEP_Inputs!K441","v":"SOUTHWICK WWTW"},{"$f":"WINEP_Inputs!CW441","v":"£m"},{"$f":"WINEP_Inputs!CX441","v":1},null,{"$f":" WINEP_Inputs!CR441","v":0},{"$f":" WINEP_Inputs!CS441","v":0},{"$f":" WINEP_Inputs!CT441","v":1},{"$f":" WINEP_Inputs!CU441","v":0},{"$f":" WINEP_Inputs!CV441","v":"WWN"}]
[null,null,{"$f":" WINEP_Inputs!A442","v":"SSD00897"},{"$f":" WINEP_Inputs!J442","v":"7SO400007"},{"$f":" WINEP_Inputs!K442","v":"ST HELENS WWTW"},{"$f":"WINEP_Inputs!CW442","v":"£m"},{"$f":"WINEP_Inputs!CX442","v":1},null,{"$f":" WINEP_Inputs!CR442","v":0},{"$f":" WINEP_Inputs!CS442","v":0},{"$f":" WINEP_Inputs!CT442","v":1},{"$f":" WINEP_Inputs!CU442","v":0},{"$f":" WINEP_Inputs!CV442","v":"WWN"}]
[null,null,{"$f":" WINEP_Inputs!A443","v":"KSL00651"},{"$f":" WINEP_Inputs!J443","v":"7SO400011"},{"$f":" WINEP_Inputs!K443","v":"STAPLECROSS WWTW"},{"$f":"WINEP_Inputs!CW443","v":"£m"},{"$f":"WINEP_Inputs!CX443","v":1},null,{"$f":" WINEP_Inputs!CR443","v":0},{"$f":" WINEP_Inputs!CS443","v":0},{"$f":" WINEP_Inputs!CT443","v":1},{"$f":" WINEP_Inputs!CU443","v":0},{"$f":" WINEP_Inputs!CV443","v":"WWN"}]
[null,null,{"$f":" WINEP_Inputs!A444","v":"KSL00655"},{"$f":" WINEP_Inputs!J444","v":"7SO400021"},{"$f":" WINEP_Inputs!K444","v":"STONE GREEN STONE IN OXNEY WWTW"},{"$f":"WINEP_Inputs!CW444","v":"£m"},{"$f":"WINEP_Inputs!CX444","v":1},null,{"$f":" WINEP_Inputs!CR444","v":0},{"$f":" WINEP_Inputs!CS444","v":0},{"$f":" WINEP_Inputs!CT444","v":1},{"$f":" WINEP_Inputs!CU444","v":0},{"$f":" WINEP_Inputs!CV444","v":"WWN"}]
[null,null,{"$f":" WINEP_Inputs!A445","v":"KSL00659"},{"$f":" WINEP_Inputs!J445","v":"7SO400025"},{"$f":" WINEP_Inputs!K445","v":"STONEBRIDGE ROAD BROOK K WPS"},{"$f":"WINEP_Inputs!CW445","v":"£m"},{"$f":"WINEP_Inputs!CX445","v":1},null,{"$f":" WINEP_Inputs!CR445","v":0},{"$f":" WINEP_Inputs!CS445","v":0},{"$f":" WINEP_Inputs!CT445","v":1},{"$f":" WINEP_Inputs!CU445","v":0},{"$f":" WINEP_Inputs!CV445","v":"WWN"}]
[null,null,{"$f":" WINEP_Inputs!A446","v":"KSL00669"},{"$f":" WINEP_Inputs!J446","v":"7SO400042"},{"$f":" WINEP_Inputs!K446","v":"TEYNHAM WWTW"},{"$f":"WINEP_Inputs!CW446","v":"£m"},{"$f":"WINEP_Inputs!CX446","v":1},null,{"$f":" WINEP_Inputs!CR446","v":0},{"$f":" WINEP_Inputs!CS446","v":0},{"$f":" WINEP_Inputs!CT446","v":1},{"$f":" WINEP_Inputs!CU446","v":0},{"$f":" WINEP_Inputs!CV446","v":"WWN"}]
[null,null,{"$f":" WINEP_Inputs!A447","v":"KSL00671"},{"$f":" WINEP_Inputs!J447","v":"7SO400044"},{"$f":" WINEP_Inputs!K447","v":"THE BULWARK SANDWICH WPS"},{"$f":"WINEP_Inputs!CW447","v":"£m"},{"$f":"WINEP_Inputs!CX447","v":1},null,{"$f":" WINEP_Inputs!CR447","v":0},{"$f":" WINEP_Inputs!CS447","v":0},{"$f":" WINEP_Inputs!CT447","v":1},{"$f":" WINEP_Inputs!CU447","v":0},{"$f":" WINEP_Inputs!CV447","v":"WWN"}]
[null,null,{"$f":" WINEP_Inputs!A448","v":"KSL00674"},{"$f":" WINEP_Inputs!J448","v":"7SO400050"},{"$f":" WINEP_Inputs!K448","v":"TINKERS LANE TICEHURST WPS"},{"$f":"WINEP_Inputs!CW448","v":"£m"},{"$f":"WINEP_Inputs!CX448","v":1},null,{"$f":" WINEP_Inputs!CR448","v":0},{"$f":" WINEP_Inputs!CS448","v":0},{"$f":" WINEP_Inputs!CT448","v":1},{"$f":" WINEP_Inputs!CU448","v":0},{"$f":" WINEP_Inputs!CV448","v":"WWN"}]
[null,null,{"$f":" WINEP_Inputs!A449","v":"KSL00676"},{"$f":" WINEP_Inputs!J449","v":"7SO400052"},{"$f":" WINEP_Inputs!K449","v":"TONBRIDGE WWTW"},{"$f":"WINEP_Inputs!CW449","v":"£m"},{"$f":"WINEP_Inputs!CX449","v":1},null,{"$f":" WINEP_Inputs!CR449","v":0},{"$f":" WINEP_Inputs!CS449","v":0},{"$f":" WINEP_Inputs!CT449","v":1},{"$f":" WINEP_Inputs!CU449","v":0},{"$f":" WINEP_Inputs!CV449","v":"WWN"}]
[null,null,{"$f":" WINEP_Inputs!A450","v":"KSL00682"},{"$f":" WINEP_Inputs!J450","v":"7SO400060"},{"$f":" WINEP_Inputs!K450","v":"ULCOMBE WWTW"},{"$f":"WINEP_Inputs!CW450","v":"£m"},{"$f":"WINEP_Inputs!CX450","v":1},null,{"$f":" WINEP_Inputs!CR450","v":0},{"$f":" WINEP_Inputs!CS450","v":0},{"$f":" WINEP_Inputs!CT450","v":1},{"$f":" WINEP_Inputs!CU450","v":0},{"$f":" WINEP_Inputs!CV450","v":"WWN"}]
[null,null,{"$f":" WINEP_Inputs!A451","v":"SSD00920"},{"$f":" WINEP_Inputs!J451","v":"7SO400067"},{"$f":" WINEP_Inputs!K451","v":"WARNHAM WWTW"},{"$f":"WINEP_Inputs!CW451","v":"£m"},{"$f":"WINEP_Inputs!CX451","v":1},null,{"$f":" WINEP_Inputs!CR451","v":0},{"$f":" WINEP_Inputs!CS451","v":0},{"$f":" WINEP_Inputs!CT451","v":1},{"$f":" WINEP_Inputs!CU451","v":0},{"$f":" WINEP_Inputs!CV451","v":"WWN"}]
[null,null,{"$f":" WINEP_Inputs!A452","v":"KSL00691"},{"$f":" WINEP_Inputs!J452","v":"7SO400074"},{"$f":" WINEP_Inputs!K452","v":"WEST HOATHLY WWTW"},{"$f":"WINEP_Inputs!CW452","v":"£m"},{"$f":"WINEP_Inputs!CX452","v":1},null,{"$f":" WINEP_Inputs!CR452","v":0},{"$f":" WINEP_Inputs!CS452","v":0},{"$f":" WINEP_Inputs!CT452","v":1},{"$f":" WINEP_Inputs!CU452","v":0},{"$f":" WINEP_Inputs!CV452","v":"WWN"}]
[null,null,{"$f":" WINEP_Inputs!A453","v":"SSD00922"},{"$f":" WINEP_Inputs!J453","v":"7SO400077"},{"$f":" WINEP_Inputs!K453","v":"WEST PARK BOGNOR REGIS WPS"},{"$f":"WINEP_Inputs!CW453","v":"£m"},{"$f":"WINEP_Inputs!CX453","v":1},null,{"$f":" WINEP_Inputs!CR453","v":0},{"$f":" WINEP_Inputs!CS453","v":0},{"$f":" WINEP_Inputs!CT453","v":1},{"$f":" WINEP_Inputs!CU453","v":0},{"$f":" WINEP_Inputs!CV453","v":"WWN"}]
[null,null,{"$f":" WINEP_Inputs!A454","v":"KSL00696"},{"$f":" WINEP_Inputs!J454","v":"7SO400083"},{"$f":" WINEP_Inputs!K454","v":"WESTFIELD WWTW"},{"$f":"WINEP_Inputs!CW454","v":"£m"},{"$f":"WINEP_Inputs!CX454","v":1},null,{"$f":" WINEP_Inputs!CR454","v":0},{"$f":" WINEP_Inputs!CS454","v":0},{"$f":" WINEP_Inputs!CT454","v":1},{"$f":" WINEP_Inputs!CU454","v":0},{"$f":" WINEP_Inputs!CV454","v":"WWN"}]
[null,null,{"$f":" WINEP_Inputs!A455","v":"SSD00927"},{"$f":" WINEP_Inputs!J455","v":"7SO400088"},{"$f":" WINEP_Inputs!K455","v":"WHITEPARISH WWTW"},{"$f":"WINEP_Inputs!CW455","v":"£m"},{"$f":"WINEP_Inputs!CX455","v":1},null,{"$f":" WINEP_Inputs!CR455","v":0},{"$f":" WINEP_Inputs!CS455","v":0},{"$f":" WINEP_Inputs!CT455","v":1},{"$f":" WINEP_Inputs!CU455","v":0},{"$f":" WINEP_Inputs!CV455","v":"WWN"}]
[null,null,{"$f":" WINEP_Inputs!A456","v":"SSD00929"},{"$f":" WINEP_Inputs!J456","v":"7SO400092"},{"$f":" WINEP_Inputs!K456","v":"WICKHAM WWTW"},{"$f":"WINEP_Inputs!CW456","v":"£m"},{"$f":"WINEP_Inputs!CX456","v":1},null,{"$f":" WINEP_Inputs!CR456","v":0},{"$f":" WINEP_Inputs!CS456","v":0},{"$f":" WINEP_Inputs!CT456","v":1},{"$f":" WINEP_Inputs!CU456","v":0},{"$f":" WINEP_Inputs!CV456","v":"WWN"}]
[null,null,{"$f":" WINEP_Inputs!A457","v":"SSD00933"},{"$f":" WINEP_Inputs!J457","v":"7SO400096"},{"$f":" WINEP_Inputs!K457","v":"WISBOROUGH GREEN WWTW"},{"$f":"WINEP_Inputs!CW457","v":"£m"},{"$f":"WINEP_Inputs!CX457","v":1},null,{"$f":" WINEP_Inputs!CR457","v":0},{"$f":" WINEP_Inputs!CS457","v":0},{"$f":" WINEP_Inputs!CT457","v":1},{"$f":" WINEP_Inputs!CU457","v":0},{"$f":" WINEP_Inputs!CV457","v":"WWN"}]
[null,null,{"$f":" WINEP_Inputs!A458","v":"KSL00702"},{"$f":" WINEP_Inputs!J458","v":"7SO400098"},{"$f":" WINEP_Inputs!K458","v":"WITTERSHAM WWTW"},{"$f":"WINEP_Inputs!CW458","v":"£m"},{"$f":"WINEP_Inputs!CX458","v":1},null,{"$f":" WINEP_Inputs!CR458","v":0},{"$f":" WINEP_Inputs!CS458","v":0},{"$f":" WINEP_Inputs!CT458","v":1},{"$f":" WINEP_Inputs!CU458","v":0},{"$f":" WINEP_Inputs!CV458","v":"WWN"}]
[null,null,{"$f":" WINEP_Inputs!A459","v":"SSD00937"},{"$f":" WINEP_Inputs!J459","v":"7SO400103"},{"$f":" WINEP_Inputs!K459","v":"WOOLSTON WWTW"},{"$f":"WINEP_Inputs!CW459","v":"£m"},{"$f":"WINEP_Inputs!CX459","v":1},null,{"$f":" WINEP_Inputs!CR459","v":0},{"$f":" WINEP_Inputs!CS459","v":0},{"$f":" WINEP_Inputs!CT459","v":1},{"$f":" WINEP_Inputs!CU459","v":0},{"$f":" WINEP_Inputs!CV459","v":"WWN"}]
[null,null,{"$f":" WINEP_Inputs!A460","v":"SSD00939"},{"$f":" WINEP_Inputs!J460","v":"7SO400106"},{"$f":" WINEP_Inputs!K460","v":"WROXALL WWTW"},{"$f":"WINEP_Inputs!CW460","v":"£m"},{"$f":"WINEP_Inputs!CX460","v":1},null,{"$f":" WINEP_Inputs!CR460","v":0},{"$f":" WINEP_Inputs!CS460","v":0},{"$f":" WINEP_Inputs!CT460","v":1},{"$f":" WINEP_Inputs!CU460","v":0},{"$f":" WINEP_Inputs!CV460","v":"WWN"}]
[null,null,{"$f":" WINEP_Inputs!A461","v":"SSD00038"},{"$f":" WINEP_Inputs!J461","v":"7SO200203"},{"$f":" WINEP_Inputs!K461","v":"Southern Water PR19 shellfish water requirements"},{"$f":"WINEP_Inputs!CW461","v":"£m"},{"$f":"WINEP_Inputs!CX461","v":1},null,{"$f":" WINEP_Inputs!CR461","v":0},{"$f":" WINEP_Inputs!CS461","v":1},{"$f":" WINEP_Inputs!CT461","v":0},{"$f":" WINEP_Inputs!CU461","v":1},{"$f":" WINEP_Inputs!CV461","v":"WWN"},{"$f":" IF(K466 = 0, 0, K466 / J466)","v":0}]
[null,null,{"$f":" WINEP_Inputs!A462","v":"SSD00664"},{"$f":" WINEP_Inputs!J462","v":"7SO300581"},{"$f":" WINEP_Inputs!K462","v":"Chichester Harbour (Chichester Channel) Shellfish Investigations"},{"$f":"WINEP_Inputs!CW462","v":"£m"},{"$f":"WINEP_Inputs!CX462","v":1},null,{"$f":" WINEP_Inputs!CR462","v":0},{"$f":" WINEP_Inputs!CS462","v":0},{"$f":" WINEP_Inputs!CT462","v":1},{"$f":" WINEP_Inputs!CU462","v":0},{"$f":" WINEP_Inputs!CV462","v":"WWN"}]
[null,null,{"$f":" WINEP_Inputs!A463","v":"SSD00663"},{"$f":" WINEP_Inputs!J463","v":"7SO300580"},{"$f":" WINEP_Inputs!K463","v":"Chichester Harbour (Emsworth Channel) Shellfish Investigations"},{"$f":"WINEP_Inputs!CW463","v":"£m"},{"$f":"WINEP_Inputs!CX463","v":1},null,{"$f":" WINEP_Inputs!CR463","v":0},{"$f":" WINEP_Inputs!CS463","v":0},{"$f":" WINEP_Inputs!CT463","v":1},{"$f":" WINEP_Inputs!CU463","v":0},{"$f":" WINEP_Inputs!CV463","v":"WWN"}]
[null,null,{"$f":" WINEP_Inputs!A464","v":"SSD00941"},{"$f":" WINEP_Inputs!J464","v":"7SO400111"},{"$f":" WINEP_Inputs!K464","v":"Chichester Harbour (Thornham Channel) Shellfish Investigations"},{"$f":"WINEP_Inputs!CW464","v":"£m"},{"$f":"WINEP_Inputs!CX464","v":1},null,{"$f":" WINEP_Inputs!CR464","v":0},{"$f":" WINEP_Inputs!CS464","v":0},{"$f":" WINEP_Inputs!CT464","v":1},{"$f":" WINEP_Inputs!CU464","v":0},{"$f":" WINEP_Inputs!CV464","v":"WWN"}]
[null,null,{"$f":" WINEP_Inputs!A465","v":"KSL00452"},{"$f":" WINEP_Inputs!J465","v":"7SO300575"},{"$f":" WINEP_Inputs!K465","v":"Outer Thames Shellfish Investigations"},{"$f":"WINEP_Inputs!CW465","v":"£m"},{"$f":"WINEP_Inputs!CX465","v":1},null,{"$f":" WINEP_Inputs!CR465","v":0},{"$f":" WINEP_Inputs!CS465","v":0},{"$f":" WINEP_Inputs!CT465","v":1},{"$f":" WINEP_Inputs!CU465","v":0},{"$f":" WINEP_Inputs!CV465","v":"WWN"}]
[null,null,{"$f":" WINEP_Inputs!A466","v":"KSL00453"},{"$f":" WINEP_Inputs!J466","v":"7SO300576"},{"$f":" WINEP_Inputs!K466","v":"Sheppey Shellfish Investigations"},{"$f":"WINEP_Inputs!CW466","v":"£m"},{"$f":"WINEP_Inputs!CX466","v":1},null,{"$f":" WINEP_Inputs!CR466","v":0},{"$f":" WINEP_Inputs!CS466","v":0},{"$f":" WINEP_Inputs!CT466","v":1},{"$f":" WINEP_Inputs!CU466","v":0},{"$f":" WINEP_Inputs!CV466","v":"WWN"}]
[null,null,{"$f":" WINEP_Inputs!A467","v":"KSL00456"},{"$f":" WINEP_Inputs!J467","v":"7SO300579"},{"$f":" WINEP_Inputs!K467","v":"Swale Central Shellfish Investigations"},{"$f":"WINEP_Inputs!CW467","v":"£m"},{"$f":"WINEP_Inputs!CX467","v":1},null,{"$f":" WINEP_Inputs!CR467","v":0},{"$f":" WINEP_Inputs!CS467","v":0},{"$f":" WINEP_Inputs!CT467","v":1},{"$f":" WINEP_Inputs!CU467","v":0},{"$f":" WINEP_Inputs!CV467","v":"WWN"}]
[null,null,{"$f":" WINEP_Inputs!A468","v":"KSL00455"},{"$f":" WINEP_Inputs!J468","v":"7SO300578"},{"$f":" WINEP_Inputs!K468","v":"Swale East Shellfish Investigations"},{"$f":"WINEP_Inputs!CW468","v":"£m"},{"$f":"WINEP_Inputs!CX468","v":1},null,{"$f":" WINEP_Inputs!CR468","v":0},{"$f":" WINEP_Inputs!CS468","v":0},{"$f":" WINEP_Inputs!CT468","v":1},{"$f":" WINEP_Inputs!CU468","v":0},{"$f":" WINEP_Inputs!CV468","v":"WWN"}]
[null,null,{"$f":" WINEP_Inputs!A469","v":"KSL00454"},{"$f":" WINEP_Inputs!J469","v":"7SO300577"},{"$f":" WINEP_Inputs!K469","v":"Swalecliffe Shellfish Investigations"},{"$f":"WINEP_Inputs!CW469","v":"£m"},{"$f":"WINEP_Inputs!CX469","v":1},null,{"$f":" WINEP_Inputs!CR469","v":0},{"$f":" WINEP_Inputs!CS469","v":0},{"$f":" WINEP_Inputs!CT469","v":1},{"$f":" WINEP_Inputs!CU469","v":0},{"$f":" WINEP_Inputs!CV469","v":"WWN"}]
[null,null,{"$f":" WINEP_Inputs!A470","v":"SSD00025"},{"$f":" WINEP_Inputs!J470","v":"7SO200190"},{"$f":" WINEP_Inputs!K470","v":"Southern Water PR19 frequently spilling overflows requirements"},{"$f":"WINEP_Inputs!CW470","v":"£m"},{"$f":"WINEP_Inputs!CX470","v":1},null,{"$f":" WINEP_Inputs!CR470","v":0},{"$f":" WINEP_Inputs!CS470","v":1},{"$f":" WINEP_Inputs!CT470","v":0},{"$f":" WINEP_Inputs!CU470","v":1},{"$f":" WINEP_Inputs!CV470","v":"WWN"},0]
[null,null,{"$f":" WINEP_Inputs!A471","v":"KSL00423"},{"$f":" WINEP_Inputs!J471","v":"7SO300479"},{"$f":" WINEP_Inputs!K471","v":" High Halden WTW Storm Tank Overflow"},{"$f":"WINEP_Inputs!CW471","v":"£m"},{"$f":"WINEP_Inputs!CX471","v":1},null,{"$f":" WINEP_Inputs!CR471","v":0},{"$f":" WINEP_Inputs!CS471","v":0},{"$f":" WINEP_Inputs!CT471","v":1},{"$f":" WINEP_Inputs!CU471","v":0},{"$f":" WINEP_Inputs!CV471","v":"WWN"}]
[null,null,{"$f":" WINEP_Inputs!A472","v":"KSL00428"},{"$f":" WINEP_Inputs!J472","v":"7SO300491"},{"$f":" WINEP_Inputs!K472","v":"Apple Tree Lane Tunbridge Wells CSO"},{"$f":"WINEP_Inputs!CW472","v":"£m"},{"$f":"WINEP_Inputs!CX472","v":1},null,{"$f":" WINEP_Inputs!CR472","v":0},{"$f":" WINEP_Inputs!CS472","v":0},{"$f":" WINEP_Inputs!CT472","v":1},{"$f":" WINEP_Inputs!CU472","v":0},{"$f":" WINEP_Inputs!CV472","v":"WWN"}]
[null,null,{"$f":" WINEP_Inputs!A473","v":"SSD00590"},{"$f":" WINEP_Inputs!J473","v":"7SO300468"},{"$f":" WINEP_Inputs!K473","v":"Ashington WTW Storm Tank Overflow"},{"$f":"WINEP_Inputs!CW473","v":"£m"},{"$f":"WINEP_Inputs!CX473","v":1},null,{"$f":" WINEP_Inputs!CR473","v":0},{"$f":" WINEP_Inputs!CS473","v":0},{"$f":" WINEP_Inputs!CT473","v":1},{"$f":" WINEP_Inputs!CU473","v":0},{"$f":" WINEP_Inputs!CV473","v":"WWN"}]
[null,null,{"$f":" WINEP_Inputs!A474","v":"SSD00591"},{"$f":" WINEP_Inputs!J474","v":"7SO300469"},{"$f":" WINEP_Inputs!K474","v":"Barcombe New WTW Inlet Works"},{"$f":"WINEP_Inputs!CW474","v":"£m"},{"$f":"WINEP_Inputs!CX474","v":1},null,{"$f":" WINEP_Inputs!CR474","v":0},{"$f":" WINEP_Inputs!CS474","v":0},{"$f":" WINEP_Inputs!CT474","v":1},{"$f":" WINEP_Inputs!CU474","v":0},{"$f":" WINEP_Inputs!CV474","v":"WWN"}]
[null,null,{"$f":" WINEP_Inputs!A475","v":"SSD00596"},{"$f":" WINEP_Inputs!J475","v":"7SO300481"},{"$f":" WINEP_Inputs!K475","v":"Billingshurst WTW Storm Tank Overflow"},{"$f":"WINEP_Inputs!CW475","v":"£m"},{"$f":"WINEP_Inputs!CX475","v":1},null,{"$f":" WINEP_Inputs!CR475","v":0},{"$f":" WINEP_Inputs!CS475","v":0},{"$f":" WINEP_Inputs!CT475","v":1},{"$f":" WINEP_Inputs!CU475","v":0},{"$f":" WINEP_Inputs!CV475","v":"WWN"}]
[null,null,{"$f":" WINEP_Inputs!A476","v":"SSD00597"},{"$f":" WINEP_Inputs!J476","v":"7SO300482"},{"$f":" WINEP_Inputs!K476","v":"Calbourne WTW Inlet Works"},{"$f":"WINEP_Inputs!CW476","v":"£m"},{"$f":"WINEP_Inputs!CX476","v":1},null,{"$f":" WINEP_Inputs!CR476","v":0},{"$f":" WINEP_Inputs!CS476","v":0},{"$f":" WINEP_Inputs!CT476","v":1},{"$f":" WINEP_Inputs!CU476","v":0},{"$f":" WINEP_Inputs!CV476","v":"WWN"}]
[null,null,{"$f":" WINEP_Inputs!A477","v":"KSL00425"},{"$f":" WINEP_Inputs!J477","v":"7SO300483"},{"$f":" WINEP_Inputs!K477","v":"Cannon Lane Tonbridge CSO"},{"$f":"WINEP_Inputs!CW477","v":"£m"},{"$f":"WINEP_Inputs!CX477","v":1},null,{"$f":" WINEP_Inputs!CR477","v":0},{"$f":" WINEP_Inputs!CS477","v":0},{"$f":" WINEP_Inputs!CT477","v":1},{"$f":" WINEP_Inputs!CU477","v":0},{"$f":" WINEP_Inputs!CV477","v":"WWN"}]
[null,null,{"$f":" WINEP_Inputs!A478","v":"KSL00418"},{"$f":" WINEP_Inputs!J478","v":"7SO300470"},{"$f":" WINEP_Inputs!K478","v":"Charing WTW Storm Tank Overflow"},{"$f":"WINEP_Inputs!CW478","v":"£m"},{"$f":"WINEP_Inputs!CX478","v":1},null,{"$f":" WINEP_Inputs!CR478","v":0},{"$f":" WINEP_Inputs!CS478","v":0},{"$f":" WINEP_Inputs!CT478","v":1},{"$f":" WINEP_Inputs!CU478","v":0},{"$f":" WINEP_Inputs!CV478","v":"WWN"}]
[null,null,{"$f":" WINEP_Inputs!A479","v":"SSD00595"},{"$f":" WINEP_Inputs!J479","v":"7SO300478"},{"$f":" WINEP_Inputs!K479","v":"Chiddingfold WTW Inlet Works"},{"$f":"WINEP_Inputs!CW479","v":"£m"},{"$f":"WINEP_Inputs!CX479","v":1},null,{"$f":" WINEP_Inputs!CR479","v":0},{"$f":" WINEP_Inputs!CS479","v":0},{"$f":" WINEP_Inputs!CT479","v":1},{"$f":" WINEP_Inputs!CU479","v":0},{"$f":" WINEP_Inputs!CV479","v":"WWN"}]
[null,null,{"$f":" WINEP_Inputs!A480","v":"KSL00415"},{"$f":" WINEP_Inputs!J480","v":"7SO300464"},{"$f":" WINEP_Inputs!K480","v":"Cranbrook WTW Storm Tank Overflow"},{"$f":"WINEP_Inputs!CW480","v":"£m"},{"$f":"WINEP_Inputs!CX480","v":1},null,{"$f":" WINEP_Inputs!CR480","v":0},{"$f":" WINEP_Inputs!CS480","v":0},{"$f":" WINEP_Inputs!CT480","v":1},{"$f":" WINEP_Inputs!CU480","v":0},{"$f":" WINEP_Inputs!CV480","v":"WWN"}]
[null,null,{"$f":" WINEP_Inputs!A481","v":"KSL00416"},{"$f":" WINEP_Inputs!J481","v":"7SO300465"},{"$f":" WINEP_Inputs!K481","v":"Felbridge WTW Inlet Works"},{"$f":"WINEP_Inputs!CW481","v":"£m"},{"$f":"WINEP_Inputs!CX481","v":1},null,{"$f":" WINEP_Inputs!CR481","v":0},{"$f":" WINEP_Inputs!CS481","v":0},{"$f":" WINEP_Inputs!CT481","v":1},{"$f":" WINEP_Inputs!CU481","v":0},{"$f":" WINEP_Inputs!CV481","v":"WWN"}]
[null,null,{"$f":" WINEP_Inputs!A482","v":"SSD00598"},{"$f":" WINEP_Inputs!J482","v":"7SO300484"},{"$f":" WINEP_Inputs!K482","v":"Fittleworth WTW Storm Tank Overflow"},{"$f":"WINEP_Inputs!CW482","v":"£m"},{"$f":"WINEP_Inputs!CX482","v":1},null,{"$f":" WINEP_Inputs!CR482","v":0},{"$f":" WINEP_Inputs!CS482","v":0},{"$f":" WINEP_Inputs!CT482","v":1},{"$f":" WINEP_Inputs!CU482","v":0},{"$f":" WINEP_Inputs!CV482","v":"WWN"}]
[null,null,{"$f":" WINEP_Inputs!A483","v":"KSL00419"},{"$f":" WINEP_Inputs!J483","v":"7SO300471"},{"$f":" WINEP_Inputs!K483","v":"Fordcombe WTW Inlet Works"},{"$f":"WINEP_Inputs!CW483","v":"£m"},{"$f":"WINEP_Inputs!CX483","v":1},null,{"$f":" WINEP_Inputs!CR483","v":0},{"$f":" WINEP_Inputs!CS483","v":0},{"$f":" WINEP_Inputs!CT483","v":1},{"$f":" WINEP_Inputs!CU483","v":0},{"$f":" WINEP_Inputs!CV483","v":"WWN"}]
[null,null,{"$f":" WINEP_Inputs!A484","v":"KSL00426"},{"$f":" WINEP_Inputs!J484","v":"7SO300485"},{"$f":" WINEP_Inputs!K484","v":"Guestling Green WTW Storm Tank Overflow"},{"$f":"WINEP_Inputs!CW484","v":"£m"},{"$f":"WINEP_Inputs!CX484","v":1},null,{"$f":" WINEP_Inputs!CR484","v":0},{"$f":" WINEP_Inputs!CS484","v":0},{"$f":" WINEP_Inputs!CT484","v":1},{"$f":" WINEP_Inputs!CU484","v":0},{"$f":" WINEP_Inputs!CV484","v":"WWN"}]
[null,null,{"$f":" WINEP_Inputs!A485","v":"SSD00603"},{"$f":" WINEP_Inputs!J485","v":"7SO300492"},{"$f":" WINEP_Inputs!K485","v":"Hailsham North WTW Storm Tank Overflow"},{"$f":"WINEP_Inputs!CW485","v":"£m"},{"$f":"WINEP_Inputs!CX485","v":1},null,{"$f":" WINEP_Inputs!CR485","v":0},{"$f":" WINEP_Inputs!CS485","v":0},{"$f":" WINEP_Inputs!CT485","v":1},{"$f":" WINEP_Inputs!CU485","v":0},{"$f":" WINEP_Inputs!CV485","v":"WWN"}]
[null,null,{"$f":" WINEP_Inputs!A486","v":"SSD00604"},{"$f":" WINEP_Inputs!J486","v":"7SO300493"},{"$f":" WINEP_Inputs!K486","v":"Hailsham South WTW Inlet Works"},{"$f":"WINEP_Inputs!CW486","v":"£m"},{"$f":"WINEP_Inputs!CX486","v":1},null,{"$f":" WINEP_Inputs!CR486","v":0},{"$f":" WINEP_Inputs!CS486","v":0},{"$f":" WINEP_Inputs!CT486","v":1},{"$f":" WINEP_Inputs!CU486","v":0},{"$f":" WINEP_Inputs!CV486","v":"WWN"}]
[null,null,{"$f":" WINEP_Inputs!A487","v":"KSL00429"},{"$f":" WINEP_Inputs!J487","v":"7SO300494"},{"$f":" WINEP_Inputs!K487","v":"Hawkhurst South WTW Storm Tank Overflow"},{"$f":"WINEP_Inputs!CW487","v":"£m"},{"$f":"WINEP_Inputs!CX487","v":1},null,{"$f":" WINEP_Inputs!CR487","v":0},{"$f":" WINEP_Inputs!CS487","v":0},{"$f":" WINEP_Inputs!CT487","v":1},{"$f":" WINEP_Inputs!CU487","v":0},{"$f":" WINEP_Inputs!CV487","v":"WWN"}]
[null,null,{"$f":" WINEP_Inputs!A488","v":"KSL00430"},{"$f":" WINEP_Inputs!J488","v":"7SO300495"},{"$f":" WINEP_Inputs!K488","v":"Hilden Park Road Hildenborough WPS"},{"$f":"WINEP_Inputs!CW488","v":"£m"},{"$f":"WINEP_Inputs!CX488","v":1},null,{"$f":" WINEP_Inputs!CR488","v":0},{"$f":" WINEP_Inputs!CS488","v":0},{"$f":" WINEP_Inputs!CT488","v":1},{"$f":" WINEP_Inputs!CU488","v":0},{"$f":" WINEP_Inputs!CV488","v":"WWN"}]
[null,null,{"$f":" WINEP_Inputs!A489","v":"KSL00420"},{"$f":" WINEP_Inputs!J489","v":"7SO300472"},{"$f":" WINEP_Inputs!K489","v":"Lingfield WTW Storm Tank Overflow"},{"$f":"WINEP_Inputs!CW489","v":"£m"},{"$f":"WINEP_Inputs!CX489","v":1},null,{"$f":" WINEP_Inputs!CR489","v":0},{"$f":" WINEP_Inputs!CS489","v":0},{"$f":" WINEP_Inputs!CT489","v":1},{"$f":" WINEP_Inputs!CU489","v":0},{"$f":" WINEP_Inputs!CV489","v":"WWN"}]
[null,null,{"$f":" WINEP_Inputs!A490","v":"SSD00605"},{"$f":" WINEP_Inputs!J490","v":"7SO300496"},{"$f":" WINEP_Inputs!K490","v":"Loxwood WTW Storm Tank Overflow"},{"$f":"WINEP_Inputs!CW490","v":"£m"},{"$f":"WINEP_Inputs!CX490","v":1},null,{"$f":" WINEP_Inputs!CR490","v":0},{"$f":" WINEP_Inputs!CS490","v":0},{"$f":" WINEP_Inputs!CT490","v":1},{"$f":" WINEP_Inputs!CU490","v":0},{"$f":" WINEP_Inputs!CV490","v":"WWN"}]
[null,null,{"$f":" WINEP_Inputs!A491","v":"SSD00606"},{"$f":" WINEP_Inputs!J491","v":"7SO300497"},{"$f":" WINEP_Inputs!K491","v":"Marshall Close Barnham CSO"},{"$f":"WINEP_Inputs!CW491","v":"£m"},{"$f":"WINEP_Inputs!CX491","v":1},null,{"$f":" WINEP_Inputs!CR491","v":0},{"$f":" WINEP_Inputs!CS491","v":0},{"$f":" WINEP_Inputs!CT491","v":1},{"$f":" WINEP_Inputs!CU491","v":0},{"$f":" WINEP_Inputs!CV491","v":"WWN"}]
[null,null,{"$f":" WINEP_Inputs!A492","v":"KSL00424"},{"$f":" WINEP_Inputs!J492","v":"7SO300480"},{"$f":" WINEP_Inputs!K492","v":"May Street Herne Bay WTW Storm tank overflow"},{"$f":"WINEP_Inputs!CW492","v":"£m"},{"$f":"WINEP_Inputs!CX492","v":1},null,{"$f":" WINEP_Inputs!CR492","v":0},{"$f":" WINEP_Inputs!CS492","v":0},{"$f":" WINEP_Inputs!CT492","v":1},{"$f":" WINEP_Inputs!CU492","v":0},{"$f":" WINEP_Inputs!CV492","v":"WWN"}]
[null,null,{"$f":" WINEP_Inputs!A493","v":"SSD00599"},{"$f":" WINEP_Inputs!J493","v":"7SO300486"},{"$f":" WINEP_Inputs!K493","v":"Mill Corner Northiam WTW Inlet Works"},{"$f":"WINEP_Inputs!CW493","v":"£m"},{"$f":"WINEP_Inputs!CX493","v":1},null,{"$f":" WINEP_Inputs!CR493","v":0},{"$f":" WINEP_Inputs!CS493","v":0},{"$f":" WINEP_Inputs!CT493","v":1},{"$f":" WINEP_Inputs!CU493","v":0},{"$f":" WINEP_Inputs!CV493","v":"WWN"}]
[null,null,{"$f":" WINEP_Inputs!A494","v":"SSD00592"},{"$f":" WINEP_Inputs!J494","v":"7SO300473"},{"$f":" WINEP_Inputs!K494","v":"Monks Gate WTW Storm Tank Overflow"},{"$f":"WINEP_Inputs!CW494","v":"£m"},{"$f":"WINEP_Inputs!CX494","v":1},null,{"$f":" WINEP_Inputs!CR494","v":0},{"$f":" WINEP_Inputs!CS494","v":0},{"$f":" WINEP_Inputs!CT494","v":1},{"$f":" WINEP_Inputs!CU494","v":0},{"$f":" WINEP_Inputs!CV494","v":"WWN"}]
[null,null,{"$f":" WINEP_Inputs!A495","v":"SSD00589"},{"$f":" WINEP_Inputs!J495","v":"7SO300466"},{"$f":" WINEP_Inputs!K495","v":"Neaves Lane Ringmer WTW Storm Tank Overflow"},{"$f":"WINEP_Inputs!CW495","v":"£m"},{"$f":"WINEP_Inputs!CX495","v":1},null,{"$f":" WINEP_Inputs!CR495","v":0},{"$f":" WINEP_Inputs!CS495","v":0},{"$f":" WINEP_Inputs!CT495","v":1},{"$f":" WINEP_Inputs!CU495","v":0},{"$f":" WINEP_Inputs!CV495","v":"WWN"}]
[null,null,{"$f":" WINEP_Inputs!A496","v":"KSL00431"},{"$f":" WINEP_Inputs!J496","v":"7SO300498"},{"$f":" WINEP_Inputs!K496","v":"Oxted WTW Storm Tank Overflow"},{"$f":"WINEP_Inputs!CW496","v":"£m"},{"$f":"WINEP_Inputs!CX496","v":1},null,{"$f":" WINEP_Inputs!CR496","v":0},{"$f":" WINEP_Inputs!CS496","v":0},{"$f":" WINEP_Inputs!CT496","v":1},{"$f":" WINEP_Inputs!CU496","v":0},{"$f":" WINEP_Inputs!CV496","v":"WWN"}]
[null,null,{"$f":" WINEP_Inputs!A497","v":"SSD00600"},{"$f":" WINEP_Inputs!J497","v":"7SO300487"},{"$f":" WINEP_Inputs!K497","v":"Petworth WTW Inlet Works"},{"$f":"WINEP_Inputs!CW497","v":"£m"},{"$f":"WINEP_Inputs!CX497","v":1},null,{"$f":" WINEP_Inputs!CR497","v":0},{"$f":" WINEP_Inputs!CS497","v":0},{"$f":" WINEP_Inputs!CT497","v":1},{"$f":" WINEP_Inputs!CU497","v":0},{"$f":" WINEP_Inputs!CV497","v":"WWN"}]
[null,null,{"$f":" WINEP_Inputs!A498","v":"KSL00427"},{"$f":" WINEP_Inputs!J498","v":"7SO300488"},{"$f":" WINEP_Inputs!K498","v":"Priory Mill Tonbridge WPS"},{"$f":"WINEP_Inputs!CW498","v":"£m"},{"$f":"WINEP_Inputs!CX498","v":1},null,{"$f":" WINEP_Inputs!CR498","v":0},{"$f":" WINEP_Inputs!CS498","v":0},{"$f":" WINEP_Inputs!CT498","v":1},{"$f":" WINEP_Inputs!CU498","v":0},{"$f":" WINEP_Inputs!CV498","v":"WWN"}]
[null,null,{"$f":" WINEP_Inputs!A499","v":"KSL00417"},{"$f":" WINEP_Inputs!J499","v":"7SO300467"},{"$f":" WINEP_Inputs!K499","v":"Redgate Mill Crowborough WTW Storm Tank Overflow"},{"$f":"WINEP_Inputs!CW499","v":"£m"},{"$f":"WINEP_Inputs!CX499","v":1},null,{"$f":" WINEP_Inputs!CR499","v":0},{"$f":" WINEP_Inputs!CS499","v":0},{"$f":" WINEP_Inputs!CT499","v":1},{"$f":" WINEP_Inputs!CU499","v":0},{"$f":" WINEP_Inputs!CV499","v":"WWN"}]
[null,null,{"$f":" WINEP_Inputs!A500","v":"SSD00593"},{"$f":" WINEP_Inputs!J500","v":"7SO300474"},{"$f":" WINEP_Inputs!K500","v":"Slinfold WTW Inlet Works"},{"$f":"WINEP_Inputs!CW500","v":"£m"},{"$f":"WINEP_Inputs!CX500","v":1},null,{"$f":" WINEP_Inputs!CR500","v":0},{"$f":" WINEP_Inputs!CS500","v":0},{"$f":" WINEP_Inputs!CT500","v":1},{"$f":" WINEP_Inputs!CU500","v":0},{"$f":" WINEP_Inputs!CV500","v":"WWN"}]
[null,null,{"$f":" WINEP_Inputs!A501","v":"SSD00601"},{"$f":" WINEP_Inputs!J501","v":"7SO300489"},{"$f":" WINEP_Inputs!K501","v":"Small Dole WTW Storm Tank Overflow"},{"$f":"WINEP_Inputs!CW501","v":"£m"},{"$f":"WINEP_Inputs!CX501","v":1},null,{"$f":" WINEP_Inputs!CR501","v":0},{"$f":" WINEP_Inputs!CS501","v":0},{"$f":" WINEP_Inputs!CT501","v":1},{"$f":" WINEP_Inputs!CU501","v":0},{"$f":" WINEP_Inputs!CV501","v":"WWN"}]
[null,null,{"$f":" WINEP_Inputs!A502","v":"KSL00421"},{"$f":" WINEP_Inputs!J502","v":"7SO300475"},{"$f":" WINEP_Inputs!K502","v":"Stubbs Lane Brede WTW Storm Tank Overflow"},{"$f":"WINEP_Inputs!CW502","v":"£m"},{"$f":"WINEP_Inputs!CX502","v":1},null,{"$f":" WINEP_Inputs!CR502","v":0},{"$f":" WINEP_Inputs!CS502","v":0},{"$f":" WINEP_Inputs!CT502","v":1},{"$f":" WINEP_Inputs!CU502","v":0},{"$f":" WINEP_Inputs!CV502","v":"WWN"}]
[null,null,{"$f":" WINEP_Inputs!A503","v":"SSD00607"},{"$f":" WINEP_Inputs!J503","v":"7SO300499"},{"$f":" WINEP_Inputs!K503","v":"Summer Lane Pagham WTW Storm Tank Overflow"},{"$f":"WINEP_Inputs!CW503","v":"£m"},{"$f":"WINEP_Inputs!CX503","v":1},null,{"$f":" WINEP_Inputs!CR503","v":0},{"$f":" WINEP_Inputs!CS503","v":0},{"$f":" WINEP_Inputs!CT503","v":1},{"$f":" WINEP_Inputs!CU503","v":0},{"$f":" WINEP_Inputs!CV503","v":"WWN"}]
[null,null,{"$f":" WINEP_Inputs!A504","v":"SSD00602"},{"$f":" WINEP_Inputs!J504","v":"7SO300490"},{"$f":" WINEP_Inputs!K504","v":"West Wellow WTW Storm Tank Overflow"},{"$f":"WINEP_Inputs!CW504","v":"£m"},{"$f":"WINEP_Inputs!CX504","v":1},null,{"$f":" WINEP_Inputs!CR504","v":0},{"$f":" WINEP_Inputs!CS504","v":0},{"$f":" WINEP_Inputs!CT504","v":1},{"$f":" WINEP_Inputs!CU504","v":0},{"$f":" WINEP_Inputs!CV504","v":"WWN"}]
[null,null,{"$f":" WINEP_Inputs!A505","v":"KSL00422"},{"$f":" WINEP_Inputs!J505","v":"7SO300476"},{"$f":" WINEP_Inputs!K505","v":"Westfield WTW Storm Tank Overflow"},{"$f":"WINEP_Inputs!CW505","v":"£m"},{"$f":"WINEP_Inputs!CX505","v":1},null,{"$f":" WINEP_Inputs!CR505","v":0},{"$f":" WINEP_Inputs!CS505","v":0},{"$f":" WINEP_Inputs!CT505","v":1},{"$f":" WINEP_Inputs!CU505","v":0},{"$f":" WINEP_Inputs!CV505","v":"WWN"}]
[null,null,{"$f":" WINEP_Inputs!A506","v":"SSD00594"},{"$f":" WINEP_Inputs!J506","v":"7SO300477"},{"$f":" WINEP_Inputs!K506","v":"Wickham WTW Storm Tank Overflow"},{"$f":"WINEP_Inputs!CW506","v":"£m"},{"$f":"WINEP_Inputs!CX506","v":1},null,{"$f":" WINEP_Inputs!CR506","v":0},{"$f":" WINEP_Inputs!CS506","v":0},{"$f":" WINEP_Inputs!CT506","v":1},{"$f":" WINEP_Inputs!CU506","v":0},{"$f":" WINEP_Inputs!CV506","v":"WWN"}]
[null,null,{"$f":" WINEP_Inputs!A507","v":"KSL00735"},{"$f":" WINEP_Inputs!J507","v":"7SO400169"},{"$f":" WINEP_Inputs!K507","v":"Burwash Common WTW"},{"$f":"WINEP_Inputs!CW507","v":"£m"},{"$f":"WINEP_Inputs!CX507","v":1},null,{"$f":" WINEP_Inputs!CR507","v":0},{"$f":" WINEP_Inputs!CS507","v":0},{"$f":" WINEP_Inputs!CT507","v":1},{"$f":" WINEP_Inputs!CU507","v":0},{"$f":" WINEP_Inputs!CV507","v":"WWN"}]
[null,null,{"$f":" WINEP_Inputs!A508","v":"KSL00736"},{"$f":" WINEP_Inputs!J508","v":"7SO400170"},{"$f":" WINEP_Inputs!K508","v":"Castle Terrace Hawkhurst CSO"},{"$f":"WINEP_Inputs!CW508","v":"£m"},{"$f":"WINEP_Inputs!CX508","v":1},null,{"$f":" WINEP_Inputs!CR508","v":0},{"$f":" WINEP_Inputs!CS508","v":0},{"$f":" WINEP_Inputs!CT508","v":1},{"$f":" WINEP_Inputs!CU508","v":0},{"$f":" WINEP_Inputs!CV508","v":"WWN"}]
[null,null,{"$f":" WINEP_Inputs!A509","v":"KSL00737"},{"$f":" WINEP_Inputs!J509","v":"7SO400171"},{"$f":" WINEP_Inputs!K509","v":"Coldharbour Lane Hildenborough WPS"},{"$f":"WINEP_Inputs!CW509","v":"£m"},{"$f":"WINEP_Inputs!CX509","v":1},null,{"$f":" WINEP_Inputs!CR509","v":0},{"$f":" WINEP_Inputs!CS509","v":0},{"$f":" WINEP_Inputs!CT509","v":1},{"$f":" WINEP_Inputs!CU509","v":0},{"$f":" WINEP_Inputs!CV509","v":"WWN"}]
[null,null,{"$f":" WINEP_Inputs!A510","v":"KSL00738"},{"$f":" WINEP_Inputs!J510","v":"7SO400172"},{"$f":" WINEP_Inputs!K510","v":"Lingfield WTW"},{"$f":"WINEP_Inputs!CW510","v":"£m"},{"$f":"WINEP_Inputs!CX510","v":1},null,{"$f":" WINEP_Inputs!CR510","v":0},{"$f":" WINEP_Inputs!CS510","v":0},{"$f":" WINEP_Inputs!CT510","v":1},{"$f":" WINEP_Inputs!CU510","v":0},{"$f":" WINEP_Inputs!CV510","v":"WWN"}]
[null,null,{"$f":" WINEP_Inputs!A511","v":"KSL00739"},{"$f":" WINEP_Inputs!J511","v":"7SO400173"},{"$f":" WINEP_Inputs!K511","v":"Cross Lane East Gravesend - TraC"},{"$f":"WINEP_Inputs!CW511","v":"£m"},{"$f":"WINEP_Inputs!CX511","v":1},null,{"$f":" WINEP_Inputs!CR511","v":0},{"$f":" WINEP_Inputs!CS511","v":0},{"$f":" WINEP_Inputs!CT511","v":1},{"$f":" WINEP_Inputs!CU511","v":0},{"$f":" WINEP_Inputs!CV511","v":"WWN"}]
[null,null,{"$f":" WINEP_Inputs!A512","v":"KSL00740"},{"$f":" WINEP_Inputs!J512","v":"7SO400174"},{"$f":" WINEP_Inputs!K512","v":"Station Road Robertsbridge"},{"$f":"WINEP_Inputs!CW512","v":"£m"},{"$f":"WINEP_Inputs!CX512","v":1},null,{"$f":" WINEP_Inputs!CR512","v":0},{"$f":" WINEP_Inputs!CS512","v":0},{"$f":" WINEP_Inputs!CT512","v":1},{"$f":" WINEP_Inputs!CU512","v":0},{"$f":" WINEP_Inputs!CV512","v":"WWN"}]
[null,null,{"$f":" WINEP_Inputs!A513","v":"KSL00741"},{"$f":" WINEP_Inputs!J513","v":"7SO400175"},{"$f":" WINEP_Inputs!K513","v":"St Margaret’s Terrace Rye CEO"},{"$f":"WINEP_Inputs!CW513","v":"£m"},{"$f":"WINEP_Inputs!CX513","v":1},null,{"$f":" WINEP_Inputs!CR513","v":0},{"$f":" WINEP_Inputs!CS513","v":0},{"$f":" WINEP_Inputs!CT513","v":1},{"$f":" WINEP_Inputs!CU513","v":0},{"$f":" WINEP_Inputs!CV513","v":"WWN"}]
[null,null,{"$f":" WINEP_Inputs!A514","v":"KSL00742"},{"$f":" WINEP_Inputs!J514","v":"7SO400176"},{"$f":" WINEP_Inputs!K514","v":"Penshurst WTW"},{"$f":"WINEP_Inputs!CW514","v":"£m"},{"$f":"WINEP_Inputs!CX514","v":1},null,{"$f":" WINEP_Inputs!CR514","v":0},{"$f":" WINEP_Inputs!CS514","v":0},{"$f":" WINEP_Inputs!CT514","v":1},{"$f":" WINEP_Inputs!CU514","v":0},{"$f":" WINEP_Inputs!CV514","v":"WWN"}]
[null,null,{"$f":" WINEP_Inputs!A515","v":"KSL00743"},{"$f":" WINEP_Inputs!J515","v":"7SO400177"},{"$f":" WINEP_Inputs!K515","v":"FRANT WTW"},{"$f":"WINEP_Inputs!CW515","v":"£m"},{"$f":"WINEP_Inputs!CX515","v":1},null,{"$f":" WINEP_Inputs!CR515","v":0},{"$f":" WINEP_Inputs!CS515","v":0},{"$f":" WINEP_Inputs!CT515","v":1},{"$f":" WINEP_Inputs!CU515","v":0},{"$f":" WINEP_Inputs!CV515","v":"WWN"}]
[null,null,{"$f":" WINEP_Inputs!A516","v":"KSL00744"},{"$f":" WINEP_Inputs!J516","v":"7SO400178"},{"$f":" WINEP_Inputs!K516","v":"TUNBRIDGE WELLS SOUTH WTW"},{"$f":"WINEP_Inputs!CW516","v":"£m"},{"$f":"WINEP_Inputs!CX516","v":1},null,{"$f":" WINEP_Inputs!CR516","v":0},{"$f":" WINEP_Inputs!CS516","v":0},{"$f":" WINEP_Inputs!CT516","v":1},{"$f":" WINEP_Inputs!CU516","v":0},{"$f":" WINEP_Inputs!CV516","v":"WWN"}]
[null,null,{"$f":" WINEP_Inputs!A517","v":"SSD00973"},{"$f":" WINEP_Inputs!J517","v":"7SO400179"},{"$f":" WINEP_Inputs!K517","v":"Barnetts Bridge Graffam WPS"},{"$f":"WINEP_Inputs!CW517","v":"£m"},{"$f":"WINEP_Inputs!CX517","v":1},null,{"$f":" WINEP_Inputs!CR517","v":0},{"$f":" WINEP_Inputs!CS517","v":0},{"$f":" WINEP_Inputs!CT517","v":1},{"$f":" WINEP_Inputs!CU517","v":0},{"$f":" WINEP_Inputs!CV517","v":"WWN"}]
[null,null,{"$f":" WINEP_Inputs!A518","v":"SSD00974"},{"$f":" WINEP_Inputs!J518","v":"7SO400180"},{"$f":" WINEP_Inputs!K518","v":"Brockenhurst WTW "},{"$f":"WINEP_Inputs!CW518","v":"£m"},{"$f":"WINEP_Inputs!CX518","v":1},null,{"$f":" WINEP_Inputs!CR518","v":0},{"$f":" WINEP_Inputs!CS518","v":0},{"$f":" WINEP_Inputs!CT518","v":1},{"$f":" WINEP_Inputs!CU518","v":0},{"$f":" WINEP_Inputs!CV518","v":"WWN"}]
[null,null,{"$f":" WINEP_Inputs!A519","v":"SSD00975"},{"$f":" WINEP_Inputs!J519","v":"7SO400181"},{"$f":" WINEP_Inputs!K519","v":"Goddards Green WTW"},{"$f":"WINEP_Inputs!CW519","v":"£m"},{"$f":"WINEP_Inputs!CX519","v":1},null,{"$f":" WINEP_Inputs!CR519","v":0},{"$f":" WINEP_Inputs!CS519","v":0},{"$f":" WINEP_Inputs!CT519","v":1},{"$f":" WINEP_Inputs!CU519","v":0},{"$f":" WINEP_Inputs!CV519","v":"WWN"}]
[null,null,{"$f":" WINEP_Inputs!A520","v":"SSD00976"},{"$f":" WINEP_Inputs!J520","v":"7SO400182"},{"$f":" WINEP_Inputs!K520","v":"Grayswood WTW"},{"$f":"WINEP_Inputs!CW520","v":"£m"},{"$f":"WINEP_Inputs!CX520","v":1},null,{"$f":" WINEP_Inputs!CR520","v":0},{"$f":" WINEP_Inputs!CS520","v":0},{"$f":" WINEP_Inputs!CT520","v":1},{"$f":" WINEP_Inputs!CU520","v":0},{"$f":" WINEP_Inputs!CV520","v":"WWN"}]
[null,null,{"$f":" WINEP_Inputs!A521","v":"SSD00977"},{"$f":" WINEP_Inputs!J521","v":"7SO400183"},{"$f":" WINEP_Inputs!K521","v":"Heathen Lane Durley WPS"},{"$f":"WINEP_Inputs!CW521","v":"£m"},{"$f":"WINEP_Inputs!CX521","v":1},null,{"$f":" WINEP_Inputs!CR521","v":0},{"$f":" WINEP_Inputs!CS521","v":0},{"$f":" WINEP_Inputs!CT521","v":1},{"$f":" WINEP_Inputs!CU521","v":0},{"$f":" WINEP_Inputs!CV521","v":"WWN"}]
[null,null,{"$f":" WINEP_Inputs!A522","v":"SSD00978"},{"$f":" WINEP_Inputs!J522","v":"7SO400184"},{"$f":" WINEP_Inputs!K522","v":"Rookley WPS"},{"$f":"WINEP_Inputs!CW522","v":"£m"},{"$f":"WINEP_Inputs!CX522","v":1},null,{"$f":" WINEP_Inputs!CR522","v":0},{"$f":" WINEP_Inputs!CS522","v":0},{"$f":" WINEP_Inputs!CT522","v":1},{"$f":" WINEP_Inputs!CU522","v":0},{"$f":" WINEP_Inputs!CV522","v":"WWN"}]
[null,null,{"$f":" WINEP_Inputs!A523","v":"SSD00979"},{"$f":" WINEP_Inputs!J523","v":"7SO400185"},{"$f":" WINEP_Inputs!K523","v":"Pulborough WTW"},{"$f":"WINEP_Inputs!CW523","v":"£m"},{"$f":"WINEP_Inputs!CX523","v":1},null,{"$f":" WINEP_Inputs!CR523","v":0},{"$f":" WINEP_Inputs!CS523","v":0},{"$f":" WINEP_Inputs!CT523","v":1},{"$f":" WINEP_Inputs!CU523","v":0},{"$f":" WINEP_Inputs!CV523","v":"WWN"}]
[null,null,{"$f":" WINEP_Inputs!A524","v":"SSD00980"},{"$f":" WINEP_Inputs!J524","v":"7SO400186"},{"$f":" WINEP_Inputs!K524","v":"Stockbridge WTW "},{"$f":"WINEP_Inputs!CW524","v":"£m"},{"$f":"WINEP_Inputs!CX524","v":1},null,{"$f":" WINEP_Inputs!CR524","v":0},{"$f":" WINEP_Inputs!CS524","v":0},{"$f":" WINEP_Inputs!CT524","v":1},{"$f":" WINEP_Inputs!CU524","v":0},{"$f":" WINEP_Inputs!CV524","v":"WWN"}]
[null,null,{"$f":" WINEP_Inputs!A525","v":"SSD00981"},{"$f":" WINEP_Inputs!J525","v":"7SO400187"},{"$f":" WINEP_Inputs!K525","v":"Ham Lane Lewes New WPS"},{"$f":"WINEP_Inputs!CW525","v":"£m"},{"$f":"WINEP_Inputs!CX525","v":1},null,{"$f":" WINEP_Inputs!CR525","v":0},{"$f":" WINEP_Inputs!CS525","v":0},{"$f":" WINEP_Inputs!CT525","v":1},{"$f":" WINEP_Inputs!CU525","v":0},{"$f":" WINEP_Inputs!CV525","v":"WWN"}]
[null,null,{"$f":" WINEP_Inputs!A526","v":"SSD00982"},{"$f":" WINEP_Inputs!J526","v":"7SO400188"},{"$f":" WINEP_Inputs!K526","v":"Marine Drive Brighton - TraC"},{"$f":"WINEP_Inputs!CW526","v":"£m"},{"$f":"WINEP_Inputs!CX526","v":1},null,{"$f":" WINEP_Inputs!CR526","v":0},{"$f":" WINEP_Inputs!CS526","v":0},{"$f":" WINEP_Inputs!CT526","v":1},{"$f":" WINEP_Inputs!CU526","v":0},{"$f":" WINEP_Inputs!CV526","v":"WWN"}]
[null,null,{"$f":" WINEP_Inputs!A527","v":"SSD00983"},{"$f":" WINEP_Inputs!J527","v":"7SO400189"},{"$f":" WINEP_Inputs!K527","v":"The Spots Alfriston PS"},{"$f":"WINEP_Inputs!CW527","v":"£m"},{"$f":"WINEP_Inputs!CX527","v":1},null,{"$f":" WINEP_Inputs!CR527","v":0},{"$f":" WINEP_Inputs!CS527","v":0},{"$f":" WINEP_Inputs!CT527","v":1},{"$f":" WINEP_Inputs!CU527","v":0},{"$f":" WINEP_Inputs!CV527","v":"WWN"}]
[null,null,{"$f":" WINEP_Inputs!A528","v":"SSD00984"},{"$f":" WINEP_Inputs!J528","v":"7SO400190"},{"$f":" WINEP_Inputs!K528","v":"DANEHILL WTW"},{"$f":"WINEP_Inputs!CW528","v":"£m"},{"$f":"WINEP_Inputs!CX528","v":1},null,{"$f":" WINEP_Inputs!CR528","v":0},{"$f":" WINEP_Inputs!CS528","v":0},{"$f":" WINEP_Inputs!CT528","v":1},{"$f":" WINEP_Inputs!CU528","v":0},{"$f":" WINEP_Inputs!CV528","v":"WWN"}]
[null,null,{"$f":" WINEP_Inputs!A529","v":"SSD00985"},{"$f":" WINEP_Inputs!J529","v":"7SO400191"},{"$f":" WINEP_Inputs!K529","v":"LAVANT WTW"},{"$f":"WINEP_Inputs!CW529","v":"£m"},{"$f":"WINEP_Inputs!CX529","v":1},null,{"$f":" WINEP_Inputs!CR529","v":0},{"$f":" WINEP_Inputs!CS529","v":0},{"$f":" WINEP_Inputs!CT529","v":1},{"$f":" WINEP_Inputs!CU529","v":0},{"$f":" WINEP_Inputs!CV529","v":"WWN"}]
[null,null,{"$f":" WINEP_Inputs!A530","v":"SSD00986"},{"$f":" WINEP_Inputs!J530","v":"7SO400192"},{"$f":" WINEP_Inputs!K530","v":"Newhaven Main STW"},{"$f":"WINEP_Inputs!CW530","v":"£m"},{"$f":"WINEP_Inputs!CX530","v":1},null,{"$f":" WINEP_Inputs!CR530","v":0},{"$f":" WINEP_Inputs!CS530","v":0},{"$f":" WINEP_Inputs!CT530","v":1},{"$f":" WINEP_Inputs!CU530","v":0},{"$f":" WINEP_Inputs!CV530","v":"WWN"}]
[null,null,{"$f":" WINEP_Inputs!A531","v":"THM00790"},{"$f":" WINEP_Inputs!J531","v":"7SO400193"},{"$f":" WINEP_Inputs!K531","v":"REDGATE MILL CROWBOROUGH WTW"},{"$f":"WINEP_Inputs!CW531","v":"£m"},{"$f":"WINEP_Inputs!CX531","v":1},null,{"$f":" WINEP_Inputs!CR531","v":0},{"$f":" WINEP_Inputs!CS531","v":0},{"$f":" WINEP_Inputs!CT531","v":1},{"$f":" WINEP_Inputs!CU531","v":0},{"$f":" WINEP_Inputs!CV531","v":"WWN"}]
[null,null,{"$f":" WINEP_Inputs!A532","v":"SSD00030"},{"$f":" WINEP_Inputs!J532","v":"7SO200195"},{"$f":" WINEP_Inputs!K532","v":"Southern Water PR19 bathing water requirements"},{"$f":"WINEP_Inputs!CW532","v":0},{"$f":"WINEP_Inputs!CX532","v":0},null,{"$f":" WINEP_Inputs!CR532","v":0},{"$f":" WINEP_Inputs!CS532","v":0},{"$f":" WINEP_Inputs!CT532","v":0},{"$f":" WINEP_Inputs!CU532","v":0},{"$f":" WINEP_Inputs!CV532","v":0},{"$f":" IF(K537 = 0, 0, K537 / J537)","v":0}]
[null,null,{"$f":" WINEP_Inputs!A533","v":"SSD00031"},{"$f":" WINEP_Inputs!J533","v":"7SO200196"},{"$f":" WINEP_Inputs!K533","v":"Southern Water PR19 bathing water requirements"},{"$f":"WINEP_Inputs!CW533","v":0},{"$f":"WINEP_Inputs!CX533","v":0},null,{"$f":" WINEP_Inputs!CR533","v":0},{"$f":" WINEP_Inputs!CS533","v":0},{"$f":" WINEP_Inputs!CT533","v":0},{"$f":" WINEP_Inputs!CU533","v":0},{"$f":" WINEP_Inputs!CV533","v":0},0]
[null,null,{"$f":" WINEP_Inputs!A534","v":"SSD00032"},{"$f":" WINEP_Inputs!J534","v":"7SO200197"},{"$f":" WINEP_Inputs!K534","v":"Southern Water PR19 bathing water requirements"},{"$f":"WINEP_Inputs!CW534","v":0},{"$f":"WINEP_Inputs!CX534","v":0},null,{"$f":" WINEP_Inputs!CR534","v":0},{"$f":" WINEP_Inputs!CS534","v":0},{"$f":" WINEP_Inputs!CT534","v":0},{"$f":" WINEP_Inputs!CU534","v":0},{"$f":" WINEP_Inputs!CV534","v":0},0]
[null,null,{"$f":" WINEP_Inputs!A535","v":"SSD00033"},{"$f":" WINEP_Inputs!J535","v":"7SO200198"},{"$f":" WINEP_Inputs!K535","v":"Southern Water PR19 bathing water requirements"},{"$f":"WINEP_Inputs!CW535","v":0},{"$f":"WINEP_Inputs!CX535","v":0},null,{"$f":" WINEP_Inputs!CR535","v":0},{"$f":" WINEP_Inputs!CS535","v":0},{"$f":" WINEP_Inputs!CT535","v":0},{"$f":" WINEP_Inputs!CU535","v":0},{"$f":" WINEP_Inputs!CV535","v":0},0]
[null,null,{"$f":" WINEP_Inputs!A536","v":"SSD00036"},{"$f":" WINEP_Inputs!J536","v":"7SO200201"},{"$f":" WINEP_Inputs!K536","v":"Southern Water PR19 bathing water requirements"},{"$f":"WINEP_Inputs!CW536","v":0},{"$f":"WINEP_Inputs!CX536","v":0},null,{"$f":" WINEP_Inputs!CR536","v":0},{"$f":" WINEP_Inputs!CS536","v":0},{"$f":" WINEP_Inputs!CT536","v":0},{"$f":" WINEP_Inputs!CU536","v":0},{"$f":" WINEP_Inputs!CV536","v":0},0]
[null,null,{"$f":" WINEP_Inputs!A537","v":"SSD00039"},{"$f":" WINEP_Inputs!J537","v":"7SO200204"},{"$f":" WINEP_Inputs!K537","v":"Southern Water PR19 shellfish water requirements"},{"$f":"WINEP_Inputs!CW537","v":0},{"$f":"WINEP_Inputs!CX537","v":0},null,{"$f":" WINEP_Inputs!CR537","v":0},{"$f":" WINEP_Inputs!CS537","v":0},{"$f":" WINEP_Inputs!CT537","v":0},{"$f":" WINEP_Inputs!CU537","v":0},{"$f":" WINEP_Inputs!CV537","v":0},0]
[null,null,{"$f":" WINEP_Inputs!A538","v":"EDM01143"},{"$f":" WINEP_Inputs!J538","v":"7SO200199"},{"$f":" WINEP_Inputs!K538","v":"Southern Water PR19 bathing water requirements"},{"$f":"WINEP_Inputs!CW538","v":0},{"$f":"WINEP_Inputs!CX538","v":0},null,{"$f":" WINEP_Inputs!CR538","v":0},{"$f":" WINEP_Inputs!CS538","v":0},{"$f":" WINEP_Inputs!CT538","v":0},{"$f":" WINEP_Inputs!CU538","v":0},{"$f":" WINEP_Inputs!CV538","v":0},0]
[null,null,{"$f":" WINEP_Inputs!A539","v":"EDM01144"},{"$f":" WINEP_Inputs!J539","v":"7SO200205"},{"$f":" WINEP_Inputs!K539","v":"Southern Water PR19 shellfish water requirements"},{"$f":"WINEP_Inputs!CW539","v":0},{"$f":"WINEP_Inputs!CX539","v":0},null,{"$f":" WINEP_Inputs!CR539","v":0},{"$f":" WINEP_Inputs!CS539","v":0},{"$f":" WINEP_Inputs!CT539","v":0},{"$f":" WINEP_Inputs!CU539","v":0},{"$f":" WINEP_Inputs!CV539","v":0},0]
[null,null,{"$f":" WINEP_Inputs!A540","v":"SSD00573"},{"$f":" WINEP_Inputs!J540","v":"7SO300451"},{"$f":" WINEP_Inputs!K540","v":"Southern Water PR19 flow requirements"},{"$f":"WINEP_Inputs!CW540","v":0},{"$f":"WINEP_Inputs!CX540","v":0},null,{"$f":" WINEP_Inputs!CR540","v":0},{"$f":" WINEP_Inputs!CS540","v":0},{"$f":" WINEP_Inputs!CT540","v":0},{"$f":" WINEP_Inputs!CU540","v":0},{"$f":" WINEP_Inputs!CV540","v":0},0]
[null,null,{"$f":" WINEP_Inputs!A541","v":"SSD00027"},{"$f":" WINEP_Inputs!J541","v":"7SO200192"},{"$f":" WINEP_Inputs!K541","v":"Southern Water PR19 bathing water requirements"},{"$f":"WINEP_Inputs!CW541","v":0},{"$f":"WINEP_Inputs!CX541","v":0},null,{"$f":" WINEP_Inputs!CR541","v":0},{"$f":" WINEP_Inputs!CS541","v":0},{"$f":" WINEP_Inputs!CT541","v":0},{"$f":" WINEP_Inputs!CU541","v":0},{"$f":" WINEP_Inputs!CV541","v":0},0]
[null,null,{"$f":" WINEP_Inputs!A542","v":"SSD00028"},{"$f":" WINEP_Inputs!J542","v":"7SO200193"},{"$f":" WINEP_Inputs!K542","v":"Southern Water PR19 bathing water requirements"},{"$f":"WINEP_Inputs!CW542","v":0},{"$f":"WINEP_Inputs!CX542","v":0},null,{"$f":" WINEP_Inputs!CR542","v":0},{"$f":" WINEP_Inputs!CS542","v":0},{"$f":" WINEP_Inputs!CT542","v":0},{"$f":" WINEP_Inputs!CU542","v":0},{"$f":" WINEP_Inputs!CV542","v":0},0]
[null,null,{"$f":" WINEP_Inputs!A543","v":"SSD00029"},{"$f":" WINEP_Inputs!J543","v":"7SO200194"},{"$f":" WINEP_Inputs!K543","v":"Southern Water PR19 bathing water requirements"},{"$f":"WINEP_Inputs!CW543","v":0},{"$f":"WINEP_Inputs!CX543","v":0},null,{"$f":" WINEP_Inputs!CR543","v":0},{"$f":" WINEP_Inputs!CS543","v":0},{"$f":" WINEP_Inputs!CT543","v":0},{"$f":" WINEP_Inputs!CU543","v":0},{"$f":" WINEP_Inputs!CV543","v":0},0]
[null,null,{"$f":" WINEP_Inputs!A544","v":"SSD00035"},{"$f":" WINEP_Inputs!J544","v":"7SO200200"},{"$f":" WINEP_Inputs!K544","v":"Southern Water PR19 bathing water requirements"},{"$f":"WINEP_Inputs!CW544","v":0},{"$f":"WINEP_Inputs!CX544","v":0},null,{"$f":" WINEP_Inputs!CR544","v":0},{"$f":" WINEP_Inputs!CS544","v":0},{"$f":" WINEP_Inputs!CT544","v":0},{"$f":" WINEP_Inputs!CU544","v":0},{"$f":" WINEP_Inputs!CV544","v":0},0]
[null,null,{"$f":" WINEP_Inputs!A545","v":0},{"$f":" WINEP_Inputs!J545","v":0},{"$f":" WINEP_Inputs!K545","v":0},{"$f":"WINEP_Inputs!CW545","v":0},{"$f":"WINEP_Inputs!CX545","v":0},null,{"$f":" WINEP_Inputs!CR545","v":0},{"$f":" WINEP_Inputs!CS545","v":0},{"$f":" WINEP_Inputs!CT545","v":0},{"$f":" WINEP_Inputs!CU545","v":0},{"$f":" WINEP_Inputs!CV545","v":0},0]
[null,null,{"$f":" WINEP_Inputs!A546","v":0},{"$f":" WINEP_Inputs!J546","v":0},{"$f":" WINEP_Inputs!K546","v":0},{"$f":"WINEP_Inputs!CW546","v":0},{"$f":"WINEP_Inputs!CX546","v":0},null,{"$f":" WINEP_Inputs!CR546","v":0},{"$f":" WINEP_Inputs!CS546","v":0},{"$f":" WINEP_Inputs!CT546","v":0},{"$f":" WINEP_Inputs!CU546","v":0},{"$f":" WINEP_Inputs!CV546","v":0},0]
[null,null,{"$f":" WINEP_Inputs!A547","v":0},{"$f":" WINEP_Inputs!J547","v":0},{"$f":" WINEP_Inputs!K547","v":0},{"$f":"WINEP_Inputs!CW547","v":0},{"$f":"WINEP_Inputs!CX547","v":0},null,{"$f":" WINEP_Inputs!CR547","v":0},{"$f":" WINEP_Inputs!CS547","v":0},{"$f":" WINEP_Inputs!CT547","v":0},{"$f":" WINEP_Inputs!CU547","v":0},{"$f":" WINEP_Inputs!CV547","v":0},0]
[null,null,{"$f":" WINEP_Inputs!A548","v":0},{"$f":" WINEP_Inputs!J548","v":0},{"$f":" WINEP_Inputs!K548","v":0},{"$f":"WINEP_Inputs!CW548","v":0},{"$f":"WINEP_Inputs!CX548","v":0},null,{"$f":" WINEP_Inputs!CR548","v":0},{"$f":" WINEP_Inputs!CS548","v":0},{"$f":" WINEP_Inputs!CT548","v":0},{"$f":" WINEP_Inputs!CU548","v":0},{"$f":" WINEP_Inputs!CV548","v":0},0]
[null,null,{"$f":" WINEP_Inputs!A549","v":0},{"$f":" WINEP_Inputs!J549","v":0},{"$f":" WINEP_Inputs!K549","v":0},{"$f":"WINEP_Inputs!CW549","v":0},{"$f":"WINEP_Inputs!CX549","v":0},null,{"$f":" WINEP_Inputs!CR549","v":0},{"$f":" WINEP_Inputs!CS549","v":0},{"$f":" WINEP_Inputs!CT549","v":0},{"$f":" WINEP_Inputs!CU549","v":0},{"$f":" WINEP_Inputs!CV549","v":0},0]
[null,null,{"$f":" WINEP_Inputs!A550","v":0},{"$f":" WINEP_Inputs!J550","v":0},{"$f":" WINEP_Inputs!K550","v":0},{"$f":"WINEP_Inputs!CW550","v":0},{"$f":"WINEP_Inputs!CX550","v":0},null,{"$f":" WINEP_Inputs!CR550","v":0},{"$f":" WINEP_Inputs!CS550","v":0},{"$f":" WINEP_Inputs!CT550","v":0},{"$f":" WINEP_Inputs!CU550","v":0},{"$f":" WINEP_Inputs!CV550","v":0},0]
[null,null,{"$f":" WINEP_Inputs!A551","v":0},{"$f":" WINEP_Inputs!J551","v":0},{"$f":" WINEP_Inputs!K551","v":0},{"$f":"WINEP_Inputs!CW551","v":0},{"$f":"WINEP_Inputs!CX551","v":0},null,{"$f":" WINEP_Inputs!CR551","v":0},{"$f":" WINEP_Inputs!CS551","v":0},{"$f":" WINEP_Inputs!CT551","v":0},{"$f":" WINEP_Inputs!CU551","v":0},{"$f":" WINEP_Inputs!CV551","v":0},0]
[null,null,{"$f":" WINEP_Inputs!A552","v":0},{"$f":" WINEP_Inputs!J552","v":0},{"$f":" WINEP_Inputs!K552","v":0},{"$f":"WINEP_Inputs!CW552","v":0},{"$f":"WINEP_Inputs!CX552","v":0},null,{"$f":" WINEP_Inputs!CR552","v":0},{"$f":" WINEP_Inputs!CS552","v":0},{"$f":" WINEP_Inputs!CT552","v":0},{"$f":" WINEP_Inputs!CU552","v":0},{"$f":" WINEP_Inputs!CV552","v":0},0]
[null,null,{"$f":" WINEP_Inputs!A553","v":0},{"$f":" WINEP_Inputs!J553","v":0},{"$f":" WINEP_Inputs!K553","v":0},{"$f":"WINEP_Inputs!CW553","v":0},{"$f":"WINEP_Inputs!CX553","v":0},null,{"$f":" WINEP_Inputs!CR553","v":0},{"$f":" WINEP_Inputs!CS553","v":0},{"$f":" WINEP_Inputs!CT553","v":0},{"$f":" WINEP_Inputs!CU553","v":0},{"$f":" WINEP_Inputs!CV553","v":0},0]
[null,null,{"$f":" WINEP_Inputs!A554","v":0},{"$f":" WINEP_Inputs!J554","v":0},{"$f":" WINEP_Inputs!K554","v":0},{"$f":"WINEP_Inputs!CW554","v":0},{"$f":"WINEP_Inputs!CX554","v":0},null,{"$f":" WINEP_Inputs!CR554","v":0},{"$f":" WINEP_Inputs!CS554","v":0},{"$f":" WINEP_Inputs!CT554","v":0},{"$f":" WINEP_Inputs!CU554","v":0},{"$f":" WINEP_Inputs!CV554","v":0},0]
[]
[]
["End of sheet"]

{"sheet":"WINEP_Allowance","index":11,"n_rows":578,"n_cols":22,"rows_kept":578,"cut":false,"hidden":false,"merged":[]}
[{"$f":" RIGHT(CELL(\"filename\", $A$1), LEN(CELL(\"filename\", $A$1)) - SEARCH(\"]\", CELL(\"filename\", $A$1)))","v":{"$error":"#VALUE!"}}]
[null,null,null,null,null,{"$f":"Check!F2","v":0},"Checks"]
[null,null,null,null,null,{"$f":"Check!F3","v":3},"Track chgs"]
[]
["CALCULATION OF ADJUSTED ALLOWED COST FOR CONFIRMED SCHEMES"]
[]
["List of Amber Schemes"]
[null,"Calculate the adjusted allowed cost per scheme, £m and the WINEP reconciliation per control, £m"]
[null,null,null,null,null,null,null,null,null,null,null,null,null,null,null,null,null,"WR","WN","WWN","BR","DMY"]
[null,null,{"$f":" WINEP_Schemes!C9","v":"WINEPID"},{"$f":" WINEP_Schemes!D9","v":"Unique ID"},{"$f":" WINEP_Schemes!E9","v":"Scheme category / name"},{"$f":" WINEP_Schemes!F9","v":"Unit"},{"$f":" WINEP_Schemes!G9","v":"Unit Conversion to £m"},{"$f":" WINEP_Schemes!H9","v":0},{"$f":" WINEP_Schemes!J9","v":"Quantity in PR19 FD"},{"$f":" WINEP_Schemes!I9","v":"Allowed totex unit rate"},{"$f":" WINEP_Schemes!K9","v":"Quantity Delivered"},{"$f":" WINEP_Schemes!L9","v":"1 = In FD, funded\n0 = In FD, not funded"},{"$f":" WINEP_Schemes!M9","v":"Price Control"},{"$f":" WINEP_Schemes!N9","v":"Proportion Confirmed"},"FD Allowance, £m","Adjusted Allowance (Delivered), £m","WINEP Reconciliation, £m","Water Resources £m","Water Network £m","Wastewater Network £m","Bioresources £m","Dummy £m"]
[null,null,{"$f":"WINEP_Schemes!C10","v":"SSD00101"},{"$f":"WINEP_Schemes!D10","v":"7SO200246"},{"$f":"WINEP_Schemes!E10","v":"ANDOVER (ANTON AND PILLHILL BROOK RSA)"},{"$f":"WINEP_Schemes!F10","v":"£m per scheme"},{"$f":"WINEP_Schemes!G10","v":1},{"$f":"WINEP_Schemes!H10","v":0},{"$f":"WINEP_Schemes!J10","v":1},{"$f":"WINEP_Schemes!I10","v":9.8000000000000004E-2},{"$f":"WINEP_Schemes!K10","v":1},{"$f":"WINEP_Schemes!L10","v":1},{"$f":"WINEP_Schemes!M10","v":"WR"},{"$f":"WINEP_Schemes!N10","v":1},{"$f":" I11 * J11 * G11","v":9.8000000000000004E-2},{"$f":" N11 * O11","v":9.8000000000000004E-2},{"$f":" IF(L11 = 0, P11, (N11 - 1) * O11)","v":0},{"$f":" IF($M11 = R$9, $Q11, 0)","v":0},{"$f":" IF($M11 = S$9, $Q11, 0)","v":0},{"$f":" IF($M11 = T$9, $Q11, 0)","v":0},{"$f":" IF($M11 = U$9, $Q11, 0)","v":0},{"$f":" IF($M11 = V$9, $Q11, 0)","v":0}]
[null,null,{"$f":"WINEP_Schemes!C11","v":"SSD00109"},{"$f":"WINEP_Schemes!D11","v":"7SO1000193"},{"$f":"WINEP_Schemes!E11","v":"CARISBROOKE (PLAISH MEADOWS AND LUKELY BROOK RSA)"},{"$f":"WINEP_Schemes!F11","v":"£m per scheme"},{"$f":"WINEP_Schemes!G11","v":1},{"$f":"WINEP_Schemes!H11","v":0},{"$f":"WINEP_Schemes!J11","v":1},{"$f":"WINEP_Schemes!I11","v":9.8000000000000004E-2},{"$f":"WINEP_Schemes!K11","v":1},{"$f":"WINEP_Schemes!L11","v":1},{"$f":"WINEP_Schemes!M11","v":"WR"},{"$f":"WINEP_Schemes!N11","v":1},{"$f":" I12 * J12 * G12","v":9.8000000000000004E-2},{"$f":" N12 * O12","v":9.8000000000000004E-2},{"$f":" IF(L12 = 0, P12, (N12 - 1) * O12)","v":0},{"$f":" IF($M12 = R$9, $Q12, 0)","v":0},0,0,0,0]
[null,null,{"$f":"WINEP_Schemes!C12","v":"SSD00110"},{"$f":"WINEP_Schemes!D12","v":"7SO1000194"},{"$f":"WINEP_Schemes!E12","v":"BOWCOMBE (PLAISH MEADOWS AND LUKELY BROOK RSA) "},{"$f":"WINEP_Schemes!F12","v":"£m per scheme"},{"$f":"WINEP_Schemes!G12","v":1},{"$f":"WINEP_Schemes!H12","v":0},{"$f":"WINEP_Schemes!J12","v":1},{"$f":"WINEP_Schemes!I12","v":9.8000000000000004E-2},{"$f":"WINEP_Schemes!K12","v":1},{"$f":"WINEP_Schemes!L12","v":1},{"$f":"WINEP_Schemes!M12","v":"WR"},{"$f":"WINEP_Schemes!N12","v":1},{"$f":" I13 * J13 * G13","v":9.8000000000000004E-2},{"$f":" N13 * O13","v":9.8000000000000004E-2},{"$f":" IF(L13 = 0, P13, (N13 - 1) * O13)","v":0},0,0,0,0,0]
[null,null,{"$f":"WINEP_Schemes!C13","v":"SSD00177"},{"$f":"WINEP_Schemes!D13","v":"7SO200256"},{"$f":"WINEP_Schemes!E13","v":"Investigation to determine the costs and technical feasibility of reaching or maintaining revised CSMG water quality targets for the Lymington River SSSI. "},{"$f":"WINEP_Schemes!F13","v":"£m"},{"$f":"WINEP_Schemes!G13","v":1},{"$f":"WINEP_Schemes!H13","v":0},{"$f":"WINEP_Schemes!J13","v":1},{"$f":"WINEP_Schemes!I13","v":0.114},{"$f":"WINEP_Schemes!K13","v":1},{"$f":"WINEP_Schemes!L13","v":1},{"$f":"WINEP_Schemes!M13","v":"WWN"},{"$f":"WINEP_Schemes!N13","v":1},{"$f":" I14 * J14 * G14","v":0.114},{"$f":" N14 * O14","v":0.114},{"$f":" IF(L14 = 0, P14, (N14 - 1) * O14)","v":0},0,0,0,0,0]
[null,null,{"$f":"WINEP_Schemes!C14","v":"SSD00199"},{"$f":"WINEP_Schemes!D14","v":"7SO200272"},{"$f":"WINEP_Schemes!E14","v":"River Itchen Wetlands"},{"$f":"WINEP_Schemes!F14","v":"£m per scheme"},{"$f":"WINEP_Schemes!G14","v":1},{"$f":"WINEP_Schemes!H14","v":0},{"$f":"WINEP_Schemes!J14","v":1},{"$f":"WINEP_Schemes!I14","v":0.11},{"$f":"WINEP_Schemes!K14","v":1},{"$f":"WINEP_Schemes!L14","v":1},{"$f":"WINEP_Schemes!M14","v":"WR"},{"$f":"WINEP_Schemes!N14","v":1},0.11,0.11,0,0,0,0,0,0]
[null,null,{"$f":"WINEP_Schemes!C15","v":"SSD00202"},{"$f":"WINEP_Schemes!D15","v":"7SO200274"},{"$f":"WINEP_Schemes!E15","v":"River Itchen Southern Damselfly investigation/options appraisal"},{"$f":"WINEP_Schemes!F15","v":"£m per scheme"},{"$f":"WINEP_Schemes!G15","v":1},{"$f":"WINEP_Schemes!H15","v":0},{"$f":"WINEP_Schemes!J15","v":1},{"$f":"WINEP_Schemes!I15","v":0.11},{"$f":"WINEP_Schemes!K15","v":1},{"$f":"WINEP_Schemes!L15","v":1},{"$f":"WINEP_Schemes!M15","v":"WR"},{"$f":"WINEP_Schemes!N15","v":1},0.11,0.11,0,0,0,0,0,0]
[null,null,{"$f":"WINEP_Schemes!C16","v":"SSD00327"},{"$f":"WINEP_Schemes!D16","v":"7SO200340"},{"$f":"WINEP_Schemes!E16","v":"Buriton WWTW"},{"$f":"WINEP_Schemes!F16","v":"£m"},{"$f":"WINEP_Schemes!G16","v":1},{"$f":"WINEP_Schemes!H16","v":0},{"$f":"WINEP_Schemes!J16","v":1},{"$f":"WINEP_Schemes!I16","v":1.1659999999999999},{"$f":"WINEP_Schemes!K16","v":1},{"$f":"WINEP_Schemes!L16","v":1},{"$f":"WINEP_Schemes!M16","v":"WWN"},{"$f":"WINEP_Schemes!N16","v":1},{"$f":" I17 * J17 * G17","v":1.1659999999999999},{"$f":" N17 * O17","v":1.1659999999999999},{"$f":" IF(L17 = 0, P17, (N17 - 1) * O17)","v":0},0,0,0,0,0]
[null,null,{"$f":"WINEP_Schemes!C17","v":"SSD00396"},{"$f":"WINEP_Schemes!D17","v":"7SO200409"},{"$f":"WINEP_Schemes!E17","v":"Chiddingfold WWTW"},{"$f":"WINEP_Schemes!F17","v":"£m"},{"$f":"WINEP_Schemes!G17","v":1},{"$f":"WINEP_Schemes!H17","v":0},{"$f":"WINEP_Schemes!J17","v":1},{"$f":"WINEP_Schemes!I17","v":1.1659999999999999},{"$f":"WINEP_Schemes!K17","v":1},{"$f":"WINEP_Schemes!L17","v":1},{"$f":"WINEP_Schemes!M17","v":"WWN"},{"$f":"WINEP_Schemes!N17","v":1},1.1659999999999999,1.1659999999999999,0,0,0,0,0,0]
[null,null,{"$f":"WINEP_Schemes!C18","v":"SSD00334"},{"$f":"WINEP_Schemes!D18","v":"7SO200347"},{"$f":"WINEP_Schemes!E18","v":"Ashington WWTW"},{"$f":"WINEP_Schemes!F18","v":"£m"},{"$f":"WINEP_Schemes!G18","v":1},{"$f":"WINEP_Schemes!H18","v":0},{"$f":"WINEP_Schemes!J18","v":1},{"$f":"WINEP_Schemes!I18","v":180.98836241500001},{"$f":"WINEP_Schemes!K18","v":1},{"$f":"WINEP_Schemes!L18","v":1},{"$f":"WINEP_Schemes!M18","v":"WWN"},{"$f":"WINEP_Schemes!N18","v":1},180.98836241500001,180.98836241500001,0,0,0,0,0,0]
[null,null,{"$f":"WINEP_Schemes!C19","v":"SSD00335"},{"$f":"WINEP_Schemes!D19","v":"7SO200348"},{"$f":"WINEP_Schemes!E19","v":"Balcombe WWTW"},{"$f":"WINEP_Schemes!F19","v":"£m"},{"$f":"WINEP_Schemes!G19","v":1},{"$f":"WINEP_Schemes!H19","v":0},{"$f":"WINEP_Schemes!J19","v":1},{"$f":"WINEP_Schemes!I19","v":0},{"$f":"WINEP_Schemes!K19","v":1},{"$f":"WINEP_Schemes!L19","v":1},{"$f":"WINEP_Schemes!M19","v":"WWN"},{"$f":"WINEP_Schemes!N19","v":1},0,0,0,0,0,0,0,0]
[null,null,{"$f":"WINEP_Schemes!C20","v":"SSD00336"},{"$f":"WINEP_Schemes!D20","v":"7SO200349"},{"$f":"WINEP_Schemes!E20","v":"Barcombe New WWTW"},{"$f":"WINEP_Schemes!F20","v":"£m"},{"$f":"WINEP_Schemes!G20","v":1},{"$f":"WINEP_Schemes!H20","v":0},{"$f":"WINEP_Schemes!J20","v":1},{"$f":"WINEP_Schemes!I20","v":0},{"$f":"WINEP_Schemes!K20","v":1},{"$f":"WINEP_Schemes!L20","v":1},{"$f":"WINEP_Schemes!M20","v":"WWN"},{"$f":"WINEP_Schemes!N20","v":1},0,0,0,0,0,0,0,0]
[null,null,{"$f":"WINEP_Schemes!C21","v":"SSD00338"},{"$f":"WINEP_Schemes!D21","v":"7SO200351"},{"$f":"WINEP_Schemes!E21","v":"Bishops Waltham WWTW"},{"$f":"WINEP_Schemes!F21","v":"£m"},{"$f":"WINEP_Schemes!G21","v":1},{"$f":"WINEP_Schemes!H21","v":0},{"$f":"WINEP_Schemes!J21","v":1},{"$f":"WINEP_Schemes!I21","v":0},{"$f":"WINEP_Schemes!K21","v":1},{"$f":"WINEP_Schemes!L21","v":1},{"$f":"WINEP_Schemes!M21","v":"WWN"},{"$f":"WINEP_Schemes!N21","v":1},0,0,0,0,0,0,0,0]
[null,null,{"$f":"WINEP_Schemes!C22","v":"SSD00339"},{"$f":"WINEP_Schemes!D22","v":"7SO200352"},{"$f":"WINEP_Schemes!E22","v":"Blackstone WWTW"},{"$f":"WINEP_Schemes!F22","v":"£m"},{"$f":"WINEP_Schemes!G22","v":1},{"$f":"WINEP_Schemes!H22","v":0},{"$f":"WINEP_Schemes!J22","v":1},{"$f":"WINEP_Schemes!I22","v":0},{"$f":"WINEP_Schemes!K22","v":1},{"$f":"WINEP_Schemes!L22","v":1},{"$f":"WINEP_Schemes!M22","v":"WWN"},{"$f":"WINEP_Schemes!N22","v":1},0,0,0,0,0,0,0,0]
[null,null,{"$f":"WINEP_Schemes!C23","v":"SSD00340"},{"$f":"WINEP_Schemes!D23","v":"7SO200353"},{"$f":"WINEP_Schemes!E23","v":"Boldre WWTW"},{"$f":"WINEP_Schemes!F23","v":"£m"},{"$f":"WINEP_Schemes!G23","v":1},{"$f":"WINEP_Schemes!H23","v":0},{"$f":"WINEP_Schemes!J23","v":1},{"$f":"WINEP_Schemes!I23","v":0},{"$f":"WINEP_Schemes!K23","v":1},{"$f":"WINEP_Schemes!L23","v":1},{"$f":"WINEP_Schemes!M23","v":"WWN"},{"$f":"WINEP_Schemes!N23","v":1},0,0,0,0,0,0,0,0]
[null,null,{"$f":"WINEP_Schemes!C24","v":"SSD00341"},{"$f":"WINEP_Schemes!D24","v":"7SO200354"},{"$f":"WINEP_Schemes!E24","v":"Brockenhurst WWTW"},{"$f":"WINEP_Schemes!F24","v":"£m"},{"$f":"WINEP_Schemes!G24","v":1},{"$f":"WINEP_Schemes!H24","v":0},{"$f":"WINEP_Schemes!J24","v":1},{"$f":"WINEP_Schemes!I24","v":0},{"$f":"WINEP_Schemes!K24","v":1},{"$f":"WINEP_Schemes!L24","v":1},{"$f":"WINEP_Schemes!M24","v":"WWN"},{"$f":"WINEP_Schemes!N24","v":1},0,0,0,0,0,0,0,0]
[null,null,{"$f":"WINEP_Schemes!C25","v":"SSD00342"},{"$f":"WINEP_Schemes!D25","v":"7SO200355"},{"$f":"WINEP_Schemes!E25","v":"Buriton WWTW"},{"$f":"WINEP_Schemes!F25","v":"£m"},{"$f":"WINEP_Schemes!G25","v":1},{"$f":"WINEP_Schemes!H25","v":0},{"$f":"WINEP_Schemes!J25","v":1},{"$f":"WINEP_Schemes!I25","v":0},{"$f":"WINEP_Schemes!K25","v":1},{"$f":"WINEP_Schemes!L25","v":1},{"$f":"WINEP_Schemes!M25","v":"WWN"},{"$f":"WINEP_Schemes!N25","v":1},0,0,0,0,0,0,0,0]
[null,null,{"$f":"WINEP_Schemes!C26","v":"SSD00343"},{"$f":"WINEP_Schemes!D26","v":"7SO200356"},{"$f":"WINEP_Schemes!E26","v":"Calbourne WWTW"},{"$f":"WINEP_Schemes!F26","v":"£m"},{"$f":"WINEP_Schemes!G26","v":1},{"$f":"WINEP_Schemes!H26","v":0},{"$f":"WINEP_Schemes!J26","v":1},{"$f":"WINEP_Schemes!I26","v":0},{"$f":"WINEP_Schemes!K26","v":1},{"$f":"WINEP_Schemes!L26","v":1},{"$f":"WINEP_Schemes!M26","v":"WWN"},{"$f":"WINEP_Schemes!N26","v":1},0,0,0,0,0,0,0,0]
[null,null,{"$f":"WINEP_Schemes!C27","v":"SSD00344"},{"$f":"WINEP_Schemes!D27","v":"7SO200357"},{"$f":"WINEP_Schemes!E27","v":"Chiddingfold WWTW"},{"$f":"WINEP_Schemes!F27","v":"£m"},{"$f":"WINEP_Schemes!G27","v":1},{"$f":"WINEP_Schemes!H27","v":0},{"$f":"WINEP_Schemes!J27","v":1},{"$f":"WINEP_Schemes!I27","v":0},{"$f":"WINEP_Schemes!K27","v":1},{"$f":"WINEP_Schemes!L27","v":1},{"$f":"WINEP_Schemes!M27","v":"WWN"},{"$f":"WINEP_Schemes!N27","v":1},0,0,0,{"$f":" IF($M28 = R$9, $Q28, 0)","v":0},0,0,0,0]
[null,null,{"$f":"WINEP_Schemes!C28","v":"SSD00346"},{"$f":"WINEP_Schemes!D28","v":"7SO200359"},{"$f":"WINEP_Schemes!E28","v":"East Boldre WWTW"},{"$f":"WINEP_Schemes!F28","v":"£m"},{"$f":"WINEP_Schemes!G28","v":1},{"$f":"WINEP_Schemes!H28","v":0},{"$f":"WINEP_Schemes!J28","v":1},{"$f":"WINEP_Schemes!I28","v":0},{"$f":"WINEP_Schemes!K28","v":1},{"$f":"WINEP_Schemes!L28","v":1},{"$f":"WINEP_Schemes!M28","v":"WWN"},{"$f":"WINEP_Schemes!N28","v":1},0,0,0,0,0,0,0,0]
[null,null,{"$f":"WINEP_Schemes!C29","v":"SSD00347"},{"$f":"WINEP_Schemes!D29","v":"7SO200360"},{"$f":"WINEP_Schemes!E29","v":"East Meon WWTW"},{"$f":"WINEP_Schemes!F29","v":"£m"},{"$f":"WINEP_Schemes!G29","v":1},{"$f":"WINEP_Schemes!H29","v":0},{"$f":"WINEP_Schemes!J29","v":1},{"$f":"WINEP_Schemes!I29","v":0},{"$f":"WINEP_Schemes!K29","v":1},{"$f":"WINEP_Schemes!L29","v":1},{"$f":"WINEP_Schemes!M29","v":"WWN"},{"$f":"WINEP_Schemes!N29","v":1},0,0,0,0,0,0,0,0]
[null,null,{"$f":"WINEP_Schemes!C30","v":"SSD00349"},{"$f":"WINEP_Schemes!D30","v":"7SO200362"},{"$f":"WINEP_Schemes!E30","v":"Flexford Lane Sway WWTW"},{"$f":"WINEP_Schemes!F30","v":"£m"},{"$f":"WINEP_Schemes!G30","v":1},{"$f":"WINEP_Schemes!H30","v":0},{"$f":"WINEP_Schemes!J30","v":1},{"$f":"WINEP_Schemes!I30","v":0},{"$f":"WINEP_Schemes!K30","v":1},{"$f":"WINEP_Schemes!L30","v":1},{"$f":"WINEP_Schemes!M30","v":"WWN"},{"$f":"WINEP_Schemes!N30","v":1},0,0,0,0,0,0,0,0]
[null,null,{"$f":"WINEP_Schemes!C31","v":"SSD00350"},{"$f":"WINEP_Schemes!D31","v":"7SO200363"},{"$f":"WINEP_Schemes!E31","v":"Forest Green WWTW"},{"$f":"WINEP_Schemes!F31","v":"£m"},{"$f":"WINEP_Schemes!G31","v":1},{"$f":"WINEP_Schemes!H31","v":0},{"$f":"WINEP_Schemes!J31","v":1},{"$f":"WINEP_Schemes!I31","v":0},{"$f":"WINEP_Schemes!K31","v":1},{"$f":"WINEP_Schemes!L31","v":1},{"$f":"WINEP_Schemes!M31","v":"WWN"},{"$f":"WINEP_Schemes!N31","v":1},0,0,0,0,0,0,0,0]
[null,null,{"$f":"WINEP_Schemes!C32","v":"SSD00351"},{"$f":"WINEP_Schemes!D32","v":"7SO200364"},{"$f":"WINEP_Schemes!E32","v":"Fulking WWTW"},{"$f":"WINEP_Schemes!F32","v":"£m"},{"$f":"WINEP_Schemes!G32","v":1},{"$f":"WINEP_Schemes!H32","v":0},{"$f":"WINEP_Schemes!J32","v":1},{"$f":"WINEP_Schemes!I32","v":0},{"$f":"WINEP_Schemes!K32","v":1},{"$f":"WINEP_Schemes!L32","v":1},{"$f":"WINEP_Schemes!M32","v":"WWN"},{"$f":"WINEP_Schemes!N32","v":1},0,0,0,0,0,0,0,0]
[null,null,{"$f":"WINEP_Schemes!C33","v":"SSD00352"},{"$f":"WINEP_Schemes!D33","v":"7SO200365"},{"$f":"WINEP_Schemes!E33","v":"Burgess Hill Goddards Green WWTW"},{"$f":"WINEP_Schemes!F33","v":"£m"},{"$f":"WINEP_Schemes!G33","v":1},{"$f":"WINEP_Schemes!H33","v":0},{"$f":"WINEP_Schemes!J33","v":1},{"$f":"WINEP_Schemes!I33","v":0},{"$f":"WINEP_Schemes!K33","v":1},{"$f":"WINEP_Schemes!L33","v":1},{"$f":"WINEP_Schemes!M33","v":"WWN"},{"$f":"WINEP_Schemes!N33","v":1},0,0,0,0,0,0,0,0]
[null,null,{"$f":"WINEP_Schemes!C34","v":"SSD00353"},{"$f":"WINEP_Schemes!D34","v":"7SO200366"},{"$f":"WINEP_Schemes!E34","v":"Godshill WWTW"},{"$f":"WINEP_Schemes!F34","v":"£m"},{"$f":"WINEP_Schemes!G34","v":1},{"$f":"WINEP_Schemes!H34","v":0},{"$f":"WINEP_Schemes!J34","v":1},{"$f":"WINEP_Schemes!I34","v":0},{"$f":"WINEP_Schemes!K34","v":1},{"$f":"WINEP_Schemes!L34","v":1},{"$f":"WINEP_Schemes!M34","v":"WWN"},{"$f":"WINEP_Schemes!N34","v":1},0,0,0,0,0,0,0,0]
[null,null,{"$f":"WINEP_Schemes!C35","v":"SSD00354"},{"$f":"WINEP_Schemes!D35","v":"7SO200367"},{"$f":"WINEP_Schemes!E35","v":"Grayswood WWTW"},{"$f":"WINEP_Schemes!F35","v":"£m"},{"$f":"WINEP_Schemes!G35","v":1},{"$f":"WINEP_Schemes!H35","v":0},{"$f":"WINEP_Schemes!J35","v":1},{"$f":"WINEP_Schemes!I35","v":0},{"$f":"WINEP_Schemes!K35","v":1},{"$f":"WINEP_Schemes!L35","v":1},{"$f":"WINEP_Schemes!M35","v":"WWN"},{"$f":"WINEP_Schemes!N35","v":1},0,0,0,0,0,0,0,0]
[null,null,{"$f":"WINEP_Schemes!C36","v":"SSD00362"},{"$f":"WINEP_Schemes!D36","v":"7SO200375"},{"$f":"WINEP_Schemes!E36","v":"Horsham WWTW"},{"$f":"WINEP_Schemes!F36","v":"£m"},{"$f":"WINEP_Schemes!G36","v":1},{"$f":"WINEP_Schemes!H36","v":0},{"$f":"WINEP_Schemes!J36","v":1},{"$f":"WINEP_Schemes!I36","v":0},{"$f":"WINEP_Schemes!K36","v":1},{"$f":"WINEP_Schemes!L36","v":1},{"$f":"WINEP_Schemes!M36","v":"WWN"},{"$f":"WINEP_Schemes!N36","v":1},0,0,0,0,0,0,0,0]
[null,null,{"$f":"WINEP_Schemes!C37","v":"SSD00365"},{"$f":"WINEP_Schemes!D37","v":"7SO200378"},{"$f":"WINEP_Schemes!E37","v":"Mannings Heath WWTW"},{"$f":"WINEP_Schemes!F37","v":"£m"},{"$f":"WINEP_Schemes!G37","v":1},{"$f":"WINEP_Schemes!H37","v":0},{"$f":"WINEP_Schemes!J37","v":1},{"$f":"WINEP_Schemes!I37","v":0},{"$f":"WINEP_Schemes!K37","v":1},{"$f":"WINEP_Schemes!L37","v":1},{"$f":"WINEP_Schemes!M37","v":"WWN"},{"$f":"WINEP_Schemes!N37","v":1},0,0,0,0,0,0,0,0]
[null,null,{"$f":"WINEP_Schemes!C38","v":"SSD00367"},{"$f":"WINEP_Schemes!D38","v":"7SO200380"},{"$f":"WINEP_Schemes!E38","v":"Northchapel WWTW"},{"$f":"WINEP_Schemes!F38","v":"£m"},{"$f":"WINEP_Schemes!G38","v":1},{"$f":"WINEP_Schemes!H38","v":0},{"$f":"WINEP_Schemes!J38","v":1},{"$f":"WINEP_Schemes!I38","v":0},{"$f":"WINEP_Schemes!K38","v":1},{"$f":"WINEP_Schemes!L38","v":1},{"$f":"WINEP_Schemes!M38","v":"WWN"},{"$f":"WINEP_Schemes!N38","v":1},0,0,0,0,0,0,0,0]
[null,null,{"$f":"WINEP_Schemes!C39","v":"SSD00368"},{"$f":"WINEP_Schemes!D39","v":"7SO200381"},{"$f":"WINEP_Schemes!E39","v":"Ockley West WWTW"},{"$f":"WINEP_Schemes!F39","v":"£m"},{"$f":"WINEP_Schemes!G39","v":1},{"$f":"WINEP_Schemes!H39","v":0},{"$f":"WINEP_Schemes!J39","v":1},{"$f":"WINEP_Schemes!I39","v":0},{"$f":"WINEP_Schemes!K39","v":1},{"$f":"WINEP_Schemes!L39","v":1},{"$f":"WINEP_Schemes!M39","v":"WWN"},{"$f":"WINEP_Schemes!N39","v":1},0,0,0,0,0,0,0,0]
[null,null,{"$f":"WINEP_Schemes!C40","v":"SSD00369"},{"$f":"WINEP_Schemes!D40","v":"7SO200382"},{"$f":"WINEP_Schemes!E40","v":"Handcross WWTW"},{"$f":"WINEP_Schemes!F40","v":"£m"},{"$f":"WINEP_Schemes!G40","v":1},{"$f":"WINEP_Schemes!H40","v":0},{"$f":"WINEP_Schemes!J40","v":1},{"$f":"WINEP_Schemes!I40","v":0},{"$f":"WINEP_Schemes!K40","v":1},{"$f":"WINEP_Schemes!L40","v":1},{"$f":"WINEP_Schemes!M40","v":"WWN"},{"$f":"WINEP_Schemes!N40","v":1},0,0,0,0,0,0,0,0]
[null,null,{"$f":"WINEP_Schemes!C41","v":"SSD00370"},{"$f":"WINEP_Schemes!D41","v":"7SO200383"},{"$f":"WINEP_Schemes!E41","v":"Petersfield WWTW"},{"$f":"WINEP_Schemes!F41","v":"£m"},{"$f":"WINEP_Schemes!G41","v":1},{"$f":"WINEP_Schemes!H41","v":0},{"$f":"WINEP_Schemes!J41","v":1},{"$f":"WINEP_Schemes!I41","v":0},{"$f":"WINEP_Schemes!K41","v":1},{"$f":"WINEP_Schemes!L41","v":1},{"$f":"WINEP_Schemes!M41","v":"WWN"},{"$f":"WINEP_Schemes!N41","v":1},0,0,0,0,0,0,0,0]
[null,null,{"$f":"WINEP_Schemes!C42","v":"SSD00371"},{"$f":"WINEP_Schemes!D42","v":"7SO200384"},{"$f":"WINEP_Schemes!E42","v":"Poynings WWTW"},{"$f":"WINEP_Schemes!F42","v":"£m"},{"$f":"WINEP_Schemes!G42","v":1},{"$f":"WINEP_Schemes!H42","v":0},{"$f":"WINEP_Schemes!J42","v":1},{"$f":"WINEP_Schemes!I42","v":0},{"$f":"WINEP_Schemes!K42","v":1},{"$f":"WINEP_Schemes!L42","v":1},{"$f":"WINEP_Schemes!M42","v":"WWN"},{"$f":"WINEP_Schemes!N42","v":1},0,0,0,0,0,0,0,0]
[null,null,{"$f":"WINEP_Schemes!C43","v":"SSD00372"},{"$f":"WINEP_Schemes!D43","v":"7SO200385"},{"$f":"WINEP_Schemes!E43","v":"Redlynch WWTW"},{"$f":"WINEP_Schemes!F43","v":"£m"},{"$f":"WINEP_Schemes!G43","v":1},{"$f":"WINEP_Schemes!H43","v":0},{"$f":"WINEP_Schemes!J43","v":1},{"$f":"WINEP_Schemes!I43","v":0},{"$f":"WINEP_Schemes!K43","v":1},{"$f":"WINEP_Schemes!L43","v":1},{"$f":"WINEP_Schemes!M43","v":"WWN"},{"$f":"WINEP_Schemes!N43","v":1},0,0,0,0,0,0,0,0]
[null,null,{"$f":"WINEP_Schemes!C44","v":"SSD00373"},{"$f":"WINEP_Schemes!D44","v":"7SO200386"},{"$f":"WINEP_Schemes!E44","v":"Roud WWTW"},{"$f":"WINEP_Schemes!F44","v":"£m"},{"$f":"WINEP_Schemes!G44","v":1},{"$f":"WINEP_Schemes!H44","v":0},{"$f":"WINEP_Schemes!J44","v":1},{"$f":"WINEP_Schemes!I44","v":0},{"$f":"WINEP_Schemes!K44","v":1},{"$f":"WINEP_Schemes!L44","v":1},{"$f":"WINEP_Schemes!M44","v":"WWN"},{"$f":"WINEP_Schemes!N44","v":1},0,0,0,0,0,0,0,0]
[null,null,{"$f":"WINEP_Schemes!C45","v":"SSD00374"},{"$f":"WINEP_Schemes!D45","v":"7SO200387"},{"$f":"WINEP_Schemes!E45","v":"Rudgwick WWTW"},{"$f":"WINEP_Schemes!F45","v":"£m"},{"$f":"WINEP_Schemes!G45","v":1},{"$f":"WINEP_Schemes!H45","v":0},{"$f":"WINEP_Schemes!J45","v":1},{"$f":"WINEP_Schemes!I45","v":0},{"$f":"WINEP_Schemes!K45","v":1},{"$f":"WINEP_Schemes!L45","v":1},{"$f":"WINEP_Schemes!M45","v":"WWN"},{"$f":"WINEP_Schemes!N45","v":1},0,0,0,0,0,0,0,0]
[null,null,{"$f":"WINEP_Schemes!C46","v":"SSD00375"},{"$f":"WINEP_Schemes!D46","v":"7SO200388"},{"$f":"WINEP_Schemes!E46","v":"Scaynes Hill WWTW"},{"$f":"WINEP_Schemes!F46","v":"£m"},{"$f":"WINEP_Schemes!G46","v":1},{"$f":"WINEP_Schemes!H46","v":0},{"$f":"WINEP_Schemes!J46","v":1},{"$f":"WINEP_Schemes!I46","v":0},{"$f":"WINEP_Schemes!K46","v":1},{"$f":"WINEP_Schemes!L46","v":1},{"$f":"WINEP_Schemes!M46","v":"WWN"},{"$f":"WINEP_Schemes!N46","v":1},0,0,0,0,0,0,0,0]
[null,null,{"$f":"WINEP_Schemes!C47","v":"SSD00376"},{"$f":"WINEP_Schemes!D47","v":"7SO200389"},{"$f":"WINEP_Schemes!E47","v":"Shalfeet WWTW"},{"$f":"WINEP_Schemes!F47","v":"£m"},{"$f":"WINEP_Schemes!G47","v":1},{"$f":"WINEP_Schemes!H47","v":0},{"$f":"WINEP_Schemes!J47","v":1},{"$f":"WINEP_Schemes!I47","v":0},{"$f":"WINEP_Schemes!K47","v":1},{"$f":"WINEP_Schemes!L47","v":1},{"$f":"WINEP_Schemes!M47","v":"WWN"},{"$f":"WINEP_Schemes!N47","v":1},0,0,0,0,0,0,0,0]
[null,null,{"$f":"WINEP_Schemes!C48","v":"SSD00378"},{"$f":"WINEP_Schemes!D48","v":"7SO200391"},{"$f":"WINEP_Schemes!E48","v":"Slinfold WWTW"},{"$f":"WINEP_Schemes!F48","v":"£m"},{"$f":"WINEP_Schemes!G48","v":1},{"$f":"WINEP_Schemes!H48","v":0},{"$f":"WINEP_Schemes!J48","v":1},{"$f":"WINEP_Schemes!I48","v":0},{"$f":"WINEP_Schemes!K48","v":1},{"$f":"WINEP_Schemes!L48","v":1},{"$f":"WINEP_Schemes!M48","v":"WWN"},{"$f":"WINEP_Schemes!N48","v":1},0,0,0,0,0,0,0,0]
[null,null,{"$f":"WINEP_Schemes!C49","v":"SSD00379"},{"$f":"WINEP_Schemes!D49","v":"7SO200392"},{"$f":"WINEP_Schemes!E49","v":"Small Dole WWTW"},{"$f":"WINEP_Schemes!F49","v":"£m"},{"$f":"WINEP_Schemes!G49","v":1},{"$f":"WINEP_Schemes!H49","v":0},{"$f":"WINEP_Schemes!J49","v":1},{"$f":"WINEP_Schemes!I49","v":0},{"$f":"WINEP_Schemes!K49","v":1},{"$f":"WINEP_Schemes!L49","v":1},{"$f":"WINEP_Schemes!M49","v":"WWN"},{"$f":"WINEP_Schemes!N49","v":1},0,0,0,0,0,0,0,0]
[null,null,{"$f":"WINEP_Schemes!C50","v":"SSD00380"},{"$f":"WINEP_Schemes!D50","v":"7SO200393"},{"$f":"WINEP_Schemes!E50","v":"South Ambersham WWTW"},{"$f":"WINEP_Schemes!F50","v":"£m"},{"$f":"WINEP_Schemes!G50","v":1},{"$f":"WINEP_Schemes!H50","v":0},{"$f":"WINEP_Schemes!J50","v":1},{"$f":"WINEP_Schemes!I50","v":0},{"$f":"WINEP_Schemes!K50","v":1},{"$f":"WINEP_Schemes!L50","v":1},{"$f":"WINEP_Schemes!M50","v":"WWN"},{"$f":"WINEP_Schemes!N50","v":1},0,0,0,0,0,0,0,0]
[null,null,{"$f":"WINEP_Schemes!C51","v":"SSD00381"},{"$f":"WINEP_Schemes!D51","v":"7SO200394"},{"$f":"WINEP_Schemes!E51","v":"South Harting WWTW"},{"$f":"WINEP_Schemes!F51","v":"£m"},{"$f":"WINEP_Schemes!G51","v":1},{"$f":"WINEP_Schemes!H51","v":0},{"$f":"WINEP_Schemes!J51","v":1},{"$f":"WINEP_Schemes!I51","v":0},{"$f":"WINEP_Schemes!K51","v":1},{"$f":"WINEP_Schemes!L51","v":1},{"$f":"WINEP_Schemes!M51","v":"WWN"},{"$f":"WINEP_Schemes!N51","v":1},0,0,0,0,0,0,0,0]
[null,null,{"$f":"WINEP_Schemes!C52","v":"SSD00382"},{"$f":"WINEP_Schemes!D52","v":"7SO200395"},{"$f":"WINEP_Schemes!E52","v":"Staplefield WWTW"},{"$f":"WINEP_Schemes!F52","v":"£m"},{"$f":"WINEP_Schemes!G52","v":1},{"$f":"WINEP_Schemes!H52","v":0},{"$f":"WINEP_Schemes!J52","v":1},{"$f":"WINEP_Schemes!I52","v":0},{"$f":"WINEP_Schemes!K52","v":1},{"$f":"WINEP_Schemes!L52","v":1},{"$f":"WINEP_Schemes!M52","v":"WWN"},{"$f":"WINEP_Schemes!N52","v":1},0,0,0,0,0,0,0,0]
[null,null,{"$f":"WINEP_Schemes!C53","v":"SSD00383"},{"$f":"WINEP_Schemes!D53","v":"7SO200396"},{"$f":"WINEP_Schemes!E53","v":"Storrington WWTW"},{"$f":"WINEP_Schemes!F53","v":"£m"},{"$f":"WINEP_Schemes!G53","v":1},{"$f":"WINEP_Schemes!H53","v":0},{"$f":"WINEP_Schemes!J53","v":1},{"$f":"WINEP_Schemes!I53","v":0},{"$f":"WINEP_Schemes!K53","v":1},{"$f":"WINEP_Schemes!L53","v":1},{"$f":"WINEP_Schemes!M53","v":"WWN"},{"$f":"WINEP_Schemes!N53","v":1},0,0,0,0,0,0,0,0]
[null,null,{"$f":"WINEP_Schemes!C54","v":"SSD00384"},{"$f":"WINEP_Schemes!D54","v":"7SO200397"},{"$f":"WINEP_Schemes!E54","v":"Pagham WWTW"},{"$f":"WINEP_Schemes!F54","v":"£m"},{"$f":"WINEP_Schemes!G54","v":1},{"$f":"WINEP_Schemes!H54","v":0},{"$f":"WINEP_Schemes!J54","v":1},{"$f":"WINEP_Schemes!I54","v":3.4727780499999881},{"$f":"WINEP_Schemes!K54","v":0},{"$f":"WINEP_Schemes!L54","v":1},{"$f":"WINEP_Schemes!M54","v":"WWN"},{"$f":"WINEP_Schemes!N54","v":0},3.4727780499999881,0,-3.4727780499999881,0,0,-3.4727780499999881,0,0]
[null,null,{"$f":"WINEP_Schemes!C55","v":"SSD00385"},{"$f":"WINEP_Schemes!D55","v":"7SO200398"},{"$f":"WINEP_Schemes!E55","v":"Tangmere WWTW"},{"$f":"WINEP_Schemes!F55","v":"£m"},{"$f":"WINEP_Schemes!G55","v":1},{"$f":"WINEP_Schemes!H55","v":0},{"$f":"WINEP_Schemes!J55","v":1},{"$f":"WINEP_Schemes!I55","v":0},{"$f":"WINEP_Schemes!K55","v":1},{"$f":"WINEP_Schemes!L55","v":1},{"$f":"WINEP_Schemes!M55","v":"WWN"},{"$f":"WINEP_Schemes!N55","v":1},0,0,0,0,0,0,0,0]
[null,null,{"$f":"WINEP_Schemes!C56","v":"SSD00388"},{"$f":"WINEP_Schemes!D56","v":"7SO200401"},{"$f":"WINEP_Schemes!E56","v":"Whiteparish WWTW"},{"$f":"WINEP_Schemes!F56","v":"£m"},{"$f":"WINEP_Schemes!G56","v":1},{"$f":"WINEP_Schemes!H56","v":0},{"$f":"WINEP_Schemes!J56","v":1},{"$f":"WINEP_Schemes!I56","v":0},{"$f":"WINEP_Schemes!K56","v":1},{"$f":"WINEP_Schemes!L56","v":1},{"$f":"WINEP_Schemes!M56","v":"WWN"},{"$f":"WINEP_Schemes!N56","v":1},0,0,0,0,0,0,0,0]
[null,null,{"$f":"WINEP_Schemes!C57","v":"SSD00520"},{"$f":"WINEP_Schemes!D57","v":"7SO200533"},{"$f":"WINEP_Schemes!E57","v":"East End WWTW "},{"$f":"WINEP_Schemes!F57","v":"£m"},{"$f":"WINEP_Schemes!G57","v":1},{"$f":"WINEP_Schemes!H57","v":0},{"$f":"WINEP_Schemes!J57","v":1},{"$f":"WINEP_Schemes!I57","v":0},{"$f":"WINEP_Schemes!K57","v":1},{"$f":"WINEP_Schemes!L57","v":1},{"$f":"WINEP_Schemes!M57","v":"WWN"},{"$f":"WINEP_Schemes!N57","v":1},0,0,0,0,0,0,0,0]
[null,null,{"$f":"WINEP_Schemes!C58","v":"SSD00521"},{"$f":"WINEP_Schemes!D58","v":"7SO200534"},{"$f":"WINEP_Schemes!E58","v":"East End WWTW "},{"$f":"WINEP_Schemes!F58","v":"£m"},{"$f":"WINEP_Schemes!G58","v":1},{"$f":"WINEP_Schemes!H58","v":0},{"$f":"WINEP_Schemes!J58","v":1},{"$f":"WINEP_Schemes!I58","v":0},{"$f":"WINEP_Schemes!K58","v":1},{"$f":"WINEP_Schemes!L58","v":1},{"$f":"WINEP_Schemes!M58","v":"WWN"},{"$f":"WINEP_Schemes!N58","v":1},0,0,0,0,0,0,0,0]
[null,null,{"$f":"WINEP_Schemes!C59","v":"SSD00554"},{"$f":"WINEP_Schemes!D59","v":"7SO300428"},{"$f":"WINEP_Schemes!E59","v":"Horsted Keynes WWTW"},{"$f":"WINEP_Schemes!F59","v":"£m"},{"$f":"WINEP_Schemes!G59","v":1},{"$f":"WINEP_Schemes!H59","v":0},{"$f":"WINEP_Schemes!J59","v":1},{"$f":"WINEP_Schemes!I59","v":0},{"$f":"WINEP_Schemes!K59","v":1},{"$f":"WINEP_Schemes!L59","v":1},{"$f":"WINEP_Schemes!M59","v":"WWN"},{"$f":"WINEP_Schemes!N59","v":1},0,0,0,0,0,0,0,0]
[null,null,{"$f":"WINEP_Schemes!C60","v":"KSL00123"},{"$f":"WINEP_Schemes!D60","v":"7SO200025"},{"$f":"WINEP_Schemes!E60","v":"Bewl-Darwell Transfer - Southern Water"},{"$f":"WINEP_Schemes!F60","v":"£m"},{"$f":"WINEP_Schemes!G60","v":1},{"$f":"WINEP_Schemes!H60","v":0},{"$f":"WINEP_Schemes!J60","v":1},{"$f":"WINEP_Schemes!I60","v":7.2999999999999995E-2},{"$f":"WINEP_Schemes!K60","v":1},{"$f":"WINEP_Schemes!L60","v":1},{"$f":"WINEP_Schemes!M60","v":"WR"},{"$f":"WINEP_Schemes!N60","v":1},7.2999999999999995E-2,7.2999999999999995E-2,0,0,0,0,0,0]
[null,null,{"$f":"WINEP_Schemes!C61","v":"KSL00175"},{"$f":"WINEP_Schemes!D61","v":"7SO200065"},{"$f":"WINEP_Schemes!E61","v":"Battle wwtw"},{"$f":"WINEP_Schemes!F61","v":"£m"},{"$f":"WINEP_Schemes!G61","v":1},{"$f":"WINEP_Schemes!H61","v":0},{"$f":"WINEP_Schemes!J61","v":1},{"$f":"WINEP_Schemes!I61","v":0},{"$f":"WINEP_Schemes!K61","v":1},{"$f":"WINEP_Schemes!L61","v":1},{"$f":"WINEP_Schemes!M61","v":"WWN"},{"$f":"WINEP_Schemes!N61","v":1},0,0,0,0,0,0,0,0]
[null,null,{"$f":"WINEP_Schemes!C62","v":"KSL00178"},{"$f":"WINEP_Schemes!D62","v":"7SO200068"},{"$f":"WINEP_Schemes!E62","v":"Charing wwtw"},{"$f":"WINEP_Schemes!F62","v":"£m"},{"$f":"WINEP_Schemes!G62","v":1},{"$f":"WINEP_Schemes!H62","v":0},{"$f":"WINEP_Schemes!J62","v":1},{"$f":"WINEP_Schemes!I62","v":0},{"$f":"WINEP_Schemes!K62","v":1},{"$f":"WINEP_Schemes!L62","v":1},{"$f":"WINEP_Schemes!M62","v":"WWN"},{"$f":"WINEP_Schemes!N62","v":1},0,0,0,0,0,0,0,0]
[null,null,{"$f":"WINEP_Schemes!C63","v":"KSL00183"},{"$f":"WINEP_Schemes!D63","v":"7SO200073"},{"$f":"WINEP_Schemes!E63","v":"Herne Bay wwtw"},{"$f":"WINEP_Schemes!F63","v":"£m"},{"$f":"WINEP_Schemes!G63","v":1},{"$f":"WINEP_Schemes!H63","v":0},{"$f":"WINEP_Schemes!J63","v":1},{"$f":"WINEP_Schemes!I63","v":0},{"$f":"WINEP_Schemes!K63","v":1},{"$f":"WINEP_Schemes!L63","v":1},{"$f":"WINEP_Schemes!M63","v":"WWN"},{"$f":"WINEP_Schemes!N63","v":1},0,0,0,0,0,0,0,0]
[null,null,{"$f":"WINEP_Schemes!C64","v":"KSL00185"},{"$f":"WINEP_Schemes!D64","v":"7SO200075"},{"$f":"WINEP_Schemes!E64","v":"Lenham wwtw"},{"$f":"WINEP_Schemes!F64","v":"£m"},{"$f":"WINEP_Schemes!G64","v":1},{"$f":"WINEP_Schemes!H64","v":0},{"$f":"WINEP_Schemes!J64","v":1},{"$f":"WINEP_Schemes!I64","v":0},{"$f":"WINEP_Schemes!K64","v":1},{"$f":"WINEP_Schemes!L64","v":1},{"$f":"WINEP_Schemes!M64","v":"WWN"},{"$f":"WINEP_Schemes!N64","v":1},0,0,0,0,0,0,0,0]
[null,null,{"$f":"WINEP_Schemes!C65","v":"KSL00187"},{"$f":"WINEP_Schemes!D65","v":"7SO200077"},{"$f":"WINEP_Schemes!E65","v":"Netherfield wwtw"},{"$f":"WINEP_Schemes!F65","v":"£m"},{"$f":"WINEP_Schemes!G65","v":1},{"$f":"WINEP_Schemes!H65","v":0},{"$f":"WINEP_Schemes!J65","v":1},{"$f":"WINEP_Schemes!I65","v":0},{"$f":"WINEP_Schemes!K65","v":1},{"$f":"WINEP_Schemes!L65","v":1},{"$f":"WINEP_Schemes!M65","v":"WWN"},{"$f":"WINEP_Schemes!N65","v":1},0,0,0,0,0,0,0,0]
[null,null,{"$f":"WINEP_Schemes!C66","v":"KSL00188"},{"$f":"WINEP_Schemes!D66","v":"7SO200078"},{"$f":"WINEP_Schemes!E66","v":"Newnham Valley wwtw"},{"$f":"WINEP_Schemes!F66","v":"£m"},{"$f":"WINEP_Schemes!G66","v":1},{"$f":"WINEP_Schemes!H66","v":0},{"$f":"WINEP_Schemes!J66","v":1},{"$f":"WINEP_Schemes!I66","v":0},{"$f":"WINEP_Schemes!K66","v":1},{"$f":"WINEP_Schemes!L66","v":1},{"$f":"WINEP_Schemes!M66","v":"WWN"},{"$f":"WINEP_Schemes!N66","v":1},0,0,0,0,0,0,0,0]
[null,null,{"$f":"WINEP_Schemes!C67","v":"KSL00189"},{"$f":"WINEP_Schemes!D67","v":"7SO200079"},{"$f":"WINEP_Schemes!E67","v":"Sedlescombe wwtw"},{"$f":"WINEP_Schemes!F67","v":"£m"},{"$f":"WINEP_Schemes!G67","v":1},{"$f":"WINEP_Schemes!H67","v":0},{"$f":"WINEP_Schemes!J67","v":1},{"$f":"WINEP_Schemes!I67","v":0},{"$f":"WINEP_Schemes!K67","v":1},{"$f":"WINEP_Schemes!L67","v":1},{"$f":"WINEP_Schemes!M67","v":"WWN"},{"$f":"WINEP_Schemes!N67","v":1},0,0,0,0,0,0,0,0]
[null,null,{"$f":"WINEP_Schemes!C68","v":"KSL00190"},{"$f":"WINEP_Schemes!D68","v":"7SO200080"},{"$f":"WINEP_Schemes!E68","v":"Sellindge wwtw"},{"$f":"WINEP_Schemes!F68","v":"£m"},{"$f":"WINEP_Schemes!G68","v":1},{"$f":"WINEP_Schemes!H68","v":0},{"$f":"WINEP_Schemes!J68","v":1},{"$f":"WINEP_Schemes!I68","v":0},{"$f":"WINEP_Schemes!K68","v":1},{"$f":"WINEP_Schemes!L68","v":1},{"$f":"WINEP_Schemes!M68","v":"WWN"},{"$f":"WINEP_Schemes!N68","v":1},0,0,0,0,0,0,0,0]
[null,null,{"$f":"WINEP_Schemes!C69","v":"KSL00191"},{"$f":"WINEP_Schemes!D69","v":"7SO200081"},{"$f":"WINEP_Schemes!E69","v":"Shrub Lane (Burwash Village) wwtw"},{"$f":"WINEP_Schemes!F69","v":"£m"},{"$f":"WINEP_Schemes!G69","v":1},{"$f":"WINEP_Schemes!H69","v":0},{"$f":"WINEP_Schemes!J69","v":1},{"$f":"WINEP_Schemes!I69","v":0},{"$f":"WINEP_Schemes!K69","v":1},{"$f":"WINEP_Schemes!L69","v":1},{"$f":"WINEP_Schemes!M69","v":"WWN"},{"$f":"WINEP_Schemes!N69","v":1},0,0,0,0,0,0,0,0]
[null,null,{"$f":"WINEP_Schemes!C70","v":"KSL00192"},{"$f":"WINEP_Schemes!D70","v":"7SO200082"},{"$f":"WINEP_Schemes!E70","v":"Ticehurst wwtw"},{"$f":"WINEP_Schemes!F70","v":"£m"},{"$f":"WINEP_Schemes!G70","v":1},{"$f":"WINEP_Schemes!H70","v":0},{"$f":"WINEP_Schemes!J70","v":1},{"$f":"WINEP_Schemes!I70","v":0},{"$f":"WINEP_Schemes!K70","v":1},{"$f":"WINEP_Schemes!L70","v":1},{"$f":"WINEP_Schemes!M70","v":"WWN"},{"$f":"WINEP_Schemes!N70","v":1},0,0,0,0,0,0,0,0]
[null,null,{"$f":"WINEP_Schemes!C71","v":"KSL00195"},{"$f":"WINEP_Schemes!D71","v":"7SO200085"},{"$f":"WINEP_Schemes!E71","v":"Wingham (Dambridge) wwtw"},{"$f":"WINEP_Schemes!F71","v":"£m"},{"$f":"WINEP_Schemes!G71","v":1},{"$f":"WINEP_Schemes!H71","v":0},{"$f":"WINEP_Schemes!J71","v":1},{"$f":"WINEP_Schemes!I71","v":0},{"$f":"WINEP_Schemes!K71","v":1},{"$f":"WINEP_Schemes!L71","v":1},{"$f":"WINEP_Schemes!M71","v":"WWN"},{"$f":"WINEP_Schemes!N71","v":1},0,0,0,0,0,0,0,0]
[null,null,{"$f":"WINEP_Schemes!C72","v":"KSL00206"},{"$f":"WINEP_Schemes!D72","v":"7SO200096"},{"$f":"WINEP_Schemes!E72","v":"Eden Vale wwtw"},{"$f":"WINEP_Schemes!F72","v":"£m"},{"$f":"WINEP_Schemes!G72","v":1},{"$f":"WINEP_Schemes!H72","v":0},{"$f":"WINEP_Schemes!J72","v":1},{"$f":"WINEP_Schemes!I72","v":0},{"$f":"WINEP_Schemes!K72","v":1},{"$f":"WINEP_Schemes!L72","v":1},{"$f":"WINEP_Schemes!M72","v":"WWN"},{"$f":"WINEP_Schemes!N72","v":1},0,0,0,0,0,0,0,0]
[null,null,{"$f":"WINEP_Schemes!C73","v":"KSL00207"},{"$f":"WINEP_Schemes!D73","v":"7SO200097"},{"$f":"WINEP_Schemes!E73","v":"Edenbridge wwtw"},{"$f":"WINEP_Schemes!F73","v":"£m"},{"$f":"WINEP_Schemes!G73","v":1},{"$f":"WINEP_Schemes!H73","v":0},{"$f":"WINEP_Schemes!J73","v":1},{"$f":"WINEP_Schemes!I73","v":0},{"$f":"WINEP_Schemes!K73","v":1},{"$f":"WINEP_Schemes!L73","v":1},{"$f":"WINEP_Schemes!M73","v":"WWN"},{"$f":"WINEP_Schemes!N73","v":1},0,0,0,0,0,0,0,0]
[null,null,{"$f":"WINEP_Schemes!C74","v":"KSL00208"},{"$f":"WINEP_Schemes!D74","v":"7SO200098"},{"$f":"WINEP_Schemes!E74","v":"Felbridge wwtw"},{"$f":"WINEP_Schemes!F74","v":"£m"},{"$f":"WINEP_Schemes!G74","v":1},{"$f":"WINEP_Schemes!H74","v":0},{"$f":"WINEP_Schemes!J74","v":1},{"$f":"WINEP_Schemes!I74","v":0},{"$f":"WINEP_Schemes!K74","v":1},{"$f":"WINEP_Schemes!L74","v":1},{"$f":"WINEP_Schemes!M74","v":"WWN"},{"$f":"WINEP_Schemes!N74","v":1},0,0,0,0,0,0,0,0]
[null,null,{"$f":"WINEP_Schemes!C75","v":"KSL00212"},{"$f":"WINEP_Schemes!D75","v":"7SO200102"},{"$f":"WINEP_Schemes!E75","v":"Godstone wwtw"},{"$f":"WINEP_Schemes!F75","v":"£m"},{"$f":"WINEP_Schemes!G75","v":1},{"$f":"WINEP_Schemes!H75","v":0},{"$f":"WINEP_Schemes!J75","v":1},{"$f":"WINEP_Schemes!I75","v":0},{"$f":"WINEP_Schemes!K75","v":1},{"$f":"WINEP_Schemes!L75","v":1},{"$f":"WINEP_Schemes!M75","v":"WWN"},{"$f":"WINEP_Schemes!N75","v":1},0,0,0,0,0,0,0,0]
[null,null,{"$f":"WINEP_Schemes!C76","v":"KSL00215"},{"$f":"WINEP_Schemes!D76","v":"7SO200105"},{"$f":"WINEP_Schemes!E76","v":"Kilndown wwtw"},{"$f":"WINEP_Schemes!F76","v":"£m"},{"$f":"WINEP_Schemes!G76","v":1},{"$f":"WINEP_Schemes!H76","v":0},{"$f":"WINEP_Schemes!J76","v":1},{"$f":"WINEP_Schemes!I76","v":0},{"$f":"WINEP_Schemes!K76","v":1},{"$f":"WINEP_Schemes!L76","v":1},{"$f":"WINEP_Schemes!M76","v":"WWN"},{"$f":"WINEP_Schemes!N76","v":1},0,0,0,0,0,0,0,0]
[null,null,{"$f":"WINEP_Schemes!C77","v":"KSL00217"},{"$f":"WINEP_Schemes!D77","v":"7SO200107"},{"$f":"WINEP_Schemes!E77","v":"Limpsfield and Oxted wwtw"},{"$f":"WINEP_Schemes!F77","v":"£m"},{"$f":"WINEP_Schemes!G77","v":1},{"$f":"WINEP_Schemes!H77","v":0},{"$f":"WINEP_Schemes!J77","v":1},{"$f":"WINEP_Schemes!I77","v":0},{"$f":"WINEP_Schemes!K77","v":1},{"$f":"WINEP_Schemes!L77","v":1},{"$f":"WINEP_Schemes!M77","v":"WWN"},{"$f":"WINEP_Schemes!N77","v":1},0,0,0,0,0,0,0,0]
[null,null,{"$f":"WINEP_Schemes!C78","v":"KSL00218"},{"$f":"WINEP_Schemes!D78","v":"7SO200108"},{"$f":"WINEP_Schemes!E78","v":"Lingfield wwtw"},{"$f":"WINEP_Schemes!F78","v":"£m"},{"$f":"WINEP_Schemes!G78","v":1},{"$f":"WINEP_Schemes!H78","v":0},{"$f":"WINEP_Schemes!J78","v":1},{"$f":"WINEP_Schemes!I78","v":0},{"$f":"WINEP_Schemes!K78","v":1},{"$f":"WINEP_Schemes!L78","v":1},{"$f":"WINEP_Schemes!M78","v":"WWN"},{"$f":"WINEP_Schemes!N78","v":1},0,0,0,{"$f":" IF($M79 = R$9, $Q79, 0)","v":0},0,0,0,0]
[null,null,{"$f":"WINEP_Schemes!C79","v":"KSL00229"},{"$f":"WINEP_Schemes!D79","v":"7SO200119"},{"$f":"WINEP_Schemes!E79","v":"Tunbridge Wells South wwtw"},{"$f":"WINEP_Schemes!F79","v":"£m"},{"$f":"WINEP_Schemes!G79","v":1},{"$f":"WINEP_Schemes!H79","v":0},{"$f":"WINEP_Schemes!J79","v":1},{"$f":"WINEP_Schemes!I79","v":0},{"$f":"WINEP_Schemes!K79","v":1},{"$f":"WINEP_Schemes!L79","v":1},{"$f":"WINEP_Schemes!M79","v":"WWN"},{"$f":"WINEP_Schemes!N79","v":1},0,0,0,0,0,0,0,0]
[null,null,{"$f":"WINEP_Schemes!C80","v":"KSL00385"},{"$f":"WINEP_Schemes!D80","v":"7TW300089"},{"$f":"WINEP_Schemes!E80","v":"Fairlight wwtw"},{"$f":"WINEP_Schemes!F80","v":"£m"},{"$f":"WINEP_Schemes!G80","v":1},{"$f":"WINEP_Schemes!H80","v":0},{"$f":"WINEP_Schemes!J80","v":1},{"$f":"WINEP_Schemes!I80","v":0},{"$f":"WINEP_Schemes!K80","v":1},{"$f":"WINEP_Schemes!L80","v":1},{"$f":"WINEP_Schemes!M80","v":"WWN"},{"$f":"WINEP_Schemes!N80","v":1},{"$f":" I81 * J81 * G81","v":0},{"$f":" N81 * O81","v":0},{"$f":" IF(L81 = 0, P81, (N81 - 1) * O81)","v":0},0,0,0,0,0]
[null,null,{"$f":"WINEP_Schemes!C81","v":"KSL00386"},{"$f":"WINEP_Schemes!D81","v":"7TW300090"},{"$f":"WINEP_Schemes!E81","v":"Bethersden wwtw"},{"$f":"WINEP_Schemes!F81","v":"£m"},{"$f":"WINEP_Schemes!G81","v":1},{"$f":"WINEP_Schemes!H81","v":0},{"$f":"WINEP_Schemes!J81","v":1},{"$f":"WINEP_Schemes!I81","v":0},{"$f":"WINEP_Schemes!K81","v":1},{"$f":"WINEP_Schemes!L81","v":1},{"$f":"WINEP_Schemes!M81","v":"WWN"},{"$f":"WINEP_Schemes!N81","v":1},0,0,0,0,0,0,0,0]
[null,null,{"$f":"WINEP_Schemes!C82","v":"KSL00387"},{"$f":"WINEP_Schemes!D82","v":"7TW300091"},{"$f":"WINEP_Schemes!E82","v":"High Halden"},{"$f":"WINEP_Schemes!F82","v":"£m"},{"$f":"WINEP_Schemes!G82","v":1},{"$f":"WINEP_Schemes!H82","v":0},{"$f":"WINEP_Schemes!J82","v":1},{"$f":"WINEP_Schemes!I82","v":0},{"$f":"WINEP_Schemes!K82","v":1},{"$f":"WINEP_Schemes!L82","v":1},{"$f":"WINEP_Schemes!M82","v":"WWN"},{"$f":"WINEP_Schemes!N82","v":1},0,0,0,0,0,0,0,0]
[null,null,{"$f":"WINEP_Schemes!C83","v":"CHM00218"},{"$f":"WINEP_Schemes!D83","v":"7SO300016"},{"$f":"WINEP_Schemes!E83","v":"Cuckfield WWTW (CIP2 T2)"},{"$f":"WINEP_Schemes!F83","v":"£m"},{"$f":"WINEP_Schemes!G83","v":1},{"$f":"WINEP_Schemes!H83","v":0},{"$f":"WINEP_Schemes!J83","v":1},{"$f":"WINEP_Schemes!I83","v":2.2440000000000002},{"$f":"WINEP_Schemes!K83","v":1},{"$f":"WINEP_Schemes!L83","v":1},{"$f":"WINEP_Schemes!M83","v":"WWN"},{"$f":"WINEP_Schemes!N83","v":1},2.2440000000000002,2.2440000000000002,0,0,0,0,0,0]
[null,null,{"$f":"WINEP_Schemes!C84","v":"SSD00026"},{"$f":"WINEP_Schemes!D84","v":"7SO200191"},{"$f":"WINEP_Schemes!E84","v":"Pan Area, Southern Water PR19 frequently spilling overflows requirements, Water Company Scale, Water Company Scale, Water Company Scale, Water Company Scale, Blank, Blank, Blank, "},{"$f":"WINEP_Schemes!F84","v":"£m"},{"$f":"WINEP_Schemes!G84","v":1},{"$f":"WINEP_Schemes!H84","v":0},{"$f":"WINEP_Schemes!J84","v":1},{"$f":"WINEP_Schemes!I84","v":0.29199999999999998},{"$f":"WINEP_Schemes!K84","v":0},{"$f":"WINEP_Schemes!L84","v":1},{"$f":"WINEP_Schemes!M84","v":"WWN"},{"$f":"WINEP_Schemes!N84","v":0},0.29199999999999998,0,-0.29199999999999998,0,0,-0.29199999999999998,0,0]
[null,null,{"$f":"WINEP_Schemes!C85","v":"SSD00026"},{"$f":"WINEP_Schemes!D85","v":"7SO200191"},{"$f":"WINEP_Schemes!E85","v":"Dittons Road Polgate CSO"},{"$f":"WINEP_Schemes!F85","v":"£m"},{"$f":"WINEP_Schemes!G85","v":1},{"$f":"WINEP_Schemes!H85","v":0},{"$f":"WINEP_Schemes!J85","v":1},{"$f":"WINEP_Schemes!I85","v":3.3845000000000001},{"$f":"WINEP_Schemes!K85","v":1},{"$f":"WINEP_Schemes!L85","v":0},{"$f":"WINEP_Schemes!M85","v":"WWN"},{"$f":"WINEP_Schemes!N85","v":1},3.3845000000000001,3.3845000000000001,3.3845000000000001,0,0,3.3845000000000001,0,0]
[null,null,{"$f":"WINEP_Schemes!C86","v":"SSD00570"},{"$f":"WINEP_Schemes!D86","v":"7SO300448"},{"$f":"WINEP_Schemes!E86","v":"Southern Water PR19 flow requirements"},{"$f":"WINEP_Schemes!F86","v":"£m"},{"$f":"WINEP_Schemes!G86","v":1},{"$f":"WINEP_Schemes!H86","v":0},{"$f":"WINEP_Schemes!J86","v":1},{"$f":"WINEP_Schemes!I86","v":132.55446095860722},{"$f":"WINEP_Schemes!K86","v":0},{"$f":"WINEP_Schemes!L86","v":1},{"$f":"WINEP_Schemes!M86","v":"WWN"},{"$f":"WINEP_Schemes!N86","v":0},132.55446095860722,0,-132.55446095860722,0,0,-132.55446095860722,0,0]
[null,null,{"$f":"WINEP_Schemes!C87","v":"SSD00653"},{"$f":"WINEP_Schemes!D87","v":"7SO300564"},{"$f":"WINEP_Schemes!E87","v":"WARNHAM WWTW"},{"$f":"WINEP_Schemes!F87","v":"£m"},{"$f":"WINEP_Schemes!G87","v":1},{"$f":"WINEP_Schemes!H87","v":0},{"$f":"WINEP_Schemes!J87","v":1},{"$f":"WINEP_Schemes!I87","v":99.183000000000007},{"$f":"WINEP_Schemes!K87","v":1},{"$f":"WINEP_Schemes!L87","v":0},{"$f":"WINEP_Schemes!M87","v":"WWN"},{"$f":"WINEP_Schemes!N87","v":1},99.183000000000007,99.183000000000007,99.183000000000007,0,0,99.183000000000007,0,0]
[null,null,{"$f":"WINEP_Schemes!C88","v":"SSD00608"},{"$f":"WINEP_Schemes!D88","v":"7SO300500"},{"$f":"WINEP_Schemes!E88","v":"ASHINGTON WWTW"},{"$f":"WINEP_Schemes!F88","v":"£m"},{"$f":"WINEP_Schemes!G88","v":1},{"$f":"WINEP_Schemes!H88","v":0},{"$f":"WINEP_Schemes!J88","v":1},{"$f":"WINEP_Schemes!I88","v":0},{"$f":"WINEP_Schemes!K88","v":1},{"$f":"WINEP_Schemes!L88","v":0},{"$f":"WINEP_Schemes!M88","v":"WWN"},{"$f":"WINEP_Schemes!N88","v":1},0,0,0,0,0,0,0,0]
[null,null,{"$f":"WINEP_Schemes!C89","v":"SSD00609"},{"$f":"WINEP_Schemes!D89","v":"7SO300501"},{"$f":"WINEP_Schemes!E89","v":"ASHLETT CREEK FAWLEY WWTW"},{"$f":"WINEP_Schemes!F89","v":"£m"},{"$f":"WINEP_Schemes!G89","v":1},{"$f":"WINEP_Schemes!H89","v":0},{"$f":"WINEP_Schemes!J89","v":0},{"$f":"WINEP_Schemes!I89","v":0},{"$f":"WINEP_Schemes!K89","v":1},{"$f":"WINEP_Schemes!L89","v":0},{"$f":"WINEP_Schemes!M89","v":"WWN"},{"$f":"WINEP_Schemes!N89","v":0},0,0,0,0,0,0,0,0]
[null,null,{"$f":"WINEP_Schemes!C90","v":"SSD00610"},{"$f":"WINEP_Schemes!D90","v":"7SO300502"},{"$f":"WINEP_Schemes!E90","v":"BARCOMBE NEW WWTW"},{"$f":"WINEP_Schemes!F90","v":"£m"},{"$f":"WINEP_Schemes!G90","v":1},{"$f":"WINEP_Schemes!H90","v":0},{"$f":"WINEP_Schemes!J90","v":0},{"$f":"WINEP_Schemes!I90","v":0},{"$f":"WINEP_Schemes!K90","v":1},{"$f":"WINEP_Schemes!L90","v":0},{"$f":"WINEP_Schemes!M90","v":"WWN"},{"$f":"WINEP_Schemes!N90","v":0},0,0,0,0,0,0,0,0]
[null,null,{"$f":"WINEP_Schemes!C91","v":"KSL00432"},{"$f":"WINEP_Schemes!D91","v":"7SO300503"},{"$f":"WINEP_Schemes!E91","v":"BATTLE WWTW"},{"$f":"WINEP_Schemes!F91","v":"£m"},{"$f":"WINEP_Schemes!G91","v":1},{"$f":"WINEP_Schemes!H91","v":0},{"$f":"WINEP_Schemes!J91","v":0},{"$f":"WINEP_Schemes!I91","v":0},{"$f":"WINEP_Schemes!K91","v":1},{"$f":"WINEP_Schemes!L91","v":0},{"$f":"WINEP_Schemes!M91","v":"WWN"},{"$f":"WINEP_Schemes!N91","v":0},0,0,0,0,0,0,0,0]
[null,null,{"$f":"WINEP_Schemes!C92","v":"SSD00611"},{"$f":"WINEP_Schemes!D92","v":"7SO300504"},{"$f":"WINEP_Schemes!E92","v":"BLACKBOYS WWTW"},{"$f":"WINEP_Schemes!F92","v":"£m"},{"$f":"WINEP_Schemes!G92","v":1},{"$f":"WINEP_Schemes!H92","v":0},{"$f":"WINEP_Schemes!J92","v":1},{"$f":"WINEP_Schemes!I92","v":0},{"$f":"WINEP_Schemes!K92","v":1},{"$f":"WINEP_Schemes!L92","v":0},{"$f":"WINEP_Schemes!M92","v":"WWN"},{"$f":"WINEP_Schemes!N92","v":1},0,0,0,0,0,0,0,0]
[null,null,{"$f":"WINEP_Schemes!C93","v":"SSD00612"},{"$f":"WINEP_Schemes!D93","v":"7SO300505"},{"$f":"WINEP_Schemes!E93","v":"BRIGHSTONE WWTW"},{"$f":"WINEP_Schemes!F93","v":"£m"},{"$f":"WINEP_Schemes!G93","v":1},{"$f":"WINEP_Schemes!H93","v":0},{"$f":"WINEP_Schemes!J93","v":0},{"$f":"WINEP_Schemes!I93","v":0},{"$f":"WINEP_Schemes!K93","v":1},{"$f":"WINEP_Schemes!L93","v":0},{"$f":"WINEP_Schemes!M93","v":"WWN"},{"$f":"WINEP_Schemes!N93","v":0},0,0,0,0,0,0,0,0]
[null,null,{"$f":"WINEP_Schemes!C94","v":"SSD00613"},{"$f":"WINEP_Schemes!D94","v":"7SO300506"},{"$f":"WINEP_Schemes!E94","v":"BROCKENHURST WWTW"},{"$f":"WINEP_Schemes!F94","v":"£m"},{"$f":"WINEP_Schemes!G94","v":1},{"$f":"WINEP_Schemes!H94","v":0},{"$f":"WINEP_Schemes!J94","v":1},{"$f":"WINEP_Schemes!I94","v":0},{"$f":"WINEP_Schemes!K94","v":1},{"$f":"WINEP_Schemes!L94","v":0},{"$f":"WINEP_Schemes!M94","v":"WWN"},{"$f":"WINEP_Schemes!N94","v":1},0,0,0,0,0,0,0,0]
[null,null,{"$f":"WINEP_Schemes!C95","v":"SSD00614"},{"$f":"WINEP_Schemes!D95","v":"7SO300507"},{"$f":"WINEP_Schemes!E95","v":"BUDDS FARM HAVANT (Havant) WWTW"},{"$f":"WINEP_Schemes!F95","v":"£m"},{"$f":"WINEP_Schemes!G95","v":1},{"$f":"WINEP_Schemes!H95","v":0},{"$f":"WINEP_Schemes!J95","v":1},{"$f":"WINEP_Schemes!I95","v":0},{"$f":"WINEP_Schemes!K95","v":0},{"$f":"WINEP_Schemes!L95","v":0},{"$f":"WINEP_Schemes!M95","v":"WWN"},{"$f":"WINEP_Schemes!N95","v":0},0,0,0,0,0,0,0,0]
[null,null,{"$f":"WINEP_Schemes!C96","v":"SSD00615"},{"$f":"WINEP_Schemes!D96","v":"7SO300508"},{"$f":"WINEP_Schemes!E96","v":"BURITON WWTW"},{"$f":"WINEP_Schemes!F96","v":"£m"},{"$f":"WINEP_Schemes!G96","v":1},{"$f":"WINEP_Schemes!H96","v":0},{"$f":"WINEP_Schemes!J96","v":1},{"$f":"WINEP_Schemes!I96","v":0},{"$f":"WINEP_Schemes!K96","v":1},{"$f":"WINEP_Schemes!L96","v":0},{"$f":"WINEP_Schemes!M96","v":"WWN"},{"$f":"WINEP_Schemes!N96","v":1},0,0,0,0,0,0,0,0]
[null,null,{"$f":"WINEP_Schemes!C97","v":"KSL00433"},{"$f":"WINEP_Schemes!D97","v":"7SO300509"},{"$f":"WINEP_Schemes!E97","v":"BURWASH COMMON WWTW"},{"$f":"WINEP_Schemes!F97","v":"£m"},{"$f":"WINEP_Schemes!G97","v":1},{"$f":"WINEP_Schemes!H97","v":0},{"$f":"WINEP_Schemes!J97","v":1},{"$f":"WINEP_Schemes!I97","v":0},{"$f":"WINEP_Schemes!K97","v":1},{"$f":"WINEP_Schemes!L97","v":0},{"$f":"WINEP_Schemes!M97","v":"WWN"},{"$f":"WINEP_Schemes!N97","v":1},0,0,0,0,0,0,0,0]
[null,null,{"$f":"WINEP_Schemes!C98","v":"SSD00616"},{"$f":"WINEP_Schemes!D98","v":"7SO300510"},{"$f":"WINEP_Schemes!E98","v":"BURY WWTW"},{"$f":"WINEP_Schemes!F98","v":"£m"},{"$f":"WINEP_Schemes!G98","v":1},{"$f":"WINEP_Schemes!H98","v":0},{"$f":"WINEP_Schemes!J98","v":1},{"$f":"WINEP_Schemes!I98","v":0},{"$f":"WINEP_Schemes!K98","v":1},{"$f":"WINEP_Schemes!L98","v":0},{"$f":"WINEP_Schemes!M98","v":"WWN"},{"$f":"WINEP_Schemes!N98","v":1},0,0,0,0,0,0,0,0]
[null,null,{"$f":"WINEP_Schemes!C99","v":"SSD00617"},{"$f":"WINEP_Schemes!D99","v":"7SO300511"},{"$f":"WINEP_Schemes!E99","v":"BUXTED WWTW"},{"$f":"WINEP_Schemes!F99","v":"£m"},{"$f":"WINEP_Schemes!G99","v":1},{"$f":"WINEP_Schemes!H99","v":0},{"$f":"WINEP_Schemes!J99","v":1},{"$f":"WINEP_Schemes!I99","v":0},{"$f":"WINEP_Schemes!K99","v":1},{"$f":"WINEP_Schemes!L99","v":0},{"$f":"WINEP_Schemes!M99","v":"WWN"},{"$f":"WINEP_Schemes!N99","v":1},0,0,0,0,0,0,0,0]
[null,null,{"$f":"WINEP_Schemes!C100","v":"SSD00618"},{"$f":"WINEP_Schemes!D100","v":"7SO300512"},{"$f":"WINEP_Schemes!E100","v":"CALBOURNE WWTW"},{"$f":"WINEP_Schemes!F100","v":"£m"},{"$f":"WINEP_Schemes!G100","v":1},{"$f":"WINEP_Schemes!H100","v":0},{"$f":"WINEP_Schemes!J100","v":1},{"$f":"WINEP_Schemes!I100","v":0},{"$f":"WINEP_Schemes!K100","v":1},{"$f":"WINEP_Schemes!L100","v":0},{"$f":"WINEP_Schemes!M100","v":"WWN"},{"$f":"WINEP_Schemes!N100","v":1},0,0,0,0,0,0,0,0]
[null,null,{"$f":"WINEP_Schemes!C101","v":"SSD00619"},{"$f":"WINEP_Schemes!D101","v":"7SO300513"},{"$f":"WINEP_Schemes!E101","v":"CHICHESTER WWTW"},{"$f":"WINEP_Schemes!F101","v":"£m"},{"$f":"WINEP_Schemes!G101","v":1},{"$f":"WINEP_Schemes!H101","v":0},{"$f":"WINEP_Schemes!J101","v":1},{"$f":"WINEP_Schemes!I101","v":0},{"$f":"WINEP_Schemes!K101","v":0},{"$f":"WINEP_Schemes!L101","v":0},{"$f":"WINEP_Schemes!M101","v":"WWN"},{"$f":"WINEP_Schemes!N101","v":0},0,0,0,0,0,0,0,0]
[null,null,{"$f":"WINEP_Schemes!C102","v":"SSD00620"},{"$f":"WINEP_Schemes!D102","v":"7SO300514"},{"$f":"WINEP_Schemes!E102","v":"CHIDDINGFOLD WWTW"},{"$f":"WINEP_Schemes!F102","v":"£m"},{"$f":"WINEP_Schemes!G102","v":1},{"$f":"WINEP_Schemes!H102","v":0},{"$f":"WINEP_Schemes!J102","v":0},{"$f":"WINEP_Schemes!I102","v":0},{"$f":"WINEP_Schemes!K102","v":1},{"$f":"WINEP_Schemes!L102","v":0},{"$f":"WINEP_Schemes!M102","v":"WWN"},{"$f":"WINEP_Schemes!N102","v":0},0,0,0,0,0,0,0,0]
[null,null,{"$f":"WINEP_Schemes!C103","v":"SSD00621"},{"$f":"WINEP_Schemes!D103","v":"7SO300515"},{"$f":"WINEP_Schemes!E103","v":"CHILBOLTON WWTW"},{"$f":"WINEP_Schemes!F103","v":"£m"},{"$f":"WINEP_Schemes!G103","v":1},{"$f":"WINEP_Schemes!H103","v":0},{"$f":"WINEP_Schemes!J103","v":0},{"$f":"WINEP_Schemes!I103","v":0},{"$f":"WINEP_Schemes!K103","v":1},{"$f":"WINEP_Schemes!L103","v":0},{"$f":"WINEP_Schemes!M103","v":"WWN"},{"$f":"WINEP_Schemes!N103","v":0},0,0,0,0,0,0,0,0]
[null,null,{"$f":"WINEP_Schemes!C104","v":"KSL00434"},{"$f":"WINEP_Schemes!D104","v":"7SO300516"},{"$f":"WINEP_Schemes!E104","v":"COWDEN WWTW"},{"$f":"WINEP_Schemes!F104","v":"£m"},{"$f":"WINEP_Schemes!G104","v":1},{"$f":"WINEP_Schemes!H104","v":0},{"$f":"WINEP_Schemes!J104","v":0},{"$f":"WINEP_Schemes!I104","v":0},{"$f":"WINEP_Schemes!K104","v":1},{"$f":"WINEP_Schemes!L104","v":0},{"$f":"WINEP_Schemes!M104","v":"WWN"},{"$f":"WINEP_Schemes!N104","v":0},0,0,0,0,0,0,0,0]
[null,null,{"$f":"WINEP_Schemes!C105","v":"KSL00435"},{"$f":"WINEP_Schemes!D105","v":"7SO300517"},{"$f":"WINEP_Schemes!E105","v":"CRANBROOK WWTW"},{"$f":"WINEP_Schemes!F105","v":"£m"},{"$f":"WINEP_Schemes!G105","v":1},{"$f":"WINEP_Schemes!H105","v":0},{"$f":"WINEP_Schemes!J105","v":1},{"$f":"WINEP_Schemes!I105","v":0},{"$f":"WINEP_Schemes!K105","v":1},{"$f":"WINEP_Schemes!L105","v":0},{"$f":"WINEP_Schemes!M105","v":"WWN"},{"$f":"WINEP_Schemes!N105","v":1},0,0,0,0,0,0,0,0]
[null,null,{"$f":"WINEP_Schemes!C106","v":"SSD00622"},{"$f":"WINEP_Schemes!D106","v":"7SO300518"},{"$f":"WINEP_Schemes!E106","v":"DITCHLING WWTW"},{"$f":"WINEP_Schemes!F106","v":"£m"},{"$f":"WINEP_Schemes!G106","v":1},{"$f":"WINEP_Schemes!H106","v":0},{"$f":"WINEP_Schemes!J106","v":1},{"$f":"WINEP_Schemes!I106","v":0},{"$f":"WINEP_Schemes!K106","v":1},{"$f":"WINEP_Schemes!L106","v":0},{"$f":"WINEP_Schemes!M106","v":"WWN"},{"$f":"WINEP_Schemes!N106","v":1},0,0,0,0,0,0,0,0]
[null,null,{"$f":"WINEP_Schemes!C107","v":"SSD00623"},{"$f":"WINEP_Schemes!D107","v":"7SO300519"},{"$f":"WINEP_Schemes!E107","v":"EAST GRIMSTEAD WWTW"},{"$f":"WINEP_Schemes!F107","v":"£m"},{"$f":"WINEP_Schemes!G107","v":1},{"$f":"WINEP_Schemes!H107","v":0},{"$f":"WINEP_Schemes!J107","v":1},{"$f":"WINEP_Schemes!I107","v":0},{"$f":"WINEP_Schemes!K107","v":1},{"$f":"WINEP_Schemes!L107","v":0},{"$f":"WINEP_Schemes!M107","v":"WWN"},{"$f":"WINEP_Schemes!N107","v":1},0,0,0,0,0,0,0,0]
[null,null,{"$f":"WINEP_Schemes!C108","v":"SSD00624"},{"$f":"WINEP_Schemes!D108","v":"7SO300520"},{"$f":"WINEP_Schemes!E108","v":"FITTLEWORTH WWTW"},{"$f":"WINEP_Schemes!F108","v":"£m"},{"$f":"WINEP_Schemes!G108","v":1},{"$f":"WINEP_Schemes!H108","v":0},{"$f":"WINEP_Schemes!J108","v":1},{"$f":"WINEP_Schemes!I108","v":0},{"$f":"WINEP_Schemes!K108","v":1},{"$f":"WINEP_Schemes!L108","v":0},{"$f":"WINEP_Schemes!M108","v":"WWN"},{"$f":"WINEP_Schemes!N108","v":1},0,0,0,0,0,0,0,0]
[null,null,{"$f":"WINEP_Schemes!C109","v":"SSD00625"},{"$f":"WINEP_Schemes!D109","v":"7SO300521"},{"$f":"WINEP_Schemes!E109","v":"FLEXFORD LANE SWAY WWTW"},{"$f":"WINEP_Schemes!F109","v":"£m"},{"$f":"WINEP_Schemes!G109","v":1},{"$f":"WINEP_Schemes!H109","v":0},{"$f":"WINEP_Schemes!J109","v":0},{"$f":"WINEP_Schemes!I109","v":0},{"$f":"WINEP_Schemes!K109","v":1},{"$f":"WINEP_Schemes!L109","v":0},{"$f":"WINEP_Schemes!M109","v":"WWN"},{"$f":"WINEP_Schemes!N109","v":0},0,0,0,0,0,0,0,0]
[null,null,{"$f":"WINEP_Schemes!C110","v":"SSD00626"},{"$f":"WINEP_Schemes!D110","v":"7SO300522"},{"$f":"WINEP_Schemes!E110","v":"HALLAND WWTW"},{"$f":"WINEP_Schemes!F110","v":"£m"},{"$f":"WINEP_Schemes!G110","v":1},{"$f":"WINEP_Schemes!H110","v":0},{"$f":"WINEP_Schemes!J110","v":1},{"$f":"WINEP_Schemes!I110","v":0},{"$f":"WINEP_Schemes!K110","v":1},{"$f":"WINEP_Schemes!L110","v":0},{"$f":"WINEP_Schemes!M110","v":"WWN"},{"$f":"WINEP_Schemes!N110","v":1},0,0,0,0,0,0,0,0]
[null,null,{"$f":"WINEP_Schemes!C111","v":"KSL00436"},{"$f":"WINEP_Schemes!D111","v":"7SO300523"},{"$f":"WINEP_Schemes!E111","v":"HAMSTREET WWTW"},{"$f":"WINEP_Schemes!F111","v":"£m"},{"$f":"WINEP_Schemes!G111","v":1},{"$f":"WINEP_Schemes!H111","v":0},{"$f":"WINEP_Schemes!J111","v":0},{"$f":"WINEP_Schemes!I111","v":0},{"$f":"WINEP_Schemes!K111","v":1},{"$f":"WINEP_Schemes!L111","v":0},{"$f":"WINEP_Schemes!M111","v":"WWN"},{"$f":"WINEP_Schemes!N111","v":0},0,0,0,0,0,0,0,0]
[null,null,{"$f":"WINEP_Schemes!C112","v":"KSL00437"},{"$f":"WINEP_Schemes!D112","v":"7SO300524"},{"$f":"WINEP_Schemes!E112","v":"HAWKHURST NORTH WWTW"},{"$f":"WINEP_Schemes!F112","v":"£m"},{"$f":"WINEP_Schemes!G112","v":1},{"$f":"WINEP_Schemes!H112","v":0},{"$f":"WINEP_Schemes!J112","v":1},{"$f":"WINEP_Schemes!I112","v":0},{"$f":"WINEP_Schemes!K112","v":1},{"$f":"WINEP_Schemes!L112","v":0},{"$f":"WINEP_Schemes!M112","v":"WWN"},{"$f":"WINEP_Schemes!N112","v":1},0,0,0,0,0,0,0,0]
[null,null,{"$f":"WINEP_Schemes!C113","v":"KSL00438"},{"$f":"WINEP_Schemes!D113","v":"7SO300525"},{"$f":"WINEP_Schemes!E113","v":"HAWKHURST SOUTH WWTW"},{"$f":"WINEP_Schemes!F113","v":"£m"},{"$f":"WINEP_Schemes!G113","v":1},{"$f":"WINEP_Schemes!H113","v":0},{"$f":"WINEP_Schemes!J113","v":1},{"$f":"WINEP_Schemes!I113","v":0},{"$f":"WINEP_Schemes!K113","v":1},{"$f":"WINEP_Schemes!L113","v":0},{"$f":"WINEP_Schemes!M113","v":"WWN"},{"$f":"WINEP_Schemes!N113","v":1},0,0,0,0,0,0,0,0]
[null,null,{"$f":"WINEP_Schemes!C114","v":"SSD00627"},{"$f":"WINEP_Schemes!D114","v":"7SO300526"},{"$f":"WINEP_Schemes!E114","v":"HENFIELD WWTW"},{"$f":"WINEP_Schemes!F114","v":"£m"},{"$f":"WINEP_Schemes!G114","v":1},{"$f":"WINEP_Schemes!H114","v":0},{"$f":"WINEP_Schemes!J114","v":1},{"$f":"WINEP_Schemes!I114","v":0},{"$f":"WINEP_Schemes!K114","v":1},{"$f":"WINEP_Schemes!L114","v":0},{"$f":"WINEP_Schemes!M114","v":"WWN"},{"$f":"WINEP_Schemes!N114","v":1},0,0,0,0,0,0,0,0]
[null,null,{"$f":"WINEP_Schemes!C115","v":"KSL00439"},{"$f":"WINEP_Schemes!D115","v":"7SO300527"},{"$f":"WINEP_Schemes!E115","v":"HIGH HALDEN WWTW"},{"$f":"WINEP_Schemes!F115","v":"£m"},{"$f":"WINEP_Schemes!G115","v":1},{"$f":"WINEP_Schemes!H115","v":0},{"$f":"WINEP_Schemes!J115","v":1},{"$f":"WINEP_Schemes!I115","v":0},{"$f":"WINEP_Schemes!K115","v":1},{"$f":"WINEP_Schemes!L115","v":0},{"$f":"WINEP_Schemes!M115","v":"WWN"},{"$f":"WINEP_Schemes!N115","v":1},0,0,0,0,0,0,0,0]
[null,null,{"$f":"WINEP_Schemes!C116","v":"SSD00628"},{"$f":"WINEP_Schemes!D116","v":"7SO300528"},{"$f":"WINEP_Schemes!E116","v":"HORSTED KEYNES WWTW"},{"$f":"WINEP_Schemes!F116","v":"£m"},{"$f":"WINEP_Schemes!G116","v":1},{"$f":"WINEP_Schemes!H116","v":0},{"$f":"WINEP_Schemes!J116","v":1},{"$f":"WINEP_Schemes!I116","v":0},{"$f":"WINEP_Schemes!K116","v":1},{"$f":"WINEP_Schemes!L116","v":0},{"$f":"WINEP_Schemes!M116","v":"WWN"},{"$f":"WINEP_Schemes!N116","v":1},0,0,0,0,0,0,0,0]
[null,null,{"$f":"WINEP_Schemes!C117","v":"SSD00629"},{"$f":"WINEP_Schemes!D117","v":"7SO300529"},{"$f":"WINEP_Schemes!E117","v":"KINGS SOMBORNE WWTW"},{"$f":"WINEP_Schemes!F117","v":"£m"},{"$f":"WINEP_Schemes!G117","v":1},{"$f":"WINEP_Schemes!H117","v":0},{"$f":"WINEP_Schemes!J117","v":1},{"$f":"WINEP_Schemes!I117","v":0},{"$f":"WINEP_Schemes!K117","v":1},{"$f":"WINEP_Schemes!L117","v":0},{"$f":"WINEP_Schemes!M117","v":"WWN"},{"$f":"WINEP_Schemes!N117","v":1},0,0,0,0,0,0,0,0]
[null,null,{"$f":"WINEP_Schemes!C118","v":"SSD00630"},{"$f":"WINEP_Schemes!D118","v":"7SO300530"},{"$f":"WINEP_Schemes!E118","v":"LAVANT WWTW"},{"$f":"WINEP_Schemes!F118","v":"£m"},{"$f":"WINEP_Schemes!G118","v":1},{"$f":"WINEP_Schemes!H118","v":0},{"$f":"WINEP_Schemes!J118","v":1},{"$f":"WINEP_Schemes!I118","v":0},{"$f":"WINEP_Schemes!K118","v":1},{"$f":"WINEP_Schemes!L118","v":0},{"$f":"WINEP_Schemes!M118","v":"WWN"},{"$f":"WINEP_Schemes!N118","v":1},0,0,0,0,0,0,0,0]
[null,null,{"$f":"WINEP_Schemes!C119","v":"SSD00631"},{"$f":"WINEP_Schemes!D119","v":"7SO300531"},{"$f":"WINEP_Schemes!E119","v":"LIDSEY WWTW"},{"$f":"WINEP_Schemes!F119","v":"£m"},{"$f":"WINEP_Schemes!G119","v":1},{"$f":"WINEP_Schemes!H119","v":0},{"$f":"WINEP_Schemes!J119","v":1},{"$f":"WINEP_Schemes!I119","v":0},{"$f":"WINEP_Schemes!K119","v":0},{"$f":"WINEP_Schemes!L119","v":0},{"$f":"WINEP_Schemes!M119","v":"WWN"},{"$f":"WINEP_Schemes!N119","v":0},0,0,0,0,0,0,0,0]
[null,null,{"$f":"WINEP_Schemes!C120","v":"KSL00440"},{"$f":"WINEP_Schemes!D120","v":"7SO300532"},{"$f":"WINEP_Schemes!E120","v":"LINGFIELD WWTW"},{"$f":"WINEP_Schemes!F120","v":"£m"},{"$f":"WINEP_Schemes!G120","v":1},{"$f":"WINEP_Schemes!H120","v":0},{"$f":"WINEP_Schemes!J120","v":1},{"$f":"WINEP_Schemes!I120","v":0},{"$f":"WINEP_Schemes!K120","v":1},{"$f":"WINEP_Schemes!L120","v":0},{"$f":"WINEP_Schemes!M120","v":"WWN"},{"$f":"WINEP_Schemes!N120","v":1},0,0,0,0,0,0,0,0]
[null,null,{"$f":"WINEP_Schemes!C121","v":"SSD00632"},{"$f":"WINEP_Schemes!D121","v":"7SO300533"},{"$f":"WINEP_Schemes!E121","v":"LISS WWTW"},{"$f":"WINEP_Schemes!F121","v":"£m"},{"$f":"WINEP_Schemes!G121","v":1},{"$f":"WINEP_Schemes!H121","v":0},{"$f":"WINEP_Schemes!J121","v":1},{"$f":"WINEP_Schemes!I121","v":0},{"$f":"WINEP_Schemes!K121","v":1},{"$f":"WINEP_Schemes!L121","v":0},{"$f":"WINEP_Schemes!M121","v":"WWN"},{"$f":"WINEP_Schemes!N121","v":1},0,0,0,0,0,0,0,0]
[null,null,{"$f":"WINEP_Schemes!C122","v":"SSD00633"},{"$f":"WINEP_Schemes!D122","v":"7SO300534"},{"$f":"WINEP_Schemes!E122","v":"LOXWOOD WWTW"},{"$f":"WINEP_Schemes!F122","v":"£m"},{"$f":"WINEP_Schemes!G122","v":1},{"$f":"WINEP_Schemes!H122","v":0},{"$f":"WINEP_Schemes!J122","v":1},{"$f":"WINEP_Schemes!I122","v":0},{"$f":"WINEP_Schemes!K122","v":1},{"$f":"WINEP_Schemes!L122","v":0},{"$f":"WINEP_Schemes!M122","v":"WWN"},{"$f":"WINEP_Schemes!N122","v":1},0,0,0,0,0,0,0,0]
[null,null,{"$f":"WINEP_Schemes!C123","v":"SSD00634"},{"$f":"WINEP_Schemes!D123","v":"7SO300535"},{"$f":"WINEP_Schemes!E123","v":"LYNDHURST WWTW"},{"$f":"WINEP_Schemes!F123","v":"£m"},{"$f":"WINEP_Schemes!G123","v":1},{"$f":"WINEP_Schemes!H123","v":0},{"$f":"WINEP_Schemes!J123","v":0},{"$f":"WINEP_Schemes!I123","v":0},{"$f":"WINEP_Schemes!K123","v":1},{"$f":"WINEP_Schemes!L123","v":0},{"$f":"WINEP_Schemes!M123","v":"WWN"},{"$f":"WINEP_Schemes!N123","v":0},0,0,0,0,0,0,0,0]
[null,null,{"$f":"WINEP_Schemes!C124","v":"SSD00635"},{"$f":"WINEP_Schemes!D124","v":"7SO300536"},{"$f":"WINEP_Schemes!E124","v":"MANNINGS HEATH WWTW"},{"$f":"WINEP_Schemes!F124","v":"£m"},{"$f":"WINEP_Schemes!G124","v":1},{"$f":"WINEP_Schemes!H124","v":0},{"$f":"WINEP_Schemes!J124","v":1},{"$f":"WINEP_Schemes!I124","v":0},{"$f":"WINEP_Schemes!K124","v":1},{"$f":"WINEP_Schemes!L124","v":0},{"$f":"WINEP_Schemes!M124","v":"WWN"},{"$f":"WINEP_Schemes!N124","v":1},0,0,0,0,0,0,0,0]
[null,null,{"$f":"WINEP_Schemes!C125","v":"SSD00636"},{"$f":"WINEP_Schemes!D125","v":"7SO300537"},{"$f":"WINEP_Schemes!E125","v":"MARESFIELD WWTW"},{"$f":"WINEP_Schemes!F125","v":"£m"},{"$f":"WINEP_Schemes!G125","v":1},{"$f":"WINEP_Schemes!H125","v":0},{"$f":"WINEP_Schemes!J125","v":1},{"$f":"WINEP_Schemes!I125","v":0},{"$f":"WINEP_Schemes!K125","v":1},{"$f":"WINEP_Schemes!L125","v":0},{"$f":"WINEP_Schemes!M125","v":"WWN"},{"$f":"WINEP_Schemes!N125","v":1},0,0,0,0,0,0,0,0]
[null,null,{"$f":"WINEP_Schemes!C126","v":"SSD00637"},{"$f":"WINEP_Schemes!D126","v":"7SO300538"},{"$f":"WINEP_Schemes!E126","v":"MILFORD ROAD PENNINGTON WWTW"},{"$f":"WINEP_Schemes!F126","v":"£m"},{"$f":"WINEP_Schemes!G126","v":1},{"$f":"WINEP_Schemes!H126","v":0},{"$f":"WINEP_Schemes!J126","v":1},{"$f":"WINEP_Schemes!I126","v":0},{"$f":"WINEP_Schemes!K126","v":0},{"$f":"WINEP_Schemes!L126","v":0},{"$f":"WINEP_Schemes!M126","v":"WWN"},{"$f":"WINEP_Schemes!N126","v":0},0,0,0,0,0,0,0,0]
[null,null,{"$f":"WINEP_Schemes!C127","v":"SSD00638"},{"$f":"WINEP_Schemes!D127","v":"7SO300539"},{"$f":"WINEP_Schemes!E127","v":"MILLBROOK WWTW"},{"$f":"WINEP_Schemes!F127","v":"£m"},{"$f":"WINEP_Schemes!G127","v":1},{"$f":"WINEP_Schemes!H127","v":0},{"$f":"WINEP_Schemes!J127","v":1},{"$f":"WINEP_Schemes!I127","v":0},{"$f":"WINEP_Schemes!K127","v":1},{"$f":"WINEP_Schemes!L127","v":0},{"$f":"WINEP_Schemes!M127","v":"WWN"},{"$f":"WINEP_Schemes!N127","v":1},0,0,0,0,0,0,0,0]
[null,null,{"$f":"WINEP_Schemes!C128","v":"SSD00639"},{"$f":"WINEP_Schemes!D128","v":"7SO300540"},{"$f":"WINEP_Schemes!E128","v":"MONKS GATE WWTW"},{"$f":"WINEP_Schemes!F128","v":"£m"},{"$f":"WINEP_Schemes!G128","v":1},{"$f":"WINEP_Schemes!H128","v":0},{"$f":"WINEP_Schemes!J128","v":1},{"$f":"WINEP_Schemes!I128","v":0},{"$f":"WINEP_Schemes!K128","v":1},{"$f":"WINEP_Schemes!L128","v":0},{"$f":"WINEP_Schemes!M128","v":"WWN"},{"$f":"WINEP_Schemes!N128","v":1},0,0,0,0,0,0,0,0]
[null,null,{"$f":"WINEP_Schemes!C129","v":"SSD00640"},{"$f":"WINEP_Schemes!D129","v":"7SO300541"},{"$f":"WINEP_Schemes!E129","v":"NORTHCHAPEL WWTW"},{"$f":"WINEP_Schemes!F129","v":"£m"},{"$f":"WINEP_Schemes!G129","v":1},{"$f":"WINEP_Schemes!H129","v":0},{"$f":"WINEP_Schemes!J129","v":1},{"$f":"WINEP_Schemes!I129","v":0},{"$f":"WINEP_Schemes!K129","v":1},{"$f":"WINEP_Schemes!L129","v":0},{"$f":"WINEP_Schemes!M129","v":"WWN"},{"$f":"WINEP_Schemes!N129","v":1},0,0,0,{"$f":" IF($M130 = R$9, $Q130, 0)","v":0},0,0,0,0]
[null,null,{"$f":"WINEP_Schemes!C130","v":"KSL00441"},{"$f":"WINEP_Schemes!D130","v":"7SO300542"},{"$f":"WINEP_Schemes!E130","v":"OXTED WWTW"},{"$f":"WINEP_Schemes!F130","v":"£m"},{"$f":"WINEP_Schemes!G130","v":1},{"$f":"WINEP_Schemes!H130","v":0},{"$f":"WINEP_Schemes!J130","v":1},{"$f":"WINEP_Schemes!I130","v":0},{"$f":"WINEP_Schemes!K130","v":0},{"$f":"WINEP_Schemes!L130","v":0},{"$f":"WINEP_Schemes!M130","v":"WWN"},{"$f":"WINEP_Schemes!N130","v":0},0,0,0,0,0,0,0,0]
[null,null,{"$f":"WINEP_Schemes!C131","v":"SSD00641"},{"$f":"WINEP_Schemes!D131","v":"7SO300543"},{"$f":"WINEP_Schemes!E131","v":"PARTRIDGE GREEN WWTW"},{"$f":"WINEP_Schemes!F131","v":"£m"},{"$f":"WINEP_Schemes!G131","v":1},{"$f":"WINEP_Schemes!H131","v":0},{"$f":"WINEP_Schemes!J131","v":1},{"$f":"WINEP_Schemes!I131","v":0},{"$f":"WINEP_Schemes!K131","v":1},{"$f":"WINEP_Schemes!L131","v":0},{"$f":"WINEP_Schemes!M131","v":"WWN"},{"$f":"WINEP_Schemes!N131","v":1},0,0,0,0,0,0,0,0]
[null,null,{"$f":"WINEP_Schemes!C132","v":"SSD00642"},{"$f":"WINEP_Schemes!D132","v":"7SO300544"},{"$f":"WINEP_Schemes!E132","v":"PEEL COMMON WWTW"},{"$f":"WINEP_Schemes!F132","v":"£m"},{"$f":"WINEP_Schemes!G132","v":1},{"$f":"WINEP_Schemes!H132","v":0},{"$f":"WINEP_Schemes!J132","v":1},{"$f":"WINEP_Schemes!I132","v":0},{"$f":"WINEP_Schemes!K132","v":0},{"$f":"WINEP_Schemes!L132","v":0},{"$f":"WINEP_Schemes!M132","v":"WWN"},{"$f":"WINEP_Schemes!N132","v":0},0,0,0,0,0,0,0,0]
[null,null,{"$f":"WINEP_Schemes!C133","v":"KSL00442"},{"$f":"WINEP_Schemes!D133","v":"7SO300545"},{"$f":"WINEP_Schemes!E133","v":"QUEENBOROUGH WWTW"},{"$f":"WINEP_Schemes!F133","v":"£m"},{"$f":"WINEP_Schemes!G133","v":1},{"$f":"WINEP_Schemes!H133","v":0},{"$f":"WINEP_Schemes!J133","v":1},{"$f":"WINEP_Schemes!I133","v":0},{"$f":"WINEP_Schemes!K133","v":1},{"$f":"WINEP_Schemes!L133","v":0},{"$f":"WINEP_Schemes!M133","v":"WWN"},{"$f":"WINEP_Schemes!N133","v":1},0,0,0,0,0,0,0,0]
[null,null,{"$f":"WINEP_Schemes!C134","v":"KSL00443"},{"$f":"WINEP_Schemes!D134","v":"7SO300546"},{"$f":"WINEP_Schemes!E134","v":"QUICKBOURNE LANE NORTHIAM WWTW"},{"$f":"WINEP_Schemes!F134","v":"£m"},{"$f":"WINEP_Schemes!G134","v":1},{"$f":"WINEP_Schemes!H134","v":0},{"$f":"WINEP_Schemes!J134","v":1},{"$f":"WINEP_Schemes!I134","v":0},{"$f":"WINEP_Schemes!K134","v":1},{"$f":"WINEP_Schemes!L134","v":0},{"$f":"WINEP_Schemes!M134","v":"WWN"},{"$f":"WINEP_Schemes!N134","v":1},0,0,0,0,0,0,0,0]
[null,null,{"$f":"WINEP_Schemes!C135","v":"SSD00643"},{"$f":"WINEP_Schemes!D135","v":"7SO300547"},{"$f":"WINEP_Schemes!E135","v":"REDLYNCH WWTW"},{"$f":"WINEP_Schemes!F135","v":"£m"},{"$f":"WINEP_Schemes!G135","v":1},{"$f":"WINEP_Schemes!H135","v":0},{"$f":"WINEP_Schemes!J135","v":0},{"$f":"WINEP_Schemes!I135","v":0},{"$f":"WINEP_Schemes!K135","v":1},{"$f":"WINEP_Schemes!L135","v":0},{"$f":"WINEP_Schemes!M135","v":"WWN"},{"$f":"WINEP_Schemes!N135","v":0},0,0,0,0,0,0,0,0]
[null,null,{"$f":"WINEP_Schemes!C136","v":"KSL00444"},{"$f":"WINEP_Schemes!D136","v":"7SO300548"},{"$f":"WINEP_Schemes!E136","v":"ROBERTSBRIDGE WWTW"},{"$f":"WINEP_Schemes!F136","v":"£m"},{"$f":"WINEP_Schemes!G136","v":1},{"$f":"WINEP_Schemes!H136","v":0},{"$f":"WINEP_Schemes!J136","v":1},{"$f":"WINEP_Schemes!I136","v":0},{"$f":"WINEP_Schemes!K136","v":1},{"$f":"WINEP_Schemes!L136","v":0},{"$f":"WINEP_Schemes!M136","v":"WWN"},{"$f":"WINEP_Schemes!N136","v":1},0,0,0,0,0,0,0,0]
[null,null,{"$f":"WINEP_Schemes!C137","v":"SSD00644"},{"$f":"WINEP_Schemes!D137","v":"7SO300549"},{"$f":"WINEP_Schemes!E137","v":"ROUD WWTW"},{"$f":"WINEP_Schemes!F137","v":"£m"},{"$f":"WINEP_Schemes!G137","v":1},{"$f":"WINEP_Schemes!H137","v":0},{"$f":"WINEP_Schemes!J137","v":1},{"$f":"WINEP_Schemes!I137","v":0},{"$f":"WINEP_Schemes!K137","v":1},{"$f":"WINEP_Schemes!L137","v":0},{"$f":"WINEP_Schemes!M137","v":"WWN"},{"$f":"WINEP_Schemes!N137","v":1},0,0,0,0,0,0,0,0]
[null,null,{"$f":"WINEP_Schemes!C138","v":"KSL00445"},{"$f":"WINEP_Schemes!D138","v":"7SO300550"},{"$f":"WINEP_Schemes!E138","v":"SANDHURST WWTW"},{"$f":"WINEP_Schemes!F138","v":"£m"},{"$f":"WINEP_Schemes!G138","v":1},{"$f":"WINEP_Schemes!H138","v":0},{"$f":"WINEP_Schemes!J138","v":1},{"$f":"WINEP_Schemes!I138","v":0},{"$f":"WINEP_Schemes!K138","v":1},{"$f":"WINEP_Schemes!L138","v":0},{"$f":"WINEP_Schemes!M138","v":"WWN"},{"$f":"WINEP_Schemes!N138","v":1},0,0,0,0,0,0,0,0]
[null,null,{"$f":"WINEP_Schemes!C139","v":"SSD00645"},{"$f":"WINEP_Schemes!D139","v":"7SO300551"},{"$f":"WINEP_Schemes!E139","v":"SANDOWN NEW WWTW"},{"$f":"WINEP_Schemes!F139","v":"£m"},{"$f":"WINEP_Schemes!G139","v":1},{"$f":"WINEP_Schemes!H139","v":0},{"$f":"WINEP_Schemes!J139","v":1},{"$f":"WINEP_Schemes!I139","v":0},{"$f":"WINEP_Schemes!K139","v":1},{"$f":"WINEP_Schemes!L139","v":0},{"$f":"WINEP_Schemes!M139","v":"WWN"},{"$f":"WINEP_Schemes!N139","v":1},0,0,0,0,0,0,0,0]
[null,null,{"$f":"WINEP_Schemes!C140","v":"KSL00446"},{"$f":"WINEP_Schemes!D140","v":"7SO300552"},{"$f":"WINEP_Schemes!E140","v":"SITTINGBOURNE WWTW"},{"$f":"WINEP_Schemes!F140","v":"£m"},{"$f":"WINEP_Schemes!G140","v":1},{"$f":"WINEP_Schemes!H140","v":0},{"$f":"WINEP_Schemes!J140","v":0},{"$f":"WINEP_Schemes!I140","v":0},{"$f":"WINEP_Schemes!K140","v":0},{"$f":"WINEP_Schemes!L140","v":0},{"$f":"WINEP_Schemes!M140","v":"WWN"},{"$f":"WINEP_Schemes!N140","v":0},0,0,0,0,0,0,0,0]
[null,null,{"$f":"WINEP_Schemes!C141","v":"SSD00646"},{"$f":"WINEP_Schemes!D141","v":"7SO300553"},{"$f":"WINEP_Schemes!E141","v":"SLINFOLD WWTW"},{"$f":"WINEP_Schemes!F141","v":"£m"},{"$f":"WINEP_Schemes!G141","v":1},{"$f":"WINEP_Schemes!H141","v":0},{"$f":"WINEP_Schemes!J141","v":1},{"$f":"WINEP_Schemes!I141","v":0},{"$f":"WINEP_Schemes!K141","v":1},{"$f":"WINEP_Schemes!L141","v":0},{"$f":"WINEP_Schemes!M141","v":"WWN"},{"$f":"WINEP_Schemes!N141","v":1},0,0,0,0,0,0,0,0]
[null,null,{"$f":"WINEP_Schemes!C142","v":"SSD00647"},{"$f":"WINEP_Schemes!D142","v":"7SO300554"},{"$f":"WINEP_Schemes!E142","v":"SLOWHILL COPSE MARCHWOOD WWTW"},{"$f":"WINEP_Schemes!F142","v":"£m"},{"$f":"WINEP_Schemes!G142","v":1},{"$f":"WINEP_Schemes!H142","v":0},{"$f":"WINEP_Schemes!J142","v":1},{"$f":"WINEP_Schemes!I142","v":0},{"$f":"WINEP_Schemes!K142","v":1},{"$f":"WINEP_Schemes!L142","v":0},{"$f":"WINEP_Schemes!M142","v":"WWN"},{"$f":"WINEP_Schemes!N142","v":1},0,0,0,0,0,0,0,0]
[null,null,{"$f":"WINEP_Schemes!C143","v":"SSD00648"},{"$f":"WINEP_Schemes!D143","v":"7SO300555"},{"$f":"WINEP_Schemes!E143","v":"SMALL DOLE WWTW"},{"$f":"WINEP_Schemes!F143","v":"£m"},{"$f":"WINEP_Schemes!G143","v":1},{"$f":"WINEP_Schemes!H143","v":0},{"$f":"WINEP_Schemes!J143","v":0},{"$f":"WINEP_Schemes!I143","v":0},{"$f":"WINEP_Schemes!K143","v":1},{"$f":"WINEP_Schemes!L143","v":0},{"$f":"WINEP_Schemes!M143","v":"WWN"},{"$f":"WINEP_Schemes!N143","v":0},0,0,0,0,0,0,0,0]
[null,null,{"$f":"WINEP_Schemes!C144","v":"SSD00649"},{"$f":"WINEP_Schemes!D144","v":"7SO300556"},{"$f":"WINEP_Schemes!E144","v":"SOUTH HARTING WWTW"},{"$f":"WINEP_Schemes!F144","v":"£m"},{"$f":"WINEP_Schemes!G144","v":1},{"$f":"WINEP_Schemes!H144","v":0},{"$f":"WINEP_Schemes!J144","v":1},{"$f":"WINEP_Schemes!I144","v":0},{"$f":"WINEP_Schemes!K144","v":1},{"$f":"WINEP_Schemes!L144","v":0},{"$f":"WINEP_Schemes!M144","v":"WWN"},{"$f":"WINEP_Schemes!N144","v":1},{"$f":" I145 * J145 * G145","v":0},{"$f":" N145 * O145","v":0},{"$f":" IF(L145 = 0, P145, (N145 - 1) * O145)","v":0},0,0,0,0,0]
[null,null,{"$f":"WINEP_Schemes!C145","v":"SSD00650"},{"$f":"WINEP_Schemes!D145","v":"7SO300557"},{"$f":"WINEP_Schemes!E145","v":"ST HELENS WWTW"},{"$f":"WINEP_Schemes!F145","v":"£m"},{"$f":"WINEP_Schemes!G145","v":1},{"$f":"WINEP_Schemes!H145","v":0},{"$f":"WINEP_Schemes!J145","v":0},{"$f":"WINEP_Schemes!I145","v":0},{"$f":"WINEP_Schemes!K145","v":1},{"$f":"WINEP_Schemes!L145","v":0},{"$f":"WINEP_Schemes!M145","v":"WWN"},{"$f":"WINEP_Schemes!N145","v":0},0,0,0,0,0,0,0,0]
[null,null,{"$f":"WINEP_Schemes!C146","v":"SSD00651"},{"$f":"WINEP_Schemes!D146","v":"7SO300558"},{"$f":"WINEP_Schemes!E146","v":"STEYNING WWTW"},{"$f":"WINEP_Schemes!F146","v":"£m"},{"$f":"WINEP_Schemes!G146","v":1},{"$f":"WINEP_Schemes!H146","v":0},{"$f":"WINEP_Schemes!J146","v":0},{"$f":"WINEP_Schemes!I146","v":0},{"$f":"WINEP_Schemes!K146","v":1},{"$f":"WINEP_Schemes!L146","v":0},{"$f":"WINEP_Schemes!M146","v":"WWN"},{"$f":"WINEP_Schemes!N146","v":0},0,0,0,0,0,0,0,0]
[null,null,{"$f":"WINEP_Schemes!C147","v":"KSL00447"},{"$f":"WINEP_Schemes!D147","v":"7SO300559"},{"$f":"WINEP_Schemes!E147","v":"STONE HILL ROAD EGERTON WWTW"},{"$f":"WINEP_Schemes!F147","v":"£m"},{"$f":"WINEP_Schemes!G147","v":1},{"$f":"WINEP_Schemes!H147","v":0},{"$f":"WINEP_Schemes!J147","v":0},{"$f":"WINEP_Schemes!I147","v":0},{"$f":"WINEP_Schemes!K147","v":1},{"$f":"WINEP_Schemes!L147","v":0},{"$f":"WINEP_Schemes!M147","v":"WWN"},{"$f":"WINEP_Schemes!N147","v":0},0,0,0,0,0,0,0,0]
[null,null,{"$f":"WINEP_Schemes!C148","v":"KSL00448"},{"$f":"WINEP_Schemes!D148","v":"7SO300560"},{"$f":"WINEP_Schemes!E148","v":"STUBBS LANE BREDE WWTW"},{"$f":"WINEP_Schemes!F148","v":"£m"},{"$f":"WINEP_Schemes!G148","v":1},{"$f":"WINEP_Schemes!H148","v":0},{"$f":"WINEP_Schemes!J148","v":1},{"$f":"WINEP_Schemes!I148","v":0},{"$f":"WINEP_Schemes!K148","v":1},{"$f":"WINEP_Schemes!L148","v":0},{"$f":"WINEP_Schemes!M148","v":"WWN"},{"$f":"WINEP_Schemes!N148","v":1},0,0,0,0,0,0,0,0]
[null,null,{"$f":"WINEP_Schemes!C149","v":"SSD00652"},{"$f":"WINEP_Schemes!D149","v":"7SO300561"},{"$f":"WINEP_Schemes!E149","v":"SUMMER LANE PAGHAM WWTW"},{"$f":"WINEP_Schemes!F149","v":"£m"},{"$f":"WINEP_Schemes!G149","v":1},{"$f":"WINEP_Schemes!H149","v":0},{"$f":"WINEP_Schemes!J149","v":1},{"$f":"WINEP_Schemes!I149","v":0},{"$f":"WINEP_Schemes!K149","v":0},{"$f":"WINEP_Schemes!L149","v":0},{"$f":"WINEP_Schemes!M149","v":"WWN"},{"$f":"WINEP_Schemes!N149","v":0},0,0,0,0,0,0,0,0]
[null,null,{"$f":"WINEP_Schemes!C150","v":"KSL00449"},{"$f":"WINEP_Schemes!D150","v":"7SO300562"},{"$f":"WINEP_Schemes!E150","v":"SWALECLIFFE WWTW"},{"$f":"WINEP_Schemes!F150","v":"£m"},{"$f":"WINEP_Schemes!G150","v":1},{"$f":"WINEP_Schemes!H150","v":0},{"$f":"WINEP_Schemes!J150","v":0},{"$f":"WINEP_Schemes!I150","v":0},{"$f":"WINEP_Schemes!K150","v":0},{"$f":"WINEP_Schemes!L150","v":0},{"$f":"WINEP_Schemes!M150","v":"WWN"},{"$f":"WINEP_Schemes!N150","v":0},0,0,0,0,0,0,0,0]
[null,null,{"$f":"WINEP_Schemes!C151","v":"KSL00450"},{"$f":"WINEP_Schemes!D151","v":"7SO300563"},{"$f":"WINEP_Schemes!E151","v":"TUNBRIDGE WELLS SOUTH WWTW"},{"$f":"WINEP_Schemes!F151","v":"£m"},{"$f":"WINEP_Schemes!G151","v":1},{"$f":"WINEP_Schemes!H151","v":0},{"$f":"WINEP_Schemes!J151","v":0},{"$f":"WINEP_Schemes!I151","v":0},{"$f":"WINEP_Schemes!K151","v":0},{"$f":"WINEP_Schemes!L151","v":0},{"$f":"WINEP_Schemes!M151","v":"WWN"},{"$f":"WINEP_Schemes!N151","v":0},0,0,0,0,0,0,0,0]
[null,null,{"$f":"WINEP_Schemes!C152","v":"KSL00451"},{"$f":"WINEP_Schemes!D152","v":"7SO300565"},{"$f":"WINEP_Schemes!E152","v":"WEST HYTHE WWTW"},{"$f":"WINEP_Schemes!F152","v":"£m"},{"$f":"WINEP_Schemes!G152","v":1},{"$f":"WINEP_Schemes!H152","v":0},{"$f":"WINEP_Schemes!J152","v":0},{"$f":"WINEP_Schemes!I152","v":0},{"$f":"WINEP_Schemes!K152","v":1},{"$f":"WINEP_Schemes!L152","v":0},{"$f":"WINEP_Schemes!M152","v":"WWN"},{"$f":"WINEP_Schemes!N152","v":0},0,0,0,0,0,0,0,0]
[null,null,{"$f":"WINEP_Schemes!C153","v":"SSD00654"},{"$f":"WINEP_Schemes!D153","v":"7SO300566"},{"$f":"WINEP_Schemes!E153","v":"WEST WELLOW WWTW"},{"$f":"WINEP_Schemes!F153","v":"£m"},{"$f":"WINEP_Schemes!G153","v":1},{"$f":"WINEP_Schemes!H153","v":0},{"$f":"WINEP_Schemes!J153","v":1},{"$f":"WINEP_Schemes!I153","v":0},{"$f":"WINEP_Schemes!K153","v":1},{"$f":"WINEP_Schemes!L153","v":0},{"$f":"WINEP_Schemes!M153","v":"WWN"},{"$f":"WINEP_Schemes!N153","v":1},0,0,0,0,0,0,0,0]
[null,null,{"$f":"WINEP_Schemes!C154","v":"SSD00571"},{"$f":"WINEP_Schemes!D154","v":"7SO300449"},{"$f":"WINEP_Schemes!E154","v":"Southern Water PR19 flow requirements"},{"$f":"WINEP_Schemes!F154","v":"£m"},{"$f":"WINEP_Schemes!G154","v":1},{"$f":"WINEP_Schemes!H154","v":0},{"$f":"WINEP_Schemes!J154","v":1},{"$f":"WINEP_Schemes!I154","v":74.053276620122318},{"$f":"WINEP_Schemes!K154","v":0},{"$f":"WINEP_Schemes!L154","v":1},{"$f":"WINEP_Schemes!M154","v":"WWN"},{"$f":"WINEP_Schemes!N154","v":0},74.053276620122318,0,-74.053276620122318,0,0,-74.053276620122318,0,0]
[null,null,{"$f":"WINEP_Schemes!C155","v":"KSL00709"},{"$f":"WINEP_Schemes!D155","v":"7SO400112"},{"$f":"WINEP_Schemes!E155","v":"ASHFORD"},{"$f":"WINEP_Schemes!F155","v":"£m"},{"$f":"WINEP_Schemes!G155","v":1},{"$f":"WINEP_Schemes!H155","v":0},{"$f":"WINEP_Schemes!J155","v":1},{"$f":"WINEP_Schemes!I155","v":33.523000000000003},{"$f":"WINEP_Schemes!K155","v":1},{"$f":"WINEP_Schemes!L155","v":0},{"$f":"WINEP_Schemes!M155","v":"WWN"},{"$f":"WINEP_Schemes!N155","v":1},33.523000000000003,33.523000000000003,33.523000000000003,0,0,33.523000000000003,0,0]
[null,null,{"$f":"WINEP_Schemes!C156","v":"SSD00942"},{"$f":"WINEP_Schemes!D156","v":"7SO400113"},{"$f":"WINEP_Schemes!E156","v":"ASHINGTON"},{"$f":"WINEP_Schemes!F156","v":"£m"},{"$f":"WINEP_Schemes!G156","v":1},{"$f":"WINEP_Schemes!H156","v":0},{"$f":"WINEP_Schemes!J156","v":0},{"$f":"WINEP_Schemes!I156","v":0},{"$f":"WINEP_Schemes!K156","v":1},{"$f":"WINEP_Schemes!L156","v":0},{"$f":"WINEP_Schemes!M156","v":"WWN"},{"$f":"WINEP_Schemes!N156","v":0},0,0,0,0,0,0,0,0]
[null,null,{"$f":"WINEP_Schemes!C157","v":"SSD00943"},{"$f":"WINEP_Schemes!D157","v":"7SO400114"},{"$f":"WINEP_Schemes!E157","v":"BALCOMBE"},{"$f":"WINEP_Schemes!F157","v":"£m"},{"$f":"WINEP_Schemes!G157","v":1},{"$f":"WINEP_Schemes!H157","v":0},{"$f":"WINEP_Schemes!J157","v":1},{"$f":"WINEP_Schemes!I157","v":0},{"$f":"WINEP_Schemes!K157","v":1},{"$f":"WINEP_Schemes!L157","v":0},{"$f":"WINEP_Schemes!M157","v":"WWN"},{"$f":"WINEP_Schemes!N157","v":1},0,0,0,0,0,0,0,0]
[null,null,{"$f":"WINEP_Schemes!C158","v":"SSD00944"},{"$f":"WINEP_Schemes!D158","v":"7SO400115"},{"$f":"WINEP_Schemes!E158","v":"BARCOMBE NEW"},{"$f":"WINEP_Schemes!F158","v":"£m"},{"$f":"WINEP_Schemes!G158","v":1},{"$f":"WINEP_Schemes!H158","v":0},{"$f":"WINEP_Schemes!J158","v":0},{"$f":"WINEP_Schemes!I158","v":0},{"$f":"WINEP_Schemes!K158","v":1},{"$f":"WINEP_Schemes!L158","v":0},{"$f":"WINEP_Schemes!M158","v":"WWN"},{"$f":"WINEP_Schemes!N158","v":0},0,0,0,0,0,0,0,0]
[null,null,{"$f":"WINEP_Schemes!C159","v":"SSD00945"},{"$f":"WINEP_Schemes!D159","v":"7SO400116"},{"$f":"WINEP_Schemes!E159","v":"BARNS GREEN"},{"$f":"WINEP_Schemes!F159","v":"£m"},{"$f":"WINEP_Schemes!G159","v":1},{"$f":"WINEP_Schemes!H159","v":0},{"$f":"WINEP_Schemes!J159","v":0},{"$f":"WINEP_Schemes!I159","v":0},{"$f":"WINEP_Schemes!K159","v":1},{"$f":"WINEP_Schemes!L159","v":0},{"$f":"WINEP_Schemes!M159","v":"WWN"},{"$f":"WINEP_Schemes!N159","v":0},0,0,0,0,0,0,0,0]
[null,null,{"$f":"WINEP_Schemes!C160","v":"KSL00710"},{"$f":"WINEP_Schemes!D160","v":"7SO400117"},{"$f":"WINEP_Schemes!E160","v":"BATTLE"},{"$f":"WINEP_Schemes!F160","v":"£m"},{"$f":"WINEP_Schemes!G160","v":1},{"$f":"WINEP_Schemes!H160","v":0},{"$f":"WINEP_Schemes!J160","v":1},{"$f":"WINEP_Schemes!I160","v":0},{"$f":"WINEP_Schemes!K160","v":1},{"$f":"WINEP_Schemes!L160","v":0},{"$f":"WINEP_Schemes!M160","v":"WWN"},{"$f":"WINEP_Schemes!N160","v":1},0,0,0,0,0,0,0,0]
[null,null,{"$f":"WINEP_Schemes!C161","v":"SSD00946"},{"$f":"WINEP_Schemes!D161","v":"7SO400118"},{"$f":"WINEP_Schemes!E161","v":"BILLINGSHURST"},{"$f":"WINEP_Schemes!F161","v":"£m"},{"$f":"WINEP_Schemes!G161","v":1},{"$f":"WINEP_Schemes!H161","v":0},{"$f":"WINEP_Schemes!J161","v":1},{"$f":"WINEP_Schemes!I161","v":0},{"$f":"WINEP_Schemes!K161","v":1},{"$f":"WINEP_Schemes!L161","v":0},{"$f":"WINEP_Schemes!M161","v":"WWN"},{"$f":"WINEP_Schemes!N161","v":1},0,0,0,0,0,0,0,0]
[null,null,{"$f":"WINEP_Schemes!C162","v":"SSD00947"},{"$f":"WINEP_Schemes!D162","v":"7SO400119"},{"$f":"WINEP_Schemes!E162","v":"BLACKBOYS"},{"$f":"WINEP_Schemes!F162","v":"£m"},{"$f":"WINEP_Schemes!G162","v":1},{"$f":"WINEP_Schemes!H162","v":0},{"$f":"WINEP_Schemes!J162","v":1},{"$f":"WINEP_Schemes!I162","v":0},{"$f":"WINEP_Schemes!K162","v":1},{"$f":"WINEP_Schemes!L162","v":0},{"$f":"WINEP_Schemes!M162","v":"WWN"},{"$f":"WINEP_Schemes!N162","v":1},0,0,0,0,0,0,0,0]
[null,null,{"$f":"WINEP_Schemes!C163","v":"SSD00948"},{"$f":"WINEP_Schemes!D163","v":"7SO400120"},{"$f":"WINEP_Schemes!E163","v":"BUDDS FARM HAVANT (Havant)"},{"$f":"WINEP_Schemes!F163","v":"£m"},{"$f":"WINEP_Schemes!G163","v":1},{"$f":"WINEP_Schemes!H163","v":0},{"$f":"WINEP_Schemes!J163","v":1},{"$f":"WINEP_Schemes!I163","v":0},{"$f":"WINEP_Schemes!K163","v":0},{"$f":"WINEP_Schemes!L163","v":0},{"$f":"WINEP_Schemes!M163","v":"WWN"},{"$f":"WINEP_Schemes!N163","v":0},0,0,0,0,0,0,0,0]
[null,null,{"$f":"WINEP_Schemes!C164","v":"SSD00949"},{"$f":"WINEP_Schemes!D164","v":"7SO400121"},{"$f":"WINEP_Schemes!E164","v":"BUXTED"},{"$f":"WINEP_Schemes!F164","v":"£m"},{"$f":"WINEP_Schemes!G164","v":1},{"$f":"WINEP_Schemes!H164","v":0},{"$f":"WINEP_Schemes!J164","v":0},{"$f":"WINEP_Schemes!I164","v":0},{"$f":"WINEP_Schemes!K164","v":1},{"$f":"WINEP_Schemes!L164","v":0},{"$f":"WINEP_Schemes!M164","v":"WWN"},{"$f":"WINEP_Schemes!N164","v":0},0,0,0,0,0,0,0,0]
[null,null,{"$f":"WINEP_Schemes!C165","v":"SSD00950"},{"$f":"WINEP_Schemes!D165","v":"7SO400122"},{"$f":"WINEP_Schemes!E165","v":"CHICKENHALL EASTLEIGH"},{"$f":"WINEP_Schemes!F165","v":"£m"},{"$f":"WINEP_Schemes!G165","v":1},{"$f":"WINEP_Schemes!H165","v":0},{"$f":"WINEP_Schemes!J165","v":1},{"$f":"WINEP_Schemes!I165","v":0},{"$f":"WINEP_Schemes!K165","v":1},{"$f":"WINEP_Schemes!L165","v":0},{"$f":"WINEP_Schemes!M165","v":"WWN"},{"$f":"WINEP_Schemes!N165","v":1},0,0,0,0,0,0,0,0]
[null,null,{"$f":"WINEP_Schemes!C166","v":"KSL00711"},{"$f":"WINEP_Schemes!D166","v":"7SO400123"},{"$f":"WINEP_Schemes!E166","v":"DAMBRIDGE WINGHAM"},{"$f":"WINEP_Schemes!F166","v":"£m"},{"$f":"WINEP_Schemes!G166","v":1},{"$f":"WINEP_Schemes!H166","v":0},{"$f":"WINEP_Schemes!J166","v":0},{"$f":"WINEP_Schemes!I166","v":0},{"$f":"WINEP_Schemes!K166","v":1},{"$f":"WINEP_Schemes!L166","v":0},{"$f":"WINEP_Schemes!M166","v":"WWN"},{"$f":"WINEP_Schemes!N166","v":0},0,0,0,0,0,0,0,0]
[null,null,{"$f":"WINEP_Schemes!C167","v":"SSD00951"},{"$f":"WINEP_Schemes!D167","v":"7SO400124"},{"$f":"WINEP_Schemes!E167","v":"DITCHLING"},{"$f":"WINEP_Schemes!F167","v":"£m"},{"$f":"WINEP_Schemes!G167","v":1},{"$f":"WINEP_Schemes!H167","v":0},{"$f":"WINEP_Schemes!J167","v":1},{"$f":"WINEP_Schemes!I167","v":0},{"$f":"WINEP_Schemes!K167","v":1},{"$f":"WINEP_Schemes!L167","v":0},{"$f":"WINEP_Schemes!M167","v":"WWN"},{"$f":"WINEP_Schemes!N167","v":1},0,0,0,0,0,0,0,0]
[null,null,{"$f":"WINEP_Schemes!C168","v":"KSL00712"},{"$f":"WINEP_Schemes!D168","v":"7SO400125"},{"$f":"WINEP_Schemes!E168","v":"DITTON"},{"$f":"WINEP_Schemes!F168","v":"£m"},{"$f":"WINEP_Schemes!G168","v":1},{"$f":"WINEP_Schemes!H168","v":0},{"$f":"WINEP_Schemes!J168","v":1},{"$f":"WINEP_Schemes!I168","v":0},{"$f":"WINEP_Schemes!K168","v":1},{"$f":"WINEP_Schemes!L168","v":0},{"$f":"WINEP_Schemes!M168","v":"WWN"},{"$f":"WINEP_Schemes!N168","v":1},0,0,0,0,0,0,0,0]
[null,null,{"$f":"WINEP_Schemes!C169","v":"SSD00952"},{"$f":"WINEP_Schemes!D169","v":"7SO400126"},{"$f":"WINEP_Schemes!E169","v":"EAST DEAN"},{"$f":"WINEP_Schemes!F169","v":"£m"},{"$f":"WINEP_Schemes!G169","v":1},{"$f":"WINEP_Schemes!H169","v":0},{"$f":"WINEP_Schemes!J169","v":1},{"$f":"WINEP_Schemes!I169","v":0},{"$f":"WINEP_Schemes!K169","v":1},{"$f":"WINEP_Schemes!L169","v":0},{"$f":"WINEP_Schemes!M169","v":"WWN"},{"$f":"WINEP_Schemes!N169","v":1},0,0,0,0,0,0,0,0]
[null,null,{"$f":"WINEP_Schemes!C170","v":"SSD00953"},{"$f":"WINEP_Schemes!D170","v":"7SO400127"},{"$f":"WINEP_Schemes!E170","v":"EAST GRIMSTEAD"},{"$f":"WINEP_Schemes!F170","v":"£m"},{"$f":"WINEP_Schemes!G170","v":1},{"$f":"WINEP_Schemes!H170","v":0},{"$f":"WINEP_Schemes!J170","v":1},{"$f":"WINEP_Schemes!I170","v":0},{"$f":"WINEP_Schemes!K170","v":1},{"$f":"WINEP_Schemes!L170","v":0},{"$f":"WINEP_Schemes!M170","v":"WWN"},{"$f":"WINEP_Schemes!N170","v":1},0,0,0,0,0,0,0,0]
[null,null,{"$f":"WINEP_Schemes!C171","v":"KSL00713"},{"$f":"WINEP_Schemes!D171","v":"7SO400128"},{"$f":"WINEP_Schemes!E171","v":"EDEN VALE EAST GRINSTEAD"},{"$f":"WINEP_Schemes!F171","v":"£m"},{"$f":"WINEP_Schemes!G171","v":1},{"$f":"WINEP_Schemes!H171","v":0},{"$f":"WINEP_Schemes!J171","v":0},{"$f":"WINEP_Schemes!I171","v":0},{"$f":"WINEP_Schemes!K171","v":1},{"$f":"WINEP_Schemes!L171","v":0},{"$f":"WINEP_Schemes!M171","v":"WWN"},{"$f":"WINEP_Schemes!N171","v":0},0,0,0,0,0,0,0,0]
[null,null,{"$f":"WINEP_Schemes!C172","v":"KSL00714"},{"$f":"WINEP_Schemes!D172","v":"7SO400129"},{"$f":"WINEP_Schemes!E172","v":"EDENBRIDGE"},{"$f":"WINEP_Schemes!F172","v":"£m"},{"$f":"WINEP_Schemes!G172","v":1},{"$f":"WINEP_Schemes!H172","v":0},{"$f":"WINEP_Schemes!J172","v":0},{"$f":"WINEP_Schemes!I172","v":0},{"$f":"WINEP_Schemes!K172","v":1},{"$f":"WINEP_Schemes!L172","v":0},{"$f":"WINEP_Schemes!M172","v":"WWN"},{"$f":"WINEP_Schemes!N172","v":0},0,0,0,0,0,0,0,0]
[null,null,{"$f":"WINEP_Schemes!C173","v":"KSL00715"},{"$f":"WINEP_Schemes!D173","v":"7SO400130"},{"$f":"WINEP_Schemes!E173","v":"GRAVESEND"},{"$f":"WINEP_Schemes!F173","v":"£m"},{"$f":"WINEP_Schemes!G173","v":1},{"$f":"WINEP_Schemes!H173","v":0},{"$f":"WINEP_Schemes!J173","v":1},{"$f":"WINEP_Schemes!I173","v":0},{"$f":"WINEP_Schemes!K173","v":1},{"$f":"WINEP_Schemes!L173","v":0},{"$f":"WINEP_Schemes!M173","v":"WWN"},{"$f":"WINEP_Schemes!N173","v":1},0,0,0,0,0,0,0,0]
[null,null,{"$f":"WINEP_Schemes!C174","v":"KSL00716"},{"$f":"WINEP_Schemes!D174","v":"7SO400131"},{"$f":"WINEP_Schemes!E174","v":"HAM HILL"},{"$f":"WINEP_Schemes!F174","v":"£m"},{"$f":"WINEP_Schemes!G174","v":1},{"$f":"WINEP_Schemes!H174","v":0},{"$f":"WINEP_Schemes!J174","v":0},{"$f":"WINEP_Schemes!I174","v":0},{"$f":"WINEP_Schemes!K174","v":1},{"$f":"WINEP_Schemes!L174","v":0},{"$f":"WINEP_Schemes!M174","v":"WWN"},{"$f":"WINEP_Schemes!N174","v":0},0,0,0,0,0,0,0,0]
[null,null,{"$f":"WINEP_Schemes!C175","v":"SSD00954"},{"$f":"WINEP_Schemes!D175","v":"7SO400132"},{"$f":"WINEP_Schemes!E175","v":"HARTFIELD"},{"$f":"WINEP_Schemes!F175","v":"£m"},{"$f":"WINEP_Schemes!G175","v":1},{"$f":"WINEP_Schemes!H175","v":0},{"$f":"WINEP_Schemes!J175","v":0},{"$f":"WINEP_Schemes!I175","v":0},{"$f":"WINEP_Schemes!K175","v":1},{"$f":"WINEP_Schemes!L175","v":0},{"$f":"WINEP_Schemes!M175","v":"WWN"},{"$f":"WINEP_Schemes!N175","v":0},0,0,0,0,0,0,0,0]
[null,null,{"$f":"WINEP_Schemes!C176","v":"KSL00717"},{"$f":"WINEP_Schemes!D176","v":"7SO400133"},{"$f":"WINEP_Schemes!E176","v":"HAWKHURST NORTH"},{"$f":"WINEP_Schemes!F176","v":"£m"},{"$f":"WINEP_Schemes!G176","v":1},{"$f":"WINEP_Schemes!H176","v":0},{"$f":"WINEP_Schemes!J176","v":1},{"$f":"WINEP_Schemes!I176","v":0},{"$f":"WINEP_Schemes!K176","v":1},{"$f":"WINEP_Schemes!L176","v":0},{"$f":"WINEP_Schemes!M176","v":"WWN"},{"$f":"WINEP_Schemes!N176","v":1},0,0,0,0,0,0,0,0]
[null,null,{"$f":"WINEP_Schemes!C177","v":"SSD00955"},{"$f":"WINEP_Schemes!D177","v":"7SO400134"},{"$f":"WINEP_Schemes!E177","v":"HENFIELD"},{"$f":"WINEP_Schemes!F177","v":"£m"},{"$f":"WINEP_Schemes!G177","v":1},{"$f":"WINEP_Schemes!H177","v":0},{"$f":"WINEP_Schemes!J177","v":1},{"$f":"WINEP_Schemes!I177","v":0},{"$f":"WINEP_Schemes!K177","v":1},{"$f":"WINEP_Schemes!L177","v":0},{"$f":"WINEP_Schemes!M177","v":"WWN"},{"$f":"WINEP_Schemes!N177","v":1},0,0,0,0,0,0,0,0]
[null,null,{"$f":"WINEP_Schemes!C178","v":"KSL00718"},{"$f":"WINEP_Schemes!D178","v":"7SO400135"},{"$f":"WINEP_Schemes!E178","v":"HIGH HALDEN"},{"$f":"WINEP_Schemes!F178","v":"£m"},{"$f":"WINEP_Schemes!G178","v":1},{"$f":"WINEP_Schemes!H178","v":0},{"$f":"WINEP_Schemes!J178","v":1},{"$f":"WINEP_Schemes!I178","v":0},{"$f":"WINEP_Schemes!K178","v":1},{"$f":"WINEP_Schemes!L178","v":0},{"$f":"WINEP_Schemes!M178","v":"WWN"},{"$f":"WINEP_Schemes!N178","v":1},0,0,0,0,0,0,0,0]
[null,null,{"$f":"WINEP_Schemes!C179","v":"KSL00719"},{"$f":"WINEP_Schemes!D179","v":"7SO400136"},{"$f":"WINEP_Schemes!E179","v":"IDEN"},{"$f":"WINEP_Schemes!F179","v":"£m"},{"$f":"WINEP_Schemes!G179","v":1},{"$f":"WINEP_Schemes!H179","v":0},{"$f":"WINEP_Schemes!J179","v":0},{"$f":"WINEP_Schemes!I179","v":0},{"$f":"WINEP_Schemes!K179","v":1},{"$f":"WINEP_Schemes!L179","v":0},{"$f":"WINEP_Schemes!M179","v":"WWN"},{"$f":"WINEP_Schemes!N179","v":0},0,0,0,0,0,0,0,0]
[null,null,{"$f":"WINEP_Schemes!C180","v":"KSL00720"},{"$f":"WINEP_Schemes!D180","v":"7SO400137"},{"$f":"WINEP_Schemes!E180","v":"KILNDOWN"},{"$f":"WINEP_Schemes!F180","v":"£m"},{"$f":"WINEP_Schemes!G180","v":1},{"$f":"WINEP_Schemes!H180","v":0},{"$f":"WINEP_Schemes!J180","v":0},{"$f":"WINEP_Schemes!I180","v":0},{"$f":"WINEP_Schemes!K180","v":1},{"$f":"WINEP_Schemes!L180","v":0},{"$f":"WINEP_Schemes!M180","v":"WWN"},{"$f":"WINEP_Schemes!N180","v":0},0,0,0,{"$f":" IF($M181 = R$9, $Q181, 0)","v":0},0,0,0,0]
[null,null,{"$f":"WINEP_Schemes!C181","v":"SSD00956"},{"$f":"WINEP_Schemes!D181","v":"7SO400138"},{"$f":"WINEP_Schemes!E181","v":"LAVANT"},{"$f":"WINEP_Schemes!F181","v":"£m"},{"$f":"WINEP_Schemes!G181","v":1},{"$f":"WINEP_Schemes!H181","v":0},{"$f":"WINEP_Schemes!J181","v":0},{"$f":"WINEP_Schemes!I181","v":0},{"$f":"WINEP_Schemes!K181","v":1},{"$f":"WINEP_Schemes!L181","v":0},{"$f":"WINEP_Schemes!M181","v":"WWN"},{"$f":"WINEP_Schemes!N181","v":0},0,0,0,0,0,0,0,0]
[null,null,{"$f":"WINEP_Schemes!C182","v":"SSD00957"},{"$f":"WINEP_Schemes!D182","v":"7SO400139"},{"$f":"WINEP_Schemes!E182","v":"MORESTEAD ROAD WINCHESTER"},{"$f":"WINEP_Schemes!F182","v":"£m"},{"$f":"WINEP_Schemes!G182","v":1},{"$f":"WINEP_Schemes!H182","v":0},{"$f":"WINEP_Schemes!J182","v":0},{"$f":"WINEP_Schemes!I182","v":0},{"$f":"WINEP_Schemes!K182","v":0},{"$f":"WINEP_Schemes!L182","v":0},{"$f":"WINEP_Schemes!M182","v":"WWN"},{"$f":"WINEP_Schemes!N182","v":0},0,0,0,0,0,0,0,0]
[null,null,{"$f":"WINEP_Schemes!C183","v":"KSL00721"},{"$f":"WINEP_Schemes!D183","v":"7SO400140"},{"$f":"WINEP_Schemes!E183","v":"MOTNEY HILL"},{"$f":"WINEP_Schemes!F183","v":"£m"},{"$f":"WINEP_Schemes!G183","v":1},{"$f":"WINEP_Schemes!H183","v":0},{"$f":"WINEP_Schemes!J183","v":0},{"$f":"WINEP_Schemes!I183","v":0},{"$f":"WINEP_Schemes!K183","v":0},{"$f":"WINEP_Schemes!L183","v":0},{"$f":"WINEP_Schemes!M183","v":"WWN"},{"$f":"WINEP_Schemes!N183","v":0},0,0,0,0,0,0,0,0]
[null,null,{"$f":"WINEP_Schemes!C184","v":"SSD00958"},{"$f":"WINEP_Schemes!D184","v":"7SO400141"},{"$f":"WINEP_Schemes!E184","v":"NEW ALRESFORD"},{"$f":"WINEP_Schemes!F184","v":"£m"},{"$f":"WINEP_Schemes!G184","v":1},{"$f":"WINEP_Schemes!H184","v":0},{"$f":"WINEP_Schemes!J184","v":0},{"$f":"WINEP_Schemes!I184","v":0},{"$f":"WINEP_Schemes!K184","v":1},{"$f":"WINEP_Schemes!L184","v":0},{"$f":"WINEP_Schemes!M184","v":"WWN"},{"$f":"WINEP_Schemes!N184","v":0},0,0,0,0,0,0,0,0]
[null,null,{"$f":"WINEP_Schemes!C185","v":"KSL00722"},{"$f":"WINEP_Schemes!D185","v":"7SO400142"},{"$f":"WINEP_Schemes!E185","v":"NEWBURY LANE CUCKFIELD"},{"$f":"WINEP_Schemes!F185","v":"£m"},{"$f":"WINEP_Schemes!G185","v":1},{"$f":"WINEP_Schemes!H185","v":0},{"$f":"WINEP_Schemes!J185","v":1},{"$f":"WINEP_Schemes!I185","v":0},{"$f":"WINEP_Schemes!K185","v":1},{"$f":"WINEP_Schemes!L185","v":0},{"$f":"WINEP_Schemes!M185","v":"WWN"},{"$f":"WINEP_Schemes!N185","v":1},0,0,0,0,0,0,0,0]
[null,null,{"$f":"WINEP_Schemes!C186","v":"SSD00959"},{"$f":"WINEP_Schemes!D186","v":"7SO400143"},{"$f":"WINEP_Schemes!E186","v":"NEWICK"},{"$f":"WINEP_Schemes!F186","v":"£m"},{"$f":"WINEP_Schemes!G186","v":1},{"$f":"WINEP_Schemes!H186","v":0},{"$f":"WINEP_Schemes!J186","v":0},{"$f":"WINEP_Schemes!I186","v":0},{"$f":"WINEP_Schemes!K186","v":1},{"$f":"WINEP_Schemes!L186","v":0},{"$f":"WINEP_Schemes!M186","v":"WWN"},{"$f":"WINEP_Schemes!N186","v":0},0,0,0,0,0,0,0,0]
[null,null,{"$f":"WINEP_Schemes!C187","v":"SSD00960"},{"$f":"WINEP_Schemes!D187","v":"7SO400144"},{"$f":"WINEP_Schemes!E187","v":"OVERTON"},{"$f":"WINEP_Schemes!F187","v":"£m"},{"$f":"WINEP_Schemes!G187","v":1},{"$f":"WINEP_Schemes!H187","v":0},{"$f":"WINEP_Schemes!J187","v":1},{"$f":"WINEP_Schemes!I187","v":0},{"$f":"WINEP_Schemes!K187","v":1},{"$f":"WINEP_Schemes!L187","v":0},{"$f":"WINEP_Schemes!M187","v":"WWN"},{"$f":"WINEP_Schemes!N187","v":1},0,0,0,0,0,0,0,0]
[null,null,{"$f":"WINEP_Schemes!C188","v":"SSD00961"},{"$f":"WINEP_Schemes!D188","v":"7SO400145"},{"$f":"WINEP_Schemes!E188","v":"PETERSFIELD"},{"$f":"WINEP_Schemes!F188","v":"£m"},{"$f":"WINEP_Schemes!G188","v":1},{"$f":"WINEP_Schemes!H188","v":0},{"$f":"WINEP_Schemes!J188","v":1},{"$f":"WINEP_Schemes!I188","v":0},{"$f":"WINEP_Schemes!K188","v":1},{"$f":"WINEP_Schemes!L188","v":0},{"$f":"WINEP_Schemes!M188","v":"WWN"},{"$f":"WINEP_Schemes!N188","v":1},0,0,0,0,0,0,0,0]
[null,null,{"$f":"WINEP_Schemes!C189","v":"SSD00962"},{"$f":"WINEP_Schemes!D189","v":"7SO400146"},{"$f":"WINEP_Schemes!E189","v":"PORTSWOOD"},{"$f":"WINEP_Schemes!F189","v":"£m"},{"$f":"WINEP_Schemes!G189","v":1},{"$f":"WINEP_Schemes!H189","v":0},{"$f":"WINEP_Schemes!J189","v":1},{"$f":"WINEP_Schemes!I189","v":0},{"$f":"WINEP_Schemes!K189","v":1},{"$f":"WINEP_Schemes!L189","v":0},{"$f":"WINEP_Schemes!M189","v":"WWN"},{"$f":"WINEP_Schemes!N189","v":1},0,0,0,0,0,0,0,0]
[null,null,{"$f":"WINEP_Schemes!C190","v":"KSL00723"},{"$f":"WINEP_Schemes!D190","v":"7SO400147"},{"$f":"WINEP_Schemes!E190","v":"QUEENBOROUGH"},{"$f":"WINEP_Schemes!F190","v":"£m"},{"$f":"WINEP_Schemes!G190","v":1},{"$f":"WINEP_Schemes!H190","v":0},{"$f":"WINEP_Schemes!J190","v":1},{"$f":"WINEP_Schemes!I190","v":0},{"$f":"WINEP_Schemes!K190","v":1},{"$f":"WINEP_Schemes!L190","v":0},{"$f":"WINEP_Schemes!M190","v":"WWN"},{"$f":"WINEP_Schemes!N190","v":1},0,0,0,0,0,0,0,0]
[null,null,{"$f":"WINEP_Schemes!C191","v":"KSL00724"},{"$f":"WINEP_Schemes!D191","v":"7SO400148"},{"$f":"WINEP_Schemes!E191","v":"QUICKBOURNE LANE NORTHIAM"},{"$f":"WINEP_Schemes!F191","v":"£m"},{"$f":"WINEP_Schemes!G191","v":1},{"$f":"WINEP_Schemes!H191","v":0},{"$f":"WINEP_Schemes!J191","v":1},{"$f":"WINEP_Schemes!I191","v":0},{"$f":"WINEP_Schemes!K191","v":1},{"$f":"WINEP_Schemes!L191","v":0},{"$f":"WINEP_Schemes!M191","v":"WWN"},{"$f":"WINEP_Schemes!N191","v":1},0,0,0,0,0,0,0,0]
[null,null,{"$f":"WINEP_Schemes!C192","v":"KSL00725"},{"$f":"WINEP_Schemes!D192","v":"7SO400149"},{"$f":"WINEP_Schemes!E192","v":"READING STREET"},{"$f":"WINEP_Schemes!F192","v":"£m"},{"$f":"WINEP_Schemes!G192","v":1},{"$f":"WINEP_Schemes!H192","v":0},{"$f":"WINEP_Schemes!J192","v":0},{"$f":"WINEP_Schemes!I192","v":0},{"$f":"WINEP_Schemes!K192","v":1},{"$f":"WINEP_Schemes!L192","v":0},{"$f":"WINEP_Schemes!M192","v":"WWN"},{"$f":"WINEP_Schemes!N192","v":0},0,0,0,0,0,0,0,0]
[null,null,{"$f":"WINEP_Schemes!C193","v":"SSD00963"},{"$f":"WINEP_Schemes!D193","v":"7SO400150"},{"$f":"WINEP_Schemes!E193","v":"REDLYNCH"},{"$f":"WINEP_Schemes!F193","v":"£m"},{"$f":"WINEP_Schemes!G193","v":1},{"$f":"WINEP_Schemes!H193","v":0},{"$f":"WINEP_Schemes!J193","v":0},{"$f":"WINEP_Schemes!I193","v":0},{"$f":"WINEP_Schemes!K193","v":1},{"$f":"WINEP_Schemes!L193","v":0},{"$f":"WINEP_Schemes!M193","v":"WWN"},{"$f":"WINEP_Schemes!N193","v":0},0,0,0,0,0,0,0,0]
[null,null,{"$f":"WINEP_Schemes!C194","v":"SSD00964"},{"$f":"WINEP_Schemes!D194","v":"7SO400151"},{"$f":"WINEP_Schemes!E194","v":"ROGATE"},{"$f":"WINEP_Schemes!F194","v":"£m"},{"$f":"WINEP_Schemes!G194","v":1},{"$f":"WINEP_Schemes!H194","v":0},{"$f":"WINEP_Schemes!J194","v":1},{"$f":"WINEP_Schemes!I194","v":0},{"$f":"WINEP_Schemes!K194","v":1},{"$f":"WINEP_Schemes!L194","v":0},{"$f":"WINEP_Schemes!M194","v":"WWN"},{"$f":"WINEP_Schemes!N194","v":1},0,0,0,0,0,0,0,0]
[null,null,{"$f":"WINEP_Schemes!C195","v":"KSL00726"},{"$f":"WINEP_Schemes!D195","v":"7SO400152"},{"$f":"WINEP_Schemes!E195","v":"SANDHURST"},{"$f":"WINEP_Schemes!F195","v":"£m"},{"$f":"WINEP_Schemes!G195","v":1},{"$f":"WINEP_Schemes!H195","v":0},{"$f":"WINEP_Schemes!J195","v":0},{"$f":"WINEP_Schemes!I195","v":0},{"$f":"WINEP_Schemes!K195","v":1},{"$f":"WINEP_Schemes!L195","v":0},{"$f":"WINEP_Schemes!M195","v":"WWN"},{"$f":"WINEP_Schemes!N195","v":0},0,0,0,0,0,0,0,0]
[null,null,{"$f":"WINEP_Schemes!C196","v":"SSD00965"},{"$f":"WINEP_Schemes!D196","v":"7SO400153"},{"$f":"WINEP_Schemes!E196","v":"SANDOWN NEW"},{"$f":"WINEP_Schemes!F196","v":"£m"},{"$f":"WINEP_Schemes!G196","v":1},{"$f":"WINEP_Schemes!H196","v":0},{"$f":"WINEP_Schemes!J196","v":0},{"$f":"WINEP_Schemes!I196","v":0},{"$f":"WINEP_Schemes!K196","v":1},{"$f":"WINEP_Schemes!L196","v":0},{"$f":"WINEP_Schemes!M196","v":"WWN"},{"$f":"WINEP_Schemes!N196","v":0},0,0,0,0,0,0,0,0]
[null,null,{"$f":"WINEP_Schemes!C197","v":"SSD00966"},{"$f":"WINEP_Schemes!D197","v":"7SO400154"},{"$f":"WINEP_Schemes!E197","v":"SHORWELL"},{"$f":"WINEP_Schemes!F197","v":"£m"},{"$f":"WINEP_Schemes!G197","v":1},{"$f":"WINEP_Schemes!H197","v":0},{"$f":"WINEP_Schemes!J197","v":1},{"$f":"WINEP_Schemes!I197","v":0},{"$f":"WINEP_Schemes!K197","v":1},{"$f":"WINEP_Schemes!L197","v":0},{"$f":"WINEP_Schemes!M197","v":"WWN"},{"$f":"WINEP_Schemes!N197","v":1},0,0,0,0,0,0,0,0]
[null,null,{"$f":"WINEP_Schemes!C198","v":"SSD00967"},{"$f":"WINEP_Schemes!D198","v":"7SO400155"},{"$f":"WINEP_Schemes!E198","v":"SIDLESHAM"},{"$f":"WINEP_Schemes!F198","v":"£m"},{"$f":"WINEP_Schemes!G198","v":1},{"$f":"WINEP_Schemes!H198","v":0},{"$f":"WINEP_Schemes!J198","v":0},{"$f":"WINEP_Schemes!I198","v":0},{"$f":"WINEP_Schemes!K198","v":1},{"$f":"WINEP_Schemes!L198","v":0},{"$f":"WINEP_Schemes!M198","v":"WWN"},{"$f":"WINEP_Schemes!N198","v":0},0,0,0,0,0,0,0,0]
[null,null,{"$f":"WINEP_Schemes!C199","v":"KSL00727"},{"$f":"WINEP_Schemes!D199","v":"7SO400156"},{"$f":"WINEP_Schemes!E199","v":"SITTINGBOURNE"},{"$f":"WINEP_Schemes!F199","v":"£m"},{"$f":"WINEP_Schemes!G199","v":1},{"$f":"WINEP_Schemes!H199","v":0},{"$f":"WINEP_Schemes!J199","v":1},{"$f":"WINEP_Schemes!I199","v":0},{"$f":"WINEP_Schemes!K199","v":1},{"$f":"WINEP_Schemes!L199","v":0},{"$f":"WINEP_Schemes!M199","v":"WWN"},{"$f":"WINEP_Schemes!N199","v":1},0,0,0,0,0,0,0,0]
[null,null,{"$f":"WINEP_Schemes!C200","v":"KSL00728"},{"$f":"WINEP_Schemes!D200","v":"7SO400157"},{"$f":"WINEP_Schemes!E200","v":"SMARDEN"},{"$f":"WINEP_Schemes!F200","v":"£m"},{"$f":"WINEP_Schemes!G200","v":1},{"$f":"WINEP_Schemes!H200","v":0},{"$f":"WINEP_Schemes!J200","v":0},{"$f":"WINEP_Schemes!I200","v":0},{"$f":"WINEP_Schemes!K200","v":1},{"$f":"WINEP_Schemes!L200","v":0},{"$f":"WINEP_Schemes!M200","v":"WWN"},{"$f":"WINEP_Schemes!N200","v":0},0,0,0,0,0,0,0,0]
[null,null,{"$f":"WINEP_Schemes!C201","v":"SSD00968"},{"$f":"WINEP_Schemes!D201","v":"7SO400158"},{"$f":"WINEP_Schemes!E201","v":"SOUTH AMBERSHAM"},{"$f":"WINEP_Schemes!F201","v":"£m"},{"$f":"WINEP_Schemes!G201","v":1},{"$f":"WINEP_Schemes!H201","v":0},{"$f":"WINEP_Schemes!J201","v":1},{"$f":"WINEP_Schemes!I201","v":0},{"$f":"WINEP_Schemes!K201","v":1},{"$f":"WINEP_Schemes!L201","v":0},{"$f":"WINEP_Schemes!M201","v":"WWN"},{"$f":"WINEP_Schemes!N201","v":1},0,0,0,0,0,0,0,0]
[null,null,{"$f":"WINEP_Schemes!C202","v":"KSL00729"},{"$f":"WINEP_Schemes!D202","v":"7SO400159"},{"$f":"WINEP_Schemes!E202","v":"STAPLECROSS"},{"$f":"WINEP_Schemes!F202","v":"£m"},{"$f":"WINEP_Schemes!G202","v":1},{"$f":"WINEP_Schemes!H202","v":0},{"$f":"WINEP_Schemes!J202","v":0},{"$f":"WINEP_Schemes!I202","v":0},{"$f":"WINEP_Schemes!K202","v":1},{"$f":"WINEP_Schemes!L202","v":0},{"$f":"WINEP_Schemes!M202","v":"WWN"},{"$f":"WINEP_Schemes!N202","v":0},0,0,0,0,0,0,0,0]
[null,null,{"$f":"WINEP_Schemes!C203","v":"SSD00969"},{"$f":"WINEP_Schemes!D203","v":"7SO400160"},{"$f":"WINEP_Schemes!E203","v":"STORRINGTON"},{"$f":"WINEP_Schemes!F203","v":"£m"},{"$f":"WINEP_Schemes!G203","v":1},{"$f":"WINEP_Schemes!H203","v":0},{"$f":"WINEP_Schemes!J203","v":1},{"$f":"WINEP_Schemes!I203","v":0},{"$f":"WINEP_Schemes!K203","v":1},{"$f":"WINEP_Schemes!L203","v":0},{"$f":"WINEP_Schemes!M203","v":"WWN"},{"$f":"WINEP_Schemes!N203","v":1},0,0,0,0,0,0,0,0]
[null,null,{"$f":"WINEP_Schemes!C204","v":"SSD00970"},{"$f":"WINEP_Schemes!D204","v":"7SO400161"},{"$f":"WINEP_Schemes!E204","v":"SUMMER LANE PAGHAM"},{"$f":"WINEP_Schemes!F204","v":"£m"},{"$f":"WINEP_Schemes!G204","v":1},{"$f":"WINEP_Schemes!H204","v":0},{"$f":"WINEP_Schemes!J204","v":0},{"$f":"WINEP_Schemes!I204","v":0},{"$f":"WINEP_Schemes!K204","v":0},{"$f":"WINEP_Schemes!L204","v":0},{"$f":"WINEP_Schemes!M204","v":"WWN"},{"$f":"WINEP_Schemes!N204","v":0},0,0,0,0,0,0,0,0]
[null,null,{"$f":"WINEP_Schemes!C205","v":"SSD00971"},{"$f":"WINEP_Schemes!D205","v":"7SO400162"},{"$f":"WINEP_Schemes!E205","v":"TANGMERE"},{"$f":"WINEP_Schemes!F205","v":"£m"},{"$f":"WINEP_Schemes!G205","v":1},{"$f":"WINEP_Schemes!H205","v":0},{"$f":"WINEP_Schemes!J205","v":0},{"$f":"WINEP_Schemes!I205","v":0},{"$f":"WINEP_Schemes!K205","v":1},{"$f":"WINEP_Schemes!L205","v":0},{"$f":"WINEP_Schemes!M205","v":"WWN"},{"$f":"WINEP_Schemes!N205","v":0},0,0,0,0,0,0,0,0]
[null,null,{"$f":"WINEP_Schemes!C206","v":"KSL00730"},{"$f":"WINEP_Schemes!D206","v":"7SO400163"},{"$f":"WINEP_Schemes!E206","v":"TEYNHAM"},{"$f":"WINEP_Schemes!F206","v":"£m"},{"$f":"WINEP_Schemes!G206","v":1},{"$f":"WINEP_Schemes!H206","v":0},{"$f":"WINEP_Schemes!J206","v":0},{"$f":"WINEP_Schemes!I206","v":0},{"$f":"WINEP_Schemes!K206","v":1},{"$f":"WINEP_Schemes!L206","v":0},{"$f":"WINEP_Schemes!M206","v":"WWN"},{"$f":"WINEP_Schemes!N206","v":0},0,0,0,0,0,0,0,0]
[null,null,{"$f":"WINEP_Schemes!C207","v":"KSL00731"},{"$f":"WINEP_Schemes!D207","v":"7SO400164"},{"$f":"WINEP_Schemes!E207","v":"WESTBERE"},{"$f":"WINEP_Schemes!F207","v":"£m"},{"$f":"WINEP_Schemes!G207","v":1},{"$f":"WINEP_Schemes!H207","v":0},{"$f":"WINEP_Schemes!J207","v":0},{"$f":"WINEP_Schemes!I207","v":0},{"$f":"WINEP_Schemes!K207","v":1},{"$f":"WINEP_Schemes!L207","v":0},{"$f":"WINEP_Schemes!M207","v":"WWN"},{"$f":"WINEP_Schemes!N207","v":0},0,0,0,0,0,0,0,0]
[null,null,{"$f":"WINEP_Schemes!C208","v":"KSL00732"},{"$f":"WINEP_Schemes!D208","v":"7SO400165"},{"$f":"WINEP_Schemes!E208","v":"WHITEWALL CREEK"},{"$f":"WINEP_Schemes!F208","v":"£m"},{"$f":"WINEP_Schemes!G208","v":1},{"$f":"WINEP_Schemes!H208","v":0},{"$f":"WINEP_Schemes!J208","v":1},{"$f":"WINEP_Schemes!I208","v":0},{"$f":"WINEP_Schemes!K208","v":1},{"$f":"WINEP_Schemes!L208","v":0},{"$f":"WINEP_Schemes!M208","v":"WWN"},{"$f":"WINEP_Schemes!N208","v":1},{"$f":" I209 * J209 * G209","v":0},{"$f":" N209 * O209","v":0},{"$f":" IF(L209 = 0, P209, (N209 - 1) * O209)","v":0},0,0,0,0,0]
[null,null,{"$f":"WINEP_Schemes!C209","v":"SSD00972"},{"$f":"WINEP_Schemes!D209","v":"7SO400166"},{"$f":"WINEP_Schemes!E209","v":"WICKHAM"},{"$f":"WINEP_Schemes!F209","v":"£m"},{"$f":"WINEP_Schemes!G209","v":1},{"$f":"WINEP_Schemes!H209","v":0},{"$f":"WINEP_Schemes!J209","v":0},{"$f":"WINEP_Schemes!I209","v":0},{"$f":"WINEP_Schemes!K209","v":1},{"$f":"WINEP_Schemes!L209","v":0},{"$f":"WINEP_Schemes!M209","v":"WWN"},{"$f":"WINEP_Schemes!N209","v":0},0,0,0,0,0,0,0,0]
[null,null,{"$f":"WINEP_Schemes!C210","v":"KSL00733"},{"$f":"WINEP_Schemes!D210","v":"7SO400167"},{"$f":"WINEP_Schemes!E210","v":"WINDMILL HILL HERSTMONCEUX"},{"$f":"WINEP_Schemes!F210","v":"£m"},{"$f":"WINEP_Schemes!G210","v":1},{"$f":"WINEP_Schemes!H210","v":0},{"$f":"WINEP_Schemes!J210","v":0},{"$f":"WINEP_Schemes!I210","v":0},{"$f":"WINEP_Schemes!K210","v":1},{"$f":"WINEP_Schemes!L210","v":0},{"$f":"WINEP_Schemes!M210","v":"WWN"},{"$f":"WINEP_Schemes!N210","v":0},0,0,0,0,0,0,0,0]
[null,null,{"$f":"WINEP_Schemes!C211","v":"SSD00037"},{"$f":"WINEP_Schemes!D211","v":"7SO200202"},{"$f":"WINEP_Schemes!E211","v":"Southern Water PR19 shellfish water requirements"},{"$f":"WINEP_Schemes!F211","v":"£m"},{"$f":"WINEP_Schemes!G211","v":1},{"$f":"WINEP_Schemes!H211","v":0},{"$f":"WINEP_Schemes!J211","v":1},{"$f":"WINEP_Schemes!I211","v":0},{"$f":"WINEP_Schemes!K211","v":0},{"$f":"WINEP_Schemes!L211","v":0},{"$f":"WINEP_Schemes!M211","v":"WWN"},{"$f":"WINEP_Schemes!N211","v":0},0,0,0,0,0,0,0,0]
[null,null,{"$f":"WINEP_Schemes!C212","v":"SSD00041"},{"$f":"WINEP_Schemes!D212","v":"7SO200206"},{"$f":"WINEP_Schemes!E212","v":"Southern Water PR19 shellfish water requirements"},{"$f":"WINEP_Schemes!F212","v":"£m"},{"$f":"WINEP_Schemes!G212","v":1},{"$f":"WINEP_Schemes!H212","v":0},{"$f":"WINEP_Schemes!J212","v":1},{"$f":"WINEP_Schemes!I212","v":24.406838776641781},{"$f":"WINEP_Schemes!K212","v":0},{"$f":"WINEP_Schemes!L212","v":1},{"$f":"WINEP_Schemes!M212","v":"WWN"},{"$f":"WINEP_Schemes!N212","v":0},24.406838776641781,0,-24.406838776641781,0,0,-24.406838776641781,0,0]
[null,null,{"$f":"WINEP_Schemes!C213","v":"SSD00659"},{"$f":"WINEP_Schemes!D213","v":"7SO300571"},{"$f":"WINEP_Schemes!E213","v":"Millbrook WwTW Storm Overflow"},{"$f":"WINEP_Schemes!F213","v":"£m"},{"$f":"WINEP_Schemes!G213","v":1},{"$f":"WINEP_Schemes!H213","v":0},{"$f":"WINEP_Schemes!J213","v":1},{"$f":"WINEP_Schemes!I213","v":2.8952},{"$f":"WINEP_Schemes!K213","v":1},{"$f":"WINEP_Schemes!L213","v":0},{"$f":"WINEP_Schemes!M213","v":"WWN"},{"$f":"WINEP_Schemes!N213","v":1},2.8952,2.8952,2.8952,0,0,2.8952,0,0]
[null,null,{"$f":"WINEP_Schemes!C214","v":"SSD00660"},{"$f":"WINEP_Schemes!D214","v":"7SO300572"},{"$f":"WINEP_Schemes!E214","v":"Slowhill Copse WwTW Continuous"},{"$f":"WINEP_Schemes!F214","v":"£m"},{"$f":"WINEP_Schemes!G214","v":1},{"$f":"WINEP_Schemes!H214","v":0},{"$f":"WINEP_Schemes!J214","v":1},{"$f":"WINEP_Schemes!I214","v":6.73},{"$f":"WINEP_Schemes!K214","v":1},{"$f":"WINEP_Schemes!L214","v":0},{"$f":"WINEP_Schemes!M214","v":"WWN"},{"$f":"WINEP_Schemes!N214","v":1},6.73,6.73,6.73,0,0,6.73,0,0]
[null,null,{"$f":"WINEP_Schemes!C215","v":"SSD00658"},{"$f":"WINEP_Schemes!D215","v":"7SO300570"},{"$f":"WINEP_Schemes!E215","v":"Millbrook WwTW Continuous"},{"$f":"WINEP_Schemes!F215","v":"£m"},{"$f":"WINEP_Schemes!G215","v":1},{"$f":"WINEP_Schemes!H215","v":0},{"$f":"WINEP_Schemes!J215","v":1},{"$f":"WINEP_Schemes!I215","v":6.73},{"$f":"WINEP_Schemes!K215","v":1},{"$f":"WINEP_Schemes!L215","v":0},{"$f":"WINEP_Schemes!M215","v":"WWN"},{"$f":"WINEP_Schemes!N215","v":1},6.73,6.73,6.73,0,0,6.73,0,0]
[null,null,{"$f":"WINEP_Schemes!C216","v":"SSD00657"},{"$f":"WINEP_Schemes!D216","v":"7SO300569"},{"$f":"WINEP_Schemes!E216","v":"Ensign Park Storm Overflow"},{"$f":"WINEP_Schemes!F216","v":"£m"},{"$f":"WINEP_Schemes!G216","v":1},{"$f":"WINEP_Schemes!H216","v":0},{"$f":"WINEP_Schemes!J216","v":1},{"$f":"WINEP_Schemes!I216","v":2.8952},{"$f":"WINEP_Schemes!K216","v":1},{"$f":"WINEP_Schemes!L216","v":0},{"$f":"WINEP_Schemes!M216","v":"WWN"},{"$f":"WINEP_Schemes!N216","v":1},2.8952,2.8952,2.8952,0,0,2.8952,0,0]
[null,null,{"$f":"WINEP_Schemes!C217","v":"SSD00662"},{"$f":"WINEP_Schemes!D217","v":"7SO300574"},{"$f":"WINEP_Schemes!E217","v":"Woolston WwTW Storm Overflow"},{"$f":"WINEP_Schemes!F217","v":"£m"},{"$f":"WINEP_Schemes!G217","v":1},{"$f":"WINEP_Schemes!H217","v":0},{"$f":"WINEP_Schemes!J217","v":0},{"$f":"WINEP_Schemes!I217","v":2.8952},{"$f":"WINEP_Schemes!K217","v":1},{"$f":"WINEP_Schemes!L217","v":0},{"$f":"WINEP_Schemes!M217","v":"WWN"},{"$f":"WINEP_Schemes!N217","v":0},0,0,0,0,0,0,0,0]
[null,null,{"$f":"WINEP_Schemes!C218","v":"SSD00656"},{"$f":"WINEP_Schemes!D218","v":"7SO300568"},{"$f":"WINEP_Schemes!E218","v":"Ashlett Creek WwTW Storm Overflow"},{"$f":"WINEP_Schemes!F218","v":"£m"},{"$f":"WINEP_Schemes!G218","v":1},{"$f":"WINEP_Schemes!H218","v":0},{"$f":"WINEP_Schemes!J218","v":0},{"$f":"WINEP_Schemes!I218","v":2.8952},{"$f":"WINEP_Schemes!K218","v":1},{"$f":"WINEP_Schemes!L218","v":0},{"$f":"WINEP_Schemes!M218","v":"WWN"},{"$f":"WINEP_Schemes!N218","v":0},0,0,0,0,0,0,0,0]
[null,null,{"$f":"WINEP_Schemes!C219","v":"SSD00661"},{"$f":"WINEP_Schemes!D219","v":"7SO300573"},{"$f":"WINEP_Schemes!E219","v":"Slowhill Copse WwTW Storm Overflow"},{"$f":"WINEP_Schemes!F219","v":"£m"},{"$f":"WINEP_Schemes!G219","v":1},{"$f":"WINEP_Schemes!H219","v":0},{"$f":"WINEP_Schemes!J219","v":1},{"$f":"WINEP_Schemes!I219","v":2.8952},{"$f":"WINEP_Schemes!K219","v":1},{"$f":"WINEP_Schemes!L219","v":0},{"$f":"WINEP_Schemes!M219","v":"WWN"},{"$f":"WINEP_Schemes!N219","v":1},2.8952,2.8952,2.8952,0,0,2.8952,0,0]
[null,null,{"$f":"WINEP_Schemes!C220","v":"SSD00572"},{"$f":"WINEP_Schemes!D220","v":"7SO300450"},{"$f":"WINEP_Schemes!E220","v":"Southern Water PR19 flow requirements"},{"$f":"WINEP_Schemes!F220","v":"£m"},{"$f":"WINEP_Schemes!G220","v":1},{"$f":"WINEP_Schemes!H220","v":0},{"$f":"WINEP_Schemes!J220","v":1},{"$f":"WINEP_Schemes!I220","v":0.9},{"$f":"WINEP_Schemes!K220","v":0},{"$f":"WINEP_Schemes!L220","v":1},{"$f":"WINEP_Schemes!M220","v":"WWN"},{"$f":"WINEP_Schemes!N220","v":0},0.9,0,-0.9,0,0,-0.9,0,0]
[null,null,{"$f":"WINEP_Schemes!C221","v":"SSD00665"},{"$f":"WINEP_Schemes!D221","v":"7SO300582"},{"$f":"WINEP_Schemes!E221","v":"ALFRISTON WPS"},{"$f":"WINEP_Schemes!F221","v":"£m"},{"$f":"WINEP_Schemes!G221","v":1},{"$f":"WINEP_Schemes!H221","v":0},{"$f":"WINEP_Schemes!J221","v":1},{"$f":"WINEP_Schemes!I221","v":0.56651999999999991},{"$f":"WINEP_Schemes!K221","v":1},{"$f":"WINEP_Schemes!L221","v":0},{"$f":"WINEP_Schemes!M221","v":"WWN"},{"$f":"WINEP_Schemes!N221","v":1},0.56651999999999991,0.56651999999999991,0.56651999999999991,0,0,0.56651999999999991,0,0]
[null,null,{"$f":"WINEP_Schemes!C222","v":"SSD00668"},{"$f":"WINEP_Schemes!D222","v":"7SO300587"},{"$f":"WINEP_Schemes!E222","v":"ARDINGLY WWTW"},{"$f":"WINEP_Schemes!F222","v":"£m"},{"$f":"WINEP_Schemes!G222","v":1},{"$f":"WINEP_Schemes!H222","v":0},{"$f":"WINEP_Schemes!J222","v":0},{"$f":"WINEP_Schemes!I222","v":0},{"$f":"WINEP_Schemes!K222","v":1},{"$f":"WINEP_Schemes!L222","v":0},{"$f":"WINEP_Schemes!M222","v":"WWN"},{"$f":"WINEP_Schemes!N222","v":0},0,0,0,0,0,0,0,0]
[null,null,{"$f":"WINEP_Schemes!C223","v":"KSL00461"},{"$f":"WINEP_Schemes!D223","v":"7SO300591"},{"$f":"WINEP_Schemes!E223","v":"ASHFORD WWTW"},{"$f":"WINEP_Schemes!F223","v":"£m"},{"$f":"WINEP_Schemes!G223","v":1},{"$f":"WINEP_Schemes!H223","v":0},{"$f":"WINEP_Schemes!J223","v":0},{"$f":"WINEP_Schemes!I223","v":0},{"$f":"WINEP_Schemes!K223","v":1},{"$f":"WINEP_Schemes!L223","v":0},{"$f":"WINEP_Schemes!M223","v":"WWN"},{"$f":"WINEP_Schemes!N223","v":0},0,0,0,0,0,0,0,0]
[null,null,{"$f":"WINEP_Schemes!C224","v":"SSD00670"},{"$f":"WINEP_Schemes!D224","v":"7SO300593"},{"$f":"WINEP_Schemes!E224","v":"ASHINGTON WWTW"},{"$f":"WINEP_Schemes!F224","v":"£m"},{"$f":"WINEP_Schemes!G224","v":1},{"$f":"WINEP_Schemes!H224","v":0},{"$f":"WINEP_Schemes!J224","v":0},{"$f":"WINEP_Schemes!I224","v":0},{"$f":"WINEP_Schemes!K224","v":1},{"$f":"WINEP_Schemes!L224","v":0},{"$f":"WINEP_Schemes!M224","v":"WWN"},{"$f":"WINEP_Schemes!N224","v":0},0,0,0,0,0,0,0,0]
[null,null,{"$f":"WINEP_Schemes!C225","v":"KSL00466"},{"$f":"WINEP_Schemes!D225","v":"7SO300606"},{"$f":"WINEP_Schemes!E225","v":"BATTLE WWTW"},{"$f":"WINEP_Schemes!F225","v":"£m"},{"$f":"WINEP_Schemes!G225","v":1},{"$f":"WINEP_Schemes!H225","v":0},{"$f":"WINEP_Schemes!J225","v":0},{"$f":"WINEP_Schemes!I225","v":0},{"$f":"WINEP_Schemes!K225","v":1},{"$f":"WINEP_Schemes!L225","v":0},{"$f":"WINEP_Schemes!M225","v":"WWN"},{"$f":"WINEP_Schemes!N225","v":0},0,0,0,0,0,0,0,0]
[null,null,{"$f":"WINEP_Schemes!C226","v":"SSD00680"},{"$f":"WINEP_Schemes!D226","v":"7SO300608"},{"$f":"WINEP_Schemes!E226","v":"BEAULIEU VILLAGE WWTW"},{"$f":"WINEP_Schemes!F226","v":"£m"},{"$f":"WINEP_Schemes!G226","v":1},{"$f":"WINEP_Schemes!H226","v":0},{"$f":"WINEP_Schemes!J226","v":0},{"$f":"WINEP_Schemes!I226","v":0},{"$f":"WINEP_Schemes!K226","v":1},{"$f":"WINEP_Schemes!L226","v":0},{"$f":"WINEP_Schemes!M226","v":"WWN"},{"$f":"WINEP_Schemes!N226","v":0},0,0,0,0,0,0,0,0]
[null,null,{"$f":"WINEP_Schemes!C227","v":"KSL00468"},{"$f":"WINEP_Schemes!D227","v":"7SO300610"},{"$f":"WINEP_Schemes!E227","v":"BECKLEY WWTW"},{"$f":"WINEP_Schemes!F227","v":"£m"},{"$f":"WINEP_Schemes!G227","v":1},{"$f":"WINEP_Schemes!H227","v":0},{"$f":"WINEP_Schemes!J227","v":0},{"$f":"WINEP_Schemes!I227","v":0},{"$f":"WINEP_Schemes!K227","v":1},{"$f":"WINEP_Schemes!L227","v":0},{"$f":"WINEP_Schemes!M227","v":"WWN"},{"$f":"WINEP_Schemes!N227","v":0},0,0,0,0,0,0,0,0]
[null,null,{"$f":"WINEP_Schemes!C228","v":"KSL00470"},{"$f":"WINEP_Schemes!D228","v":"7SO300612"},{"$f":"WINEP_Schemes!E228","v":"BENENDEN WWTW"},{"$f":"WINEP_Schemes!F228","v":"£m"},{"$f":"WINEP_Schemes!G228","v":1},{"$f":"WINEP_Schemes!H228","v":0},{"$f":"WINEP_Schemes!J228","v":0},{"$f":"WINEP_Schemes!I228","v":0},{"$f":"WINEP_Schemes!K228","v":1},{"$f":"WINEP_Schemes!L228","v":0},{"$f":"WINEP_Schemes!M228","v":"WWN"},{"$f":"WINEP_Schemes!N228","v":0},0,0,0,0,0,0,0,0]
[null,null,{"$f":"WINEP_Schemes!C229","v":"SSD00682"},{"$f":"WINEP_Schemes!D229","v":"7SO300614"},{"$f":"WINEP_Schemes!E229","v":"BERWICK WWTW"},{"$f":"WINEP_Schemes!F229","v":"£m"},{"$f":"WINEP_Schemes!G229","v":1},{"$f":"WINEP_Schemes!H229","v":0},{"$f":"WINEP_Schemes!J229","v":0},{"$f":"WINEP_Schemes!I229","v":0},{"$f":"WINEP_Schemes!K229","v":1},{"$f":"WINEP_Schemes!L229","v":0},{"$f":"WINEP_Schemes!M229","v":"WWN"},{"$f":"WINEP_Schemes!N229","v":0},0,0,0,0,0,0,0,0]
[null,null,{"$f":"WINEP_Schemes!C230","v":"SSD00684"},{"$f":"WINEP_Schemes!D230","v":"7SO300618"},{"$f":"WINEP_Schemes!E230","v":"BEXHILL & HASTINGS WWTW"},{"$f":"WINEP_Schemes!F230","v":"£m"},{"$f":"WINEP_Schemes!G230","v":1},{"$f":"WINEP_Schemes!H230","v":0},{"$f":"WINEP_Schemes!J230","v":0},{"$f":"WINEP_Schemes!I230","v":0},{"$f":"WINEP_Schemes!K230","v":1},{"$f":"WINEP_Schemes!L230","v":0},{"$f":"WINEP_Schemes!M230","v":"WWN"},{"$f":"WINEP_Schemes!N230","v":0},0,0,0,0,0,0,0,0]
[null,null,{"$f":"WINEP_Schemes!C231","v":"KSL00474"},{"$f":"WINEP_Schemes!D231","v":"7SO300620"},{"$f":"WINEP_Schemes!E231","v":"BIDBOROUGH WWTW"},{"$f":"WINEP_Schemes!F231","v":"£m"},{"$f":"WINEP_Schemes!G231","v":1},{"$f":"WINEP_Schemes!H231","v":0},{"$f":"WINEP_Schemes!J231","v":0},{"$f":"WINEP_Schemes!I231","v":0},{"$f":"WINEP_Schemes!K231","v":1},{"$f":"WINEP_Schemes!L231","v":0},{"$f":"WINEP_Schemes!M231","v":"WWN"},{"$f":"WINEP_Schemes!N231","v":0},0,0,0,{"$f":" IF($M232 = R$9, $Q232, 0)","v":0},0,0,0,0]
[null,null,{"$f":"WINEP_Schemes!C232","v":"KSL00476"},{"$f":"WINEP_Schemes!D232","v":"7SO300622"},{"$f":"WINEP_Schemes!E232","v":"BIDDENDEN WWTW"},{"$f":"WINEP_Schemes!F232","v":"£m"},{"$f":"WINEP_Schemes!G232","v":1},{"$f":"WINEP_Schemes!H232","v":0},{"$f":"WINEP_Schemes!J232","v":0},{"$f":"WINEP_Schemes!I232","v":0},{"$f":"WINEP_Schemes!K232","v":1},{"$f":"WINEP_Schemes!L232","v":0},{"$f":"WINEP_Schemes!M232","v":"WWN"},{"$f":"WINEP_Schemes!N232","v":0},0,0,0,0,0,0,0,0]
[null,null,{"$f":"WINEP_Schemes!C233","v":"SSD00686"},{"$f":"WINEP_Schemes!D233","v":"7SO300624"},{"$f":"WINEP_Schemes!E233","v":"BILLINGSHURST WWTW"},{"$f":"WINEP_Schemes!F233","v":"£m"},{"$f":"WINEP_Schemes!G233","v":1},{"$f":"WINEP_Schemes!H233","v":0},{"$f":"WINEP_Schemes!J233","v":0},{"$f":"WINEP_Schemes!I233","v":0},{"$f":"WINEP_Schemes!K233","v":1},{"$f":"WINEP_Schemes!L233","v":0},{"$f":"WINEP_Schemes!M233","v":"WWN"},{"$f":"WINEP_Schemes!N233","v":0},0,0,0,0,0,0,0,0]
[null,null,{"$f":"WINEP_Schemes!C234","v":"SSD00688"},{"$f":"WINEP_Schemes!D234","v":"7SO300626"},{"$f":"WINEP_Schemes!E234","v":"BISHOPS WALTHAM WWTW"},{"$f":"WINEP_Schemes!F234","v":"£m"},{"$f":"WINEP_Schemes!G234","v":1},{"$f":"WINEP_Schemes!H234","v":0},{"$f":"WINEP_Schemes!J234","v":0},{"$f":"WINEP_Schemes!I234","v":0},{"$f":"WINEP_Schemes!K234","v":1},{"$f":"WINEP_Schemes!L234","v":0},{"$f":"WINEP_Schemes!M234","v":"WWN"},{"$f":"WINEP_Schemes!N234","v":0},0,0,0,0,0,0,0,0]
[null,null,{"$f":"WINEP_Schemes!C235","v":"SSD00690"},{"$f":"WINEP_Schemes!D235","v":"7SO300628"},{"$f":"WINEP_Schemes!E235","v":"BLACKBOYS WWTW"},{"$f":"WINEP_Schemes!F235","v":"£m"},{"$f":"WINEP_Schemes!G235","v":1},{"$f":"WINEP_Schemes!H235","v":0},{"$f":"WINEP_Schemes!J235","v":0},{"$f":"WINEP_Schemes!I235","v":0},{"$f":"WINEP_Schemes!K235","v":1},{"$f":"WINEP_Schemes!L235","v":0},{"$f":"WINEP_Schemes!M235","v":"WWN"},{"$f":"WINEP_Schemes!N235","v":0},0,0,0,0,0,0,0,0]
[null,null,{"$f":"WINEP_Schemes!C236","v":"SSD00692"},{"$f":"WINEP_Schemes!D236","v":"7SO300631"},{"$f":"WINEP_Schemes!E236","v":"BOLDRE WWTW"},{"$f":"WINEP_Schemes!F236","v":"£m"},{"$f":"WINEP_Schemes!G236","v":1},{"$f":"WINEP_Schemes!H236","v":0},{"$f":"WINEP_Schemes!J236","v":0},{"$f":"WINEP_Schemes!I236","v":0},{"$f":"WINEP_Schemes!K236","v":1},{"$f":"WINEP_Schemes!L236","v":0},{"$f":"WINEP_Schemes!M236","v":"WWN"},{"$f":"WINEP_Schemes!N236","v":0},0,0,0,0,0,0,0,0]
[null,null,{"$f":"WINEP_Schemes!C237","v":"SSD00698"},{"$f":"WINEP_Schemes!D237","v":"7SO300637"},{"$f":"WINEP_Schemes!E237","v":"BRIGHSTONE WWTW"},{"$f":"WINEP_Schemes!F237","v":"£m"},{"$f":"WINEP_Schemes!G237","v":1},{"$f":"WINEP_Schemes!H237","v":0},{"$f":"WINEP_Schemes!J237","v":0},{"$f":"WINEP_Schemes!I237","v":0},{"$f":"WINEP_Schemes!K237","v":1},{"$f":"WINEP_Schemes!L237","v":0},{"$f":"WINEP_Schemes!M237","v":"WWN"},{"$f":"WINEP_Schemes!N237","v":0},0,0,0,0,0,0,0,0]
[null,null,{"$f":"WINEP_Schemes!C238","v":"SSD00700"},{"$f":"WINEP_Schemes!D238","v":"7SO300641"},{"$f":"WINEP_Schemes!E238","v":"BROCKENHURST WWTW"},{"$f":"WINEP_Schemes!F238","v":"£m"},{"$f":"WINEP_Schemes!G238","v":1},{"$f":"WINEP_Schemes!H238","v":0},{"$f":"WINEP_Schemes!J238","v":0},{"$f":"WINEP_Schemes!I238","v":0},{"$f":"WINEP_Schemes!K238","v":1},{"$f":"WINEP_Schemes!L238","v":0},{"$f":"WINEP_Schemes!M238","v":"WWN"},{"$f":"WINEP_Schemes!N238","v":0},0,0,0,0,0,0,0,0]
[null,null,{"$f":"WINEP_Schemes!C239","v":"SSD00702"},{"$f":"WINEP_Schemes!D239","v":"7SO300643"},{"$f":"WINEP_Schemes!E239","v":"BUDDS FARM HAVANT WWTW"},{"$f":"WINEP_Schemes!F239","v":"£m"},{"$f":"WINEP_Schemes!G239","v":1},{"$f":"WINEP_Schemes!H239","v":0},{"$f":"WINEP_Schemes!J239","v":0},{"$f":"WINEP_Schemes!I239","v":0},{"$f":"WINEP_Schemes!K239","v":1},{"$f":"WINEP_Schemes!L239","v":0},{"$f":"WINEP_Schemes!M239","v":"WWN"},{"$f":"WINEP_Schemes!N239","v":0},0,0,0,0,0,0,0,0]
[null,null,{"$f":"WINEP_Schemes!C240","v":"SSD00704"},{"$f":"WINEP_Schemes!D240","v":"7SO300647"},{"$f":"WINEP_Schemes!E240","v":"BURITON WWTW"},{"$f":"WINEP_Schemes!F240","v":"£m"},{"$f":"WINEP_Schemes!G240","v":1},{"$f":"WINEP_Schemes!H240","v":0},{"$f":"WINEP_Schemes!J240","v":0},{"$f":"WINEP_Schemes!I240","v":0},{"$f":"WINEP_Schemes!K240","v":1},{"$f":"WINEP_Schemes!L240","v":0},{"$f":"WINEP_Schemes!M240","v":"WWN"},{"$f":"WINEP_Schemes!N240","v":0},0,0,0,0,0,0,0,0]
[null,null,{"$f":"WINEP_Schemes!C241","v":"KSL00485"},{"$f":"WINEP_Schemes!D241","v":"7SO300651"},{"$f":"WINEP_Schemes!E241","v":"BURWASH VILLAGE WWTW"},{"$f":"WINEP_Schemes!F241","v":"£m"},{"$f":"WINEP_Schemes!G241","v":1},{"$f":"WINEP_Schemes!H241","v":0},{"$f":"WINEP_Schemes!J241","v":0},{"$f":"WINEP_Schemes!I241","v":0},{"$f":"WINEP_Schemes!K241","v":1},{"$f":"WINEP_Schemes!L241","v":0},{"$f":"WINEP_Schemes!M241","v":"WWN"},{"$f":"WINEP_Schemes!N241","v":0},0,0,0,0,0,0,0,0]
[null,null,{"$f":"WINEP_Schemes!C242","v":"SSD00708"},{"$f":"WINEP_Schemes!D242","v":"7SO300655"},{"$f":"WINEP_Schemes!E242","v":"BUXTED WWTW"},{"$f":"WINEP_Schemes!F242","v":"£m"},{"$f":"WINEP_Schemes!G242","v":1},{"$f":"WINEP_Schemes!H242","v":0},{"$f":"WINEP_Schemes!J242","v":0},{"$f":"WINEP_Schemes!I242","v":0},{"$f":"WINEP_Schemes!K242","v":1},{"$f":"WINEP_Schemes!L242","v":0},{"$f":"WINEP_Schemes!M242","v":"WWN"},{"$f":"WINEP_Schemes!N242","v":0},0,0,0,0,0,0,0,0]
[null,null,{"$f":"WINEP_Schemes!C243","v":"SSD00710"},{"$f":"WINEP_Schemes!D243","v":"7SO300658"},{"$f":"WINEP_Schemes!E243","v":"CALBOURNE WWTW"},{"$f":"WINEP_Schemes!F243","v":"£m"},{"$f":"WINEP_Schemes!G243","v":1},{"$f":"WINEP_Schemes!H243","v":0},{"$f":"WINEP_Schemes!J243","v":0},{"$f":"WINEP_Schemes!I243","v":0},{"$f":"WINEP_Schemes!K243","v":1},{"$f":"WINEP_Schemes!L243","v":0},{"$f":"WINEP_Schemes!M243","v":"WWN"},{"$f":"WINEP_Schemes!N243","v":0},0,0,0,0,0,0,0,0]
[null,null,{"$f":"WINEP_Schemes!C244","v":"KSL00491"},{"$f":"WINEP_Schemes!D244","v":"7SO300663"},{"$f":"WINEP_Schemes!E244","v":"CASTLE ROAD ALLINGTON WPS"},{"$f":"WINEP_Schemes!F244","v":"£m"},{"$f":"WINEP_Schemes!G244","v":1},{"$f":"WINEP_Schemes!H244","v":0},{"$f":"WINEP_Schemes!J244","v":0},{"$f":"WINEP_Schemes!I244","v":0},{"$f":"WINEP_Schemes!K244","v":1},{"$f":"WINEP_Schemes!L244","v":0},{"$f":"WINEP_Schemes!M244","v":"WWN"},{"$f":"WINEP_Schemes!N244","v":0},0,0,0,0,0,0,0,0]
[null,null,{"$f":"WINEP_Schemes!C245","v":"SSD00712"},{"$f":"WINEP_Schemes!D245","v":"7SO300665"},{"$f":"WINEP_Schemes!E245","v":"CATSFIELD WWTW"},{"$f":"WINEP_Schemes!F245","v":"£m"},{"$f":"WINEP_Schemes!G245","v":1},{"$f":"WINEP_Schemes!H245","v":0},{"$f":"WINEP_Schemes!J245","v":0},{"$f":"WINEP_Schemes!I245","v":0},{"$f":"WINEP_Schemes!K245","v":1},{"$f":"WINEP_Schemes!L245","v":0},{"$f":"WINEP_Schemes!M245","v":"WWN"},{"$f":"WINEP_Schemes!N245","v":0},0,0,0,0,0,0,0,0]
[null,null,{"$f":"WINEP_Schemes!C246","v":"SSD00714"},{"$f":"WINEP_Schemes!D246","v":"7SO300667"},{"$f":"WINEP_Schemes!E246","v":"CHALE WWTW"},{"$f":"WINEP_Schemes!F246","v":"£m"},{"$f":"WINEP_Schemes!G246","v":1},{"$f":"WINEP_Schemes!H246","v":0},{"$f":"WINEP_Schemes!J246","v":0},{"$f":"WINEP_Schemes!I246","v":0},{"$f":"WINEP_Schemes!K246","v":1},{"$f":"WINEP_Schemes!L246","v":0},{"$f":"WINEP_Schemes!M246","v":"WWN"},{"$f":"WINEP_Schemes!N246","v":0},0,0,0,0,0,0,0,0]
[null,null,{"$f":"WINEP_Schemes!C247","v":"KSL00493"},{"$f":"WINEP_Schemes!D247","v":"7SO300669"},{"$f":"WINEP_Schemes!E247","v":"CHARING WWTW"},{"$f":"WINEP_Schemes!F247","v":"£m"},{"$f":"WINEP_Schemes!G247","v":1},{"$f":"WINEP_Schemes!H247","v":0},{"$f":"WINEP_Schemes!J247","v":0},{"$f":"WINEP_Schemes!I247","v":0},{"$f":"WINEP_Schemes!K247","v":1},{"$f":"WINEP_Schemes!L247","v":0},{"$f":"WINEP_Schemes!M247","v":"WWN"},{"$f":"WINEP_Schemes!N247","v":0},0,0,0,0,0,0,0,0]
[null,null,{"$f":"WINEP_Schemes!C248","v":"SSD00717"},{"$f":"WINEP_Schemes!D248","v":"7SO300674"},{"$f":"WINEP_Schemes!E248","v":"CHICHESTER WWTW"},{"$f":"WINEP_Schemes!F248","v":"£m"},{"$f":"WINEP_Schemes!G248","v":1},{"$f":"WINEP_Schemes!H248","v":0},{"$f":"WINEP_Schemes!J248","v":0},{"$f":"WINEP_Schemes!I248","v":0},{"$f":"WINEP_Schemes!K248","v":1},{"$f":"WINEP_Schemes!L248","v":0},{"$f":"WINEP_Schemes!M248","v":"WWN"},{"$f":"WINEP_Schemes!N248","v":0},0,0,0,0,0,0,0,0]
[null,null,{"$f":"WINEP_Schemes!C249","v":"SSD00719"},{"$f":"WINEP_Schemes!D249","v":"7SO300676"},{"$f":"WINEP_Schemes!E249","v":"CHICKENHALL EASTLEIGH WWTW"},{"$f":"WINEP_Schemes!F249","v":"£m"},{"$f":"WINEP_Schemes!G249","v":1},{"$f":"WINEP_Schemes!H249","v":0},{"$f":"WINEP_Schemes!J249","v":0},{"$f":"WINEP_Schemes!I249","v":0},{"$f":"WINEP_Schemes!K249","v":1},{"$f":"WINEP_Schemes!L249","v":0},{"$f":"WINEP_Schemes!M249","v":"WWN"},{"$f":"WINEP_Schemes!N249","v":0},0,0,0,0,0,0,0,0]
[null,null,{"$f":"WINEP_Schemes!C250","v":"SSD00721"},{"$f":"WINEP_Schemes!D250","v":"7SO300678"},{"$f":"WINEP_Schemes!E250","v":"CHIDDINGFOLD WWTW"},{"$f":"WINEP_Schemes!F250","v":"£m"},{"$f":"WINEP_Schemes!G250","v":1},{"$f":"WINEP_Schemes!H250","v":0},{"$f":"WINEP_Schemes!J250","v":0},{"$f":"WINEP_Schemes!I250","v":0},{"$f":"WINEP_Schemes!K250","v":1},{"$f":"WINEP_Schemes!L250","v":0},{"$f":"WINEP_Schemes!M250","v":"WWN"},{"$f":"WINEP_Schemes!N250","v":0},0,0,0,0,0,0,0,0]
[null,null,{"$f":"WINEP_Schemes!C251","v":"SSD00730"},{"$f":"WINEP_Schemes!D251","v":"7SO300692"},{"$f":"WINEP_Schemes!E251","v":"COWFOLD WWTW"},{"$f":"WINEP_Schemes!F251","v":"£m"},{"$f":"WINEP_Schemes!G251","v":1},{"$f":"WINEP_Schemes!H251","v":0},{"$f":"WINEP_Schemes!J251","v":0},{"$f":"WINEP_Schemes!I251","v":0},{"$f":"WINEP_Schemes!K251","v":1},{"$f":"WINEP_Schemes!L251","v":0},{"$f":"WINEP_Schemes!M251","v":"WWN"},{"$f":"WINEP_Schemes!N251","v":0},0,0,0,0,0,0,0,0]
[null,null,{"$f":"WINEP_Schemes!C252","v":"KSL00504"},{"$f":"WINEP_Schemes!D252","v":"7SO300696"},{"$f":"WINEP_Schemes!E252","v":"CROUCH FARM MAYFIELD WWTW"},{"$f":"WINEP_Schemes!F252","v":"£m"},{"$f":"WINEP_Schemes!G252","v":1},{"$f":"WINEP_Schemes!H252","v":0},{"$f":"WINEP_Schemes!J252","v":0},{"$f":"WINEP_Schemes!I252","v":0},{"$f":"WINEP_Schemes!K252","v":1},{"$f":"WINEP_Schemes!L252","v":0},{"$f":"WINEP_Schemes!M252","v":"WWN"},{"$f":"WINEP_Schemes!N252","v":0},0,0,0,0,0,0,0,0]
[null,null,{"$f":"WINEP_Schemes!C253","v":"SSD00732"},{"$f":"WINEP_Schemes!D253","v":"7SO300701"},{"$f":"WINEP_Schemes!E253","v":"DANEHILL WWTW"},{"$f":"WINEP_Schemes!F253","v":"£m"},{"$f":"WINEP_Schemes!G253","v":1},{"$f":"WINEP_Schemes!H253","v":0},{"$f":"WINEP_Schemes!J253","v":0},{"$f":"WINEP_Schemes!I253","v":0},{"$f":"WINEP_Schemes!K253","v":1},{"$f":"WINEP_Schemes!L253","v":0},{"$f":"WINEP_Schemes!M253","v":"WWN"},{"$f":"WINEP_Schemes!N253","v":0},0,0,0,0,0,0,0,0]
[null,null,{"$f":"WINEP_Schemes!C254","v":"SSD00734"},{"$f":"WINEP_Schemes!D254","v":"7SO300703"},{"$f":"WINEP_Schemes!E254","v":"DITCHLING WWTW"},{"$f":"WINEP_Schemes!F254","v":"£m"},{"$f":"WINEP_Schemes!G254","v":1},{"$f":"WINEP_Schemes!H254","v":0},{"$f":"WINEP_Schemes!J254","v":0},{"$f":"WINEP_Schemes!I254","v":0},{"$f":"WINEP_Schemes!K254","v":1},{"$f":"WINEP_Schemes!L254","v":0},{"$f":"WINEP_Schemes!M254","v":"WWN"},{"$f":"WINEP_Schemes!N254","v":0},0,0,0,0,0,0,0,0]
[null,null,{"$f":"WINEP_Schemes!C255","v":"KSL00509"},{"$f":"WINEP_Schemes!D255","v":"7SO300705"},{"$f":"WINEP_Schemes!E255","v":"DITTON WWTW"},{"$f":"WINEP_Schemes!F255","v":"£m"},{"$f":"WINEP_Schemes!G255","v":1},{"$f":"WINEP_Schemes!H255","v":0},{"$f":"WINEP_Schemes!J255","v":0},{"$f":"WINEP_Schemes!I255","v":0},{"$f":"WINEP_Schemes!K255","v":1},{"$f":"WINEP_Schemes!L255","v":0},{"$f":"WINEP_Schemes!M255","v":"WWN"},{"$f":"WINEP_Schemes!N255","v":0},0,0,0,0,0,0,0,0]
[null,null,{"$f":"WINEP_Schemes!C256","v":"SSD00736"},{"$f":"WINEP_Schemes!D256","v":"7SO300707"},{"$f":"WINEP_Schemes!E256","v":"EAST BOLDRE WWTW"},{"$f":"WINEP_Schemes!F256","v":"£m"},{"$f":"WINEP_Schemes!G256","v":1},{"$f":"WINEP_Schemes!H256","v":0},{"$f":"WINEP_Schemes!J256","v":0},{"$f":"WINEP_Schemes!I256","v":0},{"$f":"WINEP_Schemes!K256","v":1},{"$f":"WINEP_Schemes!L256","v":0},{"$f":"WINEP_Schemes!M256","v":"WWN"},{"$f":"WINEP_Schemes!N256","v":0},0,0,0,0,0,0,0,0]
[null,null,{"$f":"WINEP_Schemes!C257","v":"SSD00738"},{"$f":"WINEP_Schemes!D257","v":"7SO300709"},{"$f":"WINEP_Schemes!E257","v":"EAST DEAN WWTW"},{"$f":"WINEP_Schemes!F257","v":"£m"},{"$f":"WINEP_Schemes!G257","v":1},{"$f":"WINEP_Schemes!H257","v":0},{"$f":"WINEP_Schemes!J257","v":0},{"$f":"WINEP_Schemes!I257","v":0},{"$f":"WINEP_Schemes!K257","v":1},{"$f":"WINEP_Schemes!L257","v":0},{"$f":"WINEP_Schemes!M257","v":"WWN"},{"$f":"WINEP_Schemes!N257","v":0},0,0,0,0,0,0,0,0]
[null,null,{"$f":"WINEP_Schemes!C258","v":"SSD00746"},{"$f":"WINEP_Schemes!D258","v":"7SO300717"},{"$f":"WINEP_Schemes!E258","v":"EAST WORTHING WWTW"},{"$f":"WINEP_Schemes!F258","v":"£m"},{"$f":"WINEP_Schemes!G258","v":1},{"$f":"WINEP_Schemes!H258","v":0},{"$f":"WINEP_Schemes!J258","v":0},{"$f":"WINEP_Schemes!I258","v":0},{"$f":"WINEP_Schemes!K258","v":1},{"$f":"WINEP_Schemes!L258","v":0},{"$f":"WINEP_Schemes!M258","v":"WWN"},{"$f":"WINEP_Schemes!N258","v":0},0,0,0,0,0,0,0,0]
[null,null,{"$f":"WINEP_Schemes!C259","v":"KSL00513"},{"$f":"WINEP_Schemes!D259","v":"7SO300723"},{"$f":"WINEP_Schemes!E259","v":"EDEN VALE EAST GRINSTEAD WWTW"},{"$f":"WINEP_Schemes!F259","v":"£m"},{"$f":"WINEP_Schemes!G259","v":1},{"$f":"WINEP_Schemes!H259","v":0},{"$f":"WINEP_Schemes!J259","v":0},{"$f":"WINEP_Schemes!I259","v":0},{"$f":"WINEP_Schemes!K259","v":1},{"$f":"WINEP_Schemes!L259","v":0},{"$f":"WINEP_Schemes!M259","v":"WWN"},{"$f":"WINEP_Schemes!N259","v":0},0,0,0,0,0,0,0,0]
[null,null,{"$f":"WINEP_Schemes!C260","v":"KSL00515"},{"$f":"WINEP_Schemes!D260","v":"7SO300725"},{"$f":"WINEP_Schemes!E260","v":"EDENBRIDGE WWTW"},{"$f":"WINEP_Schemes!F260","v":"£m"},{"$f":"WINEP_Schemes!G260","v":1},{"$f":"WINEP_Schemes!H260","v":0},{"$f":"WINEP_Schemes!J260","v":0},{"$f":"WINEP_Schemes!I260","v":0},{"$f":"WINEP_Schemes!K260","v":1},{"$f":"WINEP_Schemes!L260","v":0},{"$f":"WINEP_Schemes!M260","v":"WWN"},{"$f":"WINEP_Schemes!N260","v":0},0,0,0,0,0,0,0,0]
[null,null,{"$f":"WINEP_Schemes!C261","v":"KSL00518"},{"$f":"WINEP_Schemes!D261","v":"7SO300728"},{"$f":"WINEP_Schemes!E261","v":"FAIRLIGHT WWTW"},{"$f":"WINEP_Schemes!F261","v":"£m"},{"$f":"WINEP_Schemes!G261","v":1},{"$f":"WINEP_Schemes!H261","v":0},{"$f":"WINEP_Schemes!J261","v":0},{"$f":"WINEP_Schemes!I261","v":0},{"$f":"WINEP_Schemes!K261","v":1},{"$f":"WINEP_Schemes!L261","v":0},{"$f":"WINEP_Schemes!M261","v":"WWN"},{"$f":"WINEP_Schemes!N261","v":0},0,0,0,0,0,0,0,0]
[null,null,{"$f":"WINEP_Schemes!C262","v":"KSL00520"},{"$f":"WINEP_Schemes!D262","v":"7SO300730"},{"$f":"WINEP_Schemes!E262","v":"FAVERSHAM WWTW"},{"$f":"WINEP_Schemes!F262","v":"£m"},{"$f":"WINEP_Schemes!G262","v":1},{"$f":"WINEP_Schemes!H262","v":0},{"$f":"WINEP_Schemes!J262","v":0},{"$f":"WINEP_Schemes!I262","v":0},{"$f":"WINEP_Schemes!K262","v":1},{"$f":"WINEP_Schemes!L262","v":0},{"$f":"WINEP_Schemes!M262","v":"WWN"},{"$f":"WINEP_Schemes!N262","v":0},0,0,0,0,0,0,0,0]
[null,null,{"$f":"WINEP_Schemes!C263","v":"SSD00750"},{"$f":"WINEP_Schemes!D263","v":"7SO300734"},{"$f":"WINEP_Schemes!E263","v":"FERNHURST WWTW"},{"$f":"WINEP_Schemes!F263","v":"£m"},{"$f":"WINEP_Schemes!G263","v":1},{"$f":"WINEP_Schemes!H263","v":0},{"$f":"WINEP_Schemes!J263","v":0},{"$f":"WINEP_Schemes!I263","v":0},{"$f":"WINEP_Schemes!K263","v":1},{"$f":"WINEP_Schemes!L263","v":0},{"$f":"WINEP_Schemes!M263","v":"WWN"},{"$f":"WINEP_Schemes!N263","v":0},0,0,0,0,0,0,0,0]
[null,null,{"$f":"WINEP_Schemes!C264","v":"KSL00524"},{"$f":"WINEP_Schemes!D264","v":"7SO300736"},{"$f":"WINEP_Schemes!E264","v":"FERRY HILL WINCHELSEA WWTW"},{"$f":"WINEP_Schemes!F264","v":"£m"},{"$f":"WINEP_Schemes!G264","v":1},{"$f":"WINEP_Schemes!H264","v":0},{"$f":"WINEP_Schemes!J264","v":0},{"$f":"WINEP_Schemes!I264","v":0},{"$f":"WINEP_Schemes!K264","v":1},{"$f":"WINEP_Schemes!L264","v":0},{"$f":"WINEP_Schemes!M264","v":"WWN"},{"$f":"WINEP_Schemes!N264","v":0},0,0,0,0,0,0,0,0]
[null,null,{"$f":"WINEP_Schemes!C265","v":"SSD00752"},{"$f":"WINEP_Schemes!D265","v":"7SO300738"},{"$f":"WINEP_Schemes!E265","v":"FITTLEWORTH WWTW"},{"$f":"WINEP_Schemes!F265","v":"£m"},{"$f":"WINEP_Schemes!G265","v":1},{"$f":"WINEP_Schemes!H265","v":0},{"$f":"WINEP_Schemes!J265","v":0},{"$f":"WINEP_Schemes!I265","v":0},{"$f":"WINEP_Schemes!K265","v":1},{"$f":"WINEP_Schemes!L265","v":0},{"$f":"WINEP_Schemes!M265","v":"WWN"},{"$f":"WINEP_Schemes!N265","v":0},0,0,0,0,0,0,0,0]
[null,null,{"$f":"WINEP_Schemes!C266","v":"KSL00530"},{"$f":"WINEP_Schemes!D266","v":"7SO300747"},{"$f":"WINEP_Schemes!E266","v":"FORDCOMBE WWTW"},{"$f":"WINEP_Schemes!F266","v":"£m"},{"$f":"WINEP_Schemes!G266","v":1},{"$f":"WINEP_Schemes!H266","v":0},{"$f":"WINEP_Schemes!J266","v":0},{"$f":"WINEP_Schemes!I266","v":0},{"$f":"WINEP_Schemes!K266","v":1},{"$f":"WINEP_Schemes!L266","v":0},{"$f":"WINEP_Schemes!M266","v":"WWN"},{"$f":"WINEP_Schemes!N266","v":0},0,0,0,0,0,0,0,0]
[null,null,{"$f":"WINEP_Schemes!C267","v":"KSL00532"},{"$f":"WINEP_Schemes!D267","v":"7SO300749"},{"$f":"WINEP_Schemes!E267","v":"FOREST ROW WWTW"},{"$f":"WINEP_Schemes!F267","v":"£m"},{"$f":"WINEP_Schemes!G267","v":1},{"$f":"WINEP_Schemes!H267","v":0},{"$f":"WINEP_Schemes!J267","v":0},{"$f":"WINEP_Schemes!I267","v":0},{"$f":"WINEP_Schemes!K267","v":1},{"$f":"WINEP_Schemes!L267","v":0},{"$f":"WINEP_Schemes!M267","v":"WWN"},{"$f":"WINEP_Schemes!N267","v":0},0,0,0,0,0,0,0,0]
[null,null,{"$f":"WINEP_Schemes!C268","v":"KSL00534"},{"$f":"WINEP_Schemes!D268","v":"7SO300751"},{"$f":"WINEP_Schemes!E268","v":"FRANT WWTW"},{"$f":"WINEP_Schemes!F268","v":"£m"},{"$f":"WINEP_Schemes!G268","v":1},{"$f":"WINEP_Schemes!H268","v":0},{"$f":"WINEP_Schemes!J268","v":0},{"$f":"WINEP_Schemes!I268","v":0},{"$f":"WINEP_Schemes!K268","v":1},{"$f":"WINEP_Schemes!L268","v":0},{"$f":"WINEP_Schemes!M268","v":"WWN"},{"$f":"WINEP_Schemes!N268","v":0},0,0,0,0,0,0,0,0]
[null,null,{"$f":"WINEP_Schemes!C269","v":"KSL00536"},{"$f":"WINEP_Schemes!D269","v":"7SO300753"},{"$f":"WINEP_Schemes!E269","v":"FRITTENDEN WWTW"},{"$f":"WINEP_Schemes!F269","v":"£m"},{"$f":"WINEP_Schemes!G269","v":1},{"$f":"WINEP_Schemes!H269","v":0},{"$f":"WINEP_Schemes!J269","v":0},{"$f":"WINEP_Schemes!I269","v":0},{"$f":"WINEP_Schemes!K269","v":1},{"$f":"WINEP_Schemes!L269","v":0},{"$f":"WINEP_Schemes!M269","v":"WWN"},{"$f":"WINEP_Schemes!N269","v":0},0,0,0,0,0,0,0,0]
[null,null,{"$f":"WINEP_Schemes!C270","v":"SSD00757"},{"$f":"WINEP_Schemes!D270","v":"7SO300755"},{"$f":"WINEP_Schemes!E270","v":"FULLERTON WWTW"},{"$f":"WINEP_Schemes!F270","v":"£m"},{"$f":"WINEP_Schemes!G270","v":1},{"$f":"WINEP_Schemes!H270","v":0},{"$f":"WINEP_Schemes!J270","v":0},{"$f":"WINEP_Schemes!I270","v":0},{"$f":"WINEP_Schemes!K270","v":1},{"$f":"WINEP_Schemes!L270","v":0},{"$f":"WINEP_Schemes!M270","v":"WWN"},{"$f":"WINEP_Schemes!N270","v":0},0,0,0,0,0,0,0,0]
[null,null,{"$f":"WINEP_Schemes!C271","v":"SSD00760"},{"$f":"WINEP_Schemes!D271","v":"7SO300758"},{"$f":"WINEP_Schemes!E271","v":"GODDARDS GREEN WWTW"},{"$f":"WINEP_Schemes!F271","v":"£m"},{"$f":"WINEP_Schemes!G271","v":1},{"$f":"WINEP_Schemes!H271","v":0},{"$f":"WINEP_Schemes!J271","v":0},{"$f":"WINEP_Schemes!I271","v":0},{"$f":"WINEP_Schemes!K271","v":1},{"$f":"WINEP_Schemes!L271","v":0},{"$f":"WINEP_Schemes!M271","v":"WWN"},{"$f":"WINEP_Schemes!N271","v":0},0,0,0,0,0,0,0,0]
[null,null,{"$f":"WINEP_Schemes!C272","v":"SSD00762"},{"$f":"WINEP_Schemes!D272","v":"7SO300760"},{"$f":"WINEP_Schemes!E272","v":"GODSHILL WWTW"},{"$f":"WINEP_Schemes!F272","v":"£m"},{"$f":"WINEP_Schemes!G272","v":1},{"$f":"WINEP_Schemes!H272","v":0},{"$f":"WINEP_Schemes!J272","v":0},{"$f":"WINEP_Schemes!I272","v":0},{"$f":"WINEP_Schemes!K272","v":1},{"$f":"WINEP_Schemes!L272","v":0},{"$f":"WINEP_Schemes!M272","v":"WWN"},{"$f":"WINEP_Schemes!N272","v":0},{"$f":" I273 * J273 * G273","v":0},{"$f":" N273 * O273","v":0},{"$f":" IF(L273 = 0, P273, (N273 - 1) * O273)","v":0},0,0,0,0,0]
[null,null,{"$f":"WINEP_Schemes!C273","v":"KSL00538"},{"$f":"WINEP_Schemes!D273","v":"7SO300762"},{"$f":"WINEP_Schemes!E273","v":"GODSTONE WWTW"},{"$f":"WINEP_Schemes!F273","v":"£m"},{"$f":"WINEP_Schemes!G273","v":1},{"$f":"WINEP_Schemes!H273","v":0},{"$f":"WINEP_Schemes!J273","v":0},{"$f":"WINEP_Schemes!I273","v":0},{"$f":"WINEP_Schemes!K273","v":1},{"$f":"WINEP_Schemes!L273","v":0},{"$f":"WINEP_Schemes!M273","v":"WWN"},{"$f":"WINEP_Schemes!N273","v":0},0,0,0,0,0,0,0,0]
[null,null,{"$f":"WINEP_Schemes!C274","v":"KSL00540"},{"$f":"WINEP_Schemes!D274","v":"7SO300764"},{"$f":"WINEP_Schemes!E274","v":"GOLF ROAD DEAL WPS"},{"$f":"WINEP_Schemes!F274","v":"£m"},{"$f":"WINEP_Schemes!G274","v":1},{"$f":"WINEP_Schemes!H274","v":0},{"$f":"WINEP_Schemes!J274","v":0},{"$f":"WINEP_Schemes!I274","v":0},{"$f":"WINEP_Schemes!K274","v":1},{"$f":"WINEP_Schemes!L274","v":0},{"$f":"WINEP_Schemes!M274","v":"WWN"},{"$f":"WINEP_Schemes!N274","v":0},0,0,0,0,0,0,0,0]
[null,null,{"$f":"WINEP_Schemes!C275","v":"KSL00542"},{"$f":"WINEP_Schemes!D275","v":"7SO300766"},{"$f":"WINEP_Schemes!E275","v":"GRAIN WWTW"},{"$f":"WINEP_Schemes!F275","v":"£m"},{"$f":"WINEP_Schemes!G275","v":1},{"$f":"WINEP_Schemes!H275","v":0},{"$f":"WINEP_Schemes!J275","v":0},{"$f":"WINEP_Schemes!I275","v":0},{"$f":"WINEP_Schemes!K275","v":1},{"$f":"WINEP_Schemes!L275","v":0},{"$f":"WINEP_Schemes!M275","v":"WWN"},{"$f":"WINEP_Schemes!N275","v":0},0,0,0,0,0,0,0,0]
[null,null,{"$f":"WINEP_Schemes!C276","v":"KSL00544"},{"$f":"WINEP_Schemes!D276","v":"7SO300768"},{"$f":"WINEP_Schemes!E276","v":"GRAVESEND WWTW"},{"$f":"WINEP_Schemes!F276","v":"£m"},{"$f":"WINEP_Schemes!G276","v":1},{"$f":"WINEP_Schemes!H276","v":0},{"$f":"WINEP_Schemes!J276","v":0},{"$f":"WINEP_Schemes!I276","v":0},{"$f":"WINEP_Schemes!K276","v":1},{"$f":"WINEP_Schemes!L276","v":0},{"$f":"WINEP_Schemes!M276","v":"WWN"},{"$f":"WINEP_Schemes!N276","v":0},0,0,0,0,0,0,0,0]
[null,null,{"$f":"WINEP_Schemes!C277","v":"KSL00546"},{"$f":"WINEP_Schemes!D277","v":"7SO300772"},{"$f":"WINEP_Schemes!E277","v":"GUESTLING GREEN WWTW"},{"$f":"WINEP_Schemes!F277","v":"£m"},{"$f":"WINEP_Schemes!G277","v":1},{"$f":"WINEP_Schemes!H277","v":0},{"$f":"WINEP_Schemes!J277","v":0},{"$f":"WINEP_Schemes!I277","v":0},{"$f":"WINEP_Schemes!K277","v":1},{"$f":"WINEP_Schemes!L277","v":0},{"$f":"WINEP_Schemes!M277","v":"WWN"},{"$f":"WINEP_Schemes!N277","v":0},0,0,0,0,0,0,0,0]
[null,null,{"$f":"WINEP_Schemes!C278","v":"SSD00766"},{"$f":"WINEP_Schemes!D278","v":"7SO300775"},{"$f":"WINEP_Schemes!E278","v":"HAILSHAM NORTH WWTW"},{"$f":"WINEP_Schemes!F278","v":"£m"},{"$f":"WINEP_Schemes!G278","v":1},{"$f":"WINEP_Schemes!H278","v":0},{"$f":"WINEP_Schemes!J278","v":0},{"$f":"WINEP_Schemes!I278","v":0},{"$f":"WINEP_Schemes!K278","v":1},{"$f":"WINEP_Schemes!L278","v":0},{"$f":"WINEP_Schemes!M278","v":"WWN"},{"$f":"WINEP_Schemes!N278","v":0},0,0,0,0,0,0,0,0]
[null,null,{"$f":"WINEP_Schemes!C279","v":"SSD00770"},{"$f":"WINEP_Schemes!D279","v":"7SO300781"},{"$f":"WINEP_Schemes!E279","v":"HALLAND WWTW"},{"$f":"WINEP_Schemes!F279","v":"£m"},{"$f":"WINEP_Schemes!G279","v":1},{"$f":"WINEP_Schemes!H279","v":0},{"$f":"WINEP_Schemes!J279","v":0},{"$f":"WINEP_Schemes!I279","v":0},{"$f":"WINEP_Schemes!K279","v":1},{"$f":"WINEP_Schemes!L279","v":0},{"$f":"WINEP_Schemes!M279","v":"WWN"},{"$f":"WINEP_Schemes!N279","v":0},0,0,0,0,0,0,0,0]
[null,null,{"$f":"WINEP_Schemes!C280","v":"KSL00551"},{"$f":"WINEP_Schemes!D280","v":"7SO300783"},{"$f":"WINEP_Schemes!E280","v":"HAM HILL WWTW"},{"$f":"WINEP_Schemes!F280","v":"£m"},{"$f":"WINEP_Schemes!G280","v":1},{"$f":"WINEP_Schemes!H280","v":0},{"$f":"WINEP_Schemes!J280","v":0},{"$f":"WINEP_Schemes!I280","v":0},{"$f":"WINEP_Schemes!K280","v":1},{"$f":"WINEP_Schemes!L280","v":0},{"$f":"WINEP_Schemes!M280","v":"WWN"},{"$f":"WINEP_Schemes!N280","v":0},0,0,0,0,0,0,0,0]
[null,null,{"$f":"WINEP_Schemes!C281","v":"SSD00772"},{"$f":"WINEP_Schemes!D281","v":"7SO300787"},{"$f":"WINEP_Schemes!E281","v":"HARESTOCK WWTW"},{"$f":"WINEP_Schemes!F281","v":"£m"},{"$f":"WINEP_Schemes!G281","v":1},{"$f":"WINEP_Schemes!H281","v":0},{"$f":"WINEP_Schemes!J281","v":0},{"$f":"WINEP_Schemes!I281","v":0},{"$f":"WINEP_Schemes!K281","v":1},{"$f":"WINEP_Schemes!L281","v":0},{"$f":"WINEP_Schemes!M281","v":"WWN"},{"$f":"WINEP_Schemes!N281","v":0},0,0,0,0,0,0,0,0]
[null,null,{"$f":"WINEP_Schemes!C282","v":"KSL00555"},{"$f":"WINEP_Schemes!D282","v":"7SO300789"},{"$f":"WINEP_Schemes!E282","v":"HARRIETSHAM WWTW"},{"$f":"WINEP_Schemes!F282","v":"£m"},{"$f":"WINEP_Schemes!G282","v":1},{"$f":"WINEP_Schemes!H282","v":0},{"$f":"WINEP_Schemes!J282","v":0},{"$f":"WINEP_Schemes!I282","v":0},{"$f":"WINEP_Schemes!K282","v":1},{"$f":"WINEP_Schemes!L282","v":0},{"$f":"WINEP_Schemes!M282","v":"WWN"},{"$f":"WINEP_Schemes!N282","v":0},0,0,0,{"$f":" IF($M283 = R$9, $Q283, 0)","v":0},0,0,0,0]
[null,null,{"$f":"WINEP_Schemes!C283","v":"SSD00774"},{"$f":"WINEP_Schemes!D283","v":"7SO300791"},{"$f":"WINEP_Schemes!E283","v":"HARTFIELD WWTW"},{"$f":"WINEP_Schemes!F283","v":"£m"},{"$f":"WINEP_Schemes!G283","v":1},{"$f":"WINEP_Schemes!H283","v":0},{"$f":"WINEP_Schemes!J283","v":0},{"$f":"WINEP_Schemes!I283","v":0},{"$f":"WINEP_Schemes!K283","v":1},{"$f":"WINEP_Schemes!L283","v":0},{"$f":"WINEP_Schemes!M283","v":"WWN"},{"$f":"WINEP_Schemes!N283","v":0},0,0,0,0,0,0,0,0]
[null,null,{"$f":"WINEP_Schemes!C284","v":"KSL00559"},{"$f":"WINEP_Schemes!D284","v":"7SO300795"},{"$f":"WINEP_Schemes!E284","v":"HAWKHURST NORTH WWTW"},{"$f":"WINEP_Schemes!F284","v":"£m"},{"$f":"WINEP_Schemes!G284","v":1},{"$f":"WINEP_Schemes!H284","v":0},{"$f":"WINEP_Schemes!J284","v":0},{"$f":"WINEP_Schemes!I284","v":0},{"$f":"WINEP_Schemes!K284","v":1},{"$f":"WINEP_Schemes!L284","v":0},{"$f":"WINEP_Schemes!M284","v":"WWN"},{"$f":"WINEP_Schemes!N284","v":0},0,0,0,0,0,0,0,0]
[null,null,{"$f":"WINEP_Schemes!C285","v":"KSL00561"},{"$f":"WINEP_Schemes!D285","v":"7SO300797"},{"$f":"WINEP_Schemes!E285","v":"HAWKHURST SOUTH WWTW"},{"$f":"WINEP_Schemes!F285","v":"£m"},{"$f":"WINEP_Schemes!G285","v":1},{"$f":"WINEP_Schemes!H285","v":0},{"$f":"WINEP_Schemes!J285","v":0},{"$f":"WINEP_Schemes!I285","v":0},{"$f":"WINEP_Schemes!K285","v":1},{"$f":"WINEP_Schemes!L285","v":0},{"$f":"WINEP_Schemes!M285","v":"WWN"},{"$f":"WINEP_Schemes!N285","v":0},0,0,0,0,0,0,0,0]
[null,null,{"$f":"WINEP_Schemes!C286","v":"SSD00776"},{"$f":"WINEP_Schemes!D286","v":"7SO300800"},{"$f":"WINEP_Schemes!E286","v":"HENFIELD WWTW"},{"$f":"WINEP_Schemes!F286","v":"£m"},{"$f":"WINEP_Schemes!G286","v":1},{"$f":"WINEP_Schemes!H286","v":0},{"$f":"WINEP_Schemes!J286","v":0},{"$f":"WINEP_Schemes!I286","v":0},{"$f":"WINEP_Schemes!K286","v":1},{"$f":"WINEP_Schemes!L286","v":0},{"$f":"WINEP_Schemes!M286","v":"WWN"},{"$f":"WINEP_Schemes!N286","v":0},0,0,0,0,0,0,0,0]
[null,null,{"$f":"WINEP_Schemes!C287","v":"KSL00564"},{"$f":"WINEP_Schemes!D287","v":"7SO300802"},{"$f":"WINEP_Schemes!E287","v":"HIGH HALDEN WWTW"},{"$f":"WINEP_Schemes!F287","v":"£m"},{"$f":"WINEP_Schemes!G287","v":1},{"$f":"WINEP_Schemes!H287","v":0},{"$f":"WINEP_Schemes!J287","v":0},{"$f":"WINEP_Schemes!I287","v":0},{"$f":"WINEP_Schemes!K287","v":1},{"$f":"WINEP_Schemes!L287","v":0},{"$f":"WINEP_Schemes!M287","v":"WWN"},{"$f":"WINEP_Schemes!N287","v":0},0,0,0,0,0,0,0,0]
[null,null,{"$f":"WINEP_Schemes!C288","v":"SSD00780"},{"$f":"WINEP_Schemes!D288","v":"7SO300806"},{"$f":"WINEP_Schemes!E288","v":"HORSHAM NEW WWTW"},{"$f":"WINEP_Schemes!F288","v":"£m"},{"$f":"WINEP_Schemes!G288","v":1},{"$f":"WINEP_Schemes!H288","v":0},{"$f":"WINEP_Schemes!J288","v":0},{"$f":"WINEP_Schemes!I288","v":0},{"$f":"WINEP_Schemes!K288","v":1},{"$f":"WINEP_Schemes!L288","v":0},{"$f":"WINEP_Schemes!M288","v":"WWN"},{"$f":"WINEP_Schemes!N288","v":0},0,0,0,0,0,0,0,0]
[null,null,{"$f":"WINEP_Schemes!C289","v":"SSD00783"},{"$f":"WINEP_Schemes!D289","v":"7SO300810"},{"$f":"WINEP_Schemes!E289","v":"HORSTED KEYNES WWTW"},{"$f":"WINEP_Schemes!F289","v":"£m"},{"$f":"WINEP_Schemes!G289","v":1},{"$f":"WINEP_Schemes!H289","v":0},{"$f":"WINEP_Schemes!J289","v":0},{"$f":"WINEP_Schemes!I289","v":0},{"$f":"WINEP_Schemes!K289","v":1},{"$f":"WINEP_Schemes!L289","v":0},{"$f":"WINEP_Schemes!M289","v":"WWN"},{"$f":"WINEP_Schemes!N289","v":0},0,0,0,0,0,0,0,0]
[null,null,{"$f":"WINEP_Schemes!C290","v":"KSL00569"},{"$f":"WINEP_Schemes!D290","v":"7SO300813"},{"$f":"WINEP_Schemes!E290","v":"ICKLESHAM WWTW"},{"$f":"WINEP_Schemes!F290","v":"£m"},{"$f":"WINEP_Schemes!G290","v":1},{"$f":"WINEP_Schemes!H290","v":0},{"$f":"WINEP_Schemes!J290","v":0},{"$f":"WINEP_Schemes!I290","v":0},{"$f":"WINEP_Schemes!K290","v":1},{"$f":"WINEP_Schemes!L290","v":0},{"$f":"WINEP_Schemes!M290","v":"WWN"},{"$f":"WINEP_Schemes!N290","v":0},0,0,0,0,0,0,0,0]
[null,null,{"$f":"WINEP_Schemes!C291","v":"SSD00787"},{"$f":"WINEP_Schemes!D291","v":"7SO300822"},{"$f":"WINEP_Schemes!E291","v":"KINGSTON HOLLOW WWTW"},{"$f":"WINEP_Schemes!F291","v":"£m"},{"$f":"WINEP_Schemes!G291","v":1},{"$f":"WINEP_Schemes!H291","v":0},{"$f":"WINEP_Schemes!J291","v":0},{"$f":"WINEP_Schemes!I291","v":0},{"$f":"WINEP_Schemes!K291","v":1},{"$f":"WINEP_Schemes!L291","v":0},{"$f":"WINEP_Schemes!M291","v":"WWN"},{"$f":"WINEP_Schemes!N291","v":0},0,0,0,0,0,0,0,0]
[null,null,{"$f":"WINEP_Schemes!C292","v":"SSD00792"},{"$f":"WINEP_Schemes!D292","v":"7SO300832"},{"$f":"WINEP_Schemes!E292","v":"LIDSEY WWTW"},{"$f":"WINEP_Schemes!F292","v":"£m"},{"$f":"WINEP_Schemes!G292","v":1},{"$f":"WINEP_Schemes!H292","v":0},{"$f":"WINEP_Schemes!J292","v":0},{"$f":"WINEP_Schemes!I292","v":0},{"$f":"WINEP_Schemes!K292","v":1},{"$f":"WINEP_Schemes!L292","v":0},{"$f":"WINEP_Schemes!M292","v":"WWN"},{"$f":"WINEP_Schemes!N292","v":0},0,0,0,0,0,0,0,0]
[null,null,{"$f":"WINEP_Schemes!C293","v":"KSL00580"},{"$f":"WINEP_Schemes!D293","v":"7SO300834"},{"$f":"WINEP_Schemes!E293","v":"LINGFIELD WWTW"},{"$f":"WINEP_Schemes!F293","v":"£m"},{"$f":"WINEP_Schemes!G293","v":1},{"$f":"WINEP_Schemes!H293","v":0},{"$f":"WINEP_Schemes!J293","v":0},{"$f":"WINEP_Schemes!I293","v":0},{"$f":"WINEP_Schemes!K293","v":1},{"$f":"WINEP_Schemes!L293","v":0},{"$f":"WINEP_Schemes!M293","v":"WWN"},{"$f":"WINEP_Schemes!N293","v":0},0,0,0,0,0,0,0,0]
[null,null,{"$f":"WINEP_Schemes!C294","v":"SSD00796"},{"$f":"WINEP_Schemes!D294","v":"7SO300840"},{"$f":"WINEP_Schemes!E294","v":"LOXWOOD WWTW"},{"$f":"WINEP_Schemes!F294","v":"£m"},{"$f":"WINEP_Schemes!G294","v":1},{"$f":"WINEP_Schemes!H294","v":0},{"$f":"WINEP_Schemes!J294","v":0},{"$f":"WINEP_Schemes!I294","v":0},{"$f":"WINEP_Schemes!K294","v":1},{"$f":"WINEP_Schemes!L294","v":0},{"$f":"WINEP_Schemes!M294","v":"WWN"},{"$f":"WINEP_Schemes!N294","v":0},0,0,0,0,0,0,0,0]
[null,null,{"$f":"WINEP_Schemes!C295","v":"SSD00798"},{"$f":"WINEP_Schemes!D295","v":"7SO300842"},{"$f":"WINEP_Schemes!E295","v":"LUNSFORDS CROSS WWTW"},{"$f":"WINEP_Schemes!F295","v":"£m"},{"$f":"WINEP_Schemes!G295","v":1},{"$f":"WINEP_Schemes!H295","v":0},{"$f":"WINEP_Schemes!J295","v":0},{"$f":"WINEP_Schemes!I295","v":0},{"$f":"WINEP_Schemes!K295","v":1},{"$f":"WINEP_Schemes!L295","v":0},{"$f":"WINEP_Schemes!M295","v":"WWN"},{"$f":"WINEP_Schemes!N295","v":0},0,0,0,0,0,0,0,0]
[null,null,{"$f":"WINEP_Schemes!C296","v":"KSL00584"},{"$f":"WINEP_Schemes!D296","v":"7SO300845"},{"$f":"WINEP_Schemes!E296","v":"LUXFORDS LANE EAST GRINSTEAD WWTW"},{"$f":"WINEP_Schemes!F296","v":"£m"},{"$f":"WINEP_Schemes!G296","v":1},{"$f":"WINEP_Schemes!H296","v":0},{"$f":"WINEP_Schemes!J296","v":0},{"$f":"WINEP_Schemes!I296","v":0},{"$f":"WINEP_Schemes!K296","v":1},{"$f":"WINEP_Schemes!L296","v":0},{"$f":"WINEP_Schemes!M296","v":"WWN"},{"$f":"WINEP_Schemes!N296","v":0},0,0,0,0,0,0,0,0]
[null,null,{"$f":"WINEP_Schemes!C297","v":"SSD00805"},{"$f":"WINEP_Schemes!D297","v":"7SO300853"},{"$f":"WINEP_Schemes!E297","v":"MANNINGS HEATH WWTW"},{"$f":"WINEP_Schemes!F297","v":"£m"},{"$f":"WINEP_Schemes!G297","v":1},{"$f":"WINEP_Schemes!H297","v":0},{"$f":"WINEP_Schemes!J297","v":0},{"$f":"WINEP_Schemes!I297","v":0},{"$f":"WINEP_Schemes!K297","v":1},{"$f":"WINEP_Schemes!L297","v":0},{"$f":"WINEP_Schemes!M297","v":"WWN"},{"$f":"WINEP_Schemes!N297","v":0},0,0,0,0,0,0,0,0]
[null,null,{"$f":"WINEP_Schemes!C298","v":"SSD00807"},{"$f":"WINEP_Schemes!D298","v":"7SO300855"},{"$f":"WINEP_Schemes!E298","v":"MARESFIELD WWTW"},{"$f":"WINEP_Schemes!F298","v":"£m"},{"$f":"WINEP_Schemes!G298","v":1},{"$f":"WINEP_Schemes!H298","v":0},{"$f":"WINEP_Schemes!J298","v":0},{"$f":"WINEP_Schemes!I298","v":0},{"$f":"WINEP_Schemes!K298","v":1},{"$f":"WINEP_Schemes!L298","v":0},{"$f":"WINEP_Schemes!M298","v":"WWN"},{"$f":"WINEP_Schemes!N298","v":0},0,0,0,0,0,0,0,0]
[null,null,{"$f":"WINEP_Schemes!C299","v":"KSL00590"},{"$f":"WINEP_Schemes!D299","v":"7SO300859"},{"$f":"WINEP_Schemes!E299","v":"MAY STREET HERNE BAY WWTW"},{"$f":"WINEP_Schemes!F299","v":"£m"},{"$f":"WINEP_Schemes!G299","v":1},{"$f":"WINEP_Schemes!H299","v":0},{"$f":"WINEP_Schemes!J299","v":0},{"$f":"WINEP_Schemes!I299","v":0},{"$f":"WINEP_Schemes!K299","v":1},{"$f":"WINEP_Schemes!L299","v":0},{"$f":"WINEP_Schemes!M299","v":"WWN"},{"$f":"WINEP_Schemes!N299","v":0},0,0,0,0,0,0,0,0]
[null,null,{"$f":"WINEP_Schemes!C300","v":"KSL00592"},{"$f":"WINEP_Schemes!D300","v":"7SO300861"},{"$f":"WINEP_Schemes!E300","v":"MERES FARM MAYFIELD WWTW"},{"$f":"WINEP_Schemes!F300","v":"£m"},{"$f":"WINEP_Schemes!G300","v":1},{"$f":"WINEP_Schemes!H300","v":0},{"$f":"WINEP_Schemes!J300","v":0},{"$f":"WINEP_Schemes!I300","v":0},{"$f":"WINEP_Schemes!K300","v":1},{"$f":"WINEP_Schemes!L300","v":0},{"$f":"WINEP_Schemes!M300","v":"WWN"},{"$f":"WINEP_Schemes!N300","v":0},0,0,0,0,0,0,0,0]
[null,null,{"$f":"WINEP_Schemes!C301","v":"SSD00809"},{"$f":"WINEP_Schemes!D301","v":"7SO300863"},{"$f":"WINEP_Schemes!E301","v":"MILFORD ROAD PENNINGTON WWTW"},{"$f":"WINEP_Schemes!F301","v":"£m"},{"$f":"WINEP_Schemes!G301","v":1},{"$f":"WINEP_Schemes!H301","v":0},{"$f":"WINEP_Schemes!J301","v":0},{"$f":"WINEP_Schemes!I301","v":0},{"$f":"WINEP_Schemes!K301","v":1},{"$f":"WINEP_Schemes!L301","v":0},{"$f":"WINEP_Schemes!M301","v":"WWN"},{"$f":"WINEP_Schemes!N301","v":0},0,0,0,0,0,0,0,0]
[null,null,{"$f":"WINEP_Schemes!C302","v":"SSD00814"},{"$f":"WINEP_Schemes!D302","v":"7SO300871"},{"$f":"WINEP_Schemes!E302","v":"MILLBROOK WWTW"},{"$f":"WINEP_Schemes!F302","v":"£m"},{"$f":"WINEP_Schemes!G302","v":1},{"$f":"WINEP_Schemes!H302","v":0},{"$f":"WINEP_Schemes!J302","v":0},{"$f":"WINEP_Schemes!I302","v":0},{"$f":"WINEP_Schemes!K302","v":1},{"$f":"WINEP_Schemes!L302","v":0},{"$f":"WINEP_Schemes!M302","v":"WWN"},{"$f":"WINEP_Schemes!N302","v":0},0,0,0,0,0,0,0,0]
[null,null,{"$f":"WINEP_Schemes!C303","v":"KSL00597"},{"$f":"WINEP_Schemes!D303","v":"7SO300873"},{"$f":"WINEP_Schemes!E303","v":"MINSTER IOT WWTW"},{"$f":"WINEP_Schemes!F303","v":"£m"},{"$f":"WINEP_Schemes!G303","v":1},{"$f":"WINEP_Schemes!H303","v":0},{"$f":"WINEP_Schemes!J303","v":0},{"$f":"WINEP_Schemes!I303","v":0},{"$f":"WINEP_Schemes!K303","v":1},{"$f":"WINEP_Schemes!L303","v":0},{"$f":"WINEP_Schemes!M303","v":"WWN"},{"$f":"WINEP_Schemes!N303","v":0},0,0,0,0,0,0,0,0]
[null,null,{"$f":"WINEP_Schemes!C304","v":"SSD00820"},{"$f":"WINEP_Schemes!D304","v":"7SO300883"},{"$f":"WINEP_Schemes!E304","v":"NEAVES LANE RINGMER WWTW"},{"$f":"WINEP_Schemes!F304","v":"£m"},{"$f":"WINEP_Schemes!G304","v":1},{"$f":"WINEP_Schemes!H304","v":0},{"$f":"WINEP_Schemes!J304","v":0},{"$f":"WINEP_Schemes!I304","v":0},{"$f":"WINEP_Schemes!K304","v":1},{"$f":"WINEP_Schemes!L304","v":0},{"$f":"WINEP_Schemes!M304","v":"WWN"},{"$f":"WINEP_Schemes!N304","v":0},0,0,0,0,0,0,0,0]
[null,null,{"$f":"WINEP_Schemes!C305","v":"KSL00603"},{"$f":"WINEP_Schemes!D305","v":"7SO300887"},{"$f":"WINEP_Schemes!E305","v":"NEW ROMNEY WWTW"},{"$f":"WINEP_Schemes!F305","v":"£m"},{"$f":"WINEP_Schemes!G305","v":1},{"$f":"WINEP_Schemes!H305","v":0},{"$f":"WINEP_Schemes!J305","v":0},{"$f":"WINEP_Schemes!I305","v":0},{"$f":"WINEP_Schemes!K305","v":1},{"$f":"WINEP_Schemes!L305","v":0},{"$f":"WINEP_Schemes!M305","v":"WWN"},{"$f":"WINEP_Schemes!N305","v":0},0,0,0,0,0,0,0,0]
[null,null,{"$f":"WINEP_Schemes!C306","v":"SSD00829"},{"$f":"WINEP_Schemes!D306","v":"7SO300894"},{"$f":"WINEP_Schemes!E306","v":"NEWHAVEN MAIN WWTW"},{"$f":"WINEP_Schemes!F306","v":"£m"},{"$f":"WINEP_Schemes!G306","v":1},{"$f":"WINEP_Schemes!H306","v":0},{"$f":"WINEP_Schemes!J306","v":0},{"$f":"WINEP_Schemes!I306","v":0},{"$f":"WINEP_Schemes!K306","v":1},{"$f":"WINEP_Schemes!L306","v":0},{"$f":"WINEP_Schemes!M306","v":"WWN"},{"$f":"WINEP_Schemes!N306","v":0},0,0,0,0,0,0,0,0]
[null,null,{"$f":"WINEP_Schemes!C307","v":"SSD00833"},{"$f":"WINEP_Schemes!D307","v":"7SO300898"},{"$f":"WINEP_Schemes!E307","v":"NORTHCHAPEL WWTW"},{"$f":"WINEP_Schemes!F307","v":"£m"},{"$f":"WINEP_Schemes!G307","v":1},{"$f":"WINEP_Schemes!H307","v":0},{"$f":"WINEP_Schemes!J307","v":0},{"$f":"WINEP_Schemes!I307","v":0},{"$f":"WINEP_Schemes!K307","v":1},{"$f":"WINEP_Schemes!L307","v":0},{"$f":"WINEP_Schemes!M307","v":"WWN"},{"$f":"WINEP_Schemes!N307","v":0},0,0,0,0,0,0,0,0]
[null,null,{"$f":"WINEP_Schemes!C308","v":"KSL00607"},{"$f":"WINEP_Schemes!D308","v":"7SO300906"},{"$f":"WINEP_Schemes!E308","v":"OXTED WWTW"},{"$f":"WINEP_Schemes!F308","v":"£m"},{"$f":"WINEP_Schemes!G308","v":1},{"$f":"WINEP_Schemes!H308","v":0},{"$f":"WINEP_Schemes!J308","v":0},{"$f":"WINEP_Schemes!I308","v":0},{"$f":"WINEP_Schemes!K308","v":1},{"$f":"WINEP_Schemes!L308","v":0},{"$f":"WINEP_Schemes!M308","v":"WWN"},{"$f":"WINEP_Schemes!N308","v":0},0,0,0,0,0,0,0,0]
[null,null,{"$f":"WINEP_Schemes!C309","v":"KSL00609"},{"$f":"WINEP_Schemes!D309","v":"7SO300908"},{"$f":"WINEP_Schemes!E309","v":"PADDOCK WOOD WWTW"},{"$f":"WINEP_Schemes!F309","v":"£m"},{"$f":"WINEP_Schemes!G309","v":1},{"$f":"WINEP_Schemes!H309","v":0},{"$f":"WINEP_Schemes!J309","v":0},{"$f":"WINEP_Schemes!I309","v":0},{"$f":"WINEP_Schemes!K309","v":1},{"$f":"WINEP_Schemes!L309","v":0},{"$f":"WINEP_Schemes!M309","v":"WWN"},{"$f":"WINEP_Schemes!N309","v":0},0,0,0,0,0,0,0,0]
[null,null,{"$f":"WINEP_Schemes!C310","v":"SSD00842"},{"$f":"WINEP_Schemes!D310","v":"7SO300913"},{"$f":"WINEP_Schemes!E310","v":"PEEL COMMON WWTW"},{"$f":"WINEP_Schemes!F310","v":"£m"},{"$f":"WINEP_Schemes!G310","v":1},{"$f":"WINEP_Schemes!H310","v":0},{"$f":"WINEP_Schemes!J310","v":0},{"$f":"WINEP_Schemes!I310","v":0},{"$f":"WINEP_Schemes!K310","v":1},{"$f":"WINEP_Schemes!L310","v":0},{"$f":"WINEP_Schemes!M310","v":"WWN"},{"$f":"WINEP_Schemes!N310","v":0},0,0,0,0,0,0,0,0]
[null,null,{"$f":"WINEP_Schemes!C311","v":"KSL00613"},{"$f":"WINEP_Schemes!D311","v":"7SO300917"},{"$f":"WINEP_Schemes!E311","v":"PENSHURST WWTW"},{"$f":"WINEP_Schemes!F311","v":"£m"},{"$f":"WINEP_Schemes!G311","v":1},{"$f":"WINEP_Schemes!H311","v":0},{"$f":"WINEP_Schemes!J311","v":0},{"$f":"WINEP_Schemes!I311","v":0},{"$f":"WINEP_Schemes!K311","v":1},{"$f":"WINEP_Schemes!L311","v":0},{"$f":"WINEP_Schemes!M311","v":"WWN"},{"$f":"WINEP_Schemes!N311","v":0},0,0,0,0,0,0,0,0]
[null,null,{"$f":"WINEP_Schemes!C312","v":"SSD00850"},{"$f":"WINEP_Schemes!D312","v":"7SO300926"},{"$f":"WINEP_Schemes!E312","v":"PORTSWOOD WWTW"},{"$f":"WINEP_Schemes!F312","v":"£m"},{"$f":"WINEP_Schemes!G312","v":1},{"$f":"WINEP_Schemes!H312","v":0},{"$f":"WINEP_Schemes!J312","v":0},{"$f":"WINEP_Schemes!I312","v":0},{"$f":"WINEP_Schemes!K312","v":1},{"$f":"WINEP_Schemes!L312","v":0},{"$f":"WINEP_Schemes!M312","v":"WWN"},{"$f":"WINEP_Schemes!N312","v":0},0,0,0,0,0,0,0,0]
[null,null,{"$f":"WINEP_Schemes!C313","v":"SSD00852"},{"$f":"WINEP_Schemes!D313","v":"7SO300928"},{"$f":"WINEP_Schemes!E313","v":"POYNINGS WWTW"},{"$f":"WINEP_Schemes!F313","v":"£m"},{"$f":"WINEP_Schemes!G313","v":1},{"$f":"WINEP_Schemes!H313","v":0},{"$f":"WINEP_Schemes!J313","v":0},{"$f":"WINEP_Schemes!I313","v":0},{"$f":"WINEP_Schemes!K313","v":1},{"$f":"WINEP_Schemes!L313","v":0},{"$f":"WINEP_Schemes!M313","v":"WWN"},{"$f":"WINEP_Schemes!N313","v":0},0,0,0,0,0,0,0,0]
[null,null,{"$f":"WINEP_Schemes!C314","v":"KSL00625"},{"$f":"WINEP_Schemes!D314","v":"7SO300941"},{"$f":"WINEP_Schemes!E314","v":"REDGATE MILL CROWBOROUGH WWTW"},{"$f":"WINEP_Schemes!F314","v":"£m"},{"$f":"WINEP_Schemes!G314","v":1},{"$f":"WINEP_Schemes!H314","v":0},{"$f":"WINEP_Schemes!J314","v":0},{"$f":"WINEP_Schemes!I314","v":0},{"$f":"WINEP_Schemes!K314","v":1},{"$f":"WINEP_Schemes!L314","v":0},{"$f":"WINEP_Schemes!M314","v":"WWN"},{"$f":"WINEP_Schemes!N314","v":0},0,0,0,0,0,0,0,0]
[null,null,{"$f":"WINEP_Schemes!C315","v":"SSD00858"},{"$f":"WINEP_Schemes!D315","v":"7SO300945"},{"$f":"WINEP_Schemes!E315","v":"RIPE WWTW"},{"$f":"WINEP_Schemes!F315","v":"£m"},{"$f":"WINEP_Schemes!G315","v":1},{"$f":"WINEP_Schemes!H315","v":0},{"$f":"WINEP_Schemes!J315","v":0},{"$f":"WINEP_Schemes!I315","v":0},{"$f":"WINEP_Schemes!K315","v":1},{"$f":"WINEP_Schemes!L315","v":0},{"$f":"WINEP_Schemes!M315","v":"WWN"},{"$f":"WINEP_Schemes!N315","v":0},0,0,0,0,0,0,0,0]
[null,null,{"$f":"WINEP_Schemes!C316","v":"KSL00629"},{"$f":"WINEP_Schemes!D316","v":"7SO300951"},{"$f":"WINEP_Schemes!E316","v":"ROLVENDEN LAYNE WWTW"},{"$f":"WINEP_Schemes!F316","v":"£m"},{"$f":"WINEP_Schemes!G316","v":1},{"$f":"WINEP_Schemes!H316","v":0},{"$f":"WINEP_Schemes!J316","v":0},{"$f":"WINEP_Schemes!I316","v":0},{"$f":"WINEP_Schemes!K316","v":1},{"$f":"WINEP_Schemes!L316","v":0},{"$f":"WINEP_Schemes!M316","v":"WWN"},{"$f":"WINEP_Schemes!N316","v":0},0,0,0,0,0,0,0,0]
[null,null,{"$f":"WINEP_Schemes!C317","v":"SSD00862"},{"$f":"WINEP_Schemes!D317","v":"7SO300953"},{"$f":"WINEP_Schemes!E317","v":"ROMSEY WWTW"},{"$f":"WINEP_Schemes!F317","v":"£m"},{"$f":"WINEP_Schemes!G317","v":1},{"$f":"WINEP_Schemes!H317","v":0},{"$f":"WINEP_Schemes!J317","v":0},{"$f":"WINEP_Schemes!I317","v":0},{"$f":"WINEP_Schemes!K317","v":1},{"$f":"WINEP_Schemes!L317","v":0},{"$f":"WINEP_Schemes!M317","v":"WWN"},{"$f":"WINEP_Schemes!N317","v":0},0,0,0,0,0,0,0,0]
[null,null,{"$f":"WINEP_Schemes!C318","v":"SSD00871"},{"$f":"WINEP_Schemes!D318","v":"7SO300968"},{"$f":"WINEP_Schemes!E318","v":"SANDOWN NEW WWTW"},{"$f":"WINEP_Schemes!F318","v":"£m"},{"$f":"WINEP_Schemes!G318","v":1},{"$f":"WINEP_Schemes!H318","v":0},{"$f":"WINEP_Schemes!J318","v":0},{"$f":"WINEP_Schemes!I318","v":0},{"$f":"WINEP_Schemes!K318","v":1},{"$f":"WINEP_Schemes!L318","v":0},{"$f":"WINEP_Schemes!M318","v":"WWN"},{"$f":"WINEP_Schemes!N318","v":0},0,0,0,0,0,0,0,0]
[null,null,{"$f":"WINEP_Schemes!C319","v":"KSL00637"},{"$f":"WINEP_Schemes!D319","v":"7SO300975"},{"$f":"WINEP_Schemes!E319","v":"SELLINDGE WWTW"},{"$f":"WINEP_Schemes!F319","v":"£m"},{"$f":"WINEP_Schemes!G319","v":1},{"$f":"WINEP_Schemes!H319","v":0},{"$f":"WINEP_Schemes!J319","v":0},{"$f":"WINEP_Schemes!I319","v":0},{"$f":"WINEP_Schemes!K319","v":1},{"$f":"WINEP_Schemes!L319","v":0},{"$f":"WINEP_Schemes!M319","v":"WWN"},{"$f":"WINEP_Schemes!N319","v":0},0,0,0,0,0,0,0,0]
[null,null,{"$f":"WINEP_Schemes!C320","v":"SSD00879"},{"$f":"WINEP_Schemes!D320","v":"7SO300978"},{"$f":"WINEP_Schemes!E320","v":"SHOREHAM WWTW"},{"$f":"WINEP_Schemes!F320","v":"£m"},{"$f":"WINEP_Schemes!G320","v":1},{"$f":"WINEP_Schemes!H320","v":0},{"$f":"WINEP_Schemes!J320","v":0},{"$f":"WINEP_Schemes!I320","v":0},{"$f":"WINEP_Schemes!K320","v":1},{"$f":"WINEP_Schemes!L320","v":0},{"$f":"WINEP_Schemes!M320","v":"WWN"},{"$f":"WINEP_Schemes!N320","v":0},0,0,0,0,0,0,0,0]
[null,null,{"$f":"WINEP_Schemes!C321","v":"SSD00881"},{"$f":"WINEP_Schemes!D321","v":"7SO300980"},{"$f":"WINEP_Schemes!E321","v":"SHORWELL WWTW"},{"$f":"WINEP_Schemes!F321","v":"£m"},{"$f":"WINEP_Schemes!G321","v":1},{"$f":"WINEP_Schemes!H321","v":0},{"$f":"WINEP_Schemes!J321","v":0},{"$f":"WINEP_Schemes!I321","v":0},{"$f":"WINEP_Schemes!K321","v":1},{"$f":"WINEP_Schemes!L321","v":0},{"$f":"WINEP_Schemes!M321","v":"WWN"},{"$f":"WINEP_Schemes!N321","v":0},0,0,0,0,0,0,0,0]
[null,null,{"$f":"WINEP_Schemes!C322","v":"SSD00883"},{"$f":"WINEP_Schemes!D322","v":"7SO300982"},{"$f":"WINEP_Schemes!E322","v":"SIDLESHAM WWTW"},{"$f":"WINEP_Schemes!F322","v":"£m"},{"$f":"WINEP_Schemes!G322","v":1},{"$f":"WINEP_Schemes!H322","v":0},{"$f":"WINEP_Schemes!J322","v":0},{"$f":"WINEP_Schemes!I322","v":0},{"$f":"WINEP_Schemes!K322","v":1},{"$f":"WINEP_Schemes!L322","v":0},{"$f":"WINEP_Schemes!M322","v":"WWN"},{"$f":"WINEP_Schemes!N322","v":0},0,0,0,0,0,0,0,0]
[null,null,{"$f":"WINEP_Schemes!C323","v":"KSL00641"},{"$f":"WINEP_Schemes!D323","v":"7SO300986"},{"$f":"WINEP_Schemes!E323","v":"SITTINGBOURNE WWTW"},{"$f":"WINEP_Schemes!F323","v":"£m"},{"$f":"WINEP_Schemes!G323","v":1},{"$f":"WINEP_Schemes!H323","v":0},{"$f":"WINEP_Schemes!J323","v":0},{"$f":"WINEP_Schemes!I323","v":0},{"$f":"WINEP_Schemes!K323","v":1},{"$f":"WINEP_Schemes!L323","v":0},{"$f":"WINEP_Schemes!M323","v":"WWN"},{"$f":"WINEP_Schemes!N323","v":0},0,0,0,0,0,0,0,0]
[null,null,{"$f":"WINEP_Schemes!C324","v":"SSD00885"},{"$f":"WINEP_Schemes!D324","v":"7SO300988"},{"$f":"WINEP_Schemes!E324","v":"SLINFOLD WWTW"},{"$f":"WINEP_Schemes!F324","v":"£m"},{"$f":"WINEP_Schemes!G324","v":1},{"$f":"WINEP_Schemes!H324","v":0},{"$f":"WINEP_Schemes!J324","v":0},{"$f":"WINEP_Schemes!I324","v":0},{"$f":"WINEP_Schemes!K324","v":1},{"$f":"WINEP_Schemes!L324","v":0},{"$f":"WINEP_Schemes!M324","v":"WWN"},{"$f":"WINEP_Schemes!N324","v":0},0,0,0,0,0,0,0,0]
[null,null,{"$f":"WINEP_Schemes!C325","v":"SSD00887"},{"$f":"WINEP_Schemes!D325","v":"7SO300990"},{"$f":"WINEP_Schemes!E325","v":"SLOWHILL COPSE MARCHWOOD WWTW"},{"$f":"WINEP_Schemes!F325","v":"£m"},{"$f":"WINEP_Schemes!G325","v":1},{"$f":"WINEP_Schemes!H325","v":0},{"$f":"WINEP_Schemes!J325","v":0},{"$f":"WINEP_Schemes!I325","v":0},{"$f":"WINEP_Schemes!K325","v":1},{"$f":"WINEP_Schemes!L325","v":0},{"$f":"WINEP_Schemes!M325","v":"WWN"},{"$f":"WINEP_Schemes!N325","v":0},0,0,0,0,0,0,0,0]
[null,null,{"$f":"WINEP_Schemes!C326","v":"SSD00889"},{"$f":"WINEP_Schemes!D326","v":"7SO300992"},{"$f":"WINEP_Schemes!E326","v":"SMALL DOLE WWTW"},{"$f":"WINEP_Schemes!F326","v":"£m"},{"$f":"WINEP_Schemes!G326","v":1},{"$f":"WINEP_Schemes!H326","v":0},{"$f":"WINEP_Schemes!J326","v":0},{"$f":"WINEP_Schemes!I326","v":0},{"$f":"WINEP_Schemes!K326","v":1},{"$f":"WINEP_Schemes!L326","v":0},{"$f":"WINEP_Schemes!M326","v":"WWN"},{"$f":"WINEP_Schemes!N326","v":0},0,0,0,0,0,0,0,0]
[null,null,{"$f":"WINEP_Schemes!C327","v":"KSL00643"},{"$f":"WINEP_Schemes!D327","v":"7SO300994"},{"$f":"WINEP_Schemes!E327","v":"SMARDEN WWTW"},{"$f":"WINEP_Schemes!F327","v":"£m"},{"$f":"WINEP_Schemes!G327","v":1},{"$f":"WINEP_Schemes!H327","v":0},{"$f":"WINEP_Schemes!J327","v":0},{"$f":"WINEP_Schemes!I327","v":0},{"$f":"WINEP_Schemes!K327","v":1},{"$f":"WINEP_Schemes!L327","v":0},{"$f":"WINEP_Schemes!M327","v":"WWN"},{"$f":"WINEP_Schemes!N327","v":0},0,0,0,0,0,0,0,0]
[null,null,{"$f":"WINEP_Schemes!C328","v":"KSL00645"},{"$f":"WINEP_Schemes!D328","v":"7SO300996"},{"$f":"WINEP_Schemes!E328","v":"SMITHS LANE GOUDHURST WWTW"},{"$f":"WINEP_Schemes!F328","v":"£m"},{"$f":"WINEP_Schemes!G328","v":1},{"$f":"WINEP_Schemes!H328","v":0},{"$f":"WINEP_Schemes!J328","v":0},{"$f":"WINEP_Schemes!I328","v":0},{"$f":"WINEP_Schemes!K328","v":1},{"$f":"WINEP_Schemes!L328","v":0},{"$f":"WINEP_Schemes!M328","v":"WWN"},{"$f":"WINEP_Schemes!N328","v":0},0,0,0,0,0,0,0,0]
[null,null,{"$f":"WINEP_Schemes!C329","v":"KSL00647"},{"$f":"WINEP_Schemes!D329","v":"7SO400003"},{"$f":"WINEP_Schemes!E329","v":"SOUTH STREET EAST BARMING WPS"},{"$f":"WINEP_Schemes!F329","v":"£m"},{"$f":"WINEP_Schemes!G329","v":1},{"$f":"WINEP_Schemes!H329","v":0},{"$f":"WINEP_Schemes!J329","v":0},{"$f":"WINEP_Schemes!I329","v":0},{"$f":"WINEP_Schemes!K329","v":1},{"$f":"WINEP_Schemes!L329","v":0},{"$f":"WINEP_Schemes!M329","v":"WWN"},{"$f":"WINEP_Schemes!N329","v":0},0,0,0,0,0,0,0,0]
[null,null,{"$f":"WINEP_Schemes!C330","v":"KSL00649"},{"$f":"WINEP_Schemes!D330","v":"7SO400009"},{"$f":"WINEP_Schemes!E330","v":"ST JOHNS CROWBOROUGH WWTW"},{"$f":"WINEP_Schemes!F330","v":"£m"},{"$f":"WINEP_Schemes!G330","v":1},{"$f":"WINEP_Schemes!H330","v":0},{"$f":"WINEP_Schemes!J330","v":0},{"$f":"WINEP_Schemes!I330","v":0},{"$f":"WINEP_Schemes!K330","v":1},{"$f":"WINEP_Schemes!L330","v":0},{"$f":"WINEP_Schemes!M330","v":"WWN"},{"$f":"WINEP_Schemes!N330","v":0},0,0,0,0,0,0,0,0]
[null,null,{"$f":"WINEP_Schemes!C331","v":"SSD00899"},{"$f":"WINEP_Schemes!D331","v":"7SO400013"},{"$f":"WINEP_Schemes!E331","v":"STAPLEFIELD WWTW"},{"$f":"WINEP_Schemes!F331","v":"£m"},{"$f":"WINEP_Schemes!G331","v":1},{"$f":"WINEP_Schemes!H331","v":0},{"$f":"WINEP_Schemes!J331","v":0},{"$f":"WINEP_Schemes!I331","v":0},{"$f":"WINEP_Schemes!K331","v":1},{"$f":"WINEP_Schemes!L331","v":0},{"$f":"WINEP_Schemes!M331","v":"WWN"},{"$f":"WINEP_Schemes!N331","v":0},0,0,0,0,0,0,0,0]
[null,null,{"$f":"WINEP_Schemes!C332","v":"KSL00653"},{"$f":"WINEP_Schemes!D332","v":"7SO400015"},{"$f":"WINEP_Schemes!E332","v":"STAPLEHURST WWTW"},{"$f":"WINEP_Schemes!F332","v":"£m"},{"$f":"WINEP_Schemes!G332","v":1},{"$f":"WINEP_Schemes!H332","v":0},{"$f":"WINEP_Schemes!J332","v":0},{"$f":"WINEP_Schemes!I332","v":0},{"$f":"WINEP_Schemes!K332","v":1},{"$f":"WINEP_Schemes!L332","v":0},{"$f":"WINEP_Schemes!M332","v":"WWN"},{"$f":"WINEP_Schemes!N332","v":0},0,0,0,0,0,0,0,0]
[null,null,{"$f":"WINEP_Schemes!C333","v":"SSD00901"},{"$f":"WINEP_Schemes!D333","v":"7SO400017"},{"$f":"WINEP_Schemes!E333","v":"STEYNING WWTW"},{"$f":"WINEP_Schemes!F333","v":"£m"},{"$f":"WINEP_Schemes!G333","v":1},{"$f":"WINEP_Schemes!H333","v":0},{"$f":"WINEP_Schemes!J333","v":0},{"$f":"WINEP_Schemes!I333","v":0},{"$f":"WINEP_Schemes!K333","v":1},{"$f":"WINEP_Schemes!L333","v":0},{"$f":"WINEP_Schemes!M333","v":"WWN"},{"$f":"WINEP_Schemes!N333","v":0},0,0,0,{"$f":" IF($M334 = R$9, $Q334, 0)","v":0},0,0,0,0]
[null,null,{"$f":"WINEP_Schemes!C334","v":"SSD00903"},{"$f":"WINEP_Schemes!D334","v":"7SO400019"},{"$f":"WINEP_Schemes!E334","v":"STOCKBRIDGE WWTW"},{"$f":"WINEP_Schemes!F334","v":"£m"},{"$f":"WINEP_Schemes!G334","v":1},{"$f":"WINEP_Schemes!H334","v":0},{"$f":"WINEP_Schemes!J334","v":0},{"$f":"WINEP_Schemes!I334","v":0},{"$f":"WINEP_Schemes!K334","v":1},{"$f":"WINEP_Schemes!L334","v":0},{"$f":"WINEP_Schemes!M334","v":"WWN"},{"$f":"WINEP_Schemes!N334","v":0},0,0,0,0,0,0,0,0]
[null,null,{"$f":"WINEP_Schemes!C335","v":"KSL00657"},{"$f":"WINEP_Schemes!D335","v":"7SO400023"},{"$f":"WINEP_Schemes!E335","v":"STONE HILL ROAD EGERTON WWTW"},{"$f":"WINEP_Schemes!F335","v":"£m"},{"$f":"WINEP_Schemes!G335","v":1},{"$f":"WINEP_Schemes!H335","v":0},{"$f":"WINEP_Schemes!J335","v":0},{"$f":"WINEP_Schemes!I335","v":0},{"$f":"WINEP_Schemes!K335","v":1},{"$f":"WINEP_Schemes!L335","v":0},{"$f":"WINEP_Schemes!M335","v":"WWN"},{"$f":"WINEP_Schemes!N335","v":0},0,0,0,0,0,0,0,0]
[null,null,{"$f":"WINEP_Schemes!C336","v":"SSD00905"},{"$f":"WINEP_Schemes!D336","v":"7SO400027"},{"$f":"WINEP_Schemes!E336","v":"STORRINGTON WWTW"},{"$f":"WINEP_Schemes!F336","v":"£m"},{"$f":"WINEP_Schemes!G336","v":1},{"$f":"WINEP_Schemes!H336","v":0},{"$f":"WINEP_Schemes!J336","v":0},{"$f":"WINEP_Schemes!I336","v":0},{"$f":"WINEP_Schemes!K336","v":1},{"$f":"WINEP_Schemes!L336","v":0},{"$f":"WINEP_Schemes!M336","v":"WWN"},{"$f":"WINEP_Schemes!N336","v":0},{"$f":" I337 * J337 * G337","v":0},{"$f":" N337 * O337","v":0},{"$f":" IF(L337 = 0, P337, (N337 - 1) * O337)","v":0},0,0,0,0,0]
[null,null,{"$f":"WINEP_Schemes!C337","v":"KSL00661"},{"$f":"WINEP_Schemes!D337","v":"7SO400029"},{"$f":"WINEP_Schemes!E337","v":"STUBBS LANE BREDE WWTW"},{"$f":"WINEP_Schemes!F337","v":"£m"},{"$f":"WINEP_Schemes!G337","v":1},{"$f":"WINEP_Schemes!H337","v":0},{"$f":"WINEP_Schemes!J337","v":0},{"$f":"WINEP_Schemes!I337","v":0},{"$f":"WINEP_Schemes!K337","v":1},{"$f":"WINEP_Schemes!L337","v":0},{"$f":"WINEP_Schemes!M337","v":"WWN"},{"$f":"WINEP_Schemes!N337","v":0},0,0,0,0,0,0,0,0]
[null,null,{"$f":"WINEP_Schemes!C338","v":"SSD00907"},{"$f":"WINEP_Schemes!D338","v":"7SO400031"},{"$f":"WINEP_Schemes!E338","v":"SUMMER LANE PAGHAM WWTW"},{"$f":"WINEP_Schemes!F338","v":"£m"},{"$f":"WINEP_Schemes!G338","v":1},{"$f":"WINEP_Schemes!H338","v":0},{"$f":"WINEP_Schemes!J338","v":0},{"$f":"WINEP_Schemes!I338","v":0},{"$f":"WINEP_Schemes!K338","v":1},{"$f":"WINEP_Schemes!L338","v":0},{"$f":"WINEP_Schemes!M338","v":"WWN"},{"$f":"WINEP_Schemes!N338","v":0},0,0,0,0,0,0,0,0]
[null,null,{"$f":"WINEP_Schemes!C339","v":"KSL00663"},{"$f":"WINEP_Schemes!D339","v":"7SO400033"},{"$f":"WINEP_Schemes!E339","v":"SUTTON VALENCE WWTW"},{"$f":"WINEP_Schemes!F339","v":"£m"},{"$f":"WINEP_Schemes!G339","v":1},{"$f":"WINEP_Schemes!H339","v":0},{"$f":"WINEP_Schemes!J339","v":0},{"$f":"WINEP_Schemes!I339","v":0},{"$f":"WINEP_Schemes!K339","v":1},{"$f":"WINEP_Schemes!L339","v":0},{"$f":"WINEP_Schemes!M339","v":"WWN"},{"$f":"WINEP_Schemes!N339","v":0},0,0,0,0,0,0,0,0]
[null,null,{"$f":"WINEP_Schemes!C340","v":"KSL00665"},{"$f":"WINEP_Schemes!D340","v":"7SO400035"},{"$f":"WINEP_Schemes!E340","v":"SWALECLIFFE WWTW"},{"$f":"WINEP_Schemes!F340","v":"£m"},{"$f":"WINEP_Schemes!G340","v":1},{"$f":"WINEP_Schemes!H340","v":0},{"$f":"WINEP_Schemes!J340","v":0},{"$f":"WINEP_Schemes!I340","v":0},{"$f":"WINEP_Schemes!K340","v":1},{"$f":"WINEP_Schemes!L340","v":0},{"$f":"WINEP_Schemes!M340","v":"WWN"},{"$f":"WINEP_Schemes!N340","v":0},0,0,0,0,0,0,0,0]
[null,null,{"$f":"WINEP_Schemes!C341","v":"SSD00909"},{"$f":"WINEP_Schemes!D341","v":"7SO400037"},{"$f":"WINEP_Schemes!E341","v":"TANGMERE WWTW"},{"$f":"WINEP_Schemes!F341","v":"£m"},{"$f":"WINEP_Schemes!G341","v":1},{"$f":"WINEP_Schemes!H341","v":0},{"$f":"WINEP_Schemes!J341","v":0},{"$f":"WINEP_Schemes!I341","v":0},{"$f":"WINEP_Schemes!K341","v":1},{"$f":"WINEP_Schemes!L341","v":0},{"$f":"WINEP_Schemes!M341","v":"WWN"},{"$f":"WINEP_Schemes!N341","v":0},0,0,0,0,0,0,0,0]
[null,null,{"$f":"WINEP_Schemes!C342","v":"KSL00667"},{"$f":"WINEP_Schemes!D342","v":"7SO400040"},{"$f":"WINEP_Schemes!E342","v":"TENTERDEN WWTW"},{"$f":"WINEP_Schemes!F342","v":"£m"},{"$f":"WINEP_Schemes!G342","v":1},{"$f":"WINEP_Schemes!H342","v":0},{"$f":"WINEP_Schemes!J342","v":0},{"$f":"WINEP_Schemes!I342","v":0},{"$f":"WINEP_Schemes!K342","v":1},{"$f":"WINEP_Schemes!L342","v":0},{"$f":"WINEP_Schemes!M342","v":"WWN"},{"$f":"WINEP_Schemes!N342","v":0},0,0,0,0,0,0,0,0]
[null,null,{"$f":"WINEP_Schemes!C343","v":"SSD00913"},{"$f":"WINEP_Schemes!D343","v":"7SO400047"},{"$f":"WINEP_Schemes!E343","v":"THORNHAM WWTW"},{"$f":"WINEP_Schemes!F343","v":"£m"},{"$f":"WINEP_Schemes!G343","v":1},{"$f":"WINEP_Schemes!H343","v":0},{"$f":"WINEP_Schemes!J343","v":0},{"$f":"WINEP_Schemes!I343","v":0},{"$f":"WINEP_Schemes!K343","v":1},{"$f":"WINEP_Schemes!L343","v":0},{"$f":"WINEP_Schemes!M343","v":"WWN"},{"$f":"WINEP_Schemes!N343","v":0},0,0,0,0,0,0,0,0]
[null,null,{"$f":"WINEP_Schemes!C344","v":"KSL00678"},{"$f":"WINEP_Schemes!D344","v":"7SO400054"},{"$f":"WINEP_Schemes!E344","v":"TUNBRIDGE WELLS NORTH WWTW"},{"$f":"WINEP_Schemes!F344","v":"£m"},{"$f":"WINEP_Schemes!G344","v":1},{"$f":"WINEP_Schemes!H344","v":0},{"$f":"WINEP_Schemes!J344","v":0},{"$f":"WINEP_Schemes!I344","v":0},{"$f":"WINEP_Schemes!K344","v":1},{"$f":"WINEP_Schemes!L344","v":0},{"$f":"WINEP_Schemes!M344","v":"WWN"},{"$f":"WINEP_Schemes!N344","v":0},0,0,0,0,0,0,0,0]
[null,null,{"$f":"WINEP_Schemes!C345","v":"KSL00680"},{"$f":"WINEP_Schemes!D345","v":"7SO400056"},{"$f":"WINEP_Schemes!E345","v":"TUNBRIDGE WELLS SOUTH WWTW"},{"$f":"WINEP_Schemes!F345","v":"£m"},{"$f":"WINEP_Schemes!G345","v":1},{"$f":"WINEP_Schemes!H345","v":0},{"$f":"WINEP_Schemes!J345","v":0},{"$f":"WINEP_Schemes!I345","v":0},{"$f":"WINEP_Schemes!K345","v":1},{"$f":"WINEP_Schemes!L345","v":0},{"$f":"WINEP_Schemes!M345","v":"WWN"},{"$f":"WINEP_Schemes!N345","v":0},0,0,0,0,0,0,0,0]
[null,null,{"$f":"WINEP_Schemes!C346","v":"SSD00915"},{"$f":"WINEP_Schemes!D346","v":"7SO400058"},{"$f":"WINEP_Schemes!E346","v":"UCKFIELD WWTW"},{"$f":"WINEP_Schemes!F346","v":"£m"},{"$f":"WINEP_Schemes!G346","v":1},{"$f":"WINEP_Schemes!H346","v":0},{"$f":"WINEP_Schemes!J346","v":0},{"$f":"WINEP_Schemes!I346","v":0},{"$f":"WINEP_Schemes!K346","v":1},{"$f":"WINEP_Schemes!L346","v":0},{"$f":"WINEP_Schemes!M346","v":"WWN"},{"$f":"WINEP_Schemes!N346","v":0},0,0,0,0,0,0,0,0]
[null,null,{"$f":"WINEP_Schemes!C347","v":"KSL00684"},{"$f":"WINEP_Schemes!D347","v":"7SO400062"},{"$f":"WINEP_Schemes!E347","v":"UNDERHILL GOUDHURST WWTW"},{"$f":"WINEP_Schemes!F347","v":"£m"},{"$f":"WINEP_Schemes!G347","v":1},{"$f":"WINEP_Schemes!H347","v":0},{"$f":"WINEP_Schemes!J347","v":0},{"$f":"WINEP_Schemes!I347","v":0},{"$f":"WINEP_Schemes!K347","v":1},{"$f":"WINEP_Schemes!L347","v":0},{"$f":"WINEP_Schemes!M347","v":"WWN"},{"$f":"WINEP_Schemes!N347","v":0},0,0,0,0,0,0,0,0]
[null,null,{"$f":"WINEP_Schemes!C348","v":"SSD00918"},{"$f":"WINEP_Schemes!D348","v":"7SO400065"},{"$f":"WINEP_Schemes!E348","v":"VINES CROSS WWTW"},{"$f":"WINEP_Schemes!F348","v":"£m"},{"$f":"WINEP_Schemes!G348","v":1},{"$f":"WINEP_Schemes!H348","v":0},{"$f":"WINEP_Schemes!J348","v":0},{"$f":"WINEP_Schemes!I348","v":0},{"$f":"WINEP_Schemes!K348","v":1},{"$f":"WINEP_Schemes!L348","v":0},{"$f":"WINEP_Schemes!M348","v":"WWN"},{"$f":"WINEP_Schemes!N348","v":0},0,0,0,0,0,0,0,0]
[null,null,{"$f":"WINEP_Schemes!C349","v":"KSL00686"},{"$f":"WINEP_Schemes!D349","v":"7SO400069"},{"$f":"WINEP_Schemes!E349","v":"WASHWELL LANE WADHURST WWTW"},{"$f":"WINEP_Schemes!F349","v":"£m"},{"$f":"WINEP_Schemes!G349","v":1},{"$f":"WINEP_Schemes!H349","v":0},{"$f":"WINEP_Schemes!J349","v":0},{"$f":"WINEP_Schemes!I349","v":0},{"$f":"WINEP_Schemes!K349","v":1},{"$f":"WINEP_Schemes!L349","v":0},{"$f":"WINEP_Schemes!M349","v":"WWN"},{"$f":"WINEP_Schemes!N349","v":0},0,0,0,0,0,0,0,0]
[null,null,{"$f":"WINEP_Schemes!C350","v":"SSD00924"},{"$f":"WINEP_Schemes!D350","v":"7SO400079"},{"$f":"WINEP_Schemes!E350","v":"WEST WELLOW WWTW"},{"$f":"WINEP_Schemes!F350","v":"£m"},{"$f":"WINEP_Schemes!G350","v":1},{"$f":"WINEP_Schemes!H350","v":0},{"$f":"WINEP_Schemes!J350","v":0},{"$f":"WINEP_Schemes!I350","v":0},{"$f":"WINEP_Schemes!K350","v":1},{"$f":"WINEP_Schemes!L350","v":0},{"$f":"WINEP_Schemes!M350","v":"WWN"},{"$f":"WINEP_Schemes!N350","v":0},0,0,0,0,0,0,0,0]
[null,null,{"$f":"WINEP_Schemes!C351","v":"KSL00694"},{"$f":"WINEP_Schemes!D351","v":"7SO400081"},{"$f":"WINEP_Schemes!E351","v":"WESTBERE WWTW"},{"$f":"WINEP_Schemes!F351","v":"£m"},{"$f":"WINEP_Schemes!G351","v":1},{"$f":"WINEP_Schemes!H351","v":0},{"$f":"WINEP_Schemes!J351","v":0},{"$f":"WINEP_Schemes!I351","v":0},{"$f":"WINEP_Schemes!K351","v":1},{"$f":"WINEP_Schemes!L351","v":0},{"$f":"WINEP_Schemes!M351","v":"WWN"},{"$f":"WINEP_Schemes!N351","v":0},0,0,0,0,0,0,0,0]
[null,null,{"$f":"WINEP_Schemes!C352","v":"KSL00698"},{"$f":"WINEP_Schemes!D352","v":"7SO400086"},{"$f":"WINEP_Schemes!E352","v":"WHITEGATES LANE WADHURST WWTW"},{"$f":"WINEP_Schemes!F352","v":"£m"},{"$f":"WINEP_Schemes!G352","v":1},{"$f":"WINEP_Schemes!H352","v":0},{"$f":"WINEP_Schemes!J352","v":0},{"$f":"WINEP_Schemes!I352","v":0},{"$f":"WINEP_Schemes!K352","v":1},{"$f":"WINEP_Schemes!L352","v":0},{"$f":"WINEP_Schemes!M352","v":"WWN"},{"$f":"WINEP_Schemes!N352","v":0},0,0,0,0,0,0,0,0]
[null,null,{"$f":"WINEP_Schemes!C353","v":"KSL00700"},{"$f":"WINEP_Schemes!D353","v":"7SO400090"},{"$f":"WINEP_Schemes!E353","v":"WHITEWALL CREEK WWTW"},{"$f":"WINEP_Schemes!F353","v":"£m"},{"$f":"WINEP_Schemes!G353","v":1},{"$f":"WINEP_Schemes!H353","v":0},{"$f":"WINEP_Schemes!J353","v":0},{"$f":"WINEP_Schemes!I353","v":0},{"$f":"WINEP_Schemes!K353","v":1},{"$f":"WINEP_Schemes!L353","v":0},{"$f":"WINEP_Schemes!M353","v":"WWN"},{"$f":"WINEP_Schemes!N353","v":0},0,0,0,0,0,0,0,0]
[null,null,{"$f":"WINEP_Schemes!C354","v":"SSD00931"},{"$f":"WINEP_Schemes!D354","v":"7SO400094"},{"$f":"WINEP_Schemes!E354","v":"WINDMILL HILL HERSTMONCEUX WWTW"},{"$f":"WINEP_Schemes!F354","v":"£m"},{"$f":"WINEP_Schemes!G354","v":1},{"$f":"WINEP_Schemes!H354","v":0},{"$f":"WINEP_Schemes!J354","v":0},{"$f":"WINEP_Schemes!I354","v":0},{"$f":"WINEP_Schemes!K354","v":1},{"$f":"WINEP_Schemes!L354","v":0},{"$f":"WINEP_Schemes!M354","v":"WWN"},{"$f":"WINEP_Schemes!N354","v":0},0,0,0,0,0,0,0,0]
[null,null,{"$f":"WINEP_Schemes!C355","v":"SSD00935"},{"$f":"WINEP_Schemes!D355","v":"7SO400100"},{"$f":"WINEP_Schemes!E355","v":"WIVELSFIELD WWTW"},{"$f":"WINEP_Schemes!F355","v":"£m"},{"$f":"WINEP_Schemes!G355","v":1},{"$f":"WINEP_Schemes!H355","v":0},{"$f":"WINEP_Schemes!J355","v":0},{"$f":"WINEP_Schemes!I355","v":0},{"$f":"WINEP_Schemes!K355","v":1},{"$f":"WINEP_Schemes!L355","v":0},{"$f":"WINEP_Schemes!M355","v":"WWN"},{"$f":"WINEP_Schemes!N355","v":0},0,0,0,0,0,0,0,0]
[null,null,{"$f":"WINEP_Schemes!C356","v":"KSL00707"},{"$f":"WINEP_Schemes!D356","v":"7SO400109"},{"$f":"WINEP_Schemes!E356","v":"YALDING OLD WORKS WPS"},{"$f":"WINEP_Schemes!F356","v":"£m"},{"$f":"WINEP_Schemes!G356","v":1},{"$f":"WINEP_Schemes!H356","v":0},{"$f":"WINEP_Schemes!J356","v":0},{"$f":"WINEP_Schemes!I356","v":0},{"$f":"WINEP_Schemes!K356","v":1},{"$f":"WINEP_Schemes!L356","v":0},{"$f":"WINEP_Schemes!M356","v":"WWN"},{"$f":"WINEP_Schemes!N356","v":0},0,0,0,0,0,0,0,0]
[null,null,{"$f":"WINEP_Schemes!C357","v":"KSL00457"},{"$f":"WINEP_Schemes!D357","v":"7SO300585"},{"$f":"WINEP_Schemes!E357","v":"APPLEDORE ROAD WOODCHURCH WPS"},{"$f":"WINEP_Schemes!F357","v":"£m"},{"$f":"WINEP_Schemes!G357","v":1},{"$f":"WINEP_Schemes!H357","v":0},{"$f":"WINEP_Schemes!J357","v":0},{"$f":"WINEP_Schemes!I357","v":0},{"$f":"WINEP_Schemes!K357","v":1},{"$f":"WINEP_Schemes!L357","v":0},{"$f":"WINEP_Schemes!M357","v":"WWN"},{"$f":"WINEP_Schemes!N357","v":0},0,0,0,0,0,0,0,0]
[null,null,{"$f":"WINEP_Schemes!C358","v":"KSL00459"},{"$f":"WINEP_Schemes!D358","v":"7SO300589"},{"$f":"WINEP_Schemes!E358","v":"ASHFORD ROAD CHILHAM WPS"},{"$f":"WINEP_Schemes!F358","v":"£m"},{"$f":"WINEP_Schemes!G358","v":1},{"$f":"WINEP_Schemes!H358","v":0},{"$f":"WINEP_Schemes!J358","v":0},{"$f":"WINEP_Schemes!I358","v":0},{"$f":"WINEP_Schemes!K358","v":1},{"$f":"WINEP_Schemes!L358","v":0},{"$f":"WINEP_Schemes!M358","v":"WWN"},{"$f":"WINEP_Schemes!N358","v":0},0,0,0,0,0,0,0,0]
[null,null,{"$f":"WINEP_Schemes!C359","v":"SSD00672"},{"$f":"WINEP_Schemes!D359","v":"7SO300595"},{"$f":"WINEP_Schemes!E359","v":"ASHLETT CREEK FAWLEY WWTW"},{"$f":"WINEP_Schemes!F359","v":"£m"},{"$f":"WINEP_Schemes!G359","v":1},{"$f":"WINEP_Schemes!H359","v":0},{"$f":"WINEP_Schemes!J359","v":0},{"$f":"WINEP_Schemes!I359","v":0},{"$f":"WINEP_Schemes!K359","v":1},{"$f":"WINEP_Schemes!L359","v":0},{"$f":"WINEP_Schemes!M359","v":"WWN"},{"$f":"WINEP_Schemes!N359","v":0},0,0,0,0,0,0,0,0]
[null,null,{"$f":"WINEP_Schemes!C360","v":"KSL00463"},{"$f":"WINEP_Schemes!D360","v":"7SO300597"},{"$f":"WINEP_Schemes!E360","v":"AYLESFORD BRIDGE AYLESFORD WPS"},{"$f":"WINEP_Schemes!F360","v":"£m"},{"$f":"WINEP_Schemes!G360","v":1},{"$f":"WINEP_Schemes!H360","v":0},{"$f":"WINEP_Schemes!J360","v":0},{"$f":"WINEP_Schemes!I360","v":0},{"$f":"WINEP_Schemes!K360","v":1},{"$f":"WINEP_Schemes!L360","v":0},{"$f":"WINEP_Schemes!M360","v":"WWN"},{"$f":"WINEP_Schemes!N360","v":0},0,0,0,0,0,0,0,0]
[null,null,{"$f":"WINEP_Schemes!C361","v":"SSD00674"},{"$f":"WINEP_Schemes!D361","v":"7SO300600"},{"$f":"WINEP_Schemes!E361","v":"BALCOMBE WWTW"},{"$f":"WINEP_Schemes!F361","v":"£m"},{"$f":"WINEP_Schemes!G361","v":1},{"$f":"WINEP_Schemes!H361","v":0},{"$f":"WINEP_Schemes!J361","v":0},{"$f":"WINEP_Schemes!I361","v":0},{"$f":"WINEP_Schemes!K361","v":1},{"$f":"WINEP_Schemes!L361","v":0},{"$f":"WINEP_Schemes!M361","v":"WWN"},{"$f":"WINEP_Schemes!N361","v":0},0,0,0,0,0,0,0,0]
[null,null,{"$f":"WINEP_Schemes!C362","v":"SSD00676"},{"$f":"WINEP_Schemes!D362","v":"7SO300602"},{"$f":"WINEP_Schemes!E362","v":"BARCOMBE NEW WWTW"},{"$f":"WINEP_Schemes!F362","v":"£m"},{"$f":"WINEP_Schemes!G362","v":1},{"$f":"WINEP_Schemes!H362","v":0},{"$f":"WINEP_Schemes!J362","v":0},{"$f":"WINEP_Schemes!I362","v":0},{"$f":"WINEP_Schemes!K362","v":1},{"$f":"WINEP_Schemes!L362","v":0},{"$f":"WINEP_Schemes!M362","v":"WWN"},{"$f":"WINEP_Schemes!N362","v":0},0,0,0,0,0,0,0,0]
[null,null,{"$f":"WINEP_Schemes!C363","v":"SSD00678"},{"$f":"WINEP_Schemes!D363","v":"7SO300604"},{"$f":"WINEP_Schemes!E363","v":"BARNS GREEN WWTW"},{"$f":"WINEP_Schemes!F363","v":"£m"},{"$f":"WINEP_Schemes!G363","v":1},{"$f":"WINEP_Schemes!H363","v":0},{"$f":"WINEP_Schemes!J363","v":0},{"$f":"WINEP_Schemes!I363","v":0},{"$f":"WINEP_Schemes!K363","v":1},{"$f":"WINEP_Schemes!L363","v":0},{"$f":"WINEP_Schemes!M363","v":"WWN"},{"$f":"WINEP_Schemes!N363","v":0},0,0,0,0,0,0,0,0]
[null,null,{"$f":"WINEP_Schemes!C364","v":"KSL00472"},{"$f":"WINEP_Schemes!D364","v":"7SO300616"},{"$f":"WINEP_Schemes!E364","v":"BETHERSDEN WWTW"},{"$f":"WINEP_Schemes!F364","v":"£m"},{"$f":"WINEP_Schemes!G364","v":1},{"$f":"WINEP_Schemes!H364","v":0},{"$f":"WINEP_Schemes!J364","v":0},{"$f":"WINEP_Schemes!I364","v":0},{"$f":"WINEP_Schemes!K364","v":1},{"$f":"WINEP_Schemes!L364","v":0},{"$f":"WINEP_Schemes!M364","v":"WWN"},{"$f":"WINEP_Schemes!N364","v":0},0,0,0,0,0,0,0,0]
[null,null,{"$f":"WINEP_Schemes!C365","v":"SSD00694"},{"$f":"WINEP_Schemes!D365","v":"7SO300633"},{"$f":"WINEP_Schemes!E365","v":"BOSHAM WWTW"},{"$f":"WINEP_Schemes!F365","v":"£m"},{"$f":"WINEP_Schemes!G365","v":1},{"$f":"WINEP_Schemes!H365","v":0},{"$f":"WINEP_Schemes!J365","v":0},{"$f":"WINEP_Schemes!I365","v":0},{"$f":"WINEP_Schemes!K365","v":1},{"$f":"WINEP_Schemes!L365","v":0},{"$f":"WINEP_Schemes!M365","v":"WWN"},{"$f":"WINEP_Schemes!N365","v":0},0,0,0,0,0,0,0,0]
[null,null,{"$f":"WINEP_Schemes!C366","v":"SSD00696"},{"$f":"WINEP_Schemes!D366","v":"7SO300635"},{"$f":"WINEP_Schemes!E366","v":"BRIDGEFOOT KIRDFORD WPS"},{"$f":"WINEP_Schemes!F366","v":"£m"},{"$f":"WINEP_Schemes!G366","v":1},{"$f":"WINEP_Schemes!H366","v":0},{"$f":"WINEP_Schemes!J366","v":0},{"$f":"WINEP_Schemes!I366","v":0},{"$f":"WINEP_Schemes!K366","v":1},{"$f":"WINEP_Schemes!L366","v":0},{"$f":"WINEP_Schemes!M366","v":"WWN"},{"$f":"WINEP_Schemes!N366","v":0},0,0,0,0,0,0,0,0]
[null,null,{"$f":"WINEP_Schemes!C367","v":"KSL00481"},{"$f":"WINEP_Schemes!D367","v":"7SO300645"},{"$f":"WINEP_Schemes!E367","v":"BURHAM & ECCLES WPS"},{"$f":"WINEP_Schemes!F367","v":"£m"},{"$f":"WINEP_Schemes!G367","v":1},{"$f":"WINEP_Schemes!H367","v":0},{"$f":"WINEP_Schemes!J367","v":0},{"$f":"WINEP_Schemes!I367","v":0},{"$f":"WINEP_Schemes!K367","v":1},{"$f":"WINEP_Schemes!L367","v":0},{"$f":"WINEP_Schemes!M367","v":"WWN"},{"$f":"WINEP_Schemes!N367","v":0},0,0,0,0,0,0,0,0]
[null,null,{"$f":"WINEP_Schemes!C368","v":"KSL00483"},{"$f":"WINEP_Schemes!D368","v":"7SO300649"},{"$f":"WINEP_Schemes!E368","v":"BURWASH COMMON WWTW"},{"$f":"WINEP_Schemes!F368","v":"£m"},{"$f":"WINEP_Schemes!G368","v":1},{"$f":"WINEP_Schemes!H368","v":0},{"$f":"WINEP_Schemes!J368","v":0},{"$f":"WINEP_Schemes!I368","v":0},{"$f":"WINEP_Schemes!K368","v":1},{"$f":"WINEP_Schemes!L368","v":0},{"$f":"WINEP_Schemes!M368","v":"WWN"},{"$f":"WINEP_Schemes!N368","v":0},0,0,0,0,0,0,0,0]
[null,null,{"$f":"WINEP_Schemes!C369","v":"SSD00706"},{"$f":"WINEP_Schemes!D369","v":"7SO300653"},{"$f":"WINEP_Schemes!E369","v":"BURY WWTW"},{"$f":"WINEP_Schemes!F369","v":"£m"},{"$f":"WINEP_Schemes!G369","v":1},{"$f":"WINEP_Schemes!H369","v":0},{"$f":"WINEP_Schemes!J369","v":0},{"$f":"WINEP_Schemes!I369","v":0},{"$f":"WINEP_Schemes!K369","v":1},{"$f":"WINEP_Schemes!L369","v":0},{"$f":"WINEP_Schemes!M369","v":"WWN"},{"$f":"WINEP_Schemes!N369","v":0},0,0,0,0,0,0,0,0]
[null,null,{"$f":"WINEP_Schemes!C370","v":"KSL00489"},{"$f":"WINEP_Schemes!D370","v":"7SO300661"},{"$f":"WINEP_Schemes!E370","v":"CANTERBURY WWTW"},{"$f":"WINEP_Schemes!F370","v":"£m"},{"$f":"WINEP_Schemes!G370","v":1},{"$f":"WINEP_Schemes!H370","v":0},{"$f":"WINEP_Schemes!J370","v":0},{"$f":"WINEP_Schemes!I370","v":0},{"$f":"WINEP_Schemes!K370","v":1},{"$f":"WINEP_Schemes!L370","v":0},{"$f":"WINEP_Schemes!M370","v":"WWN"},{"$f":"WINEP_Schemes!N370","v":0},0,0,0,0,0,0,0,0]
[null,null,{"$f":"WINEP_Schemes!C371","v":"KSL00495"},{"$f":"WINEP_Schemes!D371","v":"7SO300672"},{"$f":"WINEP_Schemes!E371","v":"CHEQUERS LAMBERHURST WPS"},{"$f":"WINEP_Schemes!F371","v":"£m"},{"$f":"WINEP_Schemes!G371","v":1},{"$f":"WINEP_Schemes!H371","v":0},{"$f":"WINEP_Schemes!J371","v":0},{"$f":"WINEP_Schemes!I371","v":0},{"$f":"WINEP_Schemes!K371","v":1},{"$f":"WINEP_Schemes!L371","v":0},{"$f":"WINEP_Schemes!M371","v":"WWN"},{"$f":"WINEP_Schemes!N371","v":0},0,0,0,0,0,0,0,0]
[null,null,{"$f":"WINEP_Schemes!C372","v":"SSD00723"},{"$f":"WINEP_Schemes!D372","v":"7SO300680"},{"$f":"WINEP_Schemes!E372","v":"CHILBOLTON WWTW"},{"$f":"WINEP_Schemes!F372","v":"£m"},{"$f":"WINEP_Schemes!G372","v":1},{"$f":"WINEP_Schemes!H372","v":0},{"$f":"WINEP_Schemes!J372","v":0},{"$f":"WINEP_Schemes!I372","v":0},{"$f":"WINEP_Schemes!K372","v":1},{"$f":"WINEP_Schemes!L372","v":0},{"$f":"WINEP_Schemes!M372","v":"WWN"},{"$f":"WINEP_Schemes!N372","v":0},0,0,0,0,0,0,0,0]
[null,null,{"$f":"WINEP_Schemes!C373","v":"KSL00498"},{"$f":"WINEP_Schemes!D373","v":"7SO300683"},{"$f":"WINEP_Schemes!E373","v":"CHURCHFIELD WAY WYE WPS"},{"$f":"WINEP_Schemes!F373","v":"£m"},{"$f":"WINEP_Schemes!G373","v":1},{"$f":"WINEP_Schemes!H373","v":0},{"$f":"WINEP_Schemes!J373","v":0},{"$f":"WINEP_Schemes!I373","v":0},{"$f":"WINEP_Schemes!K373","v":1},{"$f":"WINEP_Schemes!L373","v":0},{"$f":"WINEP_Schemes!M373","v":"WWN"},{"$f":"WINEP_Schemes!N373","v":0},0,0,0,0,0,0,0,0]
[null,null,{"$f":"WINEP_Schemes!C374","v":"SSD00725"},{"$f":"WINEP_Schemes!D374","v":"7SO300685"},{"$f":"WINEP_Schemes!E374","v":"COLDWALTHAM WWTW"},{"$f":"WINEP_Schemes!F374","v":"£m"},{"$f":"WINEP_Schemes!G374","v":1},{"$f":"WINEP_Schemes!H374","v":0},{"$f":"WINEP_Schemes!J374","v":0},{"$f":"WINEP_Schemes!I374","v":0},{"$f":"WINEP_Schemes!K374","v":1},{"$f":"WINEP_Schemes!L374","v":0},{"$f":"WINEP_Schemes!M374","v":"WWN"},{"$f":"WINEP_Schemes!N374","v":0},0,0,0,0,0,0,0,0]
[null,null,{"$f":"WINEP_Schemes!C375","v":"SSD00727"},{"$f":"WINEP_Schemes!D375","v":"7SO300687"},{"$f":"WINEP_Schemes!E375","v":"COOKSBRIDGE WPS"},{"$f":"WINEP_Schemes!F375","v":"£m"},{"$f":"WINEP_Schemes!G375","v":1},{"$f":"WINEP_Schemes!H375","v":0},{"$f":"WINEP_Schemes!J375","v":0},{"$f":"WINEP_Schemes!I375","v":0},{"$f":"WINEP_Schemes!K375","v":1},{"$f":"WINEP_Schemes!L375","v":0},{"$f":"WINEP_Schemes!M375","v":"WWN"},{"$f":"WINEP_Schemes!N375","v":0},0,0,0,0,0,0,0,0]
[null,null,{"$f":"WINEP_Schemes!C376","v":"KSL00500"},{"$f":"WINEP_Schemes!D376","v":"7SO300690"},{"$f":"WINEP_Schemes!E376","v":"COWDEN WWTW"},{"$f":"WINEP_Schemes!F376","v":"£m"},{"$f":"WINEP_Schemes!G376","v":1},{"$f":"WINEP_Schemes!H376","v":0},{"$f":"WINEP_Schemes!J376","v":0},{"$f":"WINEP_Schemes!I376","v":0},{"$f":"WINEP_Schemes!K376","v":1},{"$f":"WINEP_Schemes!L376","v":0},{"$f":"WINEP_Schemes!M376","v":"WWN"},{"$f":"WINEP_Schemes!N376","v":0},0,0,0,0,0,0,0,0]
[null,null,{"$f":"WINEP_Schemes!C377","v":"KSL00502"},{"$f":"WINEP_Schemes!D377","v":"7SO300694"},{"$f":"WINEP_Schemes!E377","v":"CRANBROOK WWTW"},{"$f":"WINEP_Schemes!F377","v":"£m"},{"$f":"WINEP_Schemes!G377","v":1},{"$f":"WINEP_Schemes!H377","v":0},{"$f":"WINEP_Schemes!J377","v":0},{"$f":"WINEP_Schemes!I377","v":0},{"$f":"WINEP_Schemes!K377","v":1},{"$f":"WINEP_Schemes!L377","v":0},{"$f":"WINEP_Schemes!M377","v":"WWN"},{"$f":"WINEP_Schemes!N377","v":0},0,0,0,0,0,0,0,0]
[null,null,{"$f":"WINEP_Schemes!C378","v":"KSL00506"},{"$f":"WINEP_Schemes!D378","v":"7SO300698"},{"$f":"WINEP_Schemes!E378","v":"CURTISDEN GREEN GOUDHURST WPS"},{"$f":"WINEP_Schemes!F378","v":"£m"},{"$f":"WINEP_Schemes!G378","v":1},{"$f":"WINEP_Schemes!H378","v":0},{"$f":"WINEP_Schemes!J378","v":0},{"$f":"WINEP_Schemes!I378","v":0},{"$f":"WINEP_Schemes!K378","v":1},{"$f":"WINEP_Schemes!L378","v":0},{"$f":"WINEP_Schemes!M378","v":"WWN"},{"$f":"WINEP_Schemes!N378","v":0},0,0,0,0,0,0,0,0]
[null,null,{"$f":"WINEP_Schemes!C379","v":"KSL00507"},{"$f":"WINEP_Schemes!D379","v":"7SO300699"},{"$f":"WINEP_Schemes!E379","v":"DAMBRIDGE WINGHAM WWTW"},{"$f":"WINEP_Schemes!F379","v":"£m"},{"$f":"WINEP_Schemes!G379","v":1},{"$f":"WINEP_Schemes!H379","v":0},{"$f":"WINEP_Schemes!J379","v":0},{"$f":"WINEP_Schemes!I379","v":0},{"$f":"WINEP_Schemes!K379","v":1},{"$f":"WINEP_Schemes!L379","v":0},{"$f":"WINEP_Schemes!M379","v":"WWN"},{"$f":"WINEP_Schemes!N379","v":0},0,0,0,0,0,0,0,0]
[null,null,{"$f":"WINEP_Schemes!C380","v":"SSD00740"},{"$f":"WINEP_Schemes!D380","v":"7SO300711"},{"$f":"WINEP_Schemes!E380","v":"EAST GRIMSTEAD WWTW"},{"$f":"WINEP_Schemes!F380","v":"£m"},{"$f":"WINEP_Schemes!G380","v":1},{"$f":"WINEP_Schemes!H380","v":0},{"$f":"WINEP_Schemes!J380","v":0},{"$f":"WINEP_Schemes!I380","v":0},{"$f":"WINEP_Schemes!K380","v":1},{"$f":"WINEP_Schemes!L380","v":0},{"$f":"WINEP_Schemes!M380","v":"WWN"},{"$f":"WINEP_Schemes!N380","v":0},0,0,0,0,0,0,0,0]
[null,null,{"$f":"WINEP_Schemes!C381","v":"SSD00742"},{"$f":"WINEP_Schemes!D381","v":"7SO300713"},{"$f":"WINEP_Schemes!E381","v":"EAST HOATHLY WWTW"},{"$f":"WINEP_Schemes!F381","v":"£m"},{"$f":"WINEP_Schemes!G381","v":1},{"$f":"WINEP_Schemes!H381","v":0},{"$f":"WINEP_Schemes!J381","v":0},{"$f":"WINEP_Schemes!I381","v":0},{"$f":"WINEP_Schemes!K381","v":1},{"$f":"WINEP_Schemes!L381","v":0},{"$f":"WINEP_Schemes!M381","v":"WWN"},{"$f":"WINEP_Schemes!N381","v":0},0,0,0,0,0,0,0,0]
[null,null,{"$f":"WINEP_Schemes!C382","v":"SSD00744"},{"$f":"WINEP_Schemes!D382","v":"7SO300715"},{"$f":"WINEP_Schemes!E382","v":"EAST MEON WWTW"},{"$f":"WINEP_Schemes!F382","v":"£m"},{"$f":"WINEP_Schemes!G382","v":1},{"$f":"WINEP_Schemes!H382","v":0},{"$f":"WINEP_Schemes!J382","v":0},{"$f":"WINEP_Schemes!I382","v":0},{"$f":"WINEP_Schemes!K382","v":1},{"$f":"WINEP_Schemes!L382","v":0},{"$f":"WINEP_Schemes!M382","v":"WWN"},{"$f":"WINEP_Schemes!N382","v":0},0,0,0,0,0,0,0,0]
[null,null,{"$f":"WINEP_Schemes!C383","v":"SSD00748"},{"$f":"WINEP_Schemes!D383","v":"7SO300719"},{"$f":"WINEP_Schemes!E383","v":"EASTBOURNE WWTW"},{"$f":"WINEP_Schemes!F383","v":"£m"},{"$f":"WINEP_Schemes!G383","v":1},{"$f":"WINEP_Schemes!H383","v":0},{"$f":"WINEP_Schemes!J383","v":0},{"$f":"WINEP_Schemes!I383","v":0},{"$f":"WINEP_Schemes!K383","v":1},{"$f":"WINEP_Schemes!L383","v":0},{"$f":"WINEP_Schemes!M383","v":"WWN"},{"$f":"WINEP_Schemes!N383","v":0},0,0,0,0,0,0,0,0]
[null,null,{"$f":"WINEP_Schemes!C384","v":"KSL00511"},{"$f":"WINEP_Schemes!D384","v":"7SO300721"},{"$f":"WINEP_Schemes!E384","v":"EASTCHURCH WWTW"},{"$f":"WINEP_Schemes!F384","v":"£m"},{"$f":"WINEP_Schemes!G384","v":1},{"$f":"WINEP_Schemes!H384","v":0},{"$f":"WINEP_Schemes!J384","v":0},{"$f":"WINEP_Schemes!I384","v":0},{"$f":"WINEP_Schemes!K384","v":1},{"$f":"WINEP_Schemes!L384","v":0},{"$f":"WINEP_Schemes!M384","v":"WWN"},{"$f":"WINEP_Schemes!N384","v":0},0,0,0,{"$f":" IF($M385 = R$9, $Q385, 0)","v":0},0,0,0,0]
[null,null,{"$f":"WINEP_Schemes!C385","v":"KSL00517"},{"$f":"WINEP_Schemes!D385","v":"7SO300727"},{"$f":"WINEP_Schemes!E385","v":"ELIZABETH STREET DOVER WPS"},{"$f":"WINEP_Schemes!F385","v":"£m"},{"$f":"WINEP_Schemes!G385","v":1},{"$f":"WINEP_Schemes!H385","v":0},{"$f":"WINEP_Schemes!J385","v":0},{"$f":"WINEP_Schemes!I385","v":0},{"$f":"WINEP_Schemes!K385","v":1},{"$f":"WINEP_Schemes!L385","v":0},{"$f":"WINEP_Schemes!M385","v":"WWN"},{"$f":"WINEP_Schemes!N385","v":0},0,0,0,0,0,0,0,0]
[null,null,{"$f":"WINEP_Schemes!C386","v":"KSL00522"},{"$f":"WINEP_Schemes!D386","v":"7SO300732"},{"$f":"WINEP_Schemes!E386","v":"FELBRIDGE WWTW"},{"$f":"WINEP_Schemes!F386","v":"£m"},{"$f":"WINEP_Schemes!G386","v":1},{"$f":"WINEP_Schemes!H386","v":0},{"$f":"WINEP_Schemes!J386","v":0},{"$f":"WINEP_Schemes!I386","v":0},{"$f":"WINEP_Schemes!K386","v":1},{"$f":"WINEP_Schemes!L386","v":0},{"$f":"WINEP_Schemes!M386","v":"WWN"},{"$f":"WINEP_Schemes!N386","v":0},0,0,0,0,0,0,0,0]
[null,null,{"$f":"WINEP_Schemes!C387","v":"SSD00754"},{"$f":"WINEP_Schemes!D387","v":"7SO300740"},{"$f":"WINEP_Schemes!E387","v":"FLEXFORD LANE SWAY WWTW"},{"$f":"WINEP_Schemes!F387","v":"£m"},{"$f":"WINEP_Schemes!G387","v":1},{"$f":"WINEP_Schemes!H387","v":0},{"$f":"WINEP_Schemes!J387","v":0},{"$f":"WINEP_Schemes!I387","v":0},{"$f":"WINEP_Schemes!K387","v":1},{"$f":"WINEP_Schemes!L387","v":0},{"$f":"WINEP_Schemes!M387","v":"WWN"},{"$f":"WINEP_Schemes!N387","v":0},0,0,0,0,0,0,0,0]
[null,null,{"$f":"WINEP_Schemes!C388","v":"KSL00527"},{"$f":"WINEP_Schemes!D388","v":"7SO300743"},{"$f":"WINEP_Schemes!E388","v":"FOADS LANE RAMSGATE WPS"},{"$f":"WINEP_Schemes!F388","v":"£m"},{"$f":"WINEP_Schemes!G388","v":1},{"$f":"WINEP_Schemes!H388","v":0},{"$f":"WINEP_Schemes!J388","v":0},{"$f":"WINEP_Schemes!I388","v":0},{"$f":"WINEP_Schemes!K388","v":1},{"$f":"WINEP_Schemes!L388","v":0},{"$f":"WINEP_Schemes!M388","v":"WWN"},{"$f":"WINEP_Schemes!N388","v":0},0,0,0,0,0,0,0,0]
[null,null,{"$f":"WINEP_Schemes!C389","v":"KSL00529"},{"$f":"WINEP_Schemes!D389","v":"7SO300745"},{"$f":"WINEP_Schemes!E389","v":"FOLKESTONE JUNCTION WPS"},{"$f":"WINEP_Schemes!F389","v":"£m"},{"$f":"WINEP_Schemes!G389","v":1},{"$f":"WINEP_Schemes!H389","v":0},{"$f":"WINEP_Schemes!J389","v":0},{"$f":"WINEP_Schemes!I389","v":0},{"$f":"WINEP_Schemes!K389","v":1},{"$f":"WINEP_Schemes!L389","v":0},{"$f":"WINEP_Schemes!M389","v":"WWN"},{"$f":"WINEP_Schemes!N389","v":0},0,0,0,0,0,0,0,0]
[null,null,{"$f":"WINEP_Schemes!C390","v":"SSD00764"},{"$f":"WINEP_Schemes!D390","v":"7SO300770"},{"$f":"WINEP_Schemes!E390","v":"GRAYSWOOD WWTW"},{"$f":"WINEP_Schemes!F390","v":"£m"},{"$f":"WINEP_Schemes!G390","v":1},{"$f":"WINEP_Schemes!H390","v":0},{"$f":"WINEP_Schemes!J390","v":0},{"$f":"WINEP_Schemes!I390","v":0},{"$f":"WINEP_Schemes!K390","v":1},{"$f":"WINEP_Schemes!L390","v":0},{"$f":"WINEP_Schemes!M390","v":"WWN"},{"$f":"WINEP_Schemes!N390","v":0},0,0,0,0,0,0,0,0]
[null,null,{"$f":"WINEP_Schemes!C391","v":"SSD00768"},{"$f":"WINEP_Schemes!D391","v":"7SO300777"},{"$f":"WINEP_Schemes!E391","v":"HAILSHAM SOUTH WWTW"},{"$f":"WINEP_Schemes!F391","v":"£m"},{"$f":"WINEP_Schemes!G391","v":1},{"$f":"WINEP_Schemes!H391","v":0},{"$f":"WINEP_Schemes!J391","v":0},{"$f":"WINEP_Schemes!I391","v":0},{"$f":"WINEP_Schemes!K391","v":1},{"$f":"WINEP_Schemes!L391","v":0},{"$f":"WINEP_Schemes!M391","v":"WWN"},{"$f":"WINEP_Schemes!N391","v":0},0,0,0,0,0,0,0,0]
[null,null,{"$f":"WINEP_Schemes!C392","v":"KSL00550"},{"$f":"WINEP_Schemes!D392","v":"7SO300780"},{"$f":"WINEP_Schemes!E392","v":"HALL ROAD AYLESFORD WPS "},{"$f":"WINEP_Schemes!F392","v":"£m"},{"$f":"WINEP_Schemes!G392","v":1},{"$f":"WINEP_Schemes!H392","v":0},{"$f":"WINEP_Schemes!J392","v":0},{"$f":"WINEP_Schemes!I392","v":0},{"$f":"WINEP_Schemes!K392","v":1},{"$f":"WINEP_Schemes!L392","v":0},{"$f":"WINEP_Schemes!M392","v":"WWN"},{"$f":"WINEP_Schemes!N392","v":0},0,0,0,0,0,0,0,0]
[null,null,{"$f":"WINEP_Schemes!C393","v":"KSL00553"},{"$f":"WINEP_Schemes!D393","v":"7SO300785"},{"$f":"WINEP_Schemes!E393","v":"HAMSTREET WWTW"},{"$f":"WINEP_Schemes!F393","v":"£m"},{"$f":"WINEP_Schemes!G393","v":1},{"$f":"WINEP_Schemes!H393","v":0},{"$f":"WINEP_Schemes!J393","v":0},{"$f":"WINEP_Schemes!I393","v":0},{"$f":"WINEP_Schemes!K393","v":1},{"$f":"WINEP_Schemes!L393","v":0},{"$f":"WINEP_Schemes!M393","v":"WWN"},{"$f":"WINEP_Schemes!N393","v":0},0,0,0,0,0,0,0,0]
[null,null,{"$f":"WINEP_Schemes!C394","v":"KSL00557"},{"$f":"WINEP_Schemes!D394","v":"7SO300793"},{"$f":"WINEP_Schemes!E394","v":"HARTLAKE ROAD HADLOW WPS"},{"$f":"WINEP_Schemes!F394","v":"£m"},{"$f":"WINEP_Schemes!G394","v":1},{"$f":"WINEP_Schemes!H394","v":0},{"$f":"WINEP_Schemes!J394","v":0},{"$f":"WINEP_Schemes!I394","v":0},{"$f":"WINEP_Schemes!K394","v":1},{"$f":"WINEP_Schemes!L394","v":0},{"$f":"WINEP_Schemes!M394","v":"WWN"},{"$f":"WINEP_Schemes!N394","v":0},0,0,0,0,0,0,0,0]
[null,null,{"$f":"WINEP_Schemes!C395","v":"SSD00778"},{"$f":"WINEP_Schemes!D395","v":"7SO300804"},{"$f":"WINEP_Schemes!E395","v":"HORSEMERE GREEN 1 WPS"},{"$f":"WINEP_Schemes!F395","v":"£m"},{"$f":"WINEP_Schemes!G395","v":1},{"$f":"WINEP_Schemes!H395","v":0},{"$f":"WINEP_Schemes!J395","v":0},{"$f":"WINEP_Schemes!I395","v":0},{"$f":"WINEP_Schemes!K395","v":1},{"$f":"WINEP_Schemes!L395","v":0},{"$f":"WINEP_Schemes!M395","v":"WWN"},{"$f":"WINEP_Schemes!N395","v":0},0,0,0,0,0,0,0,0]
[null,null,{"$f":"WINEP_Schemes!C396","v":"KSL00567"},{"$f":"WINEP_Schemes!D396","v":"7SO300811"},{"$f":"WINEP_Schemes!E396","v":"HURST GREEN WWTW"},{"$f":"WINEP_Schemes!F396","v":"£m"},{"$f":"WINEP_Schemes!G396","v":1},{"$f":"WINEP_Schemes!H396","v":0},{"$f":"WINEP_Schemes!J396","v":0},{"$f":"WINEP_Schemes!I396","v":0},{"$f":"WINEP_Schemes!K396","v":1},{"$f":"WINEP_Schemes!L396","v":0},{"$f":"WINEP_Schemes!M396","v":"WWN"},{"$f":"WINEP_Schemes!N396","v":0},0,0,0,0,0,0,0,0]
[null,null,{"$f":"WINEP_Schemes!C397","v":"KSL00571"},{"$f":"WINEP_Schemes!D397","v":"7SO300815"},{"$f":"WINEP_Schemes!E397","v":"IDEN WWTW"},{"$f":"WINEP_Schemes!F397","v":"£m"},{"$f":"WINEP_Schemes!G397","v":1},{"$f":"WINEP_Schemes!H397","v":0},{"$f":"WINEP_Schemes!J397","v":0},{"$f":"WINEP_Schemes!I397","v":0},{"$f":"WINEP_Schemes!K397","v":1},{"$f":"WINEP_Schemes!L397","v":0},{"$f":"WINEP_Schemes!M397","v":"WWN"},{"$f":"WINEP_Schemes!N397","v":0},0,0,0,0,0,0,0,0]
[null,null,{"$f":"WINEP_Schemes!C398","v":"KSL00573"},{"$f":"WINEP_Schemes!D398","v":"7SO300818"},{"$f":"WINEP_Schemes!E398","v":"KILNDOWN WWTW"},{"$f":"WINEP_Schemes!F398","v":"£m"},{"$f":"WINEP_Schemes!G398","v":1},{"$f":"WINEP_Schemes!H398","v":0},{"$f":"WINEP_Schemes!J398","v":0},{"$f":"WINEP_Schemes!I398","v":0},{"$f":"WINEP_Schemes!K398","v":1},{"$f":"WINEP_Schemes!L398","v":0},{"$f":"WINEP_Schemes!M398","v":"WWN"},{"$f":"WINEP_Schemes!N398","v":0},0,0,0,0,0,0,0,0]
[null,null,{"$f":"WINEP_Schemes!C399","v":"SSD00785"},{"$f":"WINEP_Schemes!D399","v":"7SO300820"},{"$f":"WINEP_Schemes!E399","v":"KINGS SOMBORNE WWTW"},{"$f":"WINEP_Schemes!F399","v":"£m"},{"$f":"WINEP_Schemes!G399","v":1},{"$f":"WINEP_Schemes!H399","v":0},{"$f":"WINEP_Schemes!J399","v":0},{"$f":"WINEP_Schemes!I399","v":0},{"$f":"WINEP_Schemes!K399","v":1},{"$f":"WINEP_Schemes!L399","v":0},{"$f":"WINEP_Schemes!M399","v":"WWN"},{"$f":"WINEP_Schemes!N399","v":0},0,0,0,0,0,0,0,0]
[null,null,{"$f":"WINEP_Schemes!C400","v":"SSD00790"},{"$f":"WINEP_Schemes!D400","v":"7SO300826"},{"$f":"WINEP_Schemes!E400","v":"LAVANT WWTW"},{"$f":"WINEP_Schemes!F400","v":"£m"},{"$f":"WINEP_Schemes!G400","v":1},{"$f":"WINEP_Schemes!H400","v":0},{"$f":"WINEP_Schemes!J400","v":0},{"$f":"WINEP_Schemes!I400","v":0},{"$f":"WINEP_Schemes!K400","v":1},{"$f":"WINEP_Schemes!L400","v":0},{"$f":"WINEP_Schemes!M400","v":"WWN"},{"$f":"WINEP_Schemes!N400","v":0},{"$f":" I401 * J401 * G401","v":0},{"$f":" N401 * O401","v":0},{"$f":" IF(L401 = 0, P401, (N401 - 1) * O401)","v":0},0,0,0,0,0]
[null,null,{"$f":"WINEP_Schemes!C401","v":"KSL00576"},{"$f":"WINEP_Schemes!D401","v":"7SO300828"},{"$f":"WINEP_Schemes!E401","v":"LEEDS WWTW"},{"$f":"WINEP_Schemes!F401","v":"£m"},{"$f":"WINEP_Schemes!G401","v":1},{"$f":"WINEP_Schemes!H401","v":0},{"$f":"WINEP_Schemes!J401","v":0},{"$f":"WINEP_Schemes!I401","v":0},{"$f":"WINEP_Schemes!K401","v":1},{"$f":"WINEP_Schemes!L401","v":0},{"$f":"WINEP_Schemes!M401","v":"WWN"},{"$f":"WINEP_Schemes!N401","v":0},0,0,0,0,0,0,0,0]
[null,null,{"$f":"WINEP_Schemes!C402","v":"KSL00578"},{"$f":"WINEP_Schemes!D402","v":"7SO300830"},{"$f":"WINEP_Schemes!E402","v":"LENHAM WWTW"},{"$f":"WINEP_Schemes!F402","v":"£m"},{"$f":"WINEP_Schemes!G402","v":1},{"$f":"WINEP_Schemes!H402","v":0},{"$f":"WINEP_Schemes!J402","v":0},{"$f":"WINEP_Schemes!I402","v":0},{"$f":"WINEP_Schemes!K402","v":1},{"$f":"WINEP_Schemes!L402","v":0},{"$f":"WINEP_Schemes!M402","v":"WWN"},{"$f":"WINEP_Schemes!N402","v":0},0,0,0,0,0,0,0,0]
[null,null,{"$f":"WINEP_Schemes!C403","v":"KSL00582"},{"$f":"WINEP_Schemes!D403","v":"7SO300836"},{"$f":"WINEP_Schemes!E403","v":"LINTON WWTW"},{"$f":"WINEP_Schemes!F403","v":"£m"},{"$f":"WINEP_Schemes!G403","v":1},{"$f":"WINEP_Schemes!H403","v":0},{"$f":"WINEP_Schemes!J403","v":0},{"$f":"WINEP_Schemes!I403","v":0},{"$f":"WINEP_Schemes!K403","v":1},{"$f":"WINEP_Schemes!L403","v":0},{"$f":"WINEP_Schemes!M403","v":"WWN"},{"$f":"WINEP_Schemes!N403","v":0},0,0,0,0,0,0,0,0]
[null,null,{"$f":"WINEP_Schemes!C404","v":"SSD00794"},{"$f":"WINEP_Schemes!D404","v":"7SO300838"},{"$f":"WINEP_Schemes!E404","v":"LISS WWTW"},{"$f":"WINEP_Schemes!F404","v":"£m"},{"$f":"WINEP_Schemes!G404","v":1},{"$f":"WINEP_Schemes!H404","v":0},{"$f":"WINEP_Schemes!J404","v":0},{"$f":"WINEP_Schemes!I404","v":0},{"$f":"WINEP_Schemes!K404","v":1},{"$f":"WINEP_Schemes!L404","v":0},{"$f":"WINEP_Schemes!M404","v":"WWN"},{"$f":"WINEP_Schemes!N404","v":0},0,0,0,0,0,0,0,0]
[null,null,{"$f":"WINEP_Schemes!C405","v":"KSL00586"},{"$f":"WINEP_Schemes!D405","v":"7SO300847"},{"$f":"WINEP_Schemes!E405","v":"LYDD ROAD CAMBER WPS"},{"$f":"WINEP_Schemes!F405","v":"£m"},{"$f":"WINEP_Schemes!G405","v":1},{"$f":"WINEP_Schemes!H405","v":0},{"$f":"WINEP_Schemes!J405","v":0},{"$f":"WINEP_Schemes!I405","v":0},{"$f":"WINEP_Schemes!K405","v":1},{"$f":"WINEP_Schemes!L405","v":0},{"$f":"WINEP_Schemes!M405","v":"WWN"},{"$f":"WINEP_Schemes!N405","v":0},0,0,0,0,0,0,0,0]
[null,null,{"$f":"WINEP_Schemes!C406","v":"SSD00802"},{"$f":"WINEP_Schemes!D406","v":"7SO300850"},{"$f":"WINEP_Schemes!E406","v":"LYNDHURST WWTW"},{"$f":"WINEP_Schemes!F406","v":"£m"},{"$f":"WINEP_Schemes!G406","v":1},{"$f":"WINEP_Schemes!H406","v":0},{"$f":"WINEP_Schemes!J406","v":0},{"$f":"WINEP_Schemes!I406","v":0},{"$f":"WINEP_Schemes!K406","v":1},{"$f":"WINEP_Schemes!L406","v":0},{"$f":"WINEP_Schemes!M406","v":"WWN"},{"$f":"WINEP_Schemes!N406","v":0},0,0,0,0,0,0,0,0]
[null,null,{"$f":"WINEP_Schemes!C407","v":"KSL00588"},{"$f":"WINEP_Schemes!D407","v":"7SO300857"},{"$f":"WINEP_Schemes!E407","v":"MARGATE WPS"},{"$f":"WINEP_Schemes!F407","v":"£m"},{"$f":"WINEP_Schemes!G407","v":1},{"$f":"WINEP_Schemes!H407","v":0},{"$f":"WINEP_Schemes!J407","v":0},{"$f":"WINEP_Schemes!I407","v":0},{"$f":"WINEP_Schemes!K407","v":1},{"$f":"WINEP_Schemes!L407","v":0},{"$f":"WINEP_Schemes!M407","v":"WWN"},{"$f":"WINEP_Schemes!N407","v":0},0,0,0,0,0,0,0,0]
[null,null,{"$f":"WINEP_Schemes!C408","v":"KSL00594"},{"$f":"WINEP_Schemes!D408","v":"7SO300865"},{"$f":"WINEP_Schemes!E408","v":"MILITARY ROAD RAMSGATE WPS"},{"$f":"WINEP_Schemes!F408","v":"£m"},{"$f":"WINEP_Schemes!G408","v":1},{"$f":"WINEP_Schemes!H408","v":0},{"$f":"WINEP_Schemes!J408","v":0},{"$f":"WINEP_Schemes!I408","v":0},{"$f":"WINEP_Schemes!K408","v":1},{"$f":"WINEP_Schemes!L408","v":0},{"$f":"WINEP_Schemes!M408","v":"WWN"},{"$f":"WINEP_Schemes!N408","v":0},0,0,0,0,0,0,0,0]
[null,null,{"$f":"WINEP_Schemes!C409","v":"SSD00813"},{"$f":"WINEP_Schemes!D409","v":"7SO300870"},{"$f":"WINEP_Schemes!E409","v":"MILL LANE SHALFLEET WPS"},{"$f":"WINEP_Schemes!F409","v":"£m"},{"$f":"WINEP_Schemes!G409","v":1},{"$f":"WINEP_Schemes!H409","v":0},{"$f":"WINEP_Schemes!J409","v":0},{"$f":"WINEP_Schemes!I409","v":0},{"$f":"WINEP_Schemes!K409","v":1},{"$f":"WINEP_Schemes!L409","v":0},{"$f":"WINEP_Schemes!M409","v":"WWN"},{"$f":"WINEP_Schemes!N409","v":0},0,0,0,0,0,0,0,0]
[null,null,{"$f":"WINEP_Schemes!C410","v":"KSL00599"},{"$f":"WINEP_Schemes!D410","v":"7SO300875"},{"$f":"WINEP_Schemes!E410","v":"MOAT ROAD HEADCORN NEW WPS"},{"$f":"WINEP_Schemes!F410","v":"£m"},{"$f":"WINEP_Schemes!G410","v":1},{"$f":"WINEP_Schemes!H410","v":0},{"$f":"WINEP_Schemes!J410","v":0},{"$f":"WINEP_Schemes!I410","v":0},{"$f":"WINEP_Schemes!K410","v":1},{"$f":"WINEP_Schemes!L410","v":0},{"$f":"WINEP_Schemes!M410","v":"WWN"},{"$f":"WINEP_Schemes!N410","v":0},0,0,0,0,0,0,0,0]
[null,null,{"$f":"WINEP_Schemes!C411","v":"SSD00816"},{"$f":"WINEP_Schemes!D411","v":"7SO300876"},{"$f":"WINEP_Schemes!E411","v":"MONKS GATE WWTW"},{"$f":"WINEP_Schemes!F411","v":"£m"},{"$f":"WINEP_Schemes!G411","v":1},{"$f":"WINEP_Schemes!H411","v":0},{"$f":"WINEP_Schemes!J411","v":0},{"$f":"WINEP_Schemes!I411","v":0},{"$f":"WINEP_Schemes!K411","v":1},{"$f":"WINEP_Schemes!L411","v":0},{"$f":"WINEP_Schemes!M411","v":"WWN"},{"$f":"WINEP_Schemes!N411","v":0},0,0,0,0,0,0,0,0]
[null,null,{"$f":"WINEP_Schemes!C412","v":"SSD00818"},{"$f":"WINEP_Schemes!D412","v":"7SO300878"},{"$f":"WINEP_Schemes!E412","v":"MORESTEAD ROAD WINCHESTER WWTW"},{"$f":"WINEP_Schemes!F412","v":"£m"},{"$f":"WINEP_Schemes!G412","v":1},{"$f":"WINEP_Schemes!H412","v":0},{"$f":"WINEP_Schemes!J412","v":0},{"$f":"WINEP_Schemes!I412","v":0},{"$f":"WINEP_Schemes!K412","v":1},{"$f":"WINEP_Schemes!L412","v":0},{"$f":"WINEP_Schemes!M412","v":"WWN"},{"$f":"WINEP_Schemes!N412","v":0},0,0,0,0,0,0,0,0]
[null,null,{"$f":"WINEP_Schemes!C413","v":"KSL00600"},{"$f":"WINEP_Schemes!D413","v":"7SO300880"},{"$f":"WINEP_Schemes!E413","v":"MOTNEY HILL WWTW"},{"$f":"WINEP_Schemes!F413","v":"£m"},{"$f":"WINEP_Schemes!G413","v":1},{"$f":"WINEP_Schemes!H413","v":0},{"$f":"WINEP_Schemes!J413","v":0},{"$f":"WINEP_Schemes!I413","v":0},{"$f":"WINEP_Schemes!K413","v":1},{"$f":"WINEP_Schemes!L413","v":0},{"$f":"WINEP_Schemes!M413","v":"WWN"},{"$f":"WINEP_Schemes!N413","v":0},0,0,0,0,0,0,0,0]
[null,null,{"$f":"WINEP_Schemes!C414","v":"SSD00822"},{"$f":"WINEP_Schemes!D414","v":"7SO300885"},{"$f":"WINEP_Schemes!E414","v":"NEW ALRESFORD WWTW"},{"$f":"WINEP_Schemes!F414","v":"£m"},{"$f":"WINEP_Schemes!G414","v":1},{"$f":"WINEP_Schemes!H414","v":0},{"$f":"WINEP_Schemes!J414","v":0},{"$f":"WINEP_Schemes!I414","v":0},{"$f":"WINEP_Schemes!K414","v":1},{"$f":"WINEP_Schemes!L414","v":0},{"$f":"WINEP_Schemes!M414","v":"WWN"},{"$f":"WINEP_Schemes!N414","v":0},0,0,0,0,0,0,0,0]
[null,null,{"$f":"WINEP_Schemes!C415","v":"SSD00824"},{"$f":"WINEP_Schemes!D415","v":"7SO300889"},{"$f":"WINEP_Schemes!E415","v":"NEWBRIDGE ROAD NEWBRIDGE WPS"},{"$f":"WINEP_Schemes!F415","v":"£m"},{"$f":"WINEP_Schemes!G415","v":1},{"$f":"WINEP_Schemes!H415","v":0},{"$f":"WINEP_Schemes!J415","v":0},{"$f":"WINEP_Schemes!I415","v":0},{"$f":"WINEP_Schemes!K415","v":1},{"$f":"WINEP_Schemes!L415","v":0},{"$f":"WINEP_Schemes!M415","v":"WWN"},{"$f":"WINEP_Schemes!N415","v":0},0,0,0,0,0,0,0,0]
[null,null,{"$f":"WINEP_Schemes!C416","v":"SSD00826"},{"$f":"WINEP_Schemes!D416","v":"7SO300891"},{"$f":"WINEP_Schemes!E416","v":"NEWBURY LANE CUCKFIELD WWTW"},{"$f":"WINEP_Schemes!F416","v":"£m"},{"$f":"WINEP_Schemes!G416","v":1},{"$f":"WINEP_Schemes!H416","v":0},{"$f":"WINEP_Schemes!J416","v":0},{"$f":"WINEP_Schemes!I416","v":0},{"$f":"WINEP_Schemes!K416","v":1},{"$f":"WINEP_Schemes!L416","v":0},{"$f":"WINEP_Schemes!M416","v":"WWN"},{"$f":"WINEP_Schemes!N416","v":0},0,0,0,0,0,0,0,0]
[null,null,{"$f":"WINEP_Schemes!C417","v":"SSD00831"},{"$f":"WINEP_Schemes!D417","v":"7SO300896"},{"$f":"WINEP_Schemes!E417","v":"NEWICK WWTW"},{"$f":"WINEP_Schemes!F417","v":"£m"},{"$f":"WINEP_Schemes!G417","v":1},{"$f":"WINEP_Schemes!H417","v":0},{"$f":"WINEP_Schemes!J417","v":0},{"$f":"WINEP_Schemes!I417","v":0},{"$f":"WINEP_Schemes!K417","v":1},{"$f":"WINEP_Schemes!L417","v":0},{"$f":"WINEP_Schemes!M417","v":"WWN"},{"$f":"WINEP_Schemes!N417","v":0},0,0,0,0,0,0,0,0]
[null,null,{"$f":"WINEP_Schemes!C418","v":"KSL00605"},{"$f":"WINEP_Schemes!D418","v":"7SO300900"},{"$f":"WINEP_Schemes!E418","v":"NORTHFLEET WWTW"},{"$f":"WINEP_Schemes!F418","v":"£m"},{"$f":"WINEP_Schemes!G418","v":1},{"$f":"WINEP_Schemes!H418","v":0},{"$f":"WINEP_Schemes!J418","v":0},{"$f":"WINEP_Schemes!I418","v":0},{"$f":"WINEP_Schemes!K418","v":1},{"$f":"WINEP_Schemes!L418","v":0},{"$f":"WINEP_Schemes!M418","v":"WWN"},{"$f":"WINEP_Schemes!N418","v":0},0,0,0,0,0,0,0,0]
[null,null,{"$f":"WINEP_Schemes!C419","v":"SSD00835"},{"$f":"WINEP_Schemes!D419","v":"7SO300902"},{"$f":"WINEP_Schemes!E419","v":"NUTLEY WWTW"},{"$f":"WINEP_Schemes!F419","v":"£m"},{"$f":"WINEP_Schemes!G419","v":1},{"$f":"WINEP_Schemes!H419","v":0},{"$f":"WINEP_Schemes!J419","v":0},{"$f":"WINEP_Schemes!I419","v":0},{"$f":"WINEP_Schemes!K419","v":1},{"$f":"WINEP_Schemes!L419","v":0},{"$f":"WINEP_Schemes!M419","v":"WWN"},{"$f":"WINEP_Schemes!N419","v":0},0,0,0,0,0,0,0,0]
[null,null,{"$f":"WINEP_Schemes!C420","v":"SSD00837"},{"$f":"WINEP_Schemes!D420","v":"7SO300904"},{"$f":"WINEP_Schemes!E420","v":"OVERTON WWTW"},{"$f":"WINEP_Schemes!F420","v":"£m"},{"$f":"WINEP_Schemes!G420","v":1},{"$f":"WINEP_Schemes!H420","v":0},{"$f":"WINEP_Schemes!J420","v":0},{"$f":"WINEP_Schemes!I420","v":0},{"$f":"WINEP_Schemes!K420","v":1},{"$f":"WINEP_Schemes!L420","v":0},{"$f":"WINEP_Schemes!M420","v":"WWN"},{"$f":"WINEP_Schemes!N420","v":0},0,0,0,0,0,0,0,0]
[null,null,{"$f":"WINEP_Schemes!C421","v":"SSD00839"},{"$f":"WINEP_Schemes!D421","v":"7SO300910"},{"$f":"WINEP_Schemes!E421","v":"PARTRIDGE GREEN WWTW"},{"$f":"WINEP_Schemes!F421","v":"£m"},{"$f":"WINEP_Schemes!G421","v":1},{"$f":"WINEP_Schemes!H421","v":0},{"$f":"WINEP_Schemes!J421","v":0},{"$f":"WINEP_Schemes!I421","v":0},{"$f":"WINEP_Schemes!K421","v":1},{"$f":"WINEP_Schemes!L421","v":0},{"$f":"WINEP_Schemes!M421","v":"WWN"},{"$f":"WINEP_Schemes!N421","v":0},0,0,0,0,0,0,0,0]
[null,null,{"$f":"WINEP_Schemes!C422","v":"KSL00611"},{"$f":"WINEP_Schemes!D422","v":"7SO300915"},{"$f":"WINEP_Schemes!E422","v":"PEMBURY WWTW"},{"$f":"WINEP_Schemes!F422","v":"£m"},{"$f":"WINEP_Schemes!G422","v":1},{"$f":"WINEP_Schemes!H422","v":0},{"$f":"WINEP_Schemes!J422","v":0},{"$f":"WINEP_Schemes!I422","v":0},{"$f":"WINEP_Schemes!K422","v":1},{"$f":"WINEP_Schemes!L422","v":0},{"$f":"WINEP_Schemes!M422","v":"WWN"},{"$f":"WINEP_Schemes!N422","v":0},0,0,0,0,0,0,0,0]
[null,null,{"$f":"WINEP_Schemes!C423","v":"KSL00615"},{"$f":"WINEP_Schemes!D423","v":"7SO300919"},{"$f":"WINEP_Schemes!E423","v":"PESTALOZZI HOUSE WPS"},{"$f":"WINEP_Schemes!F423","v":"£m"},{"$f":"WINEP_Schemes!G423","v":1},{"$f":"WINEP_Schemes!H423","v":0},{"$f":"WINEP_Schemes!J423","v":0},{"$f":"WINEP_Schemes!I423","v":0},{"$f":"WINEP_Schemes!K423","v":1},{"$f":"WINEP_Schemes!L423","v":0},{"$f":"WINEP_Schemes!M423","v":"WWN"},{"$f":"WINEP_Schemes!N423","v":0},0,0,0,0,0,0,0,0]
[null,null,{"$f":"WINEP_Schemes!C424","v":"SSD00844"},{"$f":"WINEP_Schemes!D424","v":"7SO300920"},{"$f":"WINEP_Schemes!E424","v":"PETERSFIELD WWTW"},{"$f":"WINEP_Schemes!F424","v":"£m"},{"$f":"WINEP_Schemes!G424","v":1},{"$f":"WINEP_Schemes!H424","v":0},{"$f":"WINEP_Schemes!J424","v":0},{"$f":"WINEP_Schemes!I424","v":0},{"$f":"WINEP_Schemes!K424","v":1},{"$f":"WINEP_Schemes!L424","v":0},{"$f":"WINEP_Schemes!M424","v":"WWN"},{"$f":"WINEP_Schemes!N424","v":0},0,0,0,0,0,0,0,0]
[null,null,{"$f":"WINEP_Schemes!C425","v":"SSD00846"},{"$f":"WINEP_Schemes!D425","v":"7SO300922"},{"$f":"WINEP_Schemes!E425","v":"PETWORTH WWTW"},{"$f":"WINEP_Schemes!F425","v":"£m"},{"$f":"WINEP_Schemes!G425","v":1},{"$f":"WINEP_Schemes!H425","v":0},{"$f":"WINEP_Schemes!J425","v":0},{"$f":"WINEP_Schemes!I425","v":0},{"$f":"WINEP_Schemes!K425","v":1},{"$f":"WINEP_Schemes!L425","v":0},{"$f":"WINEP_Schemes!M425","v":"WWN"},{"$f":"WINEP_Schemes!N425","v":0},0,0,0,0,0,0,0,0]
[null,null,{"$f":"WINEP_Schemes!C426","v":"SSD00849"},{"$f":"WINEP_Schemes!D426","v":"7SO300925"},{"$f":"WINEP_Schemes!E426","v":"PORTOBELLO BRIGHTON WPS"},{"$f":"WINEP_Schemes!F426","v":"£m"},{"$f":"WINEP_Schemes!G426","v":1},{"$f":"WINEP_Schemes!H426","v":0},{"$f":"WINEP_Schemes!J426","v":0},{"$f":"WINEP_Schemes!I426","v":0},{"$f":"WINEP_Schemes!K426","v":1},{"$f":"WINEP_Schemes!L426","v":0},{"$f":"WINEP_Schemes!M426","v":"WWN"},{"$f":"WINEP_Schemes!N426","v":0},0,0,0,0,0,0,0,0]
[null,null,{"$f":"WINEP_Schemes!C427","v":"SSD00853"},{"$f":"WINEP_Schemes!D427","v":"7SO300929"},{"$f":"WINEP_Schemes!E427","v":"PULBOROUGH WWTW"},{"$f":"WINEP_Schemes!F427","v":"£m"},{"$f":"WINEP_Schemes!G427","v":1},{"$f":"WINEP_Schemes!H427","v":0},{"$f":"WINEP_Schemes!J427","v":0},{"$f":"WINEP_Schemes!I427","v":0},{"$f":"WINEP_Schemes!K427","v":1},{"$f":"WINEP_Schemes!L427","v":0},{"$f":"WINEP_Schemes!M427","v":"WWN"},{"$f":"WINEP_Schemes!N427","v":0},0,0,0,0,0,0,0,0]
[null,null,{"$f":"WINEP_Schemes!C428","v":"KSL00616"},{"$f":"WINEP_Schemes!D428","v":"7SO300931"},{"$f":"WINEP_Schemes!E428","v":"QUEENBOROUGH WWTW"},{"$f":"WINEP_Schemes!F428","v":"£m"},{"$f":"WINEP_Schemes!G428","v":1},{"$f":"WINEP_Schemes!H428","v":0},{"$f":"WINEP_Schemes!J428","v":0},{"$f":"WINEP_Schemes!I428","v":0},{"$f":"WINEP_Schemes!K428","v":1},{"$f":"WINEP_Schemes!L428","v":0},{"$f":"WINEP_Schemes!M428","v":"WWN"},{"$f":"WINEP_Schemes!N428","v":0},0,0,0,0,0,0,0,0]
[null,null,{"$f":"WINEP_Schemes!C429","v":"KSL00619"},{"$f":"WINEP_Schemes!D429","v":"7SO300934"},{"$f":"WINEP_Schemes!E429","v":"QUICKBOURNE LANE NORTHIAM WWTW"},{"$f":"WINEP_Schemes!F429","v":"£m"},{"$f":"WINEP_Schemes!G429","v":1},{"$f":"WINEP_Schemes!H429","v":0},{"$f":"WINEP_Schemes!J429","v":0},{"$f":"WINEP_Schemes!I429","v":0},{"$f":"WINEP_Schemes!K429","v":1},{"$f":"WINEP_Schemes!L429","v":0},{"$f":"WINEP_Schemes!M429","v":"WWN"},{"$f":"WINEP_Schemes!N429","v":0},0,0,0,0,0,0,0,0]
[null,null,{"$f":"WINEP_Schemes!C430","v":"KSL00621"},{"$f":"WINEP_Schemes!D430","v":"7SO300937"},{"$f":"WINEP_Schemes!E430","v":"RANGE ROAD HYTHE K WPS"},{"$f":"WINEP_Schemes!F430","v":"£m"},{"$f":"WINEP_Schemes!G430","v":1},{"$f":"WINEP_Schemes!H430","v":0},{"$f":"WINEP_Schemes!J430","v":0},{"$f":"WINEP_Schemes!I430","v":0},{"$f":"WINEP_Schemes!K430","v":1},{"$f":"WINEP_Schemes!L430","v":0},{"$f":"WINEP_Schemes!M430","v":"WWN"},{"$f":"WINEP_Schemes!N430","v":0},0,0,0,0,0,0,0,0]
[null,null,{"$f":"WINEP_Schemes!C431","v":"KSL00623"},{"$f":"WINEP_Schemes!D431","v":"7SO300939"},{"$f":"WINEP_Schemes!E431","v":"RECTORY CLOSE WOULDHAM WPS"},{"$f":"WINEP_Schemes!F431","v":"£m"},{"$f":"WINEP_Schemes!G431","v":1},{"$f":"WINEP_Schemes!H431","v":0},{"$f":"WINEP_Schemes!J431","v":0},{"$f":"WINEP_Schemes!I431","v":0},{"$f":"WINEP_Schemes!K431","v":1},{"$f":"WINEP_Schemes!L431","v":0},{"$f":"WINEP_Schemes!M431","v":"WWN"},{"$f":"WINEP_Schemes!N431","v":0},0,0,0,0,0,0,0,0]
[null,null,{"$f":"WINEP_Schemes!C432","v":"SSD00856"},{"$f":"WINEP_Schemes!D432","v":"7SO300943"},{"$f":"WINEP_Schemes!E432","v":"REDLYNCH WWTW"},{"$f":"WINEP_Schemes!F432","v":"£m"},{"$f":"WINEP_Schemes!G432","v":1},{"$f":"WINEP_Schemes!H432","v":0},{"$f":"WINEP_Schemes!J432","v":0},{"$f":"WINEP_Schemes!I432","v":0},{"$f":"WINEP_Schemes!K432","v":1},{"$f":"WINEP_Schemes!L432","v":0},{"$f":"WINEP_Schemes!M432","v":"WWN"},{"$f":"WINEP_Schemes!N432","v":0},0,0,0,0,0,0,0,0]
[null,null,{"$f":"WINEP_Schemes!C433","v":"KSL00627"},{"$f":"WINEP_Schemes!D433","v":"7SO300947"},{"$f":"WINEP_Schemes!E433","v":"ROBERTSBRIDGE WWTW"},{"$f":"WINEP_Schemes!F433","v":"£m"},{"$f":"WINEP_Schemes!G433","v":1},{"$f":"WINEP_Schemes!H433","v":0},{"$f":"WINEP_Schemes!J433","v":0},{"$f":"WINEP_Schemes!I433","v":0},{"$f":"WINEP_Schemes!K433","v":1},{"$f":"WINEP_Schemes!L433","v":0},{"$f":"WINEP_Schemes!M433","v":"WWN"},{"$f":"WINEP_Schemes!N433","v":0},0,0,0,0,0,0,0,0]
[null,null,{"$f":"WINEP_Schemes!C434","v":"SSD00860"},{"$f":"WINEP_Schemes!D434","v":"7SO300949"},{"$f":"WINEP_Schemes!E434","v":"ROGATE WWTW"},{"$f":"WINEP_Schemes!F434","v":"£m"},{"$f":"WINEP_Schemes!G434","v":1},{"$f":"WINEP_Schemes!H434","v":0},{"$f":"WINEP_Schemes!J434","v":0},{"$f":"WINEP_Schemes!I434","v":0},{"$f":"WINEP_Schemes!K434","v":1},{"$f":"WINEP_Schemes!L434","v":0},{"$f":"WINEP_Schemes!M434","v":"WWN"},{"$f":"WINEP_Schemes!N434","v":0},0,0,0,0,0,0,0,0]
[null,null,{"$f":"WINEP_Schemes!C435","v":"SSD00864"},{"$f":"WINEP_Schemes!D435","v":"7SO300955"},{"$f":"WINEP_Schemes!E435","v":"ROPE WALK LITTLEHAMPTON WPS"},{"$f":"WINEP_Schemes!F435","v":"£m"},{"$f":"WINEP_Schemes!G435","v":1},{"$f":"WINEP_Schemes!H435","v":0},{"$f":"WINEP_Schemes!J435","v":0},{"$f":"WINEP_Schemes!I435","v":0},{"$f":"WINEP_Schemes!K435","v":1},{"$f":"WINEP_Schemes!L435","v":0},{"$f":"WINEP_Schemes!M435","v":"WWN"},{"$f":"WINEP_Schemes!N435","v":0},0,0,0,{"$f":" IF($M436 = R$9, $Q436, 0)","v":0},0,0,0,0]
[null,null,{"$f":"WINEP_Schemes!C436","v":"SSD00866"},{"$f":"WINEP_Schemes!D436","v":"7SO300957"},{"$f":"WINEP_Schemes!E436","v":"ROUD WWTW"},{"$f":"WINEP_Schemes!F436","v":"£m"},{"$f":"WINEP_Schemes!G436","v":1},{"$f":"WINEP_Schemes!H436","v":0},{"$f":"WINEP_Schemes!J436","v":0},{"$f":"WINEP_Schemes!I436","v":0},{"$f":"WINEP_Schemes!K436","v":1},{"$f":"WINEP_Schemes!L436","v":0},{"$f":"WINEP_Schemes!M436","v":"WWN"},{"$f":"WINEP_Schemes!N436","v":0},0,0,0,0,0,0,0,0]
[null,null,{"$f":"WINEP_Schemes!C437","v":"KSL00631"},{"$f":"WINEP_Schemes!D437","v":"7SO300959"},{"$f":"WINEP_Schemes!E437","v":"ROUGHLANDS MARDEN WPS"},{"$f":"WINEP_Schemes!F437","v":"£m"},{"$f":"WINEP_Schemes!G437","v":1},{"$f":"WINEP_Schemes!H437","v":0},{"$f":"WINEP_Schemes!J437","v":0},{"$f":"WINEP_Schemes!I437","v":0},{"$f":"WINEP_Schemes!K437","v":1},{"$f":"WINEP_Schemes!L437","v":0},{"$f":"WINEP_Schemes!M437","v":"WWN"},{"$f":"WINEP_Schemes!N437","v":0},0,0,0,0,0,0,0,0]
[null,null,{"$f":"WINEP_Schemes!C438","v":"SSD00868"},{"$f":"WINEP_Schemes!D438","v":"7SO300961"},{"$f":"WINEP_Schemes!E438","v":"RUDGWICK RECREATION GROUND WPS"},{"$f":"WINEP_Schemes!F438","v":"£m"},{"$f":"WINEP_Schemes!G438","v":1},{"$f":"WINEP_Schemes!H438","v":0},{"$f":"WINEP_Schemes!J438","v":0},{"$f":"WINEP_Schemes!I438","v":0},{"$f":"WINEP_Schemes!K438","v":1},{"$f":"WINEP_Schemes!L438","v":0},{"$f":"WINEP_Schemes!M438","v":"WWN"},{"$f":"WINEP_Schemes!N438","v":0},0,0,0,0,0,0,0,0]
[null,null,{"$f":"WINEP_Schemes!C439","v":"KSL00633"},{"$f":"WINEP_Schemes!D439","v":"7SO300964"},{"$f":"WINEP_Schemes!E439","v":"RYE WWTW"},{"$f":"WINEP_Schemes!F439","v":"£m"},{"$f":"WINEP_Schemes!G439","v":1},{"$f":"WINEP_Schemes!H439","v":0},{"$f":"WINEP_Schemes!J439","v":0},{"$f":"WINEP_Schemes!I439","v":0},{"$f":"WINEP_Schemes!K439","v":1},{"$f":"WINEP_Schemes!L439","v":0},{"$f":"WINEP_Schemes!M439","v":"WWN"},{"$f":"WINEP_Schemes!N439","v":0},0,0,0,0,0,0,0,0]
[null,null,{"$f":"WINEP_Schemes!C440","v":"KSL00635"},{"$f":"WINEP_Schemes!D440","v":"7SO300966"},{"$f":"WINEP_Schemes!E440","v":"SANDHURST WWTW"},{"$f":"WINEP_Schemes!F440","v":"£m"},{"$f":"WINEP_Schemes!G440","v":1},{"$f":"WINEP_Schemes!H440","v":0},{"$f":"WINEP_Schemes!J440","v":0},{"$f":"WINEP_Schemes!I440","v":0},{"$f":"WINEP_Schemes!K440","v":1},{"$f":"WINEP_Schemes!L440","v":0},{"$f":"WINEP_Schemes!M440","v":"WWN"},{"$f":"WINEP_Schemes!N440","v":0},0,0,0,0,0,0,0,0]
[null,null,{"$f":"WINEP_Schemes!C441","v":"SSD00873"},{"$f":"WINEP_Schemes!D441","v":"7SO300970"},{"$f":"WINEP_Schemes!E441","v":"SCAYNES HILL WWTW"},{"$f":"WINEP_Schemes!F441","v":"£m"},{"$f":"WINEP_Schemes!G441","v":1},{"$f":"WINEP_Schemes!H441","v":0},{"$f":"WINEP_Schemes!J441","v":0},{"$f":"WINEP_Schemes!I441","v":0},{"$f":"WINEP_Schemes!K441","v":1},{"$f":"WINEP_Schemes!L441","v":0},{"$f":"WINEP_Schemes!M441","v":"WWN"},{"$f":"WINEP_Schemes!N441","v":0},0,0,0,0,0,0,0,0]
[null,null,{"$f":"WINEP_Schemes!C442","v":"SSD00876"},{"$f":"WINEP_Schemes!D442","v":"7SO300973"},{"$f":"WINEP_Schemes!E442","v":"SEA ROAD LITTLEHAMPTON WPS"},{"$f":"WINEP_Schemes!F442","v":"£m"},{"$f":"WINEP_Schemes!G442","v":1},{"$f":"WINEP_Schemes!H442","v":0},{"$f":"WINEP_Schemes!J442","v":0},{"$f":"WINEP_Schemes!I442","v":0},{"$f":"WINEP_Schemes!K442","v":1},{"$f":"WINEP_Schemes!L442","v":0},{"$f":"WINEP_Schemes!M442","v":"WWN"},{"$f":"WINEP_Schemes!N442","v":0},0,0,0,0,0,0,0,0]
[null,null,{"$f":"WINEP_Schemes!C443","v":"KSL00639"},{"$f":"WINEP_Schemes!D443","v":"7SO300984"},{"$f":"WINEP_Schemes!E443","v":"SISSINGHURST WWTW"},{"$f":"WINEP_Schemes!F443","v":"£m"},{"$f":"WINEP_Schemes!G443","v":1},{"$f":"WINEP_Schemes!H443","v":0},{"$f":"WINEP_Schemes!J443","v":0},{"$f":"WINEP_Schemes!I443","v":0},{"$f":"WINEP_Schemes!K443","v":1},{"$f":"WINEP_Schemes!L443","v":0},{"$f":"WINEP_Schemes!M443","v":"WWN"},{"$f":"WINEP_Schemes!N443","v":0},0,0,0,0,0,0,0,0]
[null,null,{"$f":"WINEP_Schemes!C444","v":"SSD00891"},{"$f":"WINEP_Schemes!D444","v":"7SO300998"},{"$f":"WINEP_Schemes!E444","v":"SOUTH AMBERSHAM WWTW"},{"$f":"WINEP_Schemes!F444","v":"£m"},{"$f":"WINEP_Schemes!G444","v":1},{"$f":"WINEP_Schemes!H444","v":0},{"$f":"WINEP_Schemes!J444","v":0},{"$f":"WINEP_Schemes!I444","v":0},{"$f":"WINEP_Schemes!K444","v":1},{"$f":"WINEP_Schemes!L444","v":0},{"$f":"WINEP_Schemes!M444","v":"WWN"},{"$f":"WINEP_Schemes!N444","v":0},0,0,0,0,0,0,0,0]
[null,null,{"$f":"WINEP_Schemes!C445","v":"SSD00893"},{"$f":"WINEP_Schemes!D445","v":"7SO400001"},{"$f":"WINEP_Schemes!E445","v":"SOUTH HARTING WWTW"},{"$f":"WINEP_Schemes!F445","v":"£m"},{"$f":"WINEP_Schemes!G445","v":1},{"$f":"WINEP_Schemes!H445","v":0},{"$f":"WINEP_Schemes!J445","v":0},{"$f":"WINEP_Schemes!I445","v":0},{"$f":"WINEP_Schemes!K445","v":1},{"$f":"WINEP_Schemes!L445","v":0},{"$f":"WINEP_Schemes!M445","v":"WWN"},{"$f":"WINEP_Schemes!N445","v":0},0,0,0,0,0,0,0,0]
[null,null,{"$f":"WINEP_Schemes!C446","v":"SSD00895"},{"$f":"WINEP_Schemes!D446","v":"7SO400005"},{"$f":"WINEP_Schemes!E446","v":"SOUTHWICK WWTW"},{"$f":"WINEP_Schemes!F446","v":"£m"},{"$f":"WINEP_Schemes!G446","v":1},{"$f":"WINEP_Schemes!H446","v":0},{"$f":"WINEP_Schemes!J446","v":0},{"$f":"WINEP_Schemes!I446","v":0},{"$f":"WINEP_Schemes!K446","v":1},{"$f":"WINEP_Schemes!L446","v":0},{"$f":"WINEP_Schemes!M446","v":"WWN"},{"$f":"WINEP_Schemes!N446","v":0},0,0,0,0,0,0,0,0]
[null,null,{"$f":"WINEP_Schemes!C447","v":"SSD00897"},{"$f":"WINEP_Schemes!D447","v":"7SO400007"},{"$f":"WINEP_Schemes!E447","v":"ST HELENS WWTW"},{"$f":"WINEP_Schemes!F447","v":"£m"},{"$f":"WINEP_Schemes!G447","v":1},{"$f":"WINEP_Schemes!H447","v":0},{"$f":"WINEP_Schemes!J447","v":0},{"$f":"WINEP_Schemes!I447","v":0},{"$f":"WINEP_Schemes!K447","v":1},{"$f":"WINEP_Schemes!L447","v":0},{"$f":"WINEP_Schemes!M447","v":"WWN"},{"$f":"WINEP_Schemes!N447","v":0},0,0,0,0,0,0,0,0]
[null,null,{"$f":"WINEP_Schemes!C448","v":"KSL00651"},{"$f":"WINEP_Schemes!D448","v":"7SO400011"},{"$f":"WINEP_Schemes!E448","v":"STAPLECROSS WWTW"},{"$f":"WINEP_Schemes!F448","v":"£m"},{"$f":"WINEP_Schemes!G448","v":1},{"$f":"WINEP_Schemes!H448","v":0},{"$f":"WINEP_Schemes!J448","v":0},{"$f":"WINEP_Schemes!I448","v":0},{"$f":"WINEP_Schemes!K448","v":1},{"$f":"WINEP_Schemes!L448","v":0},{"$f":"WINEP_Schemes!M448","v":"WWN"},{"$f":"WINEP_Schemes!N448","v":0},0,0,0,0,0,0,0,0]
[null,null,{"$f":"WINEP_Schemes!C449","v":"KSL00655"},{"$f":"WINEP_Schemes!D449","v":"7SO400021"},{"$f":"WINEP_Schemes!E449","v":"STONE GREEN STONE IN OXNEY WWTW"},{"$f":"WINEP_Schemes!F449","v":"£m"},{"$f":"WINEP_Schemes!G449","v":1},{"$f":"WINEP_Schemes!H449","v":0},{"$f":"WINEP_Schemes!J449","v":0},{"$f":"WINEP_Schemes!I449","v":0},{"$f":"WINEP_Schemes!K449","v":1},{"$f":"WINEP_Schemes!L449","v":0},{"$f":"WINEP_Schemes!M449","v":"WWN"},{"$f":"WINEP_Schemes!N449","v":0},0,0,0,0,0,0,0,0]
[null,null,{"$f":"WINEP_Schemes!C450","v":"KSL00659"},{"$f":"WINEP_Schemes!D450","v":"7SO400025"},{"$f":"WINEP_Schemes!E450","v":"STONEBRIDGE ROAD BROOK K WPS"},{"$f":"WINEP_Schemes!F450","v":"£m"},{"$f":"WINEP_Schemes!G450","v":1},{"$f":"WINEP_Schemes!H450","v":0},{"$f":"WINEP_Schemes!J450","v":0},{"$f":"WINEP_Schemes!I450","v":0},{"$f":"WINEP_Schemes!K450","v":1},{"$f":"WINEP_Schemes!L450","v":0},{"$f":"WINEP_Schemes!M450","v":"WWN"},{"$f":"WINEP_Schemes!N450","v":0},0,0,0,0,0,0,0,0]
[null,null,{"$f":"WINEP_Schemes!C451","v":"KSL00669"},{"$f":"WINEP_Schemes!D451","v":"7SO400042"},{"$f":"WINEP_Schemes!E451","v":"TEYNHAM WWTW"},{"$f":"WINEP_Schemes!F451","v":"£m"},{"$f":"WINEP_Schemes!G451","v":1},{"$f":"WINEP_Schemes!H451","v":0},{"$f":"WINEP_Schemes!J451","v":0},{"$f":"WINEP_Schemes!I451","v":0},{"$f":"WINEP_Schemes!K451","v":1},{"$f":"WINEP_Schemes!L451","v":0},{"$f":"WINEP_Schemes!M451","v":"WWN"},{"$f":"WINEP_Schemes!N451","v":0},0,0,0,0,0,0,0,0]
[null,null,{"$f":"WINEP_Schemes!C452","v":"KSL00671"},{"$f":"WINEP_Schemes!D452","v":"7SO400044"},{"$f":"WINEP_Schemes!E452","v":"THE BULWARK SANDWICH WPS"},{"$f":"WINEP_Schemes!F452","v":"£m"},{"$f":"WINEP_Schemes!G452","v":1},{"$f":"WINEP_Schemes!H452","v":0},{"$f":"WINEP_Schemes!J452","v":0},{"$f":"WINEP_Schemes!I452","v":0},{"$f":"WINEP_Schemes!K452","v":1},{"$f":"WINEP_Schemes!L452","v":0},{"$f":"WINEP_Schemes!M452","v":"WWN"},{"$f":"WINEP_Schemes!N452","v":0},0,0,0,0,0,0,0,0]
[null,null,{"$f":"WINEP_Schemes!C453","v":"KSL00674"},{"$f":"WINEP_Schemes!D453","v":"7SO400050"},{"$f":"WINEP_Schemes!E453","v":"TINKERS LANE TICEHURST WPS"},{"$f":"WINEP_Schemes!F453","v":"£m"},{"$f":"WINEP_Schemes!G453","v":1},{"$f":"WINEP_Schemes!H453","v":0},{"$f":"WINEP_Schemes!J453","v":0},{"$f":"WINEP_Schemes!I453","v":0},{"$f":"WINEP_Schemes!K453","v":1},{"$f":"WINEP_Schemes!L453","v":0},{"$f":"WINEP_Schemes!M453","v":"WWN"},{"$f":"WINEP_Schemes!N453","v":0},0,0,0,0,0,0,0,0]
[null,null,{"$f":"WINEP_Schemes!C454","v":"KSL00676"},{"$f":"WINEP_Schemes!D454","v":"7SO400052"},{"$f":"WINEP_Schemes!E454","v":"TONBRIDGE WWTW"},{"$f":"WINEP_Schemes!F454","v":"£m"},{"$f":"WINEP_Schemes!G454","v":1},{"$f":"WINEP_Schemes!H454","v":0},{"$f":"WINEP_Schemes!J454","v":0},{"$f":"WINEP_Schemes!I454","v":0},{"$f":"WINEP_Schemes!K454","v":1},{"$f":"WINEP_Schemes!L454","v":0},{"$f":"WINEP_Schemes!M454","v":"WWN"},{"$f":"WINEP_Schemes!N454","v":0},0,0,0,0,0,0,0,0]
[null,null,{"$f":"WINEP_Schemes!C455","v":"KSL00682"},{"$f":"WINEP_Schemes!D455","v":"7SO400060"},{"$f":"WINEP_Schemes!E455","v":"ULCOMBE WWTW"},{"$f":"WINEP_Schemes!F455","v":"£m"},{"$f":"WINEP_Schemes!G455","v":1},{"$f":"WINEP_Schemes!H455","v":0},{"$f":"WINEP_Schemes!J455","v":0},{"$f":"WINEP_Schemes!I455","v":0},{"$f":"WINEP_Schemes!K455","v":1},{"$f":"WINEP_Schemes!L455","v":0},{"$f":"WINEP_Schemes!M455","v":"WWN"},{"$f":"WINEP_Schemes!N455","v":0},0,0,0,0,0,0,0,0]
[null,null,{"$f":"WINEP_Schemes!C456","v":"SSD00920"},{"$f":"WINEP_Schemes!D456","v":"7SO400067"},{"$f":"WINEP_Schemes!E456","v":"WARNHAM WWTW"},{"$f":"WINEP_Schemes!F456","v":"£m"},{"$f":"WINEP_Schemes!G456","v":1},{"$f":"WINEP_Schemes!H456","v":0},{"$f":"WINEP_Schemes!J456","v":0},{"$f":"WINEP_Schemes!I456","v":0},{"$f":"WINEP_Schemes!K456","v":1},{"$f":"WINEP_Schemes!L456","v":0},{"$f":"WINEP_Schemes!M456","v":"WWN"},{"$f":"WINEP_Schemes!N456","v":0},0,0,0,0,0,0,0,0]
[null,null,{"$f":"WINEP_Schemes!C457","v":"KSL00691"},{"$f":"WINEP_Schemes!D457","v":"7SO400074"},{"$f":"WINEP_Schemes!E457","v":"WEST HOATHLY WWTW"},{"$f":"WINEP_Schemes!F457","v":"£m"},{"$f":"WINEP_Schemes!G457","v":1},{"$f":"WINEP_Schemes!H457","v":0},{"$f":"WINEP_Schemes!J457","v":0},{"$f":"WINEP_Schemes!I457","v":0},{"$f":"WINEP_Schemes!K457","v":1},{"$f":"WINEP_Schemes!L457","v":0},{"$f":"WINEP_Schemes!M457","v":"WWN"},{"$f":"WINEP_Schemes!N457","v":0},0,0,0,0,0,0,0,0]
[null,null,{"$f":"WINEP_Schemes!C458","v":"SSD00922"},{"$f":"WINEP_Schemes!D458","v":"7SO400077"},{"$f":"WINEP_Schemes!E458","v":"WEST PARK BOGNOR REGIS WPS"},{"$f":"WINEP_Schemes!F458","v":"£m"},{"$f":"WINEP_Schemes!G458","v":1},{"$f":"WINEP_Schemes!H458","v":0},{"$f":"WINEP_Schemes!J458","v":0},{"$f":"WINEP_Schemes!I458","v":0},{"$f":"WINEP_Schemes!K458","v":1},{"$f":"WINEP_Schemes!L458","v":0},{"$f":"WINEP_Schemes!M458","v":"WWN"},{"$f":"WINEP_Schemes!N458","v":0},0,0,0,0,0,0,0,0]
[null,null,{"$f":"WINEP_Schemes!C459","v":"KSL00696"},{"$f":"WINEP_Schemes!D459","v":"7SO400083"},{"$f":"WINEP_Schemes!E459","v":"WESTFIELD WWTW"},{"$f":"WINEP_Schemes!F459","v":"£m"},{"$f":"WINEP_Schemes!G459","v":1},{"$f":"WINEP_Schemes!H459","v":0},{"$f":"WINEP_Schemes!J459","v":0},{"$f":"WINEP_Schemes!I459","v":0},{"$f":"WINEP_Schemes!K459","v":1},{"$f":"WINEP_Schemes!L459","v":0},{"$f":"WINEP_Schemes!M459","v":"WWN"},{"$f":"WINEP_Schemes!N459","v":0},0,0,0,0,0,0,0,0]
[null,null,{"$f":"WINEP_Schemes!C460","v":"SSD00927"},{"$f":"WINEP_Schemes!D460","v":"7SO400088"},{"$f":"WINEP_Schemes!E460","v":"WHITEPARISH WWTW"},{"$f":"WINEP_Schemes!F460","v":"£m"},{"$f":"WINEP_Schemes!G460","v":1},{"$f":"WINEP_Schemes!H460","v":0},{"$f":"WINEP_Schemes!J460","v":0},{"$f":"WINEP_Schemes!I460","v":0},{"$f":"WINEP_Schemes!K460","v":1},{"$f":"WINEP_Schemes!L460","v":0},{"$f":"WINEP_Schemes!M460","v":"WWN"},{"$f":"WINEP_Schemes!N460","v":0},0,0,0,0,0,0,0,0]
[null,null,{"$f":"WINEP_Schemes!C461","v":"SSD00929"},{"$f":"WINEP_Schemes!D461","v":"7SO400092"},{"$f":"WINEP_Schemes!E461","v":"WICKHAM WWTW"},{"$f":"WINEP_Schemes!F461","v":"£m"},{"$f":"WINEP_Schemes!G461","v":1},{"$f":"WINEP_Schemes!H461","v":0},{"$f":"WINEP_Schemes!J461","v":0},{"$f":"WINEP_Schemes!I461","v":0},{"$f":"WINEP_Schemes!K461","v":1},{"$f":"WINEP_Schemes!L461","v":0},{"$f":"WINEP_Schemes!M461","v":"WWN"},{"$f":"WINEP_Schemes!N461","v":0},0,0,0,0,0,0,0,0]
[null,null,{"$f":"WINEP_Schemes!C462","v":"SSD00933"},{"$f":"WINEP_Schemes!D462","v":"7SO400096"},{"$f":"WINEP_Schemes!E462","v":"WISBOROUGH GREEN WWTW"},{"$f":"WINEP_Schemes!F462","v":"£m"},{"$f":"WINEP_Schemes!G462","v":1},{"$f":"WINEP_Schemes!H462","v":0},{"$f":"WINEP_Schemes!J462","v":0},{"$f":"WINEP_Schemes!I462","v":0},{"$f":"WINEP_Schemes!K462","v":1},{"$f":"WINEP_Schemes!L462","v":0},{"$f":"WINEP_Schemes!M462","v":"WWN"},{"$f":"WINEP_Schemes!N462","v":0},0,0,0,0,0,0,0,0]
[null,null,{"$f":"WINEP_Schemes!C463","v":"KSL00702"},{"$f":"WINEP_Schemes!D463","v":"7SO400098"},{"$f":"WINEP_Schemes!E463","v":"WITTERSHAM WWTW"},{"$f":"WINEP_Schemes!F463","v":"£m"},{"$f":"WINEP_Schemes!G463","v":1},{"$f":"WINEP_Schemes!H463","v":0},{"$f":"WINEP_Schemes!J463","v":0},{"$f":"WINEP_Schemes!I463","v":0},{"$f":"WINEP_Schemes!K463","v":1},{"$f":"WINEP_Schemes!L463","v":0},{"$f":"WINEP_Schemes!M463","v":"WWN"},{"$f":"WINEP_Schemes!N463","v":0},0,0,0,0,0,0,0,0]
[null,null,{"$f":"WINEP_Schemes!C464","v":"SSD00937"},{"$f":"WINEP_Schemes!D464","v":"7SO400103"},{"$f":"WINEP_Schemes!E464","v":"WOOLSTON WWTW"},{"$f":"WINEP_Schemes!F464","v":"£m"},{"$f":"WINEP_Schemes!G464","v":1},{"$f":"WINEP_Schemes!H464","v":0},{"$f":"WINEP_Schemes!J464","v":0},{"$f":"WINEP_Schemes!I464","v":0},{"$f":"WINEP_Schemes!K464","v":1},{"$f":"WINEP_Schemes!L464","v":0},{"$f":"WINEP_Schemes!M464","v":"WWN"},{"$f":"WINEP_Schemes!N464","v":0},{"$f":" I465 * J465 * G465","v":0},{"$f":" N465 * O465","v":0},{"$f":" IF(L465 = 0, P465, (N465 - 1) * O465)","v":0},0,0,0,0,0]
[null,null,{"$f":"WINEP_Schemes!C465","v":"SSD00939"},{"$f":"WINEP_Schemes!D465","v":"7SO400106"},{"$f":"WINEP_Schemes!E465","v":"WROXALL WWTW"},{"$f":"WINEP_Schemes!F465","v":"£m"},{"$f":"WINEP_Schemes!G465","v":1},{"$f":"WINEP_Schemes!H465","v":0},{"$f":"WINEP_Schemes!J465","v":0},{"$f":"WINEP_Schemes!I465","v":0},{"$f":"WINEP_Schemes!K465","v":1},{"$f":"WINEP_Schemes!L465","v":0},{"$f":"WINEP_Schemes!M465","v":"WWN"},{"$f":"WINEP_Schemes!N465","v":0},0,0,0,0,0,0,0,0]
[null,null,{"$f":"WINEP_Schemes!C466","v":"SSD00038"},{"$f":"WINEP_Schemes!D466","v":"7SO200203"},{"$f":"WINEP_Schemes!E466","v":"Southern Water PR19 shellfish water requirements"},{"$f":"WINEP_Schemes!F466","v":"£m"},{"$f":"WINEP_Schemes!G466","v":1},{"$f":"WINEP_Schemes!H466","v":0},{"$f":"WINEP_Schemes!J466","v":1},{"$f":"WINEP_Schemes!I466","v":0},{"$f":"WINEP_Schemes!K466","v":0},{"$f":"WINEP_Schemes!L466","v":1},{"$f":"WINEP_Schemes!M466","v":"WWN"},{"$f":"WINEP_Schemes!N466","v":0},0,0,0,0,0,0,0,0]
[null,null,{"$f":"WINEP_Schemes!C467","v":"SSD00664"},{"$f":"WINEP_Schemes!D467","v":"7SO300581"},{"$f":"WINEP_Schemes!E467","v":"Chichester Harbour (Chichester Channel) Shellfish Investigations"},{"$f":"WINEP_Schemes!F467","v":"£m"},{"$f":"WINEP_Schemes!G467","v":1},{"$f":"WINEP_Schemes!H467","v":0},{"$f":"WINEP_Schemes!J467","v":0},{"$f":"WINEP_Schemes!I467","v":0},{"$f":"WINEP_Schemes!K467","v":1},{"$f":"WINEP_Schemes!L467","v":0},{"$f":"WINEP_Schemes!M467","v":"WWN"},{"$f":"WINEP_Schemes!N467","v":0},0,0,0,0,0,0,0,0]
[null,null,{"$f":"WINEP_Schemes!C468","v":"SSD00663"},{"$f":"WINEP_Schemes!D468","v":"7SO300580"},{"$f":"WINEP_Schemes!E468","v":"Chichester Harbour (Emsworth Channel) Shellfish Investigations"},{"$f":"WINEP_Schemes!F468","v":"£m"},{"$f":"WINEP_Schemes!G468","v":1},{"$f":"WINEP_Schemes!H468","v":0},{"$f":"WINEP_Schemes!J468","v":0},{"$f":"WINEP_Schemes!I468","v":0},{"$f":"WINEP_Schemes!K468","v":1},{"$f":"WINEP_Schemes!L468","v":0},{"$f":"WINEP_Schemes!M468","v":"WWN"},{"$f":"WINEP_Schemes!N468","v":0},0,0,0,0,0,0,0,0]
[null,null,{"$f":"WINEP_Schemes!C469","v":"SSD00941"},{"$f":"WINEP_Schemes!D469","v":"7SO400111"},{"$f":"WINEP_Schemes!E469","v":"Chichester Harbour (Thornham Channel) Shellfish Investigations"},{"$f":"WINEP_Schemes!F469","v":"£m"},{"$f":"WINEP_Schemes!G469","v":1},{"$f":"WINEP_Schemes!H469","v":0},{"$f":"WINEP_Schemes!J469","v":0},{"$f":"WINEP_Schemes!I469","v":0},{"$f":"WINEP_Schemes!K469","v":1},{"$f":"WINEP_Schemes!L469","v":0},{"$f":"WINEP_Schemes!M469","v":"WWN"},{"$f":"WINEP_Schemes!N469","v":0},0,0,0,0,0,0,0,0]
[null,null,{"$f":"WINEP_Schemes!C470","v":"KSL00452"},{"$f":"WINEP_Schemes!D470","v":"7SO300575"},{"$f":"WINEP_Schemes!E470","v":"Outer Thames Shellfish Investigations"},{"$f":"WINEP_Schemes!F470","v":"£m"},{"$f":"WINEP_Schemes!G470","v":1},{"$f":"WINEP_Schemes!H470","v":0},{"$f":"WINEP_Schemes!J470","v":0},{"$f":"WINEP_Schemes!I470","v":0},{"$f":"WINEP_Schemes!K470","v":1},{"$f":"WINEP_Schemes!L470","v":0},{"$f":"WINEP_Schemes!M470","v":"WWN"},{"$f":"WINEP_Schemes!N470","v":0},0,0,0,0,0,0,0,0]
[null,null,{"$f":"WINEP_Schemes!C471","v":"KSL00453"},{"$f":"WINEP_Schemes!D471","v":"7SO300576"},{"$f":"WINEP_Schemes!E471","v":"Sheppey Shellfish Investigations"},{"$f":"WINEP_Schemes!F471","v":"£m"},{"$f":"WINEP_Schemes!G471","v":1},{"$f":"WINEP_Schemes!H471","v":0},{"$f":"WINEP_Schemes!J471","v":0},{"$f":"WINEP_Schemes!I471","v":0},{"$f":"WINEP_Schemes!K471","v":1},{"$f":"WINEP_Schemes!L471","v":0},{"$f":"WINEP_Schemes!M471","v":"WWN"},{"$f":"WINEP_Schemes!N471","v":0},0,0,0,0,0,0,0,0]
[null,null,{"$f":"WINEP_Schemes!C472","v":"KSL00456"},{"$f":"WINEP_Schemes!D472","v":"7SO300579"},{"$f":"WINEP_Schemes!E472","v":"Swale Central Shellfish Investigations"},{"$f":"WINEP_Schemes!F472","v":"£m"},{"$f":"WINEP_Schemes!G472","v":1},{"$f":"WINEP_Schemes!H472","v":0},{"$f":"WINEP_Schemes!J472","v":0},{"$f":"WINEP_Schemes!I472","v":0},{"$f":"WINEP_Schemes!K472","v":1},{"$f":"WINEP_Schemes!L472","v":0},{"$f":"WINEP_Schemes!M472","v":"WWN"},{"$f":"WINEP_Schemes!N472","v":0},0,0,0,0,0,0,0,0]
[null,null,{"$f":"WINEP_Schemes!C473","v":"KSL00455"},{"$f":"WINEP_Schemes!D473","v":"7SO300578"},{"$f":"WINEP_Schemes!E473","v":"Swale East Shellfish Investigations"},{"$f":"WINEP_Schemes!F473","v":"£m"},{"$f":"WINEP_Schemes!G473","v":1},{"$f":"WINEP_Schemes!H473","v":0},{"$f":"WINEP_Schemes!J473","v":0},{"$f":"WINEP_Schemes!I473","v":0},{"$f":"WINEP_Schemes!K473","v":1},{"$f":"WINEP_Schemes!L473","v":0},{"$f":"WINEP_Schemes!M473","v":"WWN"},{"$f":"WINEP_Schemes!N473","v":0},0,0,0,0,0,0,0,0]
[null,null,{"$f":"WINEP_Schemes!C474","v":"KSL00454"},{"$f":"WINEP_Schemes!D474","v":"7SO300577"},{"$f":"WINEP_Schemes!E474","v":"Swalecliffe Shellfish Investigations"},{"$f":"WINEP_Schemes!F474","v":"£m"},{"$f":"WINEP_Schemes!G474","v":1},{"$f":"WINEP_Schemes!H474","v":0},{"$f":"WINEP_Schemes!J474","v":0},{"$f":"WINEP_Schemes!I474","v":0},{"$f":"WINEP_Schemes!K474","v":1},{"$f":"WINEP_Schemes!L474","v":0},{"$f":"WINEP_Schemes!M474","v":"WWN"},{"$f":"WINEP_Schemes!N474","v":0},0,0,0,0,0,0,0,0]
[null,null,{"$f":"WINEP_Schemes!C475","v":"SSD00025"},{"$f":"WINEP_Schemes!D475","v":"7SO200190"},{"$f":"WINEP_Schemes!E475","v":"Southern Water PR19 frequently spilling overflows requirements"},{"$f":"WINEP_Schemes!F475","v":"£m"},{"$f":"WINEP_Schemes!G475","v":1},{"$f":"WINEP_Schemes!H475","v":0},{"$f":"WINEP_Schemes!J475","v":1},{"$f":"WINEP_Schemes!I475","v":0},{"$f":"WINEP_Schemes!K475","v":0},{"$f":"WINEP_Schemes!L475","v":1},{"$f":"WINEP_Schemes!M475","v":"WWN"},{"$f":"WINEP_Schemes!N475","v":0},0,0,0,0,0,0,0,0]
[null,null,{"$f":"WINEP_Schemes!C476","v":"KSL00423"},{"$f":"WINEP_Schemes!D476","v":"7SO300479"},{"$f":"WINEP_Schemes!E476","v":" High Halden WTW Storm Tank Overflow"},{"$f":"WINEP_Schemes!F476","v":"£m"},{"$f":"WINEP_Schemes!G476","v":1},{"$f":"WINEP_Schemes!H476","v":0},{"$f":"WINEP_Schemes!J476","v":0},{"$f":"WINEP_Schemes!I476","v":0},{"$f":"WINEP_Schemes!K476","v":1},{"$f":"WINEP_Schemes!L476","v":0},{"$f":"WINEP_Schemes!M476","v":"WWN"},{"$f":"WINEP_Schemes!N476","v":0},0,0,0,0,0,0,0,0]
[null,null,{"$f":"WINEP_Schemes!C477","v":"KSL00428"},{"$f":"WINEP_Schemes!D477","v":"7SO300491"},{"$f":"WINEP_Schemes!E477","v":"Apple Tree Lane Tunbridge Wells CSO"},{"$f":"WINEP_Schemes!F477","v":"£m"},{"$f":"WINEP_Schemes!G477","v":1},{"$f":"WINEP_Schemes!H477","v":0},{"$f":"WINEP_Schemes!J477","v":0},{"$f":"WINEP_Schemes!I477","v":0},{"$f":"WINEP_Schemes!K477","v":1},{"$f":"WINEP_Schemes!L477","v":0},{"$f":"WINEP_Schemes!M477","v":"WWN"},{"$f":"WINEP_Schemes!N477","v":0},0,0,0,0,0,0,0,0]
[null,null,{"$f":"WINEP_Schemes!C478","v":"SSD00590"},{"$f":"WINEP_Schemes!D478","v":"7SO300468"},{"$f":"WINEP_Schemes!E478","v":"Ashington WTW Storm Tank Overflow"},{"$f":"WINEP_Schemes!F478","v":"£m"},{"$f":"WINEP_Schemes!G478","v":1},{"$f":"WINEP_Schemes!H478","v":0},{"$f":"WINEP_Schemes!J478","v":0},{"$f":"WINEP_Schemes!I478","v":0},{"$f":"WINEP_Schemes!K478","v":1},{"$f":"WINEP_Schemes!L478","v":0},{"$f":"WINEP_Schemes!M478","v":"WWN"},{"$f":"WINEP_Schemes!N478","v":0},0,0,0,0,0,0,0,0]
[null,null,{"$f":"WINEP_Schemes!C479","v":"SSD00591"},{"$f":"WINEP_Schemes!D479","v":"7SO300469"},{"$f":"WINEP_Schemes!E479","v":"Barcombe New WTW Inlet Works"},{"$f":"WINEP_Schemes!F479","v":"£m"},{"$f":"WINEP_Schemes!G479","v":1},{"$f":"WINEP_Schemes!H479","v":0},{"$f":"WINEP_Schemes!J479","v":0},{"$f":"WINEP_Schemes!I479","v":0},{"$f":"WINEP_Schemes!K479","v":1},{"$f":"WINEP_Schemes!L479","v":0},{"$f":"WINEP_Schemes!M479","v":"WWN"},{"$f":"WINEP_Schemes!N479","v":0},0,0,0,0,0,0,0,0]
[null,null,{"$f":"WINEP_Schemes!C480","v":"SSD00596"},{"$f":"WINEP_Schemes!D480","v":"7SO300481"},{"$f":"WINEP_Schemes!E480","v":"Billingshurst WTW Storm Tank Overflow"},{"$f":"WINEP_Schemes!F480","v":"£m"},{"$f":"WINEP_Schemes!G480","v":1},{"$f":"WINEP_Schemes!H480","v":0},{"$f":"WINEP_Schemes!J480","v":0},{"$f":"WINEP_Schemes!I480","v":0},{"$f":"WINEP_Schemes!K480","v":1},{"$f":"WINEP_Schemes!L480","v":0},{"$f":"WINEP_Schemes!M480","v":"WWN"},{"$f":"WINEP_Schemes!N480","v":0},0,0,0,0,0,0,0,0]
[null,null,{"$f":"WINEP_Schemes!C481","v":"SSD00597"},{"$f":"WINEP_Schemes!D481","v":"7SO300482"},{"$f":"WINEP_Schemes!E481","v":"Calbourne WTW Inlet Works"},{"$f":"WINEP_Schemes!F481","v":"£m"},{"$f":"WINEP_Schemes!G481","v":1},{"$f":"WINEP_Schemes!H481","v":0},{"$f":"WINEP_Schemes!J481","v":0},{"$f":"WINEP_Schemes!I481","v":0},{"$f":"WINEP_Schemes!K481","v":1},{"$f":"WINEP_Schemes!L481","v":0},{"$f":"WINEP_Schemes!M481","v":"WWN"},{"$f":"WINEP_Schemes!N481","v":0},0,0,0,0,0,0,0,0]
[null,null,{"$f":"WINEP_Schemes!C482","v":"KSL00425"},{"$f":"WINEP_Schemes!D482","v":"7SO300483"},{"$f":"WINEP_Schemes!E482","v":"Cannon Lane Tonbridge CSO"},{"$f":"WINEP_Schemes!F482","v":"£m"},{"$f":"WINEP_Schemes!G482","v":1},{"$f":"WINEP_Schemes!H482","v":0},{"$f":"WINEP_Schemes!J482","v":0},{"$f":"WINEP_Schemes!I482","v":0},{"$f":"WINEP_Schemes!K482","v":1},{"$f":"WINEP_Schemes!L482","v":0},{"$f":"WINEP_Schemes!M482","v":"WWN"},{"$f":"WINEP_Schemes!N482","v":0},0,0,0,0,0,0,0,0]
[null,null,{"$f":"WINEP_Schemes!C483","v":"KSL00418"},{"$f":"WINEP_Schemes!D483","v":"7SO300470"},{"$f":"WINEP_Schemes!E483","v":"Charing WTW Storm Tank Overflow"},{"$f":"WINEP_Schemes!F483","v":"£m"},{"$f":"WINEP_Schemes!G483","v":1},{"$f":"WINEP_Schemes!H483","v":0},{"$f":"WINEP_Schemes!J483","v":0},{"$f":"WINEP_Schemes!I483","v":0},{"$f":"WINEP_Schemes!K483","v":1},{"$f":"WINEP_Schemes!L483","v":0},{"$f":"WINEP_Schemes!M483","v":"WWN"},{"$f":"WINEP_Schemes!N483","v":0},0,0,0,0,0,0,0,0]
[null,null,{"$f":"WINEP_Schemes!C484","v":"SSD00595"},{"$f":"WINEP_Schemes!D484","v":"7SO300478"},{"$f":"WINEP_Schemes!E484","v":"Chiddingfold WTW Inlet Works"},{"$f":"WINEP_Schemes!F484","v":"£m"},{"$f":"WINEP_Schemes!G484","v":1},{"$f":"WINEP_Schemes!H484","v":0},{"$f":"WINEP_Schemes!J484","v":0},{"$f":"WINEP_Schemes!I484","v":0},{"$f":"WINEP_Schemes!K484","v":1},{"$f":"WINEP_Schemes!L484","v":0},{"$f":"WINEP_Schemes!M484","v":"WWN"},{"$f":"WINEP_Schemes!N484","v":0},0,0,0,0,0,0,0,0]
[null,null,{"$f":"WINEP_Schemes!C485","v":"KSL00415"},{"$f":"WINEP_Schemes!D485","v":"7SO300464"},{"$f":"WINEP_Schemes!E485","v":"Cranbrook WTW Storm Tank Overflow"},{"$f":"WINEP_Schemes!F485","v":"£m"},{"$f":"WINEP_Schemes!G485","v":1},{"$f":"WINEP_Schemes!H485","v":0},{"$f":"WINEP_Schemes!J485","v":0},{"$f":"WINEP_Schemes!I485","v":0},{"$f":"WINEP_Schemes!K485","v":1},{"$f":"WINEP_Schemes!L485","v":0},{"$f":"WINEP_Schemes!M485","v":"WWN"},{"$f":"WINEP_Schemes!N485","v":0},0,0,0,0,0,0,0,0]
[null,null,{"$f":"WINEP_Schemes!C486","v":"KSL00416"},{"$f":"WINEP_Schemes!D486","v":"7SO300465"},{"$f":"WINEP_Schemes!E486","v":"Felbridge WTW Inlet Works"},{"$f":"WINEP_Schemes!F486","v":"£m"},{"$f":"WINEP_Schemes!G486","v":1},{"$f":"WINEP_Schemes!H486","v":0},{"$f":"WINEP_Schemes!J486","v":0},{"$f":"WINEP_Schemes!I486","v":0},{"$f":"WINEP_Schemes!K486","v":1},{"$f":"WINEP_Schemes!L486","v":0},{"$f":"WINEP_Schemes!M486","v":"WWN"},{"$f":"WINEP_Schemes!N486","v":0},0,0,0,{"$f":" IF($M487 = R$9, $Q487, 0)","v":0},0,0,0,0]
[null,null,{"$f":"WINEP_Schemes!C487","v":"SSD00598"},{"$f":"WINEP_Schemes!D487","v":"7SO300484"},{"$f":"WINEP_Schemes!E487","v":"Fittleworth WTW Storm Tank Overflow"},{"$f":"WINEP_Schemes!F487","v":"£m"},{"$f":"WINEP_Schemes!G487","v":1},{"$f":"WINEP_Schemes!H487","v":0},{"$f":"WINEP_Schemes!J487","v":0},{"$f":"WINEP_Schemes!I487","v":0},{"$f":"WINEP_Schemes!K487","v":1},{"$f":"WINEP_Schemes!L487","v":0},{"$f":"WINEP_Schemes!M487","v":"WWN"},{"$f":"WINEP_Schemes!N487","v":0},0,0,0,0,0,0,0,0]
[null,null,{"$f":"WINEP_Schemes!C488","v":"KSL00419"},{"$f":"WINEP_Schemes!D488","v":"7SO300471"},{"$f":"WINEP_Schemes!E488","v":"Fordcombe WTW Inlet Works"},{"$f":"WINEP_Schemes!F488","v":"£m"},{"$f":"WINEP_Schemes!G488","v":1},{"$f":"WINEP_Schemes!H488","v":0},{"$f":"WINEP_Schemes!J488","v":0},{"$f":"WINEP_Schemes!I488","v":0},{"$f":"WINEP_Schemes!K488","v":1},{"$f":"WINEP_Schemes!L488","v":0},{"$f":"WINEP_Schemes!M488","v":"WWN"},{"$f":"WINEP_Schemes!N488","v":0},0,0,0,0,0,0,0,0]
[null,null,{"$f":"WINEP_Schemes!C489","v":"KSL00426"},{"$f":"WINEP_Schemes!D489","v":"7SO300485"},{"$f":"WINEP_Schemes!E489","v":"Guestling Green WTW Storm Tank Overflow"},{"$f":"WINEP_Schemes!F489","v":"£m"},{"$f":"WINEP_Schemes!G489","v":1},{"$f":"WINEP_Schemes!H489","v":0},{"$f":"WINEP_Schemes!J489","v":0},{"$f":"WINEP_Schemes!I489","v":0},{"$f":"WINEP_Schemes!K489","v":1},{"$f":"WINEP_Schemes!L489","v":0},{"$f":"WINEP_Schemes!M489","v":"WWN"},{"$f":"WINEP_Schemes!N489","v":0},0,0,0,0,0,0,0,0]
[null,null,{"$f":"WINEP_Schemes!C490","v":"SSD00603"},{"$f":"WINEP_Schemes!D490","v":"7SO300492"},{"$f":"WINEP_Schemes!E490","v":"Hailsham North WTW Storm Tank Overflow"},{"$f":"WINEP_Schemes!F490","v":"£m"},{"$f":"WINEP_Schemes!G490","v":1},{"$f":"WINEP_Schemes!H490","v":0},{"$f":"WINEP_Schemes!J490","v":0},{"$f":"WINEP_Schemes!I490","v":0},{"$f":"WINEP_Schemes!K490","v":1},{"$f":"WINEP_Schemes!L490","v":0},{"$f":"WINEP_Schemes!M490","v":"WWN"},{"$f":"WINEP_Schemes!N490","v":0},0,0,0,0,0,0,0,0]
[null,null,{"$f":"WINEP_Schemes!C491","v":"SSD00604"},{"$f":"WINEP_Schemes!D491","v":"7SO300493"},{"$f":"WINEP_Schemes!E491","v":"Hailsham South WTW Inlet Works"},{"$f":"WINEP_Schemes!F491","v":"£m"},{"$f":"WINEP_Schemes!G491","v":1},{"$f":"WINEP_Schemes!H491","v":0},{"$f":"WINEP_Schemes!J491","v":0},{"$f":"WINEP_Schemes!I491","v":0},{"$f":"WINEP_Schemes!K491","v":1},{"$f":"WINEP_Schemes!L491","v":0},{"$f":"WINEP_Schemes!M491","v":"WWN"},{"$f":"WINEP_Schemes!N491","v":0},0,0,0,0,0,0,0,0]
[null,null,{"$f":"WINEP_Schemes!C492","v":"KSL00429"},{"$f":"WINEP_Schemes!D492","v":"7SO300494"},{"$f":"WINEP_Schemes!E492","v":"Hawkhurst South WTW Storm Tank Overflow"},{"$f":"WINEP_Schemes!F492","v":"£m"},{"$f":"WINEP_Schemes!G492","v":1},{"$f":"WINEP_Schemes!H492","v":0},{"$f":"WINEP_Schemes!J492","v":0},{"$f":"WINEP_Schemes!I492","v":0},{"$f":"WINEP_Schemes!K492","v":1},{"$f":"WINEP_Schemes!L492","v":0},{"$f":"WINEP_Schemes!M492","v":"WWN"},{"$f":"WINEP_Schemes!N492","v":0},0,0,0,0,0,0,0,0]
[null,null,{"$f":"WINEP_Schemes!C493","v":"KSL00430"},{"$f":"WINEP_Schemes!D493","v":"7SO300495"},{"$f":"WINEP_Schemes!E493","v":"Hilden Park Road Hildenborough WPS"},{"$f":"WINEP_Schemes!F493","v":"£m"},{"$f":"WINEP_Schemes!G493","v":1},{"$f":"WINEP_Schemes!H493","v":0},{"$f":"WINEP_Schemes!J493","v":0},{"$f":"WINEP_Schemes!I493","v":0},{"$f":"WINEP_Schemes!K493","v":1},{"$f":"WINEP_Schemes!L493","v":0},{"$f":"WINEP_Schemes!M493","v":"WWN"},{"$f":"WINEP_Schemes!N493","v":0},0,0,0,0,0,0,0,0]
[null,null,{"$f":"WINEP_Schemes!C494","v":"KSL00420"},{"$f":"WINEP_Schemes!D494","v":"7SO300472"},{"$f":"WINEP_Schemes!E494","v":"Lingfield WTW Storm Tank Overflow"},{"$f":"WINEP_Schemes!F494","v":"£m"},{"$f":"WINEP_Schemes!G494","v":1},{"$f":"WINEP_Schemes!H494","v":0},{"$f":"WINEP_Schemes!J494","v":0},{"$f":"WINEP_Schemes!I494","v":0},{"$f":"WINEP_Schemes!K494","v":1},{"$f":"WINEP_Schemes!L494","v":0},{"$f":"WINEP_Schemes!M494","v":"WWN"},{"$f":"WINEP_Schemes!N494","v":0},0,0,0,0,0,0,0,0]
[null,null,{"$f":"WINEP_Schemes!C495","v":"SSD00605"},{"$f":"WINEP_Schemes!D495","v":"7SO300496"},{"$f":"WINEP_Schemes!E495","v":"Loxwood WTW Storm Tank Overflow"},{"$f":"WINEP_Schemes!F495","v":"£m"},{"$f":"WINEP_Schemes!G495","v":1},{"$f":"WINEP_Schemes!H495","v":0},{"$f":"WINEP_Schemes!J495","v":0},{"$f":"WINEP_Schemes!I495","v":0},{"$f":"WINEP_Schemes!K495","v":1},{"$f":"WINEP_Schemes!L495","v":0},{"$f":"WINEP_Schemes!M495","v":"WWN"},{"$f":"WINEP_Schemes!N495","v":0},0,0,0,0,0,0,0,0]
[null,null,{"$f":"WINEP_Schemes!C496","v":"SSD00606"},{"$f":"WINEP_Schemes!D496","v":"7SO300497"},{"$f":"WINEP_Schemes!E496","v":"Marshall Close Barnham CSO"},{"$f":"WINEP_Schemes!F496","v":"£m"},{"$f":"WINEP_Schemes!G496","v":1},{"$f":"WINEP_Schemes!H496","v":0},{"$f":"WINEP_Schemes!J496","v":0},{"$f":"WINEP_Schemes!I496","v":0},{"$f":"WINEP_Schemes!K496","v":1},{"$f":"WINEP_Schemes!L496","v":0},{"$f":"WINEP_Schemes!M496","v":"WWN"},{"$f":"WINEP_Schemes!N496","v":0},0,0,0,0,0,0,0,0]
[null,null,{"$f":"WINEP_Schemes!C497","v":"KSL00424"},{"$f":"WINEP_Schemes!D497","v":"7SO300480"},{"$f":"WINEP_Schemes!E497","v":"May Street Herne Bay WTW Storm tank overflow"},{"$f":"WINEP_Schemes!F497","v":"£m"},{"$f":"WINEP_Schemes!G497","v":1},{"$f":"WINEP_Schemes!H497","v":0},{"$f":"WINEP_Schemes!J497","v":0},{"$f":"WINEP_Schemes!I497","v":0},{"$f":"WINEP_Schemes!K497","v":1},{"$f":"WINEP_Schemes!L497","v":0},{"$f":"WINEP_Schemes!M497","v":"WWN"},{"$f":"WINEP_Schemes!N497","v":0},0,0,0,0,0,0,0,0]
[null,null,{"$f":"WINEP_Schemes!C498","v":"SSD00599"},{"$f":"WINEP_Schemes!D498","v":"7SO300486"},{"$f":"WINEP_Schemes!E498","v":"Mill Corner Northiam WTW Inlet Works"},{"$f":"WINEP_Schemes!F498","v":"£m"},{"$f":"WINEP_Schemes!G498","v":1},{"$f":"WINEP_Schemes!H498","v":0},{"$f":"WINEP_Schemes!J498","v":0},{"$f":"WINEP_Schemes!I498","v":0},{"$f":"WINEP_Schemes!K498","v":1},{"$f":"WINEP_Schemes!L498","v":0},{"$f":"WINEP_Schemes!M498","v":"WWN"},{"$f":"WINEP_Schemes!N498","v":0},0,0,0,0,0,0,0,0]
[null,null,{"$f":"WINEP_Schemes!C499","v":"SSD00592"},{"$f":"WINEP_Schemes!D499","v":"7SO300473"},{"$f":"WINEP_Schemes!E499","v":"Monks Gate WTW Storm Tank Overflow"},{"$f":"WINEP_Schemes!F499","v":"£m"},{"$f":"WINEP_Schemes!G499","v":1},{"$f":"WINEP_Schemes!H499","v":0},{"$f":"WINEP_Schemes!J499","v":0},{"$f":"WINEP_Schemes!I499","v":0},{"$f":"WINEP_Schemes!K499","v":1},{"$f":"WINEP_Schemes!L499","v":0},{"$f":"WINEP_Schemes!M499","v":"WWN"},{"$f":"WINEP_Schemes!N499","v":0},0,0,0,0,0,0,0,0]
[null,null,{"$f":"WINEP_Schemes!C500","v":"SSD00589"},{"$f":"WINEP_Schemes!D500","v":"7SO300466"},{"$f":"WINEP_Schemes!E500","v":"Neaves Lane Ringmer WTW Storm Tank Overflow"},{"$f":"WINEP_Schemes!F500","v":"£m"},{"$f":"WINEP_Schemes!G500","v":1},{"$f":"WINEP_Schemes!H500","v":0},{"$f":"WINEP_Schemes!J500","v":0},{"$f":"WINEP_Schemes!I500","v":0},{"$f":"WINEP_Schemes!K500","v":1},{"$f":"WINEP_Schemes!L500","v":0},{"$f":"WINEP_Schemes!M500","v":"WWN"},{"$f":"WINEP_Schemes!N500","v":0},0,0,0,0,0,0,0,0]
[null,null,{"$f":"WINEP_Schemes!C501","v":"KSL00431"},{"$f":"WINEP_Schemes!D501","v":"7SO300498"},{"$f":"WINEP_Schemes!E501","v":"Oxted WTW Storm Tank Overflow"},{"$f":"WINEP_Schemes!F501","v":"£m"},{"$f":"WINEP_Schemes!G501","v":1},{"$f":"WINEP_Schemes!H501","v":0},{"$f":"WINEP_Schemes!J501","v":0},{"$f":"WINEP_Schemes!I501","v":0},{"$f":"WINEP_Schemes!K501","v":1},{"$f":"WINEP_Schemes!L501","v":0},{"$f":"WINEP_Schemes!M501","v":"WWN"},{"$f":"WINEP_Schemes!N501","v":0},0,0,0,0,0,0,0,0]
[null,null,{"$f":"WINEP_Schemes!C502","v":"SSD00600"},{"$f":"WINEP_Schemes!D502","v":"7SO300487"},{"$f":"WINEP_Schemes!E502","v":"Petworth WTW Inlet Works"},{"$f":"WINEP_Schemes!F502","v":"£m"},{"$f":"WINEP_Schemes!G502","v":1},{"$f":"WINEP_Schemes!H502","v":0},{"$f":"WINEP_Schemes!J502","v":0},{"$f":"WINEP_Schemes!I502","v":0},{"$f":"WINEP_Schemes!K502","v":1},{"$f":"WINEP_Schemes!L502","v":0},{"$f":"WINEP_Schemes!M502","v":"WWN"},{"$f":"WINEP_Schemes!N502","v":0},0,0,0,0,0,0,0,0]
[null,null,{"$f":"WINEP_Schemes!C503","v":"KSL00427"},{"$f":"WINEP_Schemes!D503","v":"7SO300488"},{"$f":"WINEP_Schemes!E503","v":"Priory Mill Tonbridge WPS"},{"$f":"WINEP_Schemes!F503","v":"£m"},{"$f":"WINEP_Schemes!G503","v":1},{"$f":"WINEP_Schemes!H503","v":0},{"$f":"WINEP_Schemes!J503","v":0},{"$f":"WINEP_Schemes!I503","v":0},{"$f":"WINEP_Schemes!K503","v":1},{"$f":"WINEP_Schemes!L503","v":0},{"$f":"WINEP_Schemes!M503","v":"WWN"},{"$f":"WINEP_Schemes!N503","v":0},0,0,0,0,0,0,0,0]
[null,null,{"$f":"WINEP_Schemes!C504","v":"KSL00417"},{"$f":"WINEP_Schemes!D504","v":"7SO300467"},{"$f":"WINEP_Schemes!E504","v":"Redgate Mill Crowborough WTW Storm Tank Overflow"},{"$f":"WINEP_Schemes!F504","v":"£m"},{"$f":"WINEP_Schemes!G504","v":1},{"$f":"WINEP_Schemes!H504","v":0},{"$f":"WINEP_Schemes!J504","v":0},{"$f":"WINEP_Schemes!I504","v":0},{"$f":"WINEP_Schemes!K504","v":1},{"$f":"WINEP_Schemes!L504","v":0},{"$f":"WINEP_Schemes!M504","v":"WWN"},{"$f":"WINEP_Schemes!N504","v":0},0,0,0,0,0,0,0,0]
[null,null,{"$f":"WINEP_Schemes!C505","v":"SSD00593"},{"$f":"WINEP_Schemes!D505","v":"7SO300474"},{"$f":"WINEP_Schemes!E505","v":"Slinfold WTW Inlet Works"},{"$f":"WINEP_Schemes!F505","v":"£m"},{"$f":"WINEP_Schemes!G505","v":1},{"$f":"WINEP_Schemes!H505","v":0},{"$f":"WINEP_Schemes!J505","v":0},{"$f":"WINEP_Schemes!I505","v":0},{"$f":"WINEP_Schemes!K505","v":1},{"$f":"WINEP_Schemes!L505","v":0},{"$f":"WINEP_Schemes!M505","v":"WWN"},{"$f":"WINEP_Schemes!N505","v":0},0,0,0,0,0,0,0,0]
[null,null,{"$f":"WINEP_Schemes!C506","v":"SSD00601"},{"$f":"WINEP_Schemes!D506","v":"7SO300489"},{"$f":"WINEP_Schemes!E506","v":"Small Dole WTW Storm Tank Overflow"},{"$f":"WINEP_Schemes!F506","v":"£m"},{"$f":"WINEP_Schemes!G506","v":1},{"$f":"WINEP_Schemes!H506","v":0},{"$f":"WINEP_Schemes!J506","v":0},{"$f":"WINEP_Schemes!I506","v":0},{"$f":"WINEP_Schemes!K506","v":1},{"$f":"WINEP_Schemes!L506","v":0},{"$f":"WINEP_Schemes!M506","v":"WWN"},{"$f":"WINEP_Schemes!N506","v":0},0,0,0,0,0,0,0,0]
[null,null,{"$f":"WINEP_Schemes!C507","v":"KSL00421"},{"$f":"WINEP_Schemes!D507","v":"7SO300475"},{"$f":"WINEP_Schemes!E507","v":"Stubbs Lane Brede WTW Storm Tank Overflow"},{"$f":"WINEP_Schemes!F507","v":"£m"},{"$f":"WINEP_Schemes!G507","v":1},{"$f":"WINEP_Schemes!H507","v":0},{"$f":"WINEP_Schemes!J507","v":0},{"$f":"WINEP_Schemes!I507","v":0},{"$f":"WINEP_Schemes!K507","v":1},{"$f":"WINEP_Schemes!L507","v":0},{"$f":"WINEP_Schemes!M507","v":"WWN"},{"$f":"WINEP_Schemes!N507","v":0},0,0,0,0,0,0,0,0]
[null,null,{"$f":"WINEP_Schemes!C508","v":"SSD00607"},{"$f":"WINEP_Schemes!D508","v":"7SO300499"},{"$f":"WINEP_Schemes!E508","v":"Summer Lane Pagham WTW Storm Tank Overflow"},{"$f":"WINEP_Schemes!F508","v":"£m"},{"$f":"WINEP_Schemes!G508","v":1},{"$f":"WINEP_Schemes!H508","v":0},{"$f":"WINEP_Schemes!J508","v":0},{"$f":"WINEP_Schemes!I508","v":0},{"$f":"WINEP_Schemes!K508","v":1},{"$f":"WINEP_Schemes!L508","v":0},{"$f":"WINEP_Schemes!M508","v":"WWN"},{"$f":"WINEP_Schemes!N508","v":0},0,0,0,0,0,0,0,0]
[null,null,{"$f":"WINEP_Schemes!C509","v":"SSD00602"},{"$f":"WINEP_Schemes!D509","v":"7SO300490"},{"$f":"WINEP_Schemes!E509","v":"West Wellow WTW Storm Tank Overflow"},{"$f":"WINEP_Schemes!F509","v":"£m"},{"$f":"WINEP_Schemes!G509","v":1},{"$f":"WINEP_Schemes!H509","v":0},{"$f":"WINEP_Schemes!J509","v":0},{"$f":"WINEP_Schemes!I509","v":0},{"$f":"WINEP_Schemes!K509","v":1},{"$f":"WINEP_Schemes!L509","v":0},{"$f":"WINEP_Schemes!M509","v":"WWN"},{"$f":"WINEP_Schemes!N509","v":0},0,0,0,0,0,0,0,0]
[null,null,{"$f":"WINEP_Schemes!C510","v":"KSL00422"},{"$f":"WINEP_Schemes!D510","v":"7SO300476"},{"$f":"WINEP_Schemes!E510","v":"Westfield WTW Storm Tank Overflow"},{"$f":"WINEP_Schemes!F510","v":"£m"},{"$f":"WINEP_Schemes!G510","v":1},{"$f":"WINEP_Schemes!H510","v":0},{"$f":"WINEP_Schemes!J510","v":0},{"$f":"WINEP_Schemes!I510","v":0},{"$f":"WINEP_Schemes!K510","v":1},{"$f":"WINEP_Schemes!L510","v":0},{"$f":"WINEP_Schemes!M510","v":"WWN"},{"$f":"WINEP_Schemes!N510","v":0},0,0,0,0,0,0,0,0]
[null,null,{"$f":"WINEP_Schemes!C511","v":"SSD00594"},{"$f":"WINEP_Schemes!D511","v":"7SO300477"},{"$f":"WINEP_Schemes!E511","v":"Wickham WTW Storm Tank Overflow"},{"$f":"WINEP_Schemes!F511","v":"£m"},{"$f":"WINEP_Schemes!G511","v":1},{"$f":"WINEP_Schemes!H511","v":0},{"$f":"WINEP_Schemes!J511","v":0},{"$f":"WINEP_Schemes!I511","v":0},{"$f":"WINEP_Schemes!K511","v":1},{"$f":"WINEP_Schemes!L511","v":0},{"$f":"WINEP_Schemes!M511","v":"WWN"},{"$f":"WINEP_Schemes!N511","v":0},0,0,0,0,0,0,0,0]
[null,null,{"$f":"WINEP_Schemes!C512","v":"KSL00735"},{"$f":"WINEP_Schemes!D512","v":"7SO400169"},{"$f":"WINEP_Schemes!E512","v":"Burwash Common WTW"},{"$f":"WINEP_Schemes!F512","v":"£m"},{"$f":"WINEP_Schemes!G512","v":1},{"$f":"WINEP_Schemes!H512","v":0},{"$f":"WINEP_Schemes!J512","v":0},{"$f":"WINEP_Schemes!I512","v":0},{"$f":"WINEP_Schemes!K512","v":1},{"$f":"WINEP_Schemes!L512","v":0},{"$f":"WINEP_Schemes!M512","v":"WWN"},{"$f":"WINEP_Schemes!N512","v":0},0,0,0,0,0,0,0,0]
[null,null,{"$f":"WINEP_Schemes!C513","v":"KSL00736"},{"$f":"WINEP_Schemes!D513","v":"7SO400170"},{"$f":"WINEP_Schemes!E513","v":"Castle Terrace Hawkhurst CSO"},{"$f":"WINEP_Schemes!F513","v":"£m"},{"$f":"WINEP_Schemes!G513","v":1},{"$f":"WINEP_Schemes!H513","v":0},{"$f":"WINEP_Schemes!J513","v":0},{"$f":"WINEP_Schemes!I513","v":0},{"$f":"WINEP_Schemes!K513","v":1},{"$f":"WINEP_Schemes!L513","v":0},{"$f":"WINEP_Schemes!M513","v":"WWN"},{"$f":"WINEP_Schemes!N513","v":0},0,0,0,0,0,0,0,0]
[null,null,{"$f":"WINEP_Schemes!C514","v":"KSL00737"},{"$f":"WINEP_Schemes!D514","v":"7SO400171"},{"$f":"WINEP_Schemes!E514","v":"Coldharbour Lane Hildenborough WPS"},{"$f":"WINEP_Schemes!F514","v":"£m"},{"$f":"WINEP_Schemes!G514","v":1},{"$f":"WINEP_Schemes!H514","v":0},{"$f":"WINEP_Schemes!J514","v":0},{"$f":"WINEP_Schemes!I514","v":0},{"$f":"WINEP_Schemes!K514","v":1},{"$f":"WINEP_Schemes!L514","v":0},{"$f":"WINEP_Schemes!M514","v":"WWN"},{"$f":"WINEP_Schemes!N514","v":0},0,0,0,0,0,0,0,0]
[null,null,{"$f":"WINEP_Schemes!C515","v":"KSL00738"},{"$f":"WINEP_Schemes!D515","v":"7SO400172"},{"$f":"WINEP_Schemes!E515","v":"Lingfield WTW"},{"$f":"WINEP_Schemes!F515","v":"£m"},{"$f":"WINEP_Schemes!G515","v":1},{"$f":"WINEP_Schemes!H515","v":0},{"$f":"WINEP_Schemes!J515","v":0},{"$f":"WINEP_Schemes!I515","v":0},{"$f":"WINEP_Schemes!K515","v":1},{"$f":"WINEP_Schemes!L515","v":0},{"$f":"WINEP_Schemes!M515","v":"WWN"},{"$f":"WINEP_Schemes!N515","v":0},0,0,0,0,0,0,0,0]
[null,null,{"$f":"WINEP_Schemes!C516","v":"KSL00739"},{"$f":"WINEP_Schemes!D516","v":"7SO400173"},{"$f":"WINEP_Schemes!E516","v":"Cross Lane East Gravesend - TraC"},{"$f":"WINEP_Schemes!F516","v":"£m"},{"$f":"WINEP_Schemes!G516","v":1},{"$f":"WINEP_Schemes!H516","v":0},{"$f":"WINEP_Schemes!J516","v":0},{"$f":"WINEP_Schemes!I516","v":0},{"$f":"WINEP_Schemes!K516","v":1},{"$f":"WINEP_Schemes!L516","v":0},{"$f":"WINEP_Schemes!M516","v":"WWN"},{"$f":"WINEP_Schemes!N516","v":0},0,0,0,0,0,0,0,0]
[null,null,{"$f":"WINEP_Schemes!C517","v":"KSL00740"},{"$f":"WINEP_Schemes!D517","v":"7SO400174"},{"$f":"WINEP_Schemes!E517","v":"Station Road Robertsbridge"},{"$f":"WINEP_Schemes!F517","v":"£m"},{"$f":"WINEP_Schemes!G517","v":1},{"$f":"WINEP_Schemes!H517","v":0},{"$f":"WINEP_Schemes!J517","v":0},{"$f":"WINEP_Schemes!I517","v":0},{"$f":"WINEP_Schemes!K517","v":1},{"$f":"WINEP_Schemes!L517","v":0},{"$f":"WINEP_Schemes!M517","v":"WWN"},{"$f":"WINEP_Schemes!N517","v":0},0,0,0,0,0,0,0,0]
[null,null,{"$f":"WINEP_Schemes!C518","v":"KSL00741"},{"$f":"WINEP_Schemes!D518","v":"7SO400175"},{"$f":"WINEP_Schemes!E518","v":"St Margaret’s Terrace Rye CEO"},{"$f":"WINEP_Schemes!F518","v":"£m"},{"$f":"WINEP_Schemes!G518","v":1},{"$f":"WINEP_Schemes!H518","v":0},{"$f":"WINEP_Schemes!J518","v":0},{"$f":"WINEP_Schemes!I518","v":0},{"$f":"WINEP_Schemes!K518","v":1},{"$f":"WINEP_Schemes!L518","v":0},{"$f":"WINEP_Schemes!M518","v":"WWN"},{"$f":"WINEP_Schemes!N518","v":0},0,0,0,0,0,0,0,0]
[null,null,{"$f":"WINEP_Schemes!C519","v":"KSL00742"},{"$f":"WINEP_Schemes!D519","v":"7SO400176"},{"$f":"WINEP_Schemes!E519","v":"Penshurst WTW"},{"$f":"WINEP_Schemes!F519","v":"£m"},{"$f":"WINEP_Schemes!G519","v":1},{"$f":"WINEP_Schemes!H519","v":0},{"$f":"WINEP_Schemes!J519","v":0},{"$f":"WINEP_Schemes!I519","v":0},{"$f":"WINEP_Schemes!K519","v":1},{"$f":"WINEP_Schemes!L519","v":0},{"$f":"WINEP_Schemes!M519","v":"WWN"},{"$f":"WINEP_Schemes!N519","v":0},0,0,0,0,0,0,0,0]
[null,null,{"$f":"WINEP_Schemes!C520","v":"KSL00743"},{"$f":"WINEP_Schemes!D520","v":"7SO400177"},{"$f":"WINEP_Schemes!E520","v":"FRANT WTW"},{"$f":"WINEP_Schemes!F520","v":"£m"},{"$f":"WINEP_Schemes!G520","v":1},{"$f":"WINEP_Schemes!H520","v":0},{"$f":"WINEP_Schemes!J520","v":0},{"$f":"WINEP_Schemes!I520","v":0},{"$f":"WINEP_Schemes!K520","v":1},{"$f":"WINEP_Schemes!L520","v":0},{"$f":"WINEP_Schemes!M520","v":"WWN"},{"$f":"WINEP_Schemes!N520","v":0},0,0,0,0,0,0,0,0]
[null,null,{"$f":"WINEP_Schemes!C521","v":"KSL00744"},{"$f":"WINEP_Schemes!D521","v":"7SO400178"},{"$f":"WINEP_Schemes!E521","v":"TUNBRIDGE WELLS SOUTH WTW"},{"$f":"WINEP_Schemes!F521","v":"£m"},{"$f":"WINEP_Schemes!G521","v":1},{"$f":"WINEP_Schemes!H521","v":0},{"$f":"WINEP_Schemes!J521","v":0},{"$f":"WINEP_Schemes!I521","v":0},{"$f":"WINEP_Schemes!K521","v":1},{"$f":"WINEP_Schemes!L521","v":0},{"$f":"WINEP_Schemes!M521","v":"WWN"},{"$f":"WINEP_Schemes!N521","v":0},0,0,0,0,0,0,0,0]
[null,null,{"$f":"WINEP_Schemes!C522","v":"SSD00973"},{"$f":"WINEP_Schemes!D522","v":"7SO400179"},{"$f":"WINEP_Schemes!E522","v":"Barnetts Bridge Graffam WPS"},{"$f":"WINEP_Schemes!F522","v":"£m"},{"$f":"WINEP_Schemes!G522","v":1},{"$f":"WINEP_Schemes!H522","v":0},{"$f":"WINEP_Schemes!J522","v":0},{"$f":"WINEP_Schemes!I522","v":0},{"$f":"WINEP_Schemes!K522","v":1},{"$f":"WINEP_Schemes!L522","v":0},{"$f":"WINEP_Schemes!M522","v":"WWN"},{"$f":"WINEP_Schemes!N522","v":0},0,0,0,0,0,0,0,0]
[null,null,{"$f":"WINEP_Schemes!C523","v":"SSD00974"},{"$f":"WINEP_Schemes!D523","v":"7SO400180"},{"$f":"WINEP_Schemes!E523","v":"Brockenhurst WTW "},{"$f":"WINEP_Schemes!F523","v":"£m"},{"$f":"WINEP_Schemes!G523","v":1},{"$f":"WINEP_Schemes!H523","v":0},{"$f":"WINEP_Schemes!J523","v":0},{"$f":"WINEP_Schemes!I523","v":0},{"$f":"WINEP_Schemes!K523","v":1},{"$f":"WINEP_Schemes!L523","v":0},{"$f":"WINEP_Schemes!M523","v":"WWN"},{"$f":"WINEP_Schemes!N523","v":0},0,0,0,0,0,0,0,0]
[null,null,{"$f":"WINEP_Schemes!C524","v":"SSD00975"},{"$f":"WINEP_Schemes!D524","v":"7SO400181"},{"$f":"WINEP_Schemes!E524","v":"Goddards Green WTW"},{"$f":"WINEP_Schemes!F524","v":"£m"},{"$f":"WINEP_Schemes!G524","v":1},{"$f":"WINEP_Schemes!H524","v":0},{"$f":"WINEP_Schemes!J524","v":0},{"$f":"WINEP_Schemes!I524","v":0},{"$f":"WINEP_Schemes!K524","v":1},{"$f":"WINEP_Schemes!L524","v":0},{"$f":"WINEP_Schemes!M524","v":"WWN"},{"$f":"WINEP_Schemes!N524","v":0},0,0,0,0,0,0,0,0]
[null,null,{"$f":"WINEP_Schemes!C525","v":"SSD00976"},{"$f":"WINEP_Schemes!D525","v":"7SO400182"},{"$f":"WINEP_Schemes!E525","v":"Grayswood WTW"},{"$f":"WINEP_Schemes!F525","v":"£m"},{"$f":"WINEP_Schemes!G525","v":1},{"$f":"WINEP_Schemes!H525","v":0},{"$f":"WINEP_Schemes!J525","v":0},{"$f":"WINEP_Schemes!I525","v":0},{"$f":"WINEP_Schemes!K525","v":1},{"$f":"WINEP_Schemes!L525","v":0},{"$f":"WINEP_Schemes!M525","v":"WWN"},{"$f":"WINEP_Schemes!N525","v":0},0,0,0,0,0,0,0,0]
[null,null,{"$f":"WINEP_Schemes!C526","v":"SSD00977"},{"$f":"WINEP_Schemes!D526","v":"7SO400183"},{"$f":"WINEP_Schemes!E526","v":"Heathen Lane Durley WPS"},{"$f":"WINEP_Schemes!F526","v":"£m"},{"$f":"WINEP_Schemes!G526","v":1},{"$f":"WINEP_Schemes!H526","v":0},{"$f":"WINEP_Schemes!J526","v":0},{"$f":"WINEP_Schemes!I526","v":0},{"$f":"WINEP_Schemes!K526","v":1},{"$f":"WINEP_Schemes!L526","v":0},{"$f":"WINEP_Schemes!M526","v":"WWN"},{"$f":"WINEP_Schemes!N526","v":0},0,0,0,0,0,0,0,0]
[null,null,{"$f":"WINEP_Schemes!C527","v":"SSD00978"},{"$f":"WINEP_Schemes!D527","v":"7SO400184"},{"$f":"WINEP_Schemes!E527","v":"Rookley WPS"},{"$f":"WINEP_Schemes!F527","v":"£m"},{"$f":"WINEP_Schemes!G527","v":1},{"$f":"WINEP_Schemes!H527","v":0},{"$f":"WINEP_Schemes!J527","v":0},{"$f":"WINEP_Schemes!I527","v":0},{"$f":"WINEP_Schemes!K527","v":1},{"$f":"WINEP_Schemes!L527","v":0},{"$f":"WINEP_Schemes!M527","v":"WWN"},{"$f":"WINEP_Schemes!N527","v":0},0,0,0,0,0,0,0,0]
[null,null,{"$f":"WINEP_Schemes!C528","v":"SSD00979"},{"$f":"WINEP_Schemes!D528","v":"7SO400185"},{"$f":"WINEP_Schemes!E528","v":"Pulborough WTW"},{"$f":"WINEP_Schemes!F528","v":"£m"},{"$f":"WINEP_Schemes!G528","v":1},{"$f":"WINEP_Schemes!H528","v":0},{"$f":"WINEP_Schemes!J528","v":0},{"$f":"WINEP_Schemes!I528","v":0},{"$f":"WINEP_Schemes!K528","v":1},{"$f":"WINEP_Schemes!L528","v":0},{"$f":"WINEP_Schemes!M528","v":"WWN"},{"$f":"WINEP_Schemes!N528","v":0},{"$f":" I529 * J529 * G529","v":0},{"$f":" N529 * O529","v":0},{"$f":" IF(L529 = 0, P529, (N529 - 1) * O529)","v":0},0,0,0,0,0]
[null,null,{"$f":"WINEP_Schemes!C529","v":"SSD00980"},{"$f":"WINEP_Schemes!D529","v":"7SO400186"},{"$f":"WINEP_Schemes!E529","v":"Stockbridge WTW "},{"$f":"WINEP_Schemes!F529","v":"£m"},{"$f":"WINEP_Schemes!G529","v":1},{"$f":"WINEP_Schemes!H529","v":0},{"$f":"WINEP_Schemes!J529","v":0},{"$f":"WINEP_Schemes!I529","v":0},{"$f":"WINEP_Schemes!K529","v":1},{"$f":"WINEP_Schemes!L529","v":0},{"$f":"WINEP_Schemes!M529","v":"WWN"},{"$f":"WINEP_Schemes!N529","v":0},0,0,0,0,0,0,0,0]
[null,null,{"$f":"WINEP_Schemes!C530","v":"SSD00981"},{"$f":"WINEP_Schemes!D530","v":"7SO400187"},{"$f":"WINEP_Schemes!E530","v":"Ham Lane Lewes New WPS"},{"$f":"WINEP_Schemes!F530","v":"£m"},{"$f":"WINEP_Schemes!G530","v":1},{"$f":"WINEP_Schemes!H530","v":0},{"$f":"WINEP_Schemes!J530","v":0},{"$f":"WINEP_Schemes!I530","v":0},{"$f":"WINEP_Schemes!K530","v":1},{"$f":"WINEP_Schemes!L530","v":0},{"$f":"WINEP_Schemes!M530","v":"WWN"},{"$f":"WINEP_Schemes!N530","v":0},0,0,0,0,0,0,0,0]
[null,null,{"$f":"WINEP_Schemes!C531","v":"SSD00982"},{"$f":"WINEP_Schemes!D531","v":"7SO400188"},{"$f":"WINEP_Schemes!E531","v":"Marine Drive Brighton - TraC"},{"$f":"WINEP_Schemes!F531","v":"£m"},{"$f":"WINEP_Schemes!G531","v":1},{"$f":"WINEP_Schemes!H531","v":0},{"$f":"WINEP_Schemes!J531","v":0},{"$f":"WINEP_Schemes!I531","v":0},{"$f":"WINEP_Schemes!K531","v":1},{"$f":"WINEP_Schemes!L531","v":0},{"$f":"WINEP_Schemes!M531","v":"WWN"},{"$f":"WINEP_Schemes!N531","v":0},0,0,0,0,0,0,0,0]
[null,null,{"$f":"WINEP_Schemes!C532","v":"SSD00983"},{"$f":"WINEP_Schemes!D532","v":"7SO400189"},{"$f":"WINEP_Schemes!E532","v":"The Spots Alfriston PS"},{"$f":"WINEP_Schemes!F532","v":"£m"},{"$f":"WINEP_Schemes!G532","v":1},{"$f":"WINEP_Schemes!H532","v":0},{"$f":"WINEP_Schemes!J532","v":0},{"$f":"WINEP_Schemes!I532","v":0},{"$f":"WINEP_Schemes!K532","v":1},{"$f":"WINEP_Schemes!L532","v":0},{"$f":"WINEP_Schemes!M532","v":"WWN"},{"$f":"WINEP_Schemes!N532","v":0},0,0,0,0,0,0,0,0]
[null,null,{"$f":"WINEP_Schemes!C533","v":"SSD00984"},{"$f":"WINEP_Schemes!D533","v":"7SO400190"},{"$f":"WINEP_Schemes!E533","v":"DANEHILL WTW"},{"$f":"WINEP_Schemes!F533","v":"£m"},{"$f":"WINEP_Schemes!G533","v":1},{"$f":"WINEP_Schemes!H533","v":0},{"$f":"WINEP_Schemes!J533","v":0},{"$f":"WINEP_Schemes!I533","v":0},{"$f":"WINEP_Schemes!K533","v":1},{"$f":"WINEP_Schemes!L533","v":0},{"$f":"WINEP_Schemes!M533","v":"WWN"},{"$f":"WINEP_Schemes!N533","v":0},0,0,0,0,0,0,0,0]
[null,null,{"$f":"WINEP_Schemes!C534","v":"SSD00985"},{"$f":"WINEP_Schemes!D534","v":"7SO400191"},{"$f":"WINEP_Schemes!E534","v":"LAVANT WTW"},{"$f":"WINEP_Schemes!F534","v":"£m"},{"$f":"WINEP_Schemes!G534","v":1},{"$f":"WINEP_Schemes!H534","v":0},{"$f":"WINEP_Schemes!J534","v":0},{"$f":"WINEP_Schemes!I534","v":0},{"$f":"WINEP_Schemes!K534","v":1},{"$f":"WINEP_Schemes!L534","v":0},{"$f":"WINEP_Schemes!M534","v":"WWN"},{"$f":"WINEP_Schemes!N534","v":0},0,0,0,0,0,0,0,0]
[null,null,{"$f":"WINEP_Schemes!C535","v":"SSD00986"},{"$f":"WINEP_Schemes!D535","v":"7SO400192"},{"$f":"WINEP_Schemes!E535","v":"Newhaven Main STW"},{"$f":"WINEP_Schemes!F535","v":"£m"},{"$f":"WINEP_Schemes!G535","v":1},{"$f":"WINEP_Schemes!H535","v":0},{"$f":"WINEP_Schemes!J535","v":0},{"$f":"WINEP_Schemes!I535","v":0},{"$f":"WINEP_Schemes!K535","v":1},{"$f":"WINEP_Schemes!L535","v":0},{"$f":"WINEP_Schemes!M535","v":"WWN"},{"$f":"WINEP_Schemes!N535","v":0},0,0,0,0,0,0,0,0]
[null,null,{"$f":"WINEP_Schemes!C536","v":"THM00790"},{"$f":"WINEP_Schemes!D536","v":"7SO400193"},{"$f":"WINEP_Schemes!E536","v":"REDGATE MILL CROWBOROUGH WTW"},{"$f":"WINEP_Schemes!F536","v":"£m"},{"$f":"WINEP_Schemes!G536","v":1},{"$f":"WINEP_Schemes!H536","v":0},{"$f":"WINEP_Schemes!J536","v":0},{"$f":"WINEP_Schemes!I536","v":0},{"$f":"WINEP_Schemes!K536","v":1},{"$f":"WINEP_Schemes!L536","v":0},{"$f":"WINEP_Schemes!M536","v":"WWN"},{"$f":"WINEP_Schemes!N536","v":0},0,0,0,0,0,0,0,0]
[null,null,{"$f":"WINEP_Schemes!C537","v":"SSD00030"},{"$f":"WINEP_Schemes!D537","v":"7SO200195"},{"$f":"WINEP_Schemes!E537","v":"Southern Water PR19 bathing water requirements"},{"$f":"WINEP_Schemes!F537","v":0},{"$f":"WINEP_Schemes!G537","v":0},{"$f":"WINEP_Schemes!H537","v":0},{"$f":"WINEP_Schemes!J537","v":0},{"$f":"WINEP_Schemes!I537","v":0},{"$f":"WINEP_Schemes!K537","v":0},{"$f":"WINEP_Schemes!L537","v":0},{"$f":"WINEP_Schemes!M537","v":0},{"$f":"WINEP_Schemes!N537","v":0},0,0,0,{"$f":" IF($M538 = R$9, $Q538, 0)","v":0},0,0,0,0]
[null,null,{"$f":"WINEP_Schemes!C538","v":"SSD00031"},{"$f":"WINEP_Schemes!D538","v":"7SO200196"},{"$f":"WINEP_Schemes!E538","v":"Southern Water PR19 bathing water requirements"},{"$f":"WINEP_Schemes!F538","v":0},{"$f":"WINEP_Schemes!G538","v":0},{"$f":"WINEP_Schemes!H538","v":0},{"$f":"WINEP_Schemes!J538","v":0},{"$f":"WINEP_Schemes!I538","v":0},{"$f":"WINEP_Schemes!K538","v":0},{"$f":"WINEP_Schemes!L538","v":0},{"$f":"WINEP_Schemes!M538","v":0},{"$f":"WINEP_Schemes!N538","v":0},0,0,0,0,0,0,0,0]
[null,null,{"$f":"WINEP_Schemes!C539","v":"SSD00032"},{"$f":"WINEP_Schemes!D539","v":"7SO200197"},{"$f":"WINEP_Schemes!E539","v":"Southern Water PR19 bathing water requirements"},{"$f":"WINEP_Schemes!F539","v":0},{"$f":"WINEP_Schemes!G539","v":0},{"$f":"WINEP_Schemes!H539","v":0},{"$f":"WINEP_Schemes!J539","v":0},{"$f":"WINEP_Schemes!I539","v":0},{"$f":"WINEP_Schemes!K539","v":0},{"$f":"WINEP_Schemes!L539","v":0},{"$f":"WINEP_Schemes!M539","v":0},{"$f":"WINEP_Schemes!N539","v":0},0,0,0,0,0,0,0,0]
[null,null,{"$f":"WINEP_Schemes!C540","v":"SSD00033"},{"$f":"WINEP_Schemes!D540","v":"7SO200198"},{"$f":"WINEP_Schemes!E540","v":"Southern Water PR19 bathing water requirements"},{"$f":"WINEP_Schemes!F540","v":0},{"$f":"WINEP_Schemes!G540","v":0},{"$f":"WINEP_Schemes!H540","v":0},{"$f":"WINEP_Schemes!J540","v":0},{"$f":"WINEP_Schemes!I540","v":0},{"$f":"WINEP_Schemes!K540","v":0},{"$f":"WINEP_Schemes!L540","v":0},{"$f":"WINEP_Schemes!M540","v":0},{"$f":"WINEP_Schemes!N540","v":0},0,0,0,0,0,0,0,0]
[null,null,{"$f":"WINEP_Schemes!C541","v":"SSD00036"},{"$f":"WINEP_Schemes!D541","v":"7SO200201"},{"$f":"WINEP_Schemes!E541","v":"Southern Water PR19 bathing water requirements"},{"$f":"WINEP_Schemes!F541","v":0},{"$f":"WINEP_Schemes!G541","v":0},{"$f":"WINEP_Schemes!H541","v":0},{"$f":"WINEP_Schemes!J541","v":0},{"$f":"WINEP_Schemes!I541","v":0},{"$f":"WINEP_Schemes!K541","v":0},{"$f":"WINEP_Schemes!L541","v":0},{"$f":"WINEP_Schemes!M541","v":0},{"$f":"WINEP_Schemes!N541","v":0},0,0,0,0,0,0,0,0]
[null,null,{"$f":"WINEP_Schemes!C542","v":"SSD00039"},{"$f":"WINEP_Schemes!D542","v":"7SO200204"},{"$f":"WINEP_Schemes!E542","v":"Southern Water PR19 shellfish water requirements"},{"$f":"WINEP_Schemes!F542","v":0},{"$f":"WINEP_Schemes!G542","v":0},{"$f":"WINEP_Schemes!H542","v":0},{"$f":"WINEP_Schemes!J542","v":0},{"$f":"WINEP_Schemes!I542","v":0},{"$f":"WINEP_Schemes!K542","v":0},{"$f":"WINEP_Schemes!L542","v":0},{"$f":"WINEP_Schemes!M542","v":0},{"$f":"WINEP_Schemes!N542","v":0},0,0,0,0,0,0,0,0]
[null,null,{"$f":"WINEP_Schemes!C543","v":"EDM01143"},{"$f":"WINEP_Schemes!D543","v":"7SO200199"},{"$f":"WINEP_Schemes!E543","v":"Southern Water PR19 bathing water requirements"},{"$f":"WINEP_Schemes!F543","v":0},{"$f":"WINEP_Schemes!G543","v":0},{"$f":"WINEP_Schemes!H543","v":0},{"$f":"WINEP_Schemes!J543","v":0},{"$f":"WINEP_Schemes!I543","v":0},{"$f":"WINEP_Schemes!K543","v":0},{"$f":"WINEP_Schemes!L543","v":0},{"$f":"WINEP_Schemes!M543","v":0},{"$f":"WINEP_Schemes!N543","v":0},0,0,0,0,0,0,0,0]
[null,null,{"$f":"WINEP_Schemes!C544","v":"EDM01144"},{"$f":"WINEP_Schemes!D544","v":"7SO200205"},{"$f":"WINEP_Schemes!E544","v":"Southern Water PR19 shellfish water requirements"},{"$f":"WINEP_Schemes!F544","v":0},{"$f":"WINEP_Schemes!G544","v":0},{"$f":"WINEP_Schemes!H544","v":0},{"$f":"WINEP_Schemes!J544","v":0},{"$f":"WINEP_Schemes!I544","v":0},{"$f":"WINEP_Schemes!K544","v":0},{"$f":"WINEP_Schemes!L544","v":0},{"$f":"WINEP_Schemes!M544","v":0},{"$f":"WINEP_Schemes!N544","v":0},0,0,0,0,0,0,0,0]
[null,null,{"$f":"WINEP_Schemes!C545","v":"SSD00573"},{"$f":"WINEP_Schemes!D545","v":"7SO300451"},{"$f":"WINEP_Schemes!E545","v":"Southern Water PR19 flow requirements"},{"$f":"WINEP_Schemes!F545","v":0},{"$f":"WINEP_Schemes!G545","v":0},{"$f":"WINEP_Schemes!H545","v":0},{"$f":"WINEP_Schemes!J545","v":0},{"$f":"WINEP_Schemes!I545","v":0},{"$f":"WINEP_Schemes!K545","v":0},{"$f":"WINEP_Schemes!L545","v":0},{"$f":"WINEP_Schemes!M545","v":0},{"$f":"WINEP_Schemes!N545","v":0},0,0,0,0,0,0,0,0]
[null,null,{"$f":"WINEP_Schemes!C546","v":"SSD00027"},{"$f":"WINEP_Schemes!D546","v":"7SO200192"},{"$f":"WINEP_Schemes!E546","v":"Southern Water PR19 bathing water requirements"},{"$f":"WINEP_Schemes!F546","v":0},{"$f":"WINEP_Schemes!G546","v":0},{"$f":"WINEP_Schemes!H546","v":0},{"$f":"WINEP_Schemes!J546","v":0},{"$f":"WINEP_Schemes!I546","v":0},{"$f":"WINEP_Schemes!K546","v":0},{"$f":"WINEP_Schemes!L546","v":0},{"$f":"WINEP_Schemes!M546","v":0},{"$f":"WINEP_Schemes!N546","v":0},0,0,0,0,0,0,0,0]
[null,null,{"$f":"WINEP_Schemes!C547","v":"SSD00028"},{"$f":"WINEP_Schemes!D547","v":"7SO200193"},{"$f":"WINEP_Schemes!E547","v":"Southern Water PR19 bathing water requirements"},{"$f":"WINEP_Schemes!F547","v":0},{"$f":"WINEP_Schemes!G547","v":0},{"$f":"WINEP_Schemes!H547","v":0},{"$f":"WINEP_Schemes!J547","v":0},{"$f":"WINEP_Schemes!I547","v":0},{"$f":"WINEP_Schemes!K547","v":0},{"$f":"WINEP_Schemes!L547","v":0},{"$f":"WINEP_Schemes!M547","v":0},{"$f":"WINEP_Schemes!N547","v":0},0,0,0,0,0,0,0,0]
[null,null,{"$f":"WINEP_Schemes!C548","v":"SSD00029"},{"$f":"WINEP_Schemes!D548","v":"7SO200194"},{"$f":"WINEP_Schemes!E548","v":"Southern Water PR19 bathing water requirements"},{"$f":"WINEP_Schemes!F548","v":0},{"$f":"WINEP_Schemes!G548","v":0},{"$f":"WINEP_Schemes!H548","v":0},{"$f":"WINEP_Schemes!J548","v":0},{"$f":"WINEP_Schemes!I548","v":0},{"$f":"WINEP_Schemes!K548","v":0},{"$f":"WINEP_Schemes!L548","v":0},{"$f":"WINEP_Schemes!M548","v":0},{"$f":"WINEP_Schemes!N548","v":0},0,0,0,0,0,0,0,0]
[null,null,{"$f":"WINEP_Schemes!C549","v":"SSD00035"},{"$f":"WINEP_Schemes!D549","v":"7SO200200"},{"$f":"WINEP_Schemes!E549","v":"Southern Water PR19 bathing water requirements"},{"$f":"WINEP_Schemes!F549","v":0},{"$f":"WINEP_Schemes!G549","v":0},{"$f":"WINEP_Schemes!H549","v":0},{"$f":"WINEP_Schemes!J549","v":0},{"$f":"WINEP_Schemes!I549","v":0},{"$f":"WINEP_Schemes!K549","v":0},{"$f":"WINEP_Schemes!L549","v":0},{"$f":"WINEP_Schemes!M549","v":0},{"$f":"WINEP_Schemes!N549","v":0},0,0,0,0,0,0,0,0]
[null,null,{"$f":"WINEP_Schemes!C550","v":0},{"$f":"WINEP_Schemes!D550","v":0},{"$f":"WINEP_Schemes!E550","v":0},{"$f":"WINEP_Schemes!F550","v":0},{"$f":"WINEP_Schemes!G550","v":0},{"$f":"WINEP_Schemes!H550","v":0},{"$f":"WINEP_Schemes!J550","v":0},{"$f":"WINEP_Schemes!I550","v":0},{"$f":"WINEP_Schemes!K550","v":0},{"$f":"WINEP_Schemes!L550","v":0},{"$f":"WINEP_Schemes!M550","v":0},{"$f":"WINEP_Schemes!N550","v":0},0,0,0,0,0,0,0,0]
[null,null,{"$f":"WINEP_Schemes!C551","v":0},{"$f":"WINEP_Schemes!D551","v":0},{"$f":"WINEP_Schemes!E551","v":0},{"$f":"WINEP_Schemes!F551","v":0},{"$f":"WINEP_Schemes!G551","v":0},{"$f":"WINEP_Schemes!H551","v":0},{"$f":"WINEP_Schemes!J551","v":0},{"$f":"WINEP_Schemes!I551","v":0},{"$f":"WINEP_Schemes!K551","v":0},{"$f":"WINEP_Schemes!L551","v":0},{"$f":"WINEP_Schemes!M551","v":0},{"$f":"WINEP_Schemes!N551","v":0},0,0,0,0,0,0,0,0]
[null,null,{"$f":"WINEP_Schemes!C552","v":0},{"$f":"WINEP_Schemes!D552","v":0},{"$f":"WINEP_Schemes!E552","v":0},{"$f":"WINEP_Schemes!F552","v":0},{"$f":"WINEP_Schemes!G552","v":0},{"$f":"WINEP_Schemes!H552","v":0},{"$f":"WINEP_Schemes!J552","v":0},{"$f":"WINEP_Schemes!I552","v":0},{"$f":"WINEP_Schemes!K552","v":0},{"$f":"WINEP_Schemes!L552","v":0},{"$f":"WINEP_Schemes!M552","v":0},{"$f":"WINEP_Schemes!N552","v":0},0,0,0,0,0,0,0,0]
[null,null,{"$f":"WINEP_Schemes!C553","v":0},{"$f":"WINEP_Schemes!D553","v":0},{"$f":"WINEP_Schemes!E553","v":0},{"$f":"WINEP_Schemes!F553","v":0},{"$f":"WINEP_Schemes!G553","v":0},{"$f":"WINEP_Schemes!H553","v":0},{"$f":"WINEP_Schemes!J553","v":0},{"$f":"WINEP_Schemes!I553","v":0},{"$f":"WINEP_Schemes!K553","v":0},{"$f":"WINEP_Schemes!L553","v":0},{"$f":"WINEP_Schemes!M553","v":0},{"$f":"WINEP_Schemes!N553","v":0},0,0,0,0,0,0,0,0]
[null,null,{"$f":"WINEP_Schemes!C554","v":0},{"$f":"WINEP_Schemes!D554","v":0},{"$f":"WINEP_Schemes!E554","v":0},{"$f":"WINEP_Schemes!F554","v":0},{"$f":"WINEP_Schemes!G554","v":0},{"$f":"WINEP_Schemes!H554","v":0},{"$f":"WINEP_Schemes!J554","v":0},{"$f":"WINEP_Schemes!I554","v":0},{"$f":"WINEP_Schemes!K554","v":0},{"$f":"WINEP_Schemes!L554","v":0},{"$f":"WINEP_Schemes!M554","v":0},{"$f":"WINEP_Schemes!N554","v":0},0,0,0,0,0,0,0,0]
[null,null,{"$f":"WINEP_Schemes!C555","v":0},{"$f":"WINEP_Schemes!D555","v":0},{"$f":"WINEP_Schemes!E555","v":0},{"$f":"WINEP_Schemes!F555","v":0},{"$f":"WINEP_Schemes!G555","v":0},{"$f":"WINEP_Schemes!H555","v":0},{"$f":"WINEP_Schemes!J555","v":0},{"$f":"WINEP_Schemes!I555","v":0},{"$f":"WINEP_Schemes!K555","v":0},{"$f":"WINEP_Schemes!L555","v":0},{"$f":"WINEP_Schemes!M555","v":0},{"$f":"WINEP_Schemes!N555","v":0},0,0,0,0,0,0,0,0]
[]
[]
["EXPAND OR REDUCE THE BLOCK ABOVE TO INCLUDE ALL SCHEMES ON THE INPUT SHEET"]
[]
[null,null,null,null,null,null,null,null,null,null,null,null,null,null,null,null,{"$f":"SUM(Q11:Q556)","v":-76.87673440537128},0,0,-76.87673440537128,0,0]
[null,"Check the total WINEP reconciliation against the sum of the price control totals"]
[]
[null,null,null,null,"Total WINEP Reconciliation",{"$f":" Q561","v":-76.87673440537128},"£m"]
[null,null,null,null,"Sum of the WINEP Reconciliation by price control",{"$f":" SUM(R561:V561)","v":-76.87673440537128},"£m"]
[]
[null,null,null,null,"Price Control Reconciliation vs Total Reconciliation - check",{"$f":" IF( F565 - F564 > Chk_Tol, 1, 0)","v":0},"check"]
[]
[null,"Total WINEP reconciliation for each price control"]
[]
[null,null,null,null,"Total Final Reconciliation, water resources",{"$f":" R561","v":0},"£m"]
[null,null,null,null,"Total Final Reconciliation, water network",{"$f":" S561","v":0},"£m"]
[null,null,null,null,"Total Final Reconciliation, wastewater network",{"$f":" T561","v":-76.87673440537128},"£m"]
[null,null,null,null,"Total Final Reconciliation, bioresources",{"$f":" U561","v":0},"£m"]
[null,null,null,null,"Total Final Reconciliation, dummy",{"$f":" V561","v":0},"£m"]
[]
[]
["End of sheet"]

{"sheet":"Outputs >>","index":12,"n_rows":0,"n_cols":0,"rows_kept":0,"cut":false,"hidden":false,"merged":[]}

{"sheet":"Annual_Outputs","index":13,"n_rows":54,"n_cols":16,"rows_kept":54,"cut":false,"hidden":false,"merged":[]}
[{"$f":" RIGHT(CELL(\"filename\", $A$1), LEN(CELL(\"filename\", $A$1)) - SEARCH(\"]\", CELL(\"filename\", $A$1)))","v":{"$error":"#VALUE!"}}]
[null,null,null,null,{"$f":"Time!E25","v":"Model period ending"},{"$f":"Check!F2","v":0},"Checks",null,null,{"$f":" Time!J$25","v":"2019-03-31"},{"$f":" Time!K$25","v":"2020-03-31"},{"$f":" Time!L$25","v":"2021-03-31"},{"$f":" Time!M$25","v":"2022-03-31"},{"$f":" Time!N$25","v":"2023-03-31"},{"$f":" Time!O$25","v":"2024-03-31"},{"$f":" Time!P$25","v":"2025-03-31"}]
[null,null,null,null,{"$f":"Time!E107","v":"Timeline label"},{"$f":"Check!F3","v":3},"Track chgs",null,null,{"$f":" Time!J$107","v":"Pre-Fcst"},{"$f":" Time!K$107","v":"Pre-Fcst"},{"$f":" Time!L$107","v":"Forecast"},{"$f":" Time!M$107","v":"Forecast"},{"$f":" Time!N$107","v":"Forecast"},{"$f":" Time!O$107","v":"Forecast"},{"$f":" Time!P$107","v":"Forecast"}]
[null,null,null,null,{"$f":"Time!E130","v":"Financial year ending"},null,null,null,null,{"$f":" Time!J$130","v":2019},{"$f":" Time!K$130","v":2020},{"$f":" Time!L$130","v":2021},{"$f":" Time!M$130","v":2022},{"$f":" Time!N$130","v":2023},{"$f":" Time!O$130","v":2024},{"$f":" Time!P$130","v":2025}]
[null,null,null,null,{"$f":"Time!E5","v":"Model column counter"},"Total","Unit",null,null,{"$f":" Time!I$10","v":0},{"$f":" Time!J$10","v":1},{"$f":" Time!K$10","v":2},{"$f":" Time!L$10","v":3},{"$f":" Time!M$10","v":4},{"$f":" Time!N$10","v":5},{"$f":" Time!O$10","v":6}]
[]
["ANNUAL ALLOWED COST"]
[]
[null,"WINEP reconciliation profiled across final 3 years of period"]
[]
[null,null,null,null,{"$f":"WINEP_Allowance!E571","v":"Total Final Reconciliation, water resources"},{"$f":"WINEP_Allowance!F571","v":0},{"$f":"WINEP_Allowance!G571","v":"£m"}]
[null,null,null,null,{"$f":"WINEP_Allowance!E572","v":"Total Final Reconciliation, water network"},{"$f":"WINEP_Allowance!F572","v":0},{"$f":"WINEP_Allowance!G572","v":"£m"}]
[null,null,null,null,{"$f":"WINEP_Allowance!E573","v":"Total Final Reconciliation, wastewater network"},{"$f":"WINEP_Allowance!F573","v":-76.87673440537128},{"$f":"WINEP_Allowance!G573","v":"£m"}]
[null,null,null,null,{"$f":"WINEP_Allowance!E574","v":"Total Final Reconciliation, bioresources"},{"$f":"WINEP_Allowance!F574","v":0},{"$f":"WINEP_Allowance!G574","v":"£m"}]
[null,null,null,null,{"$f":"WINEP_Allowance!E575","v":"Total Final Reconciliation, dummy"},{"$f":"WINEP_Allowance!F575","v":0},{"$f":"WINEP_Allowance!G575","v":"£m"}]
[]
[null,null,null,null,{"$f":" Time!E$93","v":"Start of adjustment profiling flag"},{"$f":" Time!F$93","v":0},{"$f":" Time!G$93","v":"counter"},{"$f":" Time!H$93","v":3},{"$f":" Time!I$93","v":0},{"$f":" Time!J$93","v":0},{"$f":" Time!K$93","v":0},{"$f":" Time!L$93","v":0},{"$f":" Time!M$93","v":0},{"$f":" Time!N$93","v":1},{"$f":" Time!O$93","v":1},{"$f":" Time!P$93","v":1}]
[]
[null,null,null,null,"Total Final Reconciliation - profiled, water resources",null,"£m",{"$f":" SUM(J19:P19)","v":0},null,{"$f":" IF( J$17 = 1, $F11 / 3, 0)","v":0},0,0,0,{"$f":" IF( N$17 = 1, $F11 / 3, 0)","v":0},{"$f":" IF( O$17 = 1, $F11 / 3, 0)","v":0},0]
[null,null,null,null,"Total Final Reconciliation - profiled, water network",null,"£m",{"$f":" SUM(J20:P20)","v":0},null,{"$f":" IF( J$17 = 1, $F12 / 3, 0)","v":0},0,0,0,{"$f":" IF( N$17 = 1, $F12 / 3, 0)","v":0},0,0]
[null,null,null,null,"Total Final Reconciliation - profiled, wastewater network",null,"£m",-76.87673440537128,null,{"$f":" IF( J$17 = 1, $F13 / 3, 0)","v":0},0,0,0,{"$f":" IF( N$17 = 1, $F13 / 3, 0)","v":-25.62557813512376},-25.62557813512376,-25.62557813512376]
[null,null,null,null,"Total Final Reconciliation - profiled, bioresources",null,"£m",0,null,{"$f":" IF( J$17 = 1, $F14 / 3, 0)","v":0},0,0,0,{"$f":" IF( N$17 = 1, $F14 / 3, 0)","v":0},0,0]
[null,null,null,null,"Total Final Reconciliation - profiled, dummy",null,"£m",0,null,{"$f":" IF( J$17 = 1, $F15 / 3, 0)","v":0},0,0,0,{"$f":" IF( N$17 = 1, $F15 / 3, 0)","v":0},0,0]
[]
[null,null,"WINEP reconciliation for cost reconciliation model"]
[null,null,null,null,"WINEP Reconciliation, water resources - without adjustment for time value of money",{"$f":"F19","v":0},"£m",0,0,0,0,0,0,0,0,0]
[null,null,null,null,"WINEP Reconciliation, water network - without adjustment for time value of money",{"$f":"F20","v":0},"£m",0,0,0,0,0,0,0,0,0]
[null,null,null,null,"WINEP Reconciliation, wastewater network - without adjustment for time value of money",{"$f":"F21","v":0},"£m",-76.87673440537128,0,0,0,0,0,-25.62557813512376,-25.62557813512376,-25.62557813512376]
[null,null,null,null,"WINEP Reconciliation, bioresources - without adjustment for time value of money",{"$f":"F22","v":0},"£m",0,0,0,0,0,0,0,0,0]
[null,null,null,null,"WINEP Reconciliation, dummy - without adjustment for time value of money",{"$f":"F23","v":0},"£m",0,0,0,0,0,0,0,0,0]
[]
[null,"WINEP reconciliation adjusted for time value of money"]
[]
[null,null,null,null,{"$f":" InpActive!E$33","v":"Financing cost index"},{"$f":" InpActive!F$33","v":0},{"$f":" InpActive!G$33","v":"Index"},null,null,{"$f":" InpActive!J$33","v":0},{"$f":" InpActive!K$33","v":0},{"$f":" InpActive!L$33","v":4},{"$f":" InpActive!M$33","v":3},{"$f":" InpActive!N$33","v":2},{"$f":" InpActive!O$33","v":1},{"$f":" InpActive!P$33","v":0}]
[null,null,null,null,{"$f":" InpActive!E$35","v":"Financing Cost"},{"$f":" InpActive!F$35","v":2.92E-2},{"$f":" InpActive!G$35","v":"%"}]
[null,null,null,null,"Time value of money factor",null,"Factor",null,null,{"$f":"(1+$F35) ^ J$34","v":1},{"$f":"(1+$F35) ^ K$34","v":1},{"$f":"(1+$F35) ^ L$34","v":1.122016155346969},1.0901828170879997,{"$f":"(1+$F35) ^ N$34","v":1.0592526399999997},{"$f":"(1+$F35) ^ O$34","v":1.0291999999999999},{"$f":"(1+$F35) ^ P$34","v":1}]
[]
[null,null,null,null,{"$f":" E26","v":"WINEP Reconciliation, water resources - without adjustment for time value of money"},{"$f":" F26","v":0},{"$f":" G26","v":"£m"},{"$f":" H26","v":0},0,{"$f":" J26","v":0},0,0,0,0,0,{"$f":" P26","v":0}]
[null,null,null,null,{"$f":" E27","v":"WINEP Reconciliation, water network - without adjustment for time value of money"},0,"£m",{"$f":" H27","v":0},0,{"$f":" J27","v":0},0,0,0,0,0,{"$f":" P27","v":0}]
[null,null,null,null,"WINEP Reconciliation, wastewater network - without adjustment for time value of money",0,"£m",{"$f":" H28","v":-76.87673440537128},0,{"$f":" J28","v":0},0,0,0,-25.62557813512376,-25.62557813512376,{"$f":" P28","v":-25.62557813512376}]
[null,null,null,null,"WINEP Reconciliation, bioresources - without adjustment for time value of money",0,"£m",{"$f":" H29","v":0},0,{"$f":" J29","v":0},0,0,0,0,0,{"$f":" P29","v":0}]
[null,null,null,null,"WINEP Reconciliation, dummy - without adjustment for time value of money",0,"£m",{"$f":" H30","v":0},0,{"$f":" J30","v":0},0,0,0,0,0,{"$f":" P30","v":0}]
[]
[null,null,null,null,{"$f":" E$36","v":"Time value of money factor"},{"$f":" F$36","v":0},"Factor",0,0,1,1,1.122016155346969,1.0901828170879997,1.0592526399999997,1.0291999999999999,{"$f":" P$36","v":1}]
[]
[null,null,"WINEP reconciliation for PR24 RCV adjustment"]
[null,null,null,null,"WINEP Reconciliation, water resources - adjusted for time value of money",null,"£m",{"$f":" SUM(J47:P47)","v":0},null,{"$f":" J38 * J$44","v":0},0,0,0,0,0,0]
[null,null,null,null,"WINEP Reconciliation, water network - adjusted for time value of money",null,"£m",{"$f":" SUM(J48:P48)","v":0},null,{"$f":" J39 * J$44","v":0},0,0,0,{"$f":" N39 * N$44","v":0},0,{"$f":" P39 * P$44","v":0}]
[null,null,null,null,"WINEP Reconciliation, wastewater network - adjusted for time value of money",null,"£m",-79.143384442949241,null,{"$f":" J40 * J$44","v":0},0,0,0,{"$f":" N40 * N$44","v":-27.143961291156113},-26.373845016669371,{"$f":" P40 * P$44","v":-25.62557813512376}]
[null,null,null,null,"WINEP Reconciliation, bioresources - adjusted for time value of money",null,"£m",0,null,{"$f":" J41 * J$44","v":0},0,0,0,{"$f":" N41 * N$44","v":0},0,{"$f":" P41 * P$44","v":0}]
[null,null,null,null,"WINEP Reconciliation, dummy - adjusted for time value of money",null,"£m",0,null,{"$f":" J42 * J$44","v":0},0,0,0,{"$f":" N42 * N$44","v":0},0,{"$f":" P42 * P$44","v":0}]
[]
[]
["End of sheet"]

{"sheet":"F_Outputs","index":14,"n_rows":17,"n_cols":9,"rows_kept":17,"cut":false,"hidden":false,"merged":[]}
[null,null,"PR19FM007_WINEP_Out"]
["Acronym","Reference","Item description","Unit","Model","2022-23","2023-24","2024-25","2020-25"]
[]
["SRN","C__PR24PD11_PD11_12WR_PRETVM_PR24"," PR19 WINEP / NEP RCV adjustment in 2017-18 FYA (CPIH deflated) prices (WR) - Pre time value of money adjustment","£m","Price review 2024",{"$f":"Annual_Outputs!N26","v":0},{"$f":"Annual_Outputs!O26","v":0},{"$f":"Annual_Outputs!P26","v":0},{"$f":"Annual_Outputs!H26","v":0}]
["SRN","C__PR24PD11_PD11_12WN_PRETVM_PR24","PR19 WINEP / NEP RCV adjustment in 2017-18 FYA (CPIH deflated) prices (WN)  - Pre time value of money adjustment","£m","Price review 2024",{"$f":"Annual_Outputs!N27","v":0},{"$f":"Annual_Outputs!O27","v":0},{"$f":"Annual_Outputs!P27","v":0},{"$f":"Annual_Outputs!H27","v":0}]
["SRN","C__PR24PD11_PD11_12WWN_PRETVM_PR24","PR19 WINEP / NEP RCV adjustment in 2017-18 FYA (CPIH deflated) prices (WWN) - Pre time value of money adjustment","£m","Price review 2024",{"$f":"Annual_Outputs!N28","v":-25.62557813512376},{"$f":"Annual_Outputs!O28","v":-25.62557813512376},{"$f":"Annual_Outputs!P28","v":-25.62557813512376},{"$f":"Annual_Outputs!H28","v":-76.87673440537128}]
["SRN","C__PR24PD11_PD11_12BIO_PRETVM_PR24","PR19 WINEP / NEP RCV adjustment in 2017-18 FYA (CPIH deflated) prices (BR) - Pre time value of money adjustment","£m","Price review 2024",{"$f":"Annual_Outputs!N29","v":0},{"$f":"Annual_Outputs!O29","v":0},{"$f":"Annual_Outputs!P29","v":0},{"$f":"Annual_Outputs!H29","v":0}]
["SRN","C__PR24PD11_PD11_12ADDN1_PRETVM_PR24","PR19 WINEP / NEP RCV adjustment in 2017-18 FYA (CPIH deflated) prices (ADDN1) - Pre time value of money adjustment","£m","Price review 2024",{"$f":"Annual_Outputs!N30","v":0},{"$f":"Annual_Outputs!O30","v":0},{"$f":"Annual_Outputs!P30","v":0},{"$f":"Annual_Outputs!H30","v":0}]
["SRN","C_PR24PD11_PD11_12WR_PR24"," PR19 WINEP / NEP RCV adjustment in 2017-18 FYA (CPIH deflated) prices (WR) ","£m","Price review 2024",{"$f":"Annual_Outputs!N47","v":0},{"$f":"Annual_Outputs!O47","v":0},{"$f":"Annual_Outputs!P47","v":0},{"$f":"Annual_Outputs!H47","v":0}]
["SRN","C_PR24PD11_PD11_12WN_PR24","PR19 WINEP / NEP RCV adjustment in 2017-18 FYA (CPIH deflated) prices (WN) ","£m","Price review 2024",{"$f":"Annual_Outputs!N48","v":0},{"$f":"Annual_Outputs!O48","v":0},{"$f":"Annual_Outputs!P48","v":0},{"$f":"Annual_Outputs!H48","v":0}]
["SRN","C_PR24PD11_PD11_12WWN_PR24","PR19 WINEP / NEP RCV adjustment in 2017-18 FYA (CPIH deflated) prices (WWN) ","£m","Price review 2024",{"$f":"Annual_Outputs!N49","v":-27.143961291156113},{"$f":"Annual_Outputs!O49","v":-26.373845016669371},{"$f":"Annual_Outputs!P49","v":-25.62557813512376},{"$f":"Annual_Outputs!H49","v":-79.143384442949241}]
["SRN","C_PR24PD11_PD11_12BIO_PR24","PR19 WINEP / NEP RCV adjustment in 2017-18 FYA (CPIH deflated) prices (BR) ","£m","Price review 2024",{"$f":"Annual_Outputs!N50","v":0},{"$f":"Annual_Outputs!O50","v":0},{"$f":"Annual_Outputs!P50","v":0},{"$f":"Annual_Outputs!H50","v":0}]
["SRN","C_PR24PD11_PD11_12ADDN1_PR24","PR19 WINEP / NEP RCV adjustment in 2017-18 FYA (CPIH deflated) prices (ADDN1) ","£m","Price review 2024",{"$f":"Annual_Outputs!N51","v":0},{"$f":"Annual_Outputs!O51","v":0},{"$f":"Annual_Outputs!P51","v":0},{"$f":"Annual_Outputs!H51","v":0}]
["SRN","PR24QA_PR24PD11_OUT1","Date & Time for Model - PR24PD11","Text","Price Review 2024",{"$f":"CONCATENATE(\"[…]\", TEXT(NOW(),\"dd/mm/yyy hh:mm:ss\"))","v":"[…]10/12/2024 10:39:50"},{"$f":"CONCATENATE(\"[…]\", TEXT(NOW(),\"dd/mm/yyy hh:mm:ss\"))","v":"[…]10/12/2024 10:39:50"},"[…]10/12/2024 10:39:50","[…]10/12/2024 10:39:50"]
["SRN","PR24QA_PR24PD11_OUT2","Name of Model - PR24PD11","Text","Price Review 2024",{"$f":"MID(CELL(\"filename\"),SEARCH(\"[\",CELL(\"filename\"))+1,SEARCH(\"]\",CELL(\"filename\"))-SEARCH(\"[\",CELL(\"filename\"))-1)","v":{"$error":"#VALUE!"}},{"$f":"MID(CELL(\"filename\"),SEARCH(\"[\",CELL(\"filename\"))+1,SEARCH(\"]\",CELL(\"filename\"))-SEARCH(\"[\",CELL(\"filename\"))-1)","v":{"$error":"#VALUE!"}},{"$error":"#VALUE!"},{"$error":"#VALUE!"}]
["SRN","PR24QA_PR24PD11_OUT3","F_Inputs time stamp - PR24PD11","Text","Price Review 2024","N/A","N/A","N/A","N/A"]
["SRN","PR24QA_PR24PD11_OUT4","Model override switch for - PR24PD11","nr","Price Review 2024",0,0,0,0]

{"sheet":"QA >>","index":15,"n_rows":0,"n_cols":0,"rows_kept":0,"cut":false,"hidden":false,"merged":[]}

{"sheet":"Track","index":16,"n_rows":38,"n_cols":15,"rows_kept":38,"cut":false,"hidden":false,"merged":[]}
[{"$f":" RIGHT(CELL(\"filename\", $A$1), LEN(CELL(\"filename\", $A$1)) - SEARCH(\"]\", CELL(\"filename\", $A$1)))","v":{"$error":"#VALUE!"}},null,null,null,null,null,null,null,null,null,null,null,"do not del col",null,"do not del col"]
[null,null,null,null,null,{"$f":"Check!$F$2","v":0},"Checks",null,null,{"$f":" SUM(J7:J28)","v":3}]
[null,null,null,null,null,{"$f":"J2","v":3},"Track chgs"]
[]
[null,null,null,null,null,null,"Unit",null,null,{"$f":" MATCH($H$6, M6:O6, 0)","v":2},"Difference","Diff %"]
[null,null,null,null,"Comparison column label",null,null,"Nil inputs",null,null,null,null,null,"Nil inputs"]
[null,null,null,null,"[do not delete row]"]
["INPUTS"]
[null,null,null,null,null,null,null,null,null,{"$f":" IF(ABS(K9) > InpActive!$F$42, 1, 0)","v":0},{"$f":" H9 - INDEX(M9:O9, $J$5)","v":0},{"$f":" IF(ABS(K9) > InpActive!$F$42, IF(INDEX(M9:O9, $J$5) = 0, 0, H9 / INDEX(M9:O9, $J$5) - 1), 0)","v":0}]
[null,null,"Inputs",null,null,null,null,null,null,{"$f":" IF(ABS(K10) > InpActive!$F$42, 1, 0)","v":0},0,{"$f":" IF(ABS(K10) > InpActive!$F$42, IF(INDEX(M10:O10, $J$5) = 0, 0, H10 / INDEX(M10:O10, $J$5) - 1), 0)","v":0}]
[null,null,null,null,{"$f":" InpActive!E35","v":"Financing Cost"},null,{"$f":"InpActive!G35","v":"%"},{"$f":"InpActive!F35","v":2.92E-2},null,{"$f":" IF(ABS(K11) > InpActive!$F$42, 1, 0)","v":1},2.92E-2,{"$f":" IF(ABS(K11) > InpActive!$F$42, IF(INDEX(M11:O11, $J$5) = 0, 0, H11 / INDEX(M11:O11, $J$5) - 1), 0)","v":0},null,0]
[null,null,null,null,null,null,null,null,null,{"$f":" IF(ABS(K12) > InpActive!$F$42, 1, 0)","v":0},0,{"$f":" IF(ABS(K12) > InpActive!$F$42, IF(INDEX(M12:O12, $J$5) = 0, 0, H12 / INDEX(M12:O12, $J$5) - 1), 0)","v":0},null,0]
[null,null,null,null,null,null,null,null,null,{"$f":" IF(ABS(K13) > InpActive!$F$42, 1, 0)","v":0},0,{"$f":" IF(ABS(K13) > InpActive!$F$42, IF(INDEX(M13:O13, $J$5) = 0, 0, H13 / INDEX(M13:O13, $J$5) - 1), 0)","v":0},null,0]
[null,null,"Outputs",null,null,null,null,null,null,{"$f":" IF(ABS(K14) > InpActive!$F$42, 1, 0)","v":0},0,{"$f":" IF(ABS(K14) > InpActive!$F$42, IF(INDEX(M14:O14, $J$5) = 0, 0, H14 / INDEX(M14:O14, $J$5) - 1), 0)","v":0}]
[null,null,null,null,{"$f":" Annual_Outputs!E26","v":"WINEP Reconciliation, water resources - without adjustment for time value of money"},null,{"$f":" Annual_Outputs!G26","v":"£m"},{"$f":" Annual_Outputs!H26","v":0},null,{"$f":" IF(ABS(K15) > InpActive!$F$42, 1, 0)","v":0},0,{"$f":" IF(ABS(K15) > InpActive!$F$42, IF(INDEX(M15:O15, $J$5) = 0, 0, H15 / INDEX(M15:O15, $J$5) - 1), 0)","v":0},null,0]
[null,null,null,null,{"$f":" Annual_Outputs!E27","v":"WINEP Reconciliation, water network - without adjustment for time value of money"},null,{"$f":" Annual_Outputs!G27","v":"£m"},{"$f":" Annual_Outputs!H27","v":0},null,{"$f":" IF(ABS(K16) > InpActive!$F$42, 1, 0)","v":0},0,{"$f":" IF(ABS(K16) > InpActive!$F$42, IF(INDEX(M16:O16, $J$5) = 0, 0, H16 / INDEX(M16:O16, $J$5) - 1), 0)","v":0},null,0]
[null,null,null,null,{"$f":" Annual_Outputs!E28","v":"WINEP Reconciliation, wastewater network - without adjustment for time value of money"},null,{"$f":" Annual_Outputs!G28","v":"£m"},{"$f":" Annual_Outputs!H28","v":-76.87673440537128},null,{"$f":" IF(ABS(K17) > InpActive!$F$42, 1, 0)","v":1},{"$f":" H17 - INDEX(M17:O17, $J$5)","v":-76.87673440537128},{"$f":" IF(ABS(K17) > InpActive!$F$42, IF(INDEX(M17:O17, $J$5) = 0, 0, H17 / INDEX(M17:O17, $J$5) - 1), 0)","v":0},null,0]
[null,null,null,null,{"$f":" Annual_Outputs!E29","v":"WINEP Reconciliation, bioresources - without adjustment for time value of money"},null,{"$f":" Annual_Outputs!G29","v":"£m"},{"$f":" Annual_Outputs!H29","v":0},null,{"$f":" IF(ABS(K18) > InpActive!$F$42, 1, 0)","v":0},0,{"$f":" IF(ABS(K18) > InpActive!$F$42, IF(INDEX(M18:O18, $J$5) = 0, 0, H18 / INDEX(M18:O18, $J$5) - 1), 0)","v":0},null,0]
[null,null,null,null,{"$f":" Annual_Outputs!E30","v":"WINEP Reconciliation, dummy - without adjustment for time value of money"},null,{"$f":" Annual_Outputs!G30","v":"£m"},{"$f":" Annual_Outputs!H30","v":0},null,{"$f":" IF(ABS(K19) > InpActive!$F$42, 1, 0)","v":0},0,{"$f":" IF(ABS(K19) > InpActive!$F$42, IF(INDEX(M19:O19, $J$5) = 0, 0, H19 / INDEX(M19:O19, $J$5) - 1), 0)","v":0},null,0]
[null,null,null,null,{"$f":"Annual_Outputs!E47","v":"WINEP Reconciliation, water resources - adjusted for time value of money"},null,{"$f":"Annual_Outputs!G47","v":"£m"},{"$f":"Annual_Outputs!H47","v":0},null,{"$f":" IF(ABS(K20) > InpActive!$F$42, 1, 0)","v":0},{"$f":" H20 - INDEX(M20:O20, $J$5)","v":0},{"$f":" IF(ABS(K20) > InpActive!$F$42, IF(INDEX(M20:O20, $J$5) = 0, 0, H20 / INDEX(M20:O20, $J$5) - 1), 0)","v":0},null,0]
[null,null,null,null,{"$f":"Annual_Outputs!E48","v":"WINEP Reconciliation, water network - adjusted for time value of money"},null,{"$f":"Annual_Outputs!G48","v":"£m"},{"$f":"Annual_Outputs!H48","v":0},null,{"$f":" IF(ABS(K21) > InpActive!$F$42, 1, 0)","v":0},{"$f":" H21 - INDEX(M21:O21, $J$5)","v":0},{"$f":" IF(ABS(K21) > InpActive!$F$42, IF(INDEX(M21:O21, $J$5) = 0, 0, H21 / INDEX(M21:O21, $J$5) - 1), 0)","v":0},null,0]
[null,null,null,null,{"$f":"Annual_Outputs!E49","v":"WINEP Reconciliation, wastewater network - adjusted for time value of money"},null,{"$f":"Annual_Outputs!G49","v":"£m"},{"$f":"Annual_Outputs!H49","v":-79.143384442949241},null,{"$f":" IF(ABS(K22) > InpActive!$F$42, 1, 0)","v":1},-79.143384442949241,{"$f":" IF(ABS(K22) > InpActive!$F$42, IF(INDEX(M22:O22, $J$5) = 0, 0, H22 / INDEX(M22:O22, $J$5) - 1), 0)","v":0},null,0]
[null,null,null,null,{"$f":"Annual_Outputs!E50","v":"WINEP Reconciliation, bioresources - adjusted for time value of money"},null,{"$f":"Annual_Outputs!G50","v":"£m"},{"$f":"Annual_Outputs!H50","v":0},null,{"$f":" IF(ABS(K23) > InpActive!$F$42, 1, 0)","v":0},0,{"$f":" IF(ABS(K23) > InpActive!$F$42, IF(INDEX(M23:O23, $J$5) = 0, 0, H23 / INDEX(M23:O23, $J$5) - 1), 0)","v":0},null,0]
[null,null,null,null,{"$f":"Annual_Outputs!E51","v":"WINEP Reconciliation, dummy - adjusted for time value of money"},null,{"$f":"Annual_Outputs!G51","v":"£m"},{"$f":"Annual_Outputs!H51","v":0},null,{"$f":" IF(ABS(K24) > InpActive!$F$42, 1, 0)","v":0},0,{"$f":" IF(ABS(K24) > InpActive!$F$42, IF(INDEX(M24:O24, $J$5) = 0, 0, H24 / INDEX(M24:O24, $J$5) - 1), 0)","v":0},null,0]
[null,null,null,null,null,null,null,null,null,{"$f":" IF(ABS(K25) > InpActive!$F$42, 1, 0)","v":0},0,{"$f":" IF(ABS(K25) > InpActive!$F$42, IF(INDEX(M25:O25, $J$5) = 0, 0, H25 / INDEX(M25:O25, $J$5) - 1), 0)","v":0},null,0]
[null,null,null,null,null,null,null,null,null,{"$f":" IF(ABS(K26) > InpActive!$F$42, 1, 0)","v":0},0,{"$f":" IF(ABS(K26) > InpActive!$F$42, IF(INDEX(M26:O26, $J$5) = 0, 0, H26 / INDEX(M26:O26, $J$5) - 1), 0)","v":0},null,0]
[]
["INFO ONLY"]
[]
[null,null,null,null,"Date",null,null,{"$f":" TODAY()","v":"2024-12-10"}]
[null,null,null,null,"Time",null,null,{"$f":" NOW()","v":45636.444332638886}]
[null,null,null,null,"File",null,null,{"$f":" MID(CELL(\"filename\",$A$1), SEARCH(\"[\", CELL(\"filename\",$A$1)) + 1, SEARCH(\"]\", CELL(\"filename\",$A$1)) - SEARCH(\"[\", CELL(\"filename\",$A$1)) - 1)","v":{"$error":"#VALUE!"}}]
[null,null,null,null,"[do not delete row]",null,null,null,null,"range end"]
[]
[null,null,null,null,"Comment: Key input and logic changes",null,null,null,null,null,null,null,null,"Nil inputs"]
[null,null,null,null,"Comment: Key result changes"]
[]
["End of sheet"]

{"sheet":"Check","index":17,"n_rows":27,"n_cols":7,"rows_kept":27,"cut":false,"hidden":false,"merged":[]}
[{"$f":" RIGHT(CELL(\"filename\", $A$1), LEN(CELL(\"filename\", $A$1)) - SEARCH(\"]\", CELL(\"filename\", $A$1)))","v":{"$error":"#VALUE!"}}]
[null,null,null,null,null,{"$f":"F11","v":0},"Checks"]
[null,null,null,null,null,{"$f":"F24","v":3},"Track chgs"]
[]
[null,null,null,null,null,"Constant","Unit"]
[]
["CHECK SUMMARY"]
[]
["MODEL INTEGRITY CHECKS"]
[]
[null,null,null,null,"Total model integrity checks",{"$f":" SUM(F16:F21)","v":0}]
[]
[null,null,null,null,"[do not delete row]"]
[]
[null,"WINEP RECONCILIATION"]
[null,null,null,null,{"$f":"WINEP_Allowance!E567","v":"Price Control Reconciliation vs Total Reconciliation - check"},{"$f":"WINEP_Allowance!F567","v":0},{"$f":"WINEP_Allowance!G567","v":"check"}]
[]
[null,"TIME"]
[null,null,null,null,{"$f":"Time!E121","v":"Modelling period check"},{"$f":"Time!F121","v":0},{"$f":"Time!G121","v":"check"}]
[]
[]
[null,null,null,null,"[do not delete row]"]
[]
[null,null,null,null,"Total track changes",{"$f":"Track!J2","v":3}]
[]
[]
["End of sheet"]