Workbook

Sheet Front sheet
B3: Annex 8 - Adjustment allowance methodology
B5: Version Control | C5: Date Published | D5: Changes
B6: v1.1 | C6: 43969 | D6: Published for statutory consultation
B7: v1.2 | C7: 44048 | D7: Added an adjustment for customer attrition updated CPIH for cap period five, added extra labelling and model map Published with the decision on reassessing the wholesale cost allowance in the first default tariff cap period
B8: v1.3 | C8: 44050 | D8: Published alongside the default tariff cap level: 1 October 2020 to 31 March 2021
B9: v1.4 | C9: 44232 | D9: COVID-19 adjustment added. Published alongside the default tariff cap level: 1 April 2021 to 30 September 2021
B10: v1.5 | C10: 44413 | D10: The COVID-19 adjustment for cap periods four and five was spread across cap period six and seven, as decided in February 2021 decision. This output can be found in tab '1a Adjustment Allowance'. This model was published alongside the 'decision on the potential impact of COVID-19 on the default tariff cap: cap period seven'.
B11: v1.6 | C11: 44777 | D11: The additional wholesale cost adjustment for cap period eight was spread through cap periods nine and ten as decided in the August 2022 decision. Also, added an adjustment for the correction of backwardation costs incurred in cap period seven. This is spread over cap periods nine and ten. This output can be found in 1a Adjustment Allowance. This model was published alongside the 'Price cap - Decision on possible wholesale cost adjustment'.
B12: v1.7 | C12: 44984 | D12: COVID true-up adjustment added. Published alongside the default tariff cap level: 1 April 2023 to 30 June 2023
B13: v1.8 | C13: 45021 | D13: Renewables Obligation ringfencing adjustment added. Published alongside the 'Strengthening Financial Resilience - Decision'
B14: v1.9 | C14: 45071 | D14: Changes made to extend model functionality to 2030: - Input: Updated tabs ‘3d Electricity losses’ and ‘3e CPIH’. - Output: Updated tab ‘1a Adjustment allowance’.
B15: v1.10 | C15: 45163 | D15: Published alongside the default tariff cap level 1 October 2023 to 31 December 2023. -Additional support credit adjustment added
B16: v1.11 | C16: 45345 | D16: Published alongside the Price cap - Additional debt-related costs review decision. -Additional debt related cost adjustment added for April 2024 - March 2025
B17: v1.12 | C17: 45457 | D17: Published alongside the ASC extention consultation letter -Additional support credit adjustment allowance extension added. End date of extension dependant on outcome of Operating costs review implementation
... B19: v1.14 | C19: 45713 | D19: Published alongside the default tariff cap level 1 April 2025 to 30 June 2025 and additional debt-related costs extension decision. -Debt Related Costs and Additional support credit adjustment allowance extensions added. End date of extensions dependant on outcome of Operating costs review implementation.

Sheet Notes
B2: Description
B4: This annex sets out the methodology and sources used to calculate the value of the Adjustment Allowance Component for each fuel, 28AD Charge Restriction Period, Benchmark Metering Arrangement, Payment Method and Charge Restriction Region.
C6: <= Denotes an input
C8: <= Denotes a calculation or output
B10: List of tabs
B12: Tab name | C12: Tab type | D12: Description
B13: Front sheet | C13: n/a | D13: Title
B14: Notes | C14: n/a | D14: This tab
B15: Outputs
B16: 1a Adjustment Allowance | C16: Outputs | D16: Translates to the correct format to be input into the default tariff cap model
B17: Calculations
B18: 2a Q1 Adjustment component | C18: Calculation | D18: This tab takes the final adjustment charge then applies the allowances and losses (from cap period 1) to calculate the regional allowance.
B19: 2b COVID Adjustment | C19: Calculation | D19: On this tab we calculate the COVID-19 adjustment level for each cap period using the input costs based on supplier data.
B20: 2c AWC adjustment | C20: Calculation | D20: On this tab we calculate the additional wholesale cost adjustment level for each cap period using the input costs based on supplier data.
B21: 2d Backwardation adjustment | C21: Calculation | D21: On this tab we calculate the backwardation adjustment level for each cap period using the input costs based on evidence submitted by suppliers
B22: 2e COVID true-up adjustment | C22: Calculation | D22: On this tab we calculate the net adjustment level for each cap periods using the input costs based on supplier data and the float's cost inputs. We then take into account inflation and customer volumes.
B23: 2f RO Ringfencing adjustment | C23: Calculation | D23: On this tab we calculate the RO ringfencing adjustment for the July-September 2023 cap period using the input costs for notional supplier.
B24: 2g Debt related costs adjustment | C24: Calculation | D24: On this tab we calculate the cost for TDCV customers after allocating it to the unit rate element of the cap only.
B25: Inputs
B26: 3a Adjustment term | C26: Inputs | D26: This tab shows the calculation of the adjusted charge (per MWh) using supplier costs and market share. The value is adjusted by consumption and customer volumes.
B27: 3b Allowances | C27: Inputs | D27: This tab shows the assumed uplifts for reshaping, forecast error and imbalance; transaction costs; and (for gas) unidentified gas.
B28: 3c Demand | C28: Inputs | D28: This tab shows the demand assumptions used to calculate the Direct Fuel Cost Component
B29: 3d Electricity losses | C29: Inputs | D29: This tab summarises the loss multipliers used to uplift direct fuel costs, for each Charge Restriction Period. It is populated using the outputs of the "Demand and losses" workbook.
B30: 3e CPIH | C30: Inputs | D30: This tab shows the Consumer Price Index including owner occupiers' housing costs (CPIH) used to inflate the adjustment
B31: 3f Cap levels | C31: Inputs | D31: This tab shows the level of the default tariff cap in cap periods three and four. We use it to calculate the average cap at nil as a proportion of the cap at typical consumption
B32: 3g UIG | C32: Inputs | D32: This tab shows the assumed uplifts for unidentified gas for cap period eight
B33: 3h Unexpected SVT demand costs | C33: Inputs | D33: This tab shows the lower quartile benchmarked unexpected SVT demand costs for cap period eight from our internal analysis using supplier reported data
B34: 3i Backwardation (P7) | C34: Inputs | D34: This tab shows the outcome of a review of cap period seven backwardation estimates to ensure the level of the price cap is set at its intended benchmark level.
B35: 3j Additional COVID costs | C35: Inputs | D35: This tab inputs the COVID-19 true-up incremental cost
B36: 3k CPIH & Attrition | C36: Inputs | D36: This tab shows the calculations of factors that adjust for inflation and customer volumes.
B37: 3l RO Ringfencing | C37: Inputs | D37: This tab shows the inputs for the RO Ringfencing costs.
... B39: 3n DRC | C39: Inputs | D39: This tab shows the inputs for the debt-related costs allowance per dual fuel customer at benchmark consumption and the extension for the allowance
B41: Model Map

Sheet 1. Outputs=>

Sheet 1a Adjustment Allowance
B2: Adjustment Allowance
B3: This tab shows the Adjustment Allowance values for each fuel, Charge Restriction Region, Benchmark Metering Arrangement, Payment Method, Benchmark Consumption and 28AD Charge Restriction Period, calculated according to Annex 8 to the licence conditions Also, note that for cap periods nine (October 2022- March 2023) and ten (April 2023-September 2023) benchmark at Nil consumption is hard coded with a value of Zero. This is because we only include the adjustment at TDCV. For cap periods nine (October 2022- March 2023) and ten (April 2023-September 2023), the additional wholesale cost adjustment applies only for standard credit and other payment methods and backwardation adjustment applies to all payment methods
B5: 1. Adjustment Allowance breakdown
B8: Fuel | C8: Benchmark Metering Arrangement | D8: Payment method | E8: Benchmark Annual Consumption Level | F8: Charge Restriction Region | G8: Unit | J8: Historical examples | S8: Values to be used to update level of default tariff cap | AB8: Values used to update the level of the default tariff cap
J9: These are for historical periods, for illustration only. | S9: These are the values that will be populated to calculate the updated level of the default tariff cap | AB9: These are the values used to update the level of the price cap from winter 2022, using the quarterly approach | AI9: These are the values used to update the level of the price cap from Feb 2024, using the quarterly approach
H10: 28AD Charge Restriction Period: | J10: April 2015 – September 2015 | K10: October 2015- March 2016 | L10: April 2016-September 2016 | M10: October 2016-March 2017 | N10: April 2017 - September 2017 | O10: October 2017 - March 2018 | P10: April 2018 - September 2018 | Q10: October 2018 - March 2019 | S10: January 2019 - March 2019 | T10: April 2019 - September 2019 | U10: October 2019 - March 2020 | V10: April 2020 - September 2020 | W10: October 2020 - March 2021 | X10: April 2021 - September 2021 | Y10: October 2021 - March 2022 | Z10: April 2022 - September 2022 | AB10: October 2022 - December 2022 | AC10: January 2023 - March 2023 | AD10: April 2023 - June 2023 | AE10: July 2023 - September 2023 | AF10: October 2023 - December 2023 | AG10: January 2024 - March 2024 | AI10: April 2024 - June 2024 | AJ10: July 2024 - September 2024 | AK10: October 2024 - December 2024 | AL10: January 2025 - March 2025 | AM10: April 2025 - June 2025 | AN10: July 2025 - September 2025 | AO10: October 2025 - December 2025 | AP10: January 2026 - March 2026 | AQ10: April 2026 - June 2026 | AR10: July 2026 - September 2026 | AS10: October 2026 - December 2026 | AT10: January 2027 - March 2027 | AU10: April 2027 - June 2027 | AV10: July 2027 - September 2027 | AW10: October 2027 - December 2027 | AX10: January 2028 - March 2028 | AY10: April 2028 - June 2028 | AZ10: July 2028 - September 2028 | BA10: October 2028 - December 2028 | BB10: January 2029 - March 2029 | BC10: April 2029 - June 2029 | BD10: July 2029 - September 2029 | BE10: October 2029 - December 2029 | BF10: January 2030 - March 2030 | BG10: April 2030 - June 2030 | BH10: July 2030 - September 2030 | BI10: October 2030 - December 2030
H11: Update calculated as of: | J11: February 2015 | K11: August 2015 | L11: February 2016 | M11: August 2016 | N11: February 2017 | O11: August 2017 | P11: February 2018 | Q11: August 2018 | S11: November 2018 | T11: February 2019 | U11: August 2019 | V11: February 2020 | W11: August 2020 | X11: February 2021 | Y11: August 2021 | Z11: February 2022 | AB11: August 2022 | AC11: November 2022 | AD11: February 2023 | AE11: May 2023 | AF11: August 2023 | AG11: November 2023 | AI11: February 2024 | AJ11: May 2024 | AK11: August 2024 | AL11: November 2024 | AM11: February 2025 | AN11: May 2025 | AO11: August 2025 | AP11: November 2025 | AQ11: February 2026 | AR11: May 2026 | AS11: August 2026 | AT11: November 2026 | AU11: February 2027 | AV11: May 2027 | AW11: August 2027 | AX11: November 2027 | AY11: February 2028 | AZ11: May 2028 | BA11: August 2028 | BB11: November 2028 | BC11: February 2029 | BD11: May 2029 | BE11: August 2029 | BF11: November 2029 | BG11: February 2030 | BH11: May 2030 | BI11: August 2030
H12: Fiscal year (April to March): | J12: 2015/2016 | K12: 2015/2016 | L12: 2016/2017 | M12: 2016/2017 | N12: 2017/2018 | O12: 2017/2018 | P12: 2018/2019 | Q12: 2018/2019 | S12: 2018/2019 | T12: 2019/2020 | U12: 2019/2020 | V12: 2020/2021 | W12: 2020/2021 | X12: 2021/2022 | Y12: 2021/2022 | Z12: 2022/2023 | AB12: 2022/2023 | AC12: 2022/2023 | AD12: 2023/2024 | AE12: 2023/2024 | AF12: 2023/2024 | AG12: 2023/2024 | AI12: 2024/2025 | AJ12: 2024/2025 | AK12: 2024/2025 | AL12: 2024/2025 | AM12: 2025/2026 | AN12: 2025/2026 | AO12: 2025/2026 | AP12: 2025/2026 | AQ12: 2026/2027 | AR12: 2026/2027 | AS12: 2026/2027 | AT12: 2026/2027 | AU12: 2027/2028 | AV12: 2027/2028 | AW12: 2027/2028 | AX12: 2027/2028 | AY12: 2028/2029 | AZ12: 2028/2029 | BA12: 2028/2029 | BB12: 2028/2029 | BC12: 2029/2030 | BD12: 2029/2030 | BE12: 2029/2030 | BF12: 2029/2030 | BG12: 2030/2031 | BH12: 2030/2031 | BI12: 2030/2031
B13: Electricity | C13: Single-Rate Metering Arrangement | D13: Standard credit | E13: Nil | F13: Eastern | G13: £ per customer per year | J13: - | K13: - | L13: - | M13: - | N13: - | O13: - | P13: - | Q13: - | S13: - | T13: - | U13: - | V13: - | W13: 0 | X13: ='2b COVID Adjustment'!$F$321 -> 1.4870742 | Y13: ='2b COVID Adjustment'!$G$321 -> 0.704571 | Z13: - | AB13: 0 | AC13: 0 | AD13: ='2e COVID true-up adjustment'!F$343 -> 0.41079125 | AE13: ='2e COVID true-up adjustment'!G$343 -> 0.41079125 | AF13: ='2e COVID true-up adjustment'!H$343 -> 0.41079125 | AG13: ='2e COVID true-up adjustment'!I$343 -> 0.41079125 | AI13: ='2g Debt related cost adjustment'!$E$38 -> 0 | AJ13: ='2g Debt related cost adjustment'!$E$38 -> 0 | AK13: ='2g Debt related cost adjustment'!$E$38 -> 0 | AL13: ='2g Debt related cost adjustment'!$E$38 -> 0 | AM13: ='2g Debt related cost adjustment'!$E$38 -> 0 | AN13: - | AO13: - | AP13: - | AQ13: - | AR13: - | AS13: - | AT13: - | AU13: - | AV13: - | AW13: - | AX13: - | AY13: - | AZ13: - | BA13: - | BB13: - | BC13: - | BD13: - | BE13: - | BF13: - | BG13: - | BH13: - | BI13: -
F14: East Midlands | J14: - | K14: - | L14: - | M14: - | N14: - | O14: - | P14: - | Q14: - | S14: - | T14: - | U14: - | V14: - | W14: 0 | X14: ='2b COVID Adjustment'!$F$321 -> 1.4870742 | Y14: ='2b COVID Adjustment'!$G$321 -> 0.704571 | Z14: - | AB14: 0 | AC14: 0 | AD14: ='2e COVID true-up adjustment'!F$343 -> 0.41079125 | AE14: ='2e COVID true-up adjustment'!G$343 -> 0.41079125 | AF14: ='2e COVID true-up adjustment'!H$343 -> 0.41079125 | AG14: ='2e COVID true-up adjustment'!I$343 -> 0.41079125 | AI14: ='2g Debt related cost adjustment'!$E$38 -> 0 | AJ14: ='2g Debt related cost adjustment'!$E$38 -> 0 | AK14: ='2g Debt related cost adjustment'!$E$38 -> 0 | AL14: ='2g Debt related cost adjustment'!$E$38 -> 0 | AM14: ='2g Debt related cost adjustment'!$E$38 -> 0 | AN14: - | AO14: - | AP14: - | AQ14: - | AR14: - | AS14: - | AT14: - | AU14: - | AV14: - | AW14: - | AX14: - | AY14: - | AZ14: - | BA14: - | BB14: - | BC14: - | BD14: - | BE14: - | BF14: - | BG14: - | BH14: - | BI14: -
F15: London | J15: - | K15: - | L15: - | M15: - | N15: - | O15: - | P15: - | Q15: - | S15: - | T15: - | U15: - | V15: - | W15: 0 | X15: ='2b COVID Adjustment'!$F$321 -> 1.4870742 | Y15: ='2b COVID Adjustment'!$G$321 -> 0.704571 | Z15: - | AB15: 0 | AC15: 0 | AD15: ='2e COVID true-up adjustment'!F$343 -> 0.41079125 | AE15: ='2e COVID true-up adjustment'!G$343 -> 0.41079125 | AF15: ='2e COVID true-up adjustment'!H$343 -> 0.41079125 | AG15: ='2e COVID true-up adjustment'!I$343 -> 0.41079125 | AI15: ='2g Debt related cost adjustment'!$E$38 -> 0 | AJ15: ='2g Debt related cost adjustment'!$E$38 -> 0 | AK15: ='2g Debt related cost adjustment'!$E$38 -> 0 | AL15: ='2g Debt related cost adjustment'!$E$38 -> 0 | AM15: ='2g Debt related cost adjustment'!$E$38 -> 0 | AN15: - | AO15: - | AP15: - | AQ15: - | AR15: - | AS15: - | AT15: - | AU15: - | AV15: - | AW15: - | AX15: - | AY15: - | AZ15: - | BA15: - | BB15: - | BC15: - | BD15: - | BE15: - | BF15: - | BG15: - | BH15: - | BI15: -
F16: N Wales and Mersey | J16: - | K16: - | L16: - | M16: - | N16: - | O16: - | P16: - | Q16: - | S16: - | T16: - | U16: - | V16: - | W16: 0 | X16: ='2b COVID Adjustment'!$F$321 -> 1.4870742 | Y16: ='2b COVID Adjustment'!$G$321 -> 0.704571 | Z16: - | AB16: 0 | AC16: 0 | AD16: ='2e COVID true-up adjustment'!F$343 -> 0.41079125 | AE16: ='2e COVID true-up adjustment'!G$343 -> 0.41079125 | AF16: ='2e COVID true-up adjustment'!H$343 -> 0.41079125 | AG16: ='2e COVID true-up adjustment'!I$343 -> 0.41079125 | AI16: ='2g Debt related cost adjustment'!$E$38 -> 0 | AJ16: ='2g Debt related cost adjustment'!$E$38 -> 0 | AK16: ='2g Debt related cost adjustment'!$E$38 -> 0 | AL16: ='2g Debt related cost adjustment'!$E$38 -> 0 | AM16: ='2g Debt related cost adjustment'!$E$38 -> 0 | AN16: - | AO16: - | AP16: - | AQ16: - | AR16: - | AS16: - | AT16: - | AU16: - | AV16: - | AW16: - | AX16: - | AY16: - | AZ16: - | BA16: - | BB16: - | BC16: - | BD16: - | BE16: - | BF16: - | BG16: - | BH16: - | BI16: -
F17: Midlands | J17: - | K17: - | L17: - | M17: - | N17: - | O17: - | P17: - | Q17: - | S17: - | T17: - | U17: - | V17: - | W17: 0 | X17: ='2b COVID Adjustment'!$F$321 -> 1.4870742 | Y17: ='2b COVID Adjustment'!$G$321 -> 0.704571 | Z17: - | AB17: 0 | AC17: 0 | AD17: ='2e COVID true-up adjustment'!F$343 -> 0.41079125 | AE17: ='2e COVID true-up adjustment'!G$343 -> 0.41079125 | AF17: ='2e COVID true-up adjustment'!H$343 -> 0.41079125 | AG17: ='2e COVID true-up adjustment'!I$343 -> 0.41079125 | AI17: ='2g Debt related cost adjustment'!$E$38 -> 0 | AJ17: ='2g Debt related cost adjustment'!$E$38 -> 0 | AK17: ='2g Debt related cost adjustment'!$E$38 -> 0 | AL17: ='2g Debt related cost adjustment'!$E$38 -> 0 | AM17: ='2g Debt related cost adjustment'!$E$38 -> 0 | AN17: - | AO17: - | AP17: - | AQ17: - | AR17: - | AS17: - | AT17: - | AU17: - | AV17: - | AW17: - | AX17: - | AY17: - | AZ17: - | BA17: - | BB17: - | BC17: - | BD17: - | BE17: - | BF17: - | BG17: - | BH17: - | BI17: -
F18: Northern | J18: - | K18: - | L18: - | M18: - | N18: - | O18: - | P18: - | Q18: - | S18: - | T18: - | U18: - | V18: - | W18: 0 | X18: ='2b COVID Adjustment'!$F$321 -> 1.4870742 | Y18: ='2b COVID Adjustment'!$G$321 -> 0.704571 | Z18: - | AB18: 0 | AC18: 0 | AD18: ='2e COVID true-up adjustment'!F$343 -> 0.41079125 | AE18: ='2e COVID true-up adjustment'!G$343 -> 0.41079125 | AF18: ='2e COVID true-up adjustment'!H$343 -> 0.41079125 | AG18: ='2e COVID true-up adjustment'!I$343 -> 0.41079125 | AI18: ='2g Debt related cost adjustment'!$E$38 -> 0 | AJ18: ='2g Debt related cost adjustment'!$E$38 -> 0 | AK18: ='2g Debt related cost adjustment'!$E$38 -> 0 | AL18: ='2g Debt related cost adjustment'!$E$38 -> 0 | AM18: ='2g Debt related cost adjustment'!$E$38 -> 0 | AN18: - | AO18: - | AP18: - | AQ18: - | AR18: - | AS18: - | AT18: - | AU18: - | AV18: - | AW18: - | AX18: - | AY18: - | AZ18: - | BA18: - | BB18: - | BC18: - | BD18: - | BE18: - | BF18: - | BG18: - | BH18: - | BI18: -
F19: North West | J19: - | K19: - | L19: - | M19: - | N19: - | O19: - | P19: - | Q19: - | S19: - | T19: - | U19: - | V19: - | W19: 0 | X19: ='2b COVID Adjustment'!$F$321 -> 1.4870742 | Y19: ='2b COVID Adjustment'!$G$321 -> 0.704571 | Z19: - | AB19: 0 | AC19: 0 | AD19: ='2e COVID true-up adjustment'!F$343 -> 0.41079125 | AE19: ='2e COVID true-up adjustment'!G$343 -> 0.41079125 | AF19: ='2e COVID true-up adjustment'!H$343 -> 0.41079125 | AG19: ='2e COVID true-up adjustment'!I$343 -> 0.41079125 | AI19: ='2g Debt related cost adjustment'!$E$38 -> 0 | AJ19: ='2g Debt related cost adjustment'!$E$38 -> 0 | AK19: ='2g Debt related cost adjustment'!$E$38 -> 0 | AL19: ='2g Debt related cost adjustment'!$E$38 -> 0 | AM19: ='2g Debt related cost adjustment'!$E$38 -> 0 | AN19: - | AO19: - | AP19: - | AQ19: - | AR19: - | AS19: - | AT19: - | AU19: - | AV19: - | AW19: - | AX19: - | AY19: - | AZ19: - | BA19: - | BB19: - | BC19: - | BD19: - | BE19: - | BF19: - | BG19: - | BH19: - | BI19: -
F20: Southern | J20: - | K20: - | L20: - | M20: - | N20: - | O20: - | P20: - | Q20: - | S20: - | T20: - | U20: - | V20: - | W20: 0 | X20: ='2b COVID Adjustment'!$F$321 -> 1.4870742 | Y20: ='2b COVID Adjustment'!$G$321 -> 0.704571 | Z20: - | AB20: 0 | AC20: 0 | AD20: ='2e COVID true-up adjustment'!F$343 -> 0.41079125 | AE20: ='2e COVID true-up adjustment'!G$343 -> 0.41079125 | AF20: ='2e COVID true-up adjustment'!H$343 -> 0.41079125 | AG20: ='2e COVID true-up adjustment'!I$343 -> 0.41079125 | AI20: ='2g Debt related cost adjustment'!$E$38 -> 0 | AJ20: ='2g Debt related cost adjustment'!$E$38 -> 0 | AK20: ='2g Debt related cost adjustment'!$E$38 -> 0 | AL20: ='2g Debt related cost adjustment'!$E$38 -> 0 | AM20: ='2g Debt related cost adjustment'!$E$38 -> 0 | AN20: - | AO20: - | AP20: - | AQ20: - | AR20: - | AS20: - | AT20: - | AU20: - | AV20: - | AW20: - | AX20: - | AY20: - | AZ20: - | BA20: - | BB20: - | BC20: - | BD20: - | BE20: - | BF20: - | BG20: - | BH20: - | BI20: -
F21: South East | J21: - | K21: - | L21: - | M21: - | N21: - | O21: - | P21: - | Q21: - | S21: - | T21: - | U21: - | V21: - | W21: 0 | X21: ='2b COVID Adjustment'!$F$321 -> 1.4870742 | Y21: ='2b COVID Adjustment'!$G$321 -> 0.704571 | Z21: - | AB21: 0 | AC21: 0 | AD21: ='2e COVID true-up adjustment'!F$343 -> 0.41079125 | AE21: ='2e COVID true-up adjustment'!G$343 -> 0.41079125 | AF21: ='2e COVID true-up adjustment'!H$343 -> 0.41079125 | AG21: ='2e COVID true-up adjustment'!I$343 -> 0.41079125 | AI21: ='2g Debt related cost adjustment'!$E$38 -> 0 | AJ21: ='2g Debt related cost adjustment'!$E$38 -> 0 | AK21: ='2g Debt related cost adjustment'!$E$38 -> 0 | AL21: ='2g Debt related cost adjustment'!$E$38 -> 0 | AM21: ='2g Debt related cost adjustment'!$E$38 -> 0 | AN21: - | AO21: - | AP21: - | AQ21: - | AR21: - | AS21: - | AT21: - | AU21: - | AV21: - | AW21: - | AX21: - | AY21: - | AZ21: - | BA21: - | BB21: - | BC21: - | BD21: - | BE21: - | BF21: - | BG21: - | BH21: - | BI21: -
F22: South Wales | J22: - | K22: - | L22: - | M22: - | N22: - | O22: - | P22: - | Q22: - | S22: - | T22: - | U22: - | V22: - | W22: 0 | X22: ='2b COVID Adjustment'!$F$321 -> 1.4870742 | Y22: ='2b COVID Adjustment'!$G$321 -> 0.704571 | Z22: - | AB22: 0 | AC22: 0 | AD22: ='2e COVID true-up adjustment'!F$343 -> 0.41079125 | AE22: ='2e COVID true-up adjustment'!G$343 -> 0.41079125 | AF22: ='2e COVID true-up adjustment'!H$343 -> 0.41079125 | AG22: ='2e COVID true-up adjustment'!I$343 -> 0.41079125 | AI22: ='2g Debt related cost adjustment'!$E$38 -> 0 | AJ22: ='2g Debt related cost adjustment'!$E$38 -> 0 | AK22: ='2g Debt related cost adjustment'!$E$38 -> 0 | AL22: ='2g Debt related cost adjustment'!$E$38 -> 0 | AM22: ='2g Debt related cost adjustment'!$E$38 -> 0 | AN22: - | AO22: - | AP22: - | AQ22: - | AR22: - | AS22: - | AT22: - | AU22: - | AV22: - | AW22: - | AX22: - | AY22: - | AZ22: - | BA22: - | BB22: - | BC22: - | BD22: - | BE22: - | BF22: - | BG22: - | BH22: - | BI22: -
F23: Southern Western | J23: - | K23: - | L23: - | M23: - | N23: - | O23: - | P23: - | Q23: - | S23: - | T23: - | U23: - | V23: - | W23: 0 | X23: ='2b COVID Adjustment'!$F$321 -> 1.4870742 | Y23: ='2b COVID Adjustment'!$G$321 -> 0.704571 | Z23: - | AB23: 0 | AC23: 0 | AD23: ='2e COVID true-up adjustment'!F$343 -> 0.41079125 | AE23: ='2e COVID true-up adjustment'!G$343 -> 0.41079125 | AF23: ='2e COVID true-up adjustment'!H$343 -> 0.41079125 | AG23: ='2e COVID true-up adjustment'!I$343 -> 0.41079125 | AI23: ='2g Debt related cost adjustment'!$E$38 -> 0 | AJ23: ='2g Debt related cost adjustment'!$E$38 -> 0 | AK23: ='2g Debt related cost adjustment'!$E$38 -> 0 | AL23: ='2g Debt related cost adjustment'!$E$38 -> 0 | AM23: ='2g Debt related cost adjustment'!$E$38 -> 0 | AN23: - | AO23: - | AP23: - | AQ23: - | AR23: - | AS23: - | AT23: - | AU23: - | AV23: - | AW23: - | AX23: - | AY23: - | AZ23: - | BA23: - | BB23: - | BC23: - | BD23: - | BE23: - | BF23: - | BG23: - | BH23: - | BI23: -
F24: Yorkshire | J24: - | K24: - | L24: - | M24: - | N24: - | O24: - | P24: - | Q24: - | S24: - | T24: - | U24: - | V24: - | W24: 0 | X24: ='2b COVID Adjustment'!$F$321 -> 1.4870742 | Y24: ='2b COVID Adjustment'!$G$321 -> 0.704571 | Z24: - | AB24: 0 | AC24: 0 | AD24: ='2e COVID true-up adjustment'!F$343 -> 0.41079125 | AE24: ='2e COVID true-up adjustment'!G$343 -> 0.41079125 | AF24: ='2e COVID true-up adjustment'!H$343 -> 0.41079125 | AG24: ='2e COVID true-up adjustment'!I$343 -> 0.41079125 | AI24: ='2g Debt related cost adjustment'!$E$38 -> 0 | AJ24: ='2g Debt related cost adjustment'!$E$38 -> 0 | AK24: ='2g Debt related cost adjustment'!$E$38 -> 0 | AL24: ='2g Debt related cost adjustment'!$E$38 -> 0 | AM24: ='2g Debt related cost adjustment'!$E$38 -> 0 | AN24: - | AO24: - | AP24: - | AQ24: - | AR24: - | AS24: - | AT24: - | AU24: - | AV24: - | AW24: - | AX24: - | AY24: - | AZ24: - | BA24: - | BB24: - | BC24: - | BD24: - | BE24: - | BF24: - | BG24: - | BH24: - | BI24: -
F25: Southern Scotland | J25: - | K25: - | L25: - | M25: - | N25: - | O25: - | P25: - | Q25: - | S25: - | T25: - | U25: - | V25: - | W25: 0 | X25: ='2b COVID Adjustment'!$F$321 -> 1.4870742 | Y25: ='2b COVID Adjustment'!$G$321 -> 0.704571 | Z25: - | AB25: 0 | AC25: 0 | AD25: ='2e COVID true-up adjustment'!F$343 -> 0.41079125 | AE25: ='2e COVID true-up adjustment'!G$343 -> 0.41079125 | AF25: ='2e COVID true-up adjustment'!H$343 -> 0.41079125 | AG25: ='2e COVID true-up adjustment'!I$343 -> 0.41079125 | AI25: ='2g Debt related cost adjustment'!$E$38 -> 0 | AJ25: ='2g Debt related cost adjustment'!$E$38 -> 0 | AK25: ='2g Debt related cost adjustment'!$E$38 -> 0 | AL25: ='2g Debt related cost adjustment'!$E$38 -> 0 | AM25: ='2g Debt related cost adjustment'!$E$38 -> 0 | AN25: - | AO25: - | AP25: - | AQ25: - | AR25: - | AS25: - | AT25: - | AU25: - | AV25: - | AW25: - | AX25: - | AY25: - | AZ25: - | BA25: - | BB25: - | BC25: - | BD25: - | BE25: - | BF25: - | BG25: - | BH25: - | BI25: -
F26: Northern Scotland | J26: - | K26: - | L26: - | M26: - | N26: - | O26: - | P26: - | Q26: - | S26: - | T26: - | U26: - | V26: - | W26: 0 | X26: ='2b COVID Adjustment'!$F$321 -> 1.4870742 | Y26: ='2b COVID Adjustment'!$G$321 -> 0.704571 | Z26: - | AB26: 0 | AC26: 0 | AD26: ='2e COVID true-up adjustment'!F$343 -> 0.41079125 | AE26: ='2e COVID true-up adjustment'!G$343 -> 0.41079125 | AF26: ='2e COVID true-up adjustment'!H$343 -> 0.41079125 | AG26: ='2e COVID true-up adjustment'!I$343 -> 0.41079125 | AI26: ='2g Debt related cost adjustment'!$E$38 -> 0 | AJ26: ='2g Debt related cost adjustment'!$E$38 -> 0 | AK26: ='2g Debt related cost adjustment'!$E$38 -> 0 | AL26: ='2g Debt related cost adjustment'!$E$38 -> 0 | AM26: ='2g Debt related cost adjustment'!$E$38 -> 0 | AN26: - | AO26: - | AP26: - | AQ26: - | AR26: - | AS26: - | AT26: - | AU26: - | AV26: - | AW26: - | AX26: - | AY26: - | AZ26: - | BA26: - | BB26: - | BC26: - | BD26: - | BE26: - | BF26: - | BG26: - | BH26: - | BI26: -
C27: Single-Rate Metering Arrangement | D27: Standard credit | E27: TDCV | F27: Eastern | J27: - | K27: - | L27: - | M27: - | N27: - | O27: - | P27: - | Q27: - | S27: - | T27: - | U27: - | V27: - | W27: ='2a Q1 Adjustment Component'!H51 -> 4.5943353 | X27: ='2b COVID Adjustment'!$F$322 -> 9.9756951 | Y27: ='2b COVID Adjustment'!$G$322 -> 4.43 | Z27: - | AB27: ='2c AWC adjustment'!$I14+'2d Backwardation adjustment'!$I14 -> 20.827977 | AC27: ='2c AWC adjustment'!$I14+'2d Backwardation adjustment'!$I14 -> 20.827977 | AD27: ='2c AWC adjustment'!$J14+'2d Backwardation adjustment'!$J14+'2e COVID true-up adjustment'!F$344 -> 26.839194 | AE27: ='2c AWC adjustment'!$J14+'2d Backwardation adjustment'!$J14+'2e COVID true-up adjustment'!G$344+'2f RO Ringfencing adjustment'!I31 -> 35.255648 | AF27: ='2e COVID true-up adjustment'!H$344 -> 6.0112172 | AG27: ='2e COVID true-up adjustment'!I$344 -> 6.0112172 | AI27: ='2g Debt related cost adjustment'!$E$39 -> 15.899644 | AJ27: ='2g Debt related cost adjustment'!$E$39 -> 15.899644 | AK27: ='2g Debt related cost adjustment'!$E$39 -> 15.899644 | AL27: ='2g Debt related cost adjustment'!$E$39 -> 15.899644 | AM27: ='2g Debt related cost adjustment'!$E$39 -> 15.899644 | AN27: - | AO27: - | AP27: - | AQ27: - | AR27: - | AS27: - | AT27: - | AU27: - | AV27: - | AW27: - | AX27: - | AY27: - | AZ27: - | BA27: - | BB27: - | BC27: - | BD27: - | BE27: - | BF27: - | BG27: - | BH27: - | BI27: -
F28: East Midlands | J28: - | K28: - | L28: - | M28: - | N28: - | O28: - | P28: - | Q28: - | S28: - | T28: - | U28: - | V28: - | W28: ='2a Q1 Adjustment Component'!H52 -> 4.5369997 | X28: ='2b COVID Adjustment'!$F$322 -> 9.9756951 | Y28: ='2b COVID Adjustment'!$G$322 -> 4.43 | Z28: - | AB28: ='2c AWC adjustment'!$I15+'2d Backwardation adjustment'!$I15 -> 20.450772 | AC28: ='2c AWC adjustment'!$I15+'2d Backwardation adjustment'!$I15 -> 20.450772 | AD28: ='2c AWC adjustment'!$J15+'2d Backwardation adjustment'!$J15+'2e COVID true-up adjustment'!F$344 -> 26.46199 | AE28: ='2c AWC adjustment'!$J15+'2d Backwardation adjustment'!$J15+'2e COVID true-up adjustment'!G$344+'2f RO Ringfencing adjustment'!I32 -> 34.878444 | AF28: ='2e COVID true-up adjustment'!H$344 -> 6.0112172 | AG28: ='2e COVID true-up adjustment'!I$344 -> 6.0112172 | AI28: ='2g Debt related cost adjustment'!$E$39 -> 15.899644 | AJ28: ='2g Debt related cost adjustment'!$E$39 -> 15.899644 | AK28: ='2g Debt related cost adjustment'!$E$39 -> 15.899644 | AL28: ='2g Debt related cost adjustment'!$E$39 -> 15.899644 | AM28: ='2g Debt related cost adjustment'!$E$39 -> 15.899644 | AN28: - | AO28: - | AP28: - | AQ28: - | AR28: - | AS28: - | AT28: - | AU28: - | AV28: - | AW28: - | AX28: - | AY28: - | AZ28: - | BA28: - | BB28: - | BC28: - | BD28: - | BE28: - | BF28: - | BG28: - | BH28: - | BI28: -
F29: London | J29: - | K29: - | L29: - | M29: - | N29: - | O29: - | P29: - | Q29: - | S29: - | T29: - | U29: - | V29: - | W29: ='2a Q1 Adjustment Component'!H53 -> 4.6337753 | X29: ='2b COVID Adjustment'!$F$322 -> 9.9756951 | Y29: ='2b COVID Adjustment'!$G$322 -> 4.43 | Z29: - | AB29: ='2c AWC adjustment'!$I16+'2d Backwardation adjustment'!$I16 -> 21.093801 | AC29: ='2c AWC adjustment'!$I16+'2d Backwardation adjustment'!$I16 -> 21.093801 | AD29: ='2c AWC adjustment'!$J16+'2d Backwardation adjustment'!$J16+'2e COVID true-up adjustment'!F$344 -> 27.105018 | AE29: ='2c AWC adjustment'!$J16+'2d Backwardation adjustment'!$J16+'2e COVID true-up adjustment'!G$344+'2f RO Ringfencing adjustment'!I33 -> 35.521472 | AF29: ='2e COVID true-up adjustment'!H$344 -> 6.0112172 | AG29: ='2e COVID true-up adjustment'!I$344 -> 6.0112172 | AI29: ='2g Debt related cost adjustment'!$E$39 -> 15.899644 | AJ29: ='2g Debt related cost adjustment'!$E$39 -> 15.899644 | AK29: ='2g Debt related cost adjustment'!$E$39 -> 15.899644 | AL29: ='2g Debt related cost adjustment'!$E$39 -> 15.899644 | AM29: ='2g Debt related cost adjustment'!$E$39 -> 15.899644 | AN29: - | AO29: - | AP29: - | AQ29: - | AR29: - | AS29: - | AT29: - | AU29: - | AV29: - | AW29: - | AX29: - | AY29: - | AZ29: - | BA29: - | BB29: - | BC29: - | BD29: - | BE29: - | BF29: - | BG29: - | BH29: - | BI29: -
F30: N Wales and Mersey | J30: - | K30: - | L30: - | M30: - | N30: - | O30: - | P30: - | Q30: - | S30: - | T30: - | U30: - | V30: - | W30: ='2a Q1 Adjustment Component'!H54 -> 4.6674065 | X30: ='2b COVID Adjustment'!$F$322 -> 9.9756951 | Y30: ='2b COVID Adjustment'!$G$322 -> 4.43 | Z30: - | AB30: ='2c AWC adjustment'!$I17+'2d Backwardation adjustment'!$I17 -> 21.332768 | AC30: ='2c AWC adjustment'!$I17+'2d Backwardation adjustment'!$I17 -> 21.332768 | AD30: ='2c AWC adjustment'!$J17+'2d Backwardation adjustment'!$J17+'2e COVID true-up adjustment'!F$344 -> 27.343985 | AE30: ='2c AWC adjustment'!$J17+'2d Backwardation adjustment'!$J17+'2e COVID true-up adjustment'!G$344+'2f RO Ringfencing adjustment'!I34 -> 35.760439 | AF30: ='2e COVID true-up adjustment'!H$344 -> 6.0112172 | AG30: ='2e COVID true-up adjustment'!I$344 -> 6.0112172 | AI30: ='2g Debt related cost adjustment'!$E$39 -> 15.899644 | AJ30: ='2g Debt related cost adjustment'!$E$39 -> 15.899644 | AK30: ='2g Debt related cost adjustment'!$E$39 -> 15.899644 | AL30: ='2g Debt related cost adjustment'!$E$39 -> 15.899644 | AM30: ='2g Debt related cost adjustment'!$E$39 -> 15.899644 | AN30: - | AO30: - | AP30: - | AQ30: - | AR30: - | AS30: - | AT30: - | AU30: - | AV30: - | AW30: - | AX30: - | AY30: - | AZ30: - | BA30: - | BB30: - | BC30: - | BD30: - | BE30: - | BF30: - | BG30: - | BH30: - | BI30: -
F31: Midlands | J31: - | K31: - | L31: - | M31: - | N31: - | O31: - | P31: - | Q31: - | S31: - | T31: - | U31: - | V31: - | W31: ='2a Q1 Adjustment Component'!H55 -> 4.5700998 | X31: ='2b COVID Adjustment'!$F$322 -> 9.9756951 | Y31: ='2b COVID Adjustment'!$G$322 -> 4.43 | Z31: - | AB31: ='2c AWC adjustment'!$I18+'2d Backwardation adjustment'!$I18 -> 20.861513 | AC31: ='2c AWC adjustment'!$I18+'2d Backwardation adjustment'!$I18 -> 20.861513 | AD31: ='2c AWC adjustment'!$J18+'2d Backwardation adjustment'!$J18+'2e COVID true-up adjustment'!F$344 -> 26.87273 | AE31: ='2c AWC adjustment'!$J18+'2d Backwardation adjustment'!$J18+'2e COVID true-up adjustment'!G$344+'2f RO Ringfencing adjustment'!I35 -> 35.289184 | AF31: ='2e COVID true-up adjustment'!H$344 -> 6.0112172 | AG31: ='2e COVID true-up adjustment'!I$344 -> 6.0112172 | AI31: ='2g Debt related cost adjustment'!$E$39 -> 15.899644 | AJ31: ='2g Debt related cost adjustment'!$E$39 -> 15.899644 | AK31: ='2g Debt related cost adjustment'!$E$39 -> 15.899644 | AL31: ='2g Debt related cost adjustment'!$E$39 -> 15.899644 | AM31: ='2g Debt related cost adjustment'!$E$39 -> 15.899644 | AN31: - | AO31: - | AP31: - | AQ31: - | AR31: - | AS31: - | AT31: - | AU31: - | AV31: - | AW31: - | AX31: - | AY31: - | AZ31: - | BA31: - | BB31: - | BC31: - | BD31: - | BE31: - | BF31: - | BG31: - | BH31: - | BI31: -
F32: Northern | J32: - | K32: - | L32: - | M32: - | N32: - | O32: - | P32: - | Q32: - | S32: - | T32: - | U32: - | V32: - | W32: ='2a Q1 Adjustment Component'!H56 -> 4.514976 | X32: ='2b COVID Adjustment'!$F$322 -> 9.9756951 | Y32: ='2b COVID Adjustment'!$G$322 -> 4.43 | Z32: - | AB32: ='2c AWC adjustment'!$I19+'2d Backwardation adjustment'!$I19 -> 20.243837 | AC32: ='2c AWC adjustment'!$I19+'2d Backwardation adjustment'!$I19 -> 20.243837 | AD32: ='2c AWC adjustment'!$J19+'2d Backwardation adjustment'!$J19+'2e COVID true-up adjustment'!F$344 -> 26.255054 | AE32: ='2c AWC adjustment'!$J19+'2d Backwardation adjustment'!$J19+'2e COVID true-up adjustment'!G$344+'2f RO Ringfencing adjustment'!I36 -> 34.671508 | AF32: ='2e COVID true-up adjustment'!H$344 -> 6.0112172 | AG32: ='2e COVID true-up adjustment'!I$344 -> 6.0112172 | AI32: ='2g Debt related cost adjustment'!$E$39 -> 15.899644 | AJ32: ='2g Debt related cost adjustment'!$E$39 -> 15.899644 | AK32: ='2g Debt related cost adjustment'!$E$39 -> 15.899644 | AL32: ='2g Debt related cost adjustment'!$E$39 -> 15.899644 | AM32: ='2g Debt related cost adjustment'!$E$39 -> 15.899644 | AN32: - | AO32: - | AP32: - | AQ32: - | AR32: - | AS32: - | AT32: - | AU32: - | AV32: - | AW32: - | AX32: - | AY32: - | AZ32: - | BA32: - | BB32: - | BC32: - | BD32: - | BE32: - | BF32: - | BG32: - | BH32: - | BI32: -
F33: North West | J33: - | K33: - | L33: - | M33: - | N33: - | O33: - | P33: - | Q33: - | S33: - | T33: - | U33: - | V33: - | W33: ='2a Q1 Adjustment Component'!H57 -> 4.5915836 | X33: ='2b COVID Adjustment'!$F$322 -> 9.9756951 | Y33: ='2b COVID Adjustment'!$G$322 -> 4.43 | Z33: - | AB33: ='2c AWC adjustment'!$I20+'2d Backwardation adjustment'!$I20 -> 20.569743 | AC33: ='2c AWC adjustment'!$I20+'2d Backwardation adjustment'!$I20 -> 20.569743 | AD33: ='2c AWC adjustment'!$J20+'2d Backwardation adjustment'!$J20+'2e COVID true-up adjustment'!F$344 -> 26.580961 | AE33: ='2c AWC adjustment'!$J20+'2d Backwardation adjustment'!$J20+'2e COVID true-up adjustment'!G$344+'2f RO Ringfencing adjustment'!I37 -> 34.997415 | AF33: ='2e COVID true-up adjustment'!H$344 -> 6.0112172 | AG33: ='2e COVID true-up adjustment'!I$344 -> 6.0112172 | AI33: ='2g Debt related cost adjustment'!$E$39 -> 15.899644 | AJ33: ='2g Debt related cost adjustment'!$E$39 -> 15.899644 | AK33: ='2g Debt related cost adjustment'!$E$39 -> 15.899644 | AL33: ='2g Debt related cost adjustment'!$E$39 -> 15.899644 | AM33: ='2g Debt related cost adjustment'!$E$39 -> 15.899644 | AN33: - | AO33: - | AP33: - | AQ33: - | AR33: - | AS33: - | AT33: - | AU33: - | AV33: - | AW33: - | AX33: - | AY33: - | AZ33: - | BA33: - | BB33: - | BC33: - | BD33: - | BE33: - | BF33: - | BG33: - | BH33: - | BI33: -
F34: Southern | J34: - | K34: - | L34: - | M34: - | N34: - | O34: - | P34: - | Q34: - | S34: - | T34: - | U34: - | V34: - | W34: ='2a Q1 Adjustment Component'!H58 -> 4.5563475 | X34: ='2b COVID Adjustment'!$F$322 -> 9.9756951 | Y34: ='2b COVID Adjustment'!$G$322 -> 4.43 | Z34: - | AB34: ='2c AWC adjustment'!$I21+'2d Backwardation adjustment'!$I21 -> 20.802418 | AC34: ='2c AWC adjustment'!$I21+'2d Backwardation adjustment'!$I21 -> 20.802418 | AD34: ='2c AWC adjustment'!$J21+'2d Backwardation adjustment'!$J21+'2e COVID true-up adjustment'!F$344 -> 26.813635 | AE34: ='2c AWC adjustment'!$J21+'2d Backwardation adjustment'!$J21+'2e COVID true-up adjustment'!G$344+'2f RO Ringfencing adjustment'!I38 -> 35.230089 | AF34: ='2e COVID true-up adjustment'!H$344 -> 6.0112172 | AG34: ='2e COVID true-up adjustment'!I$344 -> 6.0112172 | AI34: ='2g Debt related cost adjustment'!$E$39 -> 15.899644 | AJ34: ='2g Debt related cost adjustment'!$E$39 -> 15.899644 | AK34: ='2g Debt related cost adjustment'!$E$39 -> 15.899644 | AL34: ='2g Debt related cost adjustment'!$E$39 -> 15.899644 | AM34: ='2g Debt related cost adjustment'!$E$39 -> 15.899644 | AN34: - | AO34: - | AP34: - | AQ34: - | AR34: - | AS34: - | AT34: - | AU34: - | AV34: - | AW34: - | AX34: - | AY34: - | AZ34: - | BA34: - | BB34: - | BC34: - | BD34: - | BE34: - | BF34: - | BG34: - | BH34: - | BI34: -
F35: South East | J35: - | K35: - | L35: - | M35: - | N35: - | O35: - | P35: - | Q35: - | S35: - | T35: - | U35: - | V35: - | W35: ='2a Q1 Adjustment Component'!H59 -> 4.566649 | X35: ='2b COVID Adjustment'!$F$322 -> 9.9756951 | Y35: ='2b COVID Adjustment'!$G$322 -> 4.43 | Z35: - | AB35: ='2c AWC adjustment'!$I22+'2d Backwardation adjustment'!$I22 -> 20.840254 | AC35: ='2c AWC adjustment'!$I22+'2d Backwardation adjustment'!$I22 -> 20.840254 | AD35: ='2c AWC adjustment'!$J22+'2d Backwardation adjustment'!$J22+'2e COVID true-up adjustment'!F$344 -> 26.851472 | AE35: ='2c AWC adjustment'!$J22+'2d Backwardation adjustment'!$J22+'2e COVID true-up adjustment'!G$344+'2f RO Ringfencing adjustment'!I39 -> 35.267926 | AF35: ='2e COVID true-up adjustment'!H$344 -> 6.0112172 | AG35: ='2e COVID true-up adjustment'!I$344 -> 6.0112172 | AI35: ='2g Debt related cost adjustment'!$E$39 -> 15.899644 | AJ35: ='2g Debt related cost adjustment'!$E$39 -> 15.899644 | AK35: ='2g Debt related cost adjustment'!$E$39 -> 15.899644 | AL35: ='2g Debt related cost adjustment'!$E$39 -> 15.899644 | AM35: ='2g Debt related cost adjustment'!$E$39 -> 15.899644 | AN35: - | AO35: - | AP35: - | AQ35: - | AR35: - | AS35: - | AT35: - | AU35: - | AV35: - | AW35: - | AX35: - | AY35: - | AZ35: - | BA35: - | BB35: - | BC35: - | BD35: - | BE35: - | BF35: - | BG35: - | BH35: - | BI35: -
F36: South Wales | J36: - | K36: - | L36: - | M36: - | N36: - | O36: - | P36: - | Q36: - | S36: - | T36: - | U36: - | V36: - | W36: ='2a Q1 Adjustment Component'!H60 -> 4.5038229 | X36: ='2b COVID Adjustment'!$F$322 -> 9.9756951 | Y36: ='2b COVID Adjustment'!$G$322 -> 4.43 | Z36: - | AB36: ='2c AWC adjustment'!$I23+'2d Backwardation adjustment'!$I23 -> 20.719452 | AC36: ='2c AWC adjustment'!$I23+'2d Backwardation adjustment'!$I23 -> 20.719452 | AD36: ='2c AWC adjustment'!$J23+'2d Backwardation adjustment'!$J23+'2e COVID true-up adjustment'!F$344 -> 26.730669 | AE36: ='2c AWC adjustment'!$J23+'2d Backwardation adjustment'!$J23+'2e COVID true-up adjustment'!G$344+'2f RO Ringfencing adjustment'!I40 -> 35.147123 | AF36: ='2e COVID true-up adjustment'!H$344 -> 6.0112172 | AG36: ='2e COVID true-up adjustment'!I$344 -> 6.0112172 | AI36: ='2g Debt related cost adjustment'!$E$39 -> 15.899644 | AJ36: ='2g Debt related cost adjustment'!$E$39 -> 15.899644 | AK36: ='2g Debt related cost adjustment'!$E$39 -> 15.899644 | AL36: ='2g Debt related cost adjustment'!$E$39 -> 15.899644 | AM36: ='2g Debt related cost adjustment'!$E$39 -> 15.899644 | AN36: - | AO36: - | AP36: - | AQ36: - | AR36: - | AS36: - | AT36: - | AU36: - | AV36: - | AW36: - | AX36: - | AY36: - | AZ36: - | BA36: - | BB36: - | BC36: - | BD36: - | BE36: - | BF36: - | BG36: - | BH36: - | BI36: -
F37: Southern Western | J37: - | K37: - | L37: - | M37: - | N37: - | O37: - | P37: - | Q37: - | S37: - | T37: - | U37: - | V37: - | W37: ='2a Q1 Adjustment Component'!H61 -> 4.4837546 | X37: ='2b COVID Adjustment'!$F$322 -> 9.9756951 | Y37: ='2b COVID Adjustment'!$G$322 -> 4.43 | Z37: - | AB37: ='2c AWC adjustment'!$I24+'2d Backwardation adjustment'!$I24 -> 20.517182 | AC37: ='2c AWC adjustment'!$I24+'2d Backwardation adjustment'!$I24 -> 20.517182 | AD37: ='2c AWC adjustment'!$J24+'2d Backwardation adjustment'!$J24+'2e COVID true-up adjustment'!F$344 -> 26.5284 | AE37: ='2c AWC adjustment'!$J24+'2d Backwardation adjustment'!$J24+'2e COVID true-up adjustment'!G$344+'2f RO Ringfencing adjustment'!I41 -> 34.944854 | AF37: ='2e COVID true-up adjustment'!H$344 -> 6.0112172 | AG37: ='2e COVID true-up adjustment'!I$344 -> 6.0112172 | AI37: ='2g Debt related cost adjustment'!$E$39 -> 15.899644 | AJ37: ='2g Debt related cost adjustment'!$E$39 -> 15.899644 | AK37: ='2g Debt related cost adjustment'!$E$39 -> 15.899644 | AL37: ='2g Debt related cost adjustment'!$E$39 -> 15.899644 | AM37: ='2g Debt related cost adjustment'!$E$39 -> 15.899644 | AN37: - | AO37: - | AP37: - | AQ37: - | AR37: - | AS37: - | AT37: - | AU37: - | AV37: - | AW37: - | AX37: - | AY37: - | AZ37: - | BA37: - | BB37: - | BC37: - | BD37: - | BE37: - | BF37: - | BG37: - | BH37: - | BI37: -
F38: Yorkshire | J38: - | K38: - | L38: - | M38: - | N38: - | O38: - | P38: - | Q38: - | S38: - | T38: - | U38: - | V38: - | W38: ='2a Q1 Adjustment Component'!H62 -> 4.5725713 | X38: ='2b COVID Adjustment'!$F$322 -> 9.9756951 | Y38: ='2b COVID Adjustment'!$G$322 -> 4.43 | Z38: - | AB38: ='2c AWC adjustment'!$I25+'2d Backwardation adjustment'!$I25 -> 20.696038 | AC38: ='2c AWC adjustment'!$I25+'2d Backwardation adjustment'!$I25 -> 20.696038 | AD38: ='2c AWC adjustment'!$J25+'2d Backwardation adjustment'!$J25+'2e COVID true-up adjustment'!F$344 -> 26.707256 | AE38: ='2c AWC adjustment'!$J25+'2d Backwardation adjustment'!$J25+'2e COVID true-up adjustment'!G$344+'2f RO Ringfencing adjustment'!I42 -> 35.12371 | AF38: ='2e COVID true-up adjustment'!H$344 -> 6.0112172 | AG38: ='2e COVID true-up adjustment'!I$344 -> 6.0112172 | AI38: ='2g Debt related cost adjustment'!$E$39 -> 15.899644 | AJ38: ='2g Debt related cost adjustment'!$E$39 -> 15.899644 | AK38: ='2g Debt related cost adjustment'!$E$39 -> 15.899644 | AL38: ='2g Debt related cost adjustment'!$E$39 -> 15.899644 | AM38: ='2g Debt related cost adjustment'!$E$39 -> 15.899644 | AN38: - | AO38: - | AP38: - | AQ38: - | AR38: - | AS38: - | AT38: - | AU38: - | AV38: - | AW38: - | AX38: - | AY38: - | AZ38: - | BA38: - | BB38: - | BC38: - | BD38: - | BE38: - | BF38: - | BG38: - | BH38: - | BI38: -
F39: Southern Scotland | J39: - | K39: - | L39: - | M39: - | N39: - | O39: - | P39: - | Q39: - | S39: - | T39: - | U39: - | V39: - | W39: ='2a Q1 Adjustment Component'!H63 -> 4.5761635 | X39: ='2b COVID Adjustment'!$F$322 -> 9.9756951 | Y39: ='2b COVID Adjustment'!$G$322 -> 4.43 | Z39: - | AB39: ='2c AWC adjustment'!$I26+'2d Backwardation adjustment'!$I26 -> 20.922096 | AC39: ='2c AWC adjustment'!$I26+'2d Backwardation adjustment'!$I26 -> 20.922096 | AD39: ='2c AWC adjustment'!$J26+'2d Backwardation adjustment'!$J26+'2e COVID true-up adjustment'!F$344 -> 26.933313 | AE39: ='2c AWC adjustment'!$J26+'2d Backwardation adjustment'!$J26+'2e COVID true-up adjustment'!G$344+'2f RO Ringfencing adjustment'!I43 -> 35.349767 | AF39: ='2e COVID true-up adjustment'!H$344 -> 6.0112172 | AG39: ='2e COVID true-up adjustment'!I$344 -> 6.0112172 | AI39: ='2g Debt related cost adjustment'!$E$39 -> 15.899644 | AJ39: ='2g Debt related cost adjustment'!$E$39 -> 15.899644 | AK39: ='2g Debt related cost adjustment'!$E$39 -> 15.899644 | AL39: ='2g Debt related cost adjustment'!$E$39 -> 15.899644 | AM39: ='2g Debt related cost adjustment'!$E$39 -> 15.899644 | AN39: - | AO39: - | AP39: - | AQ39: - | AR39: - | AS39: - | AT39: - | AU39: - | AV39: - | AW39: - | AX39: - | AY39: - | AZ39: - | BA39: - | BB39: - | BC39: - | BD39: - | BE39: - | BF39: - | BG39: - | BH39: - | BI39: -
F40: Northern Scotland | J40: - | K40: - | L40: - | M40: - | N40: - | O40: - | P40: - | Q40: - | S40: - | T40: - | U40: - | V40: - | W40: ='2a Q1 Adjustment Component'!H64 -> 4.5227059 | X40: ='2b COVID Adjustment'!$F$322 -> 9.9756951 | Y40: ='2b COVID Adjustment'!$G$322 -> 4.43 | Z40: - | AB40: ='2c AWC adjustment'!$I27+'2d Backwardation adjustment'!$I27 -> 20.431841 | AC40: ='2c AWC adjustment'!$I27+'2d Backwardation adjustment'!$I27 -> 20.431841 | AD40: ='2c AWC adjustment'!$J27+'2d Backwardation adjustment'!$J27+'2e COVID true-up adjustment'!F$344 -> 26.443058 | AE40: ='2c AWC adjustment'!$J27+'2d Backwardation adjustment'!$J27+'2e COVID true-up adjustment'!G$344+'2f RO Ringfencing adjustment'!I44 -> 34.859512 | AF40: ='2e COVID true-up adjustment'!H$344 -> 6.0112172 | AG40: ='2e COVID true-up adjustment'!I$344 -> 6.0112172 | AI40: ='2g Debt related cost adjustment'!$E$39 -> 15.899644 | AJ40: ='2g Debt related cost adjustment'!$E$39 -> 15.899644 | AK40: ='2g Debt related cost adjustment'!$E$39 -> 15.899644 | AL40: ='2g Debt related cost adjustment'!$E$39 -> 15.899644 | AM40: ='2g Debt related cost adjustment'!$E$39 -> 15.899644 | AN40: - | AO40: - | AP40: - | AQ40: - | AR40: - | AS40: - | AT40: - | AU40: - | AV40: - | AW40: - | AX40: - | AY40: - | AZ40: - | BA40: - | BB40: - | BC40: - | BD40: - | BE40: - | BF40: - | BG40: - | BH40: - | BI40: -
C41: Single-Rate Metering Arrangement | D41: Other Payment Method | E41: Nil | F41: Eastern | J41: - | K41: - | L41: - | M41: - | N41: - | O41: - | P41: - | Q41: - | S41: - | T41: - | U41: - | V41: - | W41: 0 | X41: ='2b COVID Adjustment'!$F$323 -> 1.4870742 | Y41: ='2b COVID Adjustment'!$G$323 -> 0.704571 | Z41: - | AB41: 0 | AC41: 0 | AD41: ='2e COVID true-up adjustment'!F$345 -> 0.41079125 | AE41: ='2e COVID true-up adjustment'!G$345 -> 0.41079125 | AF41: ='2e COVID true-up adjustment'!H$345 -> 0.41079125 | AG41: ='2e COVID true-up adjustment'!I$345 -> 0.41079125 | AI41: ='2g Debt related cost adjustment'!$E$40 -> 0 | AJ41: ='2g Debt related cost adjustment'!$E$40 -> 0 | AK41: ='2g Debt related cost adjustment'!$E$40 -> 0 | AL41: ='2g Debt related cost adjustment'!$E$40 -> 0 | AM41: ='2g Debt related cost adjustment'!$E$40 -> 0 | AN41: - | AO41: - | AP41: - | AQ41: - | AR41: - | AS41: - | AT41: - | AU41: - | AV41: - | AW41: - | AX41: - | AY41: - | AZ41: - | BA41: - | BB41: - | BC41: - | BD41: - | BE41: - | BF41: - | BG41: - | BH41: - | BI41: -
F42: East Midlands | J42: - | K42: - | L42: - | M42: - | N42: - | O42: - | P42: - | Q42: - | S42: - | T42: - | U42: - | V42: - | W42: 0 | X42: ='2b COVID Adjustment'!$F$323 -> 1.4870742 | Y42: ='2b COVID Adjustment'!$G$323 -> 0.704571 | Z42: - | AB42: 0 | AC42: 0 | AD42: ='2e COVID true-up adjustment'!F$345 -> 0.41079125 | AE42: ='2e COVID true-up adjustment'!G$345 -> 0.41079125 | AF42: ='2e COVID true-up adjustment'!H$345 -> 0.41079125 | AG42: ='2e COVID true-up adjustment'!I$345 -> 0.41079125 | AI42: ='2g Debt related cost adjustment'!$E$40 -> 0 | AJ42: ='2g Debt related cost adjustment'!$E$40 -> 0 | AK42: ='2g Debt related cost adjustment'!$E$40 -> 0 | AL42: ='2g Debt related cost adjustment'!$E$40 -> 0 | AM42: ='2g Debt related cost adjustment'!$E$40 -> 0 | AN42: - | AO42: - | AP42: - | AQ42: - | AR42: - | AS42: - | AT42: - | AU42: - | AV42: - | AW42: - | AX42: - | AY42: - | AZ42: - | BA42: - | BB42: - | BC42: - | BD42: - | BE42: - | BF42: - | BG42: - | BH42: - | BI42: -
F43: London | J43: - | K43: - | L43: - | M43: - | N43: - | O43: - | P43: - | Q43: - | S43: - | T43: - | U43: - | V43: - | W43: 0 | X43: ='2b COVID Adjustment'!$F$323 -> 1.4870742 | Y43: ='2b COVID Adjustment'!$G$323 -> 0.704571 | Z43: - | AB43: 0 | AC43: 0 | AD43: ='2e COVID true-up adjustment'!F$345 -> 0.41079125 | AE43: ='2e COVID true-up adjustment'!G$345 -> 0.41079125 | AF43: ='2e COVID true-up adjustment'!H$345 -> 0.41079125 | AG43: ='2e COVID true-up adjustment'!I$345 -> 0.41079125 | AI43: ='2g Debt related cost adjustment'!$E$40 -> 0 | AJ43: ='2g Debt related cost adjustment'!$E$40 -> 0 | AK43: ='2g Debt related cost adjustment'!$E$40 -> 0 | AL43: ='2g Debt related cost adjustment'!$E$40 -> 0 | AM43: ='2g Debt related cost adjustment'!$E$40 -> 0 | AN43: - | AO43: - | AP43: - | AQ43: - | AR43: - | AS43: - | AT43: - | AU43: - | AV43: - | AW43: - | AX43: - | AY43: - | AZ43: - | BA43: - | BB43: - | BC43: - | BD43: - | BE43: - | BF43: - | BG43: - | BH43: - | BI43: -
F44: N Wales and Mersey | J44: - | K44: - | L44: - | M44: - | N44: - | O44: - | P44: - | Q44: - | S44: - | T44: - | U44: - | V44: - | W44: 0 | X44: ='2b COVID Adjustment'!$F$323 -> 1.4870742 | Y44: ='2b COVID Adjustment'!$G$323 -> 0.704571 | Z44: - | AB44: 0 | AC44: 0 | AD44: ='2e COVID true-up adjustment'!F$345 -> 0.41079125 | AE44: ='2e COVID true-up adjustment'!G$345 -> 0.41079125 | AF44: ='2e COVID true-up adjustment'!H$345 -> 0.41079125 | AG44: ='2e COVID true-up adjustment'!I$345 -> 0.41079125 | AI44: ='2g Debt related cost adjustment'!$E$40 -> 0 | AJ44: ='2g Debt related cost adjustment'!$E$40 -> 0 | AK44: ='2g Debt related cost adjustment'!$E$40 -> 0 | AL44: ='2g Debt related cost adjustment'!$E$40 -> 0 | AM44: ='2g Debt related cost adjustment'!$E$40 -> 0 | AN44: - | AO44: - | AP44: - | AQ44: - | AR44: - | AS44: - | AT44: - | AU44: - | AV44: - | AW44: - | AX44: - | AY44: - | AZ44: - | BA44: - | BB44: - | BC44: - | BD44: - | BE44: - | BF44: - | BG44: - | BH44: - | BI44: -
...

Sheet 2. Calculate=>

Sheet 2a Q1 Adjustment Component
A2: Q1 adjustment component
A3: This tab shows the Q1 Adjustment component for each fuel, Charge Restriction Region, Benchmark Metering Arrangement and 28AD Charge Restriction Period. The values below are for Benchmark Annual Consumption Level m kWh (typical consumption). The value of the Direct Fuel Cost Component at Benchmark Annual Consumption Level nil kWh is zero. On this tab, we take the adjusted charge (£ per MWh), apply allowances (for things like shaping, forecast error, etc) then apply an uplift for regional electricity losses and finally calculate the £ per customer amount
B7: Fuel | C7: Benchmark Metering Arrangement | D7: Charge Restriction Region | E7: Unit | H7: Values to be used to update level of default tariff cap
H8: These are the values that will be populated to calculate the updated level of the default tariff cap
F9: 28AD Charge Restriction Period: | H9: October 2020 - March 2021
B12: 1. Volume adjusted charge (2020 prices)
B13: Electricity | C13: Single-Rate Metering Arrangement | E13: £/MWh at transmission system | H13: ='3a Adjustment term'!B70 -> 1.2589103
C14: Multi-Register Metering Arrangement | E14: £/MWh at transmission system | H14: ='3a Adjustment term'!C70 -> 1.3374909
B15: Gas | C15: n/a | E15: £/MWh at NBP | H15: ='3a Adjustment term'!D70 -> 0.82962005
B16: 2. Apply allowance for shaping, forecast error and imbalance; transaction costs; and basis risk
B17: Electricity | C17: Single-Rate Metering Arrangement | E17: £/MWh at transmission system | H17: =IF(H13="-","-",H13*(1+'3b Allowances'!B15)) -> 1.3518668
C18: Multi-Register Metering Arrangement | E18: £/MWh at transmission system | H18: =IF(H14="-","-",H14*(1+'3b Allowances'!C15)) -> 1.4362497
B19: Gas | C19: n/a | E19: £/MWh at NBP | H19: =IF(H15="-","-",H15*(1+SUM('3b Allowances'!$B$20:$B$24))) -> 0.8762609
B20: 3. Apply regional electricity losses and unidentified gas uplift
B21: Electricity | C21: Single-Rate Metering Arrangement | D21: Eastern | E21: £/MWh supplied | H21: =IF(H$17="-","-",H$17*'3d Electricity losses'!O11) -> 1.4820437
D22: East Midlands | H22: =IF(H$17="-","-",H$17*'3d Electricity losses'!O12) -> 1.4635483
D23: London | H23: =IF(H$17="-","-",H$17*'3d Electricity losses'!O13) -> 1.4947662
D24: N Wales and Mersey | H24: =IF(H$17="-","-",H$17*'3d Electricity losses'!O14) -> 1.505615
D25: Midlands | H25: =IF(H$17="-","-",H$17*'3d Electricity losses'!O15) -> 1.4742257
D26: Northern | H26: =IF(H$17="-","-",H$17*'3d Electricity losses'!O16) -> 1.4564439
D27: North West | H27: =IF(H$17="-","-",H$17*'3d Electricity losses'!O17) -> 1.481156
D28: Southern | H28: =IF(H$17="-","-",H$17*'3d Electricity losses'!O18) -> 1.4697895
D29: South East | H29: =IF(H$17="-","-",H$17*'3d Electricity losses'!O19) -> 1.4731126
D30: South Wales | H30: =IF(H$17="-","-",H$17*'3d Electricity losses'!O20) -> 1.4528461
D31: Southern Western | H31: =IF(H$17="-","-",H$17*'3d Electricity losses'!O21) -> 1.4463724
D32: Yorkshire | H32: =IF(H$17="-","-",H$17*'3d Electricity losses'!O22) -> 1.475023
D33: Southern Scotland | H33: =IF(H$17="-","-",H$17*'3d Electricity losses'!O23) -> 1.4761818
D34: Northern Scotland | H34: =IF(H$17="-","-",H$17*'3d Electricity losses'!O24) -> 1.4589374
C35: Multi-Register Metering Arrangement | D35: Eastern | H35: =IF(H$18="-","-",H$18*'3d Electricity losses'!O25) -> 1.5718033
D36: East Midlands | H36: =IF(H$18="-","-",H$18*'3d Electricity losses'!O26) -> 1.5539244
D37: London | H37: =IF(H$18="-","-",H$18*'3d Electricity losses'!O27) -> 1.5844731
D38: N Wales and Mersey | H38: =IF(H$18="-","-",H$18*'3d Electricity losses'!O28) -> 1.5943944
D39: Midlands | H39: =IF(H$18="-","-",H$18*'3d Electricity losses'!O29) -> 1.5645406
D40: Northern | H40: =IF(H$18="-","-",H$18*'3d Electricity losses'!O30) -> 1.5448506
D41: North West | H41: =IF(H$18="-","-",H$18*'3d Electricity losses'!O31) -> 1.5713058
D42: Southern | H42: =IF(H$18="-","-",H$18*'3d Electricity losses'!O32) -> 1.5608868
D43: South East | H43: =IF(H$18="-","-",H$18*'3d Electricity losses'!O33) -> 1.5627384
D44: South Wales | H44: =IF(H$18="-","-",H$18*'3d Electricity losses'!O34) -> 1.5425978
D45: Southern Western | H45: =IF(H$18="-","-",H$18*'3d Electricity losses'!O35) -> 1.536709
D46: Yorkshire | H46: =IF(H$18="-","-",H$18*'3d Electricity losses'!O36) -> 1.563893
...

Sheet 2b COVID Adjustment
B2: COVID Adjustment
B3: This tab shows the calculation of the cap allowance from the COVID related costs.
B4: To update this file, insert rows between the latest cap period of costs and the block of "Final period of costs" cells. This will ensure all formulas are correctly applied without having to change references.
B6: Section 1: Additional COVID costs incurred split by cap period
B7: Source: supplier data
B8: This table shows the input of additional COVID costs per customer account incurred during each cap period. Increment calculations do not take into account inflation. The table provides our latest view of costs in each period of allowance we set. E.g. cells D11:D16 are costs incurred in cap period 4 for inclusion in the allowance set in cap period 6.
B9: The input for this table comes from our analysis of supplier data.
C10: Period of cost | D10: Fuel | E10: Payment method | F10: Costs included in cap 6 | G10: Costs included in cap 7
B11: Additional COVID cost | C11: Cap period 4 | D11: Electricity | E11: Standard Credit | F11: 2.02 | G11: 2.02
B12: Additional COVID cost | C12: Cap period 4 | D12: Electricity | E12: Other | F12: 2.02 | G12: 2.02
B13: Additional COVID cost | C13: Cap period 4 | D13: Electricity | E13: PPM | F13: 0 | G13: 0
B14: Additional COVID cost | C14: Cap period 4 | D14: Gas | E14: Standard Credit | F14: 2.02 | G14: 2.02
B15: Additional COVID cost | C15: Cap period 4 | D15: Gas | E15: Other | F15: 2.02 | G15: 2.02
B16: Additional COVID cost | C16: Cap period 4 | D16: Gas | E16: PPM | F16: 0 | G16: 0
B17: Additional COVID cost | C17: Cap period 5 | D17: Electricity | E17: Standard Credit | F17: 2.41 | G17: 2.41
B18: Additional COVID cost | C18: Cap period 5 | D18: Electricity | E18: Other | F18: 2.41 | G18: 2.41
B19: Additional COVID cost | C19: Cap period 5 | D19: Electricity | E19: PPM | F19: 0 | G19: 0
B20: Additional COVID cost | C20: Cap period 5 | D20: Gas | E20: Standard Credit | F20: 2.41 | G20: 2.41
B21: Additional COVID cost | C21: Cap period 5 | D21: Gas | E21: Other | F21: 2.41 | G21: 2.41
B22: Additional COVID cost | C22: Cap period 5 | D22: Gas | E22: PPM | F22: 0 | G22: 0
... B28: Additional COVID cost | C28: Cap period 6 | D28: Gas | E28: PPM | F28: 0 | G28: 0
B29: Additional COVID cost | C29: Final period of costs | D29: Electricity | E29: Standard Credit
B30: Additional COVID cost | C30: Final period of costs | D30: Electricity | E30: Other
B31: Additional COVID cost | C31: Final period of costs | D31: Electricity | E31: PPM
B32: Additional COVID cost | C32: Final period of costs | D32: Gas | E32: Standard Credit
B33: Additional COVID cost | C33: Final period of costs | D33: Gas | E33: Other
B34: Additional COVID cost | C34: Final period of costs | D34: Gas | E34: PPM
B36: Section 2: Calculating Nil consumption
B37: In this section, we adjust the costs to split them between TDCV and Nil consumption. This determines how much of the costs sit in the standing charge and Unit rate.
B39: The below two tables show the direct debit, GB average cap levels at Nil and TDCV for cap periods 3 and 4.
B40: Electricity cap level | C40: Nil | D40: TDCV
B41: Cap period 3 | C41: ='3f Cap levels'!C9 -> 81.73364 | D41: ='3f Cap levels'!D9 -> 608.87797
B42: Cap period 4 | C42: ='3f Cap levels'!C10 -> 84.764672 | D42: ='3f Cap levels'!D10 -> 610.66271
B44: Gas cap level | C44: Nil | D44: TDCV
B45: Cap period 3 | C45: ='3f Cap levels'!C25 -> 92.858635 | D45: ='3f Cap levels'!D25 -> 513.57545
B46: Cap period 4 | C46: ='3f Cap levels'!C26 -> 95.053517 | D46: ='3f Cap levels'!D26 -> 495.60091
B48: We calculate the dual fuel cap level by summing the gas and electricity cap levels.
B49: Dual fuel cap level | C49: Nil | D49: TDCV
B50: Cap period 3 | C50: =C41+C45 -> 174.59227 | D50: =D41+D45 -> 1122.4534
B51: Cap period 4 | C51: =C42+C46 -> 179.81819 | D51: =D42+D46 -> 1106.2636
...

Sheet 2c AWC adjustment
B2: Additional Wholesale Cost Adjustment
B3: This tab shows the calculation of the cap allowance from additional wholesale costs. We adjust the benchmark unexpected SVT demand costs input in sheet 3h for regional electricity losses and unidentified gas. These values are fed into the respective cells in sheet 1a Adjustment Allowance. We use electricity losses and unidentified gas relating to cap period eight. This is because we consider it more accurate to apply the losses/unidentified gas adjustment to reflect the costs of the additional energy suppliers needed to buy in that cap period.
B7: Fuel | C7: Payment Method | D7: Benchmark Metering Arrangement | E7: Charge Restriction Region | F7: Unit | G7: 28AD Charge Restriction Period: | I7: October 2022 - March 2023 | J7: April 2023 - September 2023
B10: 1. Unexpected SVT demand costs
B11: Electricity | C11: Non-PPM | F11: £ per customer per year | I11: ='3h Unexpected SVT demand costs'!$C$9 -> 15.570075 | J11: ='3h Unexpected SVT demand costs'!$C$9 -> 15.570075
B12: Gas | C12: Non-PPM | F12: £ per customer per year | I12: ='3h Unexpected SVT demand costs'!$C$14 -> 23.379171 | J12: ='3h Unexpected SVT demand costs'!$C$14 -> 23.379171
B13: 2. Apply regional electricity losses and unidentified gas uplift
B14: Electricity | C14: Non-PPM | D14: Single-Rate Metering Arrangement | E14: Eastern | F14: £ per customer per year | I14: =$I$11*'3d Electricity losses'!$V11 -> 17.183798 | J14: =$J$11*'3d Electricity losses'!$V11 -> 17.183798
E15: East Midlands | I15: =$I$11*'3d Electricity losses'!$V12 -> 16.872591 | J15: =$J$11*'3d Electricity losses'!$V12 -> 16.872591
E16: London | I16: =$I$11*'3d Electricity losses'!$V13 -> 17.403112 | J16: =$J$11*'3d Electricity losses'!$V13 -> 17.403112
E17: N Wales and Mersey | I17: =$I$11*'3d Electricity losses'!$V14 -> 17.600268 | J17: =$J$11*'3d Electricity losses'!$V14 -> 17.600268
E18: Midlands | I18: =$I$11*'3d Electricity losses'!$V15 -> 17.211466 | J18: =$J$11*'3d Electricity losses'!$V15 -> 17.211466
E19: Northern | I19: =$I$11*'3d Electricity losses'!$V16 -> 16.701862 | J19: =$J$11*'3d Electricity losses'!$V16 -> 16.701862
