Workbook

Sheet Cover_sheet
A2: Fire and rescue workforce and pensions statistics
A3: England, April 2022 to March 2023: data tables
A4: Table 1111
A5: Responsible Statistician: Helene Clark
A6: Email: Firestatistics@homeoffice.gov.uk
A7: Press enquiries: 0300 123 3535
A8: Published: 19 October 2023
A9: Next Update: Autumn 2024
A10: Crown copyright © 2023
A11: Contents
A12: We’re always looking to improve the accessibility of our documents.
A13: If you find any problems, or have any feedback, relating to accessibility please email us at firestatistics@homeoffice.gov.uk

Sheet Contents
A1: Fire and rescue workforce and pensions statistics
A2: Publication Date: 19 October 2023
A3: To access data tables, select the table number or tabs.
A4: Cover sheet
A5: Sheet | B5: Title | C5: Period covered | D5: National Statistics?
A6: Data | B6: Raw data for the two main data tables | C6: 2010/11 to 2022/23 | D6: No
A7: FIRE1111_historical | B7: Staff leaving fire authorities, by reason and by role, England | C7: 2010/11 to 2017/18 | D7: No
A8: FIRE1111 | B8: Staff leaving fire authorities, by reason and by role, England | C8: 2018/19 to 2022/23 | D8: No

Sheet Data
A1: FINANCIAL_YEAR | B1: ROLE | C1: LEAVING_REASON | D1: TOTAL_STAFF
A2: 2010/11 | B2: Fire Control | C2: Compulsory redundancy | D2: 16
A3: 2010/11 | B3: Fire Control | C3: Early retirement | D3: 4
A4: 2010/11 | B4: Fire Control | C4: Medical discharge | D4: 2
A5: 2010/11 | B5: Fire Control | C5: Normal retirement | D5: 25
A6: 2010/11 | B6: Fire Control | C6: Other reasons | D6: 36
A7: 2010/11 | B7: Fire Control | C7: Re-employment as support personnel within the same Fire and Rescue Service | D7: 5
A8: 2010/11 | B8: Fire Control | C8: Re-employment by another Fire and Rescue Service | D8: 3
A9: 2010/11 | B9: Fire Control | C9: Resignation to take other employment outside the Fire and Rescue Service | D9: 27
A10: 2010/11 | B10: Fire Control | C10: Voluntary redundancy | D10: 6
A11: 2010/11 | B11: On call firefighters | C11: Compulsory redundancy | D11: 5
A12: 2010/11 | B12: On call firefighters | C12: Deceased | D12: 13
A13: 2010/11 | B13: On call firefighters | C13: Dismissal on disciplinary grounds | D13: 31
... A633: 2022/23 | B633: Wholetime firefighters | C633: 8. Unknown / Reason for leaving not recorded | D633: 39

Sheet FIRE1111_historical_working
A3: =FIRE1111_historical!A3 -> 2017/18
A4: Reason | B4: Wholetime firefighters | C4: On call firefighters | D4: Fire Control | E4: Support Staff | F4: Total
A5: Dismissal on disciplinary grounds | B5: {=IF(OR($A$3="2010/11",$A$3="2011/12",$A$3="2012/13",$A$3="2013/14"),SUMPRODUCT((Data!$A$2:$A$99369=$A$3)*(Data!$B$2:$B$99369=B$4)*(Data!$C$2:$C$99369=$A5)*(Data!$D$2:$D$99369)),"..")} -> .. | C5: {=IF(OR($A$3="2010/11",$A$3="2011/12",$A$3="2012/13",$A$3="2013/14"),SUMPRODUCT((Data!$A$2:$A$99369=$A$3)*(Data!$B$2:$B$99369=C$4)*(Data!$C$2:$C$99369=$A5)*(Data!$D$2:$D$99369)),"..")} -> .. | D5: {=IF(OR($A$3="2010/11",$A$3="2011/12",$A$3="2012/13",$A$3="2013/14"),SUMPRODUCT((Data!$A$2:$A$99369=$A$3)*(Data!$B$2:$B$99369=D$4)*(Data!$C$2:$C$99369=$A5)*(Data!$D$2:$D$99369)),"..")} -> .. | E5: {=IF(OR($A$3="2010/11",$A$3="2011/12",$A$3="2012/13",$A$3="2013/14"),SUMPRODUCT((Data!$A$2:$A$99369=$A$3)*(Data!$B$2:$B$99369=E$4)*(Data!$C$2:$C$99369=$A5)*(Data!$D$2:$D$99369)),"..")} -> .. | F5: {=IF(OR($A$3="2010/11",$A$3="2011/12",$A$3="2012/13",$A$3="2013/14"),SUMPRODUCT((Data!$A$2:$A$99369=$A$3)*(Data!$C$2:$C$99369=$A5)*(Data!$D$2:$D$99369)),"..")} -> ..
A6: Dismissal on disciplinary or poor performance grounds/efficiency | B6: {=IF(OR($A$3="2014/15",$A$3="2015/16",$A$3="2016/17",$A$3="2017/18"),SUMPRODUCT((Data!$A$2:$A$99369=$A$3)*(Data!$B$2:$B$99369=B$4)*(Data!$C$2:$C$99369=$A6)*(Data!$D$2:$D$99369)),"..")} -> 20 | C6: {=IF(OR($A$3="2014/15",$A$3="2015/16",$A$3="2016/17",$A$3="2017/18"),SUMPRODUCT((Data!$A$2:$A$99369=$A$3)*(Data!$B$2:$B$99369=C$4)*(Data!$C$2:$C$99369=$A6)*(Data!$D$2:$D$99369)),"..")} -> 28 | D6: {=IF(OR($A$3="2014/15",$A$3="2015/16",$A$3="2016/17",$A$3="2017/18"),SUMPRODUCT((Data!$A$2:$A$99369=$A$3)*(Data!$B$2:$B$99369=D$4)*(Data!$C$2:$C$99369=$A6)*(Data!$D$2:$D$99369)),"..")} -> 2 | E6: {=IF(OR($A$3="2014/15",$A$3="2015/16",$A$3="2016/17",$A$3="2017/18"),SUMPRODUCT((Data!$A$2:$A$99369=$A$3)*(Data!$B$2:$B$99369=E$4)*(Data!$C$2:$C$99369=$A6)*(Data!$D$2:$D$99369)),"..")} -> 15 | F6: {=IF(OR($A$3="2014/15",$A$3="2015/16",$A$3="2016/17",$A$3="2017/18"),SUMPRODUCT((Data!$A$2:$A$99369=$A$3)*(Data!$C$2:$C$99369=$A6)*(Data!$D$2:$D$99369)),"..")} -> 65
A7: Medical discharge | B7: {=SUMPRODUCT((Data!$A$2:$A$99369=$A$3)*(Data!$B$2:$B$99369=B$4)*(Data!$C$2:$C$99369=$A7)*(Data!$D$2:$D$99369))} -> 47 | C7: {=SUMPRODUCT((Data!$A$2:$A$99369=$A$3)*(Data!$B$2:$B$99369=C$4)*(Data!$C$2:$C$99369=$A7)*(Data!$D$2:$D$99369))} -> 28 | D7: {=SUMPRODUCT((Data!$A$2:$A$99369=$A$3)*(Data!$B$2:$B$99369=D$4)*(Data!$C$2:$C$99369=$A7)*(Data!$D$2:$D$99369))} -> 3 | E7: {=SUMPRODUCT((Data!$A$2:$A$99369=$A$3)*(Data!$B$2:$B$99369=E$4)*(Data!$C$2:$C$99369=$A7)*(Data!$D$2:$D$99369))} -> 13 | F7: {=SUMPRODUCT((Data!$A$2:$A$99369=$A$3)*(Data!$C$2:$C$99369=$A7)*(Data!$D$2:$D$99369))} -> 91
A8: Resignation due to harassment or discrimination | B8: {=SUMPRODUCT((Data!$A$2:$A$99369=$A$3)*(Data!$B$2:$B$99369=B$4)*(Data!$C$2:$C$99369=$A8)*(Data!$D$2:$D$99369))} -> 0 | C8: {=SUMPRODUCT((Data!$A$2:$A$99369=$A$3)*(Data!$B$2:$B$99369=C$4)*(Data!$C$2:$C$99369=$A8)*(Data!$D$2:$D$99369))} -> 0 | D8: {=SUMPRODUCT((Data!$A$2:$A$99369=$A$3)*(Data!$B$2:$B$99369=D$4)*(Data!$C$2:$C$99369=$A8)*(Data!$D$2:$D$99369))} -> 0 | E8: {=SUMPRODUCT((Data!$A$2:$A$99369=$A$3)*(Data!$B$2:$B$99369=E$4)*(Data!$C$2:$C$99369=$A8)*(Data!$D$2:$D$99369))} -> 0 | F8: {=SUMPRODUCT((Data!$A$2:$A$99369=$A$3)*(Data!$C$2:$C$99369=$A8)*(Data!$D$2:$D$99369))} -> 0
A9: Poor performance/efficiency | B9: {=IF(OR($A$3="2010/11",$A$3="2011/12",$A$3="2012/13",$A$3="2013/14"),SUMPRODUCT((Data!$A$2:$A$99369=$A$3)*(Data!$B$2:$B$99369=B$4)*(Data!$C$2:$C$99369=$A9)*(Data!$D$2:$D$99369)),"..")} -> .. | C9: {=IF(OR($A$3="2010/11",$A$3="2011/12",$A$3="2012/13",$A$3="2013/14"),SUMPRODUCT((Data!$A$2:$A$99369=$A$3)*(Data!$B$2:$B$99369=C$4)*(Data!$C$2:$C$99369=$A9)*(Data!$D$2:$D$99369)),"..")} -> .. | D9: {=IF(OR($A$3="2010/11",$A$3="2011/12",$A$3="2012/13",$A$3="2013/14"),SUMPRODUCT((Data!$A$2:$A$99369=$A$3)*(Data!$B$2:$B$99369=D$4)*(Data!$C$2:$C$99369=$A9)*(Data!$D$2:$D$99369)),"..")} -> .. | E9: {=IF(OR($A$3="2010/11",$A$3="2011/12",$A$3="2012/13",$A$3="2013/14"),SUMPRODUCT((Data!$A$2:$A$99369=$A$3)*(Data!$B$2:$B$99369=E$4)*(Data!$C$2:$C$99369=$A9)*(Data!$D$2:$D$99369)),"..")} -> .. | F9: {=IF(OR($A$3="2010/11",$A$3="2011/12",$A$3="2012/13",$A$3="2013/14"),SUMPRODUCT((Data!$A$2:$A$99369=$A$3)*(Data!$C$2:$C$99369=$A9)*(Data!$D$2:$D$99369)),"..")} -> ..
A10: Failure to maintain fitness | B10: {=IF(OR($A$3="2014/15",$A$3="2015/16",$A$3="2016/17",$A$3="2017/18"),SUMPRODUCT((Data!$A$2:$A$99369=$A$3)*(Data!$B$2:$B$99369=B$4)*(Data!$C$2:$C$99369=$A10)*(Data!$D$2:$D$99369)),"..")} -> 0 | C10: {=IF(OR($A$3="2014/15",$A$3="2015/16",$A$3="2016/17",$A$3="2017/18"),SUMPRODUCT((Data!$A$2:$A$99369=$A$3)*(Data!$B$2:$B$99369=C$4)*(Data!$C$2:$C$99369=$A10)*(Data!$D$2:$D$99369)),"..")} -> 0 | D10: {=IF(OR($A$3="2014/15",$A$3="2015/16",$A$3="2016/17",$A$3="2017/18"),SUMPRODUCT((Data!$A$2:$A$99369=$A$3)*(Data!$B$2:$B$99369=D$4)*(Data!$C$2:$C$99369=$A10)*(Data!$D$2:$D$99369)),"..")} -> 0 | E10: {=IF(OR($A$3="2014/15",$A$3="2015/16",$A$3="2016/17",$A$3="2017/18"),SUMPRODUCT((Data!$A$2:$A$99369=$A$3)*(Data!$B$2:$B$99369=E$4)*(Data!$C$2:$C$99369=$A10)*(Data!$D$2:$D$99369)),"..")} -> 0 | F10: {=IF(OR($A$3="2014/15",$A$3="2015/16",$A$3="2016/17",$A$3="2017/18"),SUMPRODUCT((Data!$A$2:$A$99369=$A$3)*(Data!$C$2:$C$99369=$A10)*(Data!$D$2:$D$99369)),"..")} -> 0
A11: Compulsory redundancy | B11: {=SUMPRODUCT((Data!$A$2:$A$99369=$A$3)*(Data!$B$2:$B$99369=B$4)*(Data!$C$2:$C$99369=$A11)*(Data!$D$2:$D$99369))} -> 0 | C11: {=SUMPRODUCT((Data!$A$2:$A$99369=$A$3)*(Data!$B$2:$B$99369=C$4)*(Data!$C$2:$C$99369=$A11)*(Data!$D$2:$D$99369))} -> 9 | D11: {=SUMPRODUCT((Data!$A$2:$A$99369=$A$3)*(Data!$B$2:$B$99369=D$4)*(Data!$C$2:$C$99369=$A11)*(Data!$D$2:$D$99369))} -> 0 | E11: {=SUMPRODUCT((Data!$A$2:$A$99369=$A$3)*(Data!$B$2:$B$99369=E$4)*(Data!$C$2:$C$99369=$A11)*(Data!$D$2:$D$99369))} -> 29 | F11: {=SUMPRODUCT((Data!$A$2:$A$99369=$A$3)*(Data!$C$2:$C$99369=$A11)*(Data!$D$2:$D$99369))} -> 38
A12: Voluntary redundancy | B12: {=SUMPRODUCT((Data!$A$2:$A$99369=$A$3)*(Data!$B$2:$B$99369=B$4)*(Data!$C$2:$C$99369=$A12)*(Data!$D$2:$D$99369))} -> 4 | C12: {=SUMPRODUCT((Data!$A$2:$A$99369=$A$3)*(Data!$B$2:$B$99369=C$4)*(Data!$C$2:$C$99369=$A12)*(Data!$D$2:$D$99369))} -> 1 | D12: {=SUMPRODUCT((Data!$A$2:$A$99369=$A$3)*(Data!$B$2:$B$99369=D$4)*(Data!$C$2:$C$99369=$A12)*(Data!$D$2:$D$99369))} -> 5 | E12: {=SUMPRODUCT((Data!$A$2:$A$99369=$A$3)*(Data!$B$2:$B$99369=E$4)*(Data!$C$2:$C$99369=$A12)*(Data!$D$2:$D$99369))} -> 48 | F12: {=SUMPRODUCT((Data!$A$2:$A$99369=$A$3)*(Data!$C$2:$C$99369=$A12)*(Data!$D$2:$D$99369))} -> 58
A13: Early retirement | B13: {=SUMPRODUCT((Data!$A$2:$A$99369=$A$3)*(Data!$B$2:$B$99369=B$4)*(Data!$C$2:$C$99369=$A13)*(Data!$D$2:$D$99369))} -> 51 | C13: {=SUMPRODUCT((Data!$A$2:$A$99369=$A$3)*(Data!$B$2:$B$99369=C$4)*(Data!$C$2:$C$99369=$A13)*(Data!$D$2:$D$99369))} -> 20 | D13: {=SUMPRODUCT((Data!$A$2:$A$99369=$A$3)*(Data!$B$2:$B$99369=D$4)*(Data!$C$2:$C$99369=$A13)*(Data!$D$2:$D$99369))} -> 3 | E13: {=SUMPRODUCT((Data!$A$2:$A$99369=$A$3)*(Data!$B$2:$B$99369=E$4)*(Data!$C$2:$C$99369=$A13)*(Data!$D$2:$D$99369))} -> 17 | F13: {=SUMPRODUCT((Data!$A$2:$A$99369=$A$3)*(Data!$C$2:$C$99369=$A13)*(Data!$D$2:$D$99369))} -> 91
A14: Normal retirement | B14: {=SUMPRODUCT((Data!$A$2:$A$99369=$A$3)*(Data!$B$2:$B$99369=B$4)*(Data!$C$2:$C$99369=$A14)*(Data!$D$2:$D$99369))} -> 881 | C14: {=SUMPRODUCT((Data!$A$2:$A$99369=$A$3)*(Data!$B$2:$B$99369=C$4)*(Data!$C$2:$C$99369=$A14)*(Data!$D$2:$D$99369))} -> 132 | D14: {=SUMPRODUCT((Data!$A$2:$A$99369=$A$3)*(Data!$B$2:$B$99369=D$4)*(Data!$C$2:$C$99369=$A14)*(Data!$D$2:$D$99369))} -> 17 | E14: {=SUMPRODUCT((Data!$A$2:$A$99369=$A$3)*(Data!$B$2:$B$99369=E$4)*(Data!$C$2:$C$99369=$A14)*(Data!$D$2:$D$99369))} -> 112 | F14: {=SUMPRODUCT((Data!$A$2:$A$99369=$A$3)*(Data!$C$2:$C$99369=$A14)*(Data!$D$2:$D$99369))} -> 1142
A15: Re-employment by another Fire and Rescue Service | B15: {=SUMPRODUCT((Data!$A$2:$A$99369=$A$3)*(Data!$B$2:$B$99369=B$4)*(Data!$C$2:$C$99369=$A15)*(Data!$D$2:$D$99369))} -> 86 | C15: {=SUMPRODUCT((Data!$A$2:$A$99369=$A$3)*(Data!$B$2:$B$99369=C$4)*(Data!$C$2:$C$99369=$A15)*(Data!$D$2:$D$99369))} -> 8 | D15: {=SUMPRODUCT((Data!$A$2:$A$99369=$A$3)*(Data!$B$2:$B$99369=D$4)*(Data!$C$2:$C$99369=$A15)*(Data!$D$2:$D$99369))} -> 6 | E15: {=SUMPRODUCT((Data!$A$2:$A$99369=$A$3)*(Data!$B$2:$B$99369=E$4)*(Data!$C$2:$C$99369=$A15)*(Data!$D$2:$D$99369))} -> 360 | F15: {=SUMPRODUCT((Data!$A$2:$A$99369=$A$3)*(Data!$C$2:$C$99369=$A15)*(Data!$D$2:$D$99369))} -> 460
A16: Re-employment as support personnel within the same Fire and Rescue Service | B16: {=SUMPRODUCT((Data!$A$2:$A$99369=$A$3)*(Data!$B$2:$B$99369=B$4)*(Data!$C$2:$C$99369=$A16)*(Data!$D$2:$D$99369))} -> 1 | C16: {=SUMPRODUCT((Data!$A$2:$A$99369=$A$3)*(Data!$B$2:$B$99369=C$4)*(Data!$C$2:$C$99369=$A16)*(Data!$D$2:$D$99369))} -> 0 | D16: {=SUMPRODUCT((Data!$A$2:$A$99369=$A$3)*(Data!$B$2:$B$99369=D$4)*(Data!$C$2:$C$99369=$A16)*(Data!$D$2:$D$99369))} -> 7 | E16: {=SUMPRODUCT((Data!$A$2:$A$99369=$A$3)*(Data!$B$2:$B$99369=E$4)*(Data!$C$2:$C$99369=$A16)*(Data!$D$2:$D$99369))} -> 0 | F16: {=SUMPRODUCT((Data!$A$2:$A$99369=$A$3)*(Data!$C$2:$C$99369=$A16)*(Data!$D$2:$D$99369))} -> 8
A17: Resignation to take other employment outside the Fire and Rescue Service | B17: {=SUMPRODUCT((Data!$A$2:$A$99369=$A$3)*(Data!$B$2:$B$99369=B$4)*(Data!$C$2:$C$99369=$A17)*(Data!$D$2:$D$99369))} -> 139 | C17: {=SUMPRODUCT((Data!$A$2:$A$99369=$A$3)*(Data!$B$2:$B$99369=C$4)*(Data!$C$2:$C$99369=$A17)*(Data!$D$2:$D$99369))} -> 387 | D17: {=SUMPRODUCT((Data!$A$2:$A$99369=$A$3)*(Data!$B$2:$B$99369=D$4)*(Data!$C$2:$C$99369=$A17)*(Data!$D$2:$D$99369))} -> 22 | E17: {=SUMPRODUCT((Data!$A$2:$A$99369=$A$3)*(Data!$B$2:$B$99369=E$4)*(Data!$C$2:$C$99369=$A17)*(Data!$D$2:$D$99369))} -> 4 | F17: {=SUMPRODUCT((Data!$A$2:$A$99369=$A$3)*(Data!$C$2:$C$99369=$A17)*(Data!$D$2:$D$99369))} -> 552
A18: Deceased | B18: {=SUMPRODUCT((Data!$A$2:$A$99369=$A$3)*(Data!$B$2:$B$99369=B$4)*(Data!$C$2:$C$99369=$A18)*(Data!$D$2:$D$99369))} -> 11 | C18: {=SUMPRODUCT((Data!$A$2:$A$99369=$A$3)*(Data!$B$2:$B$99369=C$4)*(Data!$C$2:$C$99369=$A18)*(Data!$D$2:$D$99369))} -> 8 | D18: {=SUMPRODUCT((Data!$A$2:$A$99369=$A$3)*(Data!$B$2:$B$99369=D$4)*(Data!$C$2:$C$99369=$A18)*(Data!$D$2:$D$99369))} -> 0 | E18: {=SUMPRODUCT((Data!$A$2:$A$99369=$A$3)*(Data!$B$2:$B$99369=E$4)*(Data!$C$2:$C$99369=$A18)*(Data!$D$2:$D$99369))} -> 5 | F18: {=SUMPRODUCT((Data!$A$2:$A$99369=$A$3)*(Data!$C$2:$C$99369=$A18)*(Data!$D$2:$D$99369))} -> 24
A19: Moving Out of Area | B19: .. | C19: {=IF(OR($A$3="2016/17",$A$3="2017/18"),SUMPRODUCT((Data!$A$2:$A$99369=$A$3)*(Data!$B$2:$B$99369=C$4)*(Data!$C$2:$C$99369=$A19)*(Data!$D$2:$D$99369)),"..")} -> 79 | D19: .. | E19: .. | F19: {=IF(OR($A$3="2016/17",$A$3="2017/18"),SUMPRODUCT((Data!$A$2:$A$99369=$A$3)*(Data!$C$2:$C$99369=$A19)*(Data!$D$2:$D$99369)),"..")} -> 79
A20: Issues with primary employment | B20: .. | C20: {=IF(OR($A$3="2016/17",$A$3="2017/18"),SUMPRODUCT((Data!$A$2:$A$99369=$A$3)*(Data!$B$2:$B$99369=C$4)*(Data!$C$2:$C$99369=$A20)*(Data!$D$2:$D$99369)),"..")} -> 94 | D20: .. | E20: .. | F20: {=IF(OR($A$3="2016/17",$A$3="2017/18"),SUMPRODUCT((Data!$A$2:$A$99369=$A$3)*(Data!$C$2:$C$99369=$A20)*(Data!$D$2:$D$99369)),"..")} -> 94
A21: Dissatisfaction with the number of incidents attended | B21: .. | C21: {=IF(OR($A$3="2016/17",$A$3="2017/18"),SUMPRODUCT((Data!$A$2:$A$99369=$A$3)*(Data!$B$2:$B$99369=C$4)*(Data!$C$2:$C$99369=$A21)*(Data!$D$2:$D$99369)),"..")} -> 2 | D21: .. | E21: .. | F21: {=IF(OR($A$3="2016/17",$A$3="2017/18"),SUMPRODUCT((Data!$A$2:$A$99369=$A$3)*(Data!$C$2:$C$99369=$A21)*(Data!$D$2:$D$99369)),"..")} -> 2
A22: Other reasons | B22: {=IF(OR($A$3="2014/15",$A$3="2015/16",$A$3="2016/17",$A$3="2017/18"),SUMPRODUCT((Data!$A$2:$A$99369=$A$3)*(Data!$B$2:$B$99369=B$4)*(Data!$C$2:$C$99369=$A22)*(Data!$D$2:$D$99369)),"..")} -> 206 | C22: {=IF(OR($A$3="2014/15",$A$3="2015/16",$A$3="2016/17",$A$3="2017/18"),SUMPRODUCT((Data!$A$2:$A$99369=$A$3)*(Data!$B$2:$B$99369=C$4)*(Data!$C$2:$C$99369=$A22)*(Data!$D$2:$D$99369)),"..")} -> 628 | D22: {=IF(OR($A$3="2014/15",$A$3="2015/16",$A$3="2016/17",$A$3="2017/18"),SUMPRODUCT((Data!$A$2:$A$99369=$A$3)*(Data!$B$2:$B$99369=D$4)*(Data!$C$2:$C$99369=$A22)*(Data!$D$2:$D$99369)),"..")} -> 27 | E22: {=IF(OR($A$3="2014/15",$A$3="2015/16",$A$3="2016/17",$A$3="2017/18"),SUMPRODUCT((Data!$A$2:$A$99369=$A$3)*(Data!$B$2:$B$99369=E$4)*(Data!$C$2:$C$99369=$A22)*(Data!$D$2:$D$99369)),"..")} -> 423 | F22: {=IF(OR($A$3="2014/15",$A$3="2015/16",$A$3="2016/17",$A$3="2017/18"),SUMPRODUCT((Data!$A$2:$A$99369=$A$3)*(Data!$C$2:$C$99369=$A22)*(Data!$D$2:$D$99369)),"..")} -> 1284
A23: Total | B23: {=SUMPRODUCT((Data!$A$2:$A$99369=$A$3)*(Data!$B$2:$B$99369=B$4)*(Data!$D$2:$D$99369))} -> 1446 | C23: {=SUMPRODUCT((Data!$A$2:$A$99369=$A$3)*(Data!$B$2:$B$99369=C$4)*(Data!$D$2:$D$99369))} -> 1424 | D23: {=SUMPRODUCT((Data!$A$2:$A$99369=$A$3)*(Data!$B$2:$B$99369=D$4)*(Data!$D$2:$D$99369))} -> 92 | E23: {=SUMPRODUCT((Data!$A$2:$A$99369=$A$3)*(Data!$B$2:$B$99369=E$4)*(Data!$D$2:$D$99369))} -> 1026 | F23: {=SUMPRODUCT((Data!$A$2:$A$99369=$A$3)*(Data!$D$2:$D$99369))} -> 3988

Sheet FIRE1111_historical
A1: FIRE STATISTICS TABLE 1111: Staff leaving fire authorities, by reason and by role1, England
A2: Select a year from the drop-down list in the orange box below:
A3: 2017/18
A4: Reason | B4: Wholetime firefighters | C4: On-call firefighters | D4: Fire Control | E4: Support Staff | F4: Total
A5: Dismissal on disciplinary grounds | B5: =IF(FIRE1111_historical_working!B5="..","..",ROUND(FIRE1111_historical_working!B5,0)) -> .. | C5: =IF(FIRE1111_historical_working!C5="..","..",ROUND(FIRE1111_historical_working!C5,0)) -> .. | D5: =IF(FIRE1111_historical_working!D5="..","..",ROUND(FIRE1111_historical_working!D5,0)) -> .. | E5: =IF(FIRE1111_historical_working!E5="..","..",ROUND(FIRE1111_historical_working!E5,0)) -> .. | F5: =IF(FIRE1111_historical_working!F5="..","..",ROUND(FIRE1111_historical_working!F5,0)) -> ..
A6: Dismissal on disciplinary or poor performance grounds/efficiency | B6: =IF(FIRE1111_historical_working!B6="..","..",ROUND(FIRE1111_historical_working!B6,0)) -> 20 | C6: =IF(FIRE1111_historical_working!C6="..","..",ROUND(FIRE1111_historical_working!C6,0)) -> 28 | D6: =IF(FIRE1111_historical_working!D6="..","..",ROUND(FIRE1111_historical_working!D6,0)) -> 2 | E6: =IF(FIRE1111_historical_working!E6="..","..",ROUND(FIRE1111_historical_working!E6,0)) -> 15 | F6: =IF(FIRE1111_historical_working!F6="..","..",ROUND(FIRE1111_historical_working!F6,0)) -> 65
A7: Medical discharge (Ill health retirement) | B7: =IF(FIRE1111_historical_working!B7="..","..",ROUND(FIRE1111_historical_working!B7,0)) -> 47 | C7: =IF(FIRE1111_historical_working!C7="..","..",ROUND(FIRE1111_historical_working!C7,0)) -> 28 | D7: =IF(FIRE1111_historical_working!D7="..","..",ROUND(FIRE1111_historical_working!D7,0)) -> 3 | E7: =IF(FIRE1111_historical_working!E7="..","..",ROUND(FIRE1111_historical_working!E7,0)) -> 13 | F7: =IF(FIRE1111_historical_working!F7="..","..",ROUND(FIRE1111_historical_working!F7,0)) -> 91
A8: Resignation due to harassment or discrimination | B8: =IF(FIRE1111_historical_working!B8="..","..",ROUND(FIRE1111_historical_working!B8,0)) -> 0 | C8: =IF(FIRE1111_historical_working!C8="..","..",ROUND(FIRE1111_historical_working!C8,0)) -> 0 | D8: =IF(FIRE1111_historical_working!D8="..","..",ROUND(FIRE1111_historical_working!D8,0)) -> 0 | E8: =IF(FIRE1111_historical_working!E8="..","..",ROUND(FIRE1111_historical_working!E8,0)) -> 0 | F8: =IF(FIRE1111_historical_working!F8="..","..",ROUND(FIRE1111_historical_working!F8,0)) -> 0
A9: Poor performance/efficiency | B9: =IF(FIRE1111_historical_working!B9="..","..",ROUND(FIRE1111_historical_working!B9,0)) -> .. | C9: =IF(FIRE1111_historical_working!C9="..","..",ROUND(FIRE1111_historical_working!C9,0)) -> .. | D9: =IF(FIRE1111_historical_working!D9="..","..",ROUND(FIRE1111_historical_working!D9,0)) -> .. | E9: =IF(FIRE1111_historical_working!E9="..","..",ROUND(FIRE1111_historical_working!E9,0)) -> .. | F9: =IF(FIRE1111_historical_working!F9="..","..",ROUND(FIRE1111_historical_working!F9,0)) -> ..
A10: Failure to maintain fitness | B10: =IF(FIRE1111_historical_working!B10="..","..",ROUND(FIRE1111_historical_working!B10,0)) -> 0 | C10: =IF(FIRE1111_historical_working!C10="..","..",ROUND(FIRE1111_historical_working!C10,0)) -> 0 | D10: =IF(FIRE1111_historical_working!D10="..","..",ROUND(FIRE1111_historical_working!D10,0)) -> 0 | E10: =IF(FIRE1111_historical_working!E10="..","..",ROUND(FIRE1111_historical_working!E10,0)) -> 0 | F10: =IF(FIRE1111_historical_working!F10="..","..",ROUND(FIRE1111_historical_working!F10,0)) -> 0
A11: Compulsory redundancy | B11: =IF(FIRE1111_historical_working!B11="..","..",ROUND(FIRE1111_historical_working!B11,0)) -> 0 | C11: =IF(FIRE1111_historical_working!C11="..","..",ROUND(FIRE1111_historical_working!C11,0)) -> 9 | D11: =IF(FIRE1111_historical_working!D11="..","..",ROUND(FIRE1111_historical_working!D11,0)) -> 0 | E11: =IF(FIRE1111_historical_working!E11="..","..",ROUND(FIRE1111_historical_working!E11,0)) -> 29 | F11: =IF(FIRE1111_historical_working!F11="..","..",ROUND(FIRE1111_historical_working!F11,0)) -> 38
A12: Voluntary redundancy | B12: =IF(FIRE1111_historical_working!B12="..","..",ROUND(FIRE1111_historical_working!B12,0)) -> 4 | C12: =IF(FIRE1111_historical_working!C12="..","..",ROUND(FIRE1111_historical_working!C12,0)) -> 1 | D12: =IF(FIRE1111_historical_working!D12="..","..",ROUND(FIRE1111_historical_working!D12,0)) -> 5 | E12: =IF(FIRE1111_historical_working!E12="..","..",ROUND(FIRE1111_historical_working!E12,0)) -> 48 | F12: =IF(FIRE1111_historical_working!F12="..","..",ROUND(FIRE1111_historical_working!F12,0)) -> 58
A13: Early retirement | B13: =IF(FIRE1111_historical_working!B13="..","..",ROUND(FIRE1111_historical_working!B13,0)) -> 51 | C13: =IF(FIRE1111_historical_working!C13="..","..",ROUND(FIRE1111_historical_working!C13,0)) -> 20 | D13: =IF(FIRE1111_historical_working!D13="..","..",ROUND(FIRE1111_historical_working!D13,0)) -> 3 | E13: =IF(FIRE1111_historical_working!E13="..","..",ROUND(FIRE1111_historical_working!E13,0)) -> 17 | F13: =IF(FIRE1111_historical_working!F13="..","..",ROUND(FIRE1111_historical_working!F13,0)) -> 91
A14: Normal retirement | B14: =IF(FIRE1111_historical_working!B14="..","..",ROUND(FIRE1111_historical_working!B14,0)) -> 881 | C14: =IF(FIRE1111_historical_working!C14="..","..",ROUND(FIRE1111_historical_working!C14,0)) -> 132 | D14: =IF(FIRE1111_historical_working!D14="..","..",ROUND(FIRE1111_historical_working!D14,0)) -> 17 | E14: =IF(FIRE1111_historical_working!E14="..","..",ROUND(FIRE1111_historical_working!E14,0)) -> 112 | F14: =IF(FIRE1111_historical_working!F14="..","..",ROUND(FIRE1111_historical_working!F14,0)) -> 1142
A15: Re-employment by another Fire and Rescue Service | B15: =IF(FIRE1111_historical_working!B15="..","..",ROUND(FIRE1111_historical_working!B15,0)) -> 86 | C15: =IF(FIRE1111_historical_working!C15="..","..",ROUND(FIRE1111_historical_working!C15,0)) -> 8 | D15: =IF(FIRE1111_historical_working!D15="..","..",ROUND(FIRE1111_historical_working!D15,0)) -> 6 | E15: =IF(FIRE1111_historical_working!E15="..","..",ROUND(FIRE1111_historical_working!E15,0)) -> 360 | F15: =IF(FIRE1111_historical_working!F15="..","..",ROUND(FIRE1111_historical_working!F15,0)) -> 460
A16: Re-employment as support personnel within the same Fire and Rescue Service | B16: =IF(FIRE1111_historical_working!B16="..","..",ROUND(FIRE1111_historical_working!B16,0)) -> 1 | C16: =IF(FIRE1111_historical_working!C16="..","..",ROUND(FIRE1111_historical_working!C16,0)) -> 0 | D16: =IF(FIRE1111_historical_working!D16="..","..",ROUND(FIRE1111_historical_working!D16,0)) -> 7 | E16: =IF(FIRE1111_historical_working!E16="..","..",ROUND(FIRE1111_historical_working!E16,0)) -> 0 | F16: =IF(FIRE1111_historical_working!F16="..","..",ROUND(FIRE1111_historical_working!F16,0)) -> 8
... A23: Total | B23: =IF(FIRE1111_historical_working!B23="..","..",ROUND(FIRE1111_historical_working!B23,0)) -> 1446 | C23: =IF(FIRE1111_historical_working!C23="..","..",ROUND(FIRE1111_historical_working!C23,0)) -> 1424 | D23: =IF(FIRE1111_historical_working!D23="..","..",ROUND(FIRE1111_historical_working!D23,0)) -> 92 | E23: =IF(FIRE1111_historical_working!E23="..","..",ROUND(FIRE1111_historical_working!E23,0)) -> 1026 | F23: =IF(FIRE1111_historical_working!F23="..","..",ROUND(FIRE1111_historical_working!F23,0)) -> 3988
A24: 1 Includes re-employment as support staff by the same FRA
A25: .. Data not collected
A26: The full set of fire statistics releases, tables and guidance can be found on our landing page, here-
A27: https://www.gov.uk/government/collections/fire-statistics
A28: The statistics in this table are Official Statistics.
A29: Source: Home Office Operational Statistics Data Collection, figures supplied by fire and rescue authorities. | F29: Last Updated: 31 October 2019
A30: Contact: FireStatistics@homeoffice.gov.uk | F30: FINAL VERSION
A31: End of table
I38: 2010/11
I39: 2011/12
I40: 2012/13
I41: 2013/14
I42: 2014/15
I43: 2015/16
I44: 2016/17
I45: 2017/18

Sheet FIRE1111_working
A3: =FIRE1111!$A$3 -> 2022/23
A4: Reason | B4: Wholetime firefighters | C4: On call firefighters | D4: Fire Control | E4: Support Staff | F4: Total
A5: 1a. Moving - to another FRS | B5: {=SUMPRODUCT((Data!$A$2:$A$99369=$A$3)*(Data!$B$2:$B$99369=B$4)*(Data!$C$2:$C$99369=$A5)*(Data!$D$2:$D$99369))} -> 211 | C5: {=SUMPRODUCT((Data!$A$2:$A$99369=$A$3)*(Data!$B$2:$B$99369=C$4)*(Data!$C$2:$C$99369=$A5)*(Data!$D$2:$D$99369))} -> 8 | D5: {=SUMPRODUCT((Data!$A$2:$A$99369=$A$3)*(Data!$B$2:$B$99369=D$4)*(Data!$C$2:$C$99369=$A5)*(Data!$D$2:$D$99369))} -> 8 | E5: {=SUMPRODUCT((Data!$A$2:$A$99369=$A$3)*(Data!$B$2:$B$99369=E$4)*(Data!$C$2:$C$99369=$A5)*(Data!$D$2:$D$99369))} -> 9 | F5: =SUM(B5:E5) -> 236
A6: 1b. Moving - within FRS from operational (firefighter or control) to support staff | B6: {=SUMPRODUCT((Data!$A$2:$A$99369=$A$3)*(Data!$B$2:$B$99369=B$4)*(Data!$C$2:$C$99369=$A6)*(Data!$D$2:$D$99369))} -> 3 | C6: {=SUMPRODUCT((Data!$A$2:$A$99369=$A$3)*(Data!$B$2:$B$99369=C$4)*(Data!$C$2:$C$99369=$A6)*(Data!$D$2:$D$99369))} -> 1 | D6: {=SUMPRODUCT((Data!$A$2:$A$99369=$A$3)*(Data!$B$2:$B$99369=D$4)*(Data!$C$2:$C$99369=$A6)*(Data!$D$2:$D$99369))} -> 5 | E6: {=SUMPRODUCT((Data!$A$2:$A$99369=$A$3)*(Data!$B$2:$B$99369=E$4)*(Data!$C$2:$C$99369=$A6)*(Data!$D$2:$D$99369))} -> 19 | F6: =SUM(B6:E6) -> 28
A7: 2a. Resignation - to take up alternative employment | B7: {=SUMPRODUCT((Data!$A$2:$A$99369=$A$3)*(Data!$B$2:$B$99369=B$4)*(Data!$C$2:$C$99369=$A7)*(Data!$D$2:$D$99369))} -> 189 | C7: {=SUMPRODUCT((Data!$A$2:$A$99369=$A$3)*(Data!$B$2:$B$99369=C$4)*(Data!$C$2:$C$99369=$A7)*(Data!$D$2:$D$99369))} -> 264 | D7: {=SUMPRODUCT((Data!$A$2:$A$99369=$A$3)*(Data!$B$2:$B$99369=D$4)*(Data!$C$2:$C$99369=$A7)*(Data!$D$2:$D$99369))} -> 50 | E7: {=SUMPRODUCT((Data!$A$2:$A$99369=$A$3)*(Data!$B$2:$B$99369=E$4)*(Data!$C$2:$C$99369=$A7)*(Data!$D$2:$D$99369))} -> 419 | F7: =SUM(B7:E7) -> 922
A8: 2b. Resignation - due to ill health | B8: {=SUMPRODUCT((Data!$A$2:$A$99369=$A$3)*(Data!$B$2:$B$99369=B$4)*(Data!$C$2:$C$99369=$A8)*(Data!$D$2:$D$99369))} -> 12 | C8: {=SUMPRODUCT((Data!$A$2:$A$99369=$A$3)*(Data!$B$2:$B$99369=C$4)*(Data!$C$2:$C$99369=$A8)*(Data!$D$2:$D$99369))} -> 11 | D8: {=SUMPRODUCT((Data!$A$2:$A$99369=$A$3)*(Data!$B$2:$B$99369=D$4)*(Data!$C$2:$C$99369=$A8)*(Data!$D$2:$D$99369))} -> 1 | E8: {=SUMPRODUCT((Data!$A$2:$A$99369=$A$3)*(Data!$B$2:$B$99369=E$4)*(Data!$C$2:$C$99369=$A8)*(Data!$D$2:$D$99369))} -> 5 | F8: =SUM(B8:E8) -> 29
A9: 2c. Resignation - any other reason | B9: {=SUMPRODUCT((Data!$A$2:$A$99369=$A$3)*(Data!$B$2:$B$99369=B$4)*(Data!$C$2:$C$99369=$A9)*(Data!$D$2:$D$99369))} -> 159 | C9: {=SUMPRODUCT((Data!$A$2:$A$99369=$A$3)*(Data!$B$2:$B$99369=C$4)*(Data!$C$2:$C$99369=$A9)*(Data!$D$2:$D$99369))} -> 233 | D9: {=SUMPRODUCT((Data!$A$2:$A$99369=$A$3)*(Data!$B$2:$B$99369=D$4)*(Data!$C$2:$C$99369=$A9)*(Data!$D$2:$D$99369))} -> 30 | E9: {=SUMPRODUCT((Data!$A$2:$A$99369=$A$3)*(Data!$B$2:$B$99369=E$4)*(Data!$C$2:$C$99369=$A9)*(Data!$D$2:$D$99369))} -> 282 | F9: =SUM(B9:E9) -> 704
A10: 2d. Resignation - issues with primary employment/other work commitments | B10: {=SUMPRODUCT((Data!$A$2:$A$99369=$A$3)*(Data!$B$2:$B$99369=B$4)*(Data!$C$2:$C$99369=$A10)*(Data!$D$2:$D$99369))} -> 0 | C10: {=SUMPRODUCT((Data!$A$2:$A$99369=$A$3)*(Data!$B$2:$B$99369=C$4)*(Data!$C$2:$C$99369=$A10)*(Data!$D$2:$D$99369))} -> 51 | D10: {=SUMPRODUCT((Data!$A$2:$A$99369=$A$3)*(Data!$B$2:$B$99369=D$4)*(Data!$C$2:$C$99369=$A10)*(Data!$D$2:$D$99369))} -> 0 | E10: {=SUMPRODUCT((Data!$A$2:$A$99369=$A$3)*(Data!$B$2:$B$99369=E$4)*(Data!$C$2:$C$99369=$A10)*(Data!$D$2:$D$99369))} -> 0 | F10: =SUM(B10:E10) -> 51
A11: 2e. Resignation - personal reasons (including work / life balance & caring responsibilities) | B11: {=SUMPRODUCT((Data!$A$2:$A$99369=$A$3)*(Data!$B$2:$B$99369=B$4)*(Data!$C$2:$C$99369=$A11)*(Data!$D$2:$D$99369))} -> 0 | C11: {=SUMPRODUCT((Data!$A$2:$A$99369=$A$3)*(Data!$B$2:$B$99369=C$4)*(Data!$C$2:$C$99369=$A11)*(Data!$D$2:$D$99369))} -> 226 | D11: {=SUMPRODUCT((Data!$A$2:$A$99369=$A$3)*(Data!$B$2:$B$99369=D$4)*(Data!$C$2:$C$99369=$A11)*(Data!$D$2:$D$99369))} -> 0 | E11: {=SUMPRODUCT((Data!$A$2:$A$99369=$A$3)*(Data!$B$2:$B$99369=E$4)*(Data!$C$2:$C$99369=$A11)*(Data!$D$2:$D$99369))} -> 0 | F11: =SUM(B11:E11) -> 226
A12: 2f. Resignation - relocation/leaving the area (including going travelling, moving country) | B12: {=SUMPRODUCT((Data!$A$2:$A$99369=$A$3)*(Data!$B$2:$B$99369=B$4)*(Data!$C$2:$C$99369=$A12)*(Data!$D$2:$D$99369))} -> 0 | C12: {=SUMPRODUCT((Data!$A$2:$A$99369=$A$3)*(Data!$B$2:$B$99369=C$4)*(Data!$C$2:$C$99369=$A12)*(Data!$D$2:$D$99369))} -> 104 | D12: {=SUMPRODUCT((Data!$A$2:$A$99369=$A$3)*(Data!$B$2:$B$99369=D$4)*(Data!$C$2:$C$99369=$A12)*(Data!$D$2:$D$99369))} -> 0 | E12: {=SUMPRODUCT((Data!$A$2:$A$99369=$A$3)*(Data!$B$2:$B$99369=E$4)*(Data!$C$2:$C$99369=$A12)*(Data!$D$2:$D$99369))} -> 0 | F12: =SUM(B12:E12) -> 104
A13: 3a. Redundancy - compulsory | B13: {=SUMPRODUCT((Data!$A$2:$A$99369=$A$3)*(Data!$B$2:$B$99369=B$4)*(Data!$C$2:$C$99369=$A13)*(Data!$D$2:$D$99369))} -> 0 | C13: {=SUMPRODUCT((Data!$A$2:$A$99369=$A$3)*(Data!$B$2:$B$99369=C$4)*(Data!$C$2:$C$99369=$A13)*(Data!$D$2:$D$99369))} -> 0 | D13: {=SUMPRODUCT((Data!$A$2:$A$99369=$A$3)*(Data!$B$2:$B$99369=D$4)*(Data!$C$2:$C$99369=$A13)*(Data!$D$2:$D$99369))} -> 0 | E13: {=SUMPRODUCT((Data!$A$2:$A$99369=$A$3)*(Data!$B$2:$B$99369=E$4)*(Data!$C$2:$C$99369=$A13)*(Data!$D$2:$D$99369))} -> 36 | F13: =SUM(B13:E13) -> 36
A14: 3b. Redundancy - voluntary | B14: {=SUMPRODUCT((Data!$A$2:$A$99369=$A$3)*(Data!$B$2:$B$99369=B$4)*(Data!$C$2:$C$99369=$A14)*(Data!$D$2:$D$99369))} -> 0 | C14: {=SUMPRODUCT((Data!$A$2:$A$99369=$A$3)*(Data!$B$2:$B$99369=C$4)*(Data!$C$2:$C$99369=$A14)*(Data!$D$2:$D$99369))} -> 2 | D14: {=SUMPRODUCT((Data!$A$2:$A$99369=$A$3)*(Data!$B$2:$B$99369=D$4)*(Data!$C$2:$C$99369=$A14)*(Data!$D$2:$D$99369))} -> 0 | E14: {=SUMPRODUCT((Data!$A$2:$A$99369=$A$3)*(Data!$B$2:$B$99369=E$4)*(Data!$C$2:$C$99369=$A14)*(Data!$D$2:$D$99369))} -> 6 | F14: =SUM(B14:E14) -> 8
A15: 4a. Retirement - early | B15: {=SUMPRODUCT((Data!$A$2:$A$99369=$A$3)*(Data!$B$2:$B$99369=B$4)*(Data!$C$2:$C$99369=$A15)*(Data!$D$2:$D$99369))} -> 142 | C15: {=SUMPRODUCT((Data!$A$2:$A$99369=$A$3)*(Data!$B$2:$B$99369=C$4)*(Data!$C$2:$C$99369=$A15)*(Data!$D$2:$D$99369))} -> 19 | D15: {=SUMPRODUCT((Data!$A$2:$A$99369=$A$3)*(Data!$B$2:$B$99369=D$4)*(Data!$C$2:$C$99369=$A15)*(Data!$D$2:$D$99369))} -> 5 | E15: {=SUMPRODUCT((Data!$A$2:$A$99369=$A$3)*(Data!$B$2:$B$99369=E$4)*(Data!$C$2:$C$99369=$A15)*(Data!$D$2:$D$99369))} -> 33 | F15: =SUM(B15:E15) -> 199
A16: 4b. Retirement - normal | B16: {=SUMPRODUCT((Data!$A$2:$A$99369=$A$3)*(Data!$B$2:$B$99369=B$4)*(Data!$C$2:$C$99369=$A16)*(Data!$D$2:$D$99369))} -> 829 | C16: {=SUMPRODUCT((Data!$A$2:$A$99369=$A$3)*(Data!$B$2:$B$99369=C$4)*(Data!$C$2:$C$99369=$A16)*(Data!$D$2:$D$99369))} -> 144 | D16: {=SUMPRODUCT((Data!$A$2:$A$99369=$A$3)*(Data!$B$2:$B$99369=D$4)*(Data!$C$2:$C$99369=$A16)*(Data!$D$2:$D$99369))} -> 22 | E16: {=SUMPRODUCT((Data!$A$2:$A$99369=$A$3)*(Data!$B$2:$B$99369=E$4)*(Data!$C$2:$C$99369=$A16)*(Data!$D$2:$D$99369))} -> 157 | F16: =SUM(B16:E16) -> 1152
... A21: 8. Unknown / Reason for leaving not recorded | B21: {=SUMPRODUCT((Data!$A$2:$A$99369=$A$3)*(Data!$B$2:$B$99369=B$4)*(Data!$C$2:$C$99369=$A21)*(Data!$D$2:$D$99369))} -> 39 | C21: {=SUMPRODUCT((Data!$A$2:$A$99369=$A$3)*(Data!$B$2:$B$99369=C$4)*(Data!$C$2:$C$99369=$A21)*(Data!$D$2:$D$99369))} -> 131 | D21: {=SUMPRODUCT((Data!$A$2:$A$99369=$A$3)*(Data!$B$2:$B$99369=D$4)*(Data!$C$2:$C$99369=$A21)*(Data!$D$2:$D$99369))} -> 5 | E21: {=SUMPRODUCT((Data!$A$2:$A$99369=$A$3)*(Data!$B$2:$B$99369=E$4)*(Data!$C$2:$C$99369=$A21)*(Data!$D$2:$D$99369))} -> 51 | F21: =SUM(B21:E21) -> 226
A22: Total | B22: =SUM(B5:B21) -> 1705 | C22: =SUM(C5:C21) -> 1271 | D22: =SUM(D5:D21) -> 134 | E22: =SUM(E5:E21) -> 1189 | F22: =SUM(F5:F21) -> 4299

Sheet FIRE1111
A1: FIRE STATISTICS TABLE 1111: Staff leaving fire authorities, by reason1 and by role, England
A2: Select a year from the drop-down list in the orange box below:
A3: 2022/23
A4: Reason | B4: Wholetime firefighters | C4: On call firefighters2 | D4: Fire Control | E4: Support Staff | F4: Total
A5: 1a. Moving - to another FRS | B5: =IF(FIRE1111_working!B5="..","..",ROUND(FIRE1111_working!B5,0)) -> 211 | C5: =IF(FIRE1111_working!C5="..","..",ROUND(FIRE1111_working!C5,0)) -> 8 | D5: =IF(FIRE1111_working!D5="..","..",ROUND(FIRE1111_working!D5,0)) -> 8 | E5: =IF(FIRE1111_working!E5="..","..",ROUND(FIRE1111_working!E5,0)) -> 9 | F5: =IF(FIRE1111_working!F5="..","..",ROUND(FIRE1111_working!F5,0)) -> 236
A6: 1b. Moving - within FRS from operational (firefighter or control) to support staff | B6: =IF(FIRE1111_working!B6="..","..",ROUND(FIRE1111_working!B6,0)) -> 3 | C6: =IF(FIRE1111_working!C6="..","..",ROUND(FIRE1111_working!C6,0)) -> 1 | D6: =IF(FIRE1111_working!D6="..","..",ROUND(FIRE1111_working!D6,0)) -> 5 | E6: =IF(FIRE1111_working!E6="..","..",ROUND(FIRE1111_working!E6,0)) -> 19 | F6: =IF(FIRE1111_working!F6="..","..",ROUND(FIRE1111_working!F6,0)) -> 28
A7: 2a. Resignation - to take up alternative employment | B7: =IF(FIRE1111_working!B7="..","..",ROUND(FIRE1111_working!B7,0)) -> 189 | C7: =IF(FIRE1111_working!C7="..","..",ROUND(FIRE1111_working!C7,0)) -> 264 | D7: =IF(FIRE1111_working!D7="..","..",ROUND(FIRE1111_working!D7,0)) -> 50 | E7: =IF(FIRE1111_working!E7="..","..",ROUND(FIRE1111_working!E7,0)) -> 419 | F7: =IF(FIRE1111_working!F7="..","..",ROUND(FIRE1111_working!F7,0)) -> 922
A8: 2b. Resignation - due to ill health | B8: =IF(FIRE1111_working!B8="..","..",ROUND(FIRE1111_working!B8,0)) -> 12 | C8: =IF(FIRE1111_working!C8="..","..",ROUND(FIRE1111_working!C8,0)) -> 11 | D8: =IF(FIRE1111_working!D8="..","..",ROUND(FIRE1111_working!D8,0)) -> 1 | E8: =IF(FIRE1111_working!E8="..","..",ROUND(FIRE1111_working!E8,0)) -> 5 | F8: =IF(FIRE1111_working!F8="..","..",ROUND(FIRE1111_working!F8,0)) -> 29
A9: 2c. Resignation - any other reason (please specify) | B9: =IF(FIRE1111_working!B9="..","..",ROUND(FIRE1111_working!B9,0)) -> 159 | C9: =IF(FIRE1111_working!C9="..","..",ROUND(FIRE1111_working!C9,0)) -> 233 | D9: =IF(FIRE1111_working!D9="..","..",ROUND(FIRE1111_working!D9,0)) -> 30 | E9: =IF(FIRE1111_working!E9="..","..",ROUND(FIRE1111_working!E9,0)) -> 282 | F9: =IF(FIRE1111_working!F9="..","..",ROUND(FIRE1111_working!F9,0)) -> 704
A10: 2d. Resignation - issues with primary employment/other work commitments | B10: =IF(FIRE1111_working!B10="..","..",ROUND(FIRE1111_working!B10,0)) -> 0 | C10: =IF(FIRE1111_working!C10="..","..",ROUND(FIRE1111_working!C10,0)) -> 51 | D10: =IF(FIRE1111_working!D10="..","..",ROUND(FIRE1111_working!D10,0)) -> 0 | E10: =IF(FIRE1111_working!E10="..","..",ROUND(FIRE1111_working!E10,0)) -> 0 | F10: =IF(FIRE1111_working!F10="..","..",ROUND(FIRE1111_working!F10,0)) -> 51
A11: 2e. Resignation - personal reasons (including work / life balance & caring responsibilities) | B11: =IF(FIRE1111_working!B11="..","..",ROUND(FIRE1111_working!B11,0)) -> 0 | C11: =IF(FIRE1111_working!C11="..","..",ROUND(FIRE1111_working!C11,0)) -> 226 | D11: =IF(FIRE1111_working!D11="..","..",ROUND(FIRE1111_working!D11,0)) -> 0 | E11: =IF(FIRE1111_working!E11="..","..",ROUND(FIRE1111_working!E11,0)) -> 0 | F11: =IF(FIRE1111_working!F11="..","..",ROUND(FIRE1111_working!F11,0)) -> 226
A12: 2f. Resignation - relocation/leaving the area (including going travelling, moving country) | B12: =IF(FIRE1111_working!B12="..","..",ROUND(FIRE1111_working!B12,0)) -> 0 | C12: =IF(FIRE1111_working!C12="..","..",ROUND(FIRE1111_working!C12,0)) -> 104 | D12: =IF(FIRE1111_working!D12="..","..",ROUND(FIRE1111_working!D12,0)) -> 0 | E12: =IF(FIRE1111_working!E12="..","..",ROUND(FIRE1111_working!E12,0)) -> 0 | F12: =IF(FIRE1111_working!F12="..","..",ROUND(FIRE1111_working!F12,0)) -> 104
A13: 3a. Redundancy - compulsory | B13: =IF(FIRE1111_working!B13="..","..",ROUND(FIRE1111_working!B13,0)) -> 0 | C13: =IF(FIRE1111_working!C13="..","..",ROUND(FIRE1111_working!C13,0)) -> 0 | D13: =IF(FIRE1111_working!D13="..","..",ROUND(FIRE1111_working!D13,0)) -> 0 | E13: =IF(FIRE1111_working!E13="..","..",ROUND(FIRE1111_working!E13,0)) -> 36 | F13: =IF(FIRE1111_working!F13="..","..",ROUND(FIRE1111_working!F13,0)) -> 36
A14: 3b. Redundancy - voluntary | B14: =IF(FIRE1111_working!B14="..","..",ROUND(FIRE1111_working!B14,0)) -> 0 | C14: =IF(FIRE1111_working!C14="..","..",ROUND(FIRE1111_working!C14,0)) -> 2 | D14: =IF(FIRE1111_working!D14="..","..",ROUND(FIRE1111_working!D14,0)) -> 0 | E14: =IF(FIRE1111_working!E14="..","..",ROUND(FIRE1111_working!E14,0)) -> 6 | F14: =IF(FIRE1111_working!F14="..","..",ROUND(FIRE1111_working!F14,0)) -> 8
A15: 4a. Retirement - early | B15: =IF(FIRE1111_working!B15="..","..",ROUND(FIRE1111_working!B15,0)) -> 142 | C15: =IF(FIRE1111_working!C15="..","..",ROUND(FIRE1111_working!C15,0)) -> 19 | D15: =IF(FIRE1111_working!D15="..","..",ROUND(FIRE1111_working!D15,0)) -> 5 | E15: =IF(FIRE1111_working!E15="..","..",ROUND(FIRE1111_working!E15,0)) -> 33 | F15: =IF(FIRE1111_working!F15="..","..",ROUND(FIRE1111_working!F15,0)) -> 199
A16: 4b. Retirement - normal | B16: =IF(FIRE1111_working!B16="..","..",ROUND(FIRE1111_working!B16,0)) -> 829 | C16: =IF(FIRE1111_working!C16="..","..",ROUND(FIRE1111_working!C16,0)) -> 144 | D16: =IF(FIRE1111_working!D16="..","..",ROUND(FIRE1111_working!D16,0)) -> 22 | E16: =IF(FIRE1111_working!E16="..","..",ROUND(FIRE1111_working!E16,0)) -> 157 | F16: =IF(FIRE1111_working!F16="..","..",ROUND(FIRE1111_working!F16,0)) -> 1152
... A22: Total | B22: =IF(FIRE1111_working!B22="..","..",ROUND(FIRE1111_working!B22,0)) -> 1705 | C22: =IF(FIRE1111_working!C22="..","..",ROUND(FIRE1111_working!C22,0)) -> 1271 | D22: =IF(FIRE1111_working!D22="..","..",ROUND(FIRE1111_working!D22,0)) -> 134 | E22: =IF(FIRE1111_working!E22="..","..",ROUND(FIRE1111_working!E22,0)) -> 1189 | F22: =IF(FIRE1111_working!F22="..","..",ROUND(FIRE1111_working!F22,0)) -> 4299
A23: 1 Includes re-employment as support staff by the same FRA
A24: 2 Also referred to as 'Retained Duty System firefighters'
A25: ".." denotes data not collected.
A26: The full set of fire statistics releases, tables and guidance can be found on our landing page, here-
A27: https://www.gov.uk/government/collections/fire-statistics
A28: The statistics in this table are Official Statistics.
A29: Source: Home Office Operational Statistics Data Collection, figures supplied by fire and rescue authorities.
A30: Contact: FireStatistics@homeoffice.gov.uk
A31: End of table
I38: 2018/19
I39: 2019/20
I40: 2020/21
I41: 2021/22
I42: 2022/23
