Workbook

Sheet Table of Contents
A1: Table of Contents: October 2021 to September 2022
A2: Figure 1: Number of events held, decisions issued and median time between valid date & decision date
A3: Figure 2: Number of cases received, closed and open
A4: Figure 3: Appeal Decisions
A5: Figure 4 (l) : Appeal Decisions by Procedure
A6: Figure 4 : Appeal Decisions by Casework Category
A7: Figure 5: Mean and Median time to decision
A8: Figure 6: Median time to decision by casework area
A9: Figure 7: Mean, Median Time to Decision, Rosewell Inquiry Process
A10: Figure 8: Number of Planning appeals receipts and decision, 2017/18 to 2022/23, by quarter
A11: Figure 9: s78 planning appeals, percentale allowed, 2017/18 to 2022/23 by quarter
A12: Figure 10: s78 planning appeals, percentage allowed by procedure type, 2017/18 to 2022/23, by quarter
... A33: Annex D: Table C, planning appeals, number allowed by procedure type from 2016//17

Sheet Figure 1
A1: Figure 1: Number of events held, decisions issued and median time between valid date & decision date; October 2021 to September 2022
A2: Note: Decision and decision time statistics are provisional

Sheet Figure 2
A1: Figure 2: Number of cases received, closed and open; October 2021 to September 2022
A2: Note: Received and closed case statistics are provisional

Sheet Figure 3
A1: Figure 3 – Appeal Decisions; October 2021 to September 2022
A2: Note: Decision statistics are provisional

Sheet Figure 4 By Procedure
A1: Figure 4 (l) – Appeal Decisions by Procedure; October 2021 to September 2022
A2: Note: Decision statistics are provisional

Sheet Figure 4 by Casework Category
A1: Figure 4 (r) – Appeal Decisions by Casework Category; October 2021 to September 2022
A2: Note: Specialist casework decision statistics and all proportions are provisional

Sheet Figure 5
A1: Figure 5: Mean and Median time to decision; October 2021 to September 2022
A2: Note: Decision time statistics are provisional

Sheet Figure 6
A1: Figure 6 – Median time to decision by casework area; October 2021 to September 2022
A2: Note: Specialist casework decision time statistics are provisional

Sheet Figure 7
A1: Figure 7: Mean, Median Time to Decision, Rosewell Inquiry Process; October 2021 to September 2022
A2: Note: Decision time statistics are provisional

Sheet Figure 8
A1: Figure 8: Number of s78 Planning appeals receipts and decision, 2017/18 to 2022/23, by quarter

Sheet Figure 9
A1: Figure 9: S78 planning appeals, percentage allowed, 2017/18 to 2022/23, by quarter

Sheet Figure 10
A1: Figure 10: S78 planning appeals, percentage allowed by procedure type, 2017/18 to 2022/23, by quarter

Sheet Figure 11
A1: Figure 11: S78 planning appeals, number of appeals allowed, 2017/18 to 2022/23, by quarter

Sheet for graphs only
A5: For Figure 7, from Table 8
A7: Month | B7: ='Table 8'!B4 -> Oct-21 | C7: ='Table 8'!C4 -> Nov-21 | D7: ='Table 8'!D4 -> Dec-21 | E7: ='Table 8'!E4 -> Jan-22 | F7: ='Table 8'!F4 -> Feb-22 | G7: ='Table 8'!G4 -> Mar-22 | H7: ='Table 8'!H4 -> Apr-22 | I7: ='Table 8'!I4 -> May-22 | ... M7: ='Table 8'!M4 -> Sep-22 | N7: Total
A8: Decisions | B8: ='Table 8'!B5 -> 8 | C8: ='Table 8'!C5 -> 19 | D8: ='Table 8'!D5 -> 14 | E8: ='Table 8'!E5 -> 21 | F8: ='Table 8'!F5 -> 23 | G8: ='Table 8'!G5 -> 22 | H8: ='Table 8'!H5 -> 14 | I8: ='Table 8'!I5 -> 25 | ... M8: ='Table 8'!M5 -> 11
A9: Valid to Decision (mean weeks) | B9: ='Table 8'!B7 -> 39.982143 | C9: ='Table 8'!C7 -> 36.759398 | D9: ='Table 8'!D7 -> 29.163265 | E9: ='Table 8'!E7 -> 37.789115 | F9: ='Table 8'!F7 -> 47.006211 | G9: ='Table 8'!G7 -> 35.5 | H9: ='Table 8'!H7 -> 35.5 | I9: ='Table 8'!I7 -> 39.965714 | ... M9: ='Table 8'!M7 -> 29.493506
A10: Valid to Decision (median weeks) | B10: ='Table 8'!B6 -> 43.214286 | C10: ='Table 8'!C6 -> 28.571428 | D10: ='Table 8'!D6 -> 27.357142 | E10: ='Table 8'!E6 -> 31.857142 | F10: ='Table 8'!F6 -> 42.142857 | G10: ='Table 8'!G6 -> 30 | H10: ='Table 8'!H6 -> 30.214285 | I10: ='Table 8'!I6 -> 30.571428 | ... M10: ='Table 8'!M6 -> 28.571428

Sheet virtual events for chart
B4: =#REF! -> #REF! | C4: =#REF! -> #REF! | D4: =#REF! -> #REF! | E4: =#REF! -> #REF! | F4: =#REF! -> #REF! | G4: =#REF! -> #REF! | H4: =#REF! -> #REF! | I4: =#REF! -> #REF! | ... M4: =#REF! -> #REF!
A5: s78 Hearings | B5: =#REF! -> #REF! | C5: =#REF! -> #REF! | D5: =#REF! -> #REF! | E5: =#REF! -> #REF! | F5: =#REF! -> #REF! | G5: =#REF! -> #REF! | H5: =#REF! -> #REF! | I5: =#REF! -> #REF! | ... M5: =#REF! -> #REF!
A6: s78 Inquiries | B6: =#REF! -> #REF! | C6: =#REF! -> #REF! | D6: =#REF! -> #REF! | E6: =#REF! -> #REF! | F6: =#REF! -> #REF! | G6: =#REF! -> #REF! | H6: =#REF! -> #REF! | I6: =#REF! -> #REF! | ... M6: =#REF! -> #REF!
A7: Enforcement | B7: =#REF! -> #REF! | C7: =#REF! -> #REF! | D7: =#REF! -> #REF! | E7: =#REF! -> #REF! | F7: =#REF! -> #REF! | G7: =#REF! -> #REF! | H7: =#REF! -> #REF! | I7: =#REF! -> #REF! | ... M7: =#REF! -> #REF!
A8: Local Plans | B8: =#REF! -> #REF! | C8: =#REF! -> #REF! | D8: =#REF! -> #REF! | E8: =#REF! -> #REF! | F8: =#REF! -> #REF! | G8: =#REF! -> #REF! | H8: =#REF! -> #REF! | I8: =#REF! -> #REF! | ... M8: =#REF! -> #REF!
A9: National Infrastructure | B9: =#REF! -> #REF! | C9: =#REF! -> #REF! | D9: =#REF! -> #REF! | E9: =#REF! -> #REF! | F9: =#REF! -> #REF! | G9: =#REF! -> #REF! | H9: =#REF! -> #REF! | I9: =#REF! -> #REF! | ... M9: =#REF! -> #REF!
A10: Other | B10: =#REF! -> #REF! | C10: =#REF! -> #REF! | D10: =#REF! -> #REF! | E10: =#REF! -> #REF! | F10: =#REF! -> #REF! | G10: =#REF! -> #REF! | H10: =#REF! -> #REF! | I10: =#REF! -> #REF! | ... M10: =#REF! -> #REF!
A11: Total | B11: =#REF! -> #REF! | C11: =#REF! -> #REF! | D11: =#REF! -> #REF! | E11: =#REF! -> #REF! | F11: =#REF! -> #REF! | G11: =#REF! -> #REF! | H11: =#REF! -> #REF! | I11: =#REF! -> #REF! | ... M11: =#REF! -> #REF!

Sheet Table 1
A1: Table 1: Number of events held, decisions issued and median time between valid date & decision date; October 2021 to September 2022
A2: Source: Horizon, Picaso and Inspector Scheduling System
A3: Note: Decision and decision time statistics are provisional
A4: Note: This table includes revisions to previously published data. Please see Annex E for further information.
A5: Month | B5: Oct-21 | C5: Nov-21 | D5: Dec-21 | E5: Jan-22 | F5: Feb-22 | G5: Mar-22 | H5: Apr-22 | I5: May-22 | J5: Jun-22 | K5: Jul-22 | L5: Aug-22 | M5: Sep-22 | N5: Total
A6: Events held | B6: 1128 | C6: 1557 | D6: 939 | E6: 1422 | F6: 1635 | G6: 1574 | H6: 1038 | I6: 1306 | J6: 1224 | K6: 1224 | L6: 1443 | M6: 1415 | N6: 15905
A7: Decisions | B7: 1236 | C7: 1555 | D7: 1483 | E7: 1365 | F7: 1668 | G7: 1907 | H7: 1253 | I7: 1414 | J7: 1195 | K7: 1425 | L7: 1477 | M7: 1197 | N7: 17175
A8: Median weeks | B8: 26.428571 | C8: 25.428571 | D8: 25.428571 | E8: 26.857142 | F8: 24.714285 | G8: 24.857142 | H8: 25.714285 | I8: 28 | J8: 26.857142 | K8: 25.857142 | L8: 26.857142 | M8: 28.857142 | N8: 26

Sheet Table 2
A1: Table 2: Number of cases received, closed and open; October 2021 to September 2022
A2: Source: Horizon, Picaso and Inspector Scheduling System
A3: Note 2: The received and closed statistics are provisonal
A4: Note: This table includes revisions to previously published data. Please see Annex E for further information.
A5: Month | B5: Oct-21 | C5: Nov-21 | D5: Dec-21 | E5: Jan-22 | F5: Feb-22 | G5: Mar-22 | H5: Apr-22 | I5: May-22 | J5: Jun-22 | K5: Jul-22 | L5: Aug-22 | M5: Sep-22 | N5: Total
A6: Received | B6: 1767 | C6: 1945 | D6: 1756 | E6: 1709 | F6: 1714 | G6: 1826 | H6: 1635 | I6: 1973 | J6: 1711 | K6: 1698 | L6: 1647 | M6: 1636 | N6: 21017
A7: Closed | B7: 1420 | C7: 1777 | D7: 1679 | E7: 1542 | F7: 1880 | G7: 2158 | H7: 1420 | I7: 1640 | J7: 1403 | K7: 1609 | L7: 1683 | M7: 1358 | N7: 19569
A8: Open Cases: all casework | B8: 12775 | C8: 12914 | D8: 13000 | E8: 13241 | F8: 13292 | G8: 12974 | H8: 13183 | I8: 13499 | J8: 13882 | K8: 13978 | L8: 13973 | M8: 14260
B72: =B8 -> 12775 | C72: =C8 -> 12914 | D72: =D8 -> 13000 | E72: =E8 -> 13241 | F72: =F8 -> 13292 | G72: =G8 -> 12974 | H72: =H8 -> 13183 | I72: =I8 -> 13499 | J72: =J8 -> 13882 | L72: =L8 -> 13973 | M72: =M8 -> 14260 | N72: =N8 -> 0

Sheet Table 3
A1: Table 3: Appeal Decisions; October 2021 to September 2022
A2: Source: Horizon and Picaso
A3: Note: Decision statistics are provisional
A5: Month | B5: Oct-21 | C5: Nov-21 | D5: Dec-21 | E5: Jan-22 | F5: Feb-22 | G5: Mar-22 | H5: Apr-22 | I5: May-22 | J5: Jun-22 | K5: Jul-22 | L5: Aug-22 | M5: Sep-22 | N5: Total
A6: Decisions | B6: 1236 | C6: 1555 | D6: 1483 | E6: 1365 | F6: 1668 | G6: 1907 | H6: 1253 | I6: 1414 | J6: 1195 | K6: 1425 | L6: 1477 | M6: 1197 | N6: 17175

Sheet Table 4 by Procedure
A1: Table 4: Appeal Decisions by Procedure; October 2021 to September 2022
A2: Source: Horizon and Picaso
A3: Note: Decision statistics are provisional
A4: Note: this is the first half of table 4, the second half can be found on the tab, 'Table 4 by Casework Type'.
A5: Month | B5: Oct-21 | C5: Nov-21 | D5: Dec-21 | E5: Jan-22 | F5: Feb-22 | G5: Mar-22 | H5: Apr-22 | I5: May-22 | J5: Jun-22 | K5: Jul-22 | L5: Aug-22 | M5: Sep-22 | N5: Total
A6: Written Representations | B6: 1186 | C6: 1457 | D6: 1398 | E6: 1250 | F6: 1596 | G6: 1811 | H6: 1155 | I6: 1291 | J6: 1108 | K6: 1337 | L6: 1360 | M6: 1112 | N6: 16061
A7: Hearings | B7: 32 | C7: 47 | D7: 53 | E7: 55 | F7: 37 | G7: 50 | H7: 67 | I7: 87 | J7: 52 | K7: 63 | L7: 39 | M7: 62 | N7: 644
A8: Inquiries | B8: 18 | C8: 51 | D8: 32 | E8: 60 | F8: 35 | G8: 46 | H8: 31 | I8: 36 | J8: 35 | K8: 25 | L8: 78 | M8: 23 | N8: 470
A9: Total | B9: 1236 | C9: 1555 | D9: 1483 | E9: 1365 | F9: 1668 | G9: 1907 | H9: 1253 | I9: 1414 | J9: 1195 | K9: 1425 | L9: 1477 | M9: 1197 | N9: 17175

Sheet Table 4 by Casework Type
A1: Table 4: Appeal Decisions by Casework Type; October 2021 to September 2022
A2: Source: Horizon and Picaso
A3: Note: Decision statistics are provisional
A4: Note: This is the second half of table 4.
A5: Month | B5: Oct-21 | C5: Nov-21 | D5: Dec-21 | E5: Jan-22 | F5: Feb-22 | G5: Mar-22 | H5: Apr-22 | I5: May-22 | J5: Jun-22 | K5: Jul-22 | L5: Aug-22 | M5: Sep-22 | N5: Total
A6: Planning | B6: 1033 | C6: 1330 | D6: 1262 | E6: 1108 | F6: 1411 | G6: 1606 | H6: 983 | I6: 1151 | J6: 1009 | K6: 1172 | L6: 1163 | M6: 970 | N6: 14198
A7: Enforcement | B7: 153 | C7: 193 | D7: 160 | E7: 208 | F7: 220 | G7: 253 | H7: 174 | I7: 214 | J7: 138 | K7: 167 | L7: 224 | M7: 168 | N7: 2272
A8: Specialist | B8: 50 | C8: 32 | D8: 61 | E8: 49 | F8: 37 | G8: 48 | H8: 96 | I8: 49 | J8: 48 | K8: 86 | L8: 90 | M8: 59 | N8: 705
A9: Total | B9: 1236 | C9: 1555 | D9: 1483 | E9: 1365 | F9: 1668 | G9: 1907 | H9: 1253 | I9: 1414 | J9: 1195 | K9: 1425 | L9: 1477 | M9: 1197 | N9: 17175

Sheet Table 5
A1: Table 5: Mean, Median and Standard Deviation of time to Decision; October 2021 to September 2022
A2: Source: Horizon and Picaso
A3: Note: Decision time statistics are provisional
A4: Month | B4: Oct-21 | C4: Nov-21 | D4: Dec-21 | E4: Jan-22 | F4: Feb-22 | G4: Mar-22 | H4: Apr-22 | I4: May-22 | J4: Jun-22 | K4: Jul-22 | L4: Aug-22 | M4: Sep-22 | N4: Total
A5: Valid to Decision (median weeks) | B5: 26.428571 | C5: 25.428571 | D5: 25.428571 | E5: 26.857142 | F5: 24.714285 | G5: 24.857142 | H5: 25.714285 | I5: 28 | J5: 26.857142 | K5: 25.857142 | L5: 26.857142 | M5: 28.857142 | N5: 26
A6: Valid to Decision (mean weeks) | B6: 30.951185 | C6: 30.643913 | D6: 29.358925 | E6: 31.816431 | F6: 28.357185 | G6: 30.47394 | H6: 31.31424 | I6: 36.183326 | J6: 32.745112 | K6: 33.278491 | L6: 33.665828 | M6: 34.373433 | N6: 31.532056
A7: Standard Deviation (weeks) | B7: 18.825897 | C7: 21.330051 | D7: 17.745356 | E7: 22.043124 | F7: 17.629694 | G7: 23.959457 | H7: 24.791827 | I7: 31.173228 | J7: 25.083107 | K7: 27.03708 | L7: 23.060803 | M7: 22.236103 | N7: 22.78834

Sheet Table 6
A1: Table 6: Mean and Median Time to Decision, with standard deviation, by procedure; October 2021 to September 2022
A2: Source: Horizon and Picaso
A3: Note: Decision time statistics are provisional
A4: Note: where there are fewer than 20 decisions the measures, mean, median and standard deviation are less meaningful. This applies to the number of inquiries in February 2021 and October 2021.
A5: Measure | B5: Procedure | C5: Oct-21 | D5: Nov-21 | E5: Dec-21 | F5: Jan-22 | G5: Feb-22 | H5: Mar-22 | I5: Apr-22 | J5: May-22 | K5: Jun-22 | L5: Jul-22 | M5: Aug-22 | N5: Sep-22 | O5: Total
A6: Valid to decision (median weeks) | B6: Written Representations | C6: 25.857142 | D6: 24.428571 | E6: 24.857142 | F6: 25.428571 | G6: 24.142857 | H6: 24.285714 | I6: 24.428571 | J6: 27 | K6: 26.142857 | L6: 25.142857 | M6: 26.142857 | N6: 28.142857 | O6: 25.142857
A7: Valid to decision (median weeks) | B7: Hearings | C7: 53.642857 | D7: 47.857142 | E7: 53.142857 | F7: 64.142857 | G7: 45.714285 | H7: 52.785713 | I7: 108.28571 | J7: 94 | K7: 59.071428 | L7: 58.428571 | M7: 63 | N7: 43.571428 | O7: 58.428571
A8: Valid to decision (median weeks) | B8: Inquiries | C8: 50.428571 | D8: 84.857142 | E8: 40.642857 | F8: 90.857142 | G8: 57.285714 | H8: 42.142857 | I8: 38.428571 | J8: 44.214286 | K8: 39.571428 | L8: 31.142857 | M8: 68.571428 | N8: 35.571428 | O8: 52.571428
A9: Valid to decision (median weeks) | B9: All Cases | C9: 26.428571 | D9: 25.428571 | E9: 25.428571 | F9: 26.857142 | G9: 24.714285 | H9: 24.857142 | I9: 25.714285 | J9: 28 | K9: 26.857142 | L9: 25.857142 | M9: 26.857142 | N9: 28.857142 | O9: 26
A10: Valid to decision (mean weeks) | B10: Written Representations | C10: 29.532851 | D10: 27.863614 | E10: 27.741365 | F10: 28.080457 | G10: 26.970622 | H10: 28.8757 | I10: 27.252537 | J10: 30.408179 | K10: 29.626941 | L10: 30.330303 | M10: 30.716806 | N10: 32.790339 | O10: 28.934196
A11: Valid to decision (mean weeks) | B11: Hearings | C11: 57.223214 | D11: 60.787234 | E11: 61.188679 | F11: 75.745454 | G11: 57.536679 | H11: 60.494285 | I11: 89.085287 | J11: 113.64204 | K11: 87.412087 | L11: 84.941043 | M11: 67.802197 | N11: 52.223502 | O11: 74.808479
A12: Valid to decision (mean weeks) | B12: Inquiries | C12: 77.619047 | D12: 82.294117 | E12: 47.308035 | F12: 69.380952 | G12: 60.697959 | H12: 60.695652 | I12: 57.654377 | J12: 55.773809 | K12: 49.881632 | L12: 60.64 | M12: 68.016483 | N12: 62.795031 | O12: 63.379714
A13: Valid to decision (mean weeks) | B13: All Cases | C13: 30.951185 | D13: 30.643913 | E13: 29.358925 | F13: 31.816431 | G13: 28.357185 | H13: 30.47394 | I13: 31.31424 | J13: 36.183326 | K13: 32.745112 | L13: 33.278491 | M13: 33.665828 | N13: 34.373433 | O13: 31.532056
A14: Standard Deviation (weeks) | B14: Written Representations | C14: 16.190869 | D14: 15.491322 | E14: 15.044025 | F14: 15.327553 | G14: 15.074814 | H14: 21.900167 | I14: 17.187318 | J14: 18.337346 | K14: 17.128495 | L14: 20.803209 | M14: 18.996764 | N14: 19.3413 | O14: 17.586739
A15: Standard Deviation (weeks) | B15: Hearings | C15: 22.87396 | D15: 38.607524 | E15: 31.954311 | F15: 43.815101 | G15: 33.10893 | H15: 27.537243 | I15: 38.316063 | J15: 59.757505 | K15: 62.742275 | L15: 55.224451 | M15: 43.129096 | N15: 31.791077 | O15: 47.639844
A16: Standard Deviation (weeks) | B16: Inquiries | C16: 50.909238 | D16: 43.779628 | E16: 30.007081 | F16: 30.481975 | G16: 35.424041 | H16: 45.763188 | I16: 46.206378 | J16: 37.169746 | K16: 35.811272 | L16: 53.764021 | M16: 30.554863 | N16: 55.982866 | O16: 41.05324
A17: Standard Deviation (weeks) | B17: All Cases | C17: 18.825897 | D17: 21.330051 | E17: 17.745356 | F17: 22.043124 | G17: 17.629694 | H17: 23.959457 | I17: 24.791827 | J17: 31.173228 | K17: 25.083107 | L17: 27.03708 | M17: 23.060803 | N17: 22.236103 | O17: 22.78834
... A21: Decisions | B21: Total | C21: 1236 | D21: 1555 | E21: 1483 | F21: 1365 | G21: 1668 | H21: 1907 | I21: 1253 | J21: 1414 | K21: 1195 | L21: 1425 | M21: 1477 | N21: 1197 | O21: 17175

Sheet Table 7
A1: Table 7: Decisions, Mean and Median Time to Decision - Planning, Enforcement & Specilalist Cases; October 2021 to September 2022
A2: Source: Horizon and Picaso
A3: Note: Decision time statistics for specialist casework are provisional
A4: Note: This table includes revisions to previously published data. Please see Annex E for further information.
A5: Appeal Type | B5: Measure | C5: Oct-21 | D5: Nov-21 | E5: Dec-21 | F5: Jan-22 | G5: Feb-22 | H5: Mar-22 | I5: Apr-22 | J5: May-22 | K5: Jun-22 | L5: Jul-22 | M5: Aug-22 | N5: Sep-22 | O5: Total
A6: Planning Cases | B6: Valid to decision (median wks) | C6: 25.285714 | D6: 24.642857 | E6: 24.571428 | F6: 25.214285 | G6: 24.285714 | H6: 23.571428 | I6: 24.857142 | J6: 27 | K6: 26 | L6: 25 | M6: 25.142857 | N6: 26.857142 | O6: 25
A7: Planning Cases | B7: Valid to decision (mean wks) | C7: 28.298575 | D7: 27.188936 | E7: 26.821485 | F7: 28.067689 | G7: 26.272856 | H7: 25.754225 | I7: 26.661677 | J7: 30.297257 | K7: 29.168766 | L7: 29.092515 | M7: 28.70581 | N7: 30.538144 | O7: 27.825465
A8: Planning Cases | B8: Standard deviation of decision (weeks) | C8: 13.639072 | D8: 14.071464 | E8: 13.679031 | F8: 16.248364 | G8: 13.921513 | H8: 15.044984 | I8: 15.319028 | J8: 21.561901 | K8: 17.862347 | L8: 20.452857 | M8: 17.650427 | N8: 16.839205 | O8: 16.271903
A9: Enforcement Cases | B9: Valid to decision (median wks) | C9: 34 | D9: 39.857142 | E9: 39.142857 | F9: 37.5 | G9: 31.142857 | H9: 44.571428 | I9: 48 | J9: 57.785713 | K9: 40.928571 | L9: 42.142857 | M9: 58.571428 | N9: 47.714286 | O9: 42
A10: Enforcement Cases | B10: Valid to decision (mean wks) | C10: 43.593837 | D10: 53.506291 | E10: 44.995535 | F10: 49.483516 | G10: 39.904545 | H10: 57.488424 | I10: 59.732348 | J10: 66.921228 | K10: 56.29089 | L10: 56.513259 | M10: 56.105867 | N10: 52.088435 | O10: 52.509209
A11: Enforcement Cases | B11: Standard deviation of decision (weeks) | C11: 30.194179 | D11: 37.637679 | E11: 26.36419 | F11: 32.415261 | G11: 26.686938 | H11: 39.848541 | I11: 40.787382 | J11: 50.108143 | K11: 46.957281 | L11: 40.950897 | M11: 29.622446 | N11: 30.202346 | O11: 36.985499
A12: Specialist Cases | B12: Valid to decision (median wks) | C12: 32.142857 | D12: 19.714285 | E12: 27.142857 | F12: 29.428571 | G12: 26 | H12: 27.214285 | I12: 12.714285 | J12: 27.285714 | K12: 29.785714 | L12: 24.857143 | M12: 30.928571 | N12: 31.142857 | O12: 26.857142
A13: Specialist Cases | B13: Valid to decision (mean wks) | C13: 47.396501 | D13: 36.352678 | E13: 40.840749 | F13: 41.588921 | G13: 39.484127 | H13: 46.673913 | I13: 27.406015 | J13: 40.37386 | K13: 40.909091 | L13: 45.346218 | M13: 41.909523 | N13: 46.985472 | O13: 41.078226
A14: Specialist Cases | B14: Standard deviation of decision (weeks) | C14: 35.404393 | D14: 40.670684 | E14: 32.480471 | F14: 36.978169 | G14: 36.417015 | H14: 45.483796 | I14: 30.017259 | J14: 34.778263 | K14: 27.057746 | L14: 41.653362 | M14: 29.640296 | N14: 38.439103 | O14: 36.077745

Sheet Table 8
A1: Table 8: Decisions, Mean and Median Time to Decision, Planning Inquiry cases under Rosewell process; October 2021 to September 2022
A2: Source: Horizon and Picaso
A3: Note: where there are fewer than 20 decisions the measures, mean, median and standard deviation are less meaningful
A4: Month | B4: Oct-21 | C4: Nov-21 | D4: Dec-21 | E4: Jan-22 | F4: Feb-22 | G4: Mar-22 | H4: Apr-22 | I4: May-22 | J4: Jun-22 | K4: Jul-22 | L4: Aug-22 | M4: Sep-22 | N4: Total
A5: Decisions | B5: 8 | C5: 19 | D5: 14 | E5: 21 | F5: 23 | G5: 22 | H5: 14 | I5: 25 | J5: 22 | K5: 13 | L5: 18 | M5: 11 | N5: 210
A6: Valid to Decision (median weeks) | B6: 43.214286 | C6: 28.571428 | D6: 27.357142 | E6: 31.857142 | F6: 42.142857 | G6: 30 | H6: 30.214285 | I6: 30.571428 | J6: 30.928571 | K6: 23.285714 | L6: 26 | M6: 28.571428 | N6: 28.857142
A7: Valid to Decision (mean weeks) | B7: 39.982143 | C7: 36.759398 | D7: 29.163265 | E7: 37.789115 | F7: 47.006211 | G7: 35.5 | H7: 35.5 | I7: 39.965714 | J7: 31.610389 | K7: 23.901099 | L7: 30.896825 | M7: 29.493506 | N7: 35.126637
A8: Standard deviation of decision (weeks) | B8: 13.5267 | C8: 18.719253 | D8: 8.4721904 | E8: 19.606559 | F8: 19.665232 | G8: 14.155232 | H8: 13.590722 | I8: 20.453083 | J8: 11.434916 | K8: 4.5626235 | L8: 13.960651 | M8: 9.3557525 | N8: 16.327384

Sheet Table 9
A1: Table 9: Decisions, Planning Inquiry cases under non Rosewell process; October 2021 to September 2022
A2: Source: Horizon
A3: Month | B3: Oct-21 | C3: Nov-21 | D3: Dec-21 | E3: Jan-22 | F3: Feb-22 | G3: Mar-22 | H3: Apr-22 | I3: May-22 | J3: Jun-22 | K3: Jul-22 | L3: Aug-22 | M3: Sep-22 | N3: Total
A4: Decisions | B4: 0 | C4: 0 | D4: 3 | E4: 2 | F4: 0 | G4: 3 | H4: 3 | I4: 1 | J4: 1 | K4: 2 | L4: 3 | M4: 0 | N4: 18

Sheet Table 10
A1: Table 10: Open cases by procedure and stage, as of end of September 2022
A2: Source: Horizon and Picaso
A3: Note: there are 100 cases that have no procedure type recorded (see Background Quality Report for more detail)
A4: Stage | B4: WR | C4: HRG | D4: INQ | E4: Total
A5: Case received but yet to be deemed valid | B5: 1949 | C5: 49 | D5: 2 | E5: 2000
A6: Case deemed valid but yet to “start” [Note 1] | B6: 2592 | C6: 84 | D6: 72 | E6: 2805
A7: Case started but event (site visit/ hearing/ inquiry) has not yet happened | B7: 7764 | C7: 708 | D7: 539 | E7: 9035
A8: Event has happened/ started [Note 2] but decision not yet issued | B8: 220 | C8: 94 | D8: 96 | E8: 420
A9: Total | B9: 12525 | C9: 935 | D9: 709 | E9: 14260

Sheet Table 11
A1: Table 11: Planning Inspectorate - Inspectors; Headcount and FTE; October 2021 to September 2022
A2: Source: SAP HR
A3: Month | B3: Oct-21 | C3: Nov-21 | D3: Dec-21 | E3: Jan-22 | F3: Feb-22 | G3: Mar-22 | H3: Apr-22 | I3: May-22 | J3: Jun-22 | K3: Jul-22 | L3: Aug-22 | M3: Sep-22
A4: Headcount | B4: 351 | C4: 360 | D4: 361 | E4: 360 | F4: 357 | G4: 357 | H4: 355 | I4: 365 | J4: 371 | K4: 378 | L4: 376 | M4: 388
A5: FTE | B5: 314 | C5: 323.2 | D5: 322.8 | E5: 320.9 | F5: 318.9 | G5: 319.1 | H5: 316.6 | I5: 325.9 | J5: 331.5 | K5: 337.7 | L5: 335 | M5: 346.2

Sheet Annex A Planning
A1: Annex A: Mean and Median Time to Decision, with standard deviation, by procedure; October 2021 to September 2022
A2: Source: Horizon and Picaso
A3: Note: Where there are fewer than 20 decisions the measures, mean, median and standard deviation are less meaningful.
A4: Planning | B4: Measure | C4: Oct-21 | D4: Nov-21 | E4: Dec-21 | F4: Jan-22 | G4: Feb-22 | H4: Mar-22 | I4: Apr-22 | J4: May-22 | K4: Jun-22 | L4: Jul-22 | M4: Aug-22 | N4: Sep-22 | O4: Total
A5: Written Representations | B5: Decisions | C5: 1000 | D5: 1274 | E5: 1204 | F5: 1052 | G5: 1358 | H5: 1546 | I5: 933 | J5: 1082 | K5: 949 | L5: 1110 | M5: 1115 | N5: 917 | O5: 13540
A6: Written Representations | B6: Median Average Weeks | C6: 25 | D6: 24.142857 | E6: 24.214285 | F6: 24.642857 | G6: 23.857142 | H6: 23.142857 | I6: 24.285714 | J6: 26.357143 | K6: 25.285714 | L6: 24.428571 | M6: 25 | N6: 26.714285 | O6: 24.428571
A7: Written Representations | B7: Mean Average Weeks | C7: 27.544 | D7: 26.257569 | E7: 25.773255 | F7: 26.449076 | G7: 25.363559 | H7: 24.990574 | I7: 25.181289 | J7: 27.607473 | K7: 27.621857 | L7: 26.900128 | M7: 27.893658 | N7: 29.817572 | O7: 26.612018
A8: Written Representations | B8: Standard Deviation Weeks | C8: 12.687248 | D8: 12.005668 | E8: 11.536275 | F8: 12.364601 | G8: 12.509924 | H8: 14.280265 | I8: 12.256175 | J8: 13.735989 | K8: 14.518008 | L8: 13.915491 | M8: 15.712221 | N8: 15.617926 | O8: 13.419895
A9: Hearings | B9: Decisions | C9: 25 | D9: 37 | E9: 41 | F9: 33 | G9: 30 | H9: 35 | I9: 33 | J9: 43 | K9: 37 | L9: 47 | M9: 27 | N9: 42 | O9: 430
A10: Hearings | B10: Median Average Weeks | C10: 54.285714 | D10: 45.857142 | E10: 49.428571 | F10: 55.857142 | G10: 43.571428 | H10: 48.428571 | I10: 52.714285 | J10: 61.428571 | K10: 51.142857 | L10: 55.857142 | M10: 42.571428 | N10: 40 | O10: 51.071428
A11: Hearings | B11: Mean Average Weeks | C11: 54.742857 | D11: 54.343629 | E11: 56.66202 | F11: 70.675324 | G11: 51.538095 | H11: 52.465306 | I11: 62.995671 | J11: 89.953488 | K11: 66.351351 | L11: 80.762918 | M11: 55.375661 | N11: 46.544217 | O11: 62.542351
A12: Hearings | B12: Standard Deviation Weeks | C12: 20.580672 | D12: 34.063768 | E12: 29.681833 | F12: 39.042993 | G12: 27.009162 | H12: 20.163944 | I12: 34.724047 | J12: 58.393049 | K12: 41.587826 | L12: 54.818045 | M12: 43.014335 | N12: 30.537511 | O12: 40.632853
A13: Inquiries | B13: Decisions | C13: 8 | D13: 19 | E13: 17 | F13: 23 | G13: 23 | H13: 25 | I13: 17 | J13: 26 | K13: 23 | L13: 15 | M13: 21 | N13: 11 | O13: 228
A14: Inquiries | B14: Median Average Weeks | C14: 43.214286 | D14: 28.571428 | E14: 23.857142 | F14: 31.857142 | G14: 42.142857 | H14: 28 | I14: 33.714285 | J14: 32.071428 | K14: 31 | L14: 24 | M14: 26 | N14: 28.571428 | O14: 29.285714
A15: Inquiries | B15: Mean Average Weeks | C15: 39.982143 | D15: 36.759398 | E15: 29.092436 | F15: 40.968944 | G15: 47.006211 | H15: 35.582857 | I15: 37.378151 | J15: 43.571428 | K15: 33.180124 | L15: 29.428571 | M15: 37.537415 | N15: 29.493506 | O15: 37.274769
A16: Inquiries | B16: Standard Deviation Weeks | C16: 13.5267 | D16: 18.719253 | E16: 10.47216 | F16: 25.445976 | G16: 19.665232 | H16: 15.142098 | I16: 13.679836 | J16: 26.967915 | K16: 13.38961 | L16: 14.773943 | M16: 27.185034 | N16: 9.3557525 | O16: 20.95381
... A20: All Cases | B20: Standard Deviation Weeks | C20: 13.639072 | D20: 14.071464 | E20: 13.679031 | F20: 16.248364 | G20: 13.921513 | H20: 15.044984 | I20: 15.319028 | J20: 21.561901 | K20: 17.862347 | L20: 20.452857 | M20: 17.650427 | N20: 16.839205 | O20: 16.271903

Sheet Annex A Enforcement
A1: Annex A: Mean and Median Time to Decision, with standard deviation, by procedure; October 2021 to September 2022
A2: Source: Horizon and Picaso
A4: Note: Where there are fewer than 20 decisions the measures, mean, median and standard deviation are less meaningful.
A5: Enforcement | B5: Measure | C5: Oct-21 | D5: Nov-21 | E5: Dec-21 | F5: Jan-22 | G5: Feb-22 | H5: Mar-22 | I5: Apr-22 | J5: May-22 | K5: Jun-22 | L5: Jul-22 | M5: Aug-22 | N5: Sep-22 | O5: Total
A6: Written Representations | B6: Decisions | C6: 139 | D6: 156 | E6: 137 | F6: 155 | G6: 203 | H6: 225 | I6: 131 | J6: 166 | K6: 119 | L6: 154 | M6: 164 | N6: 145 | O6: 1894
A7: Written Representations | B7: Median Average Weeks | C7: 32.714285 | D7: 31.571428 | E7: 37.428571 | F7: 31.714285 | G7: 28.571428 | H7: 42.571428 | I7: 36.714285 | J7: 45.785713 | K7: 37.285714 | L7: 39 | M7: 40 | N7: 48 | O7: 35.142857
A8: Written Representations | B8: Mean Average Weeks | C8: 38.733813 | D8: 42.118131 | E8: 41.545359 | F8: 37.225806 | G8: 36.560872 | H8: 54.970793 | I8: 44.776445 | J8: 47.907917 | K8: 43.055222 | L8: 52.736549 | M8: 46.283972 | N8: 49.119211 | O8: 44.202168
A9: Written Representations | B9: Standard Deviation Weeks | C9: 22.402579 | D9: 28.193606 | E9: 23.902567 | F9: 22.13759 | G9: 21.926832 | H9: 38.935976 | I9: 29.080482 | J9: 28.763353 | K9: 24.172805 | L9: 36.319551 | M9: 25.280817 | N9: 24.047186 | O9: 28.284742
A10: Hearings | B10: Decisions | C10: 7 | D10: 9 | E10: 10 | F10: 19 | G10: 6 | H10: 11 | I10: 31 | J10: 41 | K10: 11 | L10: 10 | M10: 6 | N10: 13 | O10: 174
A11: Hearings | B11: Median Average Weeks | C11: 53 | D11: 55.285714 | E11: 60.5 | F11: 66.714285 | G11: 55.714286 | H11: 63 | I11: 118.85714 | J11: 170.28571 | K11: 223.71428 | L11: 75 | M11: 99.642857 | N11: 39.714285 | O11: 91.571428
A12: Hearings | B12: Mean Average Weeks | C12: 66.081632 | D12: 82.714285 | E12: 71.6 | F12: 81.796992 | G12: 72.261904 | H12: 64.883116 | I12: 111.78802 | J12: 140.52962 | K12: 165.2987 | L12: 107.12857 | M12: 101.07143 | N12: 56.505494 | O12: 99.800595
A13: Hearings | B13: Standard Deviation Weeks | C13: 27.904863 | D13: 46.634148 | E13: 33.730916 | F13: 47.423936 | G13: 36.291471 | H13: 22.508363 | I13: 18.997622 | J13: 50.705901 | K13: 70.838955 | L13: 64.39649 | M13: 25.39454 | N13: 30.850662 | O13: 53.777249
A14: Inquiries | B14: Decisions | C14: 7 | D14: 28 | E14: 13 | F14: 34 | G14: 11 | H14: 17 | I14: 12 | J14: 7 | K14: 8 | L14: 3 | M14: 54 | N14: 10 | O14: 204
A15: Inquiries | B15: Median Average Weeks | C15: 147.42857 | D15: 118.28571 | E15: 48 | F15: 90.857142 | G15: 71.857142 | H15: 58.285714 | I15: 49.285714 | J15: 78 | K15: 96.071428 | L15: 52.714285 | M15: 68.571428 | N15: 62.285714 | O15: 86.142857
A16: Inquiries | B16: Mean Average Weeks | C16: 117.61224 | D16: 107.56633 | E16: 60.89011 | F16: 87.306722 | G16: 83.961038 | H16: 86.02521 | I16: 88.523809 | J16: 86.673469 | K16: 103.28571 | L16: 81.666666 | M16: 80.939153 | N16: 89.4 | O16: 88.674528
A17: Inquiries | B17: Standard Deviation Weeks | C17: 52.239453 | D17: 26.785959 | E17: 27.129155 | F17: 15.429821 | G17: 43.981531 | H17: 48.015635 | I17: 60.720513 | J17: 37.183393 | K17: 35.932476 | L17: 43.700641 | M17: 22.202303 | N17: 64.47584 | O17: 37.395449
... A21: All Cases | B21: Standard Deviation Weeks | C21: 30.194179 | D21: 37.637679 | E21: 26.36419 | F21: 32.415261 | G21: 26.686938 | H21: 39.848541 | I21: 40.787382 | J21: 50.108143 | K21: 46.957281 | L21: 40.950897 | M21: 29.622446 | N21: 30.202346 | O21: 36.985499

Sheet Annex A Specialist
A1: Annex A: Mean and Median Time to Decision, with standard deviation, by procedure; October 2021 to September 2022
A2: Source: Horizon and Picaso
A3: Note: Decision and decision time statistics for specialist casework are provisional
A4: Note: Where there are fewer than 20 decisions the measures, mean, median and standard deviation are less meaningful.
A5: Note: This table includes revisions to previously published data. Please see Annex E for further information.
A6: Specialist | B6: Measure | C6: Oct-21 | D6: Nov-21 | E6: Dec-21 | F6: Jan-22 | G6: Feb-22 | H6: Mar-22 | I6: Apr-22 | J6: May-22 | K6: Jun-22 | L6: Jul-22 | M6: Aug-22 | N6: Sep-22 | O6: Total
A7: Written Representations | B7: Decisions | C7: 47 | D7: 27 | E7: 57 | F7: 43 | G7: 35 | H7: 40 | I7: 91 | J7: 43 | K7: 40 | L7: 73 | M7: 81 | N7: 50 | O7: 627
A8: Written Representations | B8: Median Average Weeks | C8: 30.428571 | D8: 17.285714 | E8: 24.857142 | F8: 29 | G8: 24.857142 | H8: 24.071428 | I8: 11.285714 | J8: 23.285714 | K8: 25.785714 | L8: 22.857142 | M8: 27.857142 | N8: 28.071428 | O8: 24.571428
A9: Written Representations | B9: Mean Average Weeks | C9: 44.965838 | D9: 21.285714 | E9: 36.135338 | F9: 35.026578 | G9: 33.899159 | H9: 32.428571 | I9: 23.21746 | J9: 33.466899 | K9: 38.095238 | L9: 35.287698 | M9: 38.059964 | N9: 39.957142 | O9: 34.723809
A10: Written Representations | B10: Standard Deviation Weeks | C10: 34.085145 | D10: 14.74428 | E10: 27.500004 | F10: 30.129357 | G10: 28.857474 | H10: 29.79826 | I10: 22.077112 | J10: 27.78921 | K10: 27.103712 | L10: 30.677036 | M10: 26.693306 | N10: 34.388029 | O10: 29.367481
A11: Hearings | B11: Decisions | C11: 0 | D11: 1 | E11: 2 | F11: 3 | G11: 1 | H11: 4 | I11: 3 | J11: 3 | K11: 4 | L11: 6 | M11: 6 | N11: 7 | O11: 40
A12: Hearings | B12: Median Average Weeks | C12: - | D12: 101.85714 | E12: 101.92857 | F12: 130.14286 | G12: 149.14286 | H12: 127.92857 | I12: 141 | J12: 90.857142 | K12: 75.071428 | L12: 76.428571 | M12: 82.571428 | N12: 68.142857 | O12: 80.285714
A13: Hearings | B13: Mean Average Weeks | C13: 0 | D13: 101.85714 | E13: 101.92857 | F13: 93.190476 | G13: 149.14286 | H13: 118.67857 | I13: 141.47619 | J13: 85.714285 | K13: 68.035714 | L13: 80.690476 | M13: 90.452381 | N13: 78.346938 | O13: 93.453571
A14: Hearings | B14: Standard Deviation Weeks | C14: - | D14: 0 | E14: 26.214286 | F14: 58.007428 | G14: 0 | H14: 22.92298 | I14: 15.400474 | J14: 29.039265 | K14: 14.722389 | L14: 24.416374 | M14: 28.37401 | N14: 26.054983 | O14: 35.003934
A15: Inquiries | B15: Decisions | C15: 3 | D15: 4 | E15: 2 | F15: 3 | G15: 1 | H15: 4 | I15: 2 | J15: 3 | K15: 4 | L15: 7 | M15: 3 | N15: 2 | O15: 38
A16: Inquiries | B16: Median Average Weeks | C16: 105.28571 | D16: 113.35714 | E16: 113.85714 | F16: 95.142857 | G16: 119.71429 | H16: 109.35714 | I16: 44.785714 | J16: 66.857142 | K16: 43.857142 | L16: 165.57143 | M16: 35.571428 | N16: 112.92857 | O16: 80.214286
A17: Inquiries | B17: Mean Average Weeks | C17: 84.666666 | D17: 121.67857 | E17: 113.85714 | F17: 84.047619 | G17: 119.71429 | H17: 110 | I17: 44.785714 | J17: 89.428571 | K17: 39.107142 | L17: 118.5102 | M17: 48.761904 | N17: 112.92857 | O17: 91.167857
A18: Inquiries | B18: Standard Deviation Weeks | C18: 33.702244 | D18: 43.357481 | E18: 15.571429 | F18: 29.578521 | G18: 0 | H18: 61.265481 | I18: 1.642857 | J18: 48.980351 | K18: 13.574577 | L18: 58.40693 | M18: 18.654151 | N18: 51.214286 | O18: 50.447274
A19: All Cases | B19: Decisions | C19: 50 | D19: 32 | E19: 61 | F19: 49 | G19: 37 | H19: 48 | I19: 96 | J19: 49 | K19: 48 | L19: 86 | M19: 90 | N19: 59 | O19: 705
A20: All Cases | B20: Median Average Weeks | C20: 32.142857 | D20: 19.714285 | E20: 27.142857 | F20: 29.428571 | G20: 26 | H20: 27.214285 | I20: 12.714285 | J20: 27.285714 | K20: 29.785714 | L20: 24.857143 | M20: 30.928571 | N20: 31.142857 | O20: 26.857142
A21: All Cases | B21: Mean Average Weeks | C21: 47.396501 | D21: 36.352678 | E21: 40.840749 | F21: 41.588921 | G21: 39.484127 | H21: 46.673913 | I21: 27.406015 | J21: 40.37386 | K21: 40.909091 | L21: 45.346218 | M21: 41.909523 | N21: 46.985472 | O21: 41.078226
A22: All Cases | B22: Standard Deviation Weeks | C22: 35.404393 | D22: 40.670684 | E22: 32.480471 | F22: 36.978169 | G22: 36.417015 | H22: 45.483796 | I22: 30.017259 | J22: 34.778263 | K22: 27.057746 | L22: 41.653362 | M22: 29.640296 | N22: 38.439103 | O22: 36.077745

Sheet Annex B  | gov.uk timeliness
A1: Annex B – Detailed Information on timeliness by appeal type: September 2022
A2: Note - The smaller the number of decisions, the less helpful the mean and median are as measures for summarising performance.
A3: Particular care should be taken when there are fewer than twenty decisions. These are shaded grey in the table but have been provided for completeness and transparency.
A4: Casework Type | B4: Procedure Type | C4: Median (weeks) | D4: Mean (weeks) | E4: Decisions
A5: s78 planning appeals | B5: Written Representations | C5: 31.285714 | D5: 33.893676 | E5: 567
A6: s78 planning appeals | B6: Hearings | C6: 40 | D6: 47.275 | E6: 40
A7: s78 planning appeals | B7: Inquiries | C7: 28.571428 | D7: 29.493506 | E7: 11
A8: Householder appeals | B8: Written Representations | C8: 17.857142 | D8: 21.72619 | E8: 288
A9: Enforcement appeals | B9: Written Representations | C9: 50.142857 | D9: 50.214285 | E9: 114
A10: Enforcement appeals | B10: Hearings | C10: 39.714285 | D10: 56.505494 | E10: 13
A11: Enforcement appeals | B11: Inquiries | C11: 62.285714 | D11: 92.071428 | E11: 8

Sheet Annex B | stages
A1: Annex B, Detailed Information on timeliness: September 2022
A2: Note - The smaller the number of decisions, the less helpful the mean and median are as measures for summarising performance. Particular care should be taken when there are fewer than twenty decisions. These are shaded grey in the table but have been provided for completeness and transparency.
A3: Note 1: s78 refers to s78 planning appeals
A4: Measure | B4: s78 Written Representations [Note 1] | C4: s78 Hearings | D4: s78 Inquiries | E4: Householder appeals
A5: Weeks between valid date & start date
A6: Median (average) | B6: 11.928571 | C6: 2 | D6: 3 | E6: 5.285714
A7: Mean (average) | B7: 12.23588 | C7: 3.2380948 | D7: 8.4578751 | E7: 6.657251
A8: Cases that started in September 2022 | B8: 602 | C8: 24 | D8: 39 | E8: 263
A9: Weeks between start date & event date
A10: Median (average) | B10: 14.142857 | C10: 16.142857 | D10: 14.285714 | E10: 10.857142
A11: Mean (average) | B11: 17.298412 | C11: 17.788571 | D11: 23.822857 | E11: 13.918536
A12: Cases where an event occurred during September 2022 | B12: 720 | C12: 25 | D12: 50 | E12: 363
A13: Weeks between event date & decision date
A14: Median (average) | B14: 4.142857 | C14: 7.428571 | D14: 5 | E14: 4
A15: Mean (average) | B15: 5.2763682 | C15: 7.3116879 | D15: 7.0766546 | E15: 4.6807283
A16: Cases that have been decided in September 2022 | B16: 535 | C16: 11 | D16: 41 | E16: 298

Sheet Annex C
A1: Annex C - Revisions to the data tables
A2: Table | B2: Revisions
A3: Table 1 | B3: Events held
A4: Table 2 | B4: Closed Cases;
B5: Open Cases
A6: Table 6 | B6: Standard Deviation (inquiries)
A7: Table 7 | B7: Median;
B8: Mean;
B9: Standard deviation (specialist casework)
A10: Annex A | B10: Median;
B11: Mean;
B12: Standard Deviation.

Sheet Annex D Table A
A1: ANNEX D, Table A: s78 planning appeals received and decided, by quarter since 2016/17
A2: Source: Horizon and Picaso
A3: Quarter and Year | B3: received | C3: decided
A4: Apr - Jun 2016/17 | B4: 2929 | C4: 2958
A5: Jul - Sep 2016/17 | B5: 2895 | C5: 3056
A6: Oct - Dec 2016/17 | B6: 2997 | C6: 2683
A7: Jan - Mar 2016/17 | B7: 2972 | C7: 2796
A8: Apr - Jun 2017/18 | B8: 3108 | C8: 2600
A9: Jul - Sep 2017/18 | B9: 3131 | C9: 2680
A10: Oct - Dec 2017/18 | B10: 3684 | C10: 2727
A11: Jan - Mar 2017/18 | B11: 3436 | C11: 2731
A12: Apr - Jun 2018/19 | B12: 3104 | C12: 2428
A13: Jul - Sep 2018/19 | B13: 3192 | C13: 2431
A14: Oct - Dec 2018/19 | B14: 3074 | C14: 2740
A15: Jan - Mar 2018/19 | B15: 2867 | C15: 2665
... A29: Jul - Sep 2022/23 | B29: 2626 | C29: 2073

Sheet Annex D Table B
A1: ANNEX D, Table B: s78 planning appeals, percentage allowed by procedure type from 2016/17
A2: Source: Horizon and Picaso
A3: Quarter and Year | B3: Written Representations | C3: Hearings | D3: Inquiries | E3: All
A4: Apr - Jun 2016/17 | B4: 0.30671642 | C4: 0.44670051 | D4: 0.55555556 | E4: 0.32285328
A5: Jul - Sep 2016/17 | B5: 0.31528322 | C5: 0.35151515 | D5: 0.5952381 | E5: 0.32493455
A6: Oct - Dec 2016/17 | B6: 0.3269466 | C6: 0.38181818 | D6: 0.53846154 | E6: 0.3354454
A7: Jan - Mar 2016/17 | B7: 0.3126947 | C7: 0.43558282 | D7: 0.53846154 | E7: 0.3251073
A8: Apr - Jun 2017/18 | B8: 0.29281537 | C8: 0.4057971 | D8: 0.51470588 | E8: 0.30461538
A9: Jul - Sep 2017/18 | B9: 0.29853181 | C9: 0.40939597 | D9: 0.51898734 | E9: 0.31119403
A10: Oct - Dec 2017/18 | B10: 0.30524642 | C10: 0.45859873 | D10: 0.42592593 | E10: 0.31646498
A11: Jan - Mar 2017/18 | B11: 0.32401119 | C11: 0.47794118 | D11: 0.35869565 | E11: 0.33284511
A12: Apr - Jun 2018/19 | B12: 0.30285459 | C12: 0.48062016 | D12: 0.50877193 | E12: 0.31713344
A13: Jul - Sep 2018/19 | B13: 0.30355556 | C13: 0.48461538 | D13: 0.45098039 | E13: 0.31633073
A14: Oct - Dec 2018/19 | B14: 0.26005467 | C14: 0.33333333 | D14: 0.5106383 | E14: 0.26788321
A15: Jan - Mar 2018/19 | B15: 0.28046344 | C15: 0.35849057 | D15: 0.375 | E15: 0.28555347
... A29: Jul - Sep 2022/23 | B29: 0.25458355 | C29: 0.53448276 | D29: 0.58333333 | E29: 0.27785818

Sheet Annex D Table C
A1: ANNEX D, Table C: s78 planning appeals, number allowed by procedure type from 2016/17
A2: Source: Horizon and Picaso
A3: Quarter and Year | B3: Written Representations | C3: Hearings | D3: Inquiries | E3: All
A4: Apr - Jun 2016/17 | B4: 822 | C4: 88 | D4: 45 | E4: 955
A5: Jul - Sep 2016/17 | B5: 885 | C5: 58 | D5: 50 | E5: 993
A6: Oct - Dec 2016/17 | B6: 802 | C6: 63 | D6: 35 | E6: 900
A7: Jan - Mar 2016/17 | B7: 803 | C7: 71 | D7: 35 | E7: 909
A8: Apr - Jun 2017/18 | B8: 701 | C8: 56 | D8: 35 | E8: 792
A9: Jul - Sep 2017/18 | B9: 732 | C9: 61 | D9: 41 | E9: 834
A10: Oct - Dec 2017/18 | B10: 768 | C10: 72 | D10: 23 | E10: 863
A11: Jan - Mar 2017/18 | B11: 811 | C11: 65 | D11: 33 | E11: 909
A12: Apr - Jun 2018/19 | B12: 679 | C12: 62 | D12: 29 | E12: 770
A13: Jul - Sep 2018/19 | B13: 683 | C13: 63 | D13: 23 | E13: 769
A14: Oct - Dec 2018/19 | B14: 666 | C14: 44 | D14: 24 | E14: 734
A15: Jan - Mar 2018/19 | B15: 702 | C15: 38 | D15: 21 | E15: 761
... A29: Jul - Sep 2022/23 | B29: 486 | C29: 62 | D29: 28 | E29: 576

Sheet Figure 1 v2
A1: Figure 1: Number of events held, decisions issued and median time between valid date & decision date; Feb 20 to Jan 21

Sheet Figure 2 v2
A1: Figure 2: Number of cases received, closed and open; Feb 20 to Jan 21

Sheet Table 12 (2)
A1: Table 12: Virtual Events being undertaken, Jun-20 to Feb-21
B3: 43983 | C3: 44013 | D3: 44044 | E3: 44075 | F3: 44105 | G3: 44136 | H3: 44166 | I3: 44197 | J3: 44228
A4: s78 Hearings | B4: 8 | C4: 11 | D4: 18 | E4: 36 | F4: 41 | G4: 43 | H4: 36 | I4: 34 | J4: 21
A5: s78 Inquiries | B5: 4 | C5: 6 | D5: 4 | E5: 11 | F5: 11 | G5: 17 | H5: 17 | I5: 21 | J5: 20
A6: Enforcement | B6: 0 | C6: 1 | D6: 3 | E6: 9 | F6: 15 | G6: 18 | H6: 20 | I6: 32 | J6: 36
A7: Local Plans | B7: 1 | C7: 2 | D7: 2 | E7: 7 | F7: 9 | G7: 5
A8: National Infrastructure | B8: 3 | C8: 1 | D8: 1 | E8: 2 | F8: 10 | G8: 3 | H8: 6 | I8: 3 | J8: 4
A9: Other | B9: 0 | C9: 1 | D9: 0 | E9: 0 | F9: 4 | G9: 16 | H9: 7 | I9: 16 | J9: 11
A10: Total | B10: 16 | C10: 22 | D10: 28 | E10: 65 | F10: 90 | G10: 102 | H10: 86 | I10: 106 | J10: 92
A13: For graph purposes
A14: National Infrastructure | B14: 3 | C14: 3 | D14: 2 | E14: 3 | F14: 30 | G14: 9 | H14: 18 | I14: 7 | J14: 8
A15: Total | B15: 16 | C15: 24 | D15: 29 | E15: 66 | F15: 110 | G15: 108 | H15: 98 | I15: 110 | J15: 96
