Workbook
Name ChK_Tol: InpR!$F$117

Sheet Cover
A1: =RIGHT(CELL("filename", $A$1), LEN(CELL("filename", $A$1)) - SEARCH("]", CELL("filename", $A$1))) -> Cover
A3: Workbook title: | B3: RPI-CPIH wedge true up
A4: Version: | B4: 5
A5: Filename: | B5: RPI-CPIH-wedge-true-up-model-Dec-2020-v5.xlsx
A6: Date: | B6: 44167
A7: Author: | B7: Ofwat
A8: Author contact information: | B8: OfwatPandO@ofwat.gov.uk
A11: Summary of workbook: | B11: This model performs the true up for differences between actual and forecast RPI-CPIH wedge.
B12: It isolates the effect of variances in the wedge, calculates adjustments to correct for the variance in the wedge, converts the adjustments from nominal to real terms and applies the time
B13: value of money adjustment to the revenue adjustment.
A15: Known limitations:
A17: Instructions:
A19: Amendments:
A20: Changes since February 2020 version
A21: Calc | B21: K calculations removed. Linked 'Actual nominal revenue' to 'Total Forecast revenue to company' on row 53.
A22: InpC, InpR, Calcs, Adjustments, Style Guide, ToC, Checks | B22: Flattened the structure of the workbook. Included separate calculation sheets for each price control. Added adjustments for each price control to 'Adjustments' sheet. Moved items from 'InpC' sheet to 'InpR' sheet. Removed 'InpC' and 'Track' sheets. Updated 'Cover', 'Style Guide', 'ToC' and 'Checks' sheets.
A24: Changes since March 2018 version
A25: 'InpR' Rows 9 to 67 | B25: New input lines for RPI, CPIH index values, financing cost index and Real CPIH based WACC.
A26: 'InpR' Rows 71 to 94 | B26: Removed items made redundant by new input lines and the new 'Index' sheet.
A27: 'Index' | B27: New sheet to calculate indexation factors.
A28: 'Calcs' | B28: Relinked to new 'Index' sheet where previously linked to items removed from 'InpR'.
A29: 'Calcs' Rows 189 to 245 | B29: Include calculations to express values in real terms and apply time value of money adjustment on the revenue adjustments for run-off and return.
A31: Changes since December 2017 version
A32: 'InpC' 34 & 36 | B32: Actual and True up nominal RCV inputs have been amended to be formula driven to equal Forecast nominal RCV.
A33: 'Calc' 118 | B33: Label has been amended from 'Actual RCV balance' to 'Actual average RCV balance'.
A34: 'Calc' 51 | B34: Forecast nominal return calculation has been amended to only calculate during the forecast period
A35: 'Calc' 124 | B35: Nominal return company should have received calculation has been amended to only calculate during the forecast period
A36: 'Calc' 179 | B36: True up nominal return calculation has been amended to only calculate during the forecast period
A39: References:
B40: Forecast RPI and CPIH index values included in the final determination
B41: Actual RPI and CPIH index values published by ONS
B42: Opening RPI-indexed RCV as at 1 April 2020 expressed in forecast nominal terms in the final determination
B43: RCV run-off rate included in final determination
B44: Real RPI based WACC for wholesale included in final determination
B45: Real CPIH based WACC for wholesale included in final determination
A48: Error Checks: | C48: RAG status / Variance
B49: Error check status | C49: =Checks!$F$9 -> 0
A51: END OF SHEET

Sheet Style Guide
A1: =RIGHT(CELL("filename", $A$1), LEN(CELL("filename", $A$1)) - SEARCH("]", CELL("filename", $A$1))) -> Style Guide
A4: SHEET TABS
E6: Light Yellow | G6: Input sheets
E8: No colour (default Excel tab colour) | G8: Calculation and documentation sheets
E10: Pale Blue | G10: Key output sheets
E12: Turquoise | G12: Quality control sheets
E14: Yellow | G14: To be completed, temporary, restructured, or deleted
A17: COLOUR
B19: Font colour only
E20: Blue font | G20: Imported from another sheet
E22: Red font | G22: Exported to another sheet (except from Input sheets)
E24: Black font | G24: Within sheet link or calculation
B26: Font + shade combinations
E27: Black font + Light Yellow shade | G27: Inputs
E29: Black font + Light Grey shade on entire row | G29: Within-worksheet counter-flow
E31: Blue font + Light Grey shade on entire row | G31: Between-worksheet counter-flow
E33: Empty Cell with Light Grey shade | G33: Empty cells being deliberately referenced
B35: Other
E36: Black font + Pale Blue shade on entire row | G36: Section separator
E38: Light Turquoise shade | G38: Stored/dead/hard coded outputs
E40: Tan shade | G40: Pre-model time line actuals
E42: Yellow shade | G42: Work in progress / temporary
E44: Lime shade | G44: Values or logic to be reviewed
B46: Error checks & alerts
E47: Green shade | G47: OK
E49: Red shade | G49: Error
E51: Gold shade | G51: Alert
A54: ABBREVIATIONS
E56: chks | G56: Checks
E57: £ | G57: Great Britain Pound
E58: IRE | G58: Infrastructure renewal expenditure
E59: incl | G59: Including
E60: m | G60: Million
E61: WACC | G61: Weighted average cost of capital
A64: END

Sheet ToC
A1: =RIGHT(CELL("filename", $A$1), LEN(CELL("filename", $A$1)) - SEARCH("]", CELL("filename", $A$1))) -> ToC
B3: ASSUMPTIONS | D3: CALCULATIONS | F3: OUTPUTS | H3: Quality Control
B5: =Cover!$A$1 -> Cover | D5: =Time!A$1 -> Time | F5: =Adjustments!$A$1 -> Adjustments | H5: =Checks!$A$1 -> Checks
B6: Model documentation sheet | D6: Flags, part period factors (PPFs) and dates | F6: Key outputs | H6: Checks
B8: ='Style Guide'!$A$1 -> Style Guide | D8: =Index!$A$1 -> Index
B9: Explanation of different formatting types | D9: RPI and CPIH indexation
B11: =$A$1 -> ToC | D11: ='Calcs-WR'!$A$1 -> Calcs-WR
B12: Table of contents | D12: Calculation of true up - Water Resources
B14: =InpR!$A$1 -> InpR | D14: ='Calcs-WN'!$A$1 -> Calcs-WN
B15: Inputs - row format | D15: Calculation of true up - Water Network
D17: ='Calcs-WWN'!$A$1 -> Calcs-WWN
D18: Calculation of true up - Wastewater Network
D20: ='Calcs-BR'!$A$1 -> Calcs-BR
D21: Calculation of true up - Bio Resources
D23: ='Calcs-DMMY'!$A$1 -> Calcs-DMMY
D24: Calculation of true up - Dummy Control
A29: END

Sheet InpR
A1: =RIGHT(CELL("filename", $A$1), LEN(CELL("filename", $A$1)) - SEARCH("]", CELL("filename", $A$1))) -> InpR
E2: =Time!E$22 -> Model Period BEG | F2: =Checks!$F$9 -> 0 | G2: Error chks | J2: =Time!J$22 -> 42826 | K2: =Time!K$22 -> 43191 | L2: =Time!L$22 -> 43556 | M2: =Time!M$22 -> 43922 | N2: =Time!N$22 -> 44287 | O2: =Time!O$22 -> 44652 | P2: =Time!P$22 -> 45017 | Q2: =Time!Q$22 -> 45383 | R2: =Time!R$22 -> 45748
E3: =Time!E$23 -> Model Period END | J3: =Time!J$23 -> 43190 | K3: =Time!K$23 -> 43555 | L3: =Time!L$23 -> 43921 | M3: =Time!M$23 -> 44286 | N3: =Time!N$23 -> 44651 | O3: =Time!O$23 -> 45016 | P3: =Time!P$23 -> 45382 | Q3: =Time!Q$23 -> 45747 | R3: =Time!R$23 -> 46112
J4: =Time!J$59 -> Pre Fcst | K4: =Time!K$59 -> Pre Fcst | L4: =Time!L$59 -> Pre Fcst | M4: =Time!M$59 -> Forecast | N4: =Time!N$59 -> Forecast | O4: =Time!O$59 -> Forecast | P4: =Time!P$59 -> Forecast | Q4: =Time!Q$59 -> Forecast | R4: =Time!R$59 -> Post-Fcst
E5: =Time!E$86 -> Financial Year Ending | J5: =Time!J$86 -> 2018 | K5: =Time!K$86 -> 2019 | L5: =Time!L$86 -> 2020 | M5: =Time!M$86 -> 2021 | N5: =Time!N$86 -> 2022 | O5: =Time!O$86 -> 2023 | P5: =Time!P$86 -> 2024 | Q5: =Time!Q$86 -> 2025 | R5: =Time!R$86 -> 2026
E6: =Time!E$11 -> Model column counter | J6: =Time!J$11 -> 1 | K6: =Time!K$11 -> 2 | L6: =Time!L$11 -> 3 | M6: =Time!M$11 -> 4 | N6: =Time!N$11 -> 5 | O6: =Time!O$11 -> 6 | P6: =Time!P$11 -> 7 | Q6: =Time!Q$11 -> 8 | R6: =Time!R$11 -> 9
F7: Constant | G7: Unit | H7: Total | I7: Data sourced from:
A9: TIME
E11: First date of time ruler | F11: 42826 | G11: date
E13: Last Pre Forecast Date | F13: 43921 | G13: date
E15: Acquisition date (midnight) | F15: 43921 | G15: date
E16: Length of forecast period | F16: 5 | G16: years
E17: Last forecast date | F17: =DATE(YEAR(F15)+F16,MONTH(F15),DAY(F15)) -> 45747 | G17: date
E20: Operation Start Date (midnight) | F20: 44286 | G20: date
E21: Operation Finish Date (midnight) | F21: 45747 | G21: date
E22: First Modelling Column Financial Year Number | F22: 2018 | G22: year
E23: Financial Year End Month Number | F23: 3 | G23: month #
A25: FINAL DETERMINATION ASSUMPTIONS
B26: RPI - final determination
E27: RPI: April - index - final determination | G27: index | I27: PR19 Financial model, 'Index' sheet row 131 | K27: 279.7 | L27: 288.2 | M27: 296.81994 | N27: 305.32865 | O27: 314.69193 | P27: 324.76208 | Q27: 335.15446 | R27: 345.2091
E28: RPI: May - index - final determination | G28: index | I28: PR19 Financial model, 'Index' sheet row 132 | K28: 280.7 | L28: 289.2 | M28: 297.50379 | N28: 306.08168 | O28: 315.51905 | P28: 325.61566 | Q28: 336.03536 | R28: 346.11642
E29: RPI: June - index - final determination | G29: index | I29: PR19 Financial model, 'Index' sheet row 133 | K29: 281.5 | L29: 289.6 | M29: 298.18921 | N29: 306.83656 | O29: 316.34834 | P29: 326.47149 | Q29: 336.91858 | R29: 347.02613
E30: RPI: July - index - final determination | G30: index | I30: PR19 Financial model, 'Index' sheet row 134 | K30: 281.7 | L30: 289.5 | M30: 298.87622 | N30: 307.5933 | O30: 317.17981 | P30: 327.32957 | Q30: 337.80411 | R30: 347.93823
E31: RPI: August - index - final determination | G31: index | I31: PR19 Financial model, 'Index' sheet row 135 | K31: 284.2 | L31: 291.5 | M31: 299.5648 | N31: 308.35191 | O31: 318.01347 | P31: 328.1899 | Q31: 338.69197 | R31: 348.85273
E32: RPI: September - index - final determination | G32: index | I32: PR19 Financial model, 'Index' sheet row 136 | K32: 284.1 | L32: 292.1479 | M32: 300.25497 | N32: 309.11239 | O32: 318.84931 | P32: 329.05249 | Q32: 339.58217 | R32: 349.76964
E33: RPI: October - index - final determination | G33: index | I33: PR19 Financial model, 'Index' sheet row 137 | K33: 284.5 | L33: 292.79723 | M33: 300.94673 | N33: 309.87474 | O33: 319.68736 | P33: 329.91735 | Q33: 340.47471 | R33: 350.68895
E34: RPI: November - index - final determination | G34: index | I34: PR19 Financial model, 'Index' sheet row 138 | K34: 284.6 | L34: 293.44801 | M34: 301.64009 | N34: 310.63897 | O34: 320.5276 | P34: 330.78449 | Q34: 341.36959 | R34: 351.61068
E35: RPI: December - index - final determination | G35: index | I35: PR19 Financial model, 'Index' sheet row 139 | K35: 285.6 | L35: 294.10024 | M35: 302.33504 | N35: 311.40509 | O35: 321.37006 | P35: 331.6539 | Q35: 342.26682 | R35: 352.53483
E36: RPI: January - index - final determination | G36: index | I36: PR19 Financial model, 'Index' sheet row 140 | K36: 283 | L36: 294.77782 | M36: 303.08068 | N36: 312.22357 | O36: 322.21473 | P36: 332.5256 | Q36: 343.16642 | R36: 353.46141
E37: RPI: February - index - final determination | G37: index | I37: PR19 Financial model, 'Index' sheet row 141 | K37: 285 | L37: 295.45696 | M37: 303.82816 | N37: 313.0442 | O37: 323.06162 | P37: 333.39959 | Q37: 344.06837 | R37: 354.39042
E38: RPI: March - index - final determination | G38: index | I38: PR19 Financial model, 'Index' sheet row 142 | K38: 285.1 | L38: 296.13767 | M38: 304.57748 | N38: 313.86699 | O38: 323.91073 | P38: 334.27587 | Q38: 344.9727 | R38: 355.32188
B40: CPI(H) - final determination
E41: CPI(H): April - index - final determination | G41: index | I41: PR19 Financial model, 'Index' sheet F59 and 'Index' sheet row 10 | J41: 103.2 | K41: 105.5 | L41: 107.6 | M41: 109.70335 | N41: 111.89742 | O41: 114.17266 | P41: 116.57028 | Q41: 119.01826 | R41: 121.39862
E42: CPI(H): May - index - final determination | G42: index | I42: PR19 Financial model, 'Index' sheet F60 and 'Index' sheet row 11 | J42: 103.5 | K42: 105.9 | L42: 107.9 | M42: 109.88454 | N42: 112.08223 | O42: 114.37056 | P42: 116.77234 | Q42: 119.22456 | R42: 121.60905
E43: CPI(H): June - index - final determination | G43: index | I43: PR19 Financial model, 'Index' sheet F61 and 'Index' sheet row 12 | J43: 103.5 | K43: 105.9 | L43: 107.9 | M43: 110.06602 | N43: 112.26734 | O43: 114.56881 | P43: 116.97475 | Q43: 119.43122 | R43: 121.81985
E44: CPI(H): July - index - final determination | G44: index | I44: PR19 Financial model, 'Index' sheet F62 and 'Index' sheet row 13 | J44: 103.5 | K44: 105.9 | L44: 108 | M44: 110.2478 | N44: 112.45276 | O44: 114.7674 | P44: 117.17752 | Q44: 119.63824 | R44: 122.03101
E45: CPI(H): August - index - final determination | G45: index | I45: PR19 Financial model, 'Index' sheet F63 and 'Index' sheet row 14 | J45: 104 | K45: 106.5 | L45: 108.3 | M45: 110.42989 | N45: 112.63849 | O45: 114.96634 | P45: 117.38063 | Q45: 119.84562 | R45: 122.24253
E46: CPI(H): September - index - final determination | G46: index | I46: PR19 Financial model, 'Index' sheet F64 and 'Index' sheet row 15 | J46: 104.3 | K46: 106.6 | L46: 108.47 | M46: 110.61227 | N46: 112.82452 | O46: 115.16562 | P46: 117.58409 | Q46: 120.05336 | R46: 122.45443
E47: CPI(H): October - index - final determination | G47: index | I47: PR19 Financial model, 'Index' sheet F65 and 'Index' sheet row 16 | J47: 104.4 | K47: 106.7 | L47: 108.64027 | M47: 110.79496 | N47: 113.01086 | O47: 115.36524 | P47: 117.78791 | Q47: 120.26146 | R47: 122.66669
E48: CPI(H): November - index - final determination | G48: index | I48: PR19 Financial model, 'Index' sheet F66 and 'Index' sheet row 17 | J48: 104.7 | K48: 106.9 | L48: 108.8108 | M48: 110.97794 | N48: 113.1975 | O48: 115.56521 | P48: 117.99208 | Q48: 120.46992 | R48: 122.87931
...

Sheet Time
A1: =RIGHT(CELL("filename", $A$1), LEN(CELL("filename", $A$1)) - SEARCH("]", CELL("filename", $A$1))) -> Time
E2: =Time!E$23 -> Model Period END | F2: =Checks!$F$9 -> 0 | G2: Error chks | J2: =Time!J$23 -> 43190 | K2: =Time!K$23 -> 43555 | L2: =Time!L$23 -> 43921 | M2: =Time!M$23 -> 44286 | N2: =Time!N$23 -> 44651 | O2: =Time!O$23 -> 45016 | P2: =Time!P$23 -> 45382 | Q2: =Time!Q$23 -> 45747 | R2: =Time!R$23 -> 46112
E3: =Time!E$59 -> Pre Forecast vs Forecast | J3: =Time!J$59 -> Pre Fcst | K3: =Time!K$59 -> Pre Fcst | L3: =Time!L$59 -> Pre Fcst | M3: =Time!M$59 -> Forecast | N3: =Time!N$59 -> Forecast | O3: =Time!O$59 -> Forecast | P3: =Time!P$59 -> Forecast | Q3: =Time!Q$59 -> Forecast | R3: =Time!R$59 -> Post-Fcst
J4: =Time!J$86 -> 2018 | K4: =Time!K$86 -> 2019 | L4: =Time!L$86 -> 2020 | M4: =Time!M$86 -> 2021 | N4: =Time!N$86 -> 2022 | O4: =Time!O$86 -> 2023 | P4: =Time!P$86 -> 2024 | Q4: =Time!Q$86 -> 2025 | R4: =Time!R$86 -> 2026
E6: =Time!E$11 -> Model column counter | F6: Constant | G6: Unit | H6: Total | J6: =Time!J$11 -> 1 | K6: =Time!K$11 -> 2 | L6: =Time!L$11 -> 3 | M6: =Time!M$11 -> 4 | N6: =Time!N$11 -> 5 | O6: =Time!O$11 -> 6 | P6: =Time!P$11 -> 7 | Q6: =Time!Q$11 -> 8 | R6: =Time!R$11 -> 9
A8: MODEL PERIOD
B10: Model Column Counter
E11: Model column counter | G11: counter | J11: =I11 + 1 -> 1 | K11: =J11 + 1 -> 2 | L11: =K11 + 1 -> 3 | M11: =L11 + 1 -> 4 | N11: =M11 + 1 -> 5 | O11: =N11 + 1 -> 6 | P11: =O11 + 1 -> 7 | Q11: =P11 + 1 -> 8 | R11: =Q11 + 1 -> 9
E12: Model Column Total | F12: =MAX(J11:BZ11) -> 9 | G12: column
E14: =E$11 -> Model column counter | F14: =F$11 -> 0 | G14: =G$11 -> counter | H14: =H$11 -> 0 | I14: =I$11 -> 0 | J14: =J$11 -> 1 | K14: =K$11 -> 2 | L14: =L$11 -> 3 | ... R14: =R$11 -> 9
E15: First model column flag | G15: flag | H15: =SUM(J15:BZ15) -> 1 | J15: =IF( J14 = 1, 1, 0) -> 1 | K15: =IF( K14 = 1, 1, 0) -> 0 | L15: =IF( L14 = 1, 1, 0) -> 0 | M15: =IF( M14 = 1, 1, 0) -> 0 | N15: =IF( N14 = 1, 1, 0) -> 0 | O15: =IF( O14 = 1, 1, 0) -> 0 | P15: =IF( P14 = 1, 1, 0) -> 0 | Q15: =IF( Q14 = 1, 1, 0) -> 0 | R15: =IF( R14 = 1, 1, 0) -> 0
E17: =InpR!E$11 -> First date of time ruler | F17: =InpR!F$11 -> 42826 | G17: =InpR!G$11 -> date
E18: First model period BEG | F18: =DATE(YEAR(F17), MONTH(F17), 1) -> 42826 | G18: month
E20: =E$18 -> First model period BEG | F20: =F$18 -> 42826 | G20: =G$18 -> month
E21: =E$15 -> First model column flag | F21: =F$15 -> 0 | G21: =G$15 -> flag | H21: =H$15 -> 1 | I21: =I$15 -> 0 | J21: =J$15 -> 1 | K21: =K$15 -> 0 | L21: =L$15 -> 0 | ... R21: =R$15 -> 0
E22: Model Period BEG | G22: date | J22: =IF( J21 = 1, $F20, I23 + 1) -> 42826 | K22: =IF( K21 = 1, $F20, J23 + 1) -> 43191 | L22: =IF( L21 = 1, $F20, K23 + 1) -> 43556 | M22: =IF( M21 = 1, $F20, L23 + 1) -> 43922 | N22: =IF( N21 = 1, $F20, M23 + 1) -> 44287 | O22: =IF( O21 = 1, $F20, N23 + 1) -> 44652 | P22: =IF( P21 = 1, $F20, O23 + 1) -> 45017 | Q22: =IF( Q21 = 1, $F20, P23 + 1) -> 45383 | R22: =IF( R21 = 1, $F20, Q23 + 1) -> 45748
E23: Model Period END | G23: date | J23: =DATE(YEAR(J22), MONTH(J22) + 12, DAY(1) - 1) -> 43190 | K23: =DATE(YEAR(K22), MONTH(K22) + 12, DAY(1) - 1) -> 43555 | L23: =DATE(YEAR(L22), MONTH(L22) + 12, DAY(1) - 1) -> 43921 | M23: =DATE(YEAR(M22), MONTH(M22) + 12, DAY(1) - 1) -> 44286 | N23: =DATE(YEAR(N22), MONTH(N22) + 12, DAY(1) - 1) -> 44651 | O23: =DATE(YEAR(O22), MONTH(O22) + 12, DAY(1) - 1) -> 45016 | P23: =DATE(YEAR(P22), MONTH(P22) + 12, DAY(1) - 1) -> 45382 | Q23: =DATE(YEAR(Q22), MONTH(Q22) + 12, DAY(1) - 1) -> 45747 | R23: =DATE(YEAR(R22), MONTH(R22) + 12, DAY(1) - 1) -> 46112
E25: =E$23 -> Model Period END | F25: =F$23 -> 0 | G25: =G$23 -> date | H25: =H$23 -> 0 | I25: =I$23 -> 0 | J25: =J$23 -> 43190 | K25: =K$23 -> 43555 | L25: =L$23 -> 43921 | ... R25: =R$23 -> 46112
D26: less | E26: =E$22 -> Model Period BEG | F26: =F$22 -> 0 | G26: =G$22 -> date | H26: =H$22 -> 0 | I26: =I$22 -> 0 | J26: =J$22 -> 42826 | K26: =K$22 -> 43191 | L26: =L$22 -> 43556 | ... R26: =R$22 -> 45748
E27: Days in Model Period | G27: days | H27: =SUM(J27:BZ27) -> 3287 | J27: =J25 - J26 + 1 -> 365 | K27: =K25 - K26 + 1 -> 365 | L27: =L25 - L26 + 1 -> 366 | M27: =M25 - M26 + 1 -> 365 | N27: =N25 - N26 + 1 -> 365 | O27: =O25 - O26 + 1 -> 365 | P27: =P25 - P26 + 1 -> 366 | Q27: =Q25 - Q26 + 1 -> 365 | R27: =R25 - R26 + 1 -> 365
A30: PRE FORECAST PERIOD
E32: =InpR!E$13 -> Last Pre Forecast Date | F32: =InpR!F$13 -> 43921 | G32: =InpR!G$13 -> date
E33: =E$23 -> Model Period END | F33: =F$23 -> 0 | G33: =G$23 -> date | H33: =H$23 -> 0 | I33: =I$23 -> 0 | J33: =J$23 -> 43190 | K33: =K$23 -> 43555 | L33: =L$23 -> 43921 | ... R33: =R$23 -> 46112
E34: Last Pre Forecast Flag | G34: flag | H34: =SUM(J34:BZ34) -> 1 | J34: =IF(J33 = $F32, 1, 0) -> 0 | K34: =IF(K33 = $F32, 1, 0) -> 0 | L34: =IF(L33 = $F32, 1, 0) -> 1 | M34: =IF(M33 = $F32, 1, 0) -> 0 | N34: =IF(N33 = $F32, 1, 0) -> 0 | O34: =IF(O33 = $F32, 1, 0) -> 0 | P34: =IF(P33 = $F32, 1, 0) -> 0 | Q34: =IF(Q33 = $F32, 1, 0) -> 0 | R34: =IF(R33 = $F32, 1, 0) -> 0
E35: Pre Forecast Period Flag | G35: flag | H35: =SUM(J35:BZ35) -> 3 | J35: =IF($F32 >= J33, 1, 0) -> 1 | K35: =IF($F32 >= K33, 1, 0) -> 1 | L35: =IF($F32 >= L33, 1, 0) -> 1 | M35: =IF($F32 >= M33, 1, 0) -> 0 | N35: =IF($F32 >= N33, 1, 0) -> 0 | O35: =IF($F32 >= O33, 1, 0) -> 0 | P35: =IF($F32 >= P33, 1, 0) -> 0 | Q35: =IF($F32 >= Q33, 1, 0) -> 0 | R35: =IF($F32 >= R33, 1, 0) -> 0
E36: Pre Forecast Period Total | F36: =SUM(J35:BZ35) -> 3 | G36: columns
E38: =InpR!E$15 -> Acquisition date (midnight) | F38: =InpR!F$15 -> 43921 | G38: =InpR!G$15 -> date
E39: =E$23 -> Model Period END | F39: =F$23 -> 0 | G39: =G$23 -> date | H39: =H$23 -> 0 | I39: =I$23 -> 0 | J39: =J$23 -> 43190 | K39: =K$23 -> 43555 | L39: =L$23 -> 43921 | ... R39: =R$23 -> 46112
E40: Acquisition / initial balance date flag | G40: flag | H40: =SUM(J40:BZ40) -> 1 | J40: =IF(J39 = $F38, 1, 0) -> 0 | K40: =IF(K39 = $F38, 1, 0) -> 0 | L40: =IF(L39 = $F38, 1, 0) -> 1 | M40: =IF(M39 = $F38, 1, 0) -> 0 | N40: =IF(N39 = $F38, 1, 0) -> 0 | O40: =IF(O39 = $F38, 1, 0) -> 0 | P40: =IF(P39 = $F38, 1, 0) -> 0 | Q40: =IF(Q39 = $F38, 1, 0) -> 0 | R40: =IF(R39 = $F38, 1, 0) -> 0
A43: FORECAST PERIOD
E45: =E$34 -> Last Pre Forecast Flag | F45: =F$34 -> 0 | G45: =G$34 -> flag | H45: =H$34 -> 1 | I45: =I$34 -> 0 | J45: =J$34 -> 0 | K45: =K$34 -> 0 | L45: =L$34 -> 1 | ... R45: =R$34 -> 0
E46: 1st Forecast Period Flag | G46: flag | H46: =SUM(J46:BZ46) -> 1 | J46: =I45 -> 0 | K46: =J45 -> 0 | L46: =K45 -> 0 | M46: =L45 -> 1 | N46: =M45 -> 0 | O46: =N45 -> 0 | P46: =O45 -> 0 | Q46: =P45 -> 0 | R46: =Q45 -> 0
E48: =InpR!E$17 -> Last forecast date | F48: =InpR!F$17 -> 45747 | G48: =InpR!G$17 -> date
E49: =E$23 -> Model Period END | F49: =F$23 -> 0 | G49: =G$23 -> date | H49: =H$23 -> 0 | I49: =I$23 -> 0 | J49: =J$23 -> 43190 | K49: =K$23 -> 43555 | L49: =L$23 -> 43921 | ... R49: =R$23 -> 46112
E50: Last Forecast Period Flag | G50: flag | H50: =SUM(J50:BZ50) -> 1 | J50: =IF(AND($F48 > I49, $F48 <= J49), 1, 0) -> 0 | K50: =IF(AND($F48 > J49, $F48 <= K49), 1, 0) -> 0 | L50: =IF(AND($F48 > K49, $F48 <= L49), 1, 0) -> 0 | M50: =IF(AND($F48 > L49, $F48 <= M49), 1, 0) -> 0 | N50: =IF(AND($F48 > M49, $F48 <= N49), 1, 0) -> 0 | O50: =IF(AND($F48 > N49, $F48 <= O49), 1, 0) -> 0 | P50: =IF(AND($F48 > O49, $F48 <= P49), 1, 0) -> 0 | Q50: =IF(AND($F48 > P49, $F48 <= Q49), 1, 0) -> 1 | R50: =IF(AND($F48 > Q49, $F48 <= R49), 1, 0) -> 0
E52: =E$46 -> 1st Forecast Period Flag | F52: =F$46 -> 0 | G52: =G$46 -> flag | H52: =H$46 -> 1 | I52: =I$46 -> 0 | J52: =J$46 -> 0 | K52: =K$46 -> 0 | L52: =L$46 -> 0 | ... R52: =R$46 -> 0
E53: =E$50 -> Last Forecast Period Flag | F53: =F$50 -> 0 | G53: =G$50 -> flag | H53: =H$50 -> 1 | I53: =I$50 -> 0 | J53: =J$50 -> 0 | K53: =K$50 -> 0 | L53: =L$50 -> 0 | ... R53: =R$50 -> 0
E54: Forecast Period Flag | G54: flag | H54: =SUM(J54:BZ54) -> 5 | J54: =J52 - I53 + I54 -> 0 | K54: =K52 - J53 + J54 -> 0 | L54: =L52 - K53 + K54 -> 0 | M54: =M52 - L53 + L54 -> 1 | N54: =N52 - M53 + M54 -> 1 | O54: =O52 - N53 + N54 -> 1 | P54: =P52 - O53 + O54 -> 1 | Q54: =Q52 - P53 + P54 -> 1 | R54: =R52 - Q53 + Q54 -> 0
E55: Forecast Period Total | F55: =SUM(J54:BZ54) -> 5 | G55: columns
E57: =E$35 -> Pre Forecast Period Flag | F57: =F$35 -> 0 | G57: =G$35 -> flag | H57: =H$35 -> 3 | I57: =I$35 -> 0 | J57: =J$35 -> 1 | K57: =K$35 -> 1 | L57: =L$35 -> 1 | ... R57: =R$35 -> 0
...

Sheet Index
A1: =RIGHT(CELL("filename", $A$1), LEN(CELL("filename", $A$1)) - SEARCH("]", CELL("filename", $A$1))) -> Index
E2: =Time!E$23 -> Model Period END | F2: =Checks!$F$9 -> 0 | G2: Error chks | J2: =Time!J$23 -> 43190 | K2: =Time!K$23 -> 43555 | L2: =Time!L$23 -> 43921 | M2: =Time!M$23 -> 44286 | N2: =Time!N$23 -> 44651 | O2: =Time!O$23 -> 45016 | P2: =Time!P$23 -> 45382 | Q2: =Time!Q$23 -> 45747 | R2: =Time!R$23 -> 46112
E3: =Time!E$59 -> Pre Forecast vs Forecast | J3: =Time!J$59 -> Pre Fcst | K3: =Time!K$59 -> Pre Fcst | L3: =Time!L$59 -> Pre Fcst | M3: =Time!M$59 -> Forecast | N3: =Time!N$59 -> Forecast | O3: =Time!O$59 -> Forecast | P3: =Time!P$59 -> Forecast | Q3: =Time!Q$59 -> Forecast | R3: =Time!R$59 -> Post-Fcst
J4: =Time!J$86 -> 2018 | K4: =Time!K$86 -> 2019 | L4: =Time!L$86 -> 2020 | M4: =Time!M$86 -> 2021 | N4: =Time!N$86 -> 2022 | O4: =Time!O$86 -> 2023 | P4: =Time!P$86 -> 2024 | Q4: =Time!Q$86 -> 2025 | R4: =Time!R$86 -> 2026
E6: =Time!E$11 -> Model column counter | F6: Constant | G6: Unit | H6: Total | J6: =Time!J$11 -> 1 | K6: =Time!K$11 -> 2 | L6: =Time!L$11 -> 3 | M6: =Time!M$11 -> 4 | N6: =Time!N$11 -> 5 | O6: =Time!O$11 -> 6 | P6: =Time!P$11 -> 7 | Q6: =Time!Q$11 -> 8 | R6: =Time!R$11 -> 9
A9: FINAL DETERMINATION ASSUMPTIONS
B10: RPI - final determination
E11: =InpR!E$27 -> RPI: April - index - final determination | G11: =InpR!G$27 -> index | H11: =InpR!I$27 -> PR19 Financial model, 'Index' sheet row 131 | I11: =InpR!#REF! -> #REF! | J11: =InpR!J$27 -> 0 | K11: =InpR!K$27 -> 279.7 | L11: =InpR!L$27 -> 288.2 | M11: =InpR!M$27 -> 296.81994 | N11: =InpR!N$27 -> 305.32865 | O11: =InpR!O$27 -> 314.69193 | P11: =InpR!P$27 -> 324.76208 | Q11: =InpR!Q$27 -> 335.15446 | R11: =InpR!R$27 -> 345.2091
E12: =InpR!E$28 -> RPI: May - index - final determination | G12: =InpR!G$28 -> index | H12: =InpR!I$28 -> PR19 Financial model, 'Index' sheet row 132 | I12: =InpR!#REF! -> #REF! | J12: =InpR!J$28 -> 0 | K12: =InpR!K$28 -> 280.7 | L12: =InpR!L$28 -> 289.2 | M12: =InpR!M$28 -> 297.50379 | N12: =InpR!N$28 -> 306.08168 | O12: =InpR!O$28 -> 315.51905 | P12: =InpR!P$28 -> 325.61566 | Q12: =InpR!Q$28 -> 336.03536 | R12: =InpR!R$28 -> 346.11642
E13: =InpR!E$29 -> RPI: June - index - final determination | G13: =InpR!G$29 -> index | H13: =InpR!I$29 -> PR19 Financial model, 'Index' sheet row 133 | I13: =InpR!#REF! -> #REF! | J13: =InpR!J$29 -> 0 | K13: =InpR!K$29 -> 281.5 | L13: =InpR!L$29 -> 289.6 | M13: =InpR!M$29 -> 298.18921 | N13: =InpR!N$29 -> 306.83656 | O13: =InpR!O$29 -> 316.34834 | P13: =InpR!P$29 -> 326.47149 | Q13: =InpR!Q$29 -> 336.91858 | R13: =InpR!R$29 -> 347.02613
E14: =InpR!E$30 -> RPI: July - index - final determination | G14: =InpR!G$30 -> index | H14: =InpR!I$30 -> PR19 Financial model, 'Index' sheet row 134 | I14: =InpR!#REF! -> #REF! | J14: =InpR!J$30 -> 0 | K14: =InpR!K$30 -> 281.7 | L14: =InpR!L$30 -> 289.5 | M14: =InpR!M$30 -> 298.87622 | N14: =InpR!N$30 -> 307.5933 | O14: =InpR!O$30 -> 317.17981 | P14: =InpR!P$30 -> 327.32957 | Q14: =InpR!Q$30 -> 337.80411 | R14: =InpR!R$30 -> 347.93823
E15: =InpR!E$31 -> RPI: August - index - final determination | G15: =InpR!G$31 -> index | H15: =InpR!I$31 -> PR19 Financial model, 'Index' sheet row 135 | I15: =InpR!#REF! -> #REF! | J15: =InpR!J$31 -> 0 | K15: =InpR!K$31 -> 284.2 | L15: =InpR!L$31 -> 291.5 | M15: =InpR!M$31 -> 299.5648 | N15: =InpR!N$31 -> 308.35191 | O15: =InpR!O$31 -> 318.01347 | P15: =InpR!P$31 -> 328.1899 | Q15: =InpR!Q$31 -> 338.69197 | R15: =InpR!R$31 -> 348.85273
E16: =InpR!E$32 -> RPI: September - index - final determination | G16: =InpR!G$32 -> index | H16: =InpR!I$32 -> PR19 Financial model, 'Index' sheet row 136 | I16: =InpR!#REF! -> #REF! | J16: =InpR!J$32 -> 0 | K16: =InpR!K$32 -> 284.1 | L16: =InpR!L$32 -> 292.1479 | M16: =InpR!M$32 -> 300.25497 | N16: =InpR!N$32 -> 309.11239 | O16: =InpR!O$32 -> 318.84931 | P16: =InpR!P$32 -> 329.05249 | Q16: =InpR!Q$32 -> 339.58217 | R16: =InpR!R$32 -> 349.76964
E17: =InpR!E$33 -> RPI: October - index - final determination | G17: =InpR!G$33 -> index | H17: =InpR!I$33 -> PR19 Financial model, 'Index' sheet row 137 | I17: =InpR!#REF! -> #REF! | J17: =InpR!J$33 -> 0 | K17: =InpR!K$33 -> 284.5 | L17: =InpR!L$33 -> 292.79723 | M17: =InpR!M$33 -> 300.94673 | N17: =InpR!N$33 -> 309.87474 | O17: =InpR!O$33 -> 319.68736 | P17: =InpR!P$33 -> 329.91735 | Q17: =InpR!Q$33 -> 340.47471 | R17: =InpR!R$33 -> 350.68895
E18: =InpR!E$34 -> RPI: November - index - final determination | G18: =InpR!G$34 -> index | H18: =InpR!I$34 -> PR19 Financial model, 'Index' sheet row 138 | I18: =InpR!#REF! -> #REF! | J18: =InpR!J$34 -> 0 | K18: =InpR!K$34 -> 284.6 | L18: =InpR!L$34 -> 293.44801 | M18: =InpR!M$34 -> 301.64009 | N18: =InpR!N$34 -> 310.63897 | O18: =InpR!O$34 -> 320.5276 | P18: =InpR!P$34 -> 330.78449 | Q18: =InpR!Q$34 -> 341.36959 | R18: =InpR!R$34 -> 351.61068
E19: =InpR!E$35 -> RPI: December - index - final determination | G19: =InpR!G$35 -> index | H19: =InpR!I$35 -> PR19 Financial model, 'Index' sheet row 139 | I19: =InpR!#REF! -> #REF! | J19: =InpR!J$35 -> 0 | K19: =InpR!K$35 -> 285.6 | L19: =InpR!L$35 -> 294.10024 | M19: =InpR!M$35 -> 302.33504 | N19: =InpR!N$35 -> 311.40509 | O19: =InpR!O$35 -> 321.37006 | P19: =InpR!P$35 -> 331.6539 | Q19: =InpR!Q$35 -> 342.26682 | R19: =InpR!R$35 -> 352.53483
E20: =InpR!E$36 -> RPI: January - index - final determination | G20: =InpR!G$36 -> index | H20: =InpR!I$36 -> PR19 Financial model, 'Index' sheet row 140 | I20: =InpR!#REF! -> #REF! | J20: =InpR!J$36 -> 0 | K20: =InpR!K$36 -> 283 | L20: =InpR!L$36 -> 294.77782 | M20: =InpR!M$36 -> 303.08068 | N20: =InpR!N$36 -> 312.22357 | O20: =InpR!O$36 -> 322.21473 | P20: =InpR!P$36 -> 332.5256 | Q20: =InpR!Q$36 -> 343.16642 | R20: =InpR!R$36 -> 353.46141
E21: =InpR!E$37 -> RPI: February - index - final determination | G21: =InpR!G$37 -> index | H21: =InpR!I$37 -> PR19 Financial model, 'Index' sheet row 141 | I21: =InpR!#REF! -> #REF! | J21: =InpR!J$37 -> 0 | K21: =InpR!K$37 -> 285 | L21: =InpR!L$37 -> 295.45696 | M21: =InpR!M$37 -> 303.82816 | N21: =InpR!N$37 -> 313.0442 | O21: =InpR!O$37 -> 323.06162 | P21: =InpR!P$37 -> 333.39959 | Q21: =InpR!Q$37 -> 344.06837 | R21: =InpR!R$37 -> 354.39042
E22: =InpR!E$38 -> RPI: March - index - final determination | G22: =InpR!G$38 -> index | H22: =InpR!I$38 -> PR19 Financial model, 'Index' sheet row 142 | I22: =InpR!#REF! -> #REF! | J22: =InpR!J$38 -> 0 | K22: =InpR!K$38 -> 285.1 | L22: =InpR!L$38 -> 296.13767 | M22: =InpR!M$38 -> 304.57748 | N22: =InpR!N$38 -> 313.86699 | O22: =InpR!O$38 -> 323.91073 | P22: =InpR!P$38 -> 334.27587 | Q22: =InpR!Q$38 -> 344.9727 | R22: =InpR!R$38 -> 355.32188
E24: RPI: Financial year average - index - final determination | G24: index | J24: =SUM(J11:J22) / 12 -> 0 | K24: =SUM(K11:K22) / 12 -> 283.30833 | L24: =SUM(L11:L22) / 12 -> 292.23882 | M24: =SUM(M11:M22) / 12 -> 300.63476 | N24: =SUM(N11:N22) / 12 -> 309.52984 | O24: =SUM(O11:O22) / 12 -> 319.28117 | P24: =SUM(P11:P22) / 12 -> 329.49816 | Q24: =SUM(Q11:Q22) / 12 -> 340.04211 | R24: =SUM(R11:R22) / 12 -> 350.24337
E25: RPI: Fin year average - percentage increase - final determination | G25: % | J25: =IF(I$24 = 0, 0, J$24 / I$24 - 1) -> 0 | K25: =IF(J$24 = 0, 0, K$24 / J$24 - 1) -> 0 | L25: =IF(K$24 = 0, 0, L$24 / K$24 - 1) -> 0.031522141 | M25: =IF(L$24 = 0, 0, M$24 / L$24 - 1) -> 0.028729732 | N25: =IF(M$24 = 0, 0, N$24 / M$24 - 1) -> 0.029587649 | O25: =IF(N$24 = 0, 0, O$24 / N$24 - 1) -> 0.031503683 | P25: =IF(O$24 = 0, 0, P$24 / O$24 - 1) -> 0.032 | Q25: =IF(P$24 = 0, 0, Q$24 / P$24 - 1) -> 0.032 | R25: =IF(Q$24 = 0, 0, R$24 / Q$24 - 1) -> 0.03
E27: =E$22 -> RPI: March - index - final determination | G27: =G$22 -> index | H27: =H$22 -> PR19 Financial model, 'Index' sheet row 142 | I27: =I$22 -> #REF! | J27: =J$22 -> 0 | K27: =K$22 -> 285.1 | L27: =L$22 -> 296.13767 | M27: =M$22 -> 304.57748 | N27: =N$22 -> 313.86699 | ... R27: =R$22 -> 355.32188
E28: =E$24 -> RPI: Financial year average - index - final determination | G28: =G$24 -> index | H28: =H$24 -> 0 | I28: =I$24 -> 0 | J28: =J$24 -> 0 | K28: =K$24 -> 283.30833 | L28: =L$24 -> 292.23882 | M28: =M$24 -> 300.63476 | N28: =N$24 -> 309.52984 | ... R28: =R$24 -> 350.24337
E29: =Time!E$46 -> 1st Forecast Period Flag | G29: =Time!G$46 -> flag | H29: =Time!H$46 -> 1 | I29: =Time!I$46 -> 0 | J29: =Time!J$46 -> 0 | K29: =Time!K$46 -> 0 | L29: =Time!L$46 -> 0 | M29: =Time!M$46 -> 1 | N29: =Time!N$46 -> 0 | ... R29: =Time!R$46 -> 0
E30: RPI Growth from 2019-20 FYE to 2020-21 FYA - final determination | G30: % | J30: =IFERROR((J28 / I27 - 1) * J29, 0) -> 0 | K30: =IFERROR((K28 / J27 - 1) * K29, 0) -> 0 | L30: =IFERROR((L28 / K27 - 1) * L29, 0) -> 0 | M30: =IFERROR((M28 / L27 - 1) * M29, 0) -> 0.01518582 | N30: =IFERROR((N28 / M27 - 1) * N29, 0) -> 0 | O30: =IFERROR((O28 / N27 - 1) * O29, 0) -> 0 | P30: =IFERROR((P28 / O27 - 1) * P29, 0) -> 0 | Q30: =IFERROR((Q28 / P27 - 1) * Q29, 0) -> 0 | R30: =IFERROR((R28 / Q27 - 1) * R29, 0) -> 0
B32: CPI(H) - final determination
E33: =InpR!E$41 -> CPI(H): April - index - final determination | G33: =InpR!G$41 -> index | H33: =InpR!I$41 -> PR19 Financial model, 'Index' sheet F59 and 'Index' sheet row 10 | I33: =InpR!#REF! -> #REF! | J33: =InpR!J$41 -> 103.2 | K33: =InpR!K$41 -> 105.5 | L33: =InpR!L$41 -> 107.6 | M33: =InpR!M$41 -> 109.70335 | N33: =InpR!N$41 -> 111.89742 | O33: =InpR!O$41 -> 114.17266 | P33: =InpR!P$41 -> 116.57028 | Q33: =InpR!Q$41 -> 119.01826 | R33: =InpR!R$41 -> 121.39862
E34: =InpR!E$42 -> CPI(H): May - index - final determination | G34: =InpR!G$42 -> index | H34: =InpR!I$42 -> PR19 Financial model, 'Index' sheet F60 and 'Index' sheet row 11 | I34: =InpR!#REF! -> #REF! | J34: =InpR!J$42 -> 103.5 | K34: =InpR!K$42 -> 105.9 | L34: =InpR!L$42 -> 107.9 | M34: =InpR!M$42 -> 109.88454 | N34: =InpR!N$42 -> 112.08223 | O34: =InpR!O$42 -> 114.37056 | P34: =InpR!P$42 -> 116.77234 | Q34: =InpR!Q$42 -> 119.22456 | R34: =InpR!R$42 -> 121.60905
E35: =InpR!E$43 -> CPI(H): June - index - final determination | G35: =InpR!G$43 -> index | H35: =InpR!I$43 -> PR19 Financial model, 'Index' sheet F61 and 'Index' sheet row 12 | I35: =InpR!#REF! -> #REF! | J35: =InpR!J$43 -> 103.5 | K35: =InpR!K$43 -> 105.9 | L35: =InpR!L$43 -> 107.9 | M35: =InpR!M$43 -> 110.06602 | N35: =InpR!N$43 -> 112.26734 | O35: =InpR!O$43 -> 114.56881 | P35: =InpR!P$43 -> 116.97475 | Q35: =InpR!Q$43 -> 119.43122 | R35: =InpR!R$43 -> 121.81985
E36: =InpR!E$44 -> CPI(H): July - index - final determination | G36: =InpR!G$44 -> index | H36: =InpR!I$44 -> PR19 Financial model, 'Index' sheet F62 and 'Index' sheet row 13 | I36: =InpR!#REF! -> #REF! | J36: =InpR!J$44 -> 103.5 | K36: =InpR!K$44 -> 105.9 | L36: =InpR!L$44 -> 108 | M36: =InpR!M$44 -> 110.2478 | N36: =InpR!N$44 -> 112.45276 | O36: =InpR!O$44 -> 114.7674 | P36: =InpR!P$44 -> 117.17752 | Q36: =InpR!Q$44 -> 119.63824 | R36: =InpR!R$44 -> 122.03101
E37: =InpR!E$45 -> CPI(H): August - index - final determination | G37: =InpR!G$45 -> index | H37: =InpR!I$45 -> PR19 Financial model, 'Index' sheet F63 and 'Index' sheet row 14 | I37: =InpR!#REF! -> #REF! | J37: =InpR!J$45 -> 104 | K37: =InpR!K$45 -> 106.5 | L37: =InpR!L$45 -> 108.3 | M37: =InpR!M$45 -> 110.42989 | N37: =InpR!N$45 -> 112.63849 | O37: =InpR!O$45 -> 114.96634 | P37: =InpR!P$45 -> 117.38063 | Q37: =InpR!Q$45 -> 119.84562 | R37: =InpR!R$45 -> 122.24253
E38: =InpR!E$46 -> CPI(H): September - index - final determination | G38: =InpR!G$46 -> index | H38: =InpR!I$46 -> PR19 Financial model, 'Index' sheet F64 and 'Index' sheet row 15 | I38: =InpR!#REF! -> #REF! | J38: =InpR!J$46 -> 104.3 | K38: =InpR!K$46 -> 106.6 | L38: =InpR!L$46 -> 108.47 | M38: =InpR!M$46 -> 110.61227 | N38: =InpR!N$46 -> 112.82452 | O38: =InpR!O$46 -> 115.16562 | P38: =InpR!P$46 -> 117.58409 | Q38: =InpR!Q$46 -> 120.05336 | R38: =InpR!R$46 -> 122.45443
E39: =InpR!E$47 -> CPI(H): October - index - final determination | G39: =InpR!G$47 -> index | H39: =InpR!I$47 -> PR19 Financial model, 'Index' sheet F65 and 'Index' sheet row 16 | I39: =InpR!#REF! -> #REF! | J39: =InpR!J$47 -> 104.4 | K39: =InpR!K$47 -> 106.7 | L39: =InpR!L$47 -> 108.64027 | M39: =InpR!M$47 -> 110.79496 | N39: =InpR!N$47 -> 113.01086 | O39: =InpR!O$47 -> 115.36524 | P39: =InpR!P$47 -> 117.78791 | Q39: =InpR!Q$47 -> 120.26146 | R39: =InpR!R$47 -> 122.66669
E40: =InpR!E$48 -> CPI(H): November - index - final determination | G40: =InpR!G$48 -> index | H40: =InpR!I$48 -> PR19 Financial model, 'Index' sheet F66 and 'Index' sheet row 17 | I40: =InpR!#REF! -> #REF! | J40: =InpR!J$48 -> 104.7 | K40: =InpR!K$48 -> 106.9 | L40: =InpR!L$48 -> 108.8108 | M40: =InpR!M$48 -> 110.97794 | N40: =InpR!N$48 -> 113.1975 | O40: =InpR!O$48 -> 115.56521 | P40: =InpR!P$48 -> 117.99208 | Q40: =InpR!Q$48 -> 120.46992 | R40: =InpR!R$48 -> 122.87931
E41: =InpR!E$49 -> CPI(H): December - index - final determination | G41: =InpR!G$49 -> index | H41: =InpR!I$49 -> PR19 Financial model, 'Index' sheet F67 and 'Index' sheet row 18 | I41: =InpR!#REF! -> #REF! | J41: =InpR!J$49 -> 105 | K41: =InpR!K$49 -> 107.1 | L41: =InpR!L$49 -> 108.9816 | M41: =InpR!M$49 -> 111.16123 | N41: =InpR!N$49 -> 113.38446 | O41: =InpR!O$49 -> 115.76553 | P41: =InpR!P$49 -> 118.19661 | Q41: =InpR!Q$49 -> 120.67874 | R41: =InpR!R$49 -> 123.09231
E42: =InpR!E$50 -> CPI(H): January - index - final determination | G42: =InpR!G$50 -> index | H42: =InpR!I$50 -> PR19 Financial model, 'Index' sheet F68 and 'Index' sheet row 19 | I42: =InpR!#REF! -> #REF! | J42: =InpR!J$50 -> 104.5 | K42: =InpR!K$50 -> 106.4 | L42: =InpR!L$50 -> 109.16159 | M42: =InpR!M$50 -> 111.34483 | N42: =InpR!N$50 -> 113.581 | O42: =InpR!O$50 -> 115.9662 | P42: =InpR!P$50 -> 118.40149 | Q42: =InpR!Q$50 -> 120.88792 | R42: =InpR!R$50 -> 123.30568
E43: =InpR!E$51 -> CPI(H): February - index - final determination | G43: =InpR!G$51 -> index | H43: =InpR!I$51 -> PR19 Financial model, 'Index' sheet F69 and 'Index' sheet row 20 | I43: =InpR!#REF! -> #REF! | J43: =InpR!J$51 -> 104.9 | K43: =InpR!K$51 -> 106.8 | L43: =InpR!L$51 -> 109.34188 | M43: =InpR!M$51 -> 111.52872 | N43: =InpR!N$51 -> 113.77788 | O43: =InpR!O$51 -> 116.16721 | P43: =InpR!P$51 -> 118.60672 | Q43: =InpR!Q$51 -> 121.09746 | R43: =InpR!R$51 -> 123.51941
E44: =InpR!E$52 -> CPI(H): March - index - final determination | G44: =InpR!G$52 -> index | H44: =InpR!I$52 -> PR19 Financial model, 'Index' sheet F70 and 'Index' sheet row 21 | I44: =InpR!#REF! -> #REF! | J44: =InpR!J$52 -> 105.1 | K44: =InpR!K$52 -> 107 | L44: =InpR!L$52 -> 109.52247 | M44: =InpR!M$52 -> 111.71292 | N44: =InpR!N$52 -> 113.9751 | O44: =InpR!O$52 -> 116.36857 | P44: =InpR!P$52 -> 118.81231 | Q44: =InpR!Q$52 -> 121.30737 | R44: =InpR!R$52 -> 123.73352
E46: CPI(H): Financial year average - index - final determination | G46: index | J46: =SUM(J33:J44) / 12 -> 104.21667 | K46: =SUM(K33:K44) / 12 -> 106.43333 | L46: =SUM(L33:L44) / 12 -> 108.55238 | M46: =SUM(M33:M44) / 12 -> 110.70537 | N46: =SUM(N33:N44) / 12 -> 112.92413 | O46: =SUM(O33:O44) / 12 -> 115.26745 | P46: =SUM(P33:P44) / 12 -> 117.68806 | Q46: =SUM(Q33:Q44) / 12 -> 120.15951 | R46: =SUM(R33:R44) / 12 -> 122.5627
E47: CPI(H): Fin year average - inflate from base year 2017-18 average - final determination | G47: % | J47: =IF(I$46 = 0, 0, J$46 / $J$46) -> 0 | K47: =IF(J$46 = 0, 0, K$46 / $J$46) -> 1.0212698 | L47: =IF(K$46 = 0, 0, L$46 / $J$46) -> 1.0416029 | M47: =IF(L$46 = 0, 0, M$46 / $J$46) -> 1.0622617 | N47: =IF(M$46 = 0, 0, N$46 / $J$46) -> 1.0835515 | O47: =IF(N$46 = 0, 0, O$46 / $J$46) -> 1.1060366 | P47: =IF(O$46 = 0, 0, P$46 / $J$46) -> 1.1292633 | Q47: =IF(P$46 = 0, 0, Q$46 / $J$46) -> 1.1529779 | R47: =IF(Q$46 = 0, 0, R$46 / $J$46) -> 1.1760374
...

Sheet Calcs-WR
A1: =RIGHT(CELL("filename", $A$1), LEN(CELL("filename", $A$1)) - SEARCH("]", CELL("filename", $A$1))) -> Calcs-WR
E2: =Time!E$23 -> Model Period END | F2: =Checks!$F$9 -> 0 | G2: Error chks | J2: =Time!J$23 -> 43190 | K2: =Time!K$23 -> 43555 | L2: =Time!L$23 -> 43921 | M2: =Time!M$23 -> 44286 | N2: =Time!N$23 -> 44651 | O2: =Time!O$23 -> 45016 | P2: =Time!P$23 -> 45382 | Q2: =Time!Q$23 -> 45747 | R2: =Time!R$23 -> 46112
E3: =Time!E$59 -> Pre Forecast vs Forecast | J3: =Time!J$59 -> Pre Fcst | K3: =Time!K$59 -> Pre Fcst | L3: =Time!L$59 -> Pre Fcst | M3: =Time!M$59 -> Forecast | N3: =Time!N$59 -> Forecast | O3: =Time!O$59 -> Forecast | P3: =Time!P$59 -> Forecast | Q3: =Time!Q$59 -> Forecast | R3: =Time!R$59 -> Post-Fcst
J4: =Time!J$86 -> 2018 | K4: =Time!K$86 -> 2019 | L4: =Time!L$86 -> 2020 | M4: =Time!M$86 -> 2021 | N4: =Time!N$86 -> 2022 | O4: =Time!O$86 -> 2023 | P4: =Time!P$86 -> 2024 | Q4: =Time!Q$86 -> 2025 | R4: =Time!R$86 -> 2026
E6: =Time!E$11 -> Model column counter | F6: Constant | G6: Unit | H6: Total | J6: =Time!J$11 -> 1 | K6: =Time!K$11 -> 2 | L6: =Time!L$11 -> 3 | M6: =Time!M$11 -> 4 | N6: =Time!N$11 -> 5 | O6: =Time!O$11 -> 6 | P6: =Time!P$11 -> 7 | Q6: =Time!Q$11 -> 8 | R6: =Time!R$11 -> 9
A8: FORECAST POSITION AT PR19 FINAL DETERMINATION
C10: This section replicates the RCV calculations in the PR19 final determination financial model.
B12: Forecast inflation
E13: =Index!E$48 -> CPI(H): Fin year average - percentage increase - final determination | F13: =Index!F$48 -> 0 | G13: =Index!G$48 -> % | H13: =Index!H$48 -> 0 | I13: =Index!I$48 -> 0 | J13: =Index!J$48 -> 0 | K13: =Index!K$48 -> 0.021269791 | L13: =Index!L$48 -> 0.019909655 | ... R13: =Index!R$48 -> 0.02
E14: =Index!E$71 -> Forecast RPI/CPIH wedge - final determination | F14: =Index!F$71 -> 0 | G14: =Index!G$71 -> % | H14: =Index!H$71 -> 0 | I14: =Index!I$71 -> 0 | J14: =Index!J$71 -> 0 | K14: =Index!K$71 -> -0.021269791 | L14: =Index!L$71 -> 0.011612485 | ... R14: =Index!R$71 -> 0.01
E15: Forecast Indexation percentage | G15: % | J15: =SUM(J13:J14) -> 0 | K15: =SUM(K13:K14) -> 0 | L15: =SUM(L13:L14) -> 0.031522141 | M15: =SUM(M13:M14) -> 0.024258092 | N15: =SUM(N13:N14) -> 0.029587649 | O15: =SUM(O13:O14) -> 0.031503683 | P15: =SUM(P13:P14) -> 0.032 | Q15: =SUM(Q13:Q14) -> 0.032 | R15: =SUM(R13:R14) -> 0.03
E17: =Time!E$40 -> Acquisition / initial balance date flag | F17: =Time!F$40 -> 0 | G17: =Time!G$40 -> flag | H17: =Time!H$40 -> 1 | I17: =Time!I$40 -> 0 | J17: =Time!J$40 -> 0 | K17: =Time!K$40 -> 0 | L17: =Time!L$40 -> 1 | ... R17: =Time!R$40 -> 0
E18: =Index!E$48 -> CPI(H): Fin year average - percentage increase - final determination | F18: =Index!F$48 -> 0 | G18: =Index!G$48 -> % | H18: =Index!H$48 -> 0 | I18: =Index!I$48 -> 0 | J18: =Index!J$48 -> 0 | K18: =Index!K$48 -> 0.021269791 | L18: =Index!L$48 -> 0.019909655 | ... R18: =Index!R$48 -> 0.02
E19: Cumulative CPIH inflation | J19: =IF(J17=1,1,I19*(1+J18)) -> 0 | K19: =IF(K17=1,1,J19*(1+K18)) -> 0 | L19: =IF(L17=1,1,K19*(1+L18)) -> 1 | M19: =IF(M17=1,1,L19*(1+M18)) -> 1.0198336 | N19: =IF(N17=1,1,M19*(1+N18)) -> 1.0402731 | O19: =IF(O17=1,1,N19*(1+O18)) -> 1.0618601 | P19: =IF(P17=1,1,O19*(1+P18)) -> 1.0841592 | Q19: =IF(Q17=1,1,P19*(1+Q18)) -> 1.1069265 | R19: =IF(R17=1,1,Q19*(1+R18)) -> 1.129065
B21: Forecast RCV balance
E22: =E$34 -> Forecast Nominal RCV balance BEG | F22: =F$34 -> 0 | G22: =G$34 -> £m | H22: =H$34 -> 0 | I22: =I$34 -> 0 | J22: =J$34 -> 0 | K22: =K$34 -> 0 | L22: =L$34 -> 0 | ... R22: =R$34 -> 0
E23: =E$15 -> Forecast Indexation percentage | F23: =F$15 -> 0 | G23: =G$15 -> % | H23: =H$15 -> 0 | I23: =I$15 -> 0 | J23: =J$15 -> 0 | K23: =K$15 -> 0 | L23: =L$15 -> 0.031522141 | ... R23: =R$15 -> 0.03
E24: Forecast RCV indexation | G24: £m | J24: =J22*J23 -> 0 | K24: =K22*K23 -> 0 | L24: =L22*L23 -> 0 | M24: =M22*M23 -> 0 | N24: =N22*N23 -> 0 | O24: =O22*O23 -> 0 | P24: =P22*P23 -> 0 | Q24: =Q22*Q23 -> 0 | R24: =R22*R23 -> 0
E26: =InpR!E$94 -> Run-off rate - CPI(H) + RPI wedge - active - WR | F26: =InpR!F$94 -> 0 | G26: =InpR!G$94 -> % | H26: =InpR!I$94 -> PR19 Financial model, 'F_OutputsMaster' sheet row 953, PR19FM2090POST | I26: =InpR!#REF! -> #REF! | J26: =InpR!J$94 -> 0 | K26: =InpR!K$94 -> 0 | L26: =InpR!L$94 -> 0 | M26: =InpR!M$94 -> 0 | N26: =InpR!N$94 -> 0 | O26: =InpR!O$94 -> 0 | P26: =InpR!P$94 -> 0 | Q26: =InpR!Q$94 -> 0 | R26: =InpR!R$94 -> 0
E27: =E$34 -> Forecast Nominal RCV balance BEG | F27: =F$34 -> 0 | G27: =G$34 -> £m | H27: =H$34 -> 0 | I27: =I$34 -> 0 | J27: =J$34 -> 0 | K27: =K$34 -> 0 | L27: =L$34 -> 0 | ... R27: =R$34 -> 0
E28: =E$24 -> Forecast RCV indexation | F28: =F$24 -> 0 | G28: =G$24 -> £m | H28: =H$24 -> 0 | I28: =I$24 -> 0 | J28: =J$24 -> 0 | K28: =K$24 -> 0 | L28: =L$24 -> 0 | ... R28: =R$24 -> 0
E29: Forecast RCV run-off | G29: £m | J29: =(J27+J28) * J26 -> 0 | K29: =(K27+K28) * K26 -> 0 | L29: =(L27+L28) * L26 -> 0 | M29: =(M27+M28) * M26 -> 0 | N29: =(N27+N28) * N26 -> 0 | O29: =(O27+O28) * O26 -> 0 | P29: =(P27+P28) * P26 -> 0 | Q29: =(Q27+Q28) * Q26 -> 0 | R29: =(R27+R28) * R26 -> 0
E31: =InpR!$E$87 -> RCV - CPI(H) + RPI wedge initial balance - nominal - WR | F31: =InpR!$F$87 -> 0 | G31: =InpR!$G$87 -> £m
E32: =Time!E$40 -> Acquisition / initial balance date flag | F32: =Time!F$40 -> 0 | G32: =Time!G$40 -> flag | H32: =Time!H$40 -> 1 | I32: =Time!I$40 -> 0 | J32: =Time!J$40 -> 0 | K32: =Time!K$40 -> 0 | L32: =Time!L$40 -> 1 | ... R32: =Time!R$40 -> 0
E34: Forecast Nominal RCV balance BEG | G34: £m | J34: =I37 -> 0 | K34: =J37 -> 0 | L34: =K37 -> 0 | M34: =L37 -> 0 | N34: =M37 -> 0 | O34: =N37 -> 0 | P34: =O37 -> 0 | Q34: =P37 -> 0 | R34: =Q37 -> 0
D35: Plus: | E35: =E$24 -> Forecast RCV indexation | F35: =F$24 -> 0 | G35: =G$24 -> £m | H35: =H$24 -> 0 | I35: =I$24 -> 0 | J35: =J$24 -> 0 | K35: =K$24 -> 0 | L35: =L$24 -> 0 | ... R35: =R$24 -> 0
D36: Less: | E36: =E$29 -> Forecast RCV run-off | F36: =F$29 -> 0 | G36: =G$29 -> £m | H36: =H$29 -> 0 | I36: =I$29 -> 0 | J36: =J$29 -> 0 | K36: =K$29 -> 0 | L36: =L$29 -> 0 | ... R36: =R$29 -> 0
E37: Forecast Nominal RCV balance END | G37: £m | J37: =IF( J32 = 1, $F31, J34 + J35 - J36) -> 0 | K37: =IF( K32 = 1, $F31, K34 + K35 - K36) -> 0 | L37: =IF( L32 = 1, $F31, L34 + L35 - L36) -> 0 | M37: =IF( M32 = 1, $F31, M34 + M35 - M36) -> 0 | N37: =IF( N32 = 1, $F31, N34 + N35 - N36) -> 0 | O37: =IF( O32 = 1, $F31, O34 + O35 - O36) -> 0 | P37: =IF( P32 = 1, $F31, P34 + P35 - P36) -> 0 | Q37: =IF( Q32 = 1, $F31, Q34 + Q35 - Q36) -> 0 | R37: =IF( R32 = 1, $F31, R34 + R35 - R36) -> 0
E39: =E$27 -> Forecast Nominal RCV balance BEG | F39: =F$27 -> 0 | G39: =G$27 -> £m | H39: =H$27 -> 0 | I39: =I$27 -> 0 | J39: =J$27 -> 0 | K39: =K$27 -> 0 | L39: =L$27 -> 0 | ... R39: =R$27 -> 0
E40: =E$24 -> Forecast RCV indexation | F40: =F$24 -> 0 | G40: =G$24 -> £m | H40: =H$24 -> 0 | I40: =I$24 -> 0 | J40: =J$24 -> 0 | K40: =K$24 -> 0 | L40: =L$24 -> 0 | ... R40: =R$24 -> 0
E41: =E$37 -> Forecast Nominal RCV balance END | F41: =F$37 -> 0 | G41: =G$37 -> £m | H41: =H$37 -> 0 | I41: =I$37 -> 0 | J41: =J$37 -> 0 | K41: =K$37 -> 0 | L41: =L$37 -> 0 | ... R41: =R$37 -> 0
E42: Forecast RCV average balance | G42: £m | J42: =( (J39+J40) + J41) / 2 -> 0 | K42: =( (K39+K40) + K41) / 2 -> 0 | L42: =( (L39+L40) + L41) / 2 -> 0 | M42: =( (M39+M40) + M41) / 2 -> 0 | N42: =( (N39+N40) + N41) / 2 -> 0 | O42: =( (O39+O40) + O41) / 2 -> 0 | P42: =( (P39+P40) + P41) / 2 -> 0 | Q42: =( (Q39+Q40) + Q41) / 2 -> 0 | R42: =( (R39+R40) + R41) / 2 -> 0
B44: Forecast return on RCV
E45: =InpR!E$101 -> WACC on RCV - CPI(H) + RPI wedge bf and additions - WR | F45: =InpR!F$101 -> 0 | G45: =InpR!G$101 -> % | H45: =InpR!I$101 -> PR19 Financial model, 'Water Resources' sheet row 980 | I45: =InpR!#REF! -> #REF! | J45: =InpR!J$101 -> 0 | K45: =InpR!K$101 -> 0 | L45: =InpR!L$101 -> 0 | M45: =InpR!M$101 -> 0 | N45: =InpR!N$101 -> 0 | O45: =InpR!O$101 -> 0 | P45: =InpR!P$101 -> 0 | Q45: =InpR!Q$101 -> 0 | R45: =InpR!R$101 -> 0
E46: =Time!E$54 -> Forecast Period Flag | F46: =Time!F$54 -> 0 | G46: =Time!G$54 -> flag | H46: =Time!H$54 -> 5 | I46: =Time!I$54 -> 0 | J46: =Time!J$54 -> 0 | K46: =Time!K$54 -> 0 | L46: =Time!L$54 -> 0 | ... R46: =Time!R$54 -> 0
E47: =E$42 -> Forecast RCV average balance | F47: =F$42 -> 0 | G47: =G$42 -> £m | H47: =H$42 -> 0 | I47: =I$42 -> 0 | J47: =J$42 -> 0 | K47: =K$42 -> 0 | L47: =L$42 -> 0 | ... R47: =R$42 -> 0
E48: Forecast nominal return | G48: £m | J48: =J45*J47*J46 -> 0 | K48: =K45*K47*K46 -> 0 | L48: =L45*L47*L46 -> 0 | M48: =M45*M47*M46 -> 0 | N48: =N45*N47*N46 -> 0 | O48: =O45*O47*O46 -> 0 | P48: =P45*P47*P46 -> 0 | Q48: =Q45*Q47*Q46 -> 0 | R48: =R45*R47*R46 -> 0
B50: Forecast total revenue
E51: =E$29 -> Forecast RCV run-off | F51: =F$29 -> 0 | G51: =G$29 -> £m | H51: =H$29 -> 0 | I51: =I$29 -> 0 | J51: =J$29 -> 0 | K51: =K$29 -> 0 | L51: =L$29 -> 0 | ... R51: =R$29 -> 0
E52: =E$48 -> Forecast nominal return | F52: =F$48 -> 0 | G52: =G$48 -> £m | H52: =H$48 -> 0 | I52: =I$48 -> 0 | J52: =J$48 -> 0 | K52: =K$48 -> 0 | L52: =L$48 -> 0 | ... R52: =R$48 -> 0
...

Sheet Calcs-WN
A1: =RIGHT(CELL("filename", $A$1), LEN(CELL("filename", $A$1)) - SEARCH("]", CELL("filename", $A$1))) -> Calcs-WN
E2: =Time!E$23 -> Model Period END | F2: =Checks!$F$9 -> 0 | G2: Error chks | J2: =Time!J$23 -> 43190 | K2: =Time!K$23 -> 43555 | L2: =Time!L$23 -> 43921 | M2: =Time!M$23 -> 44286 | N2: =Time!N$23 -> 44651 | O2: =Time!O$23 -> 45016 | P2: =Time!P$23 -> 45382 | Q2: =Time!Q$23 -> 45747 | R2: =Time!R$23 -> 46112
E3: =Time!E$59 -> Pre Forecast vs Forecast | J3: =Time!J$59 -> Pre Fcst | K3: =Time!K$59 -> Pre Fcst | L3: =Time!L$59 -> Pre Fcst | M3: =Time!M$59 -> Forecast | N3: =Time!N$59 -> Forecast | O3: =Time!O$59 -> Forecast | P3: =Time!P$59 -> Forecast | Q3: =Time!Q$59 -> Forecast | R3: =Time!R$59 -> Post-Fcst
J4: =Time!J$86 -> 2018 | K4: =Time!K$86 -> 2019 | L4: =Time!L$86 -> 2020 | M4: =Time!M$86 -> 2021 | N4: =Time!N$86 -> 2022 | O4: =Time!O$86 -> 2023 | P4: =Time!P$86 -> 2024 | Q4: =Time!Q$86 -> 2025 | R4: =Time!R$86 -> 2026
E6: =Time!E$11 -> Model column counter | F6: Constant | G6: Unit | H6: Total | J6: =Time!J$11 -> 1 | K6: =Time!K$11 -> 2 | L6: =Time!L$11 -> 3 | M6: =Time!M$11 -> 4 | N6: =Time!N$11 -> 5 | O6: =Time!O$11 -> 6 | P6: =Time!P$11 -> 7 | Q6: =Time!Q$11 -> 8 | R6: =Time!R$11 -> 9
A8: FORECAST POSITION AT PR19 FINAL DETERMINATION
C10: This section replicates the RCV calculations in the PR19 final determination financial model.
B12: Forecast inflation
E13: =Index!E$48 -> CPI(H): Fin year average - percentage increase - final determination | F13: =Index!F$48 -> 0 | G13: =Index!G$48 -> % | H13: =Index!H$48 -> 0 | I13: =Index!I$48 -> 0 | J13: =Index!J$48 -> 0 | K13: =Index!K$48 -> 0.021269791 | L13: =Index!L$48 -> 0.019909655 | ... R13: =Index!R$48 -> 0.02
E14: =Index!E$71 -> Forecast RPI/CPIH wedge - final determination | F14: =Index!F$71 -> 0 | G14: =Index!G$71 -> % | H14: =Index!H$71 -> 0 | I14: =Index!I$71 -> 0 | J14: =Index!J$71 -> 0 | K14: =Index!K$71 -> -0.021269791 | L14: =Index!L$71 -> 0.011612485 | ... R14: =Index!R$71 -> 0.01
E15: Forecast Indexation percentage | G15: % | J15: =SUM(J13:J14) -> 0 | K15: =SUM(K13:K14) -> 0 | L15: =SUM(L13:L14) -> 0.031522141 | M15: =SUM(M13:M14) -> 0.024258092 | N15: =SUM(N13:N14) -> 0.029587649 | O15: =SUM(O13:O14) -> 0.031503683 | P15: =SUM(P13:P14) -> 0.032 | Q15: =SUM(Q13:Q14) -> 0.032 | R15: =SUM(R13:R14) -> 0.03
E17: =Time!E$40 -> Acquisition / initial balance date flag | F17: =Time!F$40 -> 0 | G17: =Time!G$40 -> flag | H17: =Time!H$40 -> 1 | I17: =Time!I$40 -> 0 | J17: =Time!J$40 -> 0 | K17: =Time!K$40 -> 0 | L17: =Time!L$40 -> 1 | ... R17: =Time!R$40 -> 0
E18: =Index!E$48 -> CPI(H): Fin year average - percentage increase - final determination | F18: =Index!F$48 -> 0 | G18: =Index!G$48 -> % | H18: =Index!H$48 -> 0 | I18: =Index!I$48 -> 0 | J18: =Index!J$48 -> 0 | K18: =Index!K$48 -> 0.021269791 | L18: =Index!L$48 -> 0.019909655 | ... R18: =Index!R$48 -> 0.02
E19: Cumulative CPIH inflation | J19: =IF(J17=1,1,I19*(1+J18)) -> 0 | K19: =IF(K17=1,1,J19*(1+K18)) -> 0 | L19: =IF(L17=1,1,K19*(1+L18)) -> 1 | M19: =IF(M17=1,1,L19*(1+M18)) -> 1.0198336 | N19: =IF(N17=1,1,M19*(1+N18)) -> 1.0402731 | O19: =IF(O17=1,1,N19*(1+O18)) -> 1.0618601 | P19: =IF(P17=1,1,O19*(1+P18)) -> 1.0841592 | Q19: =IF(Q17=1,1,P19*(1+Q18)) -> 1.1069265 | R19: =IF(R17=1,1,Q19*(1+R18)) -> 1.129065
B21: Forecast RCV balance
E22: =E$34 -> Forecast Nominal RCV balance BEG | F22: =F$34 -> 0 | G22: =G$34 -> £m | H22: =H$34 -> 0 | I22: =I$34 -> 0 | J22: =J$34 -> 0 | K22: =K$34 -> 0 | L22: =L$34 -> 0 | ... R22: =R$34 -> 0
E23: =E$15 -> Forecast Indexation percentage | F23: =F$15 -> 0 | G23: =G$15 -> % | H23: =H$15 -> 0 | I23: =I$15 -> 0 | J23: =J$15 -> 0 | K23: =K$15 -> 0 | L23: =L$15 -> 0.031522141 | ... R23: =R$15 -> 0.03
E24: Forecast RCV indexation | G24: £m | J24: =J22*J23 -> 0 | K24: =K22*K23 -> 0 | L24: =L22*L23 -> 0 | M24: =M22*M23 -> 0 | N24: =N22*N23 -> 0 | O24: =O22*O23 -> 0 | P24: =P22*P23 -> 0 | Q24: =Q22*Q23 -> 0 | R24: =R22*R23 -> 0
E26: =InpR!E$95 -> Run-off rate - CPI(H) + RPI wedge - active - WN | F26: =InpR!F$95 -> 0 | G26: =InpR!G$95 -> % | H26: =InpR!I$95 -> PR19 Financial model, 'F_OutputsMaster' sheet row 956, PR19FM2093POST | I26: =InpR!#REF! -> #REF! | J26: =InpR!J$95 -> 0 | K26: =InpR!K$95 -> 0 | L26: =InpR!L$95 -> 0 | M26: =InpR!M$95 -> 0 | N26: =InpR!N$95 -> 0 | O26: =InpR!O$95 -> 0 | P26: =InpR!P$95 -> 0 | Q26: =InpR!Q$95 -> 0 | R26: =InpR!R$95 -> 0
E27: =E$34 -> Forecast Nominal RCV balance BEG | F27: =F$34 -> 0 | G27: =G$34 -> £m | H27: =H$34 -> 0 | I27: =I$34 -> 0 | J27: =J$34 -> 0 | K27: =K$34 -> 0 | L27: =L$34 -> 0 | ... R27: =R$34 -> 0
E28: =E$24 -> Forecast RCV indexation | F28: =F$24 -> 0 | G28: =G$24 -> £m | H28: =H$24 -> 0 | I28: =I$24 -> 0 | J28: =J$24 -> 0 | K28: =K$24 -> 0 | L28: =L$24 -> 0 | ... R28: =R$24 -> 0
E29: Forecast RCV run-off | G29: £m | J29: =(J27+J28) * J26 -> 0 | K29: =(K27+K28) * K26 -> 0 | L29: =(L27+L28) * L26 -> 0 | M29: =(M27+M28) * M26 -> 0 | N29: =(N27+N28) * N26 -> 0 | O29: =(O27+O28) * O26 -> 0 | P29: =(P27+P28) * P26 -> 0 | Q29: =(Q27+Q28) * Q26 -> 0 | R29: =(R27+R28) * R26 -> 0
E31: =InpR!$E$88 -> RCV - CPI(H) + RPI wedge initial balance - nominal - WN | F31: =InpR!$F$88 -> 0 | G31: =InpR!$G$88 -> £m
E32: =Time!E$40 -> Acquisition / initial balance date flag | F32: =Time!F$40 -> 0 | G32: =Time!G$40 -> flag | H32: =Time!H$40 -> 1 | I32: =Time!I$40 -> 0 | J32: =Time!J$40 -> 0 | K32: =Time!K$40 -> 0 | L32: =Time!L$40 -> 1 | ... R32: =Time!R$40 -> 0
E34: Forecast Nominal RCV balance BEG | G34: £m | J34: =I37 -> 0 | K34: =J37 -> 0 | L34: =K37 -> 0 | M34: =L37 -> 0 | N34: =M37 -> 0 | O34: =N37 -> 0 | P34: =O37 -> 0 | Q34: =P37 -> 0 | R34: =Q37 -> 0
D35: Plus: | E35: =E$24 -> Forecast RCV indexation | F35: =F$24 -> 0 | G35: =G$24 -> £m | H35: =H$24 -> 0 | I35: =I$24 -> 0 | J35: =J$24 -> 0 | K35: =K$24 -> 0 | L35: =L$24 -> 0 | ... R35: =R$24 -> 0
D36: Less: | E36: =E$29 -> Forecast RCV run-off | F36: =F$29 -> 0 | G36: =G$29 -> £m | H36: =H$29 -> 0 | I36: =I$29 -> 0 | J36: =J$29 -> 0 | K36: =K$29 -> 0 | L36: =L$29 -> 0 | ... R36: =R$29 -> 0
E37: Forecast Nominal RCV balance END | G37: £m | J37: =IF( J32 = 1, $F31, J34 + J35 - J36) -> 0 | K37: =IF( K32 = 1, $F31, K34 + K35 - K36) -> 0 | L37: =IF( L32 = 1, $F31, L34 + L35 - L36) -> 0 | M37: =IF( M32 = 1, $F31, M34 + M35 - M36) -> 0 | N37: =IF( N32 = 1, $F31, N34 + N35 - N36) -> 0 | O37: =IF( O32 = 1, $F31, O34 + O35 - O36) -> 0 | P37: =IF( P32 = 1, $F31, P34 + P35 - P36) -> 0 | Q37: =IF( Q32 = 1, $F31, Q34 + Q35 - Q36) -> 0 | R37: =IF( R32 = 1, $F31, R34 + R35 - R36) -> 0
E39: =E$27 -> Forecast Nominal RCV balance BEG | F39: =F$27 -> 0 | G39: =G$27 -> £m | H39: =H$27 -> 0 | I39: =I$27 -> 0 | J39: =J$27 -> 0 | K39: =K$27 -> 0 | L39: =L$27 -> 0 | ... R39: =R$27 -> 0
E40: =E$24 -> Forecast RCV indexation | F40: =F$24 -> 0 | G40: =G$24 -> £m | H40: =H$24 -> 0 | I40: =I$24 -> 0 | J40: =J$24 -> 0 | K40: =K$24 -> 0 | L40: =L$24 -> 0 | ... R40: =R$24 -> 0
E41: =E$37 -> Forecast Nominal RCV balance END | F41: =F$37 -> 0 | G41: =G$37 -> £m | H41: =H$37 -> 0 | I41: =I$37 -> 0 | J41: =J$37 -> 0 | K41: =K$37 -> 0 | L41: =L$37 -> 0 | ... R41: =R$37 -> 0
E42: Forecast RCV average balance | G42: £m | J42: =( (J39+J40) + J41) / 2 -> 0 | K42: =( (K39+K40) + K41) / 2 -> 0 | L42: =( (L39+L40) + L41) / 2 -> 0 | M42: =( (M39+M40) + M41) / 2 -> 0 | N42: =( (N39+N40) + N41) / 2 -> 0 | O42: =( (O39+O40) + O41) / 2 -> 0 | P42: =( (P39+P40) + P41) / 2 -> 0 | Q42: =( (Q39+Q40) + Q41) / 2 -> 0 | R42: =( (R39+R40) + R41) / 2 -> 0
B44: Forecast return on RCV
E45: =InpR!E$102 -> WACC on RCV - CPI(H) + RPI wedge bf and additions - WN | F45: =InpR!F$102 -> 0 | G45: =InpR!G$102 -> % | H45: =InpR!I$102 -> PR19 Financial model, 'Water Network' sheet row 980 | I45: =InpR!#REF! -> #REF! | J45: =InpR!J$102 -> 0 | K45: =InpR!K$102 -> 0 | L45: =InpR!L$102 -> 0 | M45: =InpR!M$102 -> 0 | N45: =InpR!N$102 -> 0 | O45: =InpR!O$102 -> 0 | P45: =InpR!P$102 -> 0 | Q45: =InpR!Q$102 -> 0 | R45: =InpR!R$102 -> 0
E46: =Time!E$54 -> Forecast Period Flag | F46: =Time!F$54 -> 0 | G46: =Time!G$54 -> flag | H46: =Time!H$54 -> 5 | I46: =Time!I$54 -> 0 | J46: =Time!J$54 -> 0 | K46: =Time!K$54 -> 0 | L46: =Time!L$54 -> 0 | ... R46: =Time!R$54 -> 0
E47: =E$42 -> Forecast RCV average balance | F47: =F$42 -> 0 | G47: =G$42 -> £m | H47: =H$42 -> 0 | I47: =I$42 -> 0 | J47: =J$42 -> 0 | K47: =K$42 -> 0 | L47: =L$42 -> 0 | ... R47: =R$42 -> 0
E48: Forecast nominal return | G48: £m | J48: =J45*J47*J46 -> 0 | K48: =K45*K47*K46 -> 0 | L48: =L45*L47*L46 -> 0 | M48: =M45*M47*M46 -> 0 | N48: =N45*N47*N46 -> 0 | O48: =O45*O47*O46 -> 0 | P48: =P45*P47*P46 -> 0 | Q48: =Q45*Q47*Q46 -> 0 | R48: =R45*R47*R46 -> 0
B50: Forecast total revenue
E51: =E$29 -> Forecast RCV run-off | F51: =F$29 -> 0 | G51: =G$29 -> £m | H51: =H$29 -> 0 | I51: =I$29 -> 0 | J51: =J$29 -> 0 | K51: =K$29 -> 0 | L51: =L$29 -> 0 | ... R51: =R$29 -> 0
E52: =E$48 -> Forecast nominal return | F52: =F$48 -> 0 | G52: =G$48 -> £m | H52: =H$48 -> 0 | I52: =I$48 -> 0 | J52: =J$48 -> 0 | K52: =K$48 -> 0 | L52: =L$48 -> 0 | ... R52: =R$48 -> 0
...

Sheet Calcs-WWN
A1: =RIGHT(CELL("filename", $A$1), LEN(CELL("filename", $A$1)) - SEARCH("]", CELL("filename", $A$1))) -> Calcs-WWN
E2: =Time!E$23 -> Model Period END | F2: =Checks!$F$9 -> 0 | G2: Error chks | J2: =Time!J$23 -> 43190 | K2: =Time!K$23 -> 43555 | L2: =Time!L$23 -> 43921 | M2: =Time!M$23 -> 44286 | N2: =Time!N$23 -> 44651 | O2: =Time!O$23 -> 45016 | P2: =Time!P$23 -> 45382 | Q2: =Time!Q$23 -> 45747 | R2: =Time!R$23 -> 46112
E3: =Time!E$59 -> Pre Forecast vs Forecast | J3: =Time!J$59 -> Pre Fcst | K3: =Time!K$59 -> Pre Fcst | L3: =Time!L$59 -> Pre Fcst | M3: =Time!M$59 -> Forecast | N3: =Time!N$59 -> Forecast | O3: =Time!O$59 -> Forecast | P3: =Time!P$59 -> Forecast | Q3: =Time!Q$59 -> Forecast | R3: =Time!R$59 -> Post-Fcst
J4: =Time!J$86 -> 2018 | K4: =Time!K$86 -> 2019 | L4: =Time!L$86 -> 2020 | M4: =Time!M$86 -> 2021 | N4: =Time!N$86 -> 2022 | O4: =Time!O$86 -> 2023 | P4: =Time!P$86 -> 2024 | Q4: =Time!Q$86 -> 2025 | R4: =Time!R$86 -> 2026
E6: =Time!E$11 -> Model column counter | F6: Constant | G6: Unit | H6: Total | J6: =Time!J$11 -> 1 | K6: =Time!K$11 -> 2 | L6: =Time!L$11 -> 3 | M6: =Time!M$11 -> 4 | N6: =Time!N$11 -> 5 | O6: =Time!O$11 -> 6 | P6: =Time!P$11 -> 7 | Q6: =Time!Q$11 -> 8 | R6: =Time!R$11 -> 9
A8: FORECAST POSITION AT PR19 FINAL DETERMINATION
C10: This section replicates the RCV calculations in the PR19 final determination financial model.
B12: Forecast inflation
E13: =Index!E$48 -> CPI(H): Fin year average - percentage increase - final determination | F13: =Index!F$48 -> 0 | G13: =Index!G$48 -> % | H13: =Index!H$48 -> 0 | I13: =Index!I$48 -> 0 | J13: =Index!J$48 -> 0 | K13: =Index!K$48 -> 0.021269791 | L13: =Index!L$48 -> 0.019909655 | ... R13: =Index!R$48 -> 0.02
E14: =Index!E$71 -> Forecast RPI/CPIH wedge - final determination | F14: =Index!F$71 -> 0 | G14: =Index!G$71 -> % | H14: =Index!H$71 -> 0 | I14: =Index!I$71 -> 0 | J14: =Index!J$71 -> 0 | K14: =Index!K$71 -> -0.021269791 | L14: =Index!L$71 -> 0.011612485 | ... R14: =Index!R$71 -> 0.01
E15: Forecast Indexation percentage | G15: % | J15: =SUM(J13:J14) -> 0 | K15: =SUM(K13:K14) -> 0 | L15: =SUM(L13:L14) -> 0.031522141 | M15: =SUM(M13:M14) -> 0.024258092 | N15: =SUM(N13:N14) -> 0.029587649 | O15: =SUM(O13:O14) -> 0.031503683 | P15: =SUM(P13:P14) -> 0.032 | Q15: =SUM(Q13:Q14) -> 0.032 | R15: =SUM(R13:R14) -> 0.03
E17: =Time!E$40 -> Acquisition / initial balance date flag | F17: =Time!F$40 -> 0 | G17: =Time!G$40 -> flag | H17: =Time!H$40 -> 1 | I17: =Time!I$40 -> 0 | J17: =Time!J$40 -> 0 | K17: =Time!K$40 -> 0 | L17: =Time!L$40 -> 1 | ... R17: =Time!R$40 -> 0
E18: =Index!E$48 -> CPI(H): Fin year average - percentage increase - final determination | F18: =Index!F$48 -> 0 | G18: =Index!G$48 -> % | H18: =Index!H$48 -> 0 | I18: =Index!I$48 -> 0 | J18: =Index!J$48 -> 0 | K18: =Index!K$48 -> 0.021269791 | L18: =Index!L$48 -> 0.019909655 | ... R18: =Index!R$48 -> 0.02
E19: Cumulative CPIH inflation | J19: =IF(J17=1,1,I19*(1+J18)) -> 0 | K19: =IF(K17=1,1,J19*(1+K18)) -> 0 | L19: =IF(L17=1,1,K19*(1+L18)) -> 1 | M19: =IF(M17=1,1,L19*(1+M18)) -> 1.0198336 | N19: =IF(N17=1,1,M19*(1+N18)) -> 1.0402731 | O19: =IF(O17=1,1,N19*(1+O18)) -> 1.0618601 | P19: =IF(P17=1,1,O19*(1+P18)) -> 1.0841592 | Q19: =IF(Q17=1,1,P19*(1+Q18)) -> 1.1069265 | R19: =IF(R17=1,1,Q19*(1+R18)) -> 1.129065
B21: Forecast RCV balance
E22: =E$34 -> Forecast Nominal RCV balance BEG | F22: =F$34 -> 0 | G22: =G$34 -> £m | H22: =H$34 -> 0 | I22: =I$34 -> 0 | J22: =J$34 -> 0 | K22: =K$34 -> 0 | L22: =L$34 -> 0 | ... R22: =R$34 -> 0
E23: =E$15 -> Forecast Indexation percentage | F23: =F$15 -> 0 | G23: =G$15 -> % | H23: =H$15 -> 0 | I23: =I$15 -> 0 | J23: =J$15 -> 0 | K23: =K$15 -> 0 | L23: =L$15 -> 0.031522141 | ... R23: =R$15 -> 0.03
E24: Forecast RCV indexation | G24: £m | J24: =J22*J23 -> 0 | K24: =K22*K23 -> 0 | L24: =L22*L23 -> 0 | M24: =M22*M23 -> 0 | N24: =N22*N23 -> 0 | O24: =O22*O23 -> 0 | P24: =P22*P23 -> 0 | Q24: =Q22*Q23 -> 0 | R24: =R22*R23 -> 0
E26: =InpR!E$96 -> Run-off rate - CPI(H) + RPI wedge - active - WWN | F26: =InpR!F$96 -> 0 | G26: =InpR!G$96 -> % | H26: =InpR!I$96 -> PR19 Financial model, 'F_OutputsMaster' sheet row 959, PR19FM2096POST | I26: =InpR!#REF! -> #REF! | J26: =InpR!J$96 -> 0 | K26: =InpR!K$96 -> 0 | L26: =InpR!L$96 -> 0 | M26: =InpR!M$96 -> 0 | N26: =InpR!N$96 -> 0 | O26: =InpR!O$96 -> 0 | P26: =InpR!P$96 -> 0 | Q26: =InpR!Q$96 -> 0 | R26: =InpR!R$96 -> 0
