Workbook

Sheet Cover sheet
A1: This Excel workbook was originally created by Anglian Water as part of its response to the CMA's Provisional Findings (27 October 2020). It is relevant to section 5.2 of that document (paragraphs 98-105, pages 18-19) and Annex PF004 Large works cost adjustment claim.
A2: It has been updated to include data from 2021 & 2022 for use in its PR24 Large Works Cost Adjustment Claim
A4: The purposes of this workbook are:
A5: 1. To disaggregate Ofwat's Band 6 Water Recycling Centres into five separate size bands and compute the unit costs for all WaSCs for each Band.
A6: 2. To use the computed unit cost data as the basis for a Cost Adjustment Claim to take account the impact on Anglian Water's Water Recycling costs caused by its lack of large WRCs, which in turn is due to its (exogenous) demographics.
A8: The disaggregation is into the following Bands:
A9: Band 6 (revised): 25,000<p.e.<125,000
A10: Band 7: 125,000<p.e.<250,000
A11: Band 8: 250,000<p.e.<500,000
A12: Band 9: 500,000<p.e.<1,000,000
A13: Band 10: p.e.>1,000,000
A15: Unit costs are calculated for the following years. In each case, the data source is shown.
... A38: 7. Graphs of percentage of load by Band

Sheet CAC
B2: Calculate expected costs based on average load per Band & lower of Actual or UQ costs
A4: 1 | B4: Total load (kg/day)
C5: {=+TRANSPOSE(Outputs!A$4:A$13)} -> ANH | D5: NES | E5: UU | F5: SRN | G5: SVT | H5: SWB | I5: TMS | J5: WSH | K5: WSX | L5: YKY
B6: 2022 | C6: =Outputs!$L50 -> 438379 | D6: =Outputs!$L51 -> 180522 | E6: =Outputs!$L52 -> 556198 | F6: =Outputs!$L53 -> 295908 | G6: =Outputs!$L54 -> 623650 | H6: =Outputs!$L55 -> 110077 | I6: =Outputs!$L56 -> 967625 | J6: =Outputs!$L57 -> 248375 | K6: =Outputs!$L58 -> 204350 | L6: =Outputs!$L59 -> 360966
B7: 2021 | C7: =Outputs!$Z50 -> 430209 | D7: =Outputs!$Z51 -> 167700 | E7: =Outputs!$Z52 -> 547298 | F7: =Outputs!$Z53 -> 300850 | G7: =Outputs!$Z54 -> 623157 | H7: =Outputs!$Z55 -> 109287 | I7: =Outputs!$Z56 -> 954060 | J7: =Outputs!$Z57 -> 234352 | K7: =Outputs!$Z58 -> 204341 | L7: =Outputs!$Z59 -> 349007
B8: 2020 | C8: =Outputs!$AN50 -> 434525.86 | D8: =Outputs!$AN51 -> 179826.51 | E8: =Outputs!$AN52 -> 546253.46 | F8: =Outputs!$AN53 -> 300315 | G8: =Outputs!$AN54 -> 632980.99 | H8: =Outputs!$AN55 -> 109433 | I8: =Outputs!$AN56 -> 981891.93 | J8: =Outputs!$AN57 -> 248455 | K8: =Outputs!$AN58 -> 197210.28 | L8: =Outputs!$AN59 -> 361199
B9: 2019 | C9: =Outputs!$BB50 -> 428974.87 | D9: =Outputs!$BB51 -> 178350 | E9: =Outputs!$BB52 -> 550281.45 | F9: =Outputs!$BB53 -> 297937 | G9: =Outputs!$BB54 -> 629762.37 | H9: =Outputs!$BB55 -> 107426.71 | I9: =Outputs!$BB56 -> 955325.48 | J9: =Outputs!$BB57 -> 246025 | K9: =Outputs!$BB58 -> 190107.86 | L9: =Outputs!$BB59 -> 349865
B10: 2018 | C10: =Outputs!$BP50 -> 417946 | D10: =Outputs!$BP51 -> 177871 | E10: =Outputs!$BP52 -> 546892.69 | F10: =Outputs!$BP53 -> 296193.99 | G10: =Outputs!$BP54 -> 616752 | H10: =Outputs!$BP55 -> 106303 | I10: =Outputs!$BP56 -> 970143.98 | J10: =Outputs!$BP57 -> 245516.47 | K10: =Outputs!$BP58 -> 182334.08 | L10: =Outputs!$BP59 -> 343766
B11: 2017 | C11: =Outputs!$CD50 -> 418392.8 | D11: =Outputs!$CD51 -> 177756 | E11: =Outputs!$CD52 -> 537708.88 | F11: =Outputs!$CD53 -> 292432.49 | G11: =Outputs!$CD54 -> 611764.92 | H11: =Outputs!$CD55 -> 105401.21 | I11: =Outputs!$CD56 -> 960571.53 | J11: =Outputs!$CD57 -> 250453 | K11: =Outputs!$CD58 -> 185627.53 | L11: =Outputs!$CD59 -> 368289.76
A13: 2 | B13: Industry Average Load distribution by Band size
B15: Band | C15: 1 | D15: 2 | E15: 3 | F15: 4 | G15: 5 | H15: 6 | I15: 7 | J15: 8 | K15: 9 | L15: 10
B16: 2022 | C16: =Outputs!B74 -> 0.0040762158 | D16: =Outputs!C74 -> 0.0040139988 | E16: =Outputs!D74 -> 0.01900503 | F16: =Outputs!E74 -> 0.060875804 | G16: =Outputs!F74 -> 0.082746077 | H16: =Outputs!G74 -> 0.25343159 | I16: =Outputs!H74 -> 0.14326388 | J16: =Outputs!I74 -> 0.13358889 | ... L16: =Outputs!K74 -> 0.16133817
B17: 2021 | C17: =Outputs!P74 -> 0.003976521 | D17: =Outputs!Q74 -> 0.004006621 | E17: =Outputs!R74 -> 0.019241321 | F17: =Outputs!S74 -> 0.061392851 | G17: =Outputs!T74 -> 0.08386814 | H17: =Outputs!U74 -> 0.26723323 | I17: =Outputs!V74 -> 0.14094164 | J17: =Outputs!W74 -> 0.14458017 | ... L17: =Outputs!Y74 -> 0.16357431
B18: 2020 | C18: =Outputs!AD74 -> 0.0039170486 | D18: =Outputs!AE74 -> 0.0039842038 | E18: =Outputs!AF74 -> 0.019146394 | F18: =Outputs!AG74 -> 0.062169075 | G18: =Outputs!AH74 -> 0.082656754 | H18: =Outputs!AI74 -> 0.25684972 | I18: =Outputs!AJ74 -> 0.13859554 | J18: =Outputs!AK74 -> 0.14574818 | ... L18: =Outputs!AM74 -> 0.16327984
B19: 2019 | C19: =Outputs!AR74 -> 0.003938782 | D19: =Outputs!AS74 -> 0.0039889242 | E19: =Outputs!AT74 -> 0.01902364 | F19: =Outputs!AU74 -> 0.062957475 | G19: =Outputs!AV74 -> 0.082365046 | H19: =Outputs!AW74 -> 0.25712339 | I19: =Outputs!AX74 -> 0.14260144 | J19: =Outputs!AY74 -> 0.1436515 | ... L19: =Outputs!BA74 -> 0.16224885
B20: 2018 | C20: =Outputs!BF74 -> 0.0039708955 | D20: =Outputs!BG74 -> 0.0040644873 | E20: =Outputs!BH74 -> 0.019208083 | F20: =Outputs!BI74 -> 0.064217195 | G20: =Outputs!BJ74 -> 0.080557773 | H20: =Outputs!BK74 -> 0.26420945 | I20: =Outputs!BL74 -> 0.13487164 | J20: =Outputs!BM74 -> 0.14403287 | ... L20: =Outputs!BO74 -> 0.16220864
B21: 2017 | C21: =Outputs!BT74 -> 0.0039942169 | D21: =Outputs!BU74 -> 0.0041266679 | E21: =Outputs!BV74 -> 0.019270344 | F21: =Outputs!BW74 -> 0.063422192 | G21: =Outputs!BX74 -> 0.082509852 | H21: =Outputs!BY74 -> 0.26088971 | I21: =Outputs!BZ74 -> 0.13469585 | J21: =Outputs!CA74 -> 0.13780605 | ... L21: =Outputs!CC74 -> 0.15763108
A23: 3 | B23: Load distribution based on industry averages
B25: Anglian
B26: Band | C26: 1 | D26: 2 | E26: 3 | F26: 4 | G26: 5 | H26: 6 | I26: 7 | J26: 8 | K26: 9 | L26: 10
B27: 2022 | C27: =$C6*C16 -> 1786.9274 | D27: =$C6*D16 -> 1759.6528 | E27: =$C6*E16 -> 8331.4061 | F27: =$C6*F16 -> 26686.674 | G27: =$C6*G16 -> 36274.142 | H27: =$C6*H16 -> 111099.09 | I27: =$C6*I16 -> 62803.878 | J27: =$C6*J16 -> 58562.565 | ... L27: =$C6*L16 -> 70727.264
B28: 2021 | C28: =$C7*C17 -> 1710.7351 | D28: =$C7*D17 -> 1723.6844 | E28: =$C7*E17 -> 8277.7894 | F28: =$C7*F17 -> 26411.757 | G28: =$C7*G17 -> 36080.829 | H28: =$C7*H17 -> 114966.14 | I28: =$C7*I17 -> 60634.36 | J28: =$C7*J17 -> 62199.69 | ... L28: =$C7*L17 -> 70371.142
B29: 2020 | C29: =$C8*C18 -> 1702.0589 | D29: =$C8*D18 -> 1731.2396 | E29: =$C8*E18 -> 8319.6032 | F29: =$C8*F18 -> 27014.071 | G29: =$C8*G18 -> 35916.497 | H29: =$C8*H18 -> 111607.85 | I29: =$C8*I18 -> 60223.345 | J29: =$C8*J18 -> 63331.353 | ... L29: =$C8*L18 -> 70949.315
B30: 2019 | C30: =$C9*C19 -> 1689.6385 | D30: =$C9*D19 -> 1711.1482 | E30: =$C9*E19 -> 8160.6634 | F30: =$C9*F19 -> 27007.174 | G30: =$C9*G19 -> 35332.535 | H30: =$C9*H19 -> 110299.47 | I30: =$C9*I19 -> 61172.433 | J30: =$C9*J19 -> 61622.883 | ... L30: =$C9*L19 -> 69600.677
B31: 2018 | C31: =$C10*C20 -> 1659.6199 | D31: =$C10*D20 -> 1698.7362 | E31: =$C10*E20 -> 8027.9416 | F31: =$C10*F20 -> 26839.32 | G31: =$C10*G20 -> 33668.799 | H31: =$C10*H20 -> 110425.28 | I31: =$C10*I20 -> 56369.061 | J31: =$C10*J20 -> 60197.962 | ... L31: =$C10*L20 -> 67794.454
B32: 2017 | C32: =$C11*C21 -> 1671.1516 | D32: =$C11*D21 -> 1726.5681 | E32: =$C11*E21 -> 8062.5734 | F32: =$C11*F21 -> 26535.389 | G32: =$C11*G21 -> 34521.528 | H32: =$C11*H21 -> 109154.38 | I32: =$C11*I21 -> 56355.773 | J32: =$C11*J21 -> 57657.061 | ... L32: =$C11*L21 -> 65951.707
B34: Northumbrian
B35: Band | C35: 1 | D35: 2 | E35: 3 | F35: 4 | G35: 5 | H35: 6 | I35: 7 | J35: 8 | K35: 9 | L35: 10
B36: 2022 | C36: =$D6*C16 -> 735.84663 | D36: =$D6*D16 -> 724.6151 | E36: =$D6*E16 -> 3430.826 | F36: =$D6*F16 -> 10989.422 | G36: =$D6*G16 -> 14937.487 | H36: =$D6*H16 -> 45749.978 | I36: =$D6*I16 -> 25862.283 | J36: =$D6*J16 -> 24115.734 | ... L36: =$D6*L16 -> 29125.089
B37: 2021 | C37: =$D7*C17 -> 666.86256 | D37: =$D7*D17 -> 671.91034 | E37: =$D7*E17 -> 3226.7695 | F37: =$D7*F17 -> 10295.581 | G37: =$D7*G17 -> 14064.687 | H37: =$D7*H17 -> 44815.012 | I37: =$D7*I17 -> 23635.912 | J37: =$D7*J17 -> 24246.094 | ... L37: =$D7*L17 -> 27431.412
B38: 2020 | C38: =$D8*C18 -> 704.38918 | D38: =$D8*D18 -> 716.46546 | E38: =$D8*E18 -> 3443.0291 | F38: =$D8*F18 -> 11179.648 | G38: =$D8*G18 -> 14863.875 | H38: =$D8*H18 -> 46188.389 | I38: =$D8*I18 -> 24923.151 | J38: =$D8*J18 -> 26209.386 | ... L38: =$D8*L18 -> 29362.044
B39: 2019 | C39: =$D9*C19 -> 702.48177 | D39: =$D9*D19 -> 711.42462 | E39: =$D9*E19 -> 3392.8661 | F39: =$D9*F19 -> 11228.466 | G39: =$D9*G19 -> 14689.806 | H39: =$D9*H19 -> 45857.957 | I39: =$D9*I19 -> 25432.966 | J39: =$D9*J19 -> 25620.245 | ... L39: =$D9*L19 -> 28937.082
B40: 2018 | C40: =$D10*C20 -> 706.30715 | D40: =$D10*D20 -> 722.95442 | E40: =$D10*E20 -> 3416.561 | F40: =$D10*F20 -> 11422.377 | G40: =$D10*G20 -> 14328.892 | H40: =$D10*H20 -> 46995.2 | I40: =$D10*I20 -> 23989.753 | J40: =$D10*J20 -> 25619.271 | ... L40: =$D10*L20 -> 28852.214
B41: 2017 | C41: =$D11*C21 -> 709.99603 | D41: =$D11*D21 -> 733.53998 | E41: =$D11*E21 -> 3425.4193 | F41: =$D11*F21 -> 11273.675 | G41: =$D11*G21 -> 14666.621 | H41: =$D11*H21 -> 46374.711 | I41: =$D11*I21 -> 23942.995 | J41: =$D11*J21 -> 24495.853 | ... L41: =$D11*L21 -> 28019.869
B43: UU
B44: Band | C44: 1 | D44: 2 | E44: 3 | F44: 4 | G44: 5 | H44: 6 | I44: 7 | J44: 8 | K44: 9 | L44: 10
B45: 2022 | C45: =$E6*C16 -> 2267.1831 | D45: =$E6*D16 -> 2232.5781 | E45: =$E6*E16 -> 10570.56 | F45: =$E6*F16 -> 33859.001 | G45: =$E6*G16 -> 46023.203 | H45: =$E6*H16 -> 140958.14 | I45: =$E6*I16 -> 79683.085 | J45: =$E6*J16 -> 74301.874 | ... L45: =$E6*L16 -> 89735.966
B46: 2021 | C46: =$E7*C17 -> 2176.342 | D46: =$E7*D17 -> 2192.8157 | E46: =$E7*E17 -> 10530.736 | F46: =$E7*F17 -> 33600.185 | G46: =$E7*G17 -> 45900.866 | H46: =$E7*H17 -> 146256.21 | I46: =$E7*I17 -> 77137.076 | J46: =$E7*J17 -> 79128.438 | ... L46: =$E7*L17 -> 89523.894
B47: 2020 | C47: =$E8*C18 -> 2139.7014 | D47: =$E8*D18 -> 2176.3851 | E47: =$E8*E18 -> 10458.784 | F47: =$E8*F18 -> 33960.073 | G47: =$E8*G18 -> 45151.538 | H47: =$E8*H18 -> 140305.05 | I47: =$E8*I18 -> 75708.292 | J47: =$E8*J18 -> 79615.448 | ... L47: =$E8*L18 -> 89192.18
B48: 2019 | C48: =$E9*C19 -> 2167.4387 | D48: =$E9*D19 -> 2195.031 | E48: =$E9*E19 -> 10468.356 | F48: =$E9*F19 -> 34644.33 | G48: =$E9*G19 -> 45323.957 | H48: =$E9*H19 -> 141490.23 | I48: =$E9*I19 -> 78470.925 | J48: =$E9*J19 -> 79048.755 | ... L48: =$E9*L19 -> 89282.53
...

Sheet Outputs
A1: In 17/18 PB | O1: In 17/18 PB | AC1: In 17/18 PB | AQ1: In 17/18 PB | BE1: In 17/18 PB | BS1: In 17/18 PB | CG1: In 17/18 PB | CU1: In 17/18 PB
A2: Unit costs 2022 £/kg | B2: Band 1 | C2: Band 2 | D2: Band 3 | E2: Band 4 | F2: Band 5 | G2: Band 6 mod | H2: Band 7 | I2: Band 8 | J2: Band 9 | K2: Band 10 | L2: Total | M2: Ofwat B6 | O2: Unit costs 2021 £/kg | P2: Band 1 | Q2: Band 2 | R2: Band 3 | S2: Band 4 | T2: Band 5 | U2: Band 6 mod | V2: Band 7 | W2: Band 8 | X2: Band 9 | Y2: Band 10 | Z2: Total | AA2: Ofwat B6 | AC2: Unit costs 2020 £/kg | AD2: Band 1 | AE2: Band 2 | AF2: Band 3 | AG2: Band 4 | AH2: Band 5 | AI2: Band 6 mod | AJ2: Band 7 | AK2: Band 8 | AL2: Band 9 | AM2: Band 10 | AN2: Total | AO2: Ofwat B6 | AQ2: Unit costs 2019 £/kg | AR2: Band 1 | AS2: Band 2 | AT2: Band 3 | AU2: Band 4 | AV2: Band 5 | AW2: Band 6 mod | AX2: Band 7 | AY2: Band 8 | AZ2: Band 9 | BA2: Band 10 | BB2: Total | BC2: Ofwat B6 | BE2: Unit costs 2018 £/kg | BF2: Band 1 | BG2: Band 2 | BH2: Band 3 | BI2: Band 4 | BJ2: Band 5 | BK2: Band 6 mod | BL2: Band 7 | BM2: Band 8 | BN2: Band 9 | BO2: Band 10 | BP2: Total | BQ2: Ofwat B6 | BS2: Unit costs 2017 £/kg | BT2: Band 1 | BU2: Band 2 | BV2: Band 3 | BW2: Band 4 | BX2: Band 5 | BY2: Band 6 mod | BZ2: Band 7 | CA2: Band 8 | CB2: Band 9 | CC2: Band 10 | CD2: Total | CE2: Ofwat B6 | CG2: Unit costs 2013 £/kg | CH2: Band 1 | CI2: Band 2 | CJ2: Band 3 | CK2: Band 4 | CL2: Band 5 | CM2: Band 6 mod | CN2: Band 7 | CO2: Band 8 | CP2: Band 9 | CQ2: Band 10 | CR2: Total | CS2: Ofwat B6 | CU2: Unit costs 2012 £/kg | CV2: Band 1 | CW2: Band 2 | CX2: Band 3 | CY2: Band 4 | CZ2: Band 5 | DA2: Band 6 mod | DB2: Band 7 | DC2: Band 8 | DD2: Band 9 | DE2: Band 10 | DF2: Total | DG2: Ofwat B6
A3: p.e. in Band | B3: <250 | C3: 250-500 | D3: 500-2,000 | E3: 2k - 10k | F3: 10k - 25k | G3: 25k - 125k | H3: 125k-250k | I3: 250k-500k | J3: 500k - 1m | K3: >1m | M3: > 25k | O3: p.e. in Band | P3: <250 | Q3: 250-500 | R3: 500-2,000 | S3: 2k - 10k | T3: 10k - 25k | U3: 25k - 125k | V3: 125k-250k | W3: 250k-500k | X3: 500k - 1m | Y3: >1m | AA3: > 25k | AC3: p.e. in Band | AD3: <250 | AE3: 250-500 | AF3: 500-2,000 | AG3: 2k - 10k | AH3: 10k - 25k | AI3: 25k - 125k | AJ3: 125k-250k | AK3: 250k-500k | AL3: 500k - 1m | AM3: >1m | AO3: > 25k | AQ3: p.e. in Band | AR3: <250 | AS3: 250-500 | AT3: 500-2,000 | AU3: 2k - 10k | AV3: 10k - 25k | AW3: 25k - 125k | AX3: 125k-250k | AY3: 250k-500k | AZ3: 500k - 1m | BA3: >1m | BC3: > 25k | BE3: p.e. in Band | BF3: <250 | BG3: 250-500 | BH3: 500-2,000 | BI3: 2k - 10k | BJ3: 10k - 25k | BK3: 25k - 125k | BL3: 125k-250k | BM3: 250k-500k | BN3: 500k - 1m | BO3: >1m | BQ3: > 25k | BS3: p.e. in Band | BT3: <250 | BU3: 250-500 | BV3: 500-2,000 | BW3: 2k - 10k | BX3: 10k - 25k | BY3: 25k - 125k | BZ3: 125k-250k | CA3: 250k-500k | CB3: 500k - 1m | CC3: >1m | CE3: > 25k | CG3: p.e. in Band | CH3: <250 | CI3: 250-500 | CJ3: 500-2,000 | CK3: 2k - 10k | CL3: 10k - 25k | CM3: 25k - 125k | CN3: 125k-250k | CO3: 250k-500k | CP3: 500k - 1m | CQ3: >1m | CS3: > 25k | CU3: p.e. in Band | CV3: <250 | CW3: 250-500 | CX3: 500-2,000 | CY3: 2k - 10k | CZ3: 10k - 25k | DA3: 25k - 125k | DB3: 125k-250k | DC3: 250k-500k | DD3: 500k - 1m | DE3: >1m | DG3: > 25k
A4: ANH | B4: =IF(B50,B119*1000/(B50*365),"") -> 4.0845646 | C4: =IF(C50,C119*1000/(C50*365),"") -> 2.9918977 | D4: =IF(D50,D119*1000/(D50*365),"") -> 1.6082778 | E4: =IF(E50,E119*1000/(E50*365),"") -> 1.0238777 | F4: =IF(F50,F119*1000/(F50*365),"") -> 0.7265687 | G4: =IF(G50,G119*1000/(G50*365),"") -> 0.48271474 | H4: =IF(H50,H119*1000/(H50*365),"") -> 0.41617013 | I4: =IF(I50,I119*1000/(I50*365),"") -> 0.38627332 | ... K4: =IF(K50,K119*1000/(K50*365),"") | L4: =L119*1000/(L50*365) -> 0.64473885 | M4: =M119*1000/(M50*365) -> 0.43329949 | N4: =1-I4/M4 -> 0.10853043 | O4: ANH | P4: =IF(P50,P119*1000/(P50*365),"") -> 3.8890964 | Q4: =IF(Q50,Q119*1000/(Q50*365),"") -> 2.8136905 | R4: =IF(R50,R119*1000/(R50*365),"") -> 1.7314712 | S4: =IF(S50,S119*1000/(S50*365),"") -> 1.0479665 | T4: =IF(T50,T119*1000/(T50*365),"") -> 0.74017965 | U4: =IF(U50,U119*1000/(U50*365),"") -> 0.56594654 | V4: =IF(V50,V119*1000/(V50*365),"") -> 0.44777873 | W4: =IF(W50,W119*1000/(W50*365),"") -> 0.43995284 | ... Y4: =IF(Y50,Y119*1000/(Y50*365),"") | Z4: =Z119*1000/(Z50*365) -> 0.68907789 | AA4: =AA119*1000/(AA50*365) -> 0.48686256 | AC4: ANH | AD4: =IF(AD50,AD119*1000/(AD50*365),"") -> 4.4263075 | AE4: =IF(AE50,AE119*1000/(AE50*365),"") -> 3.0563622 | AF4: =IF(AF50,AF119*1000/(AF50*365),"") -> 1.6610078 | AG4: =IF(AG50,AG119*1000/(AG50*365),"") -> 1.0792638 | AH4: =IF(AH50,AH119*1000/(AH50*365),"") -> 0.75040044 | AI4: =IF(AI50,AI119*1000/(AI50*365),"") -> 0.55151159 | AJ4: =IF(AJ50,AJ119*1000/(AJ50*365),"") -> 0.490884 | AK4: =IF(AK50,AK119*1000/(AK50*365),"") -> 0.42650765 | ... AM4: =IF(AM50,AM119*1000/(AM50*365),"") | AN4: =AN119*1000/(AN50*365) -> 0.70564469 | AO4: =AO119*1000/(AO50*365) -> 0.50256699 | AP4: =AO4/AK4-1 -> 0.17833053 | AQ4: ANH | AR4: =IF(AR50,AR119*1000/(AR50*365),"") -> 4.1460295 | AS4: =IF(AS50,AS119*1000/(AS50*365),"") -> 3.0216576 | AT4: =IF(AT50,AT119*1000/(AT50*365),"") -> 1.6747026 | AU4: =IF(AU50,AU119*1000/(AU50*365),"") -> 1.066408 | AV4: =IF(AV50,AV119*1000/(AV50*365),"") -> 0.69861004 | AW4: =IF(AW50,AW119*1000/(AW50*365),"") -> 0.69146269 | AX4: =IF(AX50,AX119*1000/(AX50*365),"") -> 0.46237505 | AY4: =IF(AY50,AY119*1000/(AY50*365),"") -> 0.41844868 | ... BA4: =IF(BA50,BA119*1000/(BA50*365),"") | BB4: =BB119*1000/(BB50*365) -> 0.72186711 | BC4: =BC119*1000/(BC50*365) -> 0.54354767 | BE4: ANH | BF4: =IF(BF50,BF119*1000/(BF50*365),"") -> 3.9310786 | BG4: =IF(BG50,BG119*1000/(BG50*365),"") -> 2.843775 | BH4: =IF(BH50,BH119*1000/(BH50*365),"") -> 1.4261937 | BI4: =IF(BI50,BI119*1000/(BI50*365),"") -> 0.84662667 | BJ4: =IF(BJ50,BJ119*1000/(BJ50*365),"") -> 0.64810183 | BK4: =IF(BK50,BK119*1000/(BK50*365),"") -> 0.55447596 | BL4: =IF(BL50,BL119*1000/(BL50*365),"") -> 0.5156002 | BM4: =IF(BM50,BM119*1000/(BM50*365),"") -> 0.37157726 | ... BO4: =IF(BO50,BO119*1000/(BO50*365),"") | BP4: =BP119*1000/(BP50*365) -> 0.64957595 | BQ4: =BQ119*1000/(BQ50*365) -> 0.50289836 | BS4: ANH | BT4: =IF(BT50,BT119*1000/(BT50*365),"") -> 4.159701 | BU4: =IF(BU50,BU119*1000/(BU50*365),"") -> 2.8268434 | BV4: =IF(BV50,BV119*1000/(BV50*365),"") -> 1.5949036 | BW4: =IF(BW50,BW119*1000/(BW50*365),"") -> 0.97811312 | BX4: =IF(BX50,BX119*1000/(BX50*365),"") -> 0.74608247 | BY4: =IF(BY50,BY119*1000/(BY50*365),"") -> 0.69232395 | BZ4: =IF(BZ50,BZ119*1000/(BZ50*365),"") -> 0.55628737 | CA4: =IF(CA50,CA119*1000/(CA50*365),"") -> 0.42292349 | ... CC4: =IF(CC50,CC119*1000/(CC50*365),"") | CD4: =CD119*1000/(CD50*365) -> 0.74492464 | CE4: =CE119*1000/(CE50*365) -> 0.58669714 | CG4: ANH | CH4: =IF(CH50,CH119*1000/(CH50*365),"") -> 3.8859314 | CI4: =IF(CI50,CI119*1000/(CI50*365),"") -> 2.3919861 | CJ4: =IF(CJ50,CJ119*1000/(CJ50*365),"") -> 1.5487684 | CK4: =IF(CK50,CK119*1000/(CK50*365),"") -> 0.9130077 | CL4: =IF(CL50,CL119*1000/(CL50*365),"") -> 0.69223095 | CM4: =IF(CM50,CM119*1000/(CM50*365),"") -> 0.59649866 | CN4: =IF(CN50,CN119*1000/(CN50*365),"") -> 0.44206669 | CO4: =IF(CO50,CO119*1000/(CO50*365),"") -> 0.31559517 | ... CQ4: =IF(CQ50,CQ119*1000/(CQ50*365),"") | CR4: =CR119*1000/(CR50*365) -> 0.64966178 | CS4: =CS119*1000/(CS50*365) -> 0.4784649 | CU4: ANH | CV4: =IF(CV50,CV119*1000/(CV50*365),"") -> 4.1423483 | CW4: =IF(CW50,CW119*1000/(CW50*365),"") -> 2.3335099 | CX4: =IF(CX50,CX119*1000/(CX50*365),"") -> 1.5841676 | CY4: =IF(CY50,CY119*1000/(CY50*365),"") -> 0.84697529 | CZ4: =IF(CZ50,CZ119*1000/(CZ50*365),"") -> 0.62605138 | DA4: =IF(DA50,DA119*1000/(DA50*365),"") -> 0.59009704 | DB4: =IF(DB50,DB119*1000/(DB50*365),"") -> 0.43635925 | DC4: =IF(DC50,DC119*1000/(DC50*365),"") -> 0.33097463 | ... DE4: =IF(DE50,DE119*1000/(DE50*365),"") | DF4: =DF119*1000/(DF50*365) -> 0.63284289 | DG4: =DG119*1000/(DG50*365) -> 0.48078073
A5: NES | B5: =IF(B51,B120*1000/(B51*365),"") -> 5.7314493 | C5: =IF(C51,C120*1000/(C51*365),"") -> 3.2163273 | D5: =IF(D51,D120*1000/(D51*365),"") -> 1.3442866 | E5: =IF(E51,E120*1000/(E51*365),"") -> 1.2141658 | F5: =IF(F51,F120*1000/(F51*365),"") -> 0.65665293 | G5: =IF(G51,G120*1000/(G51*365),"") -> 0.78338482 | H5: =IF(H51,H120*1000/(H51*365),"") -> 0.24174573 | I5: =IF(I51,I120*1000/(I51*365),"") -> 0.38285653 | ... K5: =IF(K51,K120*1000/(K51*365),"") | L5: =L120*1000/(L51*365) -> 0.74397253 | M5: =M120*1000/(M51*365) -> 0.67045681 | N5: =1-J5/M5 -> -0.14739763 | O5: NES | P5: =IF(P51,P120*1000/(P51*365),"") -> 4.333764 | Q5: =IF(Q51,Q120*1000/(Q51*365),"") -> 3.021736 | R5: =IF(R51,R120*1000/(R51*365),"") -> 1.6790909 | S5: =IF(S51,S120*1000/(S51*365),"") -> 1.0975305 | T5: =IF(T51,T120*1000/(T51*365),"") -> 0.8309585 | U5: =IF(U51,U120*1000/(U51*365),"") -> 0.59911892 | V5: =IF(V51,V120*1000/(V51*365),"") -> 0.4895935 | W5: =IF(W51,W120*1000/(W51*365),"") -> 1.2307001 | ... Y5: =IF(Y51,Y120*1000/(Y51*365),"") | Z5: =Z120*1000/(Z51*365) -> 0.7474385 | AA5: =AA120*1000/(AA51*365) -> 0.66439337 | AC5: NES | AD5: =IF(AD51,AD120*1000/(AD51*365),"") -> 3.8266474 | AE5: =IF(AE51,AE120*1000/(AE51*365),"") -> 2.5616602 | AF5: =IF(AF51,AF120*1000/(AF51*365),"") -> 1.4836406 | AG5: =IF(AG51,AG120*1000/(AG51*365),"") -> 1.1462243 | AH5: =IF(AH51,AH120*1000/(AH51*365),"") -> 0.65169037 | AI5: =IF(AI51,AI120*1000/(AI51*365),"") -> 0.49047539 | AJ5: =IF(AJ51,AJ120*1000/(AJ51*365),"") -> 0.54237456 | AK5: =IF(AK51,AK120*1000/(AK51*365),"") -> 1.0265519 | ... AM5: =IF(AM51,AM120*1000/(AM51*365),"") | AN5: =AN120*1000/(AN51*365) -> 0.65532194 | AO5: =AO120*1000/(AO51*365) -> 0.57612524 | AP5: =AO5/AL5-1 -> 0.22913693 | AQ5: NES | AR5: =IF(AR51,AR120*1000/(AR51*365),"") -> 3.877284 | AS5: =IF(AS51,AS120*1000/(AS51*365),"") -> 3.1968725 | AT5: =IF(AT51,AT120*1000/(AT51*365),"") -> 1.7365305 | AU5: =IF(AU51,AU120*1000/(AU51*365),"") -> 1.0655066 | AV5: =IF(AV51,AV120*1000/(AV51*365),"") -> 0.73872434 | AW5: =IF(AW51,AW120*1000/(AW51*365),"") -> 0.57887459 | AX5: =IF(AX51,AX120*1000/(AX51*365),"") -> 0.48482916 | AY5: =IF(AY51,AY120*1000/(AY51*365),"") -> 1.0746334 | ... BA5: =IF(BA51,BA120*1000/(BA51*365),"") | BB5: =BB120*1000/(BB51*365) -> 0.68114399 | BC5: =BC120*1000/(BC51*365) -> 0.59283145 | BE5: NES | BF5: =IF(BF51,BF120*1000/(BF51*365),"") -> 3.2253866 | BG5: =IF(BG51,BG120*1000/(BG51*365),"") -> 2.5481798 | BH5: =IF(BH51,BH120*1000/(BH51*365),"") -> 1.5203777 | BI5: =IF(BI51,BI120*1000/(BI51*365),"") -> 0.91180168 | BJ5: =IF(BJ51,BJ120*1000/(BJ51*365),"") -> 0.78344547 | BK5: =IF(BK51,BK120*1000/(BK51*365),"") -> 0.54358141 | BL5: =IF(BL51,BL120*1000/(BL51*365),"") -> 0.55252307 | BM5: =IF(BM51,BM120*1000/(BM51*365),"") -> 1.1152937 | ... BO5: =IF(BO51,BO120*1000/(BO51*365),"") | BP5: =BP120*1000/(BP51*365) -> 0.65422201 | BQ5: =BQ120*1000/(BQ51*365) -> 0.58199188 | BS5: NES | BT5: =IF(BT51,BT120*1000/(BT51*365),"") -> 3.7738589 | BU5: =IF(BU51,BU120*1000/(BU51*365),"") -> 2.4309983 | BV5: =IF(BV51,BV120*1000/(BV51*365),"") -> 1.648088 | BW5: =IF(BW51,BW120*1000/(BW51*365),"") -> 0.92490262 | BX5: =IF(BX51,BX120*1000/(BX51*365),"") -> 0.79977572 | BY5: =IF(BY51,BY120*1000/(BY51*365),"") -> 0.56993294 | BZ5: =IF(BZ51,BZ120*1000/(BZ51*365),"") -> 0.48078065 | CA5: =IF(CA51,CA120*1000/(CA51*365),"") -> 1.2451814 | ... CC5: =IF(CC51,CC120*1000/(CC51*365),"") | CD5: =CD120*1000/(CD51*365) -> 0.6731092 | CE5: =CE120*1000/(CE51*365) -> 0.59550109 | CG5: NES | CH5: =IF(CH51,CH120*1000/(CH51*365),"") -> 2.6502362 | CI5: =IF(CI51,CI120*1000/(CI51*365),"") -> 1.6967474 | CJ5: =IF(CJ51,CJ120*1000/(CJ51*365),"") -> 1.375217 | CK5: =IF(CK51,CK120*1000/(CK51*365),"") -> 0.86179262 | CL5: =IF(CL51,CL120*1000/(CL51*365),"") -> 0.68649748 | CM5: =IF(CM51,CM120*1000/(CM51*365),"") -> 0.59835153 | CN5: =IF(CN51,CN120*1000/(CN51*365),"") -> 0.29245578 | CO5: =IF(CO51,CO120*1000/(CO51*365),"") -> 0.27507956 | ... CQ5: =IF(CQ51,CQ120*1000/(CQ51*365),"") | CR5: =CR120*1000/(CR51*365) -> 0.46131368 | CS5: =CS120*1000/(CS51*365) -> 0.38348541 | CU5: NES | CV5: =IF(CV51,CV120*1000/(CV51*365),"") -> 3.1685832 | CW5: =IF(CW51,CW120*1000/(CW51*365),"") -> 2.027901 | CX5: =IF(CX51,CX120*1000/(CX51*365),"") -> 1.5130525 | CY5: =IF(CY51,CY120*1000/(CY51*365),"") -> 0.88239998 | CZ5: =IF(CZ51,CZ120*1000/(CZ51*365),"") -> 0.7667886 | DA5: =IF(DA51,DA120*1000/(DA51*365),"") -> 0.60893351 | DB5: =IF(DB51,DB120*1000/(DB51*365),"") -> 0.31166971 | DC5: =IF(DC51,DC120*1000/(DC51*365),"") -> 0.45982761 | ... DE5: =IF(DE51,DE120*1000/(DE51*365),"") | DF5: =DF120*1000/(DF51*365) -> 0.50516101 | DG5: =DG120*1000/(DG51*365) -> 0.41864128
A6: UU | B6: =IF(B52,B121*1000/(B52*365),"") -> 7.7258341 | C6: =IF(C52,C121*1000/(C52*365),"") -> 3.5696287 | D6: =IF(D52,D121*1000/(D52*365),"") -> 2.8694656 | E6: =IF(E52,E121*1000/(E52*365),"") -> 1.2760425 | F6: =IF(F52,F121*1000/(F52*365),"") -> 0.81393552 | G6: =IF(G52,G121*1000/(G52*365),"") -> 0.61874973 | H6: =IF(H52,H121*1000/(H52*365),"") -> 0.42746009 | I6: =IF(I52,I121*1000/(I52*365),"") -> 0.32554397 | ... K6: =IF(K52,K121*1000/(K52*365),"") -> 0.27965258 | L6: =L121*1000/(L52*365) -> 0.54733971 | M6: =M121*1000/(M52*365) -> 0.44038389 | N6: =1-K6/M6 -> 0.36498 | O6: UU | P6: =IF(P52,P121*1000/(P52*365),"") -> 7.1394119 | Q6: =IF(Q52,Q121*1000/(Q52*365),"") -> 4.5149246 | R6: =IF(R52,R121*1000/(R52*365),"") -> 3.2648162 | S6: =IF(S52,S121*1000/(S52*365),"") -> 1.3242655 | T6: =IF(T52,T121*1000/(T52*365),"") -> 0.8897601 | U6: =IF(U52,U121*1000/(U52*365),"") -> 0.65454233 | V6: =IF(V52,V121*1000/(V52*365),"") -> 0.45508023 | W6: =IF(W52,W121*1000/(W52*365),"") -> 0.35618314 | ... Y6: =IF(Y52,Y121*1000/(Y52*365),"") -> 0.30493452 | Z6: =Z121*1000/(Z52*365) -> 0.60299939 | AA6: =AA121*1000/(AA52*365) -> 0.49069233 | AC6: UU | AD6: =IF(AD52,AD121*1000/(AD52*365),"") -> 8.7471155 | AE6: =IF(AE52,AE121*1000/(AE52*365),"") -> 4.5932835 | AF6: =IF(AF52,AF121*1000/(AF52*365),"") -> 2.8826155 | AG6: =IF(AG52,AG121*1000/(AG52*365),"") -> 1.2323793 | AH6: =IF(AH52,AH121*1000/(AH52*365),"") -> 0.84198728 | AI6: =IF(AI52,AI121*1000/(AI52*365),"") -> 0.61318233 | AJ6: =IF(AJ52,AJ121*1000/(AJ52*365),"") -> 0.46638361 | AK6: =IF(AK52,AK121*1000/(AK52*365),"") -> 0.32108847 | ... AM6: =IF(AM52,AM121*1000/(AM52*365),"") -> 0.28549775 | AN6: =AN121*1000/(AN52*365) -> 0.5629567 | AO6: =AO121*1000/(AO52*365) -> 0.45708159 | AP6: =AO6/AM6-1 -> 0.6009989 | AQ6: UU | AR6: =IF(AR52,AR121*1000/(AR52*365),"") -> 7.4627685 | AS6: =IF(AS52,AS121*1000/(AS52*365),"") -> 3.8983506 | AT6: =IF(AT52,AT121*1000/(AT52*365),"") -> 2.4947424 | AU6: =IF(AU52,AU121*1000/(AU52*365),"") -> 1.0794104 | AV6: =IF(AV52,AV121*1000/(AV52*365),"") -> 0.7242025 | AW6: =IF(AW52,AW121*1000/(AW52*365),"") -> 0.68268505 | AX6: =IF(AX52,AX121*1000/(AX52*365),"") -> 0.39770687 | AY6: =IF(AY52,AY121*1000/(AY52*365),"") -> 0.37520179 | ... BA6: =IF(BA52,BA121*1000/(BA52*365),"") -> 0.19962355 | BB6: =BB121*1000/(BB52*365) -> 0.54000562 | BC6: =BC121*1000/(BC52*365) -> 0.45708626 | BE6: UU | BF6: =IF(BF52,BF121*1000/(BF52*365),"") -> 8.3134432 | BG6: =IF(BG52,BG121*1000/(BG52*365),"") -> 4.2760786 | BH6: =IF(BH52,BH121*1000/(BH52*365),"") -> 2.8299078 | BI6: =IF(BI52,BI121*1000/(BI52*365),"") -> 1.2224135 | BJ6: =IF(BJ52,BJ121*1000/(BJ52*365),"") -> 0.84445631 | BK6: =IF(BK52,BK121*1000/(BK52*365),"") -> 0.66116221 | BL6: =IF(BL52,BL121*1000/(BL52*365),"") -> 0.47649543 | BM6: =IF(BM52,BM121*1000/(BM52*365),"") -> 0.43629415 | ... BO6: =IF(BO52,BO121*1000/(BO52*365),"") -> 0.36300549 | BP6: =BP121*1000/(BP52*365) -> 0.60362037 | BQ6: =BQ121*1000/(BQ52*365) -> 0.50697318 | BS6: UU | BT6: =IF(BT52,BT121*1000/(BT52*365),"") -> 8.2222886 | BU6: =IF(BU52,BU121*1000/(BU52*365),"") -> 3.9134408 | BV6: =IF(BV52,BV121*1000/(BV52*365),"") -> 2.5654648 | BW6: =IF(BW52,BW121*1000/(BW52*365),"") -> 1.1243685 | BX6: =IF(BX52,BX121*1000/(BX52*365),"") -> 0.75670821 | BY6: =IF(BY52,BY121*1000/(BY52*365),"") -> 0.6286178 | BZ6: =IF(BZ52,BZ121*1000/(BZ52*365),"") -> 0.45294142 | CA6: =IF(CA52,CA121*1000/(CA52*365),"") -> 0.39811129 | ... CC6: =IF(CC52,CC121*1000/(CC52*365),"") -> 0.4259484 | CD6: =CD121*1000/(CD52*365) -> 0.57824884 | CE6: =CE121*1000/(CE52*365) -> 0.4930327 | CG6: UU | CH6: =IF(CH52,CH121*1000/(CH52*365),"") -> 7.506588 | CI6: =IF(CI52,CI121*1000/(CI52*365),"") -> 3.8202192 | CJ6: =IF(CJ52,CJ121*1000/(CJ52*365),"") -> 2.1856676 | CK6: =IF(CK52,CK121*1000/(CK52*365),"") -> 0.92923641 | CL6: =IF(CL52,CL121*1000/(CL52*365),"") -> 0.57659595 | CM6: =IF(CM52,CM121*1000/(CM52*365),"") -> 0.66144112 | CN6: =IF(CN52,CN121*1000/(CN52*365),"") -> 0.36817389 | CO6: =IF(CO52,CO121*1000/(CO52*365),"") -> 0.30399768 | ... CQ6: =IF(CQ52,CQ121*1000/(CQ52*365),"") -> 0.22554709 | CR6: =CR121*1000/(CR52*365) -> 0.52629271 | CS6: =CS121*1000/(CS52*365) -> 0.4614649 | CU6: UU | CV6: =IF(CV52,CV121*1000/(CV52*365),"") -> 6.826667 | CW6: =IF(CW52,CW121*1000/(CW52*365),"") -> 3.5244568 | CX6: =IF(CX52,CX121*1000/(CX52*365),"") -> 2.2520515 | CY6: =IF(CY52,CY121*1000/(CY52*365),"") -> 0.93283905 | CZ6: =IF(CZ52,CZ121*1000/(CZ52*365),"") -> 0.61806009 | DA6: =IF(DA52,DA121*1000/(DA52*365),"") -> 0.50475666 | DB6: =IF(DB52,DB121*1000/(DB52*365),"") -> 0.33000171 | DC6: =IF(DC52,DC121*1000/(DC52*365),"") -> 0.25486384 | ... DE6: =IF(DE52,DE121*1000/(DE52*365),"") -> 0.18304934 | DF6: =DF121*1000/(DF52*365) -> 0.45619696 | DG6: =DG121*1000/(DG52*365) -> 0.37975085
A7: SRN | B7: =IF(B53,B122*1000/(B53*365),"") -> 29.181153 | C7: =IF(C53,C122*1000/(C53*365),"") -> 4.1206995 | D7: =IF(D53,D122*1000/(D53*365),"") -> 2.7488538 | E7: =IF(E53,E122*1000/(E53*365),"") -> 1.4910934 | F7: =IF(F53,F122*1000/(F53*365),"") -> 1.0906372 | G7: =IF(G53,G122*1000/(G53*365),"") -> 1.5329177 | H7: =IF(H53,H122*1000/(H53*365),"") -> 0.67029088 | I7: =IF(I53,I122*1000/(I53*365),"") -> 0.40915367 | ... K7: =IF(K53,K122*1000/(K53*365),"") | L7: =L122*1000/(L53*365) -> 1.1687352 | M7: =M122*1000/(M53*365) -> 1.0247518 | N7: =1-I7/M7 -> 0.60072901 | O7: SRN | P7: =IF(P53,P122*1000/(P53*365),"") -> 9.2233211 | Q7: =IF(Q53,Q122*1000/(Q53*365),"") -> 4.7964907 | R7: =IF(R53,R122*1000/(R53*365),"") -> 3.1618719 | S7: =IF(S53,S122*1000/(S53*365),"") -> 1.5283724 | T7: =IF(T53,T122*1000/(T53*365),"") -> 1.0917426 | U7: =IF(U53,U122*1000/(U53*365),"") -> 0.64609914 | V7: =IF(V53,V122*1000/(V53*365),"") -> 0.42075375 | W7: =IF(W53,W122*1000/(W53*365),"") -> 0.32623934 | ... Y7: =IF(Y53,Y122*1000/(Y53*365),"") | Z7: =Z122*1000/(Z53*365) -> 0.70613424 | AA7: =AA122*1000/(AA53*365) -> 0.50370492 | AC7: SRN | AD7: =IF(AD53,AD122*1000/(AD53*365),"") -> 10.100655 | AE7: =IF(AE53,AE122*1000/(AE53*365),"") -> 3.862993 | AF7: =IF(AF53,AF122*1000/(AF53*365),"") -> 2.8249461 | AG7: =IF(AG53,AG122*1000/(AG53*365),"") -> 1.5134695 | AH7: =IF(AH53,AH122*1000/(AH53*365),"") -> 1.0611075 | AI7: =IF(AI53,AI122*1000/(AI53*365),"") -> 0.68735146 | AJ7: =IF(AJ53,AJ122*1000/(AJ53*365),"") -> 0.38775343 | AK7: =IF(AK53,AK122*1000/(AK53*365),"") -> 0.29368722 | ... AM7: =IF(AM53,AM122*1000/(AM53*365),"") | AN7: =AN122*1000/(AN53*365) -> 0.68181043 | AO7: =AO122*1000/(AO53*365) -> 0.48666194 | AP7: =AO7/AK7-1 -> 0.65707564 | AQ7: SRN | AR7: =IF(AR53,AR122*1000/(AR53*365),"") -> 9.6436302 | AS7: =IF(AS53,AS122*1000/(AS53*365),"") -> 4.681699 | AT7: =IF(AT53,AT122*1000/(AT53*365),"") -> 3.0934909 | AU7: =IF(AU53,AU122*1000/(AU53*365),"") -> 1.389938 | AV7: =IF(AV53,AV122*1000/(AV53*365),"") -> 0.94407546 | AW7: =IF(AW53,AW122*1000/(AW53*365),"") -> 0.48700186 | AX7: =IF(AX53,AX122*1000/(AX53*365),"") -> 0.44336749 | AY7: =IF(AY53,AY122*1000/(AY53*365),"") -> 0.34953149 | ... BA7: =IF(BA53,BA122*1000/(BA53*365),"") | BB7: =BB122*1000/(BB53*365) -> 0.62945569 | BC7: =BC122*1000/(BC53*365) -> 0.43788167 | BE7: SRN | BF7: =IF(BF53,BF122*1000/(BF53*365),"") -> 8.6770158 | BG7: =IF(BG53,BG122*1000/(BG53*365),"") -> 4.2775546 | BH7: =IF(BH53,BH122*1000/(BH53*365),"") -> 2.6780799 | BI7: =IF(BI53,BI122*1000/(BI53*365),"") -> 1.1630003 | BJ7: =IF(BJ53,BJ122*1000/(BJ53*365),"") -> 0.88847129 | BK7: =IF(BK53,BK122*1000/(BK53*365),"") -> 0.48351352 | BL7: =IF(BL53,BL122*1000/(BL53*365),"") -> 0.3757361 | BM7: =IF(BM53,BM122*1000/(BM53*365),"") -> 0.2667354 | ... BO7: =IF(BO53,BO122*1000/(BO53*365),"") | BP7: =BP122*1000/(BP53*365) -> 0.56451341 | BQ7: =BQ122*1000/(BQ53*365) -> 0.39917795 | BS7: SRN | BT7: =IF(BT53,BT122*1000/(BT53*365),"") -> 4.9105895 | BU7: =IF(BU53,BU122*1000/(BU53*365),"") -> 3.5188549 | BV7: =IF(BV53,BV122*1000/(BV53*365),"") -> 2.3493554 | BW7: =IF(BW53,BW122*1000/(BW53*365),"") -> 1.3590521 | BX7: =IF(BX53,BX122*1000/(BX53*365),"") -> 0.95262591 | BY7: =IF(BY53,BY122*1000/(BY53*365),"") -> 0.54938731 | BZ7: =IF(BZ53,BZ122*1000/(BZ53*365),"") -> 0.45452165 | CA7: =IF(CA53,CA122*1000/(CA53*365),"") -> 0.29924323 | ... CC7: =IF(CC53,CC122*1000/(CC53*365),"") | CD7: =CD122*1000/(CD53*365) -> 0.62023222 | CE7: =CE122*1000/(CE53*365) -> 0.45968462 | CG7: SRN | CH7: =IF(CH53,CH122*1000/(CH53*365),"") -> 3.8516255 | CI7: =IF(CI53,CI122*1000/(CI53*365),"") -> 3.6223977 | CJ7: =IF(CJ53,CJ122*1000/(CJ53*365),"") -> 2.0237147 | CK7: =IF(CK53,CK122*1000/(CK53*365),"") -> 0.87459885 | CL7: =IF(CL53,CL122*1000/(CL53*365),"") -> 0.78705867 | CM7: =IF(CM53,CM122*1000/(CM53*365),"") -> 0.67747314 | CN7: =IF(CN53,CN122*1000/(CN53*365),"") -> 0.38825207 | CO7: =IF(CO53,CO122*1000/(CO53*365),"") -> 0.18452691 | ... CQ7: =IF(CQ53,CQ122*1000/(CQ53*365),"") | CR7: =CR122*1000/(CR53*365) -> 0.60859495 | CS7: =CS122*1000/(CS53*365) -> 0.50893744 | CU7: SRN | CV7: =IF(CV53,CV122*1000/(CV53*365),"") -> 4.6698316 | CW7: =IF(CW53,CW122*1000/(CW53*365),"") -> 3.7457098 | CX7: =IF(CX53,CX122*1000/(CX53*365),"") -> 2.2734649 | CY7: =IF(CY53,CY122*1000/(CY53*365),"") -> 0.97387273 | CZ7: =IF(CZ53,CZ122*1000/(CZ53*365),"") -> 0.84413715 | DA7: =IF(DA53,DA122*1000/(DA53*365),"") -> 0.82926065 | DB7: =IF(DB53,DB122*1000/(DB53*365),"") -> 0.32287175 | DC7: =IF(DC53,DC122*1000/(DC53*365),"") -> 0.29236832 | ... DE7: =IF(DE53,DE122*1000/(DE53*365),"") | DF7: =DF122*1000/(DF53*365) -> 0.69974757 | DG7: =DG122*1000/(DG53*365) -> 0.58694495
A8: SVT | B8: =IF(B54,B123*1000/(B54*365),"") -> 6.6728173 | C8: =IF(C54,C123*1000/(C54*365),"") -> 3.0569369 | D8: =IF(D54,D123*1000/(D54*365),"") -> 2.2165141 | E8: =IF(E54,E123*1000/(E54*365),"") -> 1.3291382 | F8: =IF(F54,F123*1000/(F54*365),"") -> 1.0614943 | G8: =IF(G54,G123*1000/(G54*365),"") -> 0.25951611 | H8: =IF(H54,H123*1000/(H54*365),"") -> 0.41977615 | I8: =IF(I54,I123*1000/(I54*365),"") -> 0.36672271 | ... K8: =IF(K54,K123*1000/(K54*365),"") -> 0.23682426 | L8: =L123*1000/(L54*365) -> 0.49229411 | M8: =M123*1000/(M54*365) -> 0.2981019 | N8: =1-K8/M8 -> 0.2055594 | O8: SVT | P8: =IF(P54,P123*1000/(P54*365),"") -> 6.3358107 | Q8: =IF(Q54,Q123*1000/(Q54*365),"") -> 3.2648663 | R8: =IF(R54,R123*1000/(R54*365),"") -> 2.2742586 | S8: =IF(S54,S123*1000/(S54*365),"") -> 1.2990605 | T8: =IF(T54,T123*1000/(T54*365),"") -> 1.0360066 | U8: =IF(U54,U123*1000/(U54*365),"") -> 0.26467075 | V8: =IF(V54,V123*1000/(V54*365),"") -> 0.43720458 | W8: =IF(W54,W123*1000/(W54*365),"") -> 0.32195213 | ... Y8: =IF(Y54,Y123*1000/(Y54*365),"") -> 0.20508241 | Z8: =Z123*1000/(Z54*365) -> 0.46955983 | AA8: =AA123*1000/(AA54*365) -> 0.27395398 | AC8: SVT | AD8: =IF(AD54,AD123*1000/(AD54*365),"") -> 6.7079237 | AE8: =IF(AE54,AE123*1000/(AE54*365),"") -> 3.3471225 | AF8: =IF(AF54,AF123*1000/(AF54*365),"") -> 2.0668278 | AG8: =IF(AG54,AG123*1000/(AG54*365),"") -> 1.137758 | AH8: =IF(AH54,AH123*1000/(AH54*365),"") -> 0.84947409 | AI8: =IF(AI54,AI123*1000/(AI54*365),"") -> 0.43486608 | AJ8: =IF(AJ54,AJ123*1000/(AJ54*365),"") -> 0.36716748 | AK8: =IF(AK54,AK123*1000/(AK54*365),"") -> 0.26911486 | ... AM8: =IF(AM54,AM123*1000/(AM54*365),"") -> 0.20347008 | AN8: =AN123*1000/(AN54*365) -> 0.47760766 | AO8: =AO123*1000/(AO54*365) -> 0.32237042 | AP8: =AO8/AM8-1 -> 0.58436279 | AQ8: SVT | AR8: =IF(AR54,AR123*1000/(AR54*365),"") -> 7.949471 | AS8: =IF(AS54,AS123*1000/(AS54*365),"") -> 4.0204004 | AT8: =IF(AT54,AT123*1000/(AT54*365),"") -> 2.3962405 | AU8: =IF(AU54,AU123*1000/(AU54*365),"") -> 1.2932762 | AV8: =IF(AV54,AV123*1000/(AV54*365),"") -> 0.91883409 | AW8: =IF(AW54,AW123*1000/(AW54*365),"") -> 0.52177964 | AX8: =IF(AX54,AX123*1000/(AX54*365),"") -> 0.43777179 | AY8: =IF(AY54,AY123*1000/(AY54*365),"") -> 0.29166998 | ... BA8: =IF(BA54,BA123*1000/(BA54*365),"") -> 0.2164749 | BB8: =BB123*1000/(BB54*365) -> 0.54497737 | BC8: =BC123*1000/(BC54*365) -> 0.36992773 | BE8: SVT | BF8: =IF(BF54,BF123*1000/(BF54*365),"") -> 5.8862458 | BG8: =IF(BG54,BG123*1000/(BG54*365),"") -> 3.3965763 | BH8: =IF(BH54,BH123*1000/(BH54*365),"") -> 1.9327089 | BI8: =IF(BI54,BI123*1000/(BI54*365),"") -> 1.055839 | BJ8: =IF(BJ54,BJ123*1000/(BJ54*365),"") -> 0.79395337 | BK8: =IF(BK54,BK123*1000/(BK54*365),"") -> 0.50876343 | BL8: =IF(BL54,BL123*1000/(BL54*365),"") -> 0.41243464 | BM8: =IF(BM54,BM123*1000/(BM54*365),"") -> 0.27028516 | ... BO8: =IF(BO54,BO123*1000/(BO54*365),"") -> 0.23296871 | BP8: =BP123*1000/(BP54*365) -> 0.49823293 | BQ8: =BQ123*1000/(BQ54*365) -> 0.36309187 | BS8: SVT | BT8: =IF(BT54,BT123*1000/(BT54*365),"") -> 6.0160522 | BU8: =IF(BU54,BU123*1000/(BU54*365),"") -> 3.327796 | BV8: =IF(BV54,BV123*1000/(BV54*365),"") -> 1.9806084 | BW8: =IF(BW54,BW123*1000/(BW54*365),"") -> 1.0748402 | BX8: =IF(BX54,BX123*1000/(BX54*365),"") -> 0.77087169 | BY8: =IF(BY54,BY123*1000/(BY54*365),"") -> 0.47528253 | BZ8: =IF(BZ54,BZ123*1000/(BZ54*365),"") -> 0.4126784 | CA8: =IF(CA54,CA123*1000/(CA54*365),"") -> 0.2984386 | ... CC8: =IF(CC54,CC123*1000/(CC54*365),"") -> 0.1893929 | CD8: =CD123*1000/(CD54*365) -> 0.48985284 | CE8: =CE123*1000/(CE54*365) -> 0.34842024 | CG8: SVT | CH8: =IF(CH54,CH123*1000/(CH54*365),"") -> 5.1407247 | CI8: =IF(CI54,CI123*1000/(CI54*365),"") -> 2.8852748 | CJ8: =IF(CJ54,CJ123*1000/(CJ54*365),"") -> 1.9162159 | CK8: =IF(CK54,CK123*1000/(CK54*365),"") -> 1.0393924 | CL8: =IF(CL54,CL123*1000/(CL54*365),"") -> 0.76037952 | CM8: =IF(CM54,CM123*1000/(CM54*365),"") -> 0.65513637 | CN8: =IF(CN54,CN123*1000/(CN54*365),"") -> 0.25156814 | CO8: =IF(CO54,CO123*1000/(CO54*365),"") -> 0.22170714 | ... CQ8: =IF(CQ54,CQ123*1000/(CQ54*365),"") -> 0.067576576 | CR8: =CR123*1000/(CR54*365) -> 0.48169428 | CS8: =CS123*1000/(CS54*365) -> 0.34241434 | CU8: SVT | CV8: =IF(CV54,CV123*1000/(CV54*365),"") -> 4.8017845 | CW8: =IF(CW54,CW123*1000/(CW54*365),"") -> 2.9178649 | CX8: =IF(CX54,CX123*1000/(CX54*365),"") -> 1.5991707 | CY8: =IF(CY54,CY123*1000/(CY54*365),"") -> 0.95566954 | CZ8: =IF(CZ54,CZ123*1000/(CZ54*365),"") -> 0.71929798 | DA8: =IF(DA54,DA123*1000/(DA54*365),"") -> 0.63916223 | DB8: =IF(DB54,DB123*1000/(DB54*365),"") -> 0.27394307 | DC8: =IF(DC54,DC123*1000/(DC54*365),"") -> 0.18008191 | ... DE8: =IF(DE54,DE123*1000/(DE54*365),"") -> 0.046258805 | DF8: =DF123*1000/(DF54*365) -> 0.45237765 | DG8: =DG123*1000/(DG54*365) -> 0.32534258
A9: SWB | B9: =IF(B55,B124*1000/(B55*365),"") -> 4.8508174 | C9: =IF(C55,C124*1000/(C55*365),"") -> 3.5630538 | D9: =IF(D55,D124*1000/(D55*365),"") -> 1.9931874 | E9: =IF(E55,E124*1000/(E55*365),"") -> 1.2589772 | F9: =IF(F55,F124*1000/(F55*365),"") -> 1.0038014 | G9: =IF(G55,G124*1000/(G55*365),"") -> 0.94979671 | H9: =IF(H55,H124*1000/(H55*365),"") -> 0.21429355 | I9: =IF(I55,I124*1000/(I55*365),"") | ... K9: =IF(K55,K124*1000/(K55*365),"") | L9: =L124*1000/(L55*365) -> 1.0604194 | M9: =M124*1000/(M55*365) -> 0.73970926 | N9: =1-H9/M9 -> 0.71030031 | O9: SWB | P9: =IF(P55,P124*1000/(P55*365),"") -> 4.3272675 | Q9: =IF(Q55,Q124*1000/(Q55*365),"") -> 3.672343 | R9: =IF(R55,R124*1000/(R55*365),"") -> 2.2332581 | S9: =IF(S55,S124*1000/(S55*365),"") -> 1.4299329 | T9: =IF(T55,T124*1000/(T55*365),"") -> 1.1696184 | U9: =IF(U55,U124*1000/(U55*365),"") -> 0.84315306 | V9: =IF(V55,V124*1000/(V55*365),"") -> 0.19266102 | W9: =IF(W55,W124*1000/(W55*365),"") | ... Y9: =IF(Y55,Y124*1000/(Y55*365),"") | Z9: =Z124*1000/(Z55*365) -> 1.0668437 | AA9: =AA124*1000/(AA55*365) -> 0.65722458 | AC9: SWB | AD9: =IF(AD55,AD124*1000/(AD55*365),"") -> 4.1378719 | AE9: =IF(AE55,AE124*1000/(AE55*365),"") -> 3.8100837 | AF9: =IF(AF55,AF124*1000/(AF55*365),"") -> 2.0794751 | AG9: =IF(AG55,AG124*1000/(AG55*365),"") -> 1.3753256 | AH9: =IF(AH55,AH124*1000/(AH55*365),"") -> 1.065076 | AI9: =IF(AI55,AI124*1000/(AI55*365),"") -> 0.61683313 | AJ9: =IF(AJ55,AJ124*1000/(AJ55*365),"") -> 0.50016276 | AK9: =IF(AK55,AK124*1000/(AK55*365),"") | ... AM9: =IF(AM55,AM124*1000/(AM55*365),"") | AN9: =AN124*1000/(AN55*365) -> 0.97983716 | AO9: =AO124*1000/(AO55*365) -> 0.5840355 | AP9: =AO9/AJ9-1 -> 0.1676909 | AQ9: SWB | AR9: =IF(AR55,AR124*1000/(AR55*365),"") -> 4.1033469 | AS9: =IF(AS55,AS124*1000/(AS55*365),"") -> 3.4395875 | AT9: =IF(AT55,AT124*1000/(AT55*365),"") -> 2.042015 | AU9: =IF(AU55,AU124*1000/(AU55*365),"") -> 1.4360919 | AV9: =IF(AV55,AV124*1000/(AV55*365),"") -> 1.0217327 | AW9: =IF(AW55,AW124*1000/(AW55*365),"") -> 0.71745006 | AX9: =IF(AX55,AX124*1000/(AX55*365),"") -> 0.58576338 | AY9: =IF(AY55,AY124*1000/(AY55*365),"") | ... BA9: =IF(BA55,BA124*1000/(BA55*365),"") | BB9: =BB124*1000/(BB55*365) -> 1.0441807 | BC9: =BC124*1000/(BC55*365) -> 0.67961738 | BE9: SWB | BF9: =IF(BF55,BF124*1000/(BF55*365),"") -> 3.3947282 | BG9: =IF(BG55,BG124*1000/(BG55*365),"") -> 3.3031987 | BH9: =IF(BH55,BH124*1000/(BH55*365),"") -> 2.0573626 | BI9: =IF(BI55,BI124*1000/(BI55*365),"") -> 1.3566479 | BJ9: =IF(BJ55,BJ124*1000/(BJ55*365),"") -> 0.98501447 | BK9: =IF(BK55,BK124*1000/(BK55*365),"") -> 0.64265643 | BL9: =IF(BL55,BL124*1000/(BL55*365),"") -> 0.61855243 | BM9: =IF(BM55,BM124*1000/(BM55*365),"") | ... BO9: =IF(BO55,BO124*1000/(BO55*365),"") | BP9: =BP124*1000/(BP55*365) -> 0.99441774 | BQ9: =BQ124*1000/(BQ55*365) -> 0.63547622 | BS9: SWB | BT9: =IF(BT55,BT124*1000/(BT55*365),"") -> 3.2026083 | BU9: =IF(BU55,BU124*1000/(BU55*365),"") -> 2.8464678 | BV9: =IF(BV55,BV124*1000/(BV55*365),"") -> 1.9086625 | BW9: =IF(BW55,BW124*1000/(BW55*365),"") -> 1.319961 | BX9: =IF(BX55,BX124*1000/(BX55*365),"") -> 0.94018946 | BY9: =IF(BY55,BY124*1000/(BY55*365),"") -> 0.80064053 | BZ9: =IF(BZ55,BZ124*1000/(BZ55*365),"") -> 0.5795255 | CA9: =IF(CA55,CA124*1000/(CA55*365),"") | ... CC9: =IF(CC55,CC124*1000/(CC55*365),"") | CD9: =CD124*1000/(CD55*365) -> 1.017635 | CE9: =CE124*1000/(CE55*365) -> 0.73514918 | CG9: SWB | CH9: =IF(CH55,CH124*1000/(CH55*365),"") -> 2.7499994 | CI9: =IF(CI55,CI124*1000/(CI55*365),"") -> 2.4566715 | CJ9: =IF(CJ55,CJ124*1000/(CJ55*365),"") -> 1.7074581 | CK9: =IF(CK55,CK124*1000/(CK55*365),"") -> 1.2237539 | CL9: =IF(CL55,CL124*1000/(CL55*365),"") -> 0.96249096 | CM9: =IF(CM55,CM124*1000/(CM55*365),"") -> 0.72561064 | CN9: =IF(CN55,CN124*1000/(CN55*365),"") -> 0.58344224 | CO9: =IF(CO55,CO124*1000/(CO55*365),"") | ... CQ9: =IF(CQ55,CQ124*1000/(CQ55*365),"") | CR9: =CR124*1000/(CR55*365) -> 0.95773939 | CS9: =CS124*1000/(CS55*365) -> 0.68360762 | CU9: SWB | CV9: =IF(CV55,CV124*1000/(CV55*365),"") -> 2.6672794 | CW9: =IF(CW55,CW124*1000/(CW55*365),"") -> 2.378273 | CX9: =IF(CX55,CX124*1000/(CX55*365),"") -> 1.7395236 | CY9: =IF(CY55,CY124*1000/(CY55*365),"") -> 1.1277597 | CZ9: =IF(CZ55,CZ124*1000/(CZ55*365),"") -> 0.87994553 | DA9: =IF(DA55,DA124*1000/(DA55*365),"") -> 0.72938162 | DB9: =IF(DB55,DB124*1000/(DB55*365),"") -> 0.52996675 | DC9: =IF(DC55,DC124*1000/(DC55*365),"") | ... DE9: =IF(DE55,DE124*1000/(DE55*365),"") | DF9: =DF124*1000/(DF55*365) -> 0.91594328 | DG9: =DG124*1000/(DG55*365) -> 0.67212748
A10: TMS | B10: =IF(B56,B125*1000/(B56*365),"") -> 5.5790294 | C10: =IF(C56,C125*1000/(C56*365),"") -> 4.1210665 | D10: =IF(D56,D125*1000/(D56*365),"") -> 1.9931922 | E10: =IF(E56,E125*1000/(E56*365),"") -> 1.1653193 | F10: =IF(F56,F125*1000/(F56*365),"") -> 0.82589656 | G10: =IF(G56,G125*1000/(G56*365),"") -> 0.90879507 | H10: =IF(H56,H125*1000/(H56*365),"") -> 0.88677831 | I10: =IF(I56,I125*1000/(I56*365),"") -> 0.52399419 | ... K10: =IF(K56,K125*1000/(K56*365),"") -> 0.48038582 | L10: =L125*1000/(L56*365) -> 0.59250674 | M10: =M125*1000/(M56*365) -> 0.55746838 | N10: =1-K10/M10 -> 0.13827253 | O10: TMS | P10: =IF(P56,P125*1000/(P56*365),"") -> 5.463381 | Q10: =IF(Q56,Q125*1000/(Q56*365),"") -> 3.5987135 | R10: =IF(R56,R125*1000/(R56*365),"") -> 2.1094031 | S10: =IF(S56,S125*1000/(S56*365),"") -> 1.1351622 | T10: =IF(T56,T125*1000/(T56*365),"") -> 0.98077 | U10: =IF(U56,U125*1000/(U56*365),"") -> 0.69460887 | V10: =IF(V56,V125*1000/(V56*365),"") -> 0.67161224 | W10: =IF(W56,W125*1000/(W56*365),"") -> 0.37922968 | ... Y10: =IF(Y56,Y125*1000/(Y56*365),"") -> 0.35884011 | Z10: =Z125*1000/(Z56*365) -> 0.48854044 | AA10: =AA125*1000/(AA56*365) -> 0.44290018 | AC10: TMS | AD10: =IF(AD56,AD125*1000/(AD56*365),"") -> 8.2082343 | AE10: =IF(AE56,AE125*1000/(AE56*365),"") -> 4.2203592 | AF10: =IF(AF56,AF125*1000/(AF56*365),"") -> 2.1276666 | AG10: =IF(AG56,AG125*1000/(AG56*365),"") -> 1.1633683 | AH10: =IF(AH56,AH125*1000/(AH56*365),"") -> 0.86819793 | AI10: =IF(AI56,AI125*1000/(AI56*365),"") -> 0.77831453 | AJ10: =IF(AJ56,AJ125*1000/(AJ56*365),"") -> 0.72506457 | AK10: =IF(AK56,AK125*1000/(AK56*365),"") -> 0.44090162 | ... AM10: =IF(AM56,AM125*1000/(AM56*365),"") -> 0.32574091 | AN10: =AN125*1000/(AN56*365) -> 0.48432594 | AO10: =AO125*1000/(AO56*365) -> 0.43857384 | AP10: =AO10/AM10-1 -> 0.34638858 | AQ10: TMS | AR10: =IF(AR56,AR125*1000/(AR56*365),"") -> 8.396412 | AS10: =IF(AS56,AS125*1000/(AS56*365),"") -> 4.1642433 | AT10: =IF(AT56,AT125*1000/(AT56*365),"") -> 1.9067435 | AU10: =IF(AU56,AU125*1000/(AU56*365),"") -> 1.2312674 | AV10: =IF(AV56,AV125*1000/(AV56*365),"") -> 0.91525291 | AW10: =IF(AW56,AW125*1000/(AW56*365),"") -> 0.90168851 | AX10: =IF(AX56,AX125*1000/(AX56*365),"") -> 0.72108133 | AY10: =IF(AY56,AY125*1000/(AY56*365),"") -> 0.45119308 | ... BA10: =IF(BA56,BA125*1000/(BA56*365),"") -> 0.35250376 | BB10: =BB125*1000/(BB56*365) -> 0.52138752 | BC10: =BC125*1000/(BC56*365) -> 0.47619989 | BE10: TMS | BF10: =IF(BF56,BF125*1000/(BF56*365),"") -> 4.3662155 | BG10: =IF(BG56,BG125*1000/(BG56*365),"") -> 2.2171124 | BH10: =IF(BH56,BH125*1000/(BH56*365),"") -> 1.4458482 | BI10: =IF(BI56,BI125*1000/(BI56*365),"") -> 1.0669242 | BJ10: =IF(BJ56,BJ125*1000/(BJ56*365),"") -> 0.9135767 | BK10: =IF(BK56,BK125*1000/(BK56*365),"") -> 0.81603598 | BL10: =IF(BL56,BL125*1000/(BL56*365),"") -> 0.73033207 | BM10: =IF(BM56,BM125*1000/(BM56*365),"") -> 0.47093425 | ... BO10: =IF(BO56,BO125*1000/(BO56*365),"") -> 0.32235655 | BP10: =BP125*1000/(BP56*365) -> 0.49015465 | BQ10: =BQ125*1000/(BQ56*365) -> 0.45427889 | BS10: TMS | BT10: =IF(BT56,BT125*1000/(BT56*365),"") -> 3.6393128 | BU10: =IF(BU56,BU125*1000/(BU56*365),"") -> 2.1844284 | BV10: =IF(BV56,BV125*1000/(BV56*365),"") -> 1.5060273 | BW10: =IF(BW56,BW125*1000/(BW56*365),"") -> 0.95767756 | BX10: =IF(BX56,BX125*1000/(BX56*365),"") -> 0.74465925 | BY10: =IF(BY56,BY125*1000/(BY56*365),"") -> 0.86888682 | BZ10: =IF(BZ56,BZ125*1000/(BZ56*365),"") -> 0.7339087 | CA10: =IF(CA56,CA125*1000/(CA56*365),"") -> 0.47744965 | ... CC10: =IF(CC56,CC125*1000/(CC56*365),"") -> 0.31026905 | CD10: =CD125*1000/(CD56*365) -> 0.49064994 | CE10: =CE125*1000/(CE56*365) -> 0.46212732 | CG10: TMS | CH10: =IF(CH56,CH125*1000/(CH56*365),"") -> 2.4526842 | CI10: =IF(CI56,CI125*1000/(CI56*365),"") -> 2.2594389 | CJ10: =IF(CJ56,CJ125*1000/(CJ56*365),"") -> 0.9603678 | CK10: =IF(CK56,CK125*1000/(CK56*365),"") -> 0.64978907 | CL10: =IF(CL56,CL125*1000/(CL56*365),"") -> 0.45339102 | CM10: =IF(CM56,CM125*1000/(CM56*365),"") -> 1.0416138 | CN10: =IF(CN56,CN125*1000/(CN56*365),"") -> 0.46339157 | CO10: =IF(CO56,CO125*1000/(CO56*365),"") -> 0.3524355 | ... CQ10: =IF(CQ56,CQ125*1000/(CQ56*365),"") -> 0.18044665 | CR10: =CR125*1000/(CR56*365) -> 0.36068893 | CS10: =CS125*1000/(CS56*365) -> 0.3430167 | CU10: TMS | CV10: =IF(CV56,CV125*1000/(CV56*365),"") -> 2.3872187 | CW10: =IF(CW56,CW125*1000/(CW56*365),"") -> 1.32586 | CX10: =IF(CX56,CX125*1000/(CX56*365),"") -> 0.95019947 | CY10: =IF(CY56,CY125*1000/(CY56*365),"") -> 0.52950893 | CZ10: =IF(CZ56,CZ125*1000/(CZ56*365),"") -> 0.43128394 | DA10: =IF(DA56,DA125*1000/(DA56*365),"") -> 0.57901142 | DB10: =IF(DB56,DB125*1000/(DB56*365),"") -> 0.37568742 | DC10: =IF(DC56,DC125*1000/(DC56*365),"") -> 0.29766584 | ... DE10: =IF(DE56,DE125*1000/(DE56*365),"") -> 0.19712552 | DF10: =DF125*1000/(DF56*365) -> 0.29577914 | DG10: =DG125*1000/(DG56*365) -> 0.279585
A11: WSH | B11: =IF(B57,B126*1000/(B57*365),"") -> 5.6883422 | C11: =IF(C57,C126*1000/(C57*365),"") -> 3.4876973 | D11: =IF(D57,D126*1000/(D57*365),"") -> 1.6134223 | E11: =IF(E57,E126*1000/(E57*365),"") -> 1.1317793 | F11: =IF(F57,F126*1000/(F57*365),"") -> 0.81115924 | G11: =IF(G57,G126*1000/(G57*365),"") -> 0.60893876 | H11: =IF(H57,H126*1000/(H57*365),"") -> 0.64741436 | I11: =IF(I57,I126*1000/(I57*365),"") -> 0.13495148 | ... K11: =IF(K57,K126*1000/(K57*365),"") | L11: =L126*1000/(L57*365) -> 0.72160158 | M11: =M126*1000/(M57*365) -> 0.50033905 | N11: =1-J11/M11 -> 0.24332085 | O11: WSH | P11: =IF(P57,P126*1000/(P57*365),"") -> 8.3097389 | Q11: =IF(Q57,Q126*1000/(Q57*365),"") -> 2.7597793 | R11: =IF(R57,R126*1000/(R57*365),"") -> 1.9579703 | S11: =IF(S57,S126*1000/(S57*365),"") -> 1.3195213 | T11: =IF(T57,T126*1000/(T57*365),"") -> 0.87784412 | U11: =IF(U57,U126*1000/(U57*365),"") -> 0.47005037 | V11: =IF(V57,V126*1000/(V57*365),"") -> 0.52465934 | W11: =IF(W57,W126*1000/(W57*365),"") -> 0.12695818 | ... Y11: =IF(Y57,Y126*1000/(Y57*365),"") | Z11: =Z126*1000/(Z57*365) -> 0.68584251 | AA11: =AA126*1000/(AA57*365) -> 0.40073436 | AC11: WSH | AD11: =IF(AD57,AD126*1000/(AD57*365),"") -> 4.3368843 | AE11: =IF(AE57,AE126*1000/(AE57*365),"") -> 3.639848 | AF11: =IF(AF57,AF126*1000/(AF57*365),"") -> 1.6497672 | AG11: =IF(AG57,AG126*1000/(AG57*365),"") -> 1.0972309 | AH11: =IF(AH57,AH126*1000/(AH57*365),"") -> 0.78408638 | AI11: =IF(AI57,AI126*1000/(AI57*365),"") -> 0.4482864 | AJ11: =IF(AJ57,AJ126*1000/(AJ57*365),"") -> 0.49501867 | AK11: =IF(AK57,AK126*1000/(AK57*365),"") -> 0.19502798 | ... AM11: =IF(AM57,AM126*1000/(AM57*365),"") | AN11: =AN126*1000/(AN57*365) -> 0.61460998 | AO11: =AO126*1000/(AO57*365) -> 0.37066314 | AP11: =AO11/AL11-1 -> 0.5719167 | AQ11: WSH | AR11: =IF(AR57,AR126*1000/(AR57*365),"") -> 4.8875702 | AS11: =IF(AS57,AS126*1000/(AS57*365),"") -> 2.4489172 | AT11: =IF(AT57,AT126*1000/(AT57*365),"") -> 1.6525598 | AU11: =IF(AU57,AU126*1000/(AU57*365),"") -> 1.1108208 | AV11: =IF(AV57,AV126*1000/(AV57*365),"") -> 0.77103888 | AW11: =IF(AW57,AW126*1000/(AW57*365),"") -> 0.61250086 | AX11: =IF(AX57,AX126*1000/(AX57*365),"") -> 0.47994617 | AY11: =IF(AY57,AY126*1000/(AY57*365),"") -> 0.17622358 | ... BA11: =IF(BA57,BA126*1000/(BA57*365),"") | BB11: =BB126*1000/(BB57*365) -> 0.62796158 | BC11: =BC126*1000/(BC57*365) -> 0.41442294 | BE11: WSH | BF11: =IF(BF57,BF126*1000/(BF57*365),"") -> 4.3855724 | BG11: =IF(BG57,BG126*1000/(BG57*365),"") -> 2.3047135 | BH11: =IF(BH57,BH126*1000/(BH57*365),"") -> 1.5377915 | BI11: =IF(BI57,BI126*1000/(BI57*365),"") -> 1.0881169 | BJ11: =IF(BJ57,BJ126*1000/(BJ57*365),"") -> 0.83102986 | BK11: =IF(BK57,BK126*1000/(BK57*365),"") -> 0.52811394 | BL11: =IF(BL57,BL126*1000/(BL57*365),"") -> 0.56583589 | BM11: =IF(BM57,BM126*1000/(BM57*365),"") -> 0.1968535 | ... BO11: =IF(BO57,BO126*1000/(BO57*365),"") | BP11: =BP126*1000/(BP57*365) -> 0.63129988 | BQ11: =BQ126*1000/(BQ57*365) -> 0.41981866 | BS11: WSH | BT11: =IF(BT57,BT126*1000/(BT57*365),"") -> 4.3681488 | BU11: =IF(BU57,BU126*1000/(BU57*365),"") -> 2.0858299 | BV11: =IF(BV57,BV126*1000/(BV57*365),"") -> 1.3474992 | BW11: =IF(BW57,BW126*1000/(BW57*365),"") -> 0.9870576 | BX11: =IF(BX57,BX126*1000/(BX57*365),"") -> 0.73510163 | BY11: =IF(BY57,BY126*1000/(BY57*365),"") -> 0.49334272 | BZ11: =IF(BZ57,BZ126*1000/(BZ57*365),"") -> 0.54328469 | CA11: =IF(CA57,CA126*1000/(CA57*365),"") -> 0.23939968 | ... CC11: =IF(CC57,CC126*1000/(CC57*365),"") | CD11: =CD126*1000/(CD57*365) -> 0.60359983 | CE11: =CE126*1000/(CE57*365) -> 0.41644674 | CG11: WSH | CH11: =IF(CH57,CH126*1000/(CH57*365),"") -> 3.4460824 | CI11: =IF(CI57,CI126*1000/(CI57*365),"") -> 2.4242851 | CJ11: =IF(CJ57,CJ126*1000/(CJ57*365),"") -> 1.4890538 | CK11: =IF(CK57,CK126*1000/(CK57*365),"") -> 0.95614324 | CL11: =IF(CL57,CL126*1000/(CL57*365),"") -> 0.9076891 | CM11: =IF(CM57,CM126*1000/(CM57*365),"") -> 0.85248707 | CN11: =IF(CN57,CN126*1000/(CN57*365),"") -> 0.36820955 | CO11: =IF(CO57,CO126*1000/(CO57*365),"") -> 0.273306 | ... CQ11: =IF(CQ57,CQ126*1000/(CQ57*365),"") | CR11: =CR126*1000/(CR57*365) -> 0.66451468 | CS11: =CS126*1000/(CS57*365) -> 0.44486504 | CU11: WSH | CV11: =IF(CV57,CV126*1000/(CV57*365),"") -> 4.2731576 | CW11: =IF(CW57,CW126*1000/(CW57*365),"") -> 2.1398873 | CX11: =IF(CX57,CX126*1000/(CX57*365),"") -> 1.4370743 | CY11: =IF(CY57,CY126*1000/(CY57*365),"") -> 0.97767683 | CZ11: =IF(CZ57,CZ126*1000/(CZ57*365),"") -> 0.85373955 | DA11: =IF(DA57,DA126*1000/(DA57*365),"") -> 0.8395389 | DB11: =IF(DB57,DB126*1000/(DB57*365),"") -> 0.29538381 | DC11: =IF(DC57,DC126*1000/(DC57*365),"") -> 0.23581441 | ... DE11: =IF(DE57,DE126*1000/(DE57*365),"") | DF11: =DF126*1000/(DF57*365) -> 0.61056248 | DG11: =DG126*1000/(DG57*365) -> 0.40065585
A12: WSX | B12: =IF(B58,B127*1000/(B58*365),"") -> 7.2467515 | C12: =IF(C58,C127*1000/(C58*365),"") -> 3.1834899 | D12: =IF(D58,D127*1000/(D58*365),"") -> 1.9695437 | E12: =IF(E58,E127*1000/(E58*365),"") -> 1.1984991 | F12: =IF(F58,F127*1000/(F58*365),"") -> 0.90245374 | G12: =IF(G58,G127*1000/(G58*365),"") -> 0.79054475 | H12: =IF(H58,H127*1000/(H58*365),"") -> 0.62379141 | I12: =IF(I58,I127*1000/(I58*365),"") | ... K12: =IF(K58,K127*1000/(K58*365),"") | L12: =L127*1000/(L58*365) -> 0.7658064 | M12: =M127*1000/(M58*365) -> 0.59313558 | N12: =1-J12/M12 -> 0.5103931 | O12: WSX | P12: =IF(P58,P127*1000/(P58*365),"") -> 6.6013943 | Q12: =IF(Q58,Q127*1000/(Q58*365),"") -> 4.2436726 | R12: =IF(R58,R127*1000/(R58*365),"") -> 2.2394854 | S12: =IF(S58,S127*1000/(S58*365),"") -> 1.2952967 | T12: =IF(T58,T127*1000/(T58*365),"") -> 1.0789184 | U12: =IF(U58,U127*1000/(U58*365),"") -> 0.82384164 | V12: =IF(V58,V127*1000/(V58*365),"") -> 0.55219571 | W12: =IF(W58,W127*1000/(W58*365),"") | ... Y12: =IF(Y58,Y127*1000/(Y58*365),"") | Z12: =Z127*1000/(Z58*365) -> 0.8208052 | AA12: =AA127*1000/(AA58*365) -> 0.60714813 | AC12: WSX | AD12: =IF(AD58,AD127*1000/(AD58*365),"") -> 7.1324556 | AE12: =IF(AE58,AE127*1000/(AE58*365),"") -> 3.5840745 | AF12: =IF(AF58,AF127*1000/(AF58*365),"") -> 2.0775863 | AG12: =IF(AG58,AG127*1000/(AG58*365),"") -> 1.2282341 | AH12: =IF(AH58,AH127*1000/(AH58*365),"") -> 1.0289142 | AI12: =IF(AI58,AI127*1000/(AI58*365),"") -> 0.74469045 | AJ12: =IF(AJ58,AJ127*1000/(AJ58*365),"") -> 0.66608774 | AK12: =IF(AK58,AK127*1000/(AK58*365),"") | ... AM12: =IF(AM58,AM127*1000/(AM58*365),"") | AN12: =AN127*1000/(AN58*365) -> 0.80303035 | AO12: =AO127*1000/(AO58*365) -> 0.60600039 | AP12: =AO12/AL12-1 -> 0.72389319 | AQ12: WSX | AR12: =IF(AR58,AR127*1000/(AR58*365),"") -> 7.2325397 | AS12: =IF(AS58,AS127*1000/(AS58*365),"") -> 3.6961671 | AT12: =IF(AT58,AT127*1000/(AT58*365),"") -> 2.0781707 | AU12: =IF(AU58,AU127*1000/(AU58*365),"") -> 1.1759418 | AV12: =IF(AV58,AV127*1000/(AV58*365),"") -> 0.99507582 | AW12: =IF(AW58,AW127*1000/(AW58*365),"") -> 0.79464489 | AX12: =IF(AX58,AX127*1000/(AX58*365),"") -> 0.67256198 | AY12: =IF(AY58,AY127*1000/(AY58*365),"") | ... BA12: =IF(BA58,BA127*1000/(BA58*365),"") | BB12: =BB127*1000/(BB58*365) -> 0.85593187 | BC12: =BC127*1000/(BC58*365) -> 0.68108656 | BE12: WSX | BF12: =IF(BF58,BF127*1000/(BF58*365),"") -> 7.2751024 | BG12: =IF(BG58,BG127*1000/(BG58*365),"") -> 3.8480135 | BH12: =IF(BH58,BH127*1000/(BH58*365),"") -> 2.0117533 | BI12: =IF(BI58,BI127*1000/(BI58*365),"") -> 1.0801302 | BJ12: =IF(BJ58,BJ127*1000/(BJ58*365),"") -> 0.99152284 | BK12: =IF(BK58,BK127*1000/(BK58*365),"") -> 0.76133128 | BL12: =IF(BL58,BL127*1000/(BL58*365),"") -> 0.68888855 | BM12: =IF(BM58,BM127*1000/(BM58*365),"") | ... BO12: =IF(BO58,BO127*1000/(BO58*365),"") | BP12: =BP127*1000/(BP58*365) -> 0.84234922 | BQ12: =BQ127*1000/(BQ58*365) -> 0.66474824 | BS12: WSX | BT12: =IF(BT58,BT127*1000/(BT58*365),"") -> 6.6186301 | BU12: =IF(BU58,BU127*1000/(BU58*365),"") -> 3.8080201 | BV12: =IF(BV58,BV127*1000/(BV58*365),"") -> 2.053224 | BW12: =IF(BW58,BW127*1000/(BW58*365),"") -> 1.066088 | BX12: =IF(BX58,BX127*1000/(BX58*365),"") -> 1.0102332 | BY12: =IF(BY58,BY127*1000/(BY58*365),"") -> 0.92340416 | BZ12: =IF(BZ58,BZ127*1000/(BZ58*365),"") -> 0.72471042 | CA12: =IF(CA58,CA127*1000/(CA58*365),"") | ... CC12: =IF(CC58,CC127*1000/(CC58*365),"") | CD12: =CD127*1000/(CD58*365) -> 0.84268872 | CE12: =CE127*1000/(CE58*365) -> 0.67331829 | CG12: WSX | CH12: =IF(CH58,CH127*1000/(CH58*365),"") -> 5.8969286 | CI12: =IF(CI58,CI127*1000/(CI58*365),"") -> 2.6874069 | CJ12: =IF(CJ58,CJ127*1000/(CJ58*365),"") -> 1.8387709 | CK12: =IF(CK58,CK127*1000/(CK58*365),"") -> 0.97942785 | CL12: =IF(CL58,CL127*1000/(CL58*365),"") -> 0.86521361 | CM12: =IF(CM58,CM127*1000/(CM58*365),"") -> 1.3220422 | CN12: =IF(CN58,CN127*1000/(CN58*365),"") -> 0.52843504 | CO12: =IF(CO58,CO127*1000/(CO58*365),"") | ... CQ12: =IF(CQ58,CQ127*1000/(CQ58*365),"") | CR12: =CR127*1000/(CR58*365) -> 0.83125155 | CS12: =CS127*1000/(CS58*365) -> 0.71028989 | CU12: WSX | CV12: =IF(CV58,CV127*1000/(CV58*365),"") -> 5.9689507 | CW12: =IF(CW58,CW127*1000/(CW58*365),"") -> 3.4062823 | CX12: =IF(CX58,CX127*1000/(CX58*365),"") -> 1.8678174 | CY12: =IF(CY58,CY127*1000/(CY58*365),"") -> 1.0189428 | CZ12: =IF(CZ58,CZ127*1000/(CZ58*365),"") -> 0.87690172 | DA12: =IF(DA58,DA127*1000/(DA58*365),"") -> 1.297515 | DB12: =IF(DB58,DB127*1000/(DB58*365),"") -> 0.50964796 | DC12: =IF(DC58,DC127*1000/(DC58*365),"") | ... DE12: =IF(DE58,DE127*1000/(DE58*365),"") | DF12: =DF127*1000/(DF58*365) -> 0.8274013 | DG12: =DG127*1000/(DG58*365) -> 0.69232711
