Workbook
Name _1___Data_table_for_graph___Leakage___AR4__AR3__AR2__AR1_and_Ofwat_leakage_targets: '[3]7_Leakage'!$A$8
Name _1__Data_table_for_graph___meter_penetration___AR4__AR3__AR2__and_AR1: '[3]6_Meter Penetration'!$A$8
Name _1__Graph___meter_penetration___AR4__AR3__AR2__and_AR1: '[3]6_Meter Penetration'!$A$8
Name _2__Graph___Leakage_AR4__AR3__AR2__AR1_and_Ofwat_leakage_targets: '[3]7_Leakage'!$A$68
Name _2__Graph___meter_penetration___AR4__AR3__AR2__and_AR1: '[3]6_Meter Penetration'!$A$8
Name _3__Table_of_Leakage__Ml_d__percent_change_since_AR3__AR2__AR1: '[3]7_Leakage'!$A$105
Name _3__Table_of_meter_penetration_percent_change_since_AR3__AR2_and_AR1: '[3]6_Meter Penetration'!$A$76
Name Actuals_Old: '[7]Actuals 1974-89'!$B$21:$S$23
Name AddRWD: '[8]F-Additions'!$E$36:$R$66
Name AddRWD2: '[8]F-Additions'!$E$160:$R$190
Name AddRWDI: '[8]F-Additions'!$E$284:$R$314
Name AddSC: '[8]F-Additions'!$E$377:$R$407
Name AddSC2: '[8]F-Additions'!$E$501:$R$531
Name AddSCI: '[8]F-Additions'!$E$625:$R$655
Name AddSLD: '[8]F-Additions'!$E$470:$R$500
Name AddSLD2: '[8]F-Additions'!$E$594:$R$624
Name AddSLDI: '[8]F-Additions'!$E$718:$R$748
Name AddSLT: '[8]F-Additions'!$E$439:$R$469
Name AddSLT2: '[8]F-Additions'!$E$563:$R$593
Name AddSLTI: '[8]F-Additions'!$E$687:$R$717
Name AddST: '[8]F-Additions'!$E$408:$R$438
Name AddST2: '[8]F-Additions'!$E$532:$R$562
Name AddSTI: '[8]F-Additions'!$E$656:$R$686
Name AddTWD: '[8]F-Additions'!$E$98:$R$128
Name AddTWI: '[8]F-Additions'!$E$346:$R$376
Name AddWR: '[8]F-Additions'!$E$5:$R$35
Name AddWR2: '[8]F-Additions'!$E$129:$R$159
Name AddWRI: '[8]F-Additions'!$E$253:$R$283
Name AddWT: '[8]F-Additions'!$E$67:$R$97
Name AddWT2: '[8]F-Additions'!$E$191:$R$221
Name AddWTD2: '[8]F-Additions'!$E$222:$R$252
Name AddWTI: '[8]F-Additions'!$E$315:$R$345
Name AFWBPtrans: [9]F_Inputs!$B$1184:$K$1301
Name AFWtransition: #REF!
Name AFWtransition: #REF!
Name AFWtransition: #REF!
Name AFWtransition: #REF!
Name AFWtransition: #REF!
Name AFWtransition: #REF!
Name AFWtransition: #REF!
Name AFWtransition: #REF!
Name ANHBPtrans: [9]F_Inputs!$B$4:$K$121
Name ANHtransition: #REF!
Name ANHtransition: #REF!
Name ANHtransition: #REF!
Name ANHtransition: #REF!
Name ANHtransition: #REF!
Name ANHtransition: #REF!
Name ANHtransition: #REF!
Name ANHtransition: #REF!
Name App1bdata: [10]App1b!$U$10:$DW$778
Name App1bIDnrs: [10]App1b!$U$10:$U$778
Name App1data: [10]App1!$C$7:$DE$781
Name App1IDnrs: [10]App1!$C$7:$C$781
Name APR19inrw: '[11]Actual capex 18-19 onwards'!$H$209:$M$225
Name APR19inrww: '[11]Actual capex 18-19 onwards'!$H$226:$M$242
Name APR19sgc: '[11]Actual capex 18-19 onwards'!$H$158:$M$174
Name APR19smi: '[11]Actual capex 18-19 onwards'!$H$90:$M$106
Name APR19smni: '[11]Actual capex 18-19 onwards'!$H$107:$M$123
Name APR19soi: '[11]Actual capex 18-19 onwards'!$H$124:$M$140

Sheet AMP8 allowances

Sheet WATS only
B1: SWC | H1: SWT | K1: WWNP
B2: AMP8modelledcostreg1 | C2: AMP8modelledcostreg2 | D2: AMP8modelledcostreg3 | E2: AMP8modelledcostreg4 | F2: AMP8modelledcostreg5 | G2: AMP8modelledcostreg6 | H2: AMP8modelledcostreg7 | I2: AMP8modelledcostreg8 | J2: AMP8modelledcostreg9 | K2: AMP8modelledcostreg10 | L2: AMP8modelledcostreg11 | M2: AMP8modelledcostreg12 | N2: AMP8modelledcostreg13 | O2: AMP8modelledcostreg14 | P2: AMP8modelledcostreg15 | Q2: AMP8modelledcostreg16 | R2: AMP8modelledcostreg17 | T2: Bottom-up | U2: Top-down | V2: Triangulated (17/18 prices) pre UQ challenge | W2: Triangulated (17/18 prices) post UQ challenge | X2: Triangulated (22/23 prices) post UQ challenge | Y2: Net CAC (22/23 prices)
A3: ANH | B3: 784.34569 | C3: 785.21596 | D3: 786.09153 | E3: 763.37716 | F3: 726.79234 | G3: 734.64854 | H3: 776.5171 | I3: 833.69682 | J3: 954.43772 | K3: 1493.7758 | L3: 1585.9891 | M3: 1549.2517 | N3: 1646.6492 | O3: 1448.4281 | P3: 1535.7787 | Q3: 1518.5688 | R3: 1594.6717 | T3: =AVERAGE(B3:G3)+J3 -> 1717.8496 | U3: =AVERAGE(K3,N3,O3,R3) -> 1545.8812 | V3: =AVERAGE(T3:U3) -> 1631.8654 | W3: =V3*'Approach WATS only'!$X$14 -> 1606.781 | X3: =W3*'CPIH ONS data'!$E$4 -> 1897.0192 | Y3: =X3-IA!X3 -> 133.95636
A4: NES | B4: 415.4643 | C4: 371.01043 | D4: 376.22601 | E4: 398.51983 | F4: 361.29694 | G4: 365.57861 | H4: 351.52601 | I4: 325.44254 | J4: 312.82776 | K4: 731.34278 | L4: 676.31498 | M4: 699.77774 | N4: 682.41899 | O4: 719.68309 | P4: 666.14636 | Q4: 677.56322 | R4: 668.21875 | T4: =AVERAGE(B4:G4)+J4 -> 694.17711 | U4: =AVERAGE(K4,N4,O4,R4) -> 700.4159 | V4: =AVERAGE(T4:U4) -> 697.29651 | W4: =V4*'Approach WATS only'!$X$14 -> 686.57795 | X4: =W4*'CPIH ONS data'!$E$4 -> 810.59679 | Y4: =X4-IA!X4 -> 3.3822023
A5: NWT | B5: 875.88121 | C5: 886.97127 | D5: 887.22439 | E5: 922.41514 | F5: 953.65563 | G5: 951.92396 | H5: 956.35365 | I5: 989.5289 | J5: 1042.7559 | K5: 1867.1727 | L5: 1845.1973 | M5: 1878.0997 | N5: 1930.3824 | O5: 1930.5697 | P5: 1909.6765 | Q5: 1949.9333 | R5: 2010.7024 | T5: =AVERAGE(B5:G5)+J5 -> 1955.7678 | U5: =AVERAGE(K5,N5,O5,R5) -> 1934.7068 | V5: =AVERAGE(T5:U5) -> 1945.2373 | W5: =V5*'Approach WATS only'!$X$14 -> 1915.3359 | X5: =W5*'CPIH ONS data'!$E$4 -> 2261.3093 | Y5: =X5-IA!X5 -> 103.33449
A6: SRN | B6: 821.46023 | C6: 789.81955 | D6: 804.04943 | E6: 827.15057 | F6: 794.78833 | G6: 810.65372 | H6: 550.93198 | I6: 587.5685 | J6: 669.12495 | K6: 1522.59 | L6: 1487.0527 | M6: 1521.9621 | N6: 1525.0828 | O6: 1526.8195 | P6: 1493.7552 | Q6: 1528.8885 | R6: 1525.0643 | T6: =AVERAGE(B6:G6)+J6 -> 1477.1119 | U6: =AVERAGE(K6,N6,O6,R6) -> 1524.8891 | V6: =AVERAGE(T6:U6) -> 1501.0005 | W6: =V6*'Approach WATS only'!$X$14 -> 1477.9278 | X6: =W6*'CPIH ONS data'!$E$4 -> 1744.8907 | Y6: =X6-IA!X6 -> 95.773339
A7: SVH | B7: 1020.2084 | C7: 950.89611 | D7: 919.53503 | E7: 1012.8296 | F7: 953.17719 | G7: 918.00546 | H7: 1077.2239 | I7: 1111.7987 | J7: 1062.5323 | K7: 1940.22 | L7: 1973.9915 | M7: 1971.5651 | N7: 1975.0946 | O7: 1935.0615 | P7: 1967.6986 | Q7: 1975.9787 | R7: 1971.9022 | T7: =AVERAGE(B7:G7)+J7 -> 2024.9742 | U7: =AVERAGE(K7,N7,O7,R7) -> 1955.5696 | V7: =AVERAGE(T7:U7) -> 1990.2719 | W7: =V7*'Approach WATS only'!$X$14 -> 1959.6783 | X7: =W7*'CPIH ONS data'!$E$4 -> 2313.6614 | Y7: =X7-IA!X7 -> 21.636196
A8: SWB | B8: 285.35125 | C8: 302.85857 | D8: 289.90441 | E8: 277.54544 | F8: 293.73837 | G8: 279.64101 | H8: 331.91591 | I8: 328.26669 | J8: 343.15512 | K8: 592.15789 | L8: 634.62983 | M8: 605.5498 | N8: 624.20714 | O8: 583.68015 | P8: 623.9591 | Q8: 600.03418 | R8: 614.97061 | T8: =AVERAGE(B8:G8)+J8 -> 631.32829 | U8: =AVERAGE(K8,N8,O8,R8) -> 603.75395 | V8: =AVERAGE(T8:U8) -> 617.54112 | W8: =V8*'Approach WATS only'!$X$14 -> 608.04853 | X8: =W8*'CPIH ONS data'!$E$4 -> 717.88234 | Y8: =X8-IA!X8 -> 19.081241
A9: TMS | B9: 1483.9971 | C9: 1447.152 | D9: 1507.1511 | E9: 1425.9959 | F9: 1432.3232 | G9: 1485.2433 | H9: 1731.6498 | I9: 1615.1048 | J9: 1443.1353 | K9: 3301.6685 | L9: 3339.1125 | M9: 3256.5503 | N9: 3111.8087 | O9: 3244.4345 | P9: 3277.9815 | Q9: 3179.4953 | R9: 3038.5631 | T9: =AVERAGE(B9:G9)+J9 -> 2906.7791 | U9: =AVERAGE(K9,N9,O9,R9) -> 3174.1187 | V9: =AVERAGE(T9:U9) -> 3040.4489 | W9: =V9*'Approach WATS only'!$X$14 -> 2993.7124 | X9: =W9*'CPIH ONS data'!$E$4 -> 3534.4765 | Y9: =X9-IA!X9 -> -118.6343
A10: WSH | B10: 471.45328 | C10: 405.61701 | D10: 407.41319 | E10: 507.18246 | F10: 442.48958 | G10: 445.871 | H10: 489.70994 | I10: 444.51206 | J10: 427.64354 | K10: 953.18806 | L10: 985.70349 | M10: 938.56275 | N10: 916.43463 | O10: 1003.3852 | P10: 1038.4002 | Q10: 987.048 | R10: 972.13939 | T10: =AVERAGE(B10:G10)+J10 -> 874.31463 | U10: =AVERAGE(K10,N10,O10,R10) -> 961.28681 | V10: =AVERAGE(T10:U10) -> 917.80072 | W10: =V10*'Approach WATS only'!$X$14 -> 903.69266 | X10: =W10*'CPIH ONS data'!$E$4 -> 1066.9296 | Y10: =X10-IA!X10 -> -15.936669
A11: WSX | B11: 387.92791 | C11: 402.75034 | D11: 421.50228 | E11: 379.45239 | F11: 395.94798 | G11: 414.96621 | H11: 433.37204 | I11: 463.62181 | J11: 410.53545 | K11: 832.12036 | L11: 811.02444 | M11: 841.90526 | N11: 817.16347 | O11: 823.56096 | P11: 802.72384 | Q11: 835.56718 | R11: 807.52397 | T11: =AVERAGE(B11:G11)+J11 -> 810.95997 | U11: =AVERAGE(K11,N11,O11,R11) -> 820.09219 | V11: =AVERAGE(T11:U11) -> 815.52608 | W11: =V11*'Approach WATS only'!$X$14 -> 802.99015 | X11: =W11*'CPIH ONS data'!$E$4 -> 948.0369 | Y11: =X11-IA!X11 -> -6.6090813
A12: YKY | B12: 672.06482 | C12: 580.26231 | D12: 623.22196 | E12: 677.54546 | F12: 589.63527 | G12: 637.89414 | H12: 697.15581 | I12: 681.98411 | J12: 720.19928 | K12: 1392.696 | L12: 1349.9268 | M12: 1372.8298 | N12: 1399.9896 | O12: 1409.1891 | P12: 1366.4514 | Q12: 1382.463 | R12: 1419.3521 | T12: =AVERAGE(B12:G12)+J12 -> 1350.3033 | U12: =AVERAGE(K12,N12,O12,R12) -> 1405.3067 | V12: =AVERAGE(T12:U12) -> 1377.805 | W12: =V12*'Approach WATS only'!$X$14 -> 1356.6259 | X12: =W12*'CPIH ONS data'!$E$4 -> 1601.6778 | Y12: =X12-IA!X12 -> 62.177487

Sheet IA
B1: SWC | H1: SWT | K1: WWNP
B2: AMP8modelledcostreg1 | C2: AMP8modelledcostreg2 | D2: AMP8modelledcostreg3 | E2: AMP8modelledcostreg4 | F2: AMP8modelledcostreg5 | G2: AMP8modelledcostreg6 | H2: AMP8modelledcostreg7 | I2: AMP8modelledcostreg8 | J2: AMP8modelledcostreg9 | K2: AMP8modelledcostreg10 | L2: AMP8modelledcostreg11 | M2: AMP8modelledcostreg12 | N2: AMP8modelledcostreg13 | O2: AMP8modelledcostreg14 | P2: AMP8modelledcostreg15 | Q2: AMP8modelledcostreg16 | R2: AMP8modelledcostreg17 | T2: Bottom-up | U2: Top-down | V2: Triangulated (17/18 prices) pre UQ challenge | W2: Triangulated (17/18 prices) post UQ challenge | X2: Triangulated (22/23 prices) post UQ challenge
A3: ANH | B3: 784.34569 | C3: 785.21596 | D3: 786.09153 | E3: 763.37716 | F3: 726.79234 | G3: 734.64854 | H3: 776.5171 | I3: 833.69682 | J3: 954.43772 | K3: 1493.7758 | L3: 1585.9891 | M3: 1549.2517 | N3: 1646.6492 | O3: 1448.4281 | P3: 1535.7787 | Q3: 1518.5688 | R3: 1594.6717 | T3: =AVERAGE(B3:G3)+AVERAGE(H3:I3) -> 1568.5188 | U3: =AVERAGE(K3:M3,O3:Q3) -> 1521.9654 | V3: =AVERAGE(T3:U3) -> 1545.2421 | W3: =V3*'Approach IA'!$X$14 -> 1493.3196 | X3: =W3*'CPIH ONS data'!$E$4 -> 1763.0628
A4: NES | B4: 415.4643 | C4: 371.01043 | D4: 376.22601 | E4: 398.51983 | F4: 361.29694 | G4: 365.57861 | H4: 351.52601 | I4: 325.44254 | J4: 312.82776 | K4: 731.34278 | L4: 676.31498 | M4: 699.77774 | N4: 682.41899 | O4: 719.68309 | P4: 666.14636 | Q4: 677.56322 | R4: 668.21875 | T4: =AVERAGE(B4:G4)+AVERAGE(H4:I4) -> 719.83363 | U4: =AVERAGE(K4:M4,O4:Q4) -> 695.13803 | V4: =AVERAGE(T4:U4) -> 707.48583 | W4: =V4*'Approach IA'!$X$14 -> 683.71321 | X4: =W4*'CPIH ONS data'!$E$4 -> 807.21458
A5: NWT | B5: 875.88121 | C5: 886.97127 | D5: 887.22439 | E5: 922.41514 | F5: 953.65563 | G5: 951.92396 | H5: 956.35365 | I5: 989.5289 | J5: 1042.7559 | K5: 1867.1727 | L5: 1845.1973 | M5: 1878.0997 | N5: 1930.3824 | O5: 1930.5697 | P5: 1909.6765 | Q5: 1949.9333 | R5: 2010.7024 | T5: =AVERAGE(B5:G5)+AVERAGE(H5:I5) -> 1885.9532 | U5: =AVERAGE(K5:M5,O5:Q5) -> 1896.7748 | V5: =AVERAGE(T5:U5) -> 1891.364 | W5: =V5*'Approach IA'!$X$14 -> 1827.8113 | X5: =W5*'CPIH ONS data'!$E$4 -> 2157.9748
A6: SRN | B6: 821.46023 | C6: 789.81955 | D6: 804.04943 | E6: 827.15057 | F6: 794.78833 | G6: 810.65372 | H6: 550.93198 | I6: 587.5685 | J6: 669.12495 | K6: 1522.59 | L6: 1487.0527 | M6: 1521.9621 | N6: 1525.0828 | O6: 1526.8195 | P6: 1493.7552 | Q6: 1528.8885 | R6: 1525.0643 | T6: =AVERAGE(B6:G6)+AVERAGE(H6:I6) -> 1377.2372 | U6: =AVERAGE(K6:M6,O6:Q6) -> 1513.5113 | V6: =AVERAGE(T6:U6) -> 1445.3743 | W6: =V6*'Approach IA'!$X$14 -> 1396.8075 | X6: =W6*'CPIH ONS data'!$E$4 -> 1649.1174
A7: SVH | B7: 1020.2084 | C7: 950.89611 | D7: 919.53503 | E7: 1012.8296 | F7: 953.17719 | G7: 918.00546 | H7: 1077.2239 | I7: 1111.7987 | J7: 1062.5323 | K7: 1940.22 | L7: 1973.9915 | M7: 1971.5651 | N7: 1975.0946 | O7: 1935.0615 | P7: 1967.6986 | Q7: 1975.9787 | R7: 1971.9022 | T7: =AVERAGE(B7:G7)+AVERAGE(H7:I7) -> 2056.9532 | U7: =AVERAGE(K7:M7,O7:Q7) -> 1960.7526 | V7: =AVERAGE(T7:U7) -> 2008.8529 | W7: =V7*'Approach IA'!$X$14 -> 1941.3523 | X7: =W7*'CPIH ONS data'!$E$4 -> 2292.0252
A8: SWB | B8: 285.35125 | C8: 302.85857 | D8: 289.90441 | E8: 277.54544 | F8: 293.73837 | G8: 279.64101 | H8: 331.91591 | I8: 328.26669 | J8: 343.15512 | K8: 592.15789 | L8: 634.62983 | M8: 605.5498 | N8: 624.20714 | O8: 583.68015 | P8: 623.9591 | Q8: 600.03418 | R8: 614.97061 | T8: =AVERAGE(B8:G8)+AVERAGE(H8:I8) -> 618.26447 | U8: =AVERAGE(K8:M8,O8:Q8) -> 606.66849 | V8: =AVERAGE(T8:U8) -> 612.46648 | W8: =V8*'Approach IA'!$X$14 -> 591.88666 | X8: =W8*'CPIH ONS data'!$E$4 -> 698.8011
A9: TMS | B9: 1483.9971 | C9: 1447.152 | D9: 1507.1511 | E9: 1425.9959 | F9: 1432.3232 | G9: 1485.2433 | H9: 1731.6498 | I9: 1615.1048 | J9: 1443.1353 | K9: 3301.6685 | L9: 3339.1125 | M9: 3256.5503 | N9: 3111.8087 | O9: 3244.4345 | P9: 3277.9815 | Q9: 3179.4953 | R9: 3038.5631 | T9: =AVERAGE(B9:G9)+AVERAGE(H9:I9) -> 3137.0211 | U9: =AVERAGE(K9:M9,O9:Q9) -> 3266.5404 | V9: =AVERAGE(T9:U9) -> 3201.7808 | W9: =V9*'Approach IA'!$X$14 -> 3094.196 | X9: =W9*'CPIH ONS data'!$E$4 -> 3653.1108
A10: WSH | B10: 471.45328 | C10: 405.61701 | D10: 407.41319 | E10: 507.18246 | F10: 442.48958 | G10: 445.871 | H10: 489.70994 | I10: 444.51206 | J10: 427.64354 | K10: 953.18806 | L10: 985.70349 | M10: 938.56275 | N10: 916.43463 | O10: 1003.3852 | P10: 1038.4002 | Q10: 987.048 | R10: 972.13939 | T10: =AVERAGE(B10:G10)+AVERAGE(H10:I10) -> 913.78208 | U10: =AVERAGE(K10:M10,O10:Q10) -> 984.38128 | V10: =AVERAGE(T10:U10) -> 949.08168 | W10: =V10*'Approach IA'!$X$14 -> 917.19107 | X10: =W10*'CPIH ONS data'!$E$4 -> 1082.8663
A11: WSX | B11: 387.92791 | C11: 402.75034 | D11: 421.50228 | E11: 379.45239 | F11: 395.94798 | G11: 414.96621 | H11: 433.37204 | I11: 463.62181 | J11: 410.53545 | K11: 832.12036 | L11: 811.02444 | M11: 841.90526 | N11: 817.16347 | O11: 823.56096 | P11: 802.72384 | Q11: 835.56718 | R11: 807.52397 | T11: =AVERAGE(B11:G11)+AVERAGE(H11:I11) -> 848.92144 | U11: =AVERAGE(K11:M11,O11:Q11) -> 824.48367 | V11: =AVERAGE(T11:U11) -> 836.70256 | W11: =V11*'Approach IA'!$X$14 -> 808.58806 | X11: =W11*'CPIH ONS data'!$E$4 -> 954.64598
A12: YKY | B12: 672.06482 | C12: 580.26231 | D12: 623.22196 | E12: 677.54546 | F12: 589.63527 | G12: 637.89414 | H12: 697.15581 | I12: 681.98411 | J12: 720.19928 | K12: 1392.696 | L12: 1349.9268 | M12: 1372.8298 | N12: 1399.9896 | O12: 1409.1891 | P12: 1366.4514 | Q12: 1382.463 | R12: 1419.3521 | T12: =AVERAGE(B12:G12)+AVERAGE(H12:I12) -> 1319.674 | U12: =AVERAGE(K12:M12,O12:Q12) -> 1378.926 | V12: =AVERAGE(T12:U12) -> 1349.3 | W12: =V12*'Approach IA'!$X$14 -> 1303.9614 | X12: =W12*'CPIH ONS data'!$E$4 -> 1539.5003

Sheet Modelled costs 2018-22

Sheet Approach WATS only
B1: SWC | H1: SWT | K1: WWNP
B2: modelledcostreg1 | C2: modelledcostreg2 | D2: modelledcostreg3 | E2: modelledcostreg4 | F2: modelledcostreg5 | G2: modelledcostreg6 | H2: modelledcostreg7 | I2: modelledcostreg8 | J2: modelledcostreg9 | K2: modelledcostreg10 | L2: modelledcostreg11 | M2: modelledcostreg12 | N2: modelledcostreg13 | O2: modelledcostreg14 | P2: modelledcostreg15 | Q2: modelledcostreg16 | R2: modelledcostreg17 | T2: Bottom-up | U2: Top-down | V2: Triangulated (17/18 prices) | W2: Actual costs (17/18 prices) | X2: Efficiency scores
A3: ANH | B3: 742.01149 | C3: 774.01915 | D3: 767.72295 | E3: 724.66044 | F3: 716.43247 | G3: 717.10351 | H3: 747.71724 | I3: 791.88444 | J3: 914.58821 | K3: 1441.0062 | L3: 1525.811 | M3: 1488.0077 | N3: 1584.2385 | O3: 1397.542 | P3: 1477.8159 | Q3: 1456.642 | R3: 1534.4275 | T3: =AVERAGE(B3:G3)+J3 -> 1654.9132 | U3: =AVERAGE(K3,N3,O3,R3) -> 1489.3036 | V3: =AVERAGE(T3:U3) -> 1572.1084 | W3: 1541.1456 | X3: =W3/V3 -> 0.98030494
A4: NES | B4: 400.22165 | C4: 367.21797 | D4: 371.17706 | E4: 384.37668 | F4: 356.91889 | G4: 359.99432 | H4: 351.82139 | I4: 332.98642 | J4: 305.06286 | K4: 734.35155 | L4: 679.44065 | M4: 706.78737 | N4: 678.10814 | O4: 722.23981 | P4: 668.84054 | Q4: 685.30471 | R4: 663.22712 | T4: =AVERAGE(B4:G4)+J4 -> 678.38062 | U4: =AVERAGE(K4,N4,O4,R4) -> 699.48166 | V4: =AVERAGE(T4:U4) -> 688.93114 | W4: 700.93809 | X4: =W4/V4 -> 1.0174284
A5: NWT | B5: 838.73342 | C5: 863.64412 | D5: 854.34384 | E5: 885.28516 | F5: 928.63012 | G5: 916.1184 | H5: 925.05877 | I5: 958.21066 | J5: 1012.8975 | K5: 1821.2966 | L5: 1790.2846 | M5: 1829.2717 | N5: 1880.6757 | O5: 1884.063 | P5: 1853.9416 | Q5: 1899.2756 | R5: 1959.8905 | T5: =AVERAGE(B5:G5)+J5 -> 1894.0233 | U5: =AVERAGE(K5,N5,O5,R5) -> 1886.4814 | V5: =AVERAGE(T5:U5) -> 1890.2524 | W5: 1937.5862 | X5: =W5/V5 -> 1.025041
A6: SRN | B6: 787.86968 | C6: 776.3562 | D6: 782.48432 | E6: 794.62708 | F6: 780.25015 | G6: 787.47992 | H6: 530.48054 | I6: 564.31832 | J6: 639.4885 | K6: 1473.6805 | L6: 1433.3126 | M6: 1470.2112 | N6: 1469.2246 | O6: 1477.4082 | P6: 1439.4672 | Q6: 1475.4553 | R6: 1468.444 | T6: =AVERAGE(B6:G6)+J6 -> 1424.3331 | U6: =AVERAGE(K6,N6,O6,R6) -> 1472.1893 | V6: =AVERAGE(T6:U6) -> 1448.2612 | W6: 1539.9442 | X6: =W6/V6 -> 1.0633056
A7: SVH | B7: 958.95827 | C7: 938.44183 | D7: 896.98569 | E7: 952.57499 | F7: 935.54312 | G7: 890.20739 | H7: 1049.3152 | I7: 1080.0222 | J7: 1028.8709 | K7: 1891.6925 | L7: 1920.9105 | M7: 1919.766 | N7: 1920.2767 | O7: 1882.5176 | P7: 1910.5528 | Q7: 1918.6714 | R7: 1912.0214 | T7: =AVERAGE(B7:G7)+J7 -> 1957.6561 | U7: =AVERAGE(K7,N7,O7,R7) -> 1901.6271 | V7: =AVERAGE(T7:U7) -> 1929.6416 | W7: 1869.1488 | X7: =W7/V7 -> 0.96865078
A8: SWB | B8: 266.20671 | C8: 300.35277 | D8: 286.78072 | E8: 260.15668 | F8: 291.3438 | G8: 276.67273 | H8: 316.98263 | I8: 311.17796 | J8: 324.70445 | K8: 569.7383 | L8: 607.33262 | M8: 580.52723 | N8: 596.97753 | O8: 561.72707 | P8: 597.30481 | Q8: 574.64138 | R8: 588.11203 | T8: =AVERAGE(B8:G8)+J8 -> 604.95669 | U8: =AVERAGE(K8,N8,O8,R8) -> 579.13873 | V8: =AVERAGE(T8:U8) -> 592.04771 | W8: 592.10892 | X8: =W8/V8 -> 1.0001034
A9: TMS | B9: 1393.297 | C9: 1422.5974 | D9: 1464.5549 | E9: 1342.0097 | F9: 1401.2696 | G9: 1436.2625 | H9: 1666.538 | I9: 1553.6864 | J9: 1395.8498 | K9: 3193.7017 | L9: 3217.0855 | M9: 3145.8369 | N9: 3010.1848 | O9: 3134.0455 | P9: 3153.9133 | Q9: 3065.3453 | R9: 2934.6629 | T9: =AVERAGE(B9:G9)+J9 -> 2805.8484 | U9: =AVERAGE(K9,N9,O9,R9) -> 3068.1487 | V9: =AVERAGE(T9:U9) -> 2936.9985 | W9: 2929.9463 | X9: =W9/V9 -> 0.99759882
A10: WSH | B10: 456.75786 | C10: 397.89333 | D10: 398.11208 | E10: 491.97395 | F10: 433.52058 | G10: 435.16831 | H10: 475.0715 | I10: 429.5735 | J10: 415.74749 | K10: 935.50278 | L10: 962.45086 | M10: 918.57833 | N10: 897.10833 | O10: 984.6783 | P10: 1013.8807 | Q10: 964.99767 | R10: 951.32332 | T10: =AVERAGE(B10:G10)+J10 -> 851.31851 | U10: =AVERAGE(K10,N10,O10,R10) -> 942.15318 | V10: =AVERAGE(T10:U10) -> 896.73585 | W10: 979.70971 | X10: =W10/V10 -> 1.0925288
A11: WSX | B11: 369.30272 | C11: 396.42575 | D11: 410.97217 | E11: 362.15464 | F11: 389.01084 | G11: 403.74138 | H11: 402.6059 | I11: 432.6055 | J11: 378.77378 | K11: 775.30543 | L11: 751.37145 | M11: 784.16712 | N11: 758.23928 | O11: 766.92964 | P11: 743.26853 | Q11: 777.58638 | R11: 748.64969 | T11: =AVERAGE(B11:G11)+J11 -> 767.37503 | U11: =AVERAGE(K11,N11,O11,R11) -> 762.28101 | V11: =AVERAGE(T11:U11) -> 764.82802 | W11: 722.37706 | X11: =W11/V11 -> 0.94449607
A12: YKY | B12: 641.56071 | C12: 568.43935 | D12: 599.73681 | E12: 647.26591 | F12: 576.31991 | G12: 611.71894 | H12: 679.27834 | I12: 672.52003 | J12: 705.11812 | K12: 1355.6297 | L12: 1319.5612 | M12: 1341.7191 | N12: 1366.2983 | O12: 1370.455 | P12: 1334.6364 | Q12: 1352.1184 | R12: 1384.3139 | T12: =AVERAGE(B12:G12)+J12 -> 1312.6251 | U12: =AVERAGE(K12,N12,O12,R12) -> 1369.1742 | V12: =AVERAGE(T12:U12) -> 1340.8996 | W12: 1400.5788 | X12: =W12/V12 -> 1.0445068
W14: UQ | X14: =PERCENTILE(X3:X12,0.25) -> 0.98462841

Sheet Approach IA
B1: SWC | H1: SWT | K1: WWNP
B2: modelledcostreg1 | C2: modelledcostreg2 | D2: modelledcostreg3 | E2: modelledcostreg4 | F2: modelledcostreg5 | G2: modelledcostreg6 | H2: modelledcostreg7 | I2: modelledcostreg8 | J2: modelledcostreg9 | K2: modelledcostreg10 | L2: modelledcostreg11 | M2: modelledcostreg12 | N2: modelledcostreg13 | O2: modelledcostreg14 | P2: modelledcostreg15 | Q2: modelledcostreg16 | R2: modelledcostreg17 | T2: Bottom-up | U2: Top-down | V2: Triangulated (17/18 prices) | W2: Actual costs (17/18 prices) | X2: Efficiency scores
A3: ANH | B3: 742.01149 | C3: 774.01915 | D3: 767.72295 | E3: 724.66044 | F3: 716.43247 | G3: 717.10351 | H3: 747.71724 | I3: 791.88444 | J3: 914.58821 | K3: 1441.0062 | L3: 1525.811 | M3: 1488.0077 | N3: 1584.2385 | O3: 1397.542 | P3: 1477.8159 | Q3: 1456.642 | R3: 1534.4275 | T3: =AVERAGE(B3:G3)+AVERAGE(H3:I3) -> 1510.1258 | U3: =AVERAGE(K3:M3,O3:Q3) -> 1464.4708 | V3: =AVERAGE(T3:U3) -> 1487.2983 | W3: 1541.1456 | X3: =W3/V3 -> 1.0362048
A4: NES | B4: 400.22165 | C4: 367.21797 | D4: 371.17706 | E4: 384.37668 | F4: 356.91889 | G4: 359.99432 | H4: 351.82139 | I4: 332.98642 | J4: 305.06286 | K4: 734.35155 | L4: 679.44065 | M4: 706.78737 | N4: 678.10814 | O4: 722.23981 | P4: 668.84054 | Q4: 685.30471 | R4: 663.22712 | T4: =AVERAGE(B4:G4)+AVERAGE(H4:I4) -> 715.72167 | U4: =AVERAGE(K4:M4,O4:Q4) -> 699.4941 | V4: =AVERAGE(T4:U4) -> 707.60789 | W4: 700.93809 | X4: =W4/V4 -> 0.99057416
A5: NWT | B5: 838.73342 | C5: 863.64412 | D5: 854.34384 | E5: 885.28516 | F5: 928.63012 | G5: 916.1184 | H5: 925.05877 | I5: 958.21066 | J5: 1012.8975 | K5: 1821.2966 | L5: 1790.2846 | M5: 1829.2717 | N5: 1880.6757 | O5: 1884.063 | P5: 1853.9416 | Q5: 1899.2756 | R5: 1959.8905 | T5: =AVERAGE(B5:G5)+AVERAGE(H5:I5) -> 1822.7606 | U5: =AVERAGE(K5:M5,O5:Q5) -> 1846.3555 | V5: =AVERAGE(T5:U5) -> 1834.558 | W5: 1937.5862 | X5: =W5/V5 -> 1.0561597
A6: SRN | B6: 787.86968 | C6: 776.3562 | D6: 782.48432 | E6: 794.62708 | F6: 780.25015 | G6: 787.47992 | H6: 530.48054 | I6: 564.31832 | J6: 639.4885 | K6: 1473.6805 | L6: 1433.3126 | M6: 1470.2112 | N6: 1469.2246 | O6: 1477.4082 | P6: 1439.4672 | Q6: 1475.4553 | R6: 1468.444 | T6: =AVERAGE(B6:G6)+AVERAGE(H6:I6) -> 1332.244 | U6: =AVERAGE(K6:M6,O6:Q6) -> 1461.5892 | V6: =AVERAGE(T6:U6) -> 1396.9166 | W6: 1539.9442 | X6: =W6/V6 -> 1.1023881
A7: SVH | B7: 958.95827 | C7: 938.44183 | D7: 896.98569 | E7: 952.57499 | F7: 935.54312 | G7: 890.20739 | H7: 1049.3152 | I7: 1080.0222 | J7: 1028.8709 | K7: 1891.6925 | L7: 1920.9105 | M7: 1919.766 | N7: 1920.2767 | O7: 1882.5176 | P7: 1910.5528 | Q7: 1918.6714 | R7: 1912.0214 | T7: =AVERAGE(B7:G7)+AVERAGE(H7:I7) -> 1993.4539 | U7: =AVERAGE(K7:M7,O7:Q7) -> 1907.3518 | V7: =AVERAGE(T7:U7) -> 1950.4028 | W7: 1869.1488 | X7: =W7/V7 -> 0.95833988
A8: SWB | B8: 266.20671 | C8: 300.35277 | D8: 286.78072 | E8: 260.15668 | F8: 291.3438 | G8: 276.67273 | H8: 316.98263 | I8: 311.17796 | J8: 324.70445 | K8: 569.7383 | L8: 607.33262 | M8: 580.52723 | N8: 596.97753 | O8: 561.72707 | P8: 597.30481 | Q8: 574.64138 | R8: 588.11203 | T8: =AVERAGE(B8:G8)+AVERAGE(H8:I8) -> 594.33254 | U8: =AVERAGE(K8:M8,O8:Q8) -> 581.87857 | V8: =AVERAGE(T8:U8) -> 588.10555 | W8: 592.10892 | X8: =W8/V8 -> 1.0068072
A9: TMS | B9: 1393.297 | C9: 1422.5974 | D9: 1464.5549 | E9: 1342.0097 | F9: 1401.2696 | G9: 1436.2625 | H9: 1666.538 | I9: 1553.6864 | J9: 1395.8498 | K9: 3193.7017 | L9: 3217.0855 | M9: 3145.8369 | N9: 3010.1848 | O9: 3134.0455 | P9: 3153.9133 | Q9: 3065.3453 | R9: 2934.6629 | T9: =AVERAGE(B9:G9)+AVERAGE(H9:I9) -> 3020.1108 | U9: =AVERAGE(K9:M9,O9:Q9) -> 3151.6547 | V9: =AVERAGE(T9:U9) -> 3085.8827 | W9: 2929.9463 | X9: =W9/V9 -> 0.94946779
A10: WSH | B10: 456.75786 | C10: 397.89333 | D10: 398.11208 | E10: 491.97395 | F10: 433.52058 | G10: 435.16831 | H10: 475.0715 | I10: 429.5735 | J10: 415.74749 | K10: 935.50278 | L10: 962.45086 | M10: 918.57833 | N10: 897.10833 | O10: 984.6783 | P10: 1013.8807 | Q10: 964.99767 | R10: 951.32332 | T10: =AVERAGE(B10:G10)+AVERAGE(H10:I10) -> 887.89352 | U10: =AVERAGE(K10:M10,O10:Q10) -> 963.34811 | V10: =AVERAGE(T10:U10) -> 925.62081 | W10: 979.70971 | X10: =W10/V10 -> 1.0584353
A11: WSX | B11: 369.30272 | C11: 396.42575 | D11: 410.97217 | E11: 362.15464 | F11: 389.01084 | G11: 403.74138 | H11: 402.6059 | I11: 432.6055 | J11: 378.77378 | K11: 775.30543 | L11: 751.37145 | M11: 784.16712 | N11: 758.23928 | O11: 766.92964 | P11: 743.26853 | Q11: 777.58638 | R11: 748.64969 | T11: =AVERAGE(B11:G11)+AVERAGE(H11:I11) -> 806.20695 | U11: =AVERAGE(K11:M11,O11:Q11) -> 766.43809 | V11: =AVERAGE(T11:U11) -> 786.32252 | W11: 722.37706 | X11: =W11/V11 -> 0.91867782
A12: YKY | B12: 641.56071 | C12: 568.43935 | D12: 599.73681 | E12: 647.26591 | F12: 576.31991 | G12: 611.71894 | H12: 679.27834 | I12: 672.52003 | J12: 705.11812 | K12: 1355.6297 | L12: 1319.5612 | M12: 1341.7191 | N12: 1366.2983 | O12: 1370.455 | P12: 1334.6364 | Q12: 1352.1184 | R12: 1384.3139 | T12: =AVERAGE(B12:G12)+AVERAGE(H12:I12) -> 1283.4061 | U12: =AVERAGE(K12:M12,O12:Q12) -> 1345.6866 | V12: =AVERAGE(T12:U12) -> 1314.5464 | W12: 1400.5788 | X12: =W12/V12 -> 1.0654465
W14: UQ | X14: =PERCENTILE(X3:X12,0.25) -> 0.96639845

Sheet Modelled coefficients

Sheet Ofwat estimated coefficients
B1: re1 | C1: re2 | D1: re3 | E1: re4 | F1: re5 | G1: re6 | H1: re7 | I1: re8 | J1: re9 | K1: re10 | L1: re11 | M1: re12 | N1: re13 | O1: re14 | P1: re15 | Q1: re16 | R1: re17
B2: SWC1 | C2: SWC2 | D2: SWC3 | E2: SWC4 | F2: SWC5 | G2: SWC6 | H2: SWT1 | I2: SWT2 | J2: SWT3 | K2: WWNP1 | L2: WWNP2 | M2: WWNP3 | N2: WWNP4 | O2: WWNP5 | P2: WWNP6 | Q2: WWNP7 | R2: WWNP8
A3: lnsewerlength | B3: 0.8039033 | C3: 0.8880373 | D3: 0.8613698 | E3: 0.8416572 | F3: 0.8948721 | G3: 0.8729548
A4: lnpumpingcapperlength | B4: 0.3444133 | C4: 0.5863077 | D4: 0.5420362 | E4: 0.3601588 | F4: 0.56165 | G4: 0.518293 | K4: 0.3672214 | L4: 0.3795393 | M4: 0.3593368 | N4: 0.2951393 | O4: 0.3570506 | P4: 0.370151 | Q4: 0.3476955 | R4: 0.2755477
A5: lndensity | B5: 1.043016 | E5: 0.9817305
A6: lnWAD_MSOAtoLAD_population | C6: 0.2115382 | F6: 0.2393411
A7: lnWAD_MSOA_population | D7: 0.3540918 | G7: 0.3849687
A8: lnurbanrainfallperlength | E8: 0.1131698 | F8: 0.1518544 | G8: 0.1488617 | O8: 0.0751429 | P8: 0.0768251 | Q8: 0.0803948 | R8: 0.0882584
A9: lnload | H9: 0.6530081 | I9: 0.7229736 | J9: 0.7878741 | K9: 0.6463349 | L9: 0.7273738 | M9: 0.6863793 | N9: 0.7137636 | O9: 0.6509877 | P9: 0.7318936 | Q9: 0.706837 | R9: 0.7221679
A10: pctbands13 | H10: 0.029472 | L10: 0.0234791 | P10: 0.0229783
A11: pctnh3below3mg | H11: 0.0061016 | I11: 0.0061097 | J11: 0.006208 | K11: 0.0051637 | L11: 0.0050897 | M11: 0.0052182 | N11: 0.0054105 | O11: 0.0052483 | P11: 0.0051489 | Q11: 0.0052795 | R11: 0.0054902
A12: pctSTWslarger100k | I12: -0.0080977 | M12: -0.0021442 | Q12: -0.0028505
A13: lnWATS | J13: -0.2421426 | N13: -0.0918848 | R13: -0.0956882
A14: _cons | B14: -7.955786 | C14: -6.609005 | D14: -7.572069 | E14: -7.809381 | F14: -6.42442 | G14: -7.491671 | H14: -3.734348 | I14: -4.071786 | J14: -3.001322 | K14: -2.98403 | L14: -4.105937 | M14: -3.374185 | N14: -2.928756 | O14: -2.818966 | P14: -3.932039 | Q14: -3.354833 | R14: -2.731763
A15: depvar | B15: lnrealbotexplusswc | C15: lnrealbotexplusswc | D15: lnrealbotexplusswc | E15: lnrealbotexplusswc | F15: lnrealbotexplusswc | G15: lnrealbotexplusswc | H15: lnrealbotexplusswt | I15: lnrealbotexplusswt | J15: lnrealbotexplusswt | K15: lnrealbotexpluswwnp | L15: lnrealbotexpluswwnp | M15: lnrealbotexpluswwnp | N15: lnrealbotexpluswwnp | O15: lnrealbotexpluswwnp | P15: lnrealbotexpluswwnp | Q15: lnrealbotexpluswwnp | R15: lnrealbotexpluswwnp

Sheet Data and forecasts

Sheet CPIH ONS data
A1: Month | B1: CPIH
A2: 2009 APR | B2: 87.5 | D2: 2017/18 | E2: =AVERAGE(B98:B109) -> 104.21667
A3: 2009 MAY | B3: 87.9 | D3: 2022/23 | E3: =AVERAGE(B158:B169) -> 123.04167
A4: 2009 JUN | B4: 88.1 | D4: Ratio | E4: =E3/E2 -> 1.1806333
A5: 2009 JUL | B5: 88
A6: 2009 AUG | B6: 88.3
A7: 2009 SEP | B7: 88.3
A8: 2009 OCT | B8: 88.4
A9: 2009 NOV | B9: 88.6
A10: 2009 DEC | B10: 88.9
A11: 2010 JAN | B11: 88.8
A12: 2010 FEB | B12: 89
A13: 2010 MAR | B13: 89.4
A14: 2010 APR | B14: 89.9
A15: 2010 MAY | B15: 90.1
A16: 2010 JUN | B16: 90.2
... A169: 2023 MAR | B169: 126.8

Sheet Cost drivers forecasts
A1: companycode | B1: financialyear | C1: properties | D1: sewerlength | E1: load | F1: density | G1: pumpingcapperlength | H1: pctbands13 | I1: pctnh3below3mg | J1: pctSTWslarger100k | K1: WATS | L1: WAD_MSOAtoLAD_population | M1: WAD_MSOA_population | N1: urbanrainfall | O1: urbanrainfallperlength
A2: ANH | B2: 2025-26 | C2: 2944005.2 | D2: 77507.445 | E2: 447460.54 | F2: 37.983515 | G2: 1.5630531 | H2: 5.2092272 | I2: 19.837005 | J2: 43.150408 | K2: 6662.5432 | L2: 760.14582 | M2: 1964.7248 | N2: 2657.9266 | O2: 0.034292533
A3: ANH | B3: 2026-27 | C3: 2965291.5 | D3: 77617.269 | E3: 450447.99 | F3: 38.204017 | G3: 1.5608414 | H3: 5.2092272 | I3: 19.837005 | J3: 43.150408 | K3: 6662.5432 | L3: 763.62254 | M3: 1976.3965 | N3: 2657.9266 | O3: 0.034244011
A4: ANH | B4: 2027-28 | C4: 2986577.7 | D4: 77727.093 | E4: 453435.43 | F4: 38.423896 | G4: 1.5586361 | H4: 5.2092272 | I4: 19.837005 | J4: 43.150408 | K4: 6662.5432 | L4: 767.09926 | M4: 1988.0682 | N4: 2657.9266 | O4: 0.034195626
A5: ANH | B5: 2028-29 | C5: 3007864 | D5: 77836.917 | E5: 456422.87 | F5: 38.643154 | G5: 1.5564369 | H5: 5.2092272 | I5: 19.837005 | J5: 43.150408 | K5: 6662.5432 | L5: 770.57598 | M5: 1999.7399 | N5: 2657.9266 | O5: 0.034147377
A6: ANH | B6: 2029-30 | C6: 3029150.3 | D6: 77946.741 | E6: 459410.32 | F6: 38.861795 | G6: 1.5542439 | H6: 5.2092272 | I6: 19.837005 | J6: 43.150408 | K6: 6662.5432 | L6: 774.0527 | M6: 2011.4116 | N6: 2657.9266 | O6: 0.034099265
A7: NES | B7: 2025-26 | C7: 1320975 | D7: 30318.173 | E7: 176600.13 | F7: 43.570401 | G7: 1.4747178 | H7: 2.5603386 | I7: 3.6588136 | J7: 62.922508 | K7: 20496.279 | L7: 1328.587 | M7: 2641.6878 | N7: 1354.7294 | O7: 0.044683743
A8: NES | B8: 2026-27 | C8: 1327789.7 | D8: 30353.727 | E8: 176600.13 | F8: 43.743877 | G8: 1.4729904 | H8: 2.5603386 | I8: 3.6588136 | J8: 62.922508 | K8: 20496.279 | L8: 1334.4959 | M8: 2651.6233 | N8: 1354.7294 | O8: 0.044631403
A9: NES | B9: 2027-28 | C9: 1334604.5 | D9: 30389.282 | E9: 176600.13 | F9: 43.916948 | G9: 1.4712671 | H9: 2.5603386 | I9: 3.6588136 | J9: 62.922508 | K9: 20496.279 | L9: 1340.4049 | M9: 2661.5589 | N9: 1354.7294 | O9: 0.044579186
A10: NES | B10: 2028-29 | C10: 1341419.3 | D10: 30424.836 | E10: 176600.13 | F10: 44.089613 | G10: 1.4695478 | H10: 2.5603386 | I10: 3.6588136 | J10: 62.922508 | K10: 20496.279 | L10: 1346.3138 | M10: 2671.4945 | N10: 1354.7294 | O10: 0.044527091
A11: NES | B11: 2029-30 | C11: 1348234 | D11: 30460.391 | E11: 176600.13 | F11: 44.261876 | G11: 1.4678324 | H11: 2.5603386 | I11: 3.6588136 | J11: 62.922508 | K11: 20496.279 | L11: 1352.2228 | M11: 2681.4301 | N11: 1354.7294 | O11: 0.044475117
A12: NWT | B12: 2025-26 | C12: 3508243.2 | D12: 80007.777 | E12: 565758.65 | F12: 43.848777 | G12: 1.3086353 | H12: 1.5338628 | I12: 46.913483 | J12: 63.120573 | K12: 19681.186 | L12: 1918.6027 | M12: 3335.4372 | N12: 6038.4168 | O12: 0.075472874
A13: NWT | B13: 2026-27 | C13: 3530864 | D13: 80266.591 | E13: 568761.39 | F13: 43.989211 | G13: 1.3044157 | H13: 1.5338628 | I13: 46.913483 | J13: 63.120573 | K13: 19681.186 | L13: 1931.4165 | M13: 3362.0197 | N13: 6038.4168 | O13: 0.075229517
... A51: YKY | B51: 2029-30 | C51: 2437581.4 | D51: 52753.009 | E51: 348963.24 | F51: 46.207439 | G51: 1.4472966 | H51: 2.32821 | I51: 43.551989 | J51: 62.933312 | K51: 16984.525 | L51: 1160.4583 | M51: 3025.7152 | N51: 3110.2056 | O51: 0.058957882
