Workbook
Name _1st_model_column_flag: #REF!
Name _2020_25_RCV___nominal.ADDN1: #REF!
Name _2020_25_RCV___nominal.ADDN1.BEG: #REF!
Name _2020_25_RCV___nominal.ADDN2: #REF!
Name _2020_25_RCV___nominal.ADDN2.BEG: #REF!
Name _2020_25_RCV___nominal.BR: #REF!
Name _2020_25_RCV___nominal.BR.BEG: #REF!
Name _2020_25_RCV___nominal.WN: #REF!
Name _2020_25_RCV___nominal.WN.BEG: #REF!
Name _2020_25_RCV___nominal.WR: #REF!
Name _2020_25_RCV___nominal.WR.BEG: #REF!
Name _2020_25_RCV___nominal.WWN: #REF!
Name _2020_25_RCV___nominal.WWN.BEG: #REF!
Name _2020_25_RCV___not_negative_check.ADDN1: #REF!
Name _2020_25_RCV___not_negative_check.ADDN2: #REF!
Name _2020_25_RCV___not_negative_check.BR: #REF!
Name _2020_25_RCV___not_negative_check.WN: #REF!
Name _2020_25_RCV___not_negative_check.WR: #REF!
Name _2020_25_RCV___not_negative_check.WWN: #REF!
Name _2020_25_RCV___not_negative_check_overall.ADDN1: #REF!
Name _2020_25_RCV___not_negative_check_overall.ADDN2: #REF!
Name _2020_25_RCV___not_negative_check_overall.BR: #REF!
Name _2020_25_RCV___not_negative_check_overall.WN: #REF!
Name _2020_25_RCV___not_negative_check_overall.WR: #REF!
Name _2020_25_RCV___not_negative_check_overall.WWN: #REF!
Name _2020_25_RCV___opening_plus_movement___nominal.ADDN1: #REF!
Name _2020_25_RCV___opening_plus_movement___nominal.ADDN2: #REF!
Name _2020_25_RCV___opening_plus_movement___nominal.BR: #REF!
Name _2020_25_RCV___opening_plus_movement___nominal.WN: #REF!
Name _2020_25_RCV___opening_plus_movement___nominal.WR: #REF!
Name _2020_25_RCV___opening_plus_movement___nominal.WWN: #REF!
Name _2020_25_RCV___real.ADDN1: #REF!
Name _2020_25_RCV___real.ADDN2: #REF!
Name _2020_25_RCV___real.BR: #REF!
Name _2020_25_RCV___real.WN: #REF!
Name _2020_25_RCV___real.WR: #REF!
Name _2020_25_RCV___real.WWN: #REF!
Name _2020_25_RCV_initial_balance___nominal.ADDN1: #REF!
Name _2020_25_RCV_initial_balance___nominal.ADDN2: #REF!
Name _2020_25_RCV_initial_balance___nominal.BR: #REF!
Name _2020_25_RCV_initial_balance___nominal.WN: #REF!
Name _2020_25_RCV_initial_balance___nominal.WR: #REF!
Name _2020_25_RCV_initial_balance___nominal.WWN: #REF!
Name _2020_25_RCV_initial_balance___not_negative_check.ADDN1: #REF!
Name _2020_25_RCV_initial_balance___not_negative_check.ADDN2: #REF!
Name _2020_25_RCV_initial_balance___not_negative_check.BR: #REF!
Name _2020_25_RCV_initial_balance___not_negative_check.WN: #REF!
Name _2020_25_RCV_initial_balance___not_negative_check.WR: #REF!
Name _2020_25_RCV_initial_balance___not_negative_check.WWN: #REF!
Name _2020_25_RCV_initial_balance___not_negative_check_overall.ADDN1: #REF!
Name _2020_25_RCV_initial_balance___not_negative_check_overall.ADDN2: #REF!
Name _2020_25_RCV_initial_balance___not_negative_check_overall.BR: #REF!
Name _2020_25_RCV_initial_balance___not_negative_check_overall.WN: #REF!
Name _2020_25_RCV_initial_balance___not_negative_check_overall.WR: #REF!
Name _2020_25_RCV_initial_balance___not_negative_check_overall.WWN: #REF!
Name _2020_25_RCV_initial_balance___wholesale___nominal: #REF!
Name _2020_25_RCV_run_off___nominal.ADDN1: #REF!
Name _2020_25_RCV_run_off___nominal.ADDN2: #REF!
Name _2020_25_RCV_run_off___nominal.BR: #REF!
Name _2020_25_RCV_run_off___nominal.WN: #REF!

Sheet Cover
A1: =RIGHT(CELL("filename", $A$1), LEN(CELL("filename", $A$1)) - SEARCH("]", CELL("filename", $A$1))) -> Cover
B3: BRL CAC feeder model
B5: Model code: | C5: PR24CA19
B6: Version number: | C6: 1
B7: File name: | C7: =MID(CELL("filename"), FIND("[", CELL("filename"), 1) + 1, FIND("]", CELL("filename"), 1) - FIND("[", CELL("filename"), 1) - 1) -> PR24CA19 - BRL_CACs_FD.xlsx
B8: Date: | C8: 45627
B10: For enquiries please contact: | C10: PR24@ofwat.gov.uk
B12: Instructions: | C12: See below.
B14: Disclaimer:
B15: This model is part of our final determinations setting out the price, service, and incentive package for water companies for the period 2025-30. It should be read together with the other documents and information that we have now published.

Sheet Inputs>>

Sheet F_Inputs_WW
C2: BRL_CACs_WW
A4: Company Acronym | B4: Item Code | C4: Item Description | D4: Item Unit | E4: Item Table Suite | F4: 2025-30 | G4: 2010-11 | H4: 2011-12 | I4: 2012-13 | J4: 2013-14 | K4: 2014-15 | L4: 2015-16 | M4: 2016-17 | N4: 2017-18 | O4: 2018-19 | P4: 2019-20 | Q4: 2020-21 | R4: 2021-22 | S4: 2022-23 | T4: 2023-24 | U4: 2024-25 | V4: 2025-26 | W4: 2026-27 | X4: 2027-28 | Y4: 2028-29 | Z4: 2029-30
A5: BRL | B5: CW18_001_PR24 | C5: Cost adjustment claim 1 - Description of cost adjustment claim (water) CAC1 - Additional information | D5: text | E5: Price Review 2024 | F5: Canal & River Trust
A6: BRL | B6: CW18_002_PR24 | C6: Cost adjustment claim 1 - Type of cost adjustment claim (water) CAC1 - Additional information | D6: text | E6: Price Review 2024 | F6: Regional Operating Circumstances
A7: BRL | B7: CW18_003_PR24 | C7: Cost adjustment claim 1 - Symmetrical or non-symmetrical (water) CAC1 - Additional information | D7: text | E7: Price Review 2024 | F7: Non-symmetrical
A8: BRL | B8: CW18_004_PR24 | C8: Cost adjustment claim 1 - Reference to business plan supporting evidence (water) CAC1 - Additional information | D8: text | E8: Price Review 2024 | F8: Section 3
A9: BRL | B9: CW18_005_PR24 | C9: Cost adjustment claim 1 - Total gross value of the claim (water) CAC1 - Additional information | D9: £m | E9: Price Review 2024 | F9: 12.67599
A10: BRL | B10: CW18_005WR_PR24 | C10: Cost adjustment claim 1 - Total gross value of the claim (water) CAC1 - Water resources | D10: £m | E10: Price Review 2024 | S10: 2.357 | T10: 2.417 | U10: 2.462 | V10: 2.4873652 | W10: 2.510694 | X10: 2.535 | Y10: 2.5593876 | Z10: 2.5835428
A11: BRL | B11: CW18_005RWT_PR24 | C11: Cost adjustment claim 1 - Total gross value of the claim (water) CAC1 - Raw water transport | D11: £m | E11: Price Review 2024 | S11: 0 | T11: 0 | U11: 0 | V11: 0 | W11: 0 | X11: 0 | Y11: 0 | Z11: 0
A12: BRL | B12: CW18_005RWS_PR24 | C12: Cost adjustment claim 1 - Total gross value of the claim (water) CAC1 - Raw water storage | D12: £m | E12: Price Review 2024 | S12: 0 | T12: 0 | U12: 0 | V12: 0 | W12: 0 | X12: 0 | Y12: 0 | Z12: 0
A13: BRL | B13: CW18_005WT_PR24 | C13: Cost adjustment claim 1 - Total gross value of the claim (water) CAC1 - Water treatment | D13: £m | E13: Price Review 2024 | S13: 0 | T13: 0 | U13: 0 | V13: 0 | W13: 0 | X13: 0 | Y13: 0 | Z13: 0
A14: BRL | B14: CW18_005TWD_PR24 | C14: Cost adjustment claim 1 - Total gross value of the claim (water) CAC1 - Treated water distribution | D14: £m | E14: Price Review 2024 | S14: 0 | T14: 0 | U14: 0 | V14: 0 | W14: 0 | X14: 0 | Y14: 0 | Z14: 0
A15: BRL | B15: CW18_005TOT_PR24 | C15: Cost adjustment claim 1 - Total gross value of the claim (water) CAC1 - Total | D15: £m | E15: Price Review 2024 | S15: 2.357 | T15: 2.417 | U15: 2.462 | V15: 2.4873652 | W15: 2.510694 | X15: 2.535 | Y15: 2.5593876 | Z15: 2.5835428
A16: BRL | B16: CW18_006_PR24 | C16: Cost adjustment claim 1 - Implicit allowance (water) CAC1 - Additional information | D16: £m | E16: Price Review 2024 | F16: 1.1364498
A17: BRL | B17: CW18_006WR_PR24 | C17: Cost adjustment claim 1 - Implicit allowance (water) CAC1 - Water resources | D17: £m | E17: Price Review 2024 | S17: 0.22331485 | T17: 0.21599762 | U17: 0.21884991 | V17: 0.22163621 | W17: 0.22439891 | X17: 0.22726259 | Y17: 0.23007089 | Z17: 0.23308124
A18: BRL | B18: CW18_006RWT_PR24 | C18: Cost adjustment claim 1 - Implicit allowance (water) CAC1 - Raw water transport | D18: £m | E18: Price Review 2024 | S18: 0 | T18: 0 | U18: 0 | V18: 0 | W18: 0 | X18: 0 | Y18: 0 | Z18: 0
A19: BRL | B19: CW18_006RWS_PR24 | C19: Cost adjustment claim 1 - Implicit allowance (water) CAC1 - Raw water storage | D19: £m | E19: Price Review 2024 | S19: 0 | T19: 0 | U19: 0 | V19: 0 | W19: 0 | X19: 0 | Y19: 0 | Z19: 0
A20: BRL | B20: CW18_006WT_PR24 | C20: Cost adjustment claim 1 - Implicit allowance (water) CAC1 - Water treatment | D20: £m | E20: Price Review 2024 | S20: 0 | T20: 0 | U20: 0 | V20: 0 | W20: 0 | X20: 0 | Y20: 0 | Z20: 0
A21: BRL | B21: CW18_006TWD_PR24 | C21: Cost adjustment claim 1 - Implicit allowance (water) CAC1 - Treated water distribution | D21: £m | E21: Price Review 2024 | S21: 0 | T21: 0 | U21: 0 | V21: 0 | W21: 0 | X21: 0 | Y21: 0 | Z21: 0
A22: BRL | B22: CW18_006TOT_PR24 | C22: Cost adjustment claim 1 - Implicit allowance (water) CAC1 - Total | D22: £m | E22: Price Review 2024 | S22: 0.22331485 | T22: 0.21599762 | U22: 0.21884991 | V22: 0.22163621 | W22: 0.22439891 | X22: 0.22726259 | Y22: 0.23007089 | Z22: 0.23308124
A23: BRL | B23: CW18_007_PR24 | C23: Cost adjustment claim 1 - Total net value of the claim (water) CAC1 - Additional information | D23: £m | E23: Price Review 2024 | F23: 11.53954
A24: BRL | B24: CW18_007WR_PR24 | C24: Cost adjustment claim 1 - Total net value of the claim (water) CAC1 - Water resources | D24: £m | E24: Price Review 2024 | S24: 2.1336851 | T24: 2.2010024 | U24: 2.2431501 | V24: 2.265729 | W24: 2.2862951 | X24: 2.3077374 | Y24: 2.3293167 | Z24: 2.3504616
A25: BRL | B25: CW18_007RWT_PR24 | C25: Cost adjustment claim 1 - Total net value of the claim (water) CAC1 - Raw water transport | D25: £m | E25: Price Review 2024 | S25: 0 | T25: 0 | U25: 0 | V25: 0 | W25: 0 | X25: 0 | Y25: 0 | Z25: 0
A26: BRL | B26: CW18_007RWS_PR24 | C26: Cost adjustment claim 1 - Total net value of the claim (water) CAC1 - Raw water storage | D26: £m | E26: Price Review 2024 | S26: 0 | T26: 0 | U26: 0 | V26: 0 | W26: 0 | X26: 0 | Y26: 0 | Z26: 0
A27: BRL | B27: CW18_007WT_PR24 | C27: Cost adjustment claim 1 - Total net value of the claim (water) CAC1 - Water treatment | D27: £m | E27: Price Review 2024 | S27: 0 | T27: 0 | U27: 0 | V27: 0 | W27: 0 | X27: 0 | Y27: 0 | Z27: 0
A28: BRL | B28: CW18_007TWD_PR24 | C28: Cost adjustment claim 1 - Total net value of the claim (water) CAC1 - Treated water distribution | D28: £m | E28: Price Review 2024 | S28: 0 | T28: 0 | U28: 0 | V28: 0 | W28: 0 | X28: 0 | Y28: 0 | Z28: 0
A29: BRL | B29: CW18_007TOT_PR24 | C29: Cost adjustment claim 1 - Total net value of the claim (water) CAC1 - Total | D29: £m | E29: Price Review 2024 | S29: 2.1336851 | T29: 2.2010024 | U29: 2.2431501 | V29: 2.265729 | W29: 2.2862951 | X29: 2.3077374 | Y29: 2.3293167 | Z29: 2.3504616
A30: BRL | B30: CW18_008_PR24 | C30: Cost adjustment claim 1 - Historic total expenditure (water) CAC1 - Additional information | D30: £m | E30: Price Review 2024 | F30: 25.259
A31: BRL | B31: CW18_008WR_PR24 | C31: Cost adjustment claim 1 - Historic total expenditure (water) CAC1 - Water resources | D31: £m | E31: Price Review 2024 | G31: 1.879 | H31: 1.91 | I31: 1.971 | J31: 1.997 | K31: 1.965 | L31: 1.997 | M31: 1.996 | N31: 2.008 | O31: 2.037 | P31: 2.051 | Q31: 3.073 | R31: 2.375
A32: BRL | B32: CW18_008RWT_PR24 | C32: Cost adjustment claim 1 - Historic total expenditure (water) CAC1 - Raw water transport | D32: £m | E32: Price Review 2024 | G32: 0 | H32: 0 | I32: 0 | J32: 0 | K32: 0 | L32: 0 | M32: 0 | N32: 0 | O32: 0 | P32: 0 | Q32: 0 | R32: 0
A33: BRL | B33: CW18_008RWS_PR24 | C33: Cost adjustment claim 1 - Historic total expenditure (water) CAC1 - Raw water storage | D33: £m | E33: Price Review 2024 | G33: 0 | H33: 0 | I33: 0 | J33: 0 | K33: 0 | L33: 0 | M33: 0 | N33: 0 | O33: 0 | P33: 0 | Q33: 0 | R33: 0
A34: BRL | B34: CW18_008WT_PR24 | C34: Cost adjustment claim 1 - Historic total expenditure (water) CAC1 - Water treatment | D34: £m | E34: Price Review 2024 | G34: 0 | H34: 0 | I34: 0 | J34: 0 | K34: 0 | L34: 0 | M34: 0 | N34: 0 | O34: 0 | P34: 0 | Q34: 0 | R34: 0
A35: BRL | B35: CW18_008TWD_PR24 | C35: Cost adjustment claim 1 - Historic total expenditure (water) CAC1 - Treated water distribution | D35: £m | E35: Price Review 2024 | G35: 0 | H35: 0 | I35: 0 | J35: 0 | K35: 0 | L35: 0 | M35: 0 | N35: 0 | O35: 0 | P35: 0 | Q35: 0 | R35: 0
A36: BRL | B36: CW18_008TOT_PR24 | C36: Cost adjustment claim 1 - Historic total expenditure (water) CAC1 - Total | D36: £m | E36: Price Review 2024 | G36: 1.879 | H36: 1.91 | I36: 1.971 | J36: 1.997 | K36: 1.965 | L36: 1.997 | M36: 1.996 | N36: 2.008 | O36: 2.037 | P36: 2.051 | Q36: 3.073 | R36: 2.375
A37: BRL | B37: CW18_009_PR24 | C37: Cost adjustment claim 1 - Totex for the control (water) CAC1 - Additional information | D37: £m | E37: Price Review 2024 | F37: 92.659904
A38: BRL | B38: CW18_009WR_PR24 | C38: Cost adjustment claim 1 - Totex for the control (water) CAC1 - Water resources | D38: £m | E38: Price Review 2024 | S38: 15.940085 | T38: 15.154505 | U38: 13.508287 | V38: 18.607327 | W38: 19.211071 | X38: 17.792755 | Y38: 18.392403 | Z38: 18.656347
A39: BRL | B39: CW18_009RWT_PR24 | C39: Cost adjustment claim 1 - Totex for the control (water) CAC1 - Raw water transport | D39: £m | E39: Price Review 2024 | S39: 0 | T39: 0 | U39: 0 | V39: 0 | W39: 0 | X39: 0 | Y39: 0 | Z39: 0
A40: BRL | B40: CW18_009RWS_PR24 | C40: Cost adjustment claim 1 - Totex for the control (water) CAC1 - Raw water storage | D40: £m | E40: Price Review 2024 | S40: 0 | T40: 0 | U40: 0 | V40: 0 | W40: 0 | X40: 0 | Y40: 0 | Z40: 0
A41: BRL | B41: CW18_009WT_PR24 | C41: Cost adjustment claim 1 - Totex for the control (water) CAC1 - Water treatment | D41: £m | E41: Price Review 2024 | S41: 0 | T41: 0 | U41: 0 | V41: 0 | W41: 0 | X41: 0 | Y41: 0 | Z41: 0
A42: BRL | B42: CW18_009TWD_PR24 | C42: Cost adjustment claim 1 - Totex for the control (water) CAC1 - Treated water distribution | D42: £m | E42: Price Review 2024 | S42: 0 | T42: 0 | U42: 0 | V42: 0 | W42: 0 | X42: 0 | Y42: 0 | Z42: 0
...

Sheet Assessments>>

Sheet BRL_CAC1
B1: Bristol Water | D1: =F_Inputs_WW!F5 -> Canal & River Trust | G1: DD assessment
B3: A | C3: The claim | D3: Final determination assessment | G3: A | H3: The claim | I3: Draft determination assessment
B4: 1 | C4: Description of claim | D4: =F_Inputs_WW!F5 -> Canal & River Trust | G4: 1 | H4: Description of claim | I4: Canal & River Trust
B5: 2 | C5: Summary of claim | D5: Bristol Water has a long-term contractual agreement since 1962 with the Canal and River Trust (a third party provider) to source around 45 percent of its raw water from the Gloucester and Sharpness Canal, to supply the water treatment works at Purton and Littleton. The agreement runs until 2055 and allows unrestricted abstraction for an annual average of 210Ml/day. Under the agreement, Bristol Water makes an annual payment to the Canal and River Trust (CRT) with a fixed and a variable component: • Fixed cost: BRL can abstract up to 57,000ML / year at a cost of £1 million inflated by the retail price index (RPI) from 1998; • Variable cost: BRL can abstract between 57,000Ml and 75,000ML per year at an additional cost of £20/Ml inflated by RPI from 1998. The variable charge has not been triggered in recent years. The price can be reviewed every ten years providing each party gives two years notice for review. A review was triggered in 2018 by the CRT which requested an increase to as much as £17.5m per year. The arbitration process resulted in rejection of CRT's value but an increase in the cost payable by BRL from £1.8m/year to £2.1m/year (which continues to be inflated by RPI). The costs are in addition to the abstraction licensing costs incurred by all companies. Bristol Water contends that because of its arrangement to source 45 percent of the water from an external provider, it incurs higher efficient water resources costs compared to other companies. | G5: 2 | H5: Summary of claim | I5: Bristol Water has a long-term contractual agreement since 1962 with the Canal and River Trust (a third party provider) to source around 45 percent of its raw water from the Gloucester and Sharpness Canal, to supply the water treatment works at Purton and Littleton. The agreement runs until 2055 and allows unrestricted abstraction for an annual average of 210Ml/day. Under the agreement, Bristol Water makes an annual payment to the Canal and River Trust (CRT) with a fixed and a variable component: • Fixed cost: BRL can abstract up to 57,000ML / year at a cost of £1 million inflated by the retail price index (RPI) from 1998; • Variable cost: BRL can abstract between 57,000Ml and 75,000ML per year at an additional cost of £20/Ml inflated by RPI from 1998. The variable charge has not been triggered in recent years. The price can be reviewed every ten years providing each party gives two years notice for review. A review was triggered in 2018 by the CRT which requested an increase to as much as £17.5m per year. The arbitration process resulted in rejection of CRT's value but an increase in the cost payable by BRL from £1.8m/year to £2.1m/year (which continues to be inflated by RPI). The costs are in addition to the abstraction licensing costs incurred by all companies. Bristol Water contends that because of its arrangement to source 45 percent of the water from an external provider, it incurs higher efficient water resources costs compared to other companies.
B6: 3 | C6: Symmetrical or non-symmetrical? | D6: =F_Inputs_WW!F7 -> Non-symmetrical | G6: 3 | H6: Symmetrical or non-symmetrical? | I6: Non-symmetrical | T6: Materiality thresholds
B7: 4 | C7: Reference to business plan evidence | D7: =F_Inputs_WW!F8 -> Section 3 | G7: 4 | H7: Reference to business plan evidence | I7: Section 3 | T7: Water resources | U7: 0.06
B8: 5 | C8: Price control | D8: Water resources | G8: 5 | H8: Price control | I8: Water resources | T8: Water network plus | U8: 0.01
B9: 6 | C9: Gross value of claim (£m 22-23) | D9: =F_Inputs_WW!F9 -> 12.67599 | G9: 6 | H9: Gross value of claim (£m 22-23) | I9: 12.676 | L9: Net value of the claim | T9: Wastewater network plus | U9: 0.01
B10: 7 | C10: Implicit allowance (£m 22-23) | D10: =F_Inputs_WW!F16 -> 1.1364498 | G10: 7 | H10: Implicit allowance (£m 22-23) | I10: 1.1364498 | M10: 2025-26 | N10: 2026-27 | O10: 2027-28 | P10: 2028-29 | Q10: 2029-30 | T10: Bioresources | U10: 0.06
B11: 8 | C11: Net value of claim (£m 22-23) | D11: =F_Inputs_WW!F23 -> 11.53954 | G11: 8 | H11: Net value of claim (£m 22-23) | I11: 11.53955 | L11: DD | M11: 2.2643638 | N11: 2.2856011 | O11: 2.3077374 | P11: 2.3299291 | Q11: 2.3519188 | T11: Residential retail | U11: 0.04
B12: 9 | C12: Totex for control (£m 22-23) | D12: =F_Inputs_WW!F37 -> 92.659904 | G12: 9 | H12: Totex for control (£m 22-23) | I12: 84.930512 | L12: FD | M12: =F_Inputs_WW!V29 -> 2.265729 | N12: =F_Inputs_WW!W29 -> 2.2862951 | O12: =F_Inputs_WW!X29 -> 2.3077374 | P12: =F_Inputs_WW!Y29 -> 2.3293167 | Q12: =F_Inputs_WW!Z29 -> 2.3504616
B13: 10 | C13: Materiality | D13: =F_Inputs_WW!F44 -> 0.1245365 | G13: 10 | H13: Materiality | I13: 0.13587049
B14: 11 | C14: Material? | D14: =D13>INDEX($U$7:$U$11,MATCH($D$8,$T$7:$T$11,0)) -> TRUE | G14: 11 | H14: Material? | I14: TRUE
B16: B | C16: Overall assessment result | G16: B | H16: Overall assessment result
B17: 1 | C17: Overall assessment result | D17: Pass | G17: 1 | H17: Overall assessment result | I17: Pass
B18: 2 | C18: Ofwat view of cost adjustment (£m 22-23) | D18: 12.67599 | G18: 2 | H18: Ofwat view of cost adjustment (£m 22-23) | I18: 12.676
B19: 3 | C19: Are other companies affected? | D19: No | G19: 3 | H19: Are other companies affected? | I19: No
B21: C | C21: Assessment gates | G21: C | H21: Assessment gates
B22: 1 | C22: Need for adjustment | D22: Pass | G22: 1 | H22: Need for adjustment | I22: Pass
B23: 1.1 - 1.4 | C23: Need for adjustment | D23: In the draft determinations, we agreed the company faces unique circumstances outside of management control, and the models are unlikely to reflect the full cost that it incurs in sourcing its water supply from the Canal and River Trust (CRT). In applying the claim, we took a different approach to that suggested by the company. We treated the cost as an unmodelled base cost, thus excluding the full cost that the company is expected to incur over PR24 in relation to CRT payments from the econometric base cost models. In its representation, the company retains its claim for a cost adjustment of £11.5m. The company states that we should apply the company's proposed methodology which is based on including the CRT cost in the econometric models and accounting for an implicit allowance derived by estimating the base cost models after excluding raw bulk water supply costs. The company also states that Ofwat has misallocated some costs in the draft determination by overwriting £4.7 m of funding requested for ‘Canal and Rivers Trust Abstraction Charges and Discharge Consents’ with the £12.68 m of funding allowed for this claim. In the final determinations, we retain our position to accept the need for adjustment, and we continue to assess the costs as part of unmodelled base costs in line with our draft determination position. We provide more detail below. The company confirmed that we had not misallocated costs in draft determination through the PR24 query process. | G23: 1.1 | H23: Unique circumstances | I23: We agree Bristol Water faces unique circumstances because almost half of its water supply comes from a single source and it has limited scope especially in the short term to find alternative sources with similar reliability.
G24: 1.2 | H24: Management control | I24: In-the-round, we conclude the decision to abstract water from the Gloucester and Sharpness Canal is largely outside of the company's control in the short term. But the company should continue to explore options to reduce the amount of water abstracted from the canal going forward. Recognising that the decision to abstract water from the canal is within management control in the medium to long term. Bristol Water contends that, while theoretically the decision is within management control, in practice without the Gloucester and Sharpness Canal, it would not be able to source half of its distribution input from alternative sources. So, the decision at least in the short term is beyond management control. Other solutions would be more long term, if they were cost beneficial. Bristol Water argues that even if other solutions, likely to be costly, are implemented, it would still not be able to replace all the water volume abstracted from the Gloucester and Sharpness Canal. • Bristol Water presents evidence of alternative solutions being considered but none are viewed as practical. Bristol Water state that these were looked at in the draft water resource management plans but other options have a far lower yield than the Gloucester and Sharpness Canal. But Bristol Water could explore options that could reduce the amount of water abstracted from the canal, and explore water transfers with neighbouring companies. • Bristol Water argue that, even if it pursued the largest potential options, then just over half of the average water Bristol sources would be provided. The capital expenditure alone of these options is estimated to be £300m (equivalent to 135 years of CRT charges) in 2022-23 prices. It would have been helpful if Bristol Water had compared the cost of water sources in £/Ml as opposed to the number of years of CRT charges. The price paid by Bristol Water to CRT is also largely outside management control in the short term as it is set in the contract and subject to arbitration.
G25: 1.3 | H25: Materiality | I25: The cost claim is material based on Bristol Water's calculations.
G26: 1.4 | H26: Adjustment to allowances | I26: While the base cost models provide Bristol Water with an allowance for water resources costs, we accept it is likely that the models do not reflect the full cost that it incurs in sourcing its water supply from the CRT. By treating this cost as an unmodelled base cost, we include in base allowances the full cost that BRL is expected to incur over PR24 in relation to CRT payments, without the need for a further adjustment to the base modelled costs from our econometric models.
B27: 2 | C27: Cost efficiency | D27: Partial pass | G27: 2 | H27: Cost efficiency | I27: Partial Pass
B28: 2.1 - 2.3 | C28: Cost efficiency | D28: In the draft determination, we accepted the need for adjustment, however we had some concerns with the approach proposed by the company for calculating the implicit allowance. We decided to apply a different approach by removing historical CRT costs from modelled base costs and including forecast costs over PR24 as unmodelled costs in base allowances. In its representation, the company states that Ofwat should apply its proposed approach by accounting for an implicit allowance. To get to the net claim, the company subtracts an implicit allowance which was derived by estimating the base cost models after excluding raw bulk water supply costs and calculating the difference in allowances relative to Ofwat’s base cost models. This gives a net claim of £11.5m. The approach is similar to the one used by the Competition and Markets Authority (CMA) at PR19 redeterminations, except that the CMA excluded all bulk supply costs from the models. Our decision to treat CRT costs as unmodelled base costs reflects the fact that the costs, at least in the short and medium term, are outside the control of the company and the arrangement is unique in the industry in terms of the share of water resources covered for the company. Applying this claim as a post-modeling adjustment, as proposed by the company, would mean including this cost in modelled totex allowances, which are subject to frontier shift efficiency and real price effects (RPEs). Given the nature of these costs, we have concluded that it is more appropriate to exclude them from the application of frontier shift efficiency and RPE adjustments, which we achieve by assessing the costs as part of unmodelled base costs. Our approach also indirectly leads to a symmetrical cost adjustment by removing the historical costs from the base cost models, which we proposed in our PR24 methodology. We also maintain our concern, expressed at draft determination, around the method Bristol Water used for calculating the implicit allowance. The CRT agreement is different in scope and size compared to other raw bulk supply water agreements. The company itself notes in its representation that there are only a small number of similar arrangements in the industry and at much smaller scale. At the same time, the company receives implicit allowances for water resources costs that reflect a mix of water resources solutions. Therefore, defining the actual implicit allowance in the base cost models just based on raw bulk supply costs is likely to provide an overly narrow estimate. For the final determination, we retain our draft determination position and continue to treat the CRT costs as an unmodelled base cost in our assessment, which recognizes that these costs are mostly outside of its control. We encourage Bristol Water to continue to explore alternative water resource options that reduces its dependence on water from the CRT over the 2025-30 period. | G28: 2.1 | H28: Does the company explain how it arrived at the cost estimate? | I28: Bristol Water calculated the gross value of the claim to be equal to £12.7 million based on the payment made to the CRT under the contract. To get to the net claim it subtracted an implicit allowance which was derived by estimating the base cost models after excluding raw bulk water supply costs and calculating the difference in allowances relative to Ofwat’s base cost models. This gives a net claim of £11.5m. The approach is similar to the one used by the CMA at PR19 except that the CMA excluded all bulk supply costs from the model.
G29: 2.2 | H29: Is there compelling evidence that cost estimates are efficient? | I29: Bristol Water says the costs are efficient because they are periodically negotiated and subject to arbitration. The efficiency of CRT costs was validated by the CMA at PR19. Moreover, Turner & Townsend provided technical assurance on the claim and its data sources. But Bristol Water has not compared the cost of abstracting water from the Canal with other sources (Bristol Water or other companies) on a £/Ml basis, which would have provide more assurance that the proposed costs are efficient. We also consider using bulk supply costs only to calculate the implicit allowance is likely to underestimate the implicit allowance. Through the base cost models Bristol Water receive an allowance for water resources costs. This allowance reflects a mix of water resources solutions that companies use, including, for example, operation and maintenance of pumped storage reservoir assets, or other costly solutions that Bristol Water does not incur. So, the comparator should be the spectrum of water resources solutions available to a company, ie the entirety of companies’ water resources costs. By removing historical CRT costs from modelled base costs and including forecast costs over PR24 as an unmodelled costs in base allowances, we avoid the need to calculate an implicit allowance from our econometric models. Bristol Water will still receive an implicit allowance from the base cost models as other water resources base costs are included in the base cost models. But we consider this is the best option available with the data available. In an ideal world, we would identify all water company base costs related to the abstraction of water from canals and rivers, and use this to estimate an implicit allowance. But this data is not available. In-the-round, we have not challenged Bristol Water's proposed CRT costs for draft determinations. But expect it to provide additional evidence in response to our draft determinations that the costs are efficient relative to other potential water sources on a £/Ml basis. We will consider applying a cost efficiency challenge at final determinations if the company fails to provide compelling evidence that the proposed costs are efficient.
G30: 2.3 | H30: Does the company provide third party assurance for robustness of the cost estimates? | I30: Bristol Water commissioned a technical partner to work with to develop the submitted claim. The claim discusses assurance carried out by their partner, and a review of the final figures as part of wider business plan assurance. However the company has not provided evidence of detailed third party assurance or a signed assurance statement.

Sheet BRL_CAC2
B1: Bristol Water | D1: =F_Inputs_WW!F45 -> Leakage
B3: A | C3: The claim | D3: Final determination assessment | G3: A | H3: The claim | I3: Draft determination assessment
B4: 1 | C4: Description of claim | D4: =F_Inputs_WW!F45 -> Leakage | G4: 1 | H4: Description of claim | I4: Leakage
B5: 2 | C5: Summary of claim | D5: Bristol Water's claim is based on the premise that it incurs a higher level of expenditure to maintain low leakage levels compared to other water companies. | G5: 2 | H5: Summary of claim | I5: Bristol Water's claim is based on the premise that it incurs a higher level of expenditure to maintain low leakage levels compared to other water companies.
B6: 3 | C6: Symmetrical or non-symmetrical? | D6: =F_Inputs_WW!F47 -> Symmetrical | G6: 3 | H6: Symmetrical or non-symmetrical? | I6: Symmetrical | T6: Materiality thresholds
B7: 4 | C7: Reference to business plan evidence | D7: =F_Inputs_WW!F48 -> Section 4 | G7: 4 | H7: Reference to business plan evidence | I7: Section 4 | T7: Water resources | U7: 0.06
B8: 5 | C8: Price control | D8: Water network plus | G8: 5 | H8: Price control | I8: Water network plus | T8: Water network plus | U8: 0.01
B9: 6 | C9: Gross value of claim (£m 22-23) | D9: =F_Inputs_WW!F49 -> 256.43313 | G9: 6 | H9: Gross value of claim (£m 22-23) | I9: 258.673 | L9: Net value of the claim | T9: Wastewater network plus | U9: 0.01
B10: 7 | C10: Implicit allowance (£m 22-23) | D10: =F_Inputs_WW!F56 -> 246.54375 | G10: 7 | H10: Implicit allowance (£m 22-23) | I10: 246.54375 | M10: 2025-26 | N10: 2026-27 | O10: 2027-28 | P10: 2028-29 | Q10: 2029-30 | T10: Bioresources | U10: 0.06
B11: 8 | C11: Net value of claim (£m 22-23) | D11: =F_Inputs_WW!F63 -> 9.8893739 | G11: 8 | H11: Net value of claim (£m 22-23) | I11: 12.129247 | L11: DD | M11: 2.4258318 | N11: 2.4261165 | O11: 2.4259824 | P11: 2.4256796 | Q11: 2.4256367 | T11: Residential retail | U11: 0.04
B12: 9 | C12: Totex for control (£m 22-23) | D12: =F_Inputs_WW!F77 -> 596.29482 | G12: 9 | H12: Totex for control (£m 22-23) | I12: 647.56394 | L12: FD | M12: =F_Inputs_WW!V69 -> 1.9778748 | N12: =F_Inputs_WW!W69 -> 1.9778748 | O12: =F_Inputs_WW!X69 -> 1.9778748 | P12: =F_Inputs_WW!Y69 -> 1.9778748 | Q12: =F_Inputs_WW!Z69 -> 1.9778748
B13: 10 | C13: Materiality | D13: =F_Inputs_WW!F84 -> 0.016584705 | G13: 10 | H13: Materiality | I13: 0.018730578
B14: 11 | C14: Material? | D14: =D13>INDEX($U$7:$U$11,MATCH($D$8,$T$7:$T$11,0)) -> TRUE | G14: 11 | H14: Material? | I14: TRUE
B16: B | C16: Overall assessment result | G16: B | H16: Overall assessment result
B17: 1 | C17: Overall assessment result | D17: Fail | G17: 1 | H17: Overall assessment result | I17: Fail
B18: 2 | C18: Ofwat view of cost adjustment (£m 22-23) | D18: 0 | G18: 2 | H18: Ofwat view of cost adjustment (£m 22-23) | I18: 0
B19: 3 | C19: Are other companies affected? | D19: No | G19: 3 | H19: Are other companies affected? | I19: No
B21: C | C21: Assessment gates | G21: C | H21: Assessment gates
B22: 1 | C22: Need for adjustment | D22: Fail | G22: 1 | H22: Need for adjustment | I22: Fail
B23: 1.1 - 1.4 | C23: Need for adjustment | D23: In the draft determination, we rejected the company’s proposed cost adjustment claim on the basis that the company did not provide compelling evidence to demonstrate its unique circumstances, that costs are outside management control and that an adjustment to allowances was necessary. Analysis of leakage cost data collected during PR19 did not provide compelling evidence to show that companies with lower levels of leakage (per property or length of mains) incur higher leakage costs (per property or length of mains). The data did not show a strong correlation between leakage levels and leakage costs per property/length of mains. In its representation, the company reinstates this cost adjustment claim, at a reduced value compared to the initial business plan claim, but does not submit substantial new evidence. This is based on updating its estimate using new APR data and using the CMA's approach at PR19 to calculate the value of the claim. The company states that Ofwat’s draft determination did not reflect the higher marginal costs for maintaining the company's sector-leading leakage performance. The company states that there is clear evidence that performing above the upper quartile for leakage leads to higher costs than performing below the upper quartile. The company refers to the CMA's PR19 redetermination where the CMA has concluded that there is a link between leakage performance and costs. In its representation the company does not provide compelling evidence to justify the need for an adjustment. The key question that we need to consider in order to determine if there is a need for adjustment is whether the allowance from the base cost models provides sufficient allowances to companies with low levels of leakage to enable them to maintain that level of performance. Even if a company with lower levels of leakage may face higher marginal costs for incremental improvements to maintain leakage, another company with higher levels of leakage may face higher average leakage costs (calculated per property or length of mains) due to the need to fix a larger number of leaks. For final determinations, we conducted further analysis to test how leakage levels affect base cost allowances. Firstly, we tested the inclusion of leakage per property, and leakage per length of main, as a variable in the base cost models. The results show that the leakage variables are not statistically significant (with very high p-values) and, in most cases, the coefficient on the leakage variable is positive suggesting that base costs increase with leakage levels. This may reflect the fact that either leakage performance is not a significant driver of treated water distribution base costs, that existing explanatory variables, such as population density, already do a good job in explaining variations in leakage performance between companies, or that there are countervailing cost impacts related to changes in leakage performance. For example, lower leakage may reduce water treatment and distribution costs for the same level of water consumption. Secondly, we estimated an indicative implicit base cost allowance for leakage by regressing historical leakage costs on the set of variables included in the treated water distribution base cost models. The model was run over the period for which leakage cost data is available (2017/18 - 2023/24). To support the company's claim, we would expect that the predicted leakage costs from this model, which uses the same variables as our base cost models, would be lower than the actual leakage costs incurred by the company if higher leakage performance leads to higher leakage costs. But we find the opposite. Predicted leakage costs for the company over the sample period, using this econometric model, are higher than actual leakage spend reported by the company. This suggests that the base cost models provide sufficient allowances to companies with low levels of leakage to maintain that level of performance. Finally, we have provided enhancement expenditure allowances to allow companies to deliver leakage improvements beyond the baseline leakage level. For the final determination, we retain our draft determination position and reject the 'need for adjustment' for the reasons set out above. | G23: 1.1 | H23: Unique circumstances | I23: Bristol Water does not provide compelling evidence of unique circumstances. The company argues that its unique circumstances derive from being a top performer on leakage in the water industry. But it also states that leakage levels can largely be explained in an econometric model by exogenous factors (density, soil type, meter penetration, pipe material, rainfall). This raises the question of whether its top performance can attributed to company efforts (which incurs more costs) or to exogenous factors. A company with worse ‘starting levels’ of leakage may need to spend more and still not achieve a leading position in leakage levels. We also note that one of key drivers of leakage performance is included in the wholesale water base cost models – population density.
G24: 1.2 | H24: Management control | I24: Bristol Water does not provide compelling evidence that this claim sits outside of management control. The company argues that, while companies can actively reduce the level of leakage by incurring additional costs, factors outside management control widely contribute to determining each company’s ‘starting level’ of leakage. Overall, we consider the company has control over leakage related costs. The Competition and Markets Authority (CMA) arrived at the same view in the PR19 redeterminations, and was one of the reasons why it did not consider it was appropriate to include leakage as an explanatory variables in the base cost econometric models.
G25: 1.3 | H25: Materiality | I25: The claim is material based on Bristol Water's calculations.
G26: 1.4 | H26: Adjustment to allowances | I26: Bristol Water request a cost adjustment of £11.4m based on its view of the efficient cost for maintaining leakage levels using the PR19 CMA approach. It claims the cost of achieving leading leakage performance is not captured in any of the treated water distribution models. At PR19, the CMA concluded that companies performing better than upper quartile are likely to incur more cost than reflected in the base cost models. Our analysis of the leakage dataset does not support the conclusion that maintaining lower leakage levels costs more. The correlation between leakage spend per property and leakage per property shows a mixed picture at a company level. Across the industry, companies with lower leakage levels per property tend to incur lower costs per property. Bristol Water has the lowest levels of leakage/property but also one of the lowest levels of spending per property to maintain leakage in the industry. Anglian Water submitted a similar cost adjustment claim, and found that leakage is not a statistically significant driver of treated water distribution base costs. This suggests that either leakage performance is not a significant driver of treated water distribution base costs, or that existing explanatory variables, such as population density, already do a good job in explaining variations in leakage performance between companies.
B27: 2 | C27: Cost efficiency | D27: Fail | G27: 2 | H27: Cost efficiency | I27: Fail
B28: 2.1 - 2.3 | C28: Cost efficiency | D28: In the draft determination, we considered that the company did not provide compelling evidence that its cost estimates are efficient. In its representation, the company states that achieving more stretching leakage targets will require a step change in performance for most companies, resulting in a step-change in costs. The company states that there is no direct link between base cost models and a particular level of leakage, and the relationship between leakage spend and leakage levels at the company level can be influenced by individual company circumstances. The company also considers that the leakage levels and cost information collected by Ofwat since PR19 and used to inform our decision at draft determination does not provide evidence that there is no need for this claim and does not provide a sound basis for calculating the efficient level of this claim. The company however does not explain why it does not consider this data to be suitable. In its representation, the company provides no additional evidence on the cost efficiency of the proposed adjustment. Therefore, for the final determination, we maintain our draft determination position that the approach proposed by the company does not provide compelling evidence that the cost adjustment values are cost efficient. | G28: 2.1 | H28: Does the company explain how it arrived at the cost estimate? | I28: Bristol Water sets out clearly how it arrived at its cost estimates. It applied the CMA PR19 methodology to calculate the cost adjustment, and three econometric methodologies to cross check the results: • Replicating CMA methodology in PR19 appeal: £11.4m • Controlling for leakage by adding leakage per km of mains as an independent variable in TWD and WW models – 12.6m • Controlling for leakage by adding leakage per km of mains to the TWD and WW models, but separately assessing the leakage and non-leakage components of TWD - £8.6m. • Utilising “out-of-samples" predictions based on the appended models used in approaches 1 and 2. The cost drivers of a hypothetical company identical to ANH is used, except that leakage performance corresponds to the industry median – £10.4m.
G29: 2.2 | H29: Is there compelling evidence that cost estimates are efficient? | I29: Bristol Water does not provide compelling evidence that its cost estimates are efficient. Its cost estimate is derived based on the approach used by the CMA at PR19. The CMA applied an upwards adjustment to base costs for maintaining leading levels of leakage as the percentage of outperformance of industry upper quartile leakage level multiplied by the forecast leakage costs. However, the CMA did not have data available on the cost of maintaining and improving leakage performance, so based its adjustment on the theoretical hypothesis that companies with low levels of leakage incur higher costs due to increasing marginal costs. Bristol Water has not provided compelling evidence to demonstrate that this assumption is justified. Since PR19, we have collected more leakage data, as recommended by the CMA, and would expect this data to be used to inform the need and the estimate for a cost adjustment. Bristol Water also calculated estimates for the adjustment using econometric modelling as a sense check to its preferred approach. However, the leakage variable is not statistically significant which raises questions about the robustness of the calculated adjustment.
G30: 2.3 | H30: Does the company provide third party assurance for robustness of the cost estimates? | I30: Bristol Water commissioned a technical partner to work with to develop this claim. The company states that the claim was assured as part of its internal assurance process by a third party, but does not provide evidence of a signed assurance statement.

Sheet Outputs>>

Sheet BRL_CAC_Summary
C1: Cost adjustment claim summary | E1: Bristol Water
B3: Count | C3: CAC no. | D3: Cost adjustment claim | E3: Control | F3: Net value of claim (£m 22-23) | G3: Overall assessment result | H3: Ofwat view of cost adjustment (£m 22-23)
H4: 2025-30 total | I4: 2025-26 | J4: 2026-27 | K4: 2027-28 | L4: 2028-29 | M4: 2029-30
B5: 1 | C5: ="CAC"&"00"&B5 -> CAC001 | D5: =BRL_CAC1!$D$1 -> Canal & River Trust | E5: =BRL_CAC1!$D$8 -> Water resources | F5: =BRL_CAC1!$D$11 -> 11.53954 | G5: =BRL_CAC1!$D$17 -> Pass | H5: =BRL_CAC1!$D$18 -> 12.67599 | I5: =$H5 * (BRL_CAC1!M12/BRL_CAC1!$D$11) -> 2.488865 | J5: =$H5 * (BRL_CAC1!N12/BRL_CAC1!$D$11) -> 2.5114566 | K5: =$H5 * (BRL_CAC1!O12/BRL_CAC1!$D$11) -> 2.5350106 | L5: =$H5 * (BRL_CAC1!P12/BRL_CAC1!$D$11) -> 2.5587151 | M5: =$H5 * (BRL_CAC1!Q12/BRL_CAC1!$D$11) -> 2.5819424
B6: 2 | C6: ="CAC"&"00"&B6 -> CAC002 | D6: =BRL_CAC2!$D$1 -> Leakage | E6: =BRL_CAC2!$D$8 -> Water network plus | F6: =BRL_CAC2!$D$11 -> 9.8893739 | G6: =BRL_CAC2!$D$17 -> Fail | H6: =BRL_CAC2!$D$18 -> 0 | I6: =$H6 * (BRL_CAC2!M12/BRL_CAC2!$D$11) -> 0 | J6: =$H6 * (BRL_CAC2!N12/BRL_CAC2!$D$11) -> 0 | K6: =$H6 * (BRL_CAC2!O12/BRL_CAC2!$D$11) -> 0 | L6: =$H6 * (BRL_CAC2!P12/BRL_CAC2!$D$11) -> 0 | M6: =$H6 * (BRL_CAC2!Q12/BRL_CAC2!$D$11) -> 0
