Workbook
Name APRChoices: InpC!$E$48:$E$53
Name BaseCaseIndicator: InpC!$J$7:$O$7
Name CHK_TOL: InpC!$F$122
Name SMU: InpC!$F$123
Name TRK_TOL: InpC!$F$121
Name YesNo: InpC!$F$126:$F$127

Sheet Cover
A1: =RIGHT(CELL("filename", $A$1), LEN(CELL("filename", $A$1)) - SEARCH("]", CELL("filename", $A$1))) -> Cover
B3: PR24 - Traffic management act and lane rental schemes
B5: Model code: | C5: PR24CA27
B6: Version number: | C6: 1
B7: File name: | C7: =MID(CELL("filename"), FIND("[", CELL("filename"), 1) + 1, FIND("]", CELL("filename"), 1) - FIND("[", CELL("filename"), 1) - 1) -> PR24CA27 - TMA and LRS.xlsx
B8: Date: | C8: 45627
B10: For enquiries please contact: | C10: PR24@ofwat.gov.uk
B12: Instructions: | C12: N/A

Sheet Conceptual model
A1: =RIGHT(CELL("filename", A1), LEN(CELL("filename", A1)) - SEARCH("]", CELL("filename", A1))) -> Conceptual model
A3: Conceptual model
A31: End of sheet

Sheet F_Inputs_BP
C1: PR24_TMA_BPT | E1: Run on 04 Sep 2024 15:12
A2: Acronym | B2: Reference | C2: Item description | D2: Unit | E2: Model | F2: Price Review 2024
F4: Run 11 - PR24 FD Data
F5: Latest
F6: 2020-21 | G6: 2021-22 | H6: 2022-23 | I6: 2023-24 | J6: 2024-25 | K6: 2025-26 | L6: 2026-27 | M6: 2027-28 | N6: 2028-29 | O6: 2029-30
A7: ANH | B7: CW2_011TOT_PR24 | C7: Location specific costs & obligations - Costs associated with Traffic Management Act - Total | D7: £m | E7: Price Review 2024 | H7: 0.944 | I7: 0.6947101 | J7: 0.88712999 | K7: 1.4730689 | L7: 1.4730689 | M7: 1.4730689 | N7: 1.4730689 | O7: 1.4730689
A8: ANH | B8: CW2_012TOT_PR24 | C8: Location specific costs & obligations - Costs associated with lane rental schemes - Total | D8: £m | E8: Price Review 2024 | H8: 0 | I8: 0 | J8: 0 | K8: 0 | L8: 0 | M8: 0 | N8: 0 | O8: 0
A9: ANH | B9: CW2_018TOT_PR24 | C9: Traffic Management Act - Projects incurring costs associated with Traffic Management Act - Total | D9: nr | E9: Price Review 2024 | H9: 18002 | I9: 12342 | J9: 19000 | K9: 19000 | L9: 19000 | M9: 19000 | N9: 19000 | O9: 19000
A10: ANH | B10: CWW2_011TOT_PR24 | C10: Location specific costs & obligations - Costs associated with Traffic Management Act - Total | D10: £m | E10: Price Review 2024 | H10: 0.082 | I10: 0.055899471 | J10: 0.080419552 | K10: 0.0837 | L10: 0.0837 | M10: 0.0837 | N10: 0.0837 | O10: 0.0837
A11: ANH | B11: CWW2_012TOT_PR24 | C11: Location specific costs & obligations - Costs associated with lane rental schemes - Total | D11: £m | E11: Price Review 2024 | H11: 0 | I11: 0 | J11: 0 | K11: 0 | L11: 0 | M11: 0 | N11: 0 | O11: 0
A12: ANH | B12: CWW2_018TOT_PR24 | C12: Traffic Management Act - Projects incurring costs associated with Traffic Management Act - Total | D12: nr | E12: Price Review 2024 | H12: 870 | I12: 701 | J12: 900 | K12: 900 | L12: 900 | M12: 900 | N12: 900 | O12: 900
A13: WSH | B13: CW2_011TOT_PR24 | C13: Location specific costs & obligations - Costs associated with Traffic Management Act - Total | D13: £m | E13: Price Review 2024 | H13: 0.093 | I13: 0.182 | J13: 0.052 | K13: 0.042 | L13: 0.04 | M13: 0.039 | N13: 0.039 | O13: 0.038
A14: WSH | B14: CW2_012TOT_PR24 | C14: Location specific costs & obligations - Costs associated with lane rental schemes - Total | D14: £m | E14: Price Review 2024 | H14: 0 | I14: 0 | J14: 0 | K14: 0 | L14: 0 | M14: 0 | N14: 0 | O14: 0
A15: WSH | B15: CW2_018TOT_PR24 | C15: Traffic Management Act - Projects incurring costs associated with Traffic Management Act - Total | D15: nr | E15: Price Review 2024 | H15: 1815 | I15: 3630 | J15: 1034 | K15: 839.194 | L15: 800.161 | M15: 780.645 | N15: 761.129 | O15: 761.129
A16: WSH | B16: CWW2_011TOT_PR24 | C16: Location specific costs & obligations - Costs associated with Traffic Management Act - Total | D16: £m | E16: Price Review 2024 | H16: 0.093 | I16: 0.022 | J16: 0.044 | K16: 0.027 | L16: 0.025 | M16: 0.025 | N16: 0.024 | O16: 0.024
A17: WSH | B17: CWW2_012TOT_PR24 | C17: Location specific costs & obligations - Costs associated with lane rental schemes - Total | D17: £m | E17: Price Review 2024 | H17: 0 | I17: 0 | J17: 0 | K17: 0 | L17: 0 | M17: 0 | N17: 0 | O17: 0
A18: WSH | B18: CWW2_018TOT_PR24 | C18: Traffic Management Act - Projects incurring costs associated with Traffic Management Act - Total | D18: nr | E18: Price Review 2024 | H18: 323 | I18: 421 | J18: 152.818 | K18: 90.3 | L18: 86.827 | M18: 86.827 | N18: 83.354 | O18: 83.354
... A108: SES | B108: CWW2_018TOT_PR24 | C108: Traffic Management Act - Projects incurring costs associated with Traffic Management Act - Total | D108: nr | E108: Price Review 2024 | H108: 0 | I108: 0 | J108: 0 | K108: 0 | L108: 0 | M108: 0 | N108: 0 | O108: 0

Sheet F_Inputs_APR
C1: PR24CA27_APR | E1: Run on 05 Sep 2024 11:23
A2: Acronym | B2: Reference | C2: Item description | D2: Unit | E2: Model | F2: Cyclical
F4: Default for Cyclical base run
F5: Latest
F6: 2020-21 | G6: 2021-22 | H6: 2022-23 | I6: 2023-24
A7: ANH | B7: W3032TOT | C7: Other operating expenditure - Costs associated with Traffic Management Act - Total | D7: £m | E7: Cyclical Foundation | F7: 1.89 | G7: 1.80845 | H7: 0.944 | I7: 0.733243
A8: ANH | B8: W3037TOT | C8: Other operating expenditure - Costs associated with lane rental schemes - Total | D8: £m | E8: Cyclical Foundation | F8: 0 | G8: 0 | H8: 0 | I8: 0
A9: ANH | B9: W3040TOT | C9: Traffic Management Act - Projects incurring costs associated with Traffic Management Act - Total | D9: nr | E9: Cyclical Foundation | F9: 32514 | G9: 32516 | H9: 18002 | I9: 12342
A10: ANH | B10: WWS1103CAS | C10: Other expenditure - Costs associated with Traffic Management Act - Total | D10: £m | E10: Cyclical Foundation | F10: 0.182 | G10: 0.042667686 | H10: 0.082 | I10: 0.059
A11: ANH | B11: WWS1104CAS | C11: Other expenditure - Costs associated with lane rental schemes - Total | D11: £m | E11: Cyclical Foundation | F11: 0 | G11: 0 | H11: 0 | I11: 0
A12: ANH | B12: WWS1108CAS | C12: Traffic Management Act - Projects incurring costs associated with Traffic Management Act - Total | D12: nr | E12: Cyclical Foundation | F12: 2322 | G12: 1734 | H12: 870 | I12: 701
A13: WSH | B13: W3032TOT | C13: Other operating expenditure - Costs associated with Traffic Management Act - Total | D13: £m | E13: Cyclical Foundation | F13: 0.002 | G13: 0.006 | H13: 0.093 | I13: 0.192
A14: WSH | B14: W3037TOT | C14: Other operating expenditure - Costs associated with lane rental schemes - Total | D14: £m | E14: Cyclical Foundation | F14: 0 | G14: 0 | H14: 0 | I14: 0
A15: WSH | B15: W3040TOT | C15: Traffic Management Act - Projects incurring costs associated with Traffic Management Act - Total | D15: nr | E15: Cyclical Foundation | F15: 45 | G15: 0 | H15: 1815 | I15: 3630
A16: WSH | B16: WWS1103CAS | C16: Other expenditure - Costs associated with Traffic Management Act - Total | D16: £m | E16: Cyclical Foundation | F16: 0.036 | G16: 0 | H16: 0.093 | I16: 0.023
A17: WSH | B17: WWS1104CAS | C17: Other expenditure - Costs associated with lane rental schemes - Total | D17: £m | E17: Cyclical Foundation | F17: 0 | G17: 0 | H17: 0 | I17: 0
A18: WSH | B18: WWS1108CAS | C18: Traffic Management Act - Projects incurring costs associated with Traffic Management Act - Total | D18: nr | E18: Cyclical Foundation | F18: 832 | G18: 0 | H18: 323 | I18: 421
... A108: SES | B108: WWS1108CAS | C108: Traffic Management Act - Projects incurring costs associated with Traffic Management Act - Total | D108: nr | E108: Cyclical Foundation | F108: 0 | G108: 0 | H108: 0 | I108: 0

Sheet F_Inputs (EC)
C2: Shallow dive company efficiency challenge | E2: Run on 15 Nov 2024 11:47
A4: Company Acronym | B4: Item Code | C4: Item Description | D4: Item Unit | E4: Item Table Suite | F4: 2025-26 | G4: 2026-27 | H4: 2027-28 | I4: 2028-29 | J4: 2029-30
A5: Company Acronym | B5: Item Code | C5: Item Description | D5: Item Unit | E5: Item Table Suite | F5: Price Review 2024 | G5: Price Review 2024 | H5: Price Review 2024 | I5: Price Review 2024 | J5: Price Review 2024
A6: Company Acronym | B6: Item Code | C6: Item Description | D6: Item Unit | E6: Item Table Suite | F6: Run 11 - PR24 FD Data | G6: Run 11 - PR24 FD Data | H6: Run 11 - PR24 FD Data | I6: Run 11 - PR24 FD Data | J6: Run 11 - PR24 FD Data
A7: Company Acronym | B7: Item Code | C7: Item Description | D7: Item Unit | E7: Item Table Suite | F7: Latest | G7: Latest | H7: Latest | I7: Latest | J7: Latest
A8: ANH | B8: C_PR24WW_SHALLOW_EFF | C8: Shallow dive company efficiency factor water | D8: % | E8: Price Review 2024 | F8: 0.1 | G8: 0.1 | H8: 0.1 | I8: 0.1 | J8: 0.1
A9: ANH | B9: C_PR24WWW_SHALLOW_EFF | C9: Shallow dive company efficiency factor wastewater | D9: % | E9: Price Review 2024 | F9: 0.058528895 | G9: 0.058528895 | H9: 0.058528895 | I9: 0.058528895 | J9: 0.058528895
A10: WSH | B10: C_PR24WW_SHALLOW_EFF | C10: Shallow dive company efficiency factor water | D10: % | E10: Price Review 2024 | F10: 0.0073588878 | G10: 0.0073588878 | H10: 0.0073588878 | I10: 0.0073588878 | J10: 0.0073588878
A11: WSH | B11: C_PR24WWW_SHALLOW_EFF | C11: Shallow dive company efficiency factor wastewater | D11: % | E11: Price Review 2024 | F11: 0 | G11: 0 | H11: 0 | I11: 0 | J11: 0
A12: HDD | B12: C_PR24WW_SHALLOW_EFF | C12: Shallow dive company efficiency factor water | D12: % | E12: Price Review 2024 | F12: 0.068726762 | G12: 0.068726762 | H12: 0.068726762 | I12: 0.068726762 | J12: 0.068726762
A13: HDD | B13: C_PR24WWW_SHALLOW_EFF | C13: Shallow dive company efficiency factor wastewater | D13: % | E13: Price Review 2024 | F13: 0.1 | G13: 0.1 | H13: 0.1 | I13: 0.1 | J13: 0.1
A14: NES | B14: C_PR24WW_SHALLOW_EFF | C14: Shallow dive company efficiency factor water | D14: % | E14: Price Review 2024 | F14: 0.057853892 | G14: 0.057853892 | H14: 0.057853892 | I14: 0.057853892 | J14: 0.057853892
A15: NES | B15: C_PR24WWW_SHALLOW_EFF | C15: Shallow dive company efficiency factor wastewater | D15: % | E15: Price Review 2024 | F15: 0.1 | G15: 0.1 | H15: 0.1 | I15: 0.1 | J15: 0.1
A16: SVE | B16: C_PR24WW_SHALLOW_EFF | C16: Shallow dive company efficiency factor water | D16: % | E16: Price Review 2024 | F16: 0.034724659 | G16: 0.034724659 | H16: 0.034724659 | I16: 0.034724659 | J16: 0.034724659
A17: SVE | B17: C_PR24WWW_SHALLOW_EFF | C17: Shallow dive company efficiency factor wastewater | D17: % | E17: Price Review 2024 | F17: 0.022668303 | G17: 0.022668303 | H17: 0.022668303 | I17: 0.022668303 | J17: 0.022668303
A18: SWB | B18: C_PR24WW_SHALLOW_EFF | C18: Shallow dive company efficiency factor water | D18: % | E18: Price Review 2024 | F18: 0 | G18: 0 | H18: 0 | I18: 0 | J18: 0
A19: SWB | B19: C_PR24WWW_SHALLOW_EFF | C19: Shallow dive company efficiency factor wastewater | D19: % | E19: Price Review 2024 | F19: 0.054494436 | G19: 0.054494436 | H19: 0.054494436 | I19: 0.054494436 | J19: 0.054494436
... A30: AFW | B30: C_PR24WW_SHALLOW_EFF | C30: Shallow dive company efficiency factor water | D30: % | E30: Price Review 2024 | F30: 0.0077796584 | G30: 0.0077796584 | H30: 0.0077796584 | I30: 0.0077796584 | J30: 0.0077796584
A31: AFW | B31: C_PR24WWW_SHALLOW_EFF | C31: Shallow dive company efficiency factor wastewater | D31: % | E31: Price Review 2024
A32: BRL | B32: C_PR24WW_SHALLOW_EFF | C32: Shallow dive company efficiency factor water | D32: % | E32: Price Review 2024 | F32: 0 | G32: 0 | H32: 0 | I32: 0 | J32: 0
A33: BRL | B33: C_PR24WWW_SHALLOW_EFF | C33: Shallow dive company efficiency factor wastewater | D33: % | E33: Price Review 2024
A34: PRT | B34: C_PR24WW_SHALLOW_EFF | C34: Shallow dive company efficiency factor water | D34: % | E34: Price Review 2024 | F34: 0 | G34: 0 | H34: 0 | I34: 0 | J34: 0
A35: PRT | B35: C_PR24WWW_SHALLOW_EFF | C35: Shallow dive company efficiency factor wastewater | D35: % | E35: Price Review 2024
A36: SEW | B36: C_PR24WW_SHALLOW_EFF | C36: Shallow dive company efficiency factor water | D36: % | E36: Price Review 2024 | F36: 0.065886387 | G36: 0.065886387 | H36: 0.065886387 | I36: 0.065886387 | J36: 0.065886387
A37: SEW | B37: C_PR24WWW_SHALLOW_EFF | C37: Shallow dive company efficiency factor wastewater | D37: % | E37: Price Review 2024
A38: SSC | B38: C_PR24WW_SHALLOW_EFF | C38: Shallow dive company efficiency factor water | D38: % | E38: Price Review 2024 | F38: 0 | G38: 0 | H38: 0 | I38: 0 | J38: 0
A39: SSC | B39: C_PR24WWW_SHALLOW_EFF | C39: Shallow dive company efficiency factor wastewater | D39: % | E39: Price Review 2024
A40: SES | B40: C_PR24WW_SHALLOW_EFF | C40: Shallow dive company efficiency factor water | D40: % | E40: Price Review 2024 | F40: 0.1 | G40: 0.1 | H40: 0.1 | I40: 0.1 | J40: 0.1
A41: SES | B41: C_PR24WWW_SHALLOW_EFF | C41: Shallow dive company efficiency factor wastewater | D41: % | E41: Price Review 2024

Sheet Consolidated Input
A1: 21610
A2: Acronym | B2: Reference | C2: Item description | D2: Unit | E2: Model | F2: Cyclical | G2: Cyclical | H2: Cyclical | I2: Cyclical | J2: Cyclical | K2: Cyclical | L2: Cyclical | M2: Cyclical | N2: Cyclical | O2: Cyclical | P2: Price Review 2024 | Q2: Price Review 2024 | R2: Price Review 2024 | S2: Price Review 2024 | T2: Price Review 2024 | U2: Price Review 2024 | V2: Price Review 2024 | W2: Price Review 2024 | X2: Price Review 2024 | Y2: Price Review 2024
F3: Default for Cyclical base run | G3: Default for Cyclical base run | H3: Default for Cyclical base run | I3: Default for Cyclical base run | J3: Default for Cyclical base run | K3: Default for Cyclical base run | L3: Default for Cyclical base run | M3: Default for Cyclical base run | N3: Default for Cyclical base run | O3: Default for Cyclical base run | P3: Default for Price Review 2024 base run | Q3: Default for Price Review 2024 base run | R3: Default for Price Review 2024 base run | S3: Default for Price Review 2024 base run | T3: Default for Price Review 2024 base run | U3: Default for Price Review 2024 base run | V3: Default for Price Review 2024 base run | W3: Default for Price Review 2024 base run | X3: Default for Price Review 2024 base run | Y3: Default for Price Review 2024 base run
F4: Latest | G4: Latest | H4: Latest | I4: Latest | J4: Latest | K4: Latest | L4: Latest | M4: Latest | N4: Latest | O4: Latest | P4: Latest | Q4: Latest | R4: Latest | S4: Latest | T4: Latest | U4: Latest | V4: Latest | W4: Latest | X4: Latest | Y4: Latest
A5: Acronym | B5: Reference | C5: Item description | D5: Unit | E5: Model | F5: 2020-21 | G5: 2021-22 | H5: 2022-23 | I5: 2023-24 | J5: 2024-25 | K5: 2025-26 | L5: 2026-27 | M5: 2027-28 | N5: 2028-29 | O5: 2029-30 | P5: 2020-212 | Q5: 2021-223 | R5: 2022-234 | S5: 2023-245 | T5: 2024-256 | U5: 2025-267 | V5: 2026-278 | W5: 2027-289 | X5: 2028-2910 | Y5: 2029-3011 | Z5: Column12
A6: ANH | B6: W3032TOT | C6: Other operating expenditure - Costs associated with Traffic Management Act - Total | D6: £m | E6: Cyclical Foundation | F6: =SUMIFS(F_Inputs_APR!F$7:F$108, F_Inputs_APR!$A$7:$A$108, $A6, F_Inputs_APR!$B$7:$B$108, $B6) -> 1.89 | G6: =SUMIFS(F_Inputs_APR!G$7:G$108, F_Inputs_APR!$A$7:$A$108, $A6, F_Inputs_APR!$B$7:$B$108, $B6) -> 1.80845 | H6: =SUMIFS(F_Inputs_APR!H$7:H$108, F_Inputs_APR!$A$7:$A$108, $A6, F_Inputs_APR!$B$7:$B$108, $B6) -> 0.944 | I6: =SUMIFS(F_Inputs_APR!I$7:I$108, F_Inputs_APR!$A$7:$A$108, $A6, F_Inputs_APR!$B$7:$B$108, $B6) -> 0.733243
A7: ANH | B7: W3037TOT | C7: Other operating expenditure - Costs associated with lane rental schemes - Total | D7: £m | E7: Cyclical Foundation | F7: =SUMIFS(F_Inputs_APR!F$7:F$108, F_Inputs_APR!$A$7:$A$108, $A7, F_Inputs_APR!$B$7:$B$108, $B7) -> 0 | G7: =SUMIFS(F_Inputs_APR!G$7:G$108, F_Inputs_APR!$A$7:$A$108, $A7, F_Inputs_APR!$B$7:$B$108, $B7) -> 0 | H7: =SUMIFS(F_Inputs_APR!H$7:H$108, F_Inputs_APR!$A$7:$A$108, $A7, F_Inputs_APR!$B$7:$B$108, $B7) -> 0 | I7: =SUMIFS(F_Inputs_APR!I$7:I$108, F_Inputs_APR!$A$7:$A$108, $A7, F_Inputs_APR!$B$7:$B$108, $B7) -> 0
A8: ANH | B8: W3040TOT | C8: Traffic Management Act - Projects incurring costs associated with Traffic Management Act - Total | D8: nr | E8: Cyclical Foundation | F8: =SUMIFS(F_Inputs_APR!F$7:F$108, F_Inputs_APR!$A$7:$A$108, $A8, F_Inputs_APR!$B$7:$B$108, $B8) -> 32514 | G8: =SUMIFS(F_Inputs_APR!G$7:G$108, F_Inputs_APR!$A$7:$A$108, $A8, F_Inputs_APR!$B$7:$B$108, $B8) -> 32516 | H8: =SUMIFS(F_Inputs_APR!H$7:H$108, F_Inputs_APR!$A$7:$A$108, $A8, F_Inputs_APR!$B$7:$B$108, $B8) -> 18002 | I8: =SUMIFS(F_Inputs_APR!I$7:I$108, F_Inputs_APR!$A$7:$A$108, $A8, F_Inputs_APR!$B$7:$B$108, $B8) -> 12342
A9: ANH | B9: WWS1103CAS | C9: Other expenditure - Costs associated with Traffic Management Act - Total | D9: £m | E9: Cyclical Foundation | F9: =SUMIFS(F_Inputs_APR!F$7:F$108, F_Inputs_APR!$A$7:$A$108, $A9, F_Inputs_APR!$B$7:$B$108, $B9) -> 0.182 | G9: =SUMIFS(F_Inputs_APR!G$7:G$108, F_Inputs_APR!$A$7:$A$108, $A9, F_Inputs_APR!$B$7:$B$108, $B9) -> 0.042667686 | H9: =SUMIFS(F_Inputs_APR!H$7:H$108, F_Inputs_APR!$A$7:$A$108, $A9, F_Inputs_APR!$B$7:$B$108, $B9) -> 0.082 | I9: =SUMIFS(F_Inputs_APR!I$7:I$108, F_Inputs_APR!$A$7:$A$108, $A9, F_Inputs_APR!$B$7:$B$108, $B9) -> 0.059
A10: ANH | B10: WWS1104CAS | C10: Other expenditure - Costs associated with lane rental schemes - Total | D10: £m | E10: Cyclical Foundation | F10: =SUMIFS(F_Inputs_APR!F$7:F$108, F_Inputs_APR!$A$7:$A$108, $A10, F_Inputs_APR!$B$7:$B$108, $B10) -> 0 | G10: =SUMIFS(F_Inputs_APR!G$7:G$108, F_Inputs_APR!$A$7:$A$108, $A10, F_Inputs_APR!$B$7:$B$108, $B10) -> 0 | H10: =SUMIFS(F_Inputs_APR!H$7:H$108, F_Inputs_APR!$A$7:$A$108, $A10, F_Inputs_APR!$B$7:$B$108, $B10) -> 0 | I10: =SUMIFS(F_Inputs_APR!I$7:I$108, F_Inputs_APR!$A$7:$A$108, $A10, F_Inputs_APR!$B$7:$B$108, $B10) -> 0
A11: ANH | B11: WWS1108CAS | C11: Traffic Management Act - Projects incurring costs associated with Traffic Management Act - Total | D11: nr | E11: Cyclical Foundation | F11: =SUMIFS(F_Inputs_APR!F$7:F$108, F_Inputs_APR!$A$7:$A$108, $A11, F_Inputs_APR!$B$7:$B$108, $B11) -> 2322 | G11: =SUMIFS(F_Inputs_APR!G$7:G$108, F_Inputs_APR!$A$7:$A$108, $A11, F_Inputs_APR!$B$7:$B$108, $B11) -> 1734 | H11: =SUMIFS(F_Inputs_APR!H$7:H$108, F_Inputs_APR!$A$7:$A$108, $A11, F_Inputs_APR!$B$7:$B$108, $B11) -> 870 | I11: =SUMIFS(F_Inputs_APR!I$7:I$108, F_Inputs_APR!$A$7:$A$108, $A11, F_Inputs_APR!$B$7:$B$108, $B11) -> 701
A12: WSH | B12: W3032TOT | C12: Other operating expenditure - Costs associated with Traffic Management Act - Total | D12: £m | E12: Cyclical Foundation | F12: =SUMIFS(F_Inputs_APR!F$7:F$108, F_Inputs_APR!$A$7:$A$108, $A12, F_Inputs_APR!$B$7:$B$108, $B12) -> 0.002 | G12: =SUMIFS(F_Inputs_APR!G$7:G$108, F_Inputs_APR!$A$7:$A$108, $A12, F_Inputs_APR!$B$7:$B$108, $B12) -> 0.006 | H12: =SUMIFS(F_Inputs_APR!H$7:H$108, F_Inputs_APR!$A$7:$A$108, $A12, F_Inputs_APR!$B$7:$B$108, $B12) -> 0.093 | I12: =SUMIFS(F_Inputs_APR!I$7:I$108, F_Inputs_APR!$A$7:$A$108, $A12, F_Inputs_APR!$B$7:$B$108, $B12) -> 0.192
A13: WSH | B13: W3037TOT | C13: Other operating expenditure - Costs associated with lane rental schemes - Total | D13: £m | E13: Cyclical Foundation | F13: =SUMIFS(F_Inputs_APR!F$7:F$108, F_Inputs_APR!$A$7:$A$108, $A13, F_Inputs_APR!$B$7:$B$108, $B13) -> 0 | G13: =SUMIFS(F_Inputs_APR!G$7:G$108, F_Inputs_APR!$A$7:$A$108, $A13, F_Inputs_APR!$B$7:$B$108, $B13) -> 0 | H13: =SUMIFS(F_Inputs_APR!H$7:H$108, F_Inputs_APR!$A$7:$A$108, $A13, F_Inputs_APR!$B$7:$B$108, $B13) -> 0 | I13: =SUMIFS(F_Inputs_APR!I$7:I$108, F_Inputs_APR!$A$7:$A$108, $A13, F_Inputs_APR!$B$7:$B$108, $B13) -> 0
A14: WSH | B14: W3040TOT | C14: Traffic Management Act - Projects incurring costs associated with Traffic Management Act - Total | D14: nr | E14: Cyclical Foundation | F14: =SUMIFS(F_Inputs_APR!F$7:F$108, F_Inputs_APR!$A$7:$A$108, $A14, F_Inputs_APR!$B$7:$B$108, $B14) -> 45 | G14: =SUMIFS(F_Inputs_APR!G$7:G$108, F_Inputs_APR!$A$7:$A$108, $A14, F_Inputs_APR!$B$7:$B$108, $B14) -> 0 | H14: =SUMIFS(F_Inputs_APR!H$7:H$108, F_Inputs_APR!$A$7:$A$108, $A14, F_Inputs_APR!$B$7:$B$108, $B14) -> 1815 | I14: =SUMIFS(F_Inputs_APR!I$7:I$108, F_Inputs_APR!$A$7:$A$108, $A14, F_Inputs_APR!$B$7:$B$108, $B14) -> 3630
A15: WSH | B15: WWS1103CAS | C15: Other expenditure - Costs associated with Traffic Management Act - Total | D15: £m | E15: Cyclical Foundation | F15: =SUMIFS(F_Inputs_APR!F$7:F$108, F_Inputs_APR!$A$7:$A$108, $A15, F_Inputs_APR!$B$7:$B$108, $B15) -> 0.036 | G15: =SUMIFS(F_Inputs_APR!G$7:G$108, F_Inputs_APR!$A$7:$A$108, $A15, F_Inputs_APR!$B$7:$B$108, $B15) -> 0 | H15: =SUMIFS(F_Inputs_APR!H$7:H$108, F_Inputs_APR!$A$7:$A$108, $A15, F_Inputs_APR!$B$7:$B$108, $B15) -> 0.093 | I15: =SUMIFS(F_Inputs_APR!I$7:I$108, F_Inputs_APR!$A$7:$A$108, $A15, F_Inputs_APR!$B$7:$B$108, $B15) -> 0.023
A16: WSH | B16: WWS1104CAS | C16: Other expenditure - Costs associated with lane rental schemes - Total | D16: £m | E16: Cyclical Foundation | F16: =SUMIFS(F_Inputs_APR!F$7:F$108, F_Inputs_APR!$A$7:$A$108, $A16, F_Inputs_APR!$B$7:$B$108, $B16) -> 0 | G16: =SUMIFS(F_Inputs_APR!G$7:G$108, F_Inputs_APR!$A$7:$A$108, $A16, F_Inputs_APR!$B$7:$B$108, $B16) -> 0 | H16: =SUMIFS(F_Inputs_APR!H$7:H$108, F_Inputs_APR!$A$7:$A$108, $A16, F_Inputs_APR!$B$7:$B$108, $B16) -> 0 | I16: =SUMIFS(F_Inputs_APR!I$7:I$108, F_Inputs_APR!$A$7:$A$108, $A16, F_Inputs_APR!$B$7:$B$108, $B16) -> 0
A17: WSH | B17: WWS1108CAS | C17: Traffic Management Act - Projects incurring costs associated with Traffic Management Act - Total | D17: nr | E17: Cyclical Foundation | F17: =SUMIFS(F_Inputs_APR!F$7:F$108, F_Inputs_APR!$A$7:$A$108, $A17, F_Inputs_APR!$B$7:$B$108, $B17) -> 832 | G17: =SUMIFS(F_Inputs_APR!G$7:G$108, F_Inputs_APR!$A$7:$A$108, $A17, F_Inputs_APR!$B$7:$B$108, $B17) -> 0 | H17: =SUMIFS(F_Inputs_APR!H$7:H$108, F_Inputs_APR!$A$7:$A$108, $A17, F_Inputs_APR!$B$7:$B$108, $B17) -> 323 | I17: =SUMIFS(F_Inputs_APR!I$7:I$108, F_Inputs_APR!$A$7:$A$108, $A17, F_Inputs_APR!$B$7:$B$108, $B17) -> 421
... A107: SES | B107: WWS1108CAS | C107: Traffic Management Act - Projects incurring costs associated with Traffic Management Act - Total | D107: nr | E107: Cyclical Foundation | F107: =SUMIFS(F_Inputs_APR!F$7:F$108, F_Inputs_APR!$A$7:$A$108, $A107, F_Inputs_APR!$B$7:$B$108, $B107) -> 0 | G107: =SUMIFS(F_Inputs_APR!G$7:G$108, F_Inputs_APR!$A$7:$A$108, $A107, F_Inputs_APR!$B$7:$B$108, $B107) -> 0 | H107: =SUMIFS(F_Inputs_APR!H$7:H$108, F_Inputs_APR!$A$7:$A$108, $A107, F_Inputs_APR!$B$7:$B$108, $B107) -> 0 | I107: =SUMIFS(F_Inputs_APR!I$7:I$108, F_Inputs_APR!$A$7:$A$108, $A107, F_Inputs_APR!$B$7:$B$108, $B107) -> 0
A108: ANH | B108: CW2_011TOT_PR24 | C108: Location specific costs & obligations - Costs associated with Traffic Management Act - Total | D108: £m | E108: Price Review 2024 | R108: =SUMIFS(F_Inputs_BP!H$7:H$108, F_Inputs_BP!$A$7:$A$108, $A108, F_Inputs_BP!$B$7:$B$108, $B108) -> 0.944 | S108: =SUMIFS(F_Inputs_BP!I$7:I$108, F_Inputs_BP!$A$7:$A$108, $A108, F_Inputs_BP!$B$7:$B$108, $B108) -> 0.6947101 | T108: =SUMIFS(F_Inputs_BP!J$7:J$108, F_Inputs_BP!$A$7:$A$108, $A108, F_Inputs_BP!$B$7:$B$108, $B108) -> 0.88712999 | U108: =SUMIFS(F_Inputs_BP!K$7:K$108, F_Inputs_BP!$A$7:$A$108, $A108, F_Inputs_BP!$B$7:$B$108, $B108) -> 1.4730689 | V108: =SUMIFS(F_Inputs_BP!L$7:L$108, F_Inputs_BP!$A$7:$A$108, $A108, F_Inputs_BP!$B$7:$B$108, $B108) -> 1.4730689 | W108: =SUMIFS(F_Inputs_BP!M$7:M$108, F_Inputs_BP!$A$7:$A$108, $A108, F_Inputs_BP!$B$7:$B$108, $B108) -> 1.4730689 | X108: =SUMIFS(F_Inputs_BP!N$7:N$108, F_Inputs_BP!$A$7:$A$108, $A108, F_Inputs_BP!$B$7:$B$108, $B108) -> 1.4730689 | Y108: =SUMIFS(F_Inputs_BP!O$7:O$108, F_Inputs_BP!$A$7:$A$108, $A108, F_Inputs_BP!$B$7:$B$108, $B108) -> 1.4730689
A109: ANH | B109: CW2_012TOT_PR24 | C109: Location specific costs & obligations - Costs associated with lane rental schemes - Total | D109: £m | E109: Price Review 2024 | R109: =SUMIFS(F_Inputs_BP!H$7:H$108, F_Inputs_BP!$A$7:$A$108, $A109, F_Inputs_BP!$B$7:$B$108, $B109) -> 0 | S109: =SUMIFS(F_Inputs_BP!I$7:I$108, F_Inputs_BP!$A$7:$A$108, $A109, F_Inputs_BP!$B$7:$B$108, $B109) -> 0 | T109: =SUMIFS(F_Inputs_BP!J$7:J$108, F_Inputs_BP!$A$7:$A$108, $A109, F_Inputs_BP!$B$7:$B$108, $B109) -> 0 | U109: =SUMIFS(F_Inputs_BP!K$7:K$108, F_Inputs_BP!$A$7:$A$108, $A109, F_Inputs_BP!$B$7:$B$108, $B109) -> 0 | V109: =SUMIFS(F_Inputs_BP!L$7:L$108, F_Inputs_BP!$A$7:$A$108, $A109, F_Inputs_BP!$B$7:$B$108, $B109) -> 0 | W109: =SUMIFS(F_Inputs_BP!M$7:M$108, F_Inputs_BP!$A$7:$A$108, $A109, F_Inputs_BP!$B$7:$B$108, $B109) -> 0 | X109: =SUMIFS(F_Inputs_BP!N$7:N$108, F_Inputs_BP!$A$7:$A$108, $A109, F_Inputs_BP!$B$7:$B$108, $B109) -> 0 | Y109: =SUMIFS(F_Inputs_BP!O$7:O$108, F_Inputs_BP!$A$7:$A$108, $A109, F_Inputs_BP!$B$7:$B$108, $B109) -> 0
A110: ANH | B110: CW2_018TOT_PR24 | C110: Traffic Management Act - Projects incurring costs associated with Traffic Management Act - Total | D110: nr | E110: Price Review 2024 | R110: =SUMIFS(F_Inputs_BP!H$7:H$108, F_Inputs_BP!$A$7:$A$108, $A110, F_Inputs_BP!$B$7:$B$108, $B110) -> 18002 | S110: =SUMIFS(F_Inputs_BP!I$7:I$108, F_Inputs_BP!$A$7:$A$108, $A110, F_Inputs_BP!$B$7:$B$108, $B110) -> 12342 | T110: =SUMIFS(F_Inputs_BP!J$7:J$108, F_Inputs_BP!$A$7:$A$108, $A110, F_Inputs_BP!$B$7:$B$108, $B110) -> 19000 | U110: =SUMIFS(F_Inputs_BP!K$7:K$108, F_Inputs_BP!$A$7:$A$108, $A110, F_Inputs_BP!$B$7:$B$108, $B110) -> 19000 | V110: =SUMIFS(F_Inputs_BP!L$7:L$108, F_Inputs_BP!$A$7:$A$108, $A110, F_Inputs_BP!$B$7:$B$108, $B110) -> 19000 | W110: =SUMIFS(F_Inputs_BP!M$7:M$108, F_Inputs_BP!$A$7:$A$108, $A110, F_Inputs_BP!$B$7:$B$108, $B110) -> 19000 | X110: =SUMIFS(F_Inputs_BP!N$7:N$108, F_Inputs_BP!$A$7:$A$108, $A110, F_Inputs_BP!$B$7:$B$108, $B110) -> 19000 | Y110: =SUMIFS(F_Inputs_BP!O$7:O$108, F_Inputs_BP!$A$7:$A$108, $A110, F_Inputs_BP!$B$7:$B$108, $B110) -> 19000
A111: ANH | B111: CWW2_011TOT_PR24 | C111: Location specific costs & obligations - Costs associated with Traffic Management Act - Total | D111: £m | E111: Price Review 2024 | R111: =SUMIFS(F_Inputs_BP!H$7:H$108, F_Inputs_BP!$A$7:$A$108, $A111, F_Inputs_BP!$B$7:$B$108, $B111) -> 0.082 | S111: =SUMIFS(F_Inputs_BP!I$7:I$108, F_Inputs_BP!$A$7:$A$108, $A111, F_Inputs_BP!$B$7:$B$108, $B111) -> 0.055899471 | T111: =SUMIFS(F_Inputs_BP!J$7:J$108, F_Inputs_BP!$A$7:$A$108, $A111, F_Inputs_BP!$B$7:$B$108, $B111) -> 0.080419552 | U111: =SUMIFS(F_Inputs_BP!K$7:K$108, F_Inputs_BP!$A$7:$A$108, $A111, F_Inputs_BP!$B$7:$B$108, $B111) -> 0.0837 | V111: =SUMIFS(F_Inputs_BP!L$7:L$108, F_Inputs_BP!$A$7:$A$108, $A111, F_Inputs_BP!$B$7:$B$108, $B111) -> 0.0837 | W111: =SUMIFS(F_Inputs_BP!M$7:M$108, F_Inputs_BP!$A$7:$A$108, $A111, F_Inputs_BP!$B$7:$B$108, $B111) -> 0.0837 | X111: =SUMIFS(F_Inputs_BP!N$7:N$108, F_Inputs_BP!$A$7:$A$108, $A111, F_Inputs_BP!$B$7:$B$108, $B111) -> 0.0837 | Y111: =SUMIFS(F_Inputs_BP!O$7:O$108, F_Inputs_BP!$A$7:$A$108, $A111, F_Inputs_BP!$B$7:$B$108, $B111) -> 0.0837
A112: ANH | B112: CWW2_012TOT_PR24 | C112: Location specific costs & obligations - Costs associated with lane rental schemes - Total | D112: £m | E112: Price Review 2024 | R112: =SUMIFS(F_Inputs_BP!H$7:H$108, F_Inputs_BP!$A$7:$A$108, $A112, F_Inputs_BP!$B$7:$B$108, $B112) -> 0 | S112: =SUMIFS(F_Inputs_BP!I$7:I$108, F_Inputs_BP!$A$7:$A$108, $A112, F_Inputs_BP!$B$7:$B$108, $B112) -> 0 | T112: =SUMIFS(F_Inputs_BP!J$7:J$108, F_Inputs_BP!$A$7:$A$108, $A112, F_Inputs_BP!$B$7:$B$108, $B112) -> 0 | U112: =SUMIFS(F_Inputs_BP!K$7:K$108, F_Inputs_BP!$A$7:$A$108, $A112, F_Inputs_BP!$B$7:$B$108, $B112) -> 0 | V112: =SUMIFS(F_Inputs_BP!L$7:L$108, F_Inputs_BP!$A$7:$A$108, $A112, F_Inputs_BP!$B$7:$B$108, $B112) -> 0 | W112: =SUMIFS(F_Inputs_BP!M$7:M$108, F_Inputs_BP!$A$7:$A$108, $A112, F_Inputs_BP!$B$7:$B$108, $B112) -> 0 | X112: =SUMIFS(F_Inputs_BP!N$7:N$108, F_Inputs_BP!$A$7:$A$108, $A112, F_Inputs_BP!$B$7:$B$108, $B112) -> 0 | Y112: =SUMIFS(F_Inputs_BP!O$7:O$108, F_Inputs_BP!$A$7:$A$108, $A112, F_Inputs_BP!$B$7:$B$108, $B112) -> 0
A113: ANH | B113: CWW2_018TOT_PR24 | C113: Traffic Management Act - Projects incurring costs associated with Traffic Management Act - Total | D113: nr | E113: Price Review 2024 | R113: =SUMIFS(F_Inputs_BP!H$7:H$108, F_Inputs_BP!$A$7:$A$108, $A113, F_Inputs_BP!$B$7:$B$108, $B113) -> 870 | S113: =SUMIFS(F_Inputs_BP!I$7:I$108, F_Inputs_BP!$A$7:$A$108, $A113, F_Inputs_BP!$B$7:$B$108, $B113) -> 701 | T113: =SUMIFS(F_Inputs_BP!J$7:J$108, F_Inputs_BP!$A$7:$A$108, $A113, F_Inputs_BP!$B$7:$B$108, $B113) -> 900 | U113: =SUMIFS(F_Inputs_BP!K$7:K$108, F_Inputs_BP!$A$7:$A$108, $A113, F_Inputs_BP!$B$7:$B$108, $B113) -> 900 | V113: =SUMIFS(F_Inputs_BP!L$7:L$108, F_Inputs_BP!$A$7:$A$108, $A113, F_Inputs_BP!$B$7:$B$108, $B113) -> 900 | W113: =SUMIFS(F_Inputs_BP!M$7:M$108, F_Inputs_BP!$A$7:$A$108, $A113, F_Inputs_BP!$B$7:$B$108, $B113) -> 900 | X113: =SUMIFS(F_Inputs_BP!N$7:N$108, F_Inputs_BP!$A$7:$A$108, $A113, F_Inputs_BP!$B$7:$B$108, $B113) -> 900 | Y113: =SUMIFS(F_Inputs_BP!O$7:O$108, F_Inputs_BP!$A$7:$A$108, $A113, F_Inputs_BP!$B$7:$B$108, $B113) -> 900
A114: WSH | B114: CW2_011TOT_PR24 | C114: Location specific costs & obligations - Costs associated with Traffic Management Act - Total | D114: £m | E114: Price Review 2024 | R114: =SUMIFS(F_Inputs_BP!H$7:H$108, F_Inputs_BP!$A$7:$A$108, $A114, F_Inputs_BP!$B$7:$B$108, $B114) -> 0.093 | S114: =SUMIFS(F_Inputs_BP!I$7:I$108, F_Inputs_BP!$A$7:$A$108, $A114, F_Inputs_BP!$B$7:$B$108, $B114) -> 0.182 | T114: =SUMIFS(F_Inputs_BP!J$7:J$108, F_Inputs_BP!$A$7:$A$108, $A114, F_Inputs_BP!$B$7:$B$108, $B114) -> 0.052 | U114: =SUMIFS(F_Inputs_BP!K$7:K$108, F_Inputs_BP!$A$7:$A$108, $A114, F_Inputs_BP!$B$7:$B$108, $B114) -> 0.042 | V114: =SUMIFS(F_Inputs_BP!L$7:L$108, F_Inputs_BP!$A$7:$A$108, $A114, F_Inputs_BP!$B$7:$B$108, $B114) -> 0.04 | W114: =SUMIFS(F_Inputs_BP!M$7:M$108, F_Inputs_BP!$A$7:$A$108, $A114, F_Inputs_BP!$B$7:$B$108, $B114) -> 0.039 | X114: =SUMIFS(F_Inputs_BP!N$7:N$108, F_Inputs_BP!$A$7:$A$108, $A114, F_Inputs_BP!$B$7:$B$108, $B114) -> 0.039 | Y114: =SUMIFS(F_Inputs_BP!O$7:O$108, F_Inputs_BP!$A$7:$A$108, $A114, F_Inputs_BP!$B$7:$B$108, $B114) -> 0.038
A115: WSH | B115: CW2_012TOT_PR24 | C115: Location specific costs & obligations - Costs associated with lane rental schemes - Total | D115: £m | E115: Price Review 2024 | R115: =SUMIFS(F_Inputs_BP!H$7:H$108, F_Inputs_BP!$A$7:$A$108, $A115, F_Inputs_BP!$B$7:$B$108, $B115) -> 0 | S115: =SUMIFS(F_Inputs_BP!I$7:I$108, F_Inputs_BP!$A$7:$A$108, $A115, F_Inputs_BP!$B$7:$B$108, $B115) -> 0 | T115: =SUMIFS(F_Inputs_BP!J$7:J$108, F_Inputs_BP!$A$7:$A$108, $A115, F_Inputs_BP!$B$7:$B$108, $B115) -> 0 | U115: =SUMIFS(F_Inputs_BP!K$7:K$108, F_Inputs_BP!$A$7:$A$108, $A115, F_Inputs_BP!$B$7:$B$108, $B115) -> 0 | V115: =SUMIFS(F_Inputs_BP!L$7:L$108, F_Inputs_BP!$A$7:$A$108, $A115, F_Inputs_BP!$B$7:$B$108, $B115) -> 0 | W115: =SUMIFS(F_Inputs_BP!M$7:M$108, F_Inputs_BP!$A$7:$A$108, $A115, F_Inputs_BP!$B$7:$B$108, $B115) -> 0 | X115: =SUMIFS(F_Inputs_BP!N$7:N$108, F_Inputs_BP!$A$7:$A$108, $A115, F_Inputs_BP!$B$7:$B$108, $B115) -> 0 | Y115: =SUMIFS(F_Inputs_BP!O$7:O$108, F_Inputs_BP!$A$7:$A$108, $A115, F_Inputs_BP!$B$7:$B$108, $B115) -> 0
A116: WSH | B116: CW2_018TOT_PR24 | C116: Traffic Management Act - Projects incurring costs associated with Traffic Management Act - Total | D116: nr | E116: Price Review 2024 | R116: =SUMIFS(F_Inputs_BP!H$7:H$108, F_Inputs_BP!$A$7:$A$108, $A116, F_Inputs_BP!$B$7:$B$108, $B116) -> 1815 | S116: =SUMIFS(F_Inputs_BP!I$7:I$108, F_Inputs_BP!$A$7:$A$108, $A116, F_Inputs_BP!$B$7:$B$108, $B116) -> 3630 | T116: =SUMIFS(F_Inputs_BP!J$7:J$108, F_Inputs_BP!$A$7:$A$108, $A116, F_Inputs_BP!$B$7:$B$108, $B116) -> 1034 | U116: =SUMIFS(F_Inputs_BP!K$7:K$108, F_Inputs_BP!$A$7:$A$108, $A116, F_Inputs_BP!$B$7:$B$108, $B116) -> 839.194 | V116: =SUMIFS(F_Inputs_BP!L$7:L$108, F_Inputs_BP!$A$7:$A$108, $A116, F_Inputs_BP!$B$7:$B$108, $B116) -> 800.161 | W116: =SUMIFS(F_Inputs_BP!M$7:M$108, F_Inputs_BP!$A$7:$A$108, $A116, F_Inputs_BP!$B$7:$B$108, $B116) -> 780.645 | X116: =SUMIFS(F_Inputs_BP!N$7:N$108, F_Inputs_BP!$A$7:$A$108, $A116, F_Inputs_BP!$B$7:$B$108, $B116) -> 761.129 | Y116: =SUMIFS(F_Inputs_BP!O$7:O$108, F_Inputs_BP!$A$7:$A$108, $A116, F_Inputs_BP!$B$7:$B$108, $B116) -> 761.129
A117: WSH | B117: CWW2_011TOT_PR24 | C117: Location specific costs & obligations - Costs associated with Traffic Management Act - Total | D117: £m | E117: Price Review 2024 | R117: =SUMIFS(F_Inputs_BP!H$7:H$108, F_Inputs_BP!$A$7:$A$108, $A117, F_Inputs_BP!$B$7:$B$108, $B117) -> 0.093 | S117: =SUMIFS(F_Inputs_BP!I$7:I$108, F_Inputs_BP!$A$7:$A$108, $A117, F_Inputs_BP!$B$7:$B$108, $B117) -> 0.022 | T117: =SUMIFS(F_Inputs_BP!J$7:J$108, F_Inputs_BP!$A$7:$A$108, $A117, F_Inputs_BP!$B$7:$B$108, $B117) -> 0.044 | U117: =SUMIFS(F_Inputs_BP!K$7:K$108, F_Inputs_BP!$A$7:$A$108, $A117, F_Inputs_BP!$B$7:$B$108, $B117) -> 0.027 | V117: =SUMIFS(F_Inputs_BP!L$7:L$108, F_Inputs_BP!$A$7:$A$108, $A117, F_Inputs_BP!$B$7:$B$108, $B117) -> 0.025 | W117: =SUMIFS(F_Inputs_BP!M$7:M$108, F_Inputs_BP!$A$7:$A$108, $A117, F_Inputs_BP!$B$7:$B$108, $B117) -> 0.025 | X117: =SUMIFS(F_Inputs_BP!N$7:N$108, F_Inputs_BP!$A$7:$A$108, $A117, F_Inputs_BP!$B$7:$B$108, $B117) -> 0.024 | Y117: =SUMIFS(F_Inputs_BP!O$7:O$108, F_Inputs_BP!$A$7:$A$108, $A117, F_Inputs_BP!$B$7:$B$108, $B117) -> 0.024
A118: WSH | B118: CWW2_012TOT_PR24 | C118: Location specific costs & obligations - Costs associated with lane rental schemes - Total | D118: £m | E118: Price Review 2024 | R118: =SUMIFS(F_Inputs_BP!H$7:H$108, F_Inputs_BP!$A$7:$A$108, $A118, F_Inputs_BP!$B$7:$B$108, $B118) -> 0 | S118: =SUMIFS(F_Inputs_BP!I$7:I$108, F_Inputs_BP!$A$7:$A$108, $A118, F_Inputs_BP!$B$7:$B$108, $B118) -> 0 | T118: =SUMIFS(F_Inputs_BP!J$7:J$108, F_Inputs_BP!$A$7:$A$108, $A118, F_Inputs_BP!$B$7:$B$108, $B118) -> 0 | U118: =SUMIFS(F_Inputs_BP!K$7:K$108, F_Inputs_BP!$A$7:$A$108, $A118, F_Inputs_BP!$B$7:$B$108, $B118) -> 0 | V118: =SUMIFS(F_Inputs_BP!L$7:L$108, F_Inputs_BP!$A$7:$A$108, $A118, F_Inputs_BP!$B$7:$B$108, $B118) -> 0 | W118: =SUMIFS(F_Inputs_BP!M$7:M$108, F_Inputs_BP!$A$7:$A$108, $A118, F_Inputs_BP!$B$7:$B$108, $B118) -> 0 | X118: =SUMIFS(F_Inputs_BP!N$7:N$108, F_Inputs_BP!$A$7:$A$108, $A118, F_Inputs_BP!$B$7:$B$108, $B118) -> 0 | Y118: =SUMIFS(F_Inputs_BP!O$7:O$108, F_Inputs_BP!$A$7:$A$108, $A118, F_Inputs_BP!$B$7:$B$108, $B118) -> 0
A119: WSH | B119: CWW2_018TOT_PR24 | C119: Traffic Management Act - Projects incurring costs associated with Traffic Management Act - Total | D119: nr | E119: Price Review 2024 | R119: =SUMIFS(F_Inputs_BP!H$7:H$108, F_Inputs_BP!$A$7:$A$108, $A119, F_Inputs_BP!$B$7:$B$108, $B119) -> 323 | S119: =SUMIFS(F_Inputs_BP!I$7:I$108, F_Inputs_BP!$A$7:$A$108, $A119, F_Inputs_BP!$B$7:$B$108, $B119) -> 421 | T119: =SUMIFS(F_Inputs_BP!J$7:J$108, F_Inputs_BP!$A$7:$A$108, $A119, F_Inputs_BP!$B$7:$B$108, $B119) -> 152.818 | U119: =SUMIFS(F_Inputs_BP!K$7:K$108, F_Inputs_BP!$A$7:$A$108, $A119, F_Inputs_BP!$B$7:$B$108, $B119) -> 90.3 | V119: =SUMIFS(F_Inputs_BP!L$7:L$108, F_Inputs_BP!$A$7:$A$108, $A119, F_Inputs_BP!$B$7:$B$108, $B119) -> 86.827 | W119: =SUMIFS(F_Inputs_BP!M$7:M$108, F_Inputs_BP!$A$7:$A$108, $A119, F_Inputs_BP!$B$7:$B$108, $B119) -> 86.827 | X119: =SUMIFS(F_Inputs_BP!N$7:N$108, F_Inputs_BP!$A$7:$A$108, $A119, F_Inputs_BP!$B$7:$B$108, $B119) -> 83.354 | Y119: =SUMIFS(F_Inputs_BP!O$7:O$108, F_Inputs_BP!$A$7:$A$108, $A119, F_Inputs_BP!$B$7:$B$108, $B119) -> 83.354
... A209: SES | B209: CWW2_018TOT_PR24 | C209: Traffic Management Act - Projects incurring costs associated with Traffic Management Act - Total | D209: nr | E209: Price Review 2024 | R209: =SUMIFS(F_Inputs_BP!H$7:H$108, F_Inputs_BP!$A$7:$A$108, $A209, F_Inputs_BP!$B$7:$B$108, $B209) -> 0 | S209: =SUMIFS(F_Inputs_BP!I$7:I$108, F_Inputs_BP!$A$7:$A$108, $A209, F_Inputs_BP!$B$7:$B$108, $B209) -> 0 | T209: =SUMIFS(F_Inputs_BP!J$7:J$108, F_Inputs_BP!$A$7:$A$108, $A209, F_Inputs_BP!$B$7:$B$108, $B209) -> 0 | U209: =SUMIFS(F_Inputs_BP!K$7:K$108, F_Inputs_BP!$A$7:$A$108, $A209, F_Inputs_BP!$B$7:$B$108, $B209) -> 0 | V209: =SUMIFS(F_Inputs_BP!L$7:L$108, F_Inputs_BP!$A$7:$A$108, $A209, F_Inputs_BP!$B$7:$B$108, $B209) -> 0 | W209: =SUMIFS(F_Inputs_BP!M$7:M$108, F_Inputs_BP!$A$7:$A$108, $A209, F_Inputs_BP!$B$7:$B$108, $B209) -> 0 | X209: =SUMIFS(F_Inputs_BP!N$7:N$108, F_Inputs_BP!$A$7:$A$108, $A209, F_Inputs_BP!$B$7:$B$108, $B209) -> 0 | Y209: =SUMIFS(F_Inputs_BP!O$7:O$108, F_Inputs_BP!$A$7:$A$108, $A209, F_Inputs_BP!$B$7:$B$108, $B209) -> 0

Sheet Time
A1: =RIGHT(CELL("filename", A1), LEN(CELL("filename", A1)) - SEARCH("]", CELL("filename", A1))) -> Time
E2: =Time!E$19 -> Model period ending | J2: =Time!J$19 -> 44286 | K2: =Time!K$19 -> 44651 | L2: =Time!L$19 -> 45016 | M2: =Time!M$19 -> 45382 | N2: =Time!N$19 -> 45747 | O2: =Time!O$19 -> 46112 | P2: =Time!P$19 -> 46477 | Q2: =Time!Q$19 -> 46843 | ... S2: =Time!S$19 -> 47573
E3: =Time!E$26 -> Timeline label | J3: =Time!J$26 -> APR | K3: =Time!K$26 -> APR | L3: =Time!L$26 -> APR | M3: =Time!M$26 -> PR24 | N3: =Time!N$26 -> PR24 | O3: =Time!O$26 -> PR24 | P3: =Time!P$26 -> PR24 | Q3: =Time!Q$26 -> PR24 | ... S3: =Time!S$26 -> PR24
E4: =Time!E$9 -> Model column counter | F4: Constant | G4: Unit | H4: Total | J4: =Time!J$9 -> 1 | K4: =Time!K$9 -> 2 | L4: =Time!L$9 -> 3 | M4: =Time!M$9 -> 4 | N4: =Time!N$9 -> 5 | O4: =Time!O$9 -> 6 | P4: =Time!P$9 -> 7 | Q4: =Time!Q$9 -> 8 | ... S4: =Time!S$9 -> 10
A6: TIME RULER
B8: First model column
E9: Model column counter | G9: counter | J9: =I9 + 1 -> 1 | K9: =J9 + 1 -> 2 | L9: =K9 + 1 -> 3 | M9: =L9 + 1 -> 4 | N9: =M9 + 1 -> 5 | O9: =N9 + 1 -> 6 | P9: =O9 + 1 -> 7 | Q9: =P9 + 1 -> 8 | ... S9: =R9 + 1 -> 10
E10: Model column total | F10: =MAX(J9:JD9) -> 10 | G10: columns
E12: =E$9 -> Model column counter | F12: =F$9 -> 0 | G12: =G$9 -> counter | H12: =H$9 -> 0 | I12: =I$9 -> 0 | J12: =J$9 -> 1 | K12: =K$9 -> 2 | L12: =L$9 -> 3 | ... S12: =S$9 -> 10
E13: First model column flag | G13: flag | H13: =SUM(J13:S13) -> 1 | J13: =IF(J12 = 1, 1, 0) -> 1 | K13: =IF(K12 = 1, 1, 0) -> 0 | L13: =IF(L12 = 1, 1, 0) -> 0 | M13: =IF(M12 = 1, 1, 0) -> 0 | N13: =IF(N12 = 1, 1, 0) -> 0 | O13: =IF(O12 = 1, 1, 0) -> 0 | P13: =IF(P12 = 1, 1, 0) -> 0 | Q13: =IF(Q12 = 1, 1, 0) -> 0 | ... S13: =IF(S12 = 1, 1, 0) -> 0
B15: Model period beginning
E16: =InpC!E$13 -> First date first FY | F16: =InpC!F$13 -> 43922 | G16: =InpC!G$13 -> date
E17: =E$13 -> First model column flag | F17: =F$13 -> 0 | G17: =G$13 -> flag | H17: =H$13 -> 1 | I17: =I$13 -> 0 | J17: =J$13 -> 1 | K17: =K$13 -> 0 | L17: =L$13 -> 0 | ... S17: =S$13 -> 0
E18: Model period beginning | G18: date | J18: =IF(J17 = 1, $F16, DATE(YEAR(I18), MONTH(I18) +#REF!, DAY(1))) -> 43922 | K18: =J19+1 -> 44287 | L18: =K19+1 -> 44652 | M18: =L19+1 -> 45017 | N18: =M19+1 -> 45383 | O18: =N19+1 -> 45748 | P18: =O19+1 -> 46113 | Q18: =P19+1 -> 46478 | R18: =Q19+1 -> 46844 | S18: =R19+1 -> 47209
E19: Model period ending | G19: date | J19: =EOMONTH(J18,11) -> 44286 | K19: =EOMONTH(K18,11) -> 44651 | L19: =EOMONTH(L18,11) -> 45016 | M19: =EOMONTH(M18,11) -> 45382 | N19: =EOMONTH(N18,11) -> 45747 | O19: =EOMONTH(O18,11) -> 46112 | P19: =EOMONTH(P18,11) -> 46477 | Q19: =EOMONTH(Q18,11) -> 46843 | ... S19: =EOMONTH(S18,11) -> 47573
B21: Timeline label
F22: =J19 -> 44286
E23: =InpC!E$17 -> APR | F23: =InpC!F$17 -> 45046 | G23: =InpC!G$17 -> label
E24: =InpC!E$18 -> PR24 | F24: =InpC!F$18 -> 47603 | G24: =InpC!G$18 -> label
E25: =InpC!E$19 -> not used | F25: =InpC!F$19 -> 49064 | G25: =InpC!G$19 -> label
E26: Timeline label | G26: label | J26: =INDEX($E23:$E25,MATCH(J$2,$F$22:$F$25,1),) -> APR | K26: =INDEX($E23:$E25,MATCH(K$2,$F$22:$F$25,1),) -> APR | L26: =INDEX($E23:$E25,MATCH(L$2,$F$22:$F$25,1),) -> APR | M26: =INDEX($E23:$E25,MATCH(M$2,$F$22:$F$25,1),) -> PR24 | N26: =INDEX($E23:$E25,MATCH(N$2,$F$22:$F$25,1),) -> PR24 | O26: =INDEX($E23:$E25,MATCH(O$2,$F$22:$F$25,1),) -> PR24 | P26: =INDEX($E23:$E25,MATCH(P$2,$F$22:$F$25,1),) -> PR24 | Q26: =INDEX($E23:$E25,MATCH(Q$2,$F$22:$F$25,1),) -> PR24 | ... S26: =INDEX($E23:$E25,MATCH(S$2,$F$22:$F$25,1),) -> PR24
B28: Timeline flag
E29: =InpC!E$17 -> APR | F29: =InpC!F$17 -> 45046 | G29: =InpC!G$17 -> label | J29: =(J$26=$E29)*1 -> 1 | K29: =(K$26=$E29)*1 -> 1 | L29: =(L$26=$E29)*1 -> 1 | M29: =(M$26=$E29)*1 -> 0 | N29: =(N$26=$E29)*1 -> 0 | O29: =(O$26=$E29)*1 -> 0 | P29: =(P$26=$E29)*1 -> 0 | Q29: =(Q$26=$E29)*1 -> 0 | ... S29: =(S$26=$E29)*1 -> 0
E30: =InpC!E$18 -> PR24 | F30: =InpC!F$18 -> 47603 | G30: =InpC!G$18 -> label | J30: =(J$26=$E30)*1 -> 0 | K30: =(K$26=$E30)*1 -> 0 | L30: =(L$26=$E30)*1 -> 0 | M30: =(M$26=$E30)*1 -> 1 | N30: =(N$26=$E30)*1 -> 1 | O30: =(O$26=$E30)*1 -> 1 | P30: =(P$26=$E30)*1 -> 1 | Q30: =(Q$26=$E30)*1 -> 1 | ... S30: =(S$26=$E30)*1 -> 1
E31: =InpC!E$19 -> not used | F31: =InpC!F$19 -> 49064 | G31: =InpC!G$19 -> label | J31: =(J$26=$E31)*1 -> 0 | K31: =(K$26=$E31)*1 -> 0 | L31: =(L$26=$E31)*1 -> 0 | M31: =(M$26=$E31)*1 -> 0 | N31: =(N$26=$E31)*1 -> 0 | O31: =(O$26=$E31)*1 -> 0 | P31: =(P$26=$E31)*1 -> 0 | Q31: =(Q$26=$E31)*1 -> 0 | ... S31: =(S$26=$E31)*1 -> 0
A34: END

Sheet InpC
A1: =RIGHT(CELL("filename", A1), LEN(CELL("filename", A1)) - SEARCH("]", CELL("filename", A1))) -> InpC
K2: =IF(K4 = $F4, "q", "") -> q | L2: =IF(L4 = $F4, "q", "") | M2: =IF(M4 = $F4, "q", "")
F3: =INDEX(J3:O3,MATCH(F4,J4:O4)) -> Base case 1 | K3: Base case 1 | L3: Base case 2 | M3: Base case 3
E4: Active scenario | F4: 1 | I4: =MATCH(F4, $J$4:$O$4) -> 2 | K4: 1 | L4: 2 | M4: 3
E5: Comparison scenario | F5: 1 | I5: =MATCH(F5, $J$4:$O$4) -> 2
E6: Base case | F6: =INDEX(J6:O6,MATCH(F4,J4:O4,0)) -> 1 | I6: =MATCH(F6, $J$4:$O$4) -> 2 | K6: 1 | L6: 2 | M6: 3
E7: Input differences | F7: =COUNTIF(I10:I119, "tu") -> 0 | K7: =IF(K6 = $F$6, "Base case", "") -> Base case | L7: =IF(L6 = $F$6, "Base case", "") | M7: =IF(M6 = $F$6, "Base case", "")
F9: Constant | G9: Unit
A11: TIMING ASSUMPTIONS
E13: First date first FY | F13: =IF( INDEX(J13:O13, $I$4) = "", INDEX(J13:N13, $I$6), INDEX(J13:O13, $I$4)) -> 43922 | G13: date | I13: {=IF( INDEX(J13:O13, I$5) = "", IF( INDEX(J13:O13, I$6) = F13, "vw", "tu"), IF(INDEX(J13:O13, I$5) = F13, "vw", "tu"))} -> vw | K13: 43922 | L13: 45383 | M13: 45383
E14: Annual year end date of first operating period | F14: =IF( INDEX(J14:O14, $I$4) = "", INDEX(J14:N14, $I$6), INDEX(J14:O14, $I$4)) -> 44286 | G14: date | I14: {=IF( INDEX(J14:O14, I$5) = "", IF( INDEX(J14:O14, I$6) = F14, "vw", "tu"), IF(INDEX(J14:O14, I$5) = F14, "vw", "tu"))} -> vw | K14: =EOMONTH(K13,11) -> 44286 | L14: =EOMONTH(L13,11) -> 45747 | M14: =EOMONTH(M13,11) -> 45747
B16: Timeline label
E17: APR | F17: =IF( INDEX(J17:O17, $I$4) = "", INDEX(J17:N17, $I$6), INDEX(J17:O17, $I$4)) -> 45046 | G17: label | I17: {=IF( INDEX(J17:O17, I$5) = "", IF( INDEX(J17:O17, I$6) = F17, "vw", "tu"), IF(INDEX(J17:O17, I$5) = F17, "vw", "tu"))} -> vw | K17: 45046 | L17: 47238 | M17: 47238
E18: PR24 | F18: =IF( INDEX(J18:O18, $I$4) = "", INDEX(J18:N18, $I$6), INDEX(J18:O18, $I$4)) -> 47603 | G18: label | I18: {=IF( INDEX(J18:O18, I$5) = "", IF( INDEX(J18:O18, I$6) = F18, "vw", "tu"), IF(INDEX(J18:O18, I$5) = F18, "vw", "tu"))} -> vw | K18: 47603 | L18: 49064 | M18: 49064
E19: not used | F19: =IF( INDEX(J19:O19, $I$4) = "", INDEX(J19:N19, $I$6), INDEX(J19:O19, $I$4)) -> 49064 | G19: label | I19: {=IF( INDEX(J19:O19, I$5) = "", IF( INDEX(J19:O19, I$6) = F19, "vw", "tu"), IF(INDEX(J19:O19, I$5) = F19, "vw", "tu"))} -> vw | K19: 49064 | L19: 50890 | M19: 50890
A21: OPERATIONS
B23: Company details
E25: Anglian Water | F25: ANH
E26: Dŵr Cymru | F26: WSH
E27: Hafren Dyfrdwy | F27: HDD
E28: Northumbrian Water | F28: NES
E29: Severn Trent Water | F29: SVE
E30: Southern Water | F30: SRN
E31: Thames Water | F31: TMS
E32: United Utilities | F32: NWT
E33: Wessex Water | F33: WSX
E34: Yorkshire Water | F34: YKY
E35: Affinity Water | F35: AFW
E36: Portsmouth Water | F36: PRT
... E41: Bristol Water | F41: BRL
E42: Industry total | G42: Industry total
B44: Item description
B46: APR | F46: APR ref | G46: PR24 ref
E48: Other operating expenditure - Costs associated with Traffic Management Act - Total | F48: W3032TOT | G48: =E57 -> Location specific costs & obligations - Costs associated with Traffic Management Act - Total | H48: Traffic Management Act | I48: Water network plus
E49: Other operating expenditure - Costs associated with lane rental schemes - Total | F49: W3037TOT | G49: =E58 -> Location specific costs & obligations - Costs associated with lane rental schemes - Total | H49: Lane Rental Schemes | I49: Water network plus
E50: Traffic Management Act - Projects incurring costs associated with Traffic Management Act - Total | F50: W3040TOT | G50: =E59 -> Traffic Management Act - Projects incurring costs associated with Traffic Management Act - Total | H50: Traffic Management Act - Projects | I50: Total
E51: Other expenditure - Costs associated with Traffic Management Act - Total | F51: WWS1103CAS | G51: =E60 -> Location specific costs & obligations - Costs associated with Traffic Management Act - Total | H51: Traffic Management Act | I51: Wastewater network plus
E52: Other expenditure - Costs associated with lane rental schemes - Total | F52: WWS1104CAS | G52: =E61 -> Location specific costs & obligations - Costs associated with lane rental schemes - Total | H52: Lane Rental Schemes | I52: Wastewater network plus
E53: Traffic Management Act - Projects incurring costs associated with Traffic Management Act - Total | F53: WWS1108CAS | G53: =E62 -> Traffic Management Act - Projects incurring costs associated with Traffic Management Act - Total | H53: Traffic Management Act - Projects | I53: Total
B55: PR24 | F55: APR ref | G55: PR24 ref
...

Sheet InpT
A1: =RIGHT(CELL("filename", A1), LEN(CELL("filename", A1)) - SEARCH("]", CELL("filename", A1))) -> InpT
E2: =Time!E2 -> Model period ending | J2: =Time!J2 -> 44286 | K2: =Time!K2 -> 44651 | L2: =Time!L2 -> 45016 | M2: =Time!M2 -> 45382 | N2: =Time!N2 -> 45747 | O2: =Time!O2 -> 46112 | P2: =Time!P2 -> 46477 | Q2: =Time!Q2 -> 46843 | ... S2: =Time!S2 -> 47573
E3: =Time!E3 -> Timeline label | J3: =Time!J3 -> APR | K3: =Time!K3 -> APR | L3: =Time!L3 -> APR | M3: =Time!M3 -> PR24 | N3: =Time!N3 -> PR24 | O3: =Time!O3 -> PR24 | P3: =Time!P3 -> PR24 | Q3: =Time!Q3 -> PR24 | ... S3: =Time!S3 -> PR24
E4: =Time!E4 -> Model column counter | F4: Constant | G4: Unit | H4: Total | J4: =Time!J4 -> 1 | K4: =Time!K4 -> 2 | L4: =Time!L4 -> 3 | M4: =Time!M4 -> 4 | N4: =Time!N4 -> 5 | O4: =Time!O4 -> 6 | P4: =Time!P4 -> 7 | Q4: =Time!Q4 -> 8 | ... S4: =Time!S4 -> 10
B6: Indexation
E8: PR24 base year | F8: 45016 | G8: select | J8: =($F8>=J$2)*1 -> 1 | K8: =($F8>=K$2)*1 -> 1 | L8: =($F8>=L$2)*1 -> 1 | M8: =($F8>=M$2)*1 -> 0 | N8: =($F8>=N$2)*1 -> 0 | O8: =($F8>=O$2)*1 -> 0 | P8: =($F8>=P$2)*1 -> 0 | Q8: =($F8>=Q$2)*1 -> 0 | ... S8: =($F8>=S$2)*1 -> 0
E10: CPI factor | G10: factor | J10: 107 | K10: 108.6 | L10: 109.4 | M10: 117.1 | N10: 128.9
E11: CPI factor in base year | G11: factor | J11: =INDEX($J$10:$S$10,,MATCH($F$8,$J$2:$S$2,0)) -> 109.4 | K11: =INDEX($J$10:$S$10,,MATCH($F$8,$J$2:$S$2,0)) -> 109.4 | L11: =INDEX($J$10:$S$10,,MATCH($F$8,$J$2:$S$2,0)) -> 109.4 | M11: =INDEX($J$10:$S$10,,MATCH($F$8,$J$2:$S$2,0)) -> 109.4 | N11: =INDEX($J$10:$S$10,,MATCH($F$8,$J$2:$S$2,0)) -> 109.4 | O11: =INDEX($J$10:$S$10,,MATCH($F$8,$J$2:$S$2,0)) -> 109.4 | P11: =INDEX($J$10:$S$10,,MATCH($F$8,$J$2:$S$2,0)) -> 109.4 | Q11: =INDEX($J$10:$S$10,,MATCH($F$8,$J$2:$S$2,0)) -> 109.4 | ... S11: =INDEX($J$10:$S$10,,MATCH($F$8,$J$2:$S$2,0)) -> 109.4
E13: Indexation applied to APR | J13: =IF(J10=0,1,J11/J10) -> 1.0224299 | K13: =IF(K10=0,1,K11/K10) -> 1.0073665 | L13: =IF(L10=0,1,L11/L10) -> 1 | M13: =IF(M10=0,1,M11/M10) -> 0.93424424 | N13: =IF(N10=0,1,N11/N10) -> 0.84871994 | O13: =IF(O10=0,1,O11/O10) -> 1 | P13: =IF(P10=0,1,P11/P10) -> 1 | Q13: =IF(Q10=0,1,Q11/Q10) -> 1 | ... S13: =IF(S10=0,1,S11/S10) -> 1
A18: END

Sheet Traffic Management Act
A1: =RIGHT(CELL("filename", A1), LEN(CELL("filename", A1)) - SEARCH("]", CELL("filename", A1))) -> Traffic Management Act
E2: =Time!E2 -> Model period ending | G2: Error chks | H2: =#REF! -> #REF! | J2: =Time!J2 -> 44286 | K2: =Time!K2 -> 44651 | L2: =Time!L2 -> 45016 | M2: =Time!M2 -> 45382 | N2: =Time!N2 -> 45747 | O2: =Time!O2 -> 46112 | P2: =Time!P2 -> 46477 | Q2: =Time!Q2 -> 46843 | ... S2: =Time!S2 -> 47573 | U2: PR24 Average | V2: PR24 Total
E3: =Time!E3 -> Timeline label | J3: =Time!J3 -> APR | K3: =Time!K3 -> APR | L3: =Time!L3 -> APR | M3: =Time!M3 -> PR24 | N3: =Time!N3 -> PR24 | O3: =Time!O3 -> PR24 | P3: =Time!P3 -> PR24 | Q3: =Time!Q3 -> PR24 | ... S3: =Time!S3 -> PR24 | U3: =Time!U3 -> 0 | V3: =Time!V3 -> 0
E4: =Time!E4 -> Model column counter | F4: Constant | G4: Unit | H4: Total | J4: =Time!J4 -> 1 | K4: =Time!K4 -> 2 | L4: =Time!L4 -> 3 | M4: =Time!M4 -> 4 | N4: =Time!N4 -> 5 | O4: =Time!O4 -> 6 | P4: =Time!P4 -> 7 | Q4: =Time!Q4 -> 8 | ... S4: =Time!S4 -> 10
J5: ='Consolidated Input'!F2 -> Cyclical | K5: ='Consolidated Input'!G2 -> Cyclical | L5: ='Consolidated Input'!H2 -> Cyclical | M5: ='Consolidated Input'!P2 -> Price Review 2024 | N5: ='Consolidated Input'!Q2 -> Price Review 2024 | O5: ='Consolidated Input'!R2 -> Price Review 2024 | P5: ='Consolidated Input'!S2 -> Price Review 2024 | Q5: ='Consolidated Input'!T2 -> Price Review 2024 | R5: ='Consolidated Input'!U2 -> Price Review 2024 | S5: ='Consolidated Input'!V2 -> Price Review 2024
J6: ='Consolidated Input'!F3 -> Default for Cyclical base run | K6: ='Consolidated Input'!G3 -> Default for Cyclical base run | L6: ='Consolidated Input'!H3 -> Default for Cyclical base run | M6: ='Consolidated Input'!P3 -> Default for Price Review 2024 base run | N6: ='Consolidated Input'!Q3 -> Default for Price Review 2024 base run | O6: ='Consolidated Input'!R3 -> Default for Price Review 2024 base run | P6: ='Consolidated Input'!S3 -> Default for Price Review 2024 base run | Q6: ='Consolidated Input'!T3 -> Default for Price Review 2024 base run | R6: ='Consolidated Input'!U3 -> Default for Price Review 2024 base run | S6: ='Consolidated Input'!V3 -> Default for Price Review 2024 base run
J7: ='Consolidated Input'!F4 -> Latest | K7: ='Consolidated Input'!G4 -> Latest | L7: ='Consolidated Input'!H4 -> Latest | M7: ='Consolidated Input'!P4 -> Latest | N7: ='Consolidated Input'!Q4 -> Latest | O7: ='Consolidated Input'!R4 -> Latest | P7: ='Consolidated Input'!S4 -> Latest | Q7: ='Consolidated Input'!T4 -> Latest | R7: ='Consolidated Input'!U4 -> Latest | S7: ='Consolidated Input'!V4 -> Latest
E8: Indexation factor
E10: Bringing APR nominal to real | G10: factor | J10: =InpT!J13 -> 1.0224299 | K10: =InpT!K13 -> 1.0073665 | L10: =InpT!L13 -> 1 | M10: =InpT!M13 -> 0.93424424 | N10: =InpT!N13 -> 0.84871994 | O10: =InpT!O13 -> 1 | P10: =InpT!P13 -> 1 | Q10: =InpT!Q13 -> 1 | ... S10: =InpT!S13 -> 1
C12: =InpC!$F$48 -> W3032TOT | D12: =InpC!$E$48 -> Other operating expenditure - Costs associated with Traffic Management Act - Total | F12: =MATCH(D12,APRChoices,0) -> 1 | G12: APR | J12: =J$2 -> 44286 | K12: =K$2 -> 44651 | L12: =L$2 -> 45016 | M12: =M$2 -> 45382 | N12: =N$2 -> 45747 | O12: =O$2 -> 46112 | P12: =P$2 -> 46477 | Q12: =Q$2 -> 46843 | ... S12: =S$2 -> 47573 | U12: =U$2 -> PR24 Average | V12: =V$2 -> PR24 Total
C13: =INDEX(InpC!$G$57:$G$62,'Traffic Management Act'!F12,) -> CW2_011TOT_PR24 | D13: =INDEX(InpC!$G$48:$G$53,'Traffic Management Act'!F12,) -> Location specific costs & obligations - Costs associated with Traffic Management Act - Total | G13: PR24
E14: Cost data before override
E16: £m, real
E17: =InpT!$F$8 -> 45016 | G17: prices
E19: =InpC!$E$25 -> Anglian Water | F19: =InpC!$F$25 -> ANH | G19: £m | J19: =SUMIFS('Consolidated Input'!F$6:F$209,'Consolidated Input'!$A$6:$A$209,$F19,'Consolidated Input'!$B$6:$B$209,$C$12)*J$10*Time!J$29 -> 1.9323925 | K19: =SUMIFS('Consolidated Input'!G$6:G$209,'Consolidated Input'!$A$6:$A$209,$F19,'Consolidated Input'!$B$6:$B$209,$C$12)*K$10*Time!K$29 -> 1.8217719 | L19: =SUMIFS('Consolidated Input'!H$6:H$209,'Consolidated Input'!$A$6:$A$209,$F19,'Consolidated Input'!$B$6:$B$209,$C$12)*L$10*Time!L$29 -> 0.944 | M19: =SUMIFS('Consolidated Input'!S$6:S$209,'Consolidated Input'!$A$6:$A$209,$F19,'Consolidated Input'!$B$6:$B$209,$C$13) -> 0.6947101 | N19: =SUMIFS('Consolidated Input'!T$6:T$209,'Consolidated Input'!$A$6:$A$209,$F19,'Consolidated Input'!$B$6:$B$209,$C$13) -> 0.88712999 | O19: =SUMIFS('Consolidated Input'!U$6:U$209,'Consolidated Input'!$A$6:$A$209,$F19,'Consolidated Input'!$B$6:$B$209,$C$13) -> 1.4730689 | P19: =SUMIFS('Consolidated Input'!V$6:V$209,'Consolidated Input'!$A$6:$A$209,$F19,'Consolidated Input'!$B$6:$B$209,$C$13) -> 1.4730689 | Q19: =SUMIFS('Consolidated Input'!W$6:W$209,'Consolidated Input'!$A$6:$A$209,$F19,'Consolidated Input'!$B$6:$B$209,$C$13) -> 1.4730689 | R19: =SUMIFS('Consolidated Input'!X$6:X$209,'Consolidated Input'!$A$6:$A$209,$F19,'Consolidated Input'!$B$6:$B$209,$C$13) -> 1.4730689 | S19: =SUMIFS('Consolidated Input'!Y$6:Y$209,'Consolidated Input'!$A$6:$A$209,$F19,'Consolidated Input'!$B$6:$B$209,$C$13) -> 1.4730689 | U19: =IFERROR(AVERAGE(O19:S19),0) -> 1.4730689 | V19: =SUM(O19:S19) -> 7.3653447
E20: =InpC!$E$26 -> Dŵr Cymru | F20: =InpC!$F$26 -> WSH | G20: £m | J20: =SUMIFS('Consolidated Input'!F$6:F$209,'Consolidated Input'!$A$6:$A$209,$F20,'Consolidated Input'!$B$6:$B$209,$C$12)*J$10*Time!J$29 -> 0.0020448598 | K20: =SUMIFS('Consolidated Input'!G$6:G$209,'Consolidated Input'!$A$6:$A$209,$F20,'Consolidated Input'!$B$6:$B$209,$C$12)*K$10*Time!K$29 -> 0.0060441989 | L20: =SUMIFS('Consolidated Input'!H$6:H$209,'Consolidated Input'!$A$6:$A$209,$F20,'Consolidated Input'!$B$6:$B$209,$C$12)*L$10*Time!L$29 -> 0.093 | M20: =SUMIFS('Consolidated Input'!S$6:S$209,'Consolidated Input'!$A$6:$A$209,$F20,'Consolidated Input'!$B$6:$B$209,$C$13) -> 0.182 | N20: =SUMIFS('Consolidated Input'!T$6:T$209,'Consolidated Input'!$A$6:$A$209,$F20,'Consolidated Input'!$B$6:$B$209,$C$13) -> 0.052 | O20: =SUMIFS('Consolidated Input'!U$6:U$209,'Consolidated Input'!$A$6:$A$209,$F20,'Consolidated Input'!$B$6:$B$209,$C$13) -> 0.042 | P20: =SUMIFS('Consolidated Input'!V$6:V$209,'Consolidated Input'!$A$6:$A$209,$F20,'Consolidated Input'!$B$6:$B$209,$C$13) -> 0.04 | Q20: =SUMIFS('Consolidated Input'!W$6:W$209,'Consolidated Input'!$A$6:$A$209,$F20,'Consolidated Input'!$B$6:$B$209,$C$13) -> 0.039 | R20: =SUMIFS('Consolidated Input'!X$6:X$209,'Consolidated Input'!$A$6:$A$209,$F20,'Consolidated Input'!$B$6:$B$209,$C$13) -> 0.039 | S20: =SUMIFS('Consolidated Input'!Y$6:Y$209,'Consolidated Input'!$A$6:$A$209,$F20,'Consolidated Input'!$B$6:$B$209,$C$13) -> 0.038 | U20: =IFERROR(AVERAGE(O20:S20),0) -> 0.0396 | V20: =SUM(O20:S20) -> 0.198
E21: =InpC!$E$27 -> Hafren Dyfrdwy | F21: =InpC!$F$27 -> HDD | G21: £m | J21: =SUMIFS('Consolidated Input'!F$6:F$209,'Consolidated Input'!$A$6:$A$209,$F21,'Consolidated Input'!$B$6:$B$209,$C$12)*J$10*Time!J$29 -> 0 | K21: =SUMIFS('Consolidated Input'!G$6:G$209,'Consolidated Input'!$A$6:$A$209,$F21,'Consolidated Input'!$B$6:$B$209,$C$12)*K$10*Time!K$29 -> 0 | L21: =SUMIFS('Consolidated Input'!H$6:H$209,'Consolidated Input'!$A$6:$A$209,$F21,'Consolidated Input'!$B$6:$B$209,$C$12)*L$10*Time!L$29 -> 0 | M21: =SUMIFS('Consolidated Input'!S$6:S$209,'Consolidated Input'!$A$6:$A$209,$F21,'Consolidated Input'!$B$6:$B$209,$C$13) -> 0 | N21: =SUMIFS('Consolidated Input'!T$6:T$209,'Consolidated Input'!$A$6:$A$209,$F21,'Consolidated Input'!$B$6:$B$209,$C$13) -> 0 | O21: =SUMIFS('Consolidated Input'!U$6:U$209,'Consolidated Input'!$A$6:$A$209,$F21,'Consolidated Input'!$B$6:$B$209,$C$13) -> 0 | P21: =SUMIFS('Consolidated Input'!V$6:V$209,'Consolidated Input'!$A$6:$A$209,$F21,'Consolidated Input'!$B$6:$B$209,$C$13) -> 0 | Q21: =SUMIFS('Consolidated Input'!W$6:W$209,'Consolidated Input'!$A$6:$A$209,$F21,'Consolidated Input'!$B$6:$B$209,$C$13) -> 0 | R21: =SUMIFS('Consolidated Input'!X$6:X$209,'Consolidated Input'!$A$6:$A$209,$F21,'Consolidated Input'!$B$6:$B$209,$C$13) -> 0 | S21: =SUMIFS('Consolidated Input'!Y$6:Y$209,'Consolidated Input'!$A$6:$A$209,$F21,'Consolidated Input'!$B$6:$B$209,$C$13) -> 0 | U21: =IFERROR(AVERAGE(O21:S21),0) -> 0 | V21: =SUM(O21:S21) -> 0
E22: =InpC!$E$28 -> Northumbrian Water | F22: =InpC!$F$28 -> NES | G22: £m | J22: =SUMIFS('Consolidated Input'!F$6:F$209,'Consolidated Input'!$A$6:$A$209,$F22,'Consolidated Input'!$B$6:$B$209,$C$12)*J$10*Time!J$29 -> 0.28219065 | K22: =SUMIFS('Consolidated Input'!G$6:G$209,'Consolidated Input'!$A$6:$A$209,$F22,'Consolidated Input'!$B$6:$B$209,$C$12)*K$10*Time!K$29 -> 0.37071087 | L22: =SUMIFS('Consolidated Input'!H$6:H$209,'Consolidated Input'!$A$6:$A$209,$F22,'Consolidated Input'!$B$6:$B$209,$C$12)*L$10*Time!L$29 -> 0.408 | M22: =SUMIFS('Consolidated Input'!S$6:S$209,'Consolidated Input'!$A$6:$A$209,$F22,'Consolidated Input'!$B$6:$B$209,$C$13) -> 0.43298287 | N22: =SUMIFS('Consolidated Input'!T$6:T$209,'Consolidated Input'!$A$6:$A$209,$F22,'Consolidated Input'!$B$6:$B$209,$C$13) -> 0.446 | O22: =SUMIFS('Consolidated Input'!U$6:U$209,'Consolidated Input'!$A$6:$A$209,$F22,'Consolidated Input'!$B$6:$B$209,$C$13) -> 0.469 | P22: =SUMIFS('Consolidated Input'!V$6:V$209,'Consolidated Input'!$A$6:$A$209,$F22,'Consolidated Input'!$B$6:$B$209,$C$13) -> 0.493 | Q22: =SUMIFS('Consolidated Input'!W$6:W$209,'Consolidated Input'!$A$6:$A$209,$F22,'Consolidated Input'!$B$6:$B$209,$C$13) -> 0.517 | R22: =SUMIFS('Consolidated Input'!X$6:X$209,'Consolidated Input'!$A$6:$A$209,$F22,'Consolidated Input'!$B$6:$B$209,$C$13) -> 0.54 | S22: =SUMIFS('Consolidated Input'!Y$6:Y$209,'Consolidated Input'!$A$6:$A$209,$F22,'Consolidated Input'!$B$6:$B$209,$C$13) -> 0.564 | U22: =IFERROR(AVERAGE(O22:S22),0) -> 0.5166 | V22: =SUM(O22:S22) -> 2.583
E23: =InpC!$E$29 -> Severn Trent Water | F23: =InpC!$F$29 -> SVE | G23: £m | J23: =SUMIFS('Consolidated Input'!F$6:F$209,'Consolidated Input'!$A$6:$A$209,$F23,'Consolidated Input'!$B$6:$B$209,$C$12)*J$10*Time!J$29 -> 2.3587458 | K23: =SUMIFS('Consolidated Input'!G$6:G$209,'Consolidated Input'!$A$6:$A$209,$F23,'Consolidated Input'!$B$6:$B$209,$C$12)*K$10*Time!K$29 -> 2.2494494 | L23: =SUMIFS('Consolidated Input'!H$6:H$209,'Consolidated Input'!$A$6:$A$209,$F23,'Consolidated Input'!$B$6:$B$209,$C$12)*L$10*Time!L$29 -> 2.663 | M23: =SUMIFS('Consolidated Input'!S$6:S$209,'Consolidated Input'!$A$6:$A$209,$F23,'Consolidated Input'!$B$6:$B$209,$C$13) -> 1.744 | N23: =SUMIFS('Consolidated Input'!T$6:T$209,'Consolidated Input'!$A$6:$A$209,$F23,'Consolidated Input'!$B$6:$B$209,$C$13) -> 1.714 | O23: =SUMIFS('Consolidated Input'!U$6:U$209,'Consolidated Input'!$A$6:$A$209,$F23,'Consolidated Input'!$B$6:$B$209,$C$13) -> 2.843 | P23: =SUMIFS('Consolidated Input'!V$6:V$209,'Consolidated Input'!$A$6:$A$209,$F23,'Consolidated Input'!$B$6:$B$209,$C$13) -> 2.867 | Q23: =SUMIFS('Consolidated Input'!W$6:W$209,'Consolidated Input'!$A$6:$A$209,$F23,'Consolidated Input'!$B$6:$B$209,$C$13) -> 2.891 | R23: =SUMIFS('Consolidated Input'!X$6:X$209,'Consolidated Input'!$A$6:$A$209,$F23,'Consolidated Input'!$B$6:$B$209,$C$13) -> 2.916 | S23: =SUMIFS('Consolidated Input'!Y$6:Y$209,'Consolidated Input'!$A$6:$A$209,$F23,'Consolidated Input'!$B$6:$B$209,$C$13) -> 2.94 | U23: =IFERROR(AVERAGE(O23:S23),0) -> 2.8914 | V23: =SUM(O23:S23) -> 14.457
