Workbook
Name \0: #REF!
Name \A: #REF!
Name \C: #REF!
Name \P: #REF!
Name \Q: #REF!
Name \V: #REF!
Name \X: #REF!
Name \Z: #REF!
Name ___INDEX_SHEET___ASAP_Utilities: #REF!
Name _1___Data_table_for_graph___Leakage___AR4__AR3__AR2__AR1_and_Ofwat_leakage_targets: #REF!
Name _1__Data_table_for_graph___meter_penetration___AR4__AR3__AR2__and_AR1: #REF!
Name _1__Graph___meter_penetration___AR4__AR3__AR2__and_AR1: #REF!
Name _1_8_4_Step2: #REF!
Name _1st_model_column_flag: #REF!
Name _2__Graph___Leakage_AR4__AR3__AR2__AR1_and_Ofwat_leakage_targets: #REF!
Name _2__Graph___meter_penetration___AR4__AR3__AR2__and_AR1: #REF!
Name _2020_25_RCV___nominal.ADDN1: #REF!
Name _2020_25_RCV___nominal.ADDN1.BEG: #REF!
Name _2020_25_RCV___nominal.ADDN2: #REF!
Name _2020_25_RCV___nominal.ADDN2.BEG: #REF!
Name _2020_25_RCV___nominal.BR: #REF!
Name _2020_25_RCV___nominal.BR.BEG: #REF!
Name _2020_25_RCV___nominal.WN: #REF!
Name _2020_25_RCV___nominal.WN.BEG: #REF!
Name _2020_25_RCV___nominal.WR: #REF!
Name _2020_25_RCV___nominal.WR.BEG: #REF!
Name _2020_25_RCV___nominal.WWN: #REF!
Name _2020_25_RCV___nominal.WWN.BEG: #REF!
Name _2020_25_RCV___not_negative_check.ADDN1: #REF!
Name _2020_25_RCV___not_negative_check.ADDN2: #REF!
Name _2020_25_RCV___not_negative_check.BR: #REF!
Name _2020_25_RCV___not_negative_check.WN: #REF!
Name _2020_25_RCV___not_negative_check.WR: #REF!
Name _2020_25_RCV___not_negative_check.WWN: #REF!
Name _2020_25_RCV___not_negative_check_overall.ADDN1: #REF!
Name _2020_25_RCV___not_negative_check_overall.ADDN2: #REF!
Name _2020_25_RCV___not_negative_check_overall.BR: #REF!
Name _2020_25_RCV___not_negative_check_overall.WN: #REF!
Name _2020_25_RCV___not_negative_check_overall.WR: #REF!
Name _2020_25_RCV___not_negative_check_overall.WWN: #REF!
Name _2020_25_RCV___opening_plus_movement___nominal.ADDN1: #REF!
Name _2020_25_RCV___opening_plus_movement___nominal.ADDN2: #REF!
Name _2020_25_RCV___opening_plus_movement___nominal.BR: #REF!
Name _2020_25_RCV___opening_plus_movement___nominal.WN: #REF!
Name _2020_25_RCV___opening_plus_movement___nominal.WR: #REF!
Name _2020_25_RCV___opening_plus_movement___nominal.WWN: #REF!
Name _2020_25_RCV___real.ADDN1: #REF!
Name _2020_25_RCV___real.ADDN2: #REF!
Name _2020_25_RCV___real.BR: #REF!
Name _2020_25_RCV___real.WN: #REF!
Name _2020_25_RCV___real.WR: #REF!
Name _2020_25_RCV___real.WWN: #REF!
Name _2020_25_RCV_initial_balance___nominal.ADDN1: #REF!
Name _2020_25_RCV_initial_balance___nominal.ADDN2: #REF!
Name _2020_25_RCV_initial_balance___nominal.BR: #REF!
Name _2020_25_RCV_initial_balance___nominal.WN: #REF!
Name _2020_25_RCV_initial_balance___nominal.WR: #REF!
Name _2020_25_RCV_initial_balance___nominal.WWN: #REF!
Name _2020_25_RCV_initial_balance___not_negative_check.ADDN1: #REF!
Name _2020_25_RCV_initial_balance___not_negative_check.ADDN2: #REF!

Sheet Cover
A1: =RIGHT(CELL("filename", $A$1), LEN(CELL("filename", $A$1)) - SEARCH("]", CELL("filename", $A$1))) -> #VALUE!
B3: Sludge treatment - thickening
B5: Model code: | C5: PR24CA80
B6: Version number: | C6: 2
B7: File name: | C7: =MID(CELL("filename"), FIND("[", CELL("filename"), 1) + 1, FIND("]", CELL("filename"), 1) - FIND("[", CELL("filename"), 1) - 1) -> #VALUE!
B8: Date: | C8: 45627
B10: For enquiries please contact: | C10: PR24@ofwat.gov.uk
B31: Contents:
B33: Tab name | C33: Description
B34: Cover | C34: Details of the file and the enhancement assessment approach
B35: Conceptual model | C35: Flow diagram of the high-level enhancement assessment process within models.
B36: Inputs > > | C36: Blank - section header
B37: F_Inputs | C37: Submitted business plan data import from central database
B38: F_Inputs adjusted | C38: Re-organising of input data to take account of transitional / accelerated process expenditure and drivers, and including any reallocations between enhancement lines.
B39: NETTOTEX_WASTE | C39: Water price control net Totex data import from central database used for materiality assessment.
B40: Consolidated Input | C40: Combined input data taking account of any other contributing data, where applicable (eg historical APR data)
B41: Input Override | C41: Manual adjustments to requested data where not corrected in business plan data table resubmissions
B42: Final Input | C42: Final data used for the enhancement assessment
B43: Data_Final_Model_Format | C43: Summary of the expenditure and associated drivers used during the assessment
B44: SPF Validation | C44: Comparison of outputs against validated number of outputs
... B58: DROPDOWN LISTS | C58: Data validation lists used throughout the file
B64: Error Log - subsequent to this model being developed, we identified the following corrections that we will make for final determinations:
B66: Company | C66: Description of error | D66: Sheet(s) in current model

Sheet Conceptual model
A1: =RIGHT(CELL("filename", A1), LEN(CELL("filename", A1)) - SEARCH("]", CELL("filename", A1))) -> #VALUE!
A3: Conceptual model
A49: End of sheet

Sheet Inputs >>

Sheet F_Inputs
A1: =RIGHT(CELL("filename", $A$1), LEN(CELL("filename", $A$1)) - SEARCH("]", CELL("filename", $A$1))) -> #VALUE!
C2: PR24-Enh-WW-sludge-treatment-thickening | E2: Run on 05 Sep 2024 9:43
A3: Acronym | B3: Reference | C3: Item description | D3: Unit | E3: Model | F3: 2020-21 | G3: 2021-22 | H3: 2022-23 | I3: 2023-24 | J3: 2024-25 | K3: 2025-26 | L3: 2026-27 | M3: 2027-28 | N3: 2028-29 | O3: 2029-30
F5: Price Review 2024 | G5: Price Review 2024 | H5: Price Review 2024 | I5: Price Review 2024 | J5: Price Review 2024 | K5: Price Review 2024 | L5: Price Review 2024 | M5: Price Review 2024 | N5: Price Review 2024 | O5: Price Review 2024
F6: Run 11 - PR24 FD Data | G6: Run 11 - PR24 FD Data | H6: Run 11 - PR24 FD Data | I6: Run 11 - PR24 FD Data | J6: Run 11 - PR24 FD Data | K6: Run 11 - PR24 FD Data | L6: Run 11 - PR24 FD Data | M6: Run 11 - PR24 FD Data | N6: Run 11 - PR24 FD Data | O6: Run 11 - PR24 FD Data
F7: Latest | G7: Latest | H7: Latest | I7: Latest | J7: Latest | K7: Latest | L7: Latest | M7: Latest | N7: Latest | O7: Latest
A8: ANH | B8: CWW12_143TOT_PR24 | C8: EA/NRW environmental programme bioresources (WINEP/NEP) - Sludge treatment - Thickening and/or dewatering; (WINEP/NEP) capex - Total | D8: £m | E8: Price Review 2024 | I8: 0 | J8: 0
A9: ANH | B9: CWW12_144TOT_PR24 | C9: EA/NRW environmental programme bioresources (WINEP/NEP) - Sludge treatment -Thickening and/or dewatering; (WINEP/NEP) opex - Total | D9: £m | E9: Price Review 2024 | I9: 0 | J9: 0
A10: ANH | B10: CWW12_145TOT_PR24 | C10: EA/NRW environmental programme bioresources (WINEP/NEP) - Sludge treatment - Thickening and/or dewatering; (WINEP/NEP) totex - Total | D10: £m | E10: Price Review 2024 | I10: 0 | J10: 0
A11: ANH | B11: CWW17_143TOT_PR24 | C11: EA/NRW environmental programme bioresources (WINEP/NEP) - Sludge treatment - Thickening and/or dewatering; (WINEP/NEP) capex - Total | D11: £m | E11: Price Review 2024 | I11: 0 | J11: 0 | K11: 0 | L11: 0 | M11: 0 | N11: 0 | O11: 0
A12: ANH | B12: CWW17_144TOT_PR24 | C12: EA/NRW environmental programme bioresources (WINEP/NEP) - Sludge treatment -Thickening and/or dewatering; (WINEP/NEP) opex - Total | D12: £m | E12: Price Review 2024 | I12: 0 | J12: 0 | K12: 0 | L12: 0 | M12: 0 | N12: 0 | O12: 0
A13: ANH | B13: CWW17_145TOT_PR24 | C13: EA/NRW environmental programme bioresources (WINEP/NEP) - Sludge treatment - Thickening and/or dewatering; (WINEP/NEP) totex - Total | D13: £m | E13: Price Review 2024 | I13: 0 | J13: 0 | K13: 0 | L13: 0 | M13: 0 | N13: 0 | O13: 0
A14: ANH | B14: CWW3_143TOT_PR24 | C14: EA/NRW environmental programme bioresources (WINEP/NEP) - Sludge treatment - Thickening and/or dewatering; (WINEP/NEP) capex - Total | D14: £m | E14: Price Review 2024 | H14: 0 | I14: 0 | J14: 0 | K14: 0 | L14: 1.334 | M14: 3.781 | N14: 6.882 | O14: 5.022
A15: ANH | B15: CWW3_144TOT_PR24 | C15: EA/NRW environmental programme bioresources (WINEP/NEP) - Sludge treatment -Thickening and/or dewatering; (WINEP/NEP) opex - Total | D15: £m | E15: Price Review 2024 | H15: 0 | I15: 0 | J15: 0 | K15: 0 | L15: 0 | M15: 0 | N15: 0 | O15: 0.002
A16: ANH | B16: CWW3_145TOT_PR24 | C16: EA/NRW environmental programme bioresources (WINEP/NEP) - Sludge treatment - Thickening and/or dewatering; (WINEP/NEP) totex - Total | D16: £m | E16: Price Review 2024 | H16: 0 | I16: 0 | J16: 0 | K16: 0 | L16: 1.334 | M16: 3.781 | N16: 6.882 | O16: 5.024
A17: ANH | B17: BIO5_002_PR24 | C17: Bioresources data - Tonnes of dry solids undertaking thickening/dewatering | D17: ttds/yr | E17: Price Review 2024 | H17: 0 | I17: 0 | J17: 0 | K17: 0 | L17: 0 | M17: 0 | N17: 0 | O17: 40
A18: ANH | B18: BIO5_007_PR24 | C18: Bioresources data - Total number of sludge treatment schemes providing sludge thickening and dewatering | D18: nr | E18: Price Review 2024 | H18: 0 | I18: 0 | J18: 0 | K18: 0 | L18: 0 | M18: 0 | N18: 0 | O18: 1
A19: WSH | B19: CWW12_143TOT_PR24 | C19: EA/NRW environmental programme bioresources (WINEP/NEP) - Sludge treatment - Thickening and/or dewatering; (WINEP/NEP) capex - Total | D19: £m | E19: Price Review 2024 | I19: 0 | J19: 0
A20: WSH | B20: CWW12_144TOT_PR24 | C20: EA/NRW environmental programme bioresources (WINEP/NEP) - Sludge treatment -Thickening and/or dewatering; (WINEP/NEP) opex - Total | D20: £m | E20: Price Review 2024 | I20: 0 | J20: 0
A21: WSH | B21: CWW12_145TOT_PR24 | C21: EA/NRW environmental programme bioresources (WINEP/NEP) - Sludge treatment - Thickening and/or dewatering; (WINEP/NEP) totex - Total | D21: £m | E21: Price Review 2024 | I21: 0 | J21: 0
A22: WSH | B22: CWW17_143TOT_PR24 | C22: EA/NRW environmental programme bioresources (WINEP/NEP) - Sludge treatment - Thickening and/or dewatering; (WINEP/NEP) capex - Total | D22: £m | E22: Price Review 2024 | I22: 0 | J22: 0 | K22: 0 | L22: 0 | M22: 0 | N22: 0 | O22: 0
A23: WSH | B23: CWW17_144TOT_PR24 | C23: EA/NRW environmental programme bioresources (WINEP/NEP) - Sludge treatment -Thickening and/or dewatering; (WINEP/NEP) opex - Total | D23: £m | E23: Price Review 2024 | I23: 0 | J23: 0 | K23: 0 | L23: 0 | M23: 0 | N23: 0 | O23: 0
A24: WSH | B24: CWW17_145TOT_PR24 | C24: EA/NRW environmental programme bioresources (WINEP/NEP) - Sludge treatment - Thickening and/or dewatering; (WINEP/NEP) totex - Total | D24: £m | E24: Price Review 2024 | I24: 0 | J24: 0 | K24: 0 | L24: 0 | M24: 0 | N24: 0 | O24: 0
A25: WSH | B25: CWW3_143TOT_PR24 | C25: EA/NRW environmental programme bioresources (WINEP/NEP) - Sludge treatment - Thickening and/or dewatering; (WINEP/NEP) capex - Total | D25: £m | E25: Price Review 2024 | H25: 0 | I25: 0 | J25: 0 | K25: 1.742 | L25: 3.398 | M25: 5.047 | N25: 4.264 | O25: 2.666
A26: WSH | B26: CWW3_144TOT_PR24 | C26: EA/NRW environmental programme bioresources (WINEP/NEP) - Sludge treatment -Thickening and/or dewatering; (WINEP/NEP) opex - Total | D26: £m | E26: Price Review 2024 | H26: 0 | I26: 0 | J26: 0 | K26: 0.191 | L26: 0.383 | M26: 0.575 | N26: 0.767 | O26: 0.962
A27: WSH | B27: CWW3_145TOT_PR24 | C27: EA/NRW environmental programme bioresources (WINEP/NEP) - Sludge treatment - Thickening and/or dewatering; (WINEP/NEP) totex - Total | D27: £m | E27: Price Review 2024 | H27: 0 | I27: 0 | J27: 0 | K27: 1.933 | L27: 3.781 | M27: 5.622 | N27: 5.031 | O27: 3.628
A28: WSH | B28: BIO5_002_PR24 | C28: Bioresources data - Tonnes of dry solids undertaking thickening/dewatering | D28: ttds/yr | E28: Price Review 2024 | H28: 0 | I28: 0 | J28: 0 | K28: 2.187 | L28: 2.187 | M28: 2.187 | N28: 2.187 | O28: 2.187
A29: WSH | B29: BIO5_007_PR24 | C29: Bioresources data - Total number of sludge treatment schemes providing sludge thickening and dewatering | D29: nr | E29: Price Review 2024 | H29: 0 | I29: 0 | J29: 0 | K29: 1 | L29: 1 | M29: 1 | N29: 1 | O29: 1
A30: HDD | B30: CWW12_143TOT_PR24 | C30: EA/NRW environmental programme bioresources (WINEP/NEP) - Sludge treatment - Thickening and/or dewatering; (WINEP/NEP) capex - Total | D30: £m | E30: Price Review 2024 | I30: 0 | J30: 0
A31: HDD | B31: CWW12_144TOT_PR24 | C31: EA/NRW environmental programme bioresources (WINEP/NEP) - Sludge treatment -Thickening and/or dewatering; (WINEP/NEP) opex - Total | D31: £m | E31: Price Review 2024 | I31: 0 | J31: 0
A32: HDD | B32: CWW12_145TOT_PR24 | C32: EA/NRW environmental programme bioresources (WINEP/NEP) - Sludge treatment - Thickening and/or dewatering; (WINEP/NEP) totex - Total | D32: £m | E32: Price Review 2024 | I32: 0 | J32: 0
A33: HDD | B33: CWW17_143TOT_PR24 | C33: EA/NRW environmental programme bioresources (WINEP/NEP) - Sludge treatment - Thickening and/or dewatering; (WINEP/NEP) capex - Total | D33: £m | E33: Price Review 2024 | I33: 0 | J33: 0 | K33: 0 | L33: 0 | M33: 0 | N33: 0 | O33: 0
A34: HDD | B34: CWW17_144TOT_PR24 | C34: EA/NRW environmental programme bioresources (WINEP/NEP) - Sludge treatment -Thickening and/or dewatering; (WINEP/NEP) opex - Total | D34: £m | E34: Price Review 2024 | I34: 0 | J34: 0 | K34: 0 | L34: 0 | M34: 0 | N34: 0 | O34: 0
A35: HDD | B35: CWW17_145TOT_PR24 | C35: EA/NRW environmental programme bioresources (WINEP/NEP) - Sludge treatment - Thickening and/or dewatering; (WINEP/NEP) totex - Total | D35: £m | E35: Price Review 2024 | I35: 0 | J35: 0 | K35: 0 | L35: 0 | M35: 0 | N35: 0 | O35: 0
A36: HDD | B36: CWW3_143TOT_PR24 | C36: EA/NRW environmental programme bioresources (WINEP/NEP) - Sludge treatment - Thickening and/or dewatering; (WINEP/NEP) capex - Total | D36: £m | E36: Price Review 2024 | H36: 0 | I36: 0 | J36: 0 | K36: 0 | L36: 0 | M36: 0 | N36: 0 | O36: 0
A37: HDD | B37: CWW3_144TOT_PR24 | C37: EA/NRW environmental programme bioresources (WINEP/NEP) - Sludge treatment -Thickening and/or dewatering; (WINEP/NEP) opex - Total | D37: £m | E37: Price Review 2024 | H37: 0 | I37: 0 | J37: 0 | K37: 0 | L37: 0 | M37: 0 | N37: 0 | O37: 0
A38: HDD | B38: CWW3_145TOT_PR24 | C38: EA/NRW environmental programme bioresources (WINEP/NEP) - Sludge treatment - Thickening and/or dewatering; (WINEP/NEP) totex - Total | D38: £m | E38: Price Review 2024 | H38: 0 | I38: 0 | J38: 0 | K38: 0 | L38: 0 | M38: 0 | N38: 0 | O38: 0
A39: HDD | B39: BIO5_002_PR24 | C39: Bioresources data - Tonnes of dry solids undertaking thickening/dewatering | D39: ttds/yr | E39: Price Review 2024
A40: HDD | B40: BIO5_007_PR24 | C40: Bioresources data - Total number of sludge treatment schemes providing sludge thickening and dewatering | D40: nr | E40: Price Review 2024
A41: NES | B41: CWW12_143TOT_PR24 | C41: EA/NRW environmental programme bioresources (WINEP/NEP) - Sludge treatment - Thickening and/or dewatering; (WINEP/NEP) capex - Total | D41: £m | E41: Price Review 2024 | I41: 0 | J41: 0
...

Sheet F_Inputs_adjusted
A1: =RIGHT(CELL("filename", $A$1), LEN(CELL("filename", $A$1)) - SEARCH("]", CELL("filename", $A$1))) -> #VALUE!
R3: 2023-24 | S3: 2024-25 | T3: 2025-26 | U3: 2026-27 | V3: 2027-28 | W3: 2028-29 | X3: 2029-30
A4: Company Acronym | B4: Item Code | C4: Item Description | D4: Item Unit | E4: Item Table Suite | F4: 2020-21 | G4: 2021-22 | H4: 2022-23 | I4: 2023-24 | J4: 2024-25 | K4: 2025-26 | L4: 2026-27 | M4: 2027-28 | N4: 2028-29 | O4: 2029-30
A5: Company Acronym | B5: Item Code | C5: Item Description | D5: Item Unit | E5: Item Table Suite | F5: Price Review 2024 | G5: Price Review 2024 | H5: Price Review 2024 | I5: Price Review 2024 | J5: Price Review 2024 | K5: Price Review 2024 | L5: Price Review 2024 | M5: Price Review 2024 | N5: Price Review 2024 | O5: Price Review 2024 | R5: Price Review 2024 | S5: Price Review 2024 | T5: Price Review 2024 | U5: Price Review 2024 | V5: Price Review 2024 | W5: Price Review 2024 | X5: Price Review 2024
A6: Company Acronym | B6: Item Code | C6: Item Description | D6: Item Unit | E6: Item Table Suite | F6: Run 11 - PR24 FD Data | G6: Run 11 - PR24 FD Data | H6: Run 11 - PR24 FD Data | I6: Run 11 - PR24 FD Data | J6: Run 11 - PR24 FD Data | K6: Run 11 - PR24 FD Data | L6: Run 11 - PR24 FD Data | M6: Run 11 - PR24 FD Data | N6: Run 11 - PR24 FD Data | O6: Run 11 - PR24 FD Data | R6: Run 11 - PR24 FD Data | S6: Run 11 - PR24 FD Data | T6: Run 11 - PR24 FD Data | U6: Run 11 - PR24 FD Data | V6: Run 11 - PR24 FD Data | W6: Run 11 - PR24 FD Data | X6: Run 11 - PR24 FD Data
A7: Company Acronym | B7: Item Code | C7: Item Description | D7: Item Unit | E7: Item Table Suite | F7: Latest | G7: Latest | H7: Latest | I7: Latest | J7: Latest | K7: Latest | L7: Latest | M7: Latest | N7: Latest | O7: Latest | R7: Latest | S7: Latest | T7: Latest | U7: Latest | V7: Latest | W7: Latest | X7: Latest
A8: =F_Inputs!A8 -> ANH | B8: =F_Inputs!B8 -> CWW12_143TOT_PR24 | C8: =F_Inputs!C8 -> EA/NRW environmental programme bioresources (WINEP/NEP) - Sludge treatment - Thickening and/or dewatering; (WINEP/NEP) capex - Total | D8: =F_Inputs!D8 -> £m | E8: =F_Inputs!E8 -> Price Review 2024 | F8: =F_Inputs!F8 | G8: =F_Inputs!G8 | H8: =F_Inputs!H8 | ... O8: =F_Inputs!O8 | Q8: =LEFT(B8,6) -> CWW12_ | R8: =IF(OR($Q8="CWW12_",$Q8= "CWW17_",$Q8= "CWW20A"),I8,0) -> 0 | S8: =IF(OR($Q8="CWW12_",$Q8= "CWW17_",$Q8= "CWW20A"),J8,0) -> 0 | T8: =IF(OR($Q8="CWW3_0",$Q8="CWW3_1", $Q8= "CWW20_",$Q8="BIO5_0",$Q8="CWW1A_"),K8,0) -> 0 | U8: =IF(OR($Q8="CWW3_0",$Q8="CWW3_1", $Q8= "CWW20_",$Q8="BIO5_0",$Q8="CWW1A_"),L8,0) -> 0 | V8: =IF(OR($Q8="CWW3_0",$Q8="CWW3_1", $Q8= "CWW20_",$Q8="BIO5_0",$Q8="CWW1A_"),M8,0) -> 0 | W8: =IF(OR($Q8="CWW3_0",$Q8="CWW3_1", $Q8= "CWW20_",$Q8="BIO5_0",$Q8="CWW1A_"),N8,0) -> 0 | X8: =IF(OR($Q8="CWW3_0",$Q8="CWW3_1", $Q8= "CWW20_",$Q8="BIO5_0",$Q8="CWW1A_"),O8,0) -> 0
A9: =F_Inputs!A9 -> ANH | B9: =F_Inputs!B9 -> CWW12_144TOT_PR24 | C9: =F_Inputs!C9 -> EA/NRW environmental programme bioresources (WINEP/NEP) - Sludge treatment -Thickening and/or dewatering; (WINEP/NEP) opex - Total | D9: =F_Inputs!D9 -> £m | E9: =F_Inputs!E9 -> Price Review 2024 | F9: =F_Inputs!F9 | G9: =F_Inputs!G9 | H9: =F_Inputs!H9 | ... O9: =F_Inputs!O9 | Q9: =LEFT(B9,6) -> CWW12_ | R9: =IF(OR($Q9="CWW12_",$Q9= "CWW17_",$Q9= "CWW20A"),I9,0) -> 0 | S9: =IF(OR($Q9="CWW12_",$Q9= "CWW17_",$Q9= "CWW20A"),J9,0) -> 0 | T9: =IF(OR($Q9="CWW3_0",$Q9="CWW3_1", $Q9= "CWW20_",$Q9="BIO5_0",$Q9="CWW1A_"),K9,0) -> 0 | U9: =IF(OR($Q9="CWW3_0",$Q9="CWW3_1", $Q9= "CWW20_",$Q9="BIO5_0",$Q9="CWW1A_"),L9,0) -> 0 | V9: =IF(OR($Q9="CWW3_0",$Q9="CWW3_1", $Q9= "CWW20_",$Q9="BIO5_0",$Q9="CWW1A_"),M9,0) -> 0 | W9: =IF(OR($Q9="CWW3_0",$Q9="CWW3_1", $Q9= "CWW20_",$Q9="BIO5_0",$Q9="CWW1A_"),N9,0) -> 0 | X9: =IF(OR($Q9="CWW3_0",$Q9="CWW3_1", $Q9= "CWW20_",$Q9="BIO5_0",$Q9="CWW1A_"),O9,0) -> 0
A10: =F_Inputs!A10 -> ANH | B10: =F_Inputs!B10 -> CWW12_145TOT_PR24 | C10: =F_Inputs!C10 -> EA/NRW environmental programme bioresources (WINEP/NEP) - Sludge treatment - Thickening and/or dewatering; (WINEP/NEP) totex - Total | D10: =F_Inputs!D10 -> £m | E10: =F_Inputs!E10 -> Price Review 2024 | F10: =F_Inputs!F10 | G10: =F_Inputs!G10 | H10: =F_Inputs!H10 | ... O10: =F_Inputs!O10 | Q10: =LEFT(B10,6) -> CWW12_ | R10: =IF(OR($Q10="CWW12_",$Q10= "CWW17_",$Q10= "CWW20A"),I10,0) -> 0 | S10: =IF(OR($Q10="CWW12_",$Q10= "CWW17_",$Q10= "CWW20A"),J10,0) -> 0 | T10: =IF(OR($Q10="CWW3_0",$Q10="CWW3_1", $Q10= "CWW20_",$Q10="BIO5_0",$Q10="CWW1A_"),K10,0) -> 0 | U10: =IF(OR($Q10="CWW3_0",$Q10="CWW3_1", $Q10= "CWW20_",$Q10="BIO5_0",$Q10="CWW1A_"),L10,0) -> 0 | V10: =IF(OR($Q10="CWW3_0",$Q10="CWW3_1", $Q10= "CWW20_",$Q10="BIO5_0",$Q10="CWW1A_"),M10,0) -> 0 | W10: =IF(OR($Q10="CWW3_0",$Q10="CWW3_1", $Q10= "CWW20_",$Q10="BIO5_0",$Q10="CWW1A_"),N10,0) -> 0 | X10: =IF(OR($Q10="CWW3_0",$Q10="CWW3_1", $Q10= "CWW20_",$Q10="BIO5_0",$Q10="CWW1A_"),O10,0) -> 0
A11: =F_Inputs!A11 -> ANH | B11: =F_Inputs!B11 -> CWW17_143TOT_PR24 | C11: =F_Inputs!C11 -> EA/NRW environmental programme bioresources (WINEP/NEP) - Sludge treatment - Thickening and/or dewatering; (WINEP/NEP) capex - Total | D11: =F_Inputs!D11 -> £m | E11: =F_Inputs!E11 -> Price Review 2024 | F11: =F_Inputs!F11 | G11: =F_Inputs!G11 | H11: =F_Inputs!H11 | ... O11: =F_Inputs!O11 -> 0 | Q11: =LEFT(B11,6) -> CWW17_ | R11: =IF(OR($Q11="CWW12_",$Q11= "CWW17_",$Q11= "CWW20A"),I11,0) -> 0 | S11: =IF(OR($Q11="CWW12_",$Q11= "CWW17_",$Q11= "CWW20A"),J11,0) -> 0 | T11: =IF(OR($Q11="CWW3_0",$Q11="CWW3_1", $Q11= "CWW20_",$Q11="BIO5_0",$Q11="CWW1A_"),K11,0) -> 0 | U11: =IF(OR($Q11="CWW3_0",$Q11="CWW3_1", $Q11= "CWW20_",$Q11="BIO5_0",$Q11="CWW1A_"),L11,0) -> 0 | V11: =IF(OR($Q11="CWW3_0",$Q11="CWW3_1", $Q11= "CWW20_",$Q11="BIO5_0",$Q11="CWW1A_"),M11,0) -> 0 | W11: =IF(OR($Q11="CWW3_0",$Q11="CWW3_1", $Q11= "CWW20_",$Q11="BIO5_0",$Q11="CWW1A_"),N11,0) -> 0 | X11: =IF(OR($Q11="CWW3_0",$Q11="CWW3_1", $Q11= "CWW20_",$Q11="BIO5_0",$Q11="CWW1A_"),O11,0) -> 0
A12: =F_Inputs!A12 -> ANH | B12: =F_Inputs!B12 -> CWW17_144TOT_PR24 | C12: =F_Inputs!C12 -> EA/NRW environmental programme bioresources (WINEP/NEP) - Sludge treatment -Thickening and/or dewatering; (WINEP/NEP) opex - Total | D12: =F_Inputs!D12 -> £m | E12: =F_Inputs!E12 -> Price Review 2024 | F12: =F_Inputs!F12 | G12: =F_Inputs!G12 | H12: =F_Inputs!H12 | ... O12: =F_Inputs!O12 -> 0 | Q12: =LEFT(B12,6) -> CWW17_ | R12: =IF(OR($Q12="CWW12_",$Q12= "CWW17_",$Q12= "CWW20A"),I12,0) -> 0 | S12: =IF(OR($Q12="CWW12_",$Q12= "CWW17_",$Q12= "CWW20A"),J12,0) -> 0 | T12: =IF(OR($Q12="CWW3_0",$Q12="CWW3_1", $Q12= "CWW20_",$Q12="BIO5_0",$Q12="CWW1A_"),K12,0) -> 0 | U12: =IF(OR($Q12="CWW3_0",$Q12="CWW3_1", $Q12= "CWW20_",$Q12="BIO5_0",$Q12="CWW1A_"),L12,0) -> 0 | V12: =IF(OR($Q12="CWW3_0",$Q12="CWW3_1", $Q12= "CWW20_",$Q12="BIO5_0",$Q12="CWW1A_"),M12,0) -> 0 | W12: =IF(OR($Q12="CWW3_0",$Q12="CWW3_1", $Q12= "CWW20_",$Q12="BIO5_0",$Q12="CWW1A_"),N12,0) -> 0 | X12: =IF(OR($Q12="CWW3_0",$Q12="CWW3_1", $Q12= "CWW20_",$Q12="BIO5_0",$Q12="CWW1A_"),O12,0) -> 0
A13: =F_Inputs!A13 -> ANH | B13: =F_Inputs!B13 -> CWW17_145TOT_PR24 | C13: =F_Inputs!C13 -> EA/NRW environmental programme bioresources (WINEP/NEP) - Sludge treatment - Thickening and/or dewatering; (WINEP/NEP) totex - Total | D13: =F_Inputs!D13 -> £m | E13: =F_Inputs!E13 -> Price Review 2024 | F13: =F_Inputs!F13 | G13: =F_Inputs!G13 | H13: =F_Inputs!H13 | ... O13: =F_Inputs!O13 -> 0 | Q13: =LEFT(B13,6) -> CWW17_ | R13: =IF(OR($Q13="CWW12_",$Q13= "CWW17_",$Q13= "CWW20A"),I13,0) -> 0 | S13: =IF(OR($Q13="CWW12_",$Q13= "CWW17_",$Q13= "CWW20A"),J13,0) -> 0 | T13: =IF(OR($Q13="CWW3_0",$Q13="CWW3_1", $Q13= "CWW20_",$Q13="BIO5_0",$Q13="CWW1A_"),K13,0) -> 0 | U13: =IF(OR($Q13="CWW3_0",$Q13="CWW3_1", $Q13= "CWW20_",$Q13="BIO5_0",$Q13="CWW1A_"),L13,0) -> 0 | V13: =IF(OR($Q13="CWW3_0",$Q13="CWW3_1", $Q13= "CWW20_",$Q13="BIO5_0",$Q13="CWW1A_"),M13,0) -> 0 | W13: =IF(OR($Q13="CWW3_0",$Q13="CWW3_1", $Q13= "CWW20_",$Q13="BIO5_0",$Q13="CWW1A_"),N13,0) -> 0 | X13: =IF(OR($Q13="CWW3_0",$Q13="CWW3_1", $Q13= "CWW20_",$Q13="BIO5_0",$Q13="CWW1A_"),O13,0) -> 0
A14: =F_Inputs!A14 -> ANH | B14: =F_Inputs!B14 -> CWW3_143TOT_PR24 | C14: =F_Inputs!C14 -> EA/NRW environmental programme bioresources (WINEP/NEP) - Sludge treatment - Thickening and/or dewatering; (WINEP/NEP) capex - Total | D14: =F_Inputs!D14 -> £m | E14: =F_Inputs!E14 -> Price Review 2024 | F14: =F_Inputs!F14 | G14: =F_Inputs!G14 | H14: =F_Inputs!H14 -> 0 | ... O14: =F_Inputs!O14 -> 5.022 | Q14: =LEFT(B14,6) -> CWW3_1 | R14: =IF(OR($Q14="CWW12_",$Q14= "CWW17_",$Q14= "CWW20A"),I14,0) -> 0 | S14: =IF(OR($Q14="CWW12_",$Q14= "CWW17_",$Q14= "CWW20A"),J14,0) -> 0 | T14: =IF(OR($Q14="CWW3_0",$Q14="CWW3_1", $Q14= "CWW20_",$Q14="BIO5_0",$Q14="CWW1A_"),K14,0) -> 0 | U14: =IF(OR($Q14="CWW3_0",$Q14="CWW3_1", $Q14= "CWW20_",$Q14="BIO5_0",$Q14="CWW1A_"),L14,0) -> 1.334 | V14: =IF(OR($Q14="CWW3_0",$Q14="CWW3_1", $Q14= "CWW20_",$Q14="BIO5_0",$Q14="CWW1A_"),M14,0) -> 3.781 | W14: =IF(OR($Q14="CWW3_0",$Q14="CWW3_1", $Q14= "CWW20_",$Q14="BIO5_0",$Q14="CWW1A_"),N14,0) -> 6.882 | X14: =IF(OR($Q14="CWW3_0",$Q14="CWW3_1", $Q14= "CWW20_",$Q14="BIO5_0",$Q14="CWW1A_"),O14,0) -> 5.022
A15: =F_Inputs!A15 -> ANH | B15: =F_Inputs!B15 -> CWW3_144TOT_PR24 | C15: =F_Inputs!C15 -> EA/NRW environmental programme bioresources (WINEP/NEP) - Sludge treatment -Thickening and/or dewatering; (WINEP/NEP) opex - Total | D15: =F_Inputs!D15 -> £m | E15: =F_Inputs!E15 -> Price Review 2024 | F15: =F_Inputs!F15 | G15: =F_Inputs!G15 | H15: =F_Inputs!H15 -> 0 | ... O15: =F_Inputs!O15 -> 0.002 | Q15: =LEFT(B15,6) -> CWW3_1 | R15: =IF(OR($Q15="CWW12_",$Q15= "CWW17_",$Q15= "CWW20A"),I15,0) -> 0 | S15: =IF(OR($Q15="CWW12_",$Q15= "CWW17_",$Q15= "CWW20A"),J15,0) -> 0 | T15: =IF(OR($Q15="CWW3_0",$Q15="CWW3_1", $Q15= "CWW20_",$Q15="BIO5_0",$Q15="CWW1A_"),K15,0) -> 0 | U15: =IF(OR($Q15="CWW3_0",$Q15="CWW3_1", $Q15= "CWW20_",$Q15="BIO5_0",$Q15="CWW1A_"),L15,0) -> 0 | V15: =IF(OR($Q15="CWW3_0",$Q15="CWW3_1", $Q15= "CWW20_",$Q15="BIO5_0",$Q15="CWW1A_"),M15,0) -> 0 | W15: =IF(OR($Q15="CWW3_0",$Q15="CWW3_1", $Q15= "CWW20_",$Q15="BIO5_0",$Q15="CWW1A_"),N15,0) -> 0 | X15: =IF(OR($Q15="CWW3_0",$Q15="CWW3_1", $Q15= "CWW20_",$Q15="BIO5_0",$Q15="CWW1A_"),O15,0) -> 0.002
A16: =F_Inputs!A16 -> ANH | B16: =F_Inputs!B16 -> CWW3_145TOT_PR24 | C16: =F_Inputs!C16 -> EA/NRW environmental programme bioresources (WINEP/NEP) - Sludge treatment - Thickening and/or dewatering; (WINEP/NEP) totex - Total | D16: =F_Inputs!D16 -> £m | E16: =F_Inputs!E16 -> Price Review 2024 | F16: =F_Inputs!F16 | G16: =F_Inputs!G16 | H16: =F_Inputs!H16 -> 0 | ... O16: =F_Inputs!O16 -> 5.024 | Q16: =LEFT(B16,6) -> CWW3_1 | R16: =IF(OR($Q16="CWW12_",$Q16= "CWW17_",$Q16= "CWW20A"),I16,0) -> 0 | S16: =IF(OR($Q16="CWW12_",$Q16= "CWW17_",$Q16= "CWW20A"),J16,0) -> 0 | T16: =IF(OR($Q16="CWW3_0",$Q16="CWW3_1", $Q16= "CWW20_",$Q16="BIO5_0",$Q16="CWW1A_"),K16,0) -> 0 | U16: =IF(OR($Q16="CWW3_0",$Q16="CWW3_1", $Q16= "CWW20_",$Q16="BIO5_0",$Q16="CWW1A_"),L16,0) -> 1.334 | V16: =IF(OR($Q16="CWW3_0",$Q16="CWW3_1", $Q16= "CWW20_",$Q16="BIO5_0",$Q16="CWW1A_"),M16,0) -> 3.781 | W16: =IF(OR($Q16="CWW3_0",$Q16="CWW3_1", $Q16= "CWW20_",$Q16="BIO5_0",$Q16="CWW1A_"),N16,0) -> 6.882 | X16: =IF(OR($Q16="CWW3_0",$Q16="CWW3_1", $Q16= "CWW20_",$Q16="BIO5_0",$Q16="CWW1A_"),O16,0) -> 5.024
A17: =F_Inputs!A17 -> ANH | B17: =F_Inputs!B17 -> BIO5_002_PR24 | C17: =F_Inputs!C17 -> Bioresources data - Tonnes of dry solids undertaking thickening/dewatering | D17: =F_Inputs!D17 -> ttds/yr | E17: =F_Inputs!E17 -> Price Review 2024 | F17: =F_Inputs!F17 | G17: =F_Inputs!G17 | H17: =F_Inputs!H17 -> 0 | ... O17: =F_Inputs!O17 -> 40 | Q17: =LEFT(B17,6) -> BIO5_0 | R17: =IF(OR($Q17="CWW12_",$Q17= "CWW17_",$Q17= "CWW20A"),I17,0) -> 0 | S17: =IF(OR($Q17="CWW12_",$Q17= "CWW17_",$Q17= "CWW20A"),J17,0) -> 0 | T17: =IF(OR($Q17="CWW3_0",$Q17="CWW3_1", $Q17= "CWW20_",$Q17="BIO5_0",$Q17="CWW1A_"),K17,0) -> 0 | U17: =IF(OR($Q17="CWW3_0",$Q17="CWW3_1", $Q17= "CWW20_",$Q17="BIO5_0",$Q17="CWW1A_"),L17,0) -> 0 | V17: =IF(OR($Q17="CWW3_0",$Q17="CWW3_1", $Q17= "CWW20_",$Q17="BIO5_0",$Q17="CWW1A_"),M17,0) -> 0 | W17: =IF(OR($Q17="CWW3_0",$Q17="CWW3_1", $Q17= "CWW20_",$Q17="BIO5_0",$Q17="CWW1A_"),N17,0) -> 0 | X17: =IF(OR($Q17="CWW3_0",$Q17="CWW3_1", $Q17= "CWW20_",$Q17="BIO5_0",$Q17="CWW1A_"),O17,0) -> 40
A18: =F_Inputs!A18 -> ANH | B18: =F_Inputs!B18 -> BIO5_007_PR24 | C18: =F_Inputs!C18 -> Bioresources data - Total number of sludge treatment schemes providing sludge thickening and dewatering | D18: =F_Inputs!D18 -> nr | E18: =F_Inputs!E18 -> Price Review 2024 | F18: =F_Inputs!F18 | G18: =F_Inputs!G18 | H18: =F_Inputs!H18 -> 0 | ... O18: =F_Inputs!O18 -> 1 | Q18: =LEFT(B18,6) -> BIO5_0 | R18: =IF(OR($Q18="CWW12_",$Q18= "CWW17_",$Q18= "CWW20A"),I18,0) -> 0 | S18: =IF(OR($Q18="CWW12_",$Q18= "CWW17_",$Q18= "CWW20A"),J18,0) -> 0 | T18: =IF(OR($Q18="CWW3_0",$Q18="CWW3_1", $Q18= "CWW20_",$Q18="BIO5_0",$Q18="CWW1A_"),K18,0) -> 0 | U18: =IF(OR($Q18="CWW3_0",$Q18="CWW3_1", $Q18= "CWW20_",$Q18="BIO5_0",$Q18="CWW1A_"),L18,0) -> 0 | V18: =IF(OR($Q18="CWW3_0",$Q18="CWW3_1", $Q18= "CWW20_",$Q18="BIO5_0",$Q18="CWW1A_"),M18,0) -> 0 | W18: =IF(OR($Q18="CWW3_0",$Q18="CWW3_1", $Q18= "CWW20_",$Q18="BIO5_0",$Q18="CWW1A_"),N18,0) -> 0 | X18: =IF(OR($Q18="CWW3_0",$Q18="CWW3_1", $Q18= "CWW20_",$Q18="BIO5_0",$Q18="CWW1A_"),O18,0) -> 1
A19: =F_Inputs!A19 -> WSH | B19: =F_Inputs!B19 -> CWW12_143TOT_PR24 | C19: =F_Inputs!C19 -> EA/NRW environmental programme bioresources (WINEP/NEP) - Sludge treatment - Thickening and/or dewatering; (WINEP/NEP) capex - Total | D19: =F_Inputs!D19 -> £m | E19: =F_Inputs!E19 -> Price Review 2024 | F19: =F_Inputs!F19 | G19: =F_Inputs!G19 | H19: =F_Inputs!H19 | ... O19: =F_Inputs!O19 | Q19: =LEFT(B19,6) -> CWW12_ | R19: =IF(OR($Q19="CWW12_",$Q19= "CWW17_",$Q19= "CWW20A"),I19,0) -> 0 | S19: =IF(OR($Q19="CWW12_",$Q19= "CWW17_",$Q19= "CWW20A"),J19,0) -> 0 | T19: =IF(OR($Q19="CWW3_0",$Q19="CWW3_1", $Q19= "CWW20_",$Q19="BIO5_0",$Q19="CWW1A_"),K19,0) -> 0 | U19: =IF(OR($Q19="CWW3_0",$Q19="CWW3_1", $Q19= "CWW20_",$Q19="BIO5_0",$Q19="CWW1A_"),L19,0) -> 0 | V19: =IF(OR($Q19="CWW3_0",$Q19="CWW3_1", $Q19= "CWW20_",$Q19="BIO5_0",$Q19="CWW1A_"),M19,0) -> 0 | W19: =IF(OR($Q19="CWW3_0",$Q19="CWW3_1", $Q19= "CWW20_",$Q19="BIO5_0",$Q19="CWW1A_"),N19,0) -> 0 | X19: =IF(OR($Q19="CWW3_0",$Q19="CWW3_1", $Q19= "CWW20_",$Q19="BIO5_0",$Q19="CWW1A_"),O19,0) -> 0
... A128: =F_Inputs!A128 -> YKY | B128: =F_Inputs!B128 -> BIO5_007_PR24 | C128: =F_Inputs!C128 -> Bioresources data - Total number of sludge treatment schemes providing sludge thickening and dewatering | D128: =F_Inputs!D128 -> nr | E128: =F_Inputs!E128 -> Price Review 2024 | F128: =F_Inputs!F128 | G128: =F_Inputs!G128 | H128: =F_Inputs!H128 -> 0 | ... O128: =F_Inputs!O128 -> 0 | Q128: =LEFT(B128,6) -> BIO5_0 | R128: =IF(OR($Q128="CWW12_",$Q128= "CWW17_",$Q128= "CWW20A"),I128,0) -> 0 | S128: =IF(OR($Q128="CWW12_",$Q128= "CWW17_",$Q128= "CWW20A"),J128,0) -> 0 | T128: =IF(OR($Q128="CWW3_0",$Q128="CWW3_1", $Q128= "CWW20_",$Q128="BIO5_0",$Q128="CWW1A_"),K128,0) -> 0 | U128: =IF(OR($Q128="CWW3_0",$Q128="CWW3_1", $Q128= "CWW20_",$Q128="BIO5_0",$Q128="CWW1A_"),L128,0) -> 3 | V128: =IF(OR($Q128="CWW3_0",$Q128="CWW3_1", $Q128= "CWW20_",$Q128="BIO5_0",$Q128="CWW1A_"),M128,0) -> 0 | W128: =IF(OR($Q128="CWW3_0",$Q128="CWW3_1", $Q128= "CWW20_",$Q128="BIO5_0",$Q128="CWW1A_"),N128,0) -> 0 | X128: =IF(OR($Q128="CWW3_0",$Q128="CWW3_1", $Q128= "CWW20_",$Q128="BIO5_0",$Q128="CWW1A_"),O128,0) -> 0

Sheet Consolidated Input
A1: =RIGHT(CELL("filename", $A$1), LEN(CELL("filename", $A$1)) - SEARCH("]", CELL("filename", $A$1))) -> #VALUE!
A6: Acronym | B6: BON code | C6: Cost Line | D6: Unit | E6: Model | F6: 2023-24 | G6: 2024-25 | H6: 2025-26 | I6: 2026-27 | J6: 2027-28 | K6: 2028-29 | L6: 2029-30 | M6: Total
A7: =F_Inputs!A8 -> ANH | B7: =F_Inputs!B8 -> CWW12_143TOT_PR24 | C7: =F_Inputs!C8 -> EA/NRW environmental programme bioresources (WINEP/NEP) - Sludge treatment - Thickening and/or dewatering; (WINEP/NEP) capex - Total | D7: =F_Inputs_adjusted!D8 -> £m | E7: Price Review 2022 | F7: =SUMIFS(F_Inputs_adjusted!R:R,F_Inputs_adjusted!$A:$A,$A7,F_Inputs_adjusted!$B:$B,$B7) -> 0 | G7: =SUMIFS(F_Inputs_adjusted!S:S,F_Inputs_adjusted!$A:$A,$A7,F_Inputs_adjusted!$B:$B,$B7) -> 0 | H7: =SUMIFS(F_Inputs_adjusted!T:T,F_Inputs_adjusted!$A:$A,$A7,F_Inputs_adjusted!$B:$B,$B7) -> 0 | I7: =SUMIFS(F_Inputs_adjusted!U:U,F_Inputs_adjusted!$A:$A,$A7,F_Inputs_adjusted!$B:$B,$B7) -> 0 | J7: =SUMIFS(F_Inputs_adjusted!V:V,F_Inputs_adjusted!$A:$A,$A7,F_Inputs_adjusted!$B:$B,$B7) -> 0 | K7: =SUMIFS(F_Inputs_adjusted!W:W,F_Inputs_adjusted!$A:$A,$A7,F_Inputs_adjusted!$B:$B,$B7) -> 0 | L7: =SUMIFS(F_Inputs_adjusted!X:X,F_Inputs_adjusted!$A:$A,$A7,F_Inputs_adjusted!$B:$B,$B7) -> 0 | M7: =SUM(Table1[[#This Row],[2023-24]:[2029-30]]) -> 0
A8: =F_Inputs!A9 -> ANH | B8: =F_Inputs!B9 -> CWW12_144TOT_PR24 | C8: =F_Inputs!C9 -> EA/NRW environmental programme bioresources (WINEP/NEP) - Sludge treatment -Thickening and/or dewatering; (WINEP/NEP) opex - Total | D8: =F_Inputs_adjusted!D9 -> £m | E8: Price Review 2023 | F8: =SUMIFS(F_Inputs_adjusted!R:R,F_Inputs_adjusted!$A:$A,$A8,F_Inputs_adjusted!$B:$B,$B8) -> 0 | G8: =SUMIFS(F_Inputs_adjusted!S:S,F_Inputs_adjusted!$A:$A,$A8,F_Inputs_adjusted!$B:$B,$B8) -> 0 | H8: =SUMIFS(F_Inputs_adjusted!T:T,F_Inputs_adjusted!$A:$A,$A8,F_Inputs_adjusted!$B:$B,$B8) -> 0 | I8: =SUMIFS(F_Inputs_adjusted!U:U,F_Inputs_adjusted!$A:$A,$A8,F_Inputs_adjusted!$B:$B,$B8) -> 0 | J8: =SUMIFS(F_Inputs_adjusted!V:V,F_Inputs_adjusted!$A:$A,$A8,F_Inputs_adjusted!$B:$B,$B8) -> 0 | K8: =SUMIFS(F_Inputs_adjusted!W:W,F_Inputs_adjusted!$A:$A,$A8,F_Inputs_adjusted!$B:$B,$B8) -> 0 | L8: =SUMIFS(F_Inputs_adjusted!X:X,F_Inputs_adjusted!$A:$A,$A8,F_Inputs_adjusted!$B:$B,$B8) -> 0 | M8: =SUM(Table1[[#This Row],[2023-24]:[2029-30]]) -> 0
A9: =F_Inputs!A10 -> ANH | B9: =F_Inputs!B10 -> CWW12_145TOT_PR24 | C9: =F_Inputs!C10 -> EA/NRW environmental programme bioresources (WINEP/NEP) - Sludge treatment - Thickening and/or dewatering; (WINEP/NEP) totex - Total | D9: =F_Inputs_adjusted!D10 -> £m | E9: Price Review 2024 | F9: =SUMIFS(F_Inputs_adjusted!R:R,F_Inputs_adjusted!$A:$A,$A9,F_Inputs_adjusted!$B:$B,$B9) -> 0 | G9: =SUMIFS(F_Inputs_adjusted!S:S,F_Inputs_adjusted!$A:$A,$A9,F_Inputs_adjusted!$B:$B,$B9) -> 0 | H9: =SUMIFS(F_Inputs_adjusted!T:T,F_Inputs_adjusted!$A:$A,$A9,F_Inputs_adjusted!$B:$B,$B9) -> 0 | I9: =SUMIFS(F_Inputs_adjusted!U:U,F_Inputs_adjusted!$A:$A,$A9,F_Inputs_adjusted!$B:$B,$B9) -> 0 | J9: =SUMIFS(F_Inputs_adjusted!V:V,F_Inputs_adjusted!$A:$A,$A9,F_Inputs_adjusted!$B:$B,$B9) -> 0 | K9: =SUMIFS(F_Inputs_adjusted!W:W,F_Inputs_adjusted!$A:$A,$A9,F_Inputs_adjusted!$B:$B,$B9) -> 0 | L9: =SUMIFS(F_Inputs_adjusted!X:X,F_Inputs_adjusted!$A:$A,$A9,F_Inputs_adjusted!$B:$B,$B9) -> 0 | M9: =SUM(Table1[[#This Row],[2023-24]:[2029-30]]) -> 0
A10: =F_Inputs!A11 -> ANH | B10: =F_Inputs!B11 -> CWW17_143TOT_PR24 | C10: =F_Inputs!C11 -> EA/NRW environmental programme bioresources (WINEP/NEP) - Sludge treatment - Thickening and/or dewatering; (WINEP/NEP) capex - Total | D10: =F_Inputs_adjusted!D11 -> £m | E10: Price Review 2024 | F10: =SUMIFS(F_Inputs_adjusted!R:R,F_Inputs_adjusted!$A:$A,$A10,F_Inputs_adjusted!$B:$B,$B10) -> 0 | G10: =SUMIFS(F_Inputs_adjusted!S:S,F_Inputs_adjusted!$A:$A,$A10,F_Inputs_adjusted!$B:$B,$B10) -> 0 | H10: =SUMIFS(F_Inputs_adjusted!T:T,F_Inputs_adjusted!$A:$A,$A10,F_Inputs_adjusted!$B:$B,$B10) -> 0 | I10: =SUMIFS(F_Inputs_adjusted!U:U,F_Inputs_adjusted!$A:$A,$A10,F_Inputs_adjusted!$B:$B,$B10) -> 0 | J10: =SUMIFS(F_Inputs_adjusted!V:V,F_Inputs_adjusted!$A:$A,$A10,F_Inputs_adjusted!$B:$B,$B10) -> 0 | K10: =SUMIFS(F_Inputs_adjusted!W:W,F_Inputs_adjusted!$A:$A,$A10,F_Inputs_adjusted!$B:$B,$B10) -> 0 | L10: =SUMIFS(F_Inputs_adjusted!X:X,F_Inputs_adjusted!$A:$A,$A10,F_Inputs_adjusted!$B:$B,$B10) -> 0 | M10: =SUM(Table1[[#This Row],[2023-24]:[2029-30]]) -> 0
A11: =F_Inputs!A12 -> ANH | B11: =F_Inputs!B12 -> CWW17_144TOT_PR24 | C11: =F_Inputs!C12 -> EA/NRW environmental programme bioresources (WINEP/NEP) - Sludge treatment -Thickening and/or dewatering; (WINEP/NEP) opex - Total | D11: =F_Inputs_adjusted!D12 -> £m | E11: Price Review 2024 | F11: =SUMIFS(F_Inputs_adjusted!R:R,F_Inputs_adjusted!$A:$A,$A11,F_Inputs_adjusted!$B:$B,$B11) -> 0 | G11: =SUMIFS(F_Inputs_adjusted!S:S,F_Inputs_adjusted!$A:$A,$A11,F_Inputs_adjusted!$B:$B,$B11) -> 0 | H11: =SUMIFS(F_Inputs_adjusted!T:T,F_Inputs_adjusted!$A:$A,$A11,F_Inputs_adjusted!$B:$B,$B11) -> 0 | I11: =SUMIFS(F_Inputs_adjusted!U:U,F_Inputs_adjusted!$A:$A,$A11,F_Inputs_adjusted!$B:$B,$B11) -> 0 | J11: =SUMIFS(F_Inputs_adjusted!V:V,F_Inputs_adjusted!$A:$A,$A11,F_Inputs_adjusted!$B:$B,$B11) -> 0 | K11: =SUMIFS(F_Inputs_adjusted!W:W,F_Inputs_adjusted!$A:$A,$A11,F_Inputs_adjusted!$B:$B,$B11) -> 0 | L11: =SUMIFS(F_Inputs_adjusted!X:X,F_Inputs_adjusted!$A:$A,$A11,F_Inputs_adjusted!$B:$B,$B11) -> 0 | M11: =SUM(Table1[[#This Row],[2023-24]:[2029-30]]) -> 0
A12: =F_Inputs!A13 -> ANH | B12: =F_Inputs!B13 -> CWW17_145TOT_PR24 | C12: =F_Inputs!C13 -> EA/NRW environmental programme bioresources (WINEP/NEP) - Sludge treatment - Thickening and/or dewatering; (WINEP/NEP) totex - Total | D12: =F_Inputs_adjusted!D13 -> £m | E12: Price Review 2024 | F12: =SUMIFS(F_Inputs_adjusted!R:R,F_Inputs_adjusted!$A:$A,$A12,F_Inputs_adjusted!$B:$B,$B12) -> 0 | G12: =SUMIFS(F_Inputs_adjusted!S:S,F_Inputs_adjusted!$A:$A,$A12,F_Inputs_adjusted!$B:$B,$B12) -> 0 | H12: =SUMIFS(F_Inputs_adjusted!T:T,F_Inputs_adjusted!$A:$A,$A12,F_Inputs_adjusted!$B:$B,$B12) -> 0 | I12: =SUMIFS(F_Inputs_adjusted!U:U,F_Inputs_adjusted!$A:$A,$A12,F_Inputs_adjusted!$B:$B,$B12) -> 0 | J12: =SUMIFS(F_Inputs_adjusted!V:V,F_Inputs_adjusted!$A:$A,$A12,F_Inputs_adjusted!$B:$B,$B12) -> 0 | K12: =SUMIFS(F_Inputs_adjusted!W:W,F_Inputs_adjusted!$A:$A,$A12,F_Inputs_adjusted!$B:$B,$B12) -> 0 | L12: =SUMIFS(F_Inputs_adjusted!X:X,F_Inputs_adjusted!$A:$A,$A12,F_Inputs_adjusted!$B:$B,$B12) -> 0 | M12: =SUM(Table1[[#This Row],[2023-24]:[2029-30]]) -> 0
A13: =F_Inputs!A14 -> ANH | B13: =F_Inputs!B14 -> CWW3_143TOT_PR24 | C13: =F_Inputs!C14 -> EA/NRW environmental programme bioresources (WINEP/NEP) - Sludge treatment - Thickening and/or dewatering; (WINEP/NEP) capex - Total | D13: =F_Inputs_adjusted!D14 -> £m | E13: Price Review 2024 | F13: =SUMIFS(F_Inputs_adjusted!R:R,F_Inputs_adjusted!$A:$A,$A13,F_Inputs_adjusted!$B:$B,$B13) -> 0 | G13: =SUMIFS(F_Inputs_adjusted!S:S,F_Inputs_adjusted!$A:$A,$A13,F_Inputs_adjusted!$B:$B,$B13) -> 0 | H13: =SUMIFS(F_Inputs_adjusted!T:T,F_Inputs_adjusted!$A:$A,$A13,F_Inputs_adjusted!$B:$B,$B13) -> 0 | I13: =SUMIFS(F_Inputs_adjusted!U:U,F_Inputs_adjusted!$A:$A,$A13,F_Inputs_adjusted!$B:$B,$B13) -> 1.334 | J13: =SUMIFS(F_Inputs_adjusted!V:V,F_Inputs_adjusted!$A:$A,$A13,F_Inputs_adjusted!$B:$B,$B13) -> 3.781 | K13: =SUMIFS(F_Inputs_adjusted!W:W,F_Inputs_adjusted!$A:$A,$A13,F_Inputs_adjusted!$B:$B,$B13) -> 6.882 | L13: =SUMIFS(F_Inputs_adjusted!X:X,F_Inputs_adjusted!$A:$A,$A13,F_Inputs_adjusted!$B:$B,$B13) -> 5.022 | M13: =SUM(Table1[[#This Row],[2023-24]:[2029-30]]) -> 17.019
A14: =F_Inputs!A15 -> ANH | B14: =F_Inputs!B15 -> CWW3_144TOT_PR24 | C14: =F_Inputs!C15 -> EA/NRW environmental programme bioresources (WINEP/NEP) - Sludge treatment -Thickening and/or dewatering; (WINEP/NEP) opex - Total | D14: =F_Inputs_adjusted!D15 -> £m | E14: Price Review 2024 | F14: =SUMIFS(F_Inputs_adjusted!R:R,F_Inputs_adjusted!$A:$A,$A14,F_Inputs_adjusted!$B:$B,$B14) -> 0 | G14: =SUMIFS(F_Inputs_adjusted!S:S,F_Inputs_adjusted!$A:$A,$A14,F_Inputs_adjusted!$B:$B,$B14) -> 0 | H14: =SUMIFS(F_Inputs_adjusted!T:T,F_Inputs_adjusted!$A:$A,$A14,F_Inputs_adjusted!$B:$B,$B14) -> 0 | I14: =SUMIFS(F_Inputs_adjusted!U:U,F_Inputs_adjusted!$A:$A,$A14,F_Inputs_adjusted!$B:$B,$B14) -> 0 | J14: =SUMIFS(F_Inputs_adjusted!V:V,F_Inputs_adjusted!$A:$A,$A14,F_Inputs_adjusted!$B:$B,$B14) -> 0 | K14: =SUMIFS(F_Inputs_adjusted!W:W,F_Inputs_adjusted!$A:$A,$A14,F_Inputs_adjusted!$B:$B,$B14) -> 0 | L14: =SUMIFS(F_Inputs_adjusted!X:X,F_Inputs_adjusted!$A:$A,$A14,F_Inputs_adjusted!$B:$B,$B14) -> 0.002 | M14: =SUM(Table1[[#This Row],[2023-24]:[2029-30]]) -> 0.002
A15: =F_Inputs!A16 -> ANH | B15: =F_Inputs!B16 -> CWW3_145TOT_PR24 | C15: =F_Inputs!C16 -> EA/NRW environmental programme bioresources (WINEP/NEP) - Sludge treatment - Thickening and/or dewatering; (WINEP/NEP) totex - Total | D15: =F_Inputs_adjusted!D16 -> £m | E15: Price Review 2024 | F15: =SUMIFS(F_Inputs_adjusted!R:R,F_Inputs_adjusted!$A:$A,$A15,F_Inputs_adjusted!$B:$B,$B15) -> 0 | G15: =SUMIFS(F_Inputs_adjusted!S:S,F_Inputs_adjusted!$A:$A,$A15,F_Inputs_adjusted!$B:$B,$B15) -> 0 | H15: =SUMIFS(F_Inputs_adjusted!T:T,F_Inputs_adjusted!$A:$A,$A15,F_Inputs_adjusted!$B:$B,$B15) -> 0 | I15: =SUMIFS(F_Inputs_adjusted!U:U,F_Inputs_adjusted!$A:$A,$A15,F_Inputs_adjusted!$B:$B,$B15) -> 1.334 | J15: =SUMIFS(F_Inputs_adjusted!V:V,F_Inputs_adjusted!$A:$A,$A15,F_Inputs_adjusted!$B:$B,$B15) -> 3.781 | K15: =SUMIFS(F_Inputs_adjusted!W:W,F_Inputs_adjusted!$A:$A,$A15,F_Inputs_adjusted!$B:$B,$B15) -> 6.882 | L15: =SUMIFS(F_Inputs_adjusted!X:X,F_Inputs_adjusted!$A:$A,$A15,F_Inputs_adjusted!$B:$B,$B15) -> 5.024 | M15: =SUM(Table1[[#This Row],[2023-24]:[2029-30]]) -> 17.021
A16: =F_Inputs!A17 -> ANH | B16: =F_Inputs!B17 -> BIO5_002_PR24 | C16: =F_Inputs!C17 -> Bioresources data - Tonnes of dry solids undertaking thickening/dewatering | D16: =F_Inputs_adjusted!D17 -> ttds/yr | E16: Price Review 2024 | F16: =SUMIFS(F_Inputs_adjusted!R:R,F_Inputs_adjusted!$A:$A,$A16,F_Inputs_adjusted!$B:$B,$B16) -> 0 | G16: =SUMIFS(F_Inputs_adjusted!S:S,F_Inputs_adjusted!$A:$A,$A16,F_Inputs_adjusted!$B:$B,$B16) -> 0 | H16: =SUMIFS(F_Inputs_adjusted!T:T,F_Inputs_adjusted!$A:$A,$A16,F_Inputs_adjusted!$B:$B,$B16) -> 0 | I16: =SUMIFS(F_Inputs_adjusted!U:U,F_Inputs_adjusted!$A:$A,$A16,F_Inputs_adjusted!$B:$B,$B16) -> 0 | J16: =SUMIFS(F_Inputs_adjusted!V:V,F_Inputs_adjusted!$A:$A,$A16,F_Inputs_adjusted!$B:$B,$B16) -> 0 | K16: =SUMIFS(F_Inputs_adjusted!W:W,F_Inputs_adjusted!$A:$A,$A16,F_Inputs_adjusted!$B:$B,$B16) -> 0 | L16: =SUMIFS(F_Inputs_adjusted!X:X,F_Inputs_adjusted!$A:$A,$A16,F_Inputs_adjusted!$B:$B,$B16) -> 40 | M16: =SUM(Table1[[#This Row],[2023-24]:[2029-30]]) -> 40
A17: =F_Inputs!A18 -> ANH | B17: =F_Inputs!B18 -> BIO5_007_PR24 | C17: =F_Inputs!C18 -> Bioresources data - Total number of sludge treatment schemes providing sludge thickening and dewatering | D17: =F_Inputs_adjusted!D18 -> nr | E17: Price Review 2024 | F17: =SUMIFS(F_Inputs_adjusted!R:R,F_Inputs_adjusted!$A:$A,$A17,F_Inputs_adjusted!$B:$B,$B17) -> 0 | G17: =SUMIFS(F_Inputs_adjusted!S:S,F_Inputs_adjusted!$A:$A,$A17,F_Inputs_adjusted!$B:$B,$B17) -> 0 | H17: =SUMIFS(F_Inputs_adjusted!T:T,F_Inputs_adjusted!$A:$A,$A17,F_Inputs_adjusted!$B:$B,$B17) -> 0 | I17: =SUMIFS(F_Inputs_adjusted!U:U,F_Inputs_adjusted!$A:$A,$A17,F_Inputs_adjusted!$B:$B,$B17) -> 0 | J17: =SUMIFS(F_Inputs_adjusted!V:V,F_Inputs_adjusted!$A:$A,$A17,F_Inputs_adjusted!$B:$B,$B17) -> 0 | K17: =SUMIFS(F_Inputs_adjusted!W:W,F_Inputs_adjusted!$A:$A,$A17,F_Inputs_adjusted!$B:$B,$B17) -> 0 | L17: =SUMIFS(F_Inputs_adjusted!X:X,F_Inputs_adjusted!$A:$A,$A17,F_Inputs_adjusted!$B:$B,$B17) -> 1 | M17: =SUM(Table1[[#This Row],[2023-24]:[2029-30]]) -> 1
A18: =F_Inputs!A19 -> WSH | B18: =F_Inputs!B19 -> CWW12_143TOT_PR24 | C18: =F_Inputs!C19 -> EA/NRW environmental programme bioresources (WINEP/NEP) - Sludge treatment - Thickening and/or dewatering; (WINEP/NEP) capex - Total | D18: =F_Inputs_adjusted!D19 -> £m | E18: Price Review 2024 | F18: =SUMIFS(F_Inputs_adjusted!R:R,F_Inputs_adjusted!$A:$A,$A18,F_Inputs_adjusted!$B:$B,$B18) -> 0 | G18: =SUMIFS(F_Inputs_adjusted!S:S,F_Inputs_adjusted!$A:$A,$A18,F_Inputs_adjusted!$B:$B,$B18) -> 0 | H18: =SUMIFS(F_Inputs_adjusted!T:T,F_Inputs_adjusted!$A:$A,$A18,F_Inputs_adjusted!$B:$B,$B18) -> 0 | I18: =SUMIFS(F_Inputs_adjusted!U:U,F_Inputs_adjusted!$A:$A,$A18,F_Inputs_adjusted!$B:$B,$B18) -> 0 | J18: =SUMIFS(F_Inputs_adjusted!V:V,F_Inputs_adjusted!$A:$A,$A18,F_Inputs_adjusted!$B:$B,$B18) -> 0 | K18: =SUMIFS(F_Inputs_adjusted!W:W,F_Inputs_adjusted!$A:$A,$A18,F_Inputs_adjusted!$B:$B,$B18) -> 0 | L18: =SUMIFS(F_Inputs_adjusted!X:X,F_Inputs_adjusted!$A:$A,$A18,F_Inputs_adjusted!$B:$B,$B18) -> 0 | M18: =SUM(Table1[[#This Row],[2023-24]:[2029-30]]) -> 0
... A127: =F_Inputs!A128 -> YKY | B127: =F_Inputs!B128 -> BIO5_007_PR24 | C127: =F_Inputs!C128 -> Bioresources data - Total number of sludge treatment schemes providing sludge thickening and dewatering | D127: =F_Inputs_adjusted!D128 -> nr | E127: Price Review 2035 | F127: =SUMIFS(F_Inputs_adjusted!R:R,F_Inputs_adjusted!$A:$A,$A127,F_Inputs_adjusted!$B:$B,$B127) -> 0 | G127: =SUMIFS(F_Inputs_adjusted!S:S,F_Inputs_adjusted!$A:$A,$A127,F_Inputs_adjusted!$B:$B,$B127) -> 0 | H127: =SUMIFS(F_Inputs_adjusted!T:T,F_Inputs_adjusted!$A:$A,$A127,F_Inputs_adjusted!$B:$B,$B127) -> 0 | I127: =SUMIFS(F_Inputs_adjusted!U:U,F_Inputs_adjusted!$A:$A,$A127,F_Inputs_adjusted!$B:$B,$B127) -> 3 | J127: =SUMIFS(F_Inputs_adjusted!V:V,F_Inputs_adjusted!$A:$A,$A127,F_Inputs_adjusted!$B:$B,$B127) -> 0 | K127: =SUMIFS(F_Inputs_adjusted!W:W,F_Inputs_adjusted!$A:$A,$A127,F_Inputs_adjusted!$B:$B,$B127) -> 0 | L127: =SUMIFS(F_Inputs_adjusted!X:X,F_Inputs_adjusted!$A:$A,$A127,F_Inputs_adjusted!$B:$B,$B127) -> 0 | M127: =SUM(Table1[[#This Row],[2023-24]:[2029-30]]) -> 3

Sheet Input Override
A1: =RIGHT(CELL("filename", $A$1), LEN(CELL("filename", $A$1)) - SEARCH("]", CELL("filename", $A$1))) -> #VALUE!
A6: ='Consolidated Input'!A6 -> Acronym | B6: ='Consolidated Input'!B6 -> BON code | D6: ='Consolidated Input'!D6 -> Unit | E6: ='Consolidated Input'!E6 -> Model | F6: ='Consolidated Input'!F6 -> 2023-24 | G6: ='Consolidated Input'!G6 -> 2024-25 | H6: ='Consolidated Input'!H6 -> 2025-26 | I6: ='Consolidated Input'!I6 -> 2026-27 | J6: ='Consolidated Input'!J6 -> 2027-28 | K6: ='Consolidated Input'!K6 -> 2028-29 | L6: ='Consolidated Input'!L6 -> 2029-30 | M6: Comment
A7: ='Consolidated Input'!A7 -> ANH | B7: ='Consolidated Input'!B7 -> CWW12_143TOT_PR24 | C7: ='Consolidated Input'!C7 -> EA/NRW environmental programme bioresources (WINEP/NEP) - Sludge treatment - Thickening and/or dewatering; (WINEP/NEP) capex - Total | D7: ='Consolidated Input'!D7 -> £m | E7: ='Consolidated Input'!E7 -> Price Review 2022
A8: ='Consolidated Input'!A8 -> ANH | B8: ='Consolidated Input'!B8 -> CWW12_144TOT_PR24 | C8: ='Consolidated Input'!C8 -> EA/NRW environmental programme bioresources (WINEP/NEP) - Sludge treatment -Thickening and/or dewatering; (WINEP/NEP) opex - Total | D8: ='Consolidated Input'!D8 -> £m | E8: ='Consolidated Input'!E8 -> Price Review 2023
A9: ='Consolidated Input'!A9 -> ANH | B9: ='Consolidated Input'!B9 -> CWW12_145TOT_PR24 | C9: ='Consolidated Input'!C9 -> EA/NRW environmental programme bioresources (WINEP/NEP) - Sludge treatment - Thickening and/or dewatering; (WINEP/NEP) totex - Total | D9: ='Consolidated Input'!D9 -> £m | E9: ='Consolidated Input'!E9 -> Price Review 2024
A10: ='Consolidated Input'!A10 -> ANH | B10: ='Consolidated Input'!B10 -> CWW17_143TOT_PR24 | C10: ='Consolidated Input'!C10 -> EA/NRW environmental programme bioresources (WINEP/NEP) - Sludge treatment - Thickening and/or dewatering; (WINEP/NEP) capex - Total | D10: ='Consolidated Input'!D10 -> £m | E10: ='Consolidated Input'!E10 -> Price Review 2024
A11: ='Consolidated Input'!A11 -> ANH | B11: ='Consolidated Input'!B11 -> CWW17_144TOT_PR24 | C11: ='Consolidated Input'!C11 -> EA/NRW environmental programme bioresources (WINEP/NEP) - Sludge treatment -Thickening and/or dewatering; (WINEP/NEP) opex - Total | D11: ='Consolidated Input'!D11 -> £m | E11: ='Consolidated Input'!E11 -> Price Review 2024
A12: ='Consolidated Input'!A12 -> ANH | B12: ='Consolidated Input'!B12 -> CWW17_145TOT_PR24 | C12: ='Consolidated Input'!C12 -> EA/NRW environmental programme bioresources (WINEP/NEP) - Sludge treatment - Thickening and/or dewatering; (WINEP/NEP) totex - Total | D12: ='Consolidated Input'!D12 -> £m | E12: ='Consolidated Input'!E12 -> Price Review 2024
A13: ='Consolidated Input'!A13 -> ANH | B13: ='Consolidated Input'!B13 -> CWW3_143TOT_PR24 | C13: ='Consolidated Input'!C13 -> EA/NRW environmental programme bioresources (WINEP/NEP) - Sludge treatment - Thickening and/or dewatering; (WINEP/NEP) capex - Total | D13: ='Consolidated Input'!D13 -> £m | E13: ='Consolidated Input'!E13 -> Price Review 2024
A14: ='Consolidated Input'!A14 -> ANH | B14: ='Consolidated Input'!B14 -> CWW3_144TOT_PR24 | C14: ='Consolidated Input'!C14 -> EA/NRW environmental programme bioresources (WINEP/NEP) - Sludge treatment -Thickening and/or dewatering; (WINEP/NEP) opex - Total | D14: ='Consolidated Input'!D14 -> £m | E14: ='Consolidated Input'!E14 -> Price Review 2024
A15: ='Consolidated Input'!A15 -> ANH | B15: ='Consolidated Input'!B15 -> CWW3_145TOT_PR24 | C15: ='Consolidated Input'!C15 -> EA/NRW environmental programme bioresources (WINEP/NEP) - Sludge treatment - Thickening and/or dewatering; (WINEP/NEP) totex - Total | D15: ='Consolidated Input'!D15 -> £m | E15: ='Consolidated Input'!E15 -> Price Review 2024
A16: ='Consolidated Input'!A16 -> ANH | B16: ='Consolidated Input'!B16 -> BIO5_002_PR24 | C16: ='Consolidated Input'!C16 -> Bioresources data - Tonnes of dry solids undertaking thickening/dewatering | D16: ='Consolidated Input'!D16 -> ttds/yr | E16: ='Consolidated Input'!E16 -> Price Review 2024
A17: ='Consolidated Input'!A17 -> ANH | B17: ='Consolidated Input'!B17 -> BIO5_007_PR24 | C17: ='Consolidated Input'!C17 -> Bioresources data - Total number of sludge treatment schemes providing sludge thickening and dewatering | D17: ='Consolidated Input'!D17 -> nr | E17: ='Consolidated Input'!E17 -> Price Review 2024
A18: ='Consolidated Input'!A18 -> WSH | B18: ='Consolidated Input'!B18 -> CWW12_143TOT_PR24 | C18: ='Consolidated Input'!C18 -> EA/NRW environmental programme bioresources (WINEP/NEP) - Sludge treatment - Thickening and/or dewatering; (WINEP/NEP) capex - Total | D18: ='Consolidated Input'!D18 -> £m | E18: ='Consolidated Input'!E18 -> Price Review 2024
... A52: ='Consolidated Input'!A52 -> SVE | B52: ='Consolidated Input'!B52 -> CWW12_144TOT_PR24 | C52: ='Consolidated Input'!C52 -> EA/NRW environmental programme bioresources (WINEP/NEP) - Sludge treatment -Thickening and/or dewatering; (WINEP/NEP) opex - Total | D52: ='Consolidated Input'!D52 -> £m | E52: ='Consolidated Input'!E52 -> Price Review 2024
A53: ='Consolidated Input'!A53 -> SVE | B53: ='Consolidated Input'!B53 -> CWW12_145TOT_PR24 | C53: ='Consolidated Input'!C53 -> EA/NRW environmental programme bioresources (WINEP/NEP) - Sludge treatment - Thickening and/or dewatering; (WINEP/NEP) totex - Total | D53: ='Consolidated Input'!D53 -> £m | E53: ='Consolidated Input'!E53 -> Price Review 2024 | G53: =F_Inputs!J60-7.409 -> 4.4998816 | M53: Query 026, SVE confirm that of the £11.9m, £7.409m is incorrectly allocated
A54: ='Consolidated Input'!A54 -> SVE | B54: ='Consolidated Input'!B54 -> CWW17_143TOT_PR24 | C54: ='Consolidated Input'!C54 -> EA/NRW environmental programme bioresources (WINEP/NEP) - Sludge treatment - Thickening and/or dewatering; (WINEP/NEP) capex - Total | D54: ='Consolidated Input'!D54 -> £m | E54: ='Consolidated Input'!E54 -> Price Review 2024
A55: ='Consolidated Input'!A55 -> SVE | B55: ='Consolidated Input'!B55 -> CWW17_144TOT_PR24 | C55: ='Consolidated Input'!C55 -> EA/NRW environmental programme bioresources (WINEP/NEP) - Sludge treatment -Thickening and/or dewatering; (WINEP/NEP) opex - Total | D55: ='Consolidated Input'!D55 -> £m | E55: ='Consolidated Input'!E55 -> Price Review 2024
A56: ='Consolidated Input'!A56 -> SVE | B56: ='Consolidated Input'!B56 -> CWW17_145TOT_PR24 | C56: ='Consolidated Input'!C56 -> EA/NRW environmental programme bioresources (WINEP/NEP) - Sludge treatment - Thickening and/or dewatering; (WINEP/NEP) totex - Total | D56: ='Consolidated Input'!D56 -> £m | E56: ='Consolidated Input'!E56 -> Price Review 2024
A57: ='Consolidated Input'!A57 -> SVE | B57: ='Consolidated Input'!B57 -> CWW3_143TOT_PR24 | C57: ='Consolidated Input'!C57 -> EA/NRW environmental programme bioresources (WINEP/NEP) - Sludge treatment - Thickening and/or dewatering; (WINEP/NEP) capex - Total | D57: ='Consolidated Input'!D57 -> £m | E57: ='Consolidated Input'!E57 -> Price Review 2024
A58: ='Consolidated Input'!A58 -> SVE | B58: ='Consolidated Input'!B58 -> CWW3_144TOT_PR24 | C58: ='Consolidated Input'!C58 -> EA/NRW environmental programme bioresources (WINEP/NEP) - Sludge treatment -Thickening and/or dewatering; (WINEP/NEP) opex - Total | D58: ='Consolidated Input'!D58 -> £m | E58: ='Consolidated Input'!E58 -> Price Review 2024
A59: ='Consolidated Input'!A59 -> SVE | B59: ='Consolidated Input'!B59 -> CWW3_145TOT_PR24 | C59: ='Consolidated Input'!C59 -> EA/NRW environmental programme bioresources (WINEP/NEP) - Sludge treatment - Thickening and/or dewatering; (WINEP/NEP) totex - Total | D59: ='Consolidated Input'!D59 -> £m | E59: ='Consolidated Input'!E59 -> Price Review 2024
A60: ='Consolidated Input'!A60 -> SVE | B60: ='Consolidated Input'!B60 -> BIO5_002_PR24 | C60: ='Consolidated Input'!C60 -> Bioresources data - Tonnes of dry solids undertaking thickening/dewatering | D60: ='Consolidated Input'!D60 -> ttds/yr | E60: ='Consolidated Input'!E60 -> Price Review 2024
A61: ='Consolidated Input'!A61 -> SVE | B61: ='Consolidated Input'!B61 -> BIO5_007_PR24 | C61: ='Consolidated Input'!C61 -> Bioresources data - Total number of sludge treatment schemes providing sludge thickening and dewatering | D61: ='Consolidated Input'!D61 -> nr | E61: ='Consolidated Input'!E61 -> Price Review 2024
A62: ='Consolidated Input'!A62 -> SWB | B62: ='Consolidated Input'!B62 -> CWW12_143TOT_PR24 | C62: ='Consolidated Input'!C62 -> EA/NRW environmental programme bioresources (WINEP/NEP) - Sludge treatment - Thickening and/or dewatering; (WINEP/NEP) capex - Total | D62: ='Consolidated Input'!D62 -> £m | E62: ='Consolidated Input'!E62 -> Price Review 2024
A63: ='Consolidated Input'!A63 -> SWB | B63: ='Consolidated Input'!B63 -> CWW12_144TOT_PR24 | C63: ='Consolidated Input'!C63 -> EA/NRW environmental programme bioresources (WINEP/NEP) - Sludge treatment -Thickening and/or dewatering; (WINEP/NEP) opex - Total | D63: ='Consolidated Input'!D63 -> £m | E63: ='Consolidated Input'!E63 -> Price Review 2024
A64: ='Consolidated Input'!A64 -> SWB | B64: ='Consolidated Input'!B64 -> CWW12_145TOT_PR24 | C64: ='Consolidated Input'!C64 -> EA/NRW environmental programme bioresources (WINEP/NEP) - Sludge treatment - Thickening and/or dewatering; (WINEP/NEP) totex - Total | D64: ='Consolidated Input'!D64 -> £m | E64: ='Consolidated Input'!E64 -> Price Review 2024
A65: ='Consolidated Input'!A65 -> SWB | B65: ='Consolidated Input'!B65 -> CWW17_143TOT_PR24 | C65: ='Consolidated Input'!C65 -> EA/NRW environmental programme bioresources (WINEP/NEP) - Sludge treatment - Thickening and/or dewatering; (WINEP/NEP) capex - Total | D65: ='Consolidated Input'!D65 -> £m | E65: ='Consolidated Input'!E65 -> Price Review 2024
... A68: ='Consolidated Input'!A68 -> SWB | B68: ='Consolidated Input'!B68 -> CWW3_143TOT_PR24 | C68: ='Consolidated Input'!C68 -> EA/NRW environmental programme bioresources (WINEP/NEP) - Sludge treatment - Thickening and/or dewatering; (WINEP/NEP) capex - Total | D68: ='Consolidated Input'!D68 -> £m | E68: ='Consolidated Input'!E68 -> Price Review 2024
A69: ='Consolidated Input'!A69 -> SWB | B69: ='Consolidated Input'!B69 -> CWW3_144TOT_PR24 | C69: ='Consolidated Input'!C69 -> EA/NRW environmental programme bioresources (WINEP/NEP) - Sludge treatment -Thickening and/or dewatering; (WINEP/NEP) opex - Total | D69: ='Consolidated Input'!D69 -> £m | E69: ='Consolidated Input'!E69 -> Price Review 2024 | I69: 0.519 | J69: 1.005 | K69: 1.73 | L69: 2.608 | M69: Reduction in Opex from 10.77m to 5.862m as per query OFW-REP-SBB-078
A70: ='Consolidated Input'!A70 -> SWB | B70: ='Consolidated Input'!B70 -> CWW3_145TOT_PR24 | C70: ='Consolidated Input'!C70 -> EA/NRW environmental programme bioresources (WINEP/NEP) - Sludge treatment - Thickening and/or dewatering; (WINEP/NEP) totex - Total | D70: ='Consolidated Input'!D70 -> £m | E70: ='Consolidated Input'!E70 -> Price Review 2024 | I70: =I69+'Consolidated Input'!I68 -> 6.849 | J70: =J69+'Consolidated Input'!J68 -> 8.601 | K70: =K69+'Consolidated Input'!K68 -> 8.06 | L70: =L69+'Consolidated Input'!L68 -> 5.138
A71: ='Consolidated Input'!A71 -> SWB | B71: ='Consolidated Input'!B71 -> BIO5_002_PR24 | C71: ='Consolidated Input'!C71 -> Bioresources data - Tonnes of dry solids undertaking thickening/dewatering | D71: ='Consolidated Input'!D71 -> ttds/yr | E71: ='Consolidated Input'!E71 -> Price Review 2024
A72: ='Consolidated Input'!A72 -> SWB | B72: ='Consolidated Input'!B72 -> BIO5_007_PR24 | C72: ='Consolidated Input'!C72 -> Bioresources data - Total number of sludge treatment schemes providing sludge thickening and dewatering | D72: ='Consolidated Input'!D72 -> nr | E72: ='Consolidated Input'!E72 -> Price Review 2024
A73: ='Consolidated Input'!A73 -> SRN | B73: ='Consolidated Input'!B73 -> CWW12_143TOT_PR24 | C73: ='Consolidated Input'!C73 -> EA/NRW environmental programme bioresources (WINEP/NEP) - Sludge treatment - Thickening and/or dewatering; (WINEP/NEP) capex - Total | D73: ='Consolidated Input'!D73 -> £m | E73: ='Consolidated Input'!E73 -> Price Review 2024
A74: ='Consolidated Input'!A74 -> SRN | B74: ='Consolidated Input'!B74 -> CWW12_144TOT_PR24 | C74: ='Consolidated Input'!C74 -> EA/NRW environmental programme bioresources (WINEP/NEP) - Sludge treatment -Thickening and/or dewatering; (WINEP/NEP) opex - Total | D74: ='Consolidated Input'!D74 -> £m | E74: ='Consolidated Input'!E74 -> Price Review 2024
A75: ='Consolidated Input'!A75 -> SRN | B75: ='Consolidated Input'!B75 -> CWW12_145TOT_PR24 | C75: ='Consolidated Input'!C75 -> EA/NRW environmental programme bioresources (WINEP/NEP) - Sludge treatment - Thickening and/or dewatering; (WINEP/NEP) totex - Total | D75: ='Consolidated Input'!D75 -> £m | E75: ='Consolidated Input'!E75 -> Price Review 2024
A76: ='Consolidated Input'!A76 -> SRN | B76: ='Consolidated Input'!B76 -> CWW17_143TOT_PR24 | C76: ='Consolidated Input'!C76 -> EA/NRW environmental programme bioresources (WINEP/NEP) - Sludge treatment - Thickening and/or dewatering; (WINEP/NEP) capex - Total | D76: ='Consolidated Input'!D76 -> £m | E76: ='Consolidated Input'!E76 -> Price Review 2024
A77: ='Consolidated Input'!A77 -> SRN | B77: ='Consolidated Input'!B77 -> CWW17_144TOT_PR24 | C77: ='Consolidated Input'!C77 -> EA/NRW environmental programme bioresources (WINEP/NEP) - Sludge treatment -Thickening and/or dewatering; (WINEP/NEP) opex - Total | D77: ='Consolidated Input'!D77 -> £m | E77: ='Consolidated Input'!E77 -> Price Review 2024
A78: ='Consolidated Input'!A78 -> SRN | B78: ='Consolidated Input'!B78 -> CWW17_145TOT_PR24 | C78: ='Consolidated Input'!C78 -> EA/NRW environmental programme bioresources (WINEP/NEP) - Sludge treatment - Thickening and/or dewatering; (WINEP/NEP) totex - Total | D78: ='Consolidated Input'!D78 -> £m | E78: ='Consolidated Input'!E78 -> Price Review 2024
A79: ='Consolidated Input'!A79 -> SRN | B79: ='Consolidated Input'!B79 -> CWW3_143TOT_PR24 | C79: ='Consolidated Input'!C79 -> EA/NRW environmental programme bioresources (WINEP/NEP) - Sludge treatment - Thickening and/or dewatering; (WINEP/NEP) capex - Total | D79: ='Consolidated Input'!D79 -> £m | E79: ='Consolidated Input'!E79 -> Price Review 2024
...

Sheet Final Input
A1: =RIGHT(CELL("filename", $A$1), LEN(CELL("filename", $A$1)) - SEARCH("]", CELL("filename", $A$1))) -> #VALUE!
A6: Acronym | B6: BON code | C6: Column1 | D6: Unit | E6: Model | F6: 2023-24 | G6: 2024-25 | H6: 2025-26 | I6: 2026-27 | J6: 2027-28 | K6: 2028-29 | L6: 2029-30 | M6: Total
A7: ='Input Override'!A7 -> ANH | B7: ='Input Override'!B7 -> CWW12_143TOT_PR24 | C7: ='Input Override'!C7 -> EA/NRW environmental programme bioresources (WINEP/NEP) - Sludge treatment - Thickening and/or dewatering; (WINEP/NEP) capex - Total | D7: ='Input Override'!D7 -> £m | E7: ='Input Override'!E7 -> Price Review 2022 | F7: =IF('Input Override'!F7="",'Consolidated Input'!F7,('Input Override'!F7)) -> 0 | G7: =IF('Input Override'!G7="",'Consolidated Input'!G7,('Input Override'!G7)) -> 0 | H7: =IF('Input Override'!H7="",'Consolidated Input'!H7,('Input Override'!H7)) -> 0 | I7: =IF('Input Override'!I7="",'Consolidated Input'!I7,('Input Override'!I7)) -> 0 | J7: =IF('Input Override'!J7="",'Consolidated Input'!J7,('Input Override'!J7)) -> 0 | K7: =IF('Input Override'!K7="",'Consolidated Input'!K7,('Input Override'!K7)) -> 0 | L7: =IF('Input Override'!L7="",'Consolidated Input'!L7,('Input Override'!L7)) -> 0 | M7: =SUM(F7:L7) -> 0
