Workbook
Name \0: #REF!
Name \0: #REF!
Name \0: #REF!
Name \0: #REF!
Name \0: #REF!
Name \A: #REF!
Name \A: #REF!
Name \A: #REF!
Name \A: #REF!
Name \A: #REF!
Name \C: #REF!
Name \C: #REF!
Name \P: #REF!
Name \Q: #REF!
Name \V: #REF!
Name \X: #REF!
Name \Z: #REF!
Name ___INDEX_SHEET___ASAP_Utilities: #REF!
Name _1___Data_table_for_graph___Leakage___AR4__AR3__AR2__AR1_and_Ofwat_leakage_targets: #REF!
Name _1__Data_table_for_graph___meter_penetration___AR4__AR3__AR2__and_AR1: #REF!
Name _1__Graph___meter_penetration___AR4__AR3__AR2__and_AR1: #REF!
Name _1_8_4_Step2: #REF!
Name _1st_model_column_flag: #REF!
Name _1st_model_column_flag: #REF!
Name _1st_model_column_flag: #REF!
Name _2__Graph___Leakage_AR4__AR3__AR2__AR1_and_Ofwat_leakage_targets: #REF!
Name _2__Graph___meter_penetration___AR4__AR3__AR2__and_AR1: #REF!
Name _2020_25_RCV___nominal.ADDN1: #REF!
Name _2020_25_RCV___nominal.ADDN1: #REF!
Name _2020_25_RCV___nominal.ADDN1: #REF!
Name _2020_25_RCV___nominal.ADDN1.BEG: #REF!
Name _2020_25_RCV___nominal.ADDN1.BEG: #REF!
Name _2020_25_RCV___nominal.ADDN1.BEG: #REF!
Name _2020_25_RCV___nominal.ADDN2: #REF!
Name _2020_25_RCV___nominal.ADDN2: #REF!
Name _2020_25_RCV___nominal.ADDN2: #REF!
Name _2020_25_RCV___nominal.ADDN2.BEG: #REF!
Name _2020_25_RCV___nominal.ADDN2.BEG: #REF!
Name _2020_25_RCV___nominal.ADDN2.BEG: #REF!
Name _2020_25_RCV___nominal.BR: #REF!
Name _2020_25_RCV___nominal.BR: #REF!
Name _2020_25_RCV___nominal.BR: #REF!
Name _2020_25_RCV___nominal.BR.BEG: #REF!
Name _2020_25_RCV___nominal.BR.BEG: #REF!
Name _2020_25_RCV___nominal.BR.BEG: #REF!
Name _2020_25_RCV___nominal.WN: #REF!
Name _2020_25_RCV___nominal.WN: #REF!
Name _2020_25_RCV___nominal.WN: #REF!
Name _2020_25_RCV___nominal.WN.BEG: #REF!
Name _2020_25_RCV___nominal.WN.BEG: #REF!
Name _2020_25_RCV___nominal.WN.BEG: #REF!
Name _2020_25_RCV___nominal.WR: #REF!
Name _2020_25_RCV___nominal.WR: #REF!
Name _2020_25_RCV___nominal.WR: #REF!
Name _2020_25_RCV___nominal.WR.BEG: #REF!
Name _2020_25_RCV___nominal.WR.BEG: #REF!
Name _2020_25_RCV___nominal.WR.BEG: #REF!
Name _2020_25_RCV___nominal.WWN: #REF!
Name _2020_25_RCV___nominal.WWN: #REF!
Name _2020_25_RCV___nominal.WWN: #REF!

Sheet Cover
A1: =RIGHT(CELL("filename", $A$1), LEN(CELL("filename", $A$1)) - SEARCH("]", CELL("filename", $A$1))) -> Cover
B3: PR24 Performance Commitment Model
B5: Performance commitment | C5: Biodiversity
B6: Version number: | C6: 3
B7: File name: | C7: =MID(CELL("filename"), FIND("[", CELL("filename"), 1) + 1, FIND("]", CELL("filename"), 1) - FIND("[", CELL("filename"), 1) - 1) -> Republish 20250721 PR24-FD-CA13-Biodiversity-v3.xlsx
B8: Date: | C8: 45853
B10: For enquiries please contact: | C10: PR24@Ofwat.gov.uk
B12: Instructions: | C12: A separate model 'User guide' has been created to help the user in operating the model.

Sheet Overview
B2: Biodiversity
B10: Approach to setting PCL
B11: PCL Type | C11: Common level
B12: Baseline | C12: The 2024-25 baseline position is set at zero to reflect majority of company forecasts.
B13: Performance from base | C13: Maintain biodiversity from base expenditure
B14: Performance from enhancement | C14: 2025-30 set at the sector forecasted median level at 0.73 based on company forecasts. We have profiled performance towards the end of the 2029-30 period to allow time for surveying and to reflect the profile of median industry performance.
B16: END

Sheet Conceptual_Model

Sheet F_Inputs
C1: BIO_OFWAT_DD | E1: Run on 02 Jul 2024 11:17
A2: Acronym | B2: Reference | C2: Item description | D2: Unit | E2: Model | F2: 2011-12 | G2: 2012-13 | H2: 2013-14 | I2: 2014-15 | J2: 2015-16 | K2: 2016-17 | L2: 2017-18 | M2: 2018-19 | N2: 2019-20 | O2: 2020-21 | P2: 2021-22 | Q2: 2022-23 | R2: 2023-24 | S2: 2024-25 | T2: 2025-26 | U2: 2026-27 | V2: 2027-28 | W2: 2028-29 | X2: 2029-30 | Y2: 2030-31 | Z2: 2031-32 | AA2: 2032-33 | AB2: 2033-34 | AC2: 2034-35
A4: Company Acronym | B4: Item Code | C4: Item Description | D4: Item Unit | E4: Item Table Suite | F4: 2011-12 | G4: 2012-13 | H4: 2013-14 | I4: 2014-15 | J4: 2015-16 | K4: 2016-17 | L4: 2017-18 | M4: 2018-19 | N4: 2019-20 | O4: 2020-21 | P4: 2021-22 | Q4: 2022-23 | R4: 2023-24 | S4: 2024-25 | T4: 2025-26 | U4: 2026-27 | V4: 2027-28 | W4: 2028-29 | X4: 2029-30 | Y4: 2030-31 | Z4: 2031-32 | AA4: 2032-33 | AB4: 2033-34 | AC4: 2034-35
A5: Company Acronym | B5: Item Code | C5: Item Description | D5: Item Unit | E5: Item Table Suite | F5: Price Review 2024 | G5: Price Review 2024 | H5: Price Review 2024 | I5: Price Review 2024 | J5: Price Review 2024 | K5: Price Review 2024 | L5: Price Review 2024 | M5: Price Review 2024 | N5: Price Review 2024 | O5: Price Review 2024 | P5: Price Review 2024 | Q5: Price Review 2024 | R5: Price Review 2024 | S5: Price Review 2024 | T5: Price Review 2024 | U5: Price Review 2024 | V5: Price Review 2024 | W5: Price Review 2024 | X5: Price Review 2024 | Y5: Price Review 2024 | Z5: Price Review 2024 | AA5: Price Review 2024 | AB5: Price Review 2024 | AC5: Price Review 2024
A6: Company Acronym | B6: Item Code | C6: Item Description | D6: Item Unit | E6: Item Table Suite | F6: Run 11 - PR24 FD Data | G6: Run 11 - PR24 FD Data | H6: Run 11 - PR24 FD Data | I6: Run 11 - PR24 FD Data | J6: Run 11 - PR24 FD Data | K6: Run 11 - PR24 FD Data | L6: Run 11 - PR24 FD Data | M6: Run 11 - PR24 FD Data | N6: Run 11 - PR24 FD Data | O6: Run 11 - PR24 FD Data | P6: Run 11 - PR24 FD Data | Q6: Run 11 - PR24 FD Data | R6: Run 11 - PR24 FD Data | S6: Run 11 - PR24 FD Data | T6: Run 11 - PR24 FD Data | U6: Run 11 - PR24 FD Data | V6: Run 11 - PR24 FD Data | W6: Run 11 - PR24 FD Data | X6: Run 11 - PR24 FD Data | Y6: Run 11 - PR24 FD Data | Z6: Run 11 - PR24 FD Data | AA6: Run 11 - PR24 FD Data | AB6: Run 11 - PR24 FD Data | AC6: Run 11 - PR24 FD Data
A7: Company Acronym | B7: Item Code | C7: Item Description | D7: Item Unit | E7: Item Table Suite | F7: Latest | G7: Latest | H7: Latest | I7: Latest | J7: Latest | K7: Latest | L7: Latest | M7: Latest | N7: Latest | O7: Latest | P7: Latest | Q7: Latest | R7: Latest | S7: Latest | T7: Latest | U7: Latest | V7: Latest | W7: Latest | X7: Latest | Y7: Latest | Z7: Latest | AA7: Latest | AB7: Latest | AC7: Latest
A8: ANH | B8: OUT4_20_PR24 | C8: Underlying calculations for common performance commitments - water and combined - Biodiversity - Total biodiversity units for area of land served (per 100km2) | D8: Number | E8: Price Review 2024 | Q8: 0 | R8: 0 | S8: 0 | T8: 0 | U8: 0 | V8: 0.080861333 | W8: 0.080861333 | X8: 0.080861333 | Y8: 0.095887999 | Z8: 0.23338029 | AA8: 0.23338029 | AB8: 0.23338029 | AC8: 0.23338029 | AD8: =A8&B8 -> ANHOUT4_20_PR24
A9: ANH | B9: OUT2_06_PR24 | C9: Outcome performance from base expenditure - Common PCs - Biodiversity | D9: Number | E9: Price Review 2024 | T9: 0 | U9: 0 | V9: 0.080861333 | W9: 0.080861333 | X9: 0.080861333 | Y9: 0.095887999 | Z9: 0.23338029 | AA9: 0.23338029 | AB9: 0.23338029 | AC9: 0.23338029 | AD9: =A9&B9 -> ANHOUT2_06_PR24
A10: ANH | B10: OUT3_06_01_PR24 | C10: Outcome performance from enhancement expenditure - Common PCs - Biodiversity - Variance between the overall performance (OUT1) and the performance trend delivered | D10: Number | E10: Price Review 2024 | Q10: 0 | R10: 0 | S10: 0 | T10: 0 | U10: 0 | V10: 0 | W10: 0 | X10: 0 | Y10: 0 | Z10: 0 | AA10: 0 | AB10: 0 | AC10: 0 | AD10: =A10&B10 -> ANHOUT3_06_01_PR24
A11: ANH | B11: OUT4_20_D_PR24 | C11: Underlying calculations for common performance commitments - water and combined - Biodiversity - Water supply area | D11: km2 | E11: Price Review 2024 | F11: 0 | G11: 0 | H11: 0 | I11: 0 | J11: 0 | K11: 0 | L11: 0 | M11: 0 | N11: 0 | O11: 0 | P11: 0 | Q11: 26935 | R11: 26935 | S11: 26935 | T11: 26935 | U11: 26935 | V11: 26935 | W11: 26935 | X11: 26935 | Y11: 22714 | Z11: 22714 | AA11: 22714 | AB11: 22714 | AC11: 22714 | AD11: =A11&B11 -> ANHOUT4_20_D_PR24
A12: WSH | B12: OUT4_20_PR24 | C12: Underlying calculations for common performance commitments - water and combined - Biodiversity - Total biodiversity units for area of land served (per 100km2) | D12: Number | E12: Price Review 2024 | F12: 0 | G12: 0 | H12: 0 | I12: 0 | J12: 0 | K12: 0 | L12: 0 | M12: 0 | N12: 0 | O12: 0 | P12: 0 | Q12: 0 | R12: 0 | S12: 0 | T12: 0 | U12: 0 | V12: 0 | W12: 0 | X12: 0.72747605 | Y12: 0.72747694 | Z12: 0.72747783 | AA12: 0.72747872 | AB12: 1.4549592 | AC12: 1.454961 | AD12: =A12&B12 -> WSHOUT4_20_PR24
A13: WSH | B13: OUT2_06_PR24 | C13: Outcome performance from base expenditure - Common PCs - Biodiversity | D13: Number | E13: Price Review 2024 | Q13: 0 | R13: 0 | S13: 0 | T13: 0 | U13: 0 | V13: 0 | W13: 0 | X13: 0 | Y13: 0 | Z13: 0 | AA13: 0 | AB13: 0 | AC13: 0 | AD13: =A13&B13 -> WSHOUT2_06_PR24
A14: WSH | B14: OUT3_06_01_PR24 | C14: Outcome performance from enhancement expenditure - Common PCs - Biodiversity - Variance between the overall performance (OUT1) and the performance trend delivered | D14: Number | E14: Price Review 2024 | Q14: 0 | R14: 0 | S14: 0 | T14: 0 | U14: 0 | V14: 0 | W14: 0 | X14: 0.72747605 | Y14: 0.72747694 | Z14: 0.72747783 | AA14: 0.72747872 | AB14: 1.4549592 | AC14: 1.454961 | AD14: =A14&B14 -> WSHOUT3_06_01_PR24
A15: WSH | B15: OUT4_20_D_PR24 | C15: Underlying calculations for common performance commitments - water and combined - Biodiversity - Water supply area | D15: km2 | E15: Price Review 2024 | F15: 41237 | G15: 41237 | H15: 41237 | I15: 41237 | J15: 41237 | K15: 41237 | L15: 41236 | M15: 41239 | N15: 41240 | O15: 41240 | P15: 41239 | Q15: 41239 | R15: 41238.774 | S15: 41238.723 | T15: 41238.673 | U15: 41238.622 | V15: 41238.572 | W15: 41238.522 | X15: 41238.471 | Y15: 41238.421 | Z15: 41238.37 | AA15: 41238.32 | AB15: 41238.27 | AC15: 41238.219 | AD15: =A15&B15 -> WSHOUT4_20_D_PR24
A16: HDD | B16: OUT4_20_PR24 | C16: Underlying calculations for common performance commitments - water and combined - Biodiversity - Total biodiversity units for area of land served (per 100km2) | D16: Number | E16: Price Review 2024 | P16: 0 | Q16: 0 | R16: 0 | S16: 0 | T16: 2.7376306 | U16: 2.7376306 | V16: 2.7376306 | W16: 2.7376306 | X16: 2.7376306 | Y16: 13.022541 | Z16: 20.899295 | AA16: 28.539408 | AB16: 43.346354 | AC16: 53.352874 | AD16: =A16&B16 -> HDDOUT4_20_PR24
A17: HDD | B17: OUT2_06_PR24 | C17: Outcome performance from base expenditure - Common PCs - Biodiversity | D17: Number | E17: Price Review 2024 | Q17: 0 | R17: 0 | S17: 0 | T17: -0.002369429 | U17: -0.002369429 | V17: -0.002369429 | W17: -0.002369429 | X17: -0.002369429 | Y17: 0.0025411099 | Z17: -0.00070493618 | AA17: -0.00059165899 | AB17: -0.0036464581 | AC17: 0.0028735864 | AD17: =A17&B17 -> HDDOUT2_06_PR24
A18: HDD | B18: OUT3_06_01_PR24 | C18: Outcome performance from enhancement expenditure - Common PCs - Biodiversity - Variance between the overall performance (OUT1) and the performance trend delivered | D18: Number | E18: Price Review 2024 | Q18: 0 | R18: 0 | S18: 0 | T18: 2.74 | U18: 2.74 | V18: 2.74 | W18: 2.74 | X18: 2.74 | Y18: 13.02 | Z18: 20.9 | AA18: 28.54 | AB18: 43.35 | AC18: 53.35 | AD18: =A18&B18 -> HDDOUT3_06_01_PR24
A19: HDD | B19: OUT4_20_D_PR24 | C19: Underlying calculations for common performance commitments - water and combined - Biodiversity - Water supply area | D19: km2 | E19: Price Review 2024 | F19: 0 | G19: 0 | H19: 0 | I19: 0 | J19: 0 | K19: 0 | L19: 0 | M19: 0 | N19: 0 | O19: 0 | P19: 2871 | Q19: 2871 | R19: 2871 | S19: 2871 | T19: 2872 | U19: 2872 | V19: 2872 | W19: 2872 | X19: 2872 | Y19: 2872 | Z19: 2872 | AA19: 2872 | AB19: 2872 | AC19: 2872 | AD19: =A19&B19 -> HDDOUT4_20_D_PR24
A20: NES | B20: OUT4_20_PR24 | C20: Underlying calculations for common performance commitments - water and combined - Biodiversity - Total biodiversity units for area of land served (per 100km2) | D20: Number | E20: Price Review 2024 | F20: 0 | G20: 0 | H20: 0 | I20: 0 | J20: 0 | K20: 0 | L20: 0 | M20: 0 | N20: 0 | O20: 0 | P20: 0 | Q20: 0 | R20: 0 | S20: 0 | T20: 0 | U20: 0 | V20: 0 | W20: 0.076173065 | X20: 0.2285192 | Y20: 0.2285192 | Z20: 0.2285192 | AA20: 0.29707495 | AB20: 0.87065814 | AC20: 0.87065814 | AD20: =A20&B20 -> NESOUT4_20_PR24
A21: NES | B21: OUT2_06_PR24 | C21: Outcome performance from base expenditure - Common PCs - Biodiversity | D21: Number | E21: Price Review 2024 | R21: 0 | S21: 0 | T21: 0 | U21: 0 | V21: 0 | W21: 0 | X21: 0 | Y21: 0 | Z21: 0 | AA21: 0 | AB21: 0 | AC21: 0 | AD21: =A21&B21 -> NESOUT2_06_PR24
A22: NES | B22: OUT3_06_01_PR24 | C22: Outcome performance from enhancement expenditure - Common PCs - Biodiversity - Variance between the overall performance (OUT1) and the performance trend delivered | D22: Number | E22: Price Review 2024 | Q22: 0 | R22: 0 | S22: 0 | T22: 0 | U22: 0 | V22: 0 | W22: 0.076173065 | X22: 0.2285192 | Y22: 0.2285192 | Z22: 0.2285192 | AA22: 0.29707495 | AB22: 0.87065814 | AC22: 0.87065814 | AD22: =A22&B22 -> NESOUT3_06_01_PR24
A23: NES | B23: OUT4_20_D_PR24 | C23: Underlying calculations for common performance commitments - water and combined - Biodiversity - Water supply area | D23: km2 | E23: Price Review 2024 | F23: 13621 | G23: 13621 | H23: 13621 | I23: 13621 | J23: 13621 | K23: 13621 | L23: 13114 | M23: 13114 | N23: 13122 | O23: 13129 | P23: 13127 | Q23: 13128 | R23: 13128 | S23: 13128 | T23: 13128 | U23: 13128 | V23: 13128 | W23: 13128 | X23: 13128 | Y23: 13128 | Z23: 13128 | AA23: 13128 | AB23: 13128 | AC23: 13128 | AD23: =A23&B23 -> NESOUT4_20_D_PR24
A24: SVE | B24: OUT4_20_PR24 | C24: Underlying calculations for common performance commitments - water and combined - Biodiversity - Total biodiversity units for area of land served (per 100km2) | D24: Number | E24: Price Review 2024 | O24: 0 | P24: 0 | Q24: 0 | R24: 0 | S24: 0 | T24: 0 | U24: 0 | V24: 0 | W24: 0 | X24: 3.593765 | Y24: 3.5921686 | Z24: 3.5905735 | AA24: 3.5889799 | AB24: 3.5873877 | AC24: 3.585797 | AD24: =A24&B24 -> SVEOUT4_20_PR24
A25: SVE | B25: OUT2_06_PR24 | C25: Outcome performance from base expenditure - Common PCs - Biodiversity | D25: Number | E25: Price Review 2024 | O25: 0 | P25: 0 | Q25: 0 | R25: 0 | S25: 0 | T25: 0 | U25: 0 | V25: 0 | W25: 0 | X25: 0 | Y25: 0 | Z25: 0 | AA25: 0 | AB25: 0 | AC25: 0 | AD25: =A25&B25 -> SVEOUT2_06_PR24
A26: SVE | B26: OUT3_06_01_PR24 | C26: Outcome performance from enhancement expenditure - Common PCs - Biodiversity - Variance between the overall performance (OUT1) and the performance trend delivered | D26: Number | E26: Price Review 2024 | Q26: 0 | R26: 0 | S26: 0 | T26: 0 | U26: 0 | V26: 0 | W26: 0 | X26: 3.593765 | Y26: 3.5921686 | Z26: 3.5905735 | AA26: 3.5889799 | AB26: 3.5873877 | AC26: 3.585797 | AD26: =A26&B26 -> SVEOUT3_06_01_PR24
A27: SVE | B27: OUT4_20_D_PR24 | C27: Underlying calculations for common performance commitments - water and combined - Biodiversity - Water supply area | D27: km2 | E27: Price Review 2024 | F27: 0 | G27: 0 | H27: 0 | I27: 0 | J27: 0 | K27: 0 | L27: 0 | M27: 0 | N27: 0 | O27: 20164 | P27: 20167 | Q27: 20180 | R27: 20194 | S27: 20205 | T27: 20215 | U27: 20224 | V27: 20233 | W27: 20242 | X27: 20251 | Y27: 20260 | Z27: 20269 | AA27: 20278 | AB27: 20287 | AC27: 20296 | AD27: =A27&B27 -> SVEOUT4_20_D_PR24
A28: SWB | B28: OUT4_20_PR24 | C28: Underlying calculations for common performance commitments - water and combined - Biodiversity - Total biodiversity units for area of land served (per 100km2) | D28: Number | E28: Price Review 2024 | F28: 0 | G28: 0 | H28: 0 | I28: 0 | J28: 0 | K28: 0 | L28: 0 | M28: 0 | N28: 0 | O28: 0 | P28: 0 | Q28: 0 | R28: 0 | S28: 0 | T28: 0 | U28: 0 | V28: 0 | W28: 0 | X28: 2.4657332 | Y28: 3.0985016 | Z28: 3.5730779 | AA28: 4.2058462 | AB28: 5.3131909 | AC28: 5.8747237 | AD28: =A28&B28 -> SWBOUT4_20_PR24
A29: SWB | B29: OUT2_06_PR24 | C29: Outcome performance from base expenditure - Common PCs - Biodiversity | D29: Number | E29: Price Review 2024 | F29: 0 | G29: 0 | H29: 0 | I29: 0 | J29: 0 | K29: 0 | L29: 0 | M29: 0 | N29: 0 | O29: 0 | P29: 0 | Q29: 0 | R29: 0 | S29: 0 | T29: 0 | U29: 0 | V29: 0 | W29: 0 | X29: 0 | Y29: 0 | Z29: 0 | AA29: 0 | AB29: 0 | AC29: 0 | AD29: =A29&B29 -> SWBOUT2_06_PR24
A30: SWB | B30: OUT3_06_01_PR24 | C30: Outcome performance from enhancement expenditure - Common PCs - Biodiversity - Variance between the overall performance (OUT1) and the performance trend delivered | D30: Number | E30: Price Review 2024 | Q30: 0 | R30: 0 | S30: 0 | T30: 0 | U30: 0 | V30: 0 | W30: 0 | X30: 2.4657332 | Y30: 3.0985016 | Z30: 3.5730779 | AA30: 4.2058462 | AB30: 5.3131909 | AC30: 5.8747237 | AD30: =A30&B30 -> SWBOUT3_06_01_PR24
A31: SWB | B31: OUT4_20_D_PR24 | C31: Underlying calculations for common performance commitments - water and combined - Biodiversity - Water supply area | D31: km2 | E31: Price Review 2024 | F31: 12342 | G31: 12342 | H31: 12342 | I31: 12342 | J31: 12342 | K31: 12342 | L31: 12342 | M31: 12342 | N31: 12342 | O31: 12342 | P31: 12342 | Q31: 12342 | R31: 12213 | S31: 12213 | T31: 12213 | U31: 12213 | V31: 12213 | W31: 12213 | X31: 12213 | Y31: 12213 | Z31: 12213 | AA31: 12213 | AB31: 12213 | AC31: 12213 | AD31: =A31&B31 -> SWBOUT4_20_D_PR24
A32: SRN | B32: OUT4_20_PR24 | C32: Underlying calculations for common performance commitments - water and combined - Biodiversity - Total biodiversity units for area of land served (per 100km2) | D32: Number | E32: Price Review 2024 | F32: 0 | G32: 0 | H32: 0 | I32: 0 | J32: 0 | K32: 0 | L32: 0 | M32: 0 | N32: 0 | O32: 0 | P32: 0 | Q32: 0 | R32: 0 | S32: 0 | T32: 0 | U32: 0 | V32: 0 | W32: 0 | X32: 0 | Y32: 0.31315411 | Z32: 0.62630821 | AA32: 0.93946232 | AB32: 1.2526164 | AC32: 1.5657705 | AD32: =A32&B32 -> SRNOUT4_20_PR24
A33: SRN | B33: OUT2_06_PR24 | C33: Outcome performance from base expenditure - Common PCs - Biodiversity | D33: Number | E33: Price Review 2024 | F33: 0 | G33: 0 | H33: 0 | I33: 0 | J33: 0 | K33: 0 | L33: 0 | M33: 0 | N33: 0 | O33: 0 | P33: 0 | Q33: 0 | R33: 0 | S33: 0 | T33: 0 | U33: 0 | V33: 0 | W33: 0 | X33: 0 | Y33: 0 | Z33: 0 | AA33: 0 | AB33: 0 | AC33: 0 | AD33: =A33&B33 -> SRNOUT2_06_PR24
A34: SRN | B34: OUT3_06_01_PR24 | C34: Outcome performance from enhancement expenditure - Common PCs - Biodiversity - Variance between the overall performance (OUT1) and the performance trend delivered | D34: Number | E34: Price Review 2024 | Q34: 0 | R34: 0 | S34: 0 | T34: 0 | U34: 0 | V34: 0 | W34: 0 | X34: 0 | Y34: 0.31315411 | Z34: 0.62630821 | AA34: 0.93946232 | AB34: 1.2526164 | AC34: 1.5657705 | AD34: =A34&B34 -> SRNOUT3_06_01_PR24
A35: SRN | B35: OUT4_20_D_PR24 | C35: Underlying calculations for common performance commitments - water and combined - Biodiversity - Water supply area | D35: km2 | E35: Price Review 2024 | F35: 10410.21 | G35: 10410.21 | H35: 10410.21 | I35: 10410.21 | J35: 10410.21 | K35: 10410.21 | L35: 10410.21 | M35: 10410.21 | N35: 10410.21 | O35: 10410.21 | P35: 10410.21 | Q35: 10410.21 | R35: 10410.21 | S35: 10410.21 | T35: 10410.21 | U35: 10410.21 | V35: 10410.21 | W35: 10410.21 | X35: 10410.21 | Y35: 10410.21 | Z35: 10410.21 | AA35: 10410.21 | AB35: 10410.21 | AC35: 10410.21 | AD35: =A35&B35 -> SRNOUT4_20_D_PR24
A36: TMS | B36: OUT4_20_PR24 | C36: Underlying calculations for common performance commitments - water and combined - Biodiversity - Total biodiversity units for area of land served (per 100km2) | D36: Number | E36: Price Review 2024 | Q36: 0 | R36: 0 | S36: 0 | T36: 0 | U36: 0 | V36: 0 | W36: 0.32096585 | X36: 0.44016204 | Y36: 0.55701475 | Z36: 0.55701475 | AA36: 0.55701475 | AB36: 0.55701475 | AC36: 0.55701475 | AD36: =A36&B36 -> TMSOUT4_20_PR24
A37: TMS | B37: OUT2_06_PR24 | C37: Outcome performance from base expenditure - Common PCs - Biodiversity | D37: Number | E37: Price Review 2024 | F37: 0 | G37: 0 | H37: 0 | I37: 0 | J37: 0 | K37: 0 | L37: 0 | M37: 0 | N37: 0 | O37: 0 | P37: 0 | Q37: 0 | R37: 0 | S37: 0 | T37: 0 | U37: 0 | V37: 0 | W37: 0.32 | X37: 0.44 | Y37: 0.56 | Z37: 0.56 | AA37: 0.56 | AB37: 0.56 | AC37: 0.56 | AD37: =A37&B37 -> TMSOUT2_06_PR24
A38: TMS | B38: OUT3_06_01_PR24 | C38: Outcome performance from enhancement expenditure - Common PCs - Biodiversity - Variance between the overall performance (OUT1) and the performance trend delivered | D38: Number | E38: Price Review 2024 | Q38: 0 | R38: 0 | S38: 0 | T38: 0 | U38: 0 | V38: 0 | W38: 0.00096584758 | X38: 0.00016204065 | Y38: -0.0029852535 | Z38: -0.0029852535 | AA38: -0.0029852535 | AB38: -0.0029852535 | AC38: -0.0029852535 | AD38: =A38&B38 -> TMSOUT3_06_01_PR24
A39: TMS | B39: OUT4_20_D_PR24 | C39: Underlying calculations for common performance commitments - water and combined - Biodiversity - Water supply area | D39: km2 | E39: Price Review 2024 | F39: 0 | G39: 0 | H39: 0 | I39: 0 | J39: 0 | K39: 0 | L39: 0 | M39: 0 | N39: 0 | O39: 0 | P39: 0 | Q39: 13754.45 | R39: 21762.44 | S39: 21762.44 | T39: 21762.44 | U39: 21762.44 | V39: 21762.44 | W39: 21762.44 | X39: 21762.44 | Y39: 21762.44 | Z39: 21762.44 | AA39: 21762.44 | AB39: 21762.44 | AC39: 21762.44 | AD39: =A39&B39 -> TMSOUT4_20_D_PR24
A40: NWT | B40: OUT4_20_PR24 | C40: Underlying calculations for common performance commitments - water and combined - Biodiversity - Total biodiversity units for area of land served (per 100km2) | D40: Number | E40: Price Review 2024 | F40: 0 | G40: 0 | H40: 0 | I40: 0 | J40: 0 | K40: 0 | L40: 0 | M40: 0 | N40: 0 | O40: 0 | P40: 0 | Q40: 0 | R40: 0 | S40: 0 | T40: 0 | U40: 0 | V40: 0 | W40: 0.079997398 | X40: 0.7300059 | Y40: 1.0370522 | Z40: 1.8302158 | AA40: 1.8963551 | AB40: 2.2067558 | AC40: 3.1051256 | AD40: =A40&B40 -> NWTOUT4_20_PR24
A41: NWT | B41: OUT2_06_PR24 | C41: Outcome performance from base expenditure - Common PCs - Biodiversity | D41: Number | E41: Price Review 2024 | T41: 0 | U41: 0 | V41: 0 | W41: 0 | X41: 0 | Y41: 0 | Z41: 0 | AA41: 0 | AB41: 0 | AC41: 0 | AD41: =A41&B41 -> NWTOUT2_06_PR24
...

Sheet F_Inputs_Formatted
B4: Company | C4: Company name | D4: Region | E4: Company/Region | F4: WoC/WaSC | G4: Underlying calc | H4: Boncode | I4: Unique identifier | J4: Performance from | K4: Company DD view / Ofwat DD view | L4: PC code | M4: Measurement | N4: Units | O4: DP | P4: 2011-12 | Q4: 2012-13 | R4: 2013-14 | S4: 2014-15 | T4: 2015-16 | U4: 2016-17 | V4: 2017-18 | W4: 2018-19 | X4: 2019-20 | Y4: 2020-21 | Z4: 2021-22 | AA4: 2022-23 | AB4: 2023-24 | AC4: 2024-25 | AD4: 2025-26 | AE4: 2026-27 | AF4: 2027-28 | AG4: 2028-29 | AH4: 2029-30
B5: ANH | C5: =_xlfn.XLOOKUP($B5,FD_Lists!$B$4:$B$25,FD_Lists!C$4:C$25) -> Anglian Water | D5: =_xlfn.XLOOKUP($B5,FD_Lists!$B$4:$B$25,FD_Lists!D$4:D$25) -> England | E5: =_xlfn.XLOOKUP($B5,FD_Lists!$B$4:$B$25,FD_Lists!E$4:E$25) -> Company | F5: =_xlfn.XLOOKUP($B5,FD_Lists!$B$4:$B$25,FD_Lists!F$4:F$25) -> WaSC | G5: PCL units | H5: OUT4_20_PR24 | I5: =B5&H5 -> ANHOUT4_20_PR24 | J5: Totex | K5: Company view | L5: BIO | M5: =_xlfn.XLOOKUP($H5,F_Inputs!$B:$B,F_Inputs!C:C) -> Underlying calculations for common performance commitments - water and combined - Biodiversity - Total biodiversity units for area of land served (per 100km2) | N5: =_xlfn.XLOOKUP($H5,F_Inputs!$B:$B,F_Inputs!D:D) -> Number | O5: 2 | P5: =IFERROR(ROUND(INDEX(F_Inputs!$A$4:$AD$75,MATCH(F_Inputs_Formatted!$I5,F_Inputs!$AD$4:$AD$75,0),MATCH(F_Inputs_Formatted!P$4,F_Inputs!$A$4:$AD$4,0)),$O5),"##BLANK") -> ##BLANK | Q5: =IFERROR(ROUND(INDEX(F_Inputs!$A$4:$AD$75,MATCH(F_Inputs_Formatted!$I5,F_Inputs!$AD$4:$AD$75,0),MATCH(F_Inputs_Formatted!Q$4,F_Inputs!$A$4:$AD$4,0)),$O5),"##BLANK") -> ##BLANK | R5: =IFERROR(ROUND(INDEX(F_Inputs!$A$4:$AD$75,MATCH(F_Inputs_Formatted!$I5,F_Inputs!$AD$4:$AD$75,0),MATCH(F_Inputs_Formatted!R$4,F_Inputs!$A$4:$AD$4,0)),$O5),"##BLANK") -> ##BLANK | S5: =IFERROR(ROUND(INDEX(F_Inputs!$A$4:$AD$75,MATCH(F_Inputs_Formatted!$I5,F_Inputs!$AD$4:$AD$75,0),MATCH(F_Inputs_Formatted!S$4,F_Inputs!$A$4:$AD$4,0)),$O5),"##BLANK") -> ##BLANK | T5: =IFERROR(ROUND(INDEX(F_Inputs!$A$4:$AD$75,MATCH(F_Inputs_Formatted!$I5,F_Inputs!$AD$4:$AD$75,0),MATCH(F_Inputs_Formatted!T$4,F_Inputs!$A$4:$AD$4,0)),$O5),"##BLANK") -> ##BLANK | U5: =IFERROR(ROUND(INDEX(F_Inputs!$A$4:$AD$75,MATCH(F_Inputs_Formatted!$I5,F_Inputs!$AD$4:$AD$75,0),MATCH(F_Inputs_Formatted!U$4,F_Inputs!$A$4:$AD$4,0)),$O5),"##BLANK") -> ##BLANK | V5: =IFERROR(ROUND(INDEX(F_Inputs!$A$4:$AD$75,MATCH(F_Inputs_Formatted!$I5,F_Inputs!$AD$4:$AD$75,0),MATCH(F_Inputs_Formatted!V$4,F_Inputs!$A$4:$AD$4,0)),$O5),"##BLANK") -> ##BLANK | W5: =IFERROR(ROUND(INDEX(F_Inputs!$A$4:$AD$75,MATCH(F_Inputs_Formatted!$I5,F_Inputs!$AD$4:$AD$75,0),MATCH(F_Inputs_Formatted!W$4,F_Inputs!$A$4:$AD$4,0)),$O5),"##BLANK") -> ##BLANK | ... AH5: =IFERROR(ROUND(INDEX(F_Inputs!$A$4:$AD$75,MATCH(F_Inputs_Formatted!$I5,F_Inputs!$AD$4:$AD$75,0),MATCH(F_Inputs_Formatted!AH$4,F_Inputs!$A$4:$AD$4,0)),$O5),"##BLANK") -> 0.08
B6: WSH | C6: =_xlfn.XLOOKUP($B6,FD_Lists!$B$4:$B$25,FD_Lists!C$4:C$25) -> Dŵr Cymru | D6: =_xlfn.XLOOKUP($B6,FD_Lists!$B$4:$B$25,FD_Lists!D$4:D$25) -> Wales | E6: =_xlfn.XLOOKUP($B6,FD_Lists!$B$4:$B$25,FD_Lists!E$4:E$25) -> Company | F6: =_xlfn.XLOOKUP($B6,FD_Lists!$B$4:$B$25,FD_Lists!F$4:F$25) -> WaSC | G6: PCL units | H6: OUT4_20_PR24 | I6: =B6&H6 -> WSHOUT4_20_PR24 | J6: Totex | K6: Company view | L6: BIO | M6: =_xlfn.XLOOKUP($H6,F_Inputs!$B:$B,F_Inputs!C:C) -> Underlying calculations for common performance commitments - water and combined - Biodiversity - Total biodiversity units for area of land served (per 100km2) | N6: =_xlfn.XLOOKUP($H6,F_Inputs!$B:$B,F_Inputs!D:D) -> Number | O6: 2 | P6: =IFERROR(ROUND(INDEX(F_Inputs!$A$4:$AD$75,MATCH(F_Inputs_Formatted!$I6,F_Inputs!$AD$4:$AD$75,0),MATCH(F_Inputs_Formatted!P$4,F_Inputs!$A$4:$AD$4,0)),$O6),"##BLANK") -> 0 | Q6: =IFERROR(ROUND(INDEX(F_Inputs!$A$4:$AD$75,MATCH(F_Inputs_Formatted!$I6,F_Inputs!$AD$4:$AD$75,0),MATCH(F_Inputs_Formatted!Q$4,F_Inputs!$A$4:$AD$4,0)),$O6),"##BLANK") -> 0 | R6: =IFERROR(ROUND(INDEX(F_Inputs!$A$4:$AD$75,MATCH(F_Inputs_Formatted!$I6,F_Inputs!$AD$4:$AD$75,0),MATCH(F_Inputs_Formatted!R$4,F_Inputs!$A$4:$AD$4,0)),$O6),"##BLANK") -> 0 | S6: =IFERROR(ROUND(INDEX(F_Inputs!$A$4:$AD$75,MATCH(F_Inputs_Formatted!$I6,F_Inputs!$AD$4:$AD$75,0),MATCH(F_Inputs_Formatted!S$4,F_Inputs!$A$4:$AD$4,0)),$O6),"##BLANK") -> 0 | T6: =IFERROR(ROUND(INDEX(F_Inputs!$A$4:$AD$75,MATCH(F_Inputs_Formatted!$I6,F_Inputs!$AD$4:$AD$75,0),MATCH(F_Inputs_Formatted!T$4,F_Inputs!$A$4:$AD$4,0)),$O6),"##BLANK") -> 0 | U6: =IFERROR(ROUND(INDEX(F_Inputs!$A$4:$AD$75,MATCH(F_Inputs_Formatted!$I6,F_Inputs!$AD$4:$AD$75,0),MATCH(F_Inputs_Formatted!U$4,F_Inputs!$A$4:$AD$4,0)),$O6),"##BLANK") -> 0 | V6: =IFERROR(ROUND(INDEX(F_Inputs!$A$4:$AD$75,MATCH(F_Inputs_Formatted!$I6,F_Inputs!$AD$4:$AD$75,0),MATCH(F_Inputs_Formatted!V$4,F_Inputs!$A$4:$AD$4,0)),$O6),"##BLANK") -> 0 | W6: =IFERROR(ROUND(INDEX(F_Inputs!$A$4:$AD$75,MATCH(F_Inputs_Formatted!$I6,F_Inputs!$AD$4:$AD$75,0),MATCH(F_Inputs_Formatted!W$4,F_Inputs!$A$4:$AD$4,0)),$O6),"##BLANK") -> 0 | ... AH6: =IFERROR(ROUND(INDEX(F_Inputs!$A$4:$AD$75,MATCH(F_Inputs_Formatted!$I6,F_Inputs!$AD$4:$AD$75,0),MATCH(F_Inputs_Formatted!AH$4,F_Inputs!$A$4:$AD$4,0)),$O6),"##BLANK") -> 0.73
B7: HDD | C7: =_xlfn.XLOOKUP($B7,FD_Lists!$B$4:$B$25,FD_Lists!C$4:C$25) -> Hafren Dyfrdwy | D7: =_xlfn.XLOOKUP($B7,FD_Lists!$B$4:$B$25,FD_Lists!D$4:D$25) -> Wales | E7: =_xlfn.XLOOKUP($B7,FD_Lists!$B$4:$B$25,FD_Lists!E$4:E$25) -> Company | F7: =_xlfn.XLOOKUP($B7,FD_Lists!$B$4:$B$25,FD_Lists!F$4:F$25) -> WaSC | G7: PCL units | H7: OUT4_20_PR24 | I7: =B7&H7 -> HDDOUT4_20_PR24 | J7: Totex | K7: Company view | L7: BIO | M7: =_xlfn.XLOOKUP($H7,F_Inputs!$B:$B,F_Inputs!C:C) -> Underlying calculations for common performance commitments - water and combined - Biodiversity - Total biodiversity units for area of land served (per 100km2) | N7: =_xlfn.XLOOKUP($H7,F_Inputs!$B:$B,F_Inputs!D:D) -> Number | O7: 2 | P7: =IFERROR(ROUND(INDEX(F_Inputs!$A$4:$AD$75,MATCH(F_Inputs_Formatted!$I7,F_Inputs!$AD$4:$AD$75,0),MATCH(F_Inputs_Formatted!P$4,F_Inputs!$A$4:$AD$4,0)),$O7),"##BLANK") -> ##BLANK | Q7: =IFERROR(ROUND(INDEX(F_Inputs!$A$4:$AD$75,MATCH(F_Inputs_Formatted!$I7,F_Inputs!$AD$4:$AD$75,0),MATCH(F_Inputs_Formatted!Q$4,F_Inputs!$A$4:$AD$4,0)),$O7),"##BLANK") -> ##BLANK | R7: =IFERROR(ROUND(INDEX(F_Inputs!$A$4:$AD$75,MATCH(F_Inputs_Formatted!$I7,F_Inputs!$AD$4:$AD$75,0),MATCH(F_Inputs_Formatted!R$4,F_Inputs!$A$4:$AD$4,0)),$O7),"##BLANK") -> ##BLANK | S7: =IFERROR(ROUND(INDEX(F_Inputs!$A$4:$AD$75,MATCH(F_Inputs_Formatted!$I7,F_Inputs!$AD$4:$AD$75,0),MATCH(F_Inputs_Formatted!S$4,F_Inputs!$A$4:$AD$4,0)),$O7),"##BLANK") -> ##BLANK | T7: =IFERROR(ROUND(INDEX(F_Inputs!$A$4:$AD$75,MATCH(F_Inputs_Formatted!$I7,F_Inputs!$AD$4:$AD$75,0),MATCH(F_Inputs_Formatted!T$4,F_Inputs!$A$4:$AD$4,0)),$O7),"##BLANK") -> ##BLANK | U7: =IFERROR(ROUND(INDEX(F_Inputs!$A$4:$AD$75,MATCH(F_Inputs_Formatted!$I7,F_Inputs!$AD$4:$AD$75,0),MATCH(F_Inputs_Formatted!U$4,F_Inputs!$A$4:$AD$4,0)),$O7),"##BLANK") -> ##BLANK | V7: =IFERROR(ROUND(INDEX(F_Inputs!$A$4:$AD$75,MATCH(F_Inputs_Formatted!$I7,F_Inputs!$AD$4:$AD$75,0),MATCH(F_Inputs_Formatted!V$4,F_Inputs!$A$4:$AD$4,0)),$O7),"##BLANK") -> ##BLANK | W7: =IFERROR(ROUND(INDEX(F_Inputs!$A$4:$AD$75,MATCH(F_Inputs_Formatted!$I7,F_Inputs!$AD$4:$AD$75,0),MATCH(F_Inputs_Formatted!W$4,F_Inputs!$A$4:$AD$4,0)),$O7),"##BLANK") -> ##BLANK | ... AH7: =IFERROR(ROUND(INDEX(F_Inputs!$A$4:$AD$75,MATCH(F_Inputs_Formatted!$I7,F_Inputs!$AD$4:$AD$75,0),MATCH(F_Inputs_Formatted!AH$4,F_Inputs!$A$4:$AD$4,0)),$O7),"##BLANK") -> 2.74
B8: NES | C8: =_xlfn.XLOOKUP($B8,FD_Lists!$B$4:$B$25,FD_Lists!C$4:C$25) -> Northumbrian Water | D8: =_xlfn.XLOOKUP($B8,FD_Lists!$B$4:$B$25,FD_Lists!D$4:D$25) -> England | E8: =_xlfn.XLOOKUP($B8,FD_Lists!$B$4:$B$25,FD_Lists!E$4:E$25) -> Company | F8: =_xlfn.XLOOKUP($B8,FD_Lists!$B$4:$B$25,FD_Lists!F$4:F$25) -> WaSC | G8: PCL units | H8: OUT4_20_PR24 | I8: =B8&H8 -> NESOUT4_20_PR24 | J8: Totex | K8: Company view | L8: BIO | M8: =_xlfn.XLOOKUP($H8,F_Inputs!$B:$B,F_Inputs!C:C) -> Underlying calculations for common performance commitments - water and combined - Biodiversity - Total biodiversity units for area of land served (per 100km2) | N8: =_xlfn.XLOOKUP($H8,F_Inputs!$B:$B,F_Inputs!D:D) -> Number | O8: 2 | P8: =IFERROR(ROUND(INDEX(F_Inputs!$A$4:$AD$75,MATCH(F_Inputs_Formatted!$I8,F_Inputs!$AD$4:$AD$75,0),MATCH(F_Inputs_Formatted!P$4,F_Inputs!$A$4:$AD$4,0)),$O8),"##BLANK") -> 0 | Q8: =IFERROR(ROUND(INDEX(F_Inputs!$A$4:$AD$75,MATCH(F_Inputs_Formatted!$I8,F_Inputs!$AD$4:$AD$75,0),MATCH(F_Inputs_Formatted!Q$4,F_Inputs!$A$4:$AD$4,0)),$O8),"##BLANK") -> 0 | R8: =IFERROR(ROUND(INDEX(F_Inputs!$A$4:$AD$75,MATCH(F_Inputs_Formatted!$I8,F_Inputs!$AD$4:$AD$75,0),MATCH(F_Inputs_Formatted!R$4,F_Inputs!$A$4:$AD$4,0)),$O8),"##BLANK") -> 0 | S8: =IFERROR(ROUND(INDEX(F_Inputs!$A$4:$AD$75,MATCH(F_Inputs_Formatted!$I8,F_Inputs!$AD$4:$AD$75,0),MATCH(F_Inputs_Formatted!S$4,F_Inputs!$A$4:$AD$4,0)),$O8),"##BLANK") -> 0 | T8: =IFERROR(ROUND(INDEX(F_Inputs!$A$4:$AD$75,MATCH(F_Inputs_Formatted!$I8,F_Inputs!$AD$4:$AD$75,0),MATCH(F_Inputs_Formatted!T$4,F_Inputs!$A$4:$AD$4,0)),$O8),"##BLANK") -> 0 | U8: =IFERROR(ROUND(INDEX(F_Inputs!$A$4:$AD$75,MATCH(F_Inputs_Formatted!$I8,F_Inputs!$AD$4:$AD$75,0),MATCH(F_Inputs_Formatted!U$4,F_Inputs!$A$4:$AD$4,0)),$O8),"##BLANK") -> 0 | V8: =IFERROR(ROUND(INDEX(F_Inputs!$A$4:$AD$75,MATCH(F_Inputs_Formatted!$I8,F_Inputs!$AD$4:$AD$75,0),MATCH(F_Inputs_Formatted!V$4,F_Inputs!$A$4:$AD$4,0)),$O8),"##BLANK") -> 0 | W8: =IFERROR(ROUND(INDEX(F_Inputs!$A$4:$AD$75,MATCH(F_Inputs_Formatted!$I8,F_Inputs!$AD$4:$AD$75,0),MATCH(F_Inputs_Formatted!W$4,F_Inputs!$A$4:$AD$4,0)),$O8),"##BLANK") -> 0 | ... AH8: =IFERROR(ROUND(INDEX(F_Inputs!$A$4:$AD$75,MATCH(F_Inputs_Formatted!$I8,F_Inputs!$AD$4:$AD$75,0),MATCH(F_Inputs_Formatted!AH$4,F_Inputs!$A$4:$AD$4,0)),$O8),"##BLANK") -> 0.23
B9: SVE | C9: =_xlfn.XLOOKUP($B9,FD_Lists!$B$4:$B$25,FD_Lists!C$4:C$25) -> Severn Trent Water | D9: =_xlfn.XLOOKUP($B9,FD_Lists!$B$4:$B$25,FD_Lists!D$4:D$25) -> England | E9: =_xlfn.XLOOKUP($B9,FD_Lists!$B$4:$B$25,FD_Lists!E$4:E$25) -> Company | F9: =_xlfn.XLOOKUP($B9,FD_Lists!$B$4:$B$25,FD_Lists!F$4:F$25) -> WaSC | G9: PCL units | H9: OUT4_20_PR24 | I9: =B9&H9 -> SVEOUT4_20_PR24 | J9: Totex | K9: Company view | L9: BIO | M9: =_xlfn.XLOOKUP($H9,F_Inputs!$B:$B,F_Inputs!C:C) -> Underlying calculations for common performance commitments - water and combined - Biodiversity - Total biodiversity units for area of land served (per 100km2) | N9: =_xlfn.XLOOKUP($H9,F_Inputs!$B:$B,F_Inputs!D:D) -> Number | O9: 2 | P9: =IFERROR(ROUND(INDEX(F_Inputs!$A$4:$AD$75,MATCH(F_Inputs_Formatted!$I9,F_Inputs!$AD$4:$AD$75,0),MATCH(F_Inputs_Formatted!P$4,F_Inputs!$A$4:$AD$4,0)),$O9),"##BLANK") -> ##BLANK | Q9: =IFERROR(ROUND(INDEX(F_Inputs!$A$4:$AD$75,MATCH(F_Inputs_Formatted!$I9,F_Inputs!$AD$4:$AD$75,0),MATCH(F_Inputs_Formatted!Q$4,F_Inputs!$A$4:$AD$4,0)),$O9),"##BLANK") -> ##BLANK | R9: =IFERROR(ROUND(INDEX(F_Inputs!$A$4:$AD$75,MATCH(F_Inputs_Formatted!$I9,F_Inputs!$AD$4:$AD$75,0),MATCH(F_Inputs_Formatted!R$4,F_Inputs!$A$4:$AD$4,0)),$O9),"##BLANK") -> ##BLANK | S9: =IFERROR(ROUND(INDEX(F_Inputs!$A$4:$AD$75,MATCH(F_Inputs_Formatted!$I9,F_Inputs!$AD$4:$AD$75,0),MATCH(F_Inputs_Formatted!S$4,F_Inputs!$A$4:$AD$4,0)),$O9),"##BLANK") -> ##BLANK | T9: =IFERROR(ROUND(INDEX(F_Inputs!$A$4:$AD$75,MATCH(F_Inputs_Formatted!$I9,F_Inputs!$AD$4:$AD$75,0),MATCH(F_Inputs_Formatted!T$4,F_Inputs!$A$4:$AD$4,0)),$O9),"##BLANK") -> ##BLANK | U9: =IFERROR(ROUND(INDEX(F_Inputs!$A$4:$AD$75,MATCH(F_Inputs_Formatted!$I9,F_Inputs!$AD$4:$AD$75,0),MATCH(F_Inputs_Formatted!U$4,F_Inputs!$A$4:$AD$4,0)),$O9),"##BLANK") -> ##BLANK | V9: =IFERROR(ROUND(INDEX(F_Inputs!$A$4:$AD$75,MATCH(F_Inputs_Formatted!$I9,F_Inputs!$AD$4:$AD$75,0),MATCH(F_Inputs_Formatted!V$4,F_Inputs!$A$4:$AD$4,0)),$O9),"##BLANK") -> ##BLANK | W9: =IFERROR(ROUND(INDEX(F_Inputs!$A$4:$AD$75,MATCH(F_Inputs_Formatted!$I9,F_Inputs!$AD$4:$AD$75,0),MATCH(F_Inputs_Formatted!W$4,F_Inputs!$A$4:$AD$4,0)),$O9),"##BLANK") -> ##BLANK | ... AH9: =IFERROR(ROUND(INDEX(F_Inputs!$A$4:$AD$75,MATCH(F_Inputs_Formatted!$I9,F_Inputs!$AD$4:$AD$75,0),MATCH(F_Inputs_Formatted!AH$4,F_Inputs!$A$4:$AD$4,0)),$O9),"##BLANK") -> 3.59
B10: SRN | C10: =_xlfn.XLOOKUP($B10,FD_Lists!$B$4:$B$25,FD_Lists!C$4:C$25) -> Southern Water | D10: =_xlfn.XLOOKUP($B10,FD_Lists!$B$4:$B$25,FD_Lists!D$4:D$25) -> England | E10: =_xlfn.XLOOKUP($B10,FD_Lists!$B$4:$B$25,FD_Lists!E$4:E$25) -> Company | F10: =_xlfn.XLOOKUP($B10,FD_Lists!$B$4:$B$25,FD_Lists!F$4:F$25) -> WaSC | G10: PCL units | H10: OUT4_20_PR24 | I10: =B10&H10 -> SRNOUT4_20_PR24 | J10: Totex | K10: Company view | L10: BIO | M10: =_xlfn.XLOOKUP($H10,F_Inputs!$B:$B,F_Inputs!C:C) -> Underlying calculations for common performance commitments - water and combined - Biodiversity - Total biodiversity units for area of land served (per 100km2) | N10: =_xlfn.XLOOKUP($H10,F_Inputs!$B:$B,F_Inputs!D:D) -> Number | O10: 2 | P10: =IFERROR(ROUND(INDEX(F_Inputs!$A$4:$AD$75,MATCH(F_Inputs_Formatted!$I10,F_Inputs!$AD$4:$AD$75,0),MATCH(F_Inputs_Formatted!P$4,F_Inputs!$A$4:$AD$4,0)),$O10),"##BLANK") -> 0 | Q10: =IFERROR(ROUND(INDEX(F_Inputs!$A$4:$AD$75,MATCH(F_Inputs_Formatted!$I10,F_Inputs!$AD$4:$AD$75,0),MATCH(F_Inputs_Formatted!Q$4,F_Inputs!$A$4:$AD$4,0)),$O10),"##BLANK") -> 0 | R10: =IFERROR(ROUND(INDEX(F_Inputs!$A$4:$AD$75,MATCH(F_Inputs_Formatted!$I10,F_Inputs!$AD$4:$AD$75,0),MATCH(F_Inputs_Formatted!R$4,F_Inputs!$A$4:$AD$4,0)),$O10),"##BLANK") -> 0 | S10: =IFERROR(ROUND(INDEX(F_Inputs!$A$4:$AD$75,MATCH(F_Inputs_Formatted!$I10,F_Inputs!$AD$4:$AD$75,0),MATCH(F_Inputs_Formatted!S$4,F_Inputs!$A$4:$AD$4,0)),$O10),"##BLANK") -> 0 | T10: =IFERROR(ROUND(INDEX(F_Inputs!$A$4:$AD$75,MATCH(F_Inputs_Formatted!$I10,F_Inputs!$AD$4:$AD$75,0),MATCH(F_Inputs_Formatted!T$4,F_Inputs!$A$4:$AD$4,0)),$O10),"##BLANK") -> 0 | U10: =IFERROR(ROUND(INDEX(F_Inputs!$A$4:$AD$75,MATCH(F_Inputs_Formatted!$I10,F_Inputs!$AD$4:$AD$75,0),MATCH(F_Inputs_Formatted!U$4,F_Inputs!$A$4:$AD$4,0)),$O10),"##BLANK") -> 0 | V10: =IFERROR(ROUND(INDEX(F_Inputs!$A$4:$AD$75,MATCH(F_Inputs_Formatted!$I10,F_Inputs!$AD$4:$AD$75,0),MATCH(F_Inputs_Formatted!V$4,F_Inputs!$A$4:$AD$4,0)),$O10),"##BLANK") -> 0 | W10: =IFERROR(ROUND(INDEX(F_Inputs!$A$4:$AD$75,MATCH(F_Inputs_Formatted!$I10,F_Inputs!$AD$4:$AD$75,0),MATCH(F_Inputs_Formatted!W$4,F_Inputs!$A$4:$AD$4,0)),$O10),"##BLANK") -> 0 | ... AH10: =IFERROR(ROUND(INDEX(F_Inputs!$A$4:$AD$75,MATCH(F_Inputs_Formatted!$I10,F_Inputs!$AD$4:$AD$75,0),MATCH(F_Inputs_Formatted!AH$4,F_Inputs!$A$4:$AD$4,0)),$O10),"##BLANK") -> 0
B11: TMS | C11: =_xlfn.XLOOKUP($B11,FD_Lists!$B$4:$B$25,FD_Lists!C$4:C$25) -> Thames Water | D11: =_xlfn.XLOOKUP($B11,FD_Lists!$B$4:$B$25,FD_Lists!D$4:D$25) -> England | E11: =_xlfn.XLOOKUP($B11,FD_Lists!$B$4:$B$25,FD_Lists!E$4:E$25) -> Company | F11: =_xlfn.XLOOKUP($B11,FD_Lists!$B$4:$B$25,FD_Lists!F$4:F$25) -> WaSC | G11: PCL units | H11: OUT4_20_PR24 | I11: =B11&H11 -> TMSOUT4_20_PR24 | J11: Totex | K11: Company view | L11: BIO | M11: =_xlfn.XLOOKUP($H11,F_Inputs!$B:$B,F_Inputs!C:C) -> Underlying calculations for common performance commitments - water and combined - Biodiversity - Total biodiversity units for area of land served (per 100km2) | N11: =_xlfn.XLOOKUP($H11,F_Inputs!$B:$B,F_Inputs!D:D) -> Number | O11: 2 | P11: =IFERROR(ROUND(INDEX(F_Inputs!$A$4:$AD$75,MATCH(F_Inputs_Formatted!$I11,F_Inputs!$AD$4:$AD$75,0),MATCH(F_Inputs_Formatted!P$4,F_Inputs!$A$4:$AD$4,0)),$O11),"##BLANK") -> ##BLANK | Q11: =IFERROR(ROUND(INDEX(F_Inputs!$A$4:$AD$75,MATCH(F_Inputs_Formatted!$I11,F_Inputs!$AD$4:$AD$75,0),MATCH(F_Inputs_Formatted!Q$4,F_Inputs!$A$4:$AD$4,0)),$O11),"##BLANK") -> ##BLANK | R11: =IFERROR(ROUND(INDEX(F_Inputs!$A$4:$AD$75,MATCH(F_Inputs_Formatted!$I11,F_Inputs!$AD$4:$AD$75,0),MATCH(F_Inputs_Formatted!R$4,F_Inputs!$A$4:$AD$4,0)),$O11),"##BLANK") -> ##BLANK | S11: =IFERROR(ROUND(INDEX(F_Inputs!$A$4:$AD$75,MATCH(F_Inputs_Formatted!$I11,F_Inputs!$AD$4:$AD$75,0),MATCH(F_Inputs_Formatted!S$4,F_Inputs!$A$4:$AD$4,0)),$O11),"##BLANK") -> ##BLANK | T11: =IFERROR(ROUND(INDEX(F_Inputs!$A$4:$AD$75,MATCH(F_Inputs_Formatted!$I11,F_Inputs!$AD$4:$AD$75,0),MATCH(F_Inputs_Formatted!T$4,F_Inputs!$A$4:$AD$4,0)),$O11),"##BLANK") -> ##BLANK | U11: =IFERROR(ROUND(INDEX(F_Inputs!$A$4:$AD$75,MATCH(F_Inputs_Formatted!$I11,F_Inputs!$AD$4:$AD$75,0),MATCH(F_Inputs_Formatted!U$4,F_Inputs!$A$4:$AD$4,0)),$O11),"##BLANK") -> ##BLANK | V11: =IFERROR(ROUND(INDEX(F_Inputs!$A$4:$AD$75,MATCH(F_Inputs_Formatted!$I11,F_Inputs!$AD$4:$AD$75,0),MATCH(F_Inputs_Formatted!V$4,F_Inputs!$A$4:$AD$4,0)),$O11),"##BLANK") -> ##BLANK | W11: =IFERROR(ROUND(INDEX(F_Inputs!$A$4:$AD$75,MATCH(F_Inputs_Formatted!$I11,F_Inputs!$AD$4:$AD$75,0),MATCH(F_Inputs_Formatted!W$4,F_Inputs!$A$4:$AD$4,0)),$O11),"##BLANK") -> ##BLANK | ... AH11: =IFERROR(ROUND(INDEX(F_Inputs!$A$4:$AD$75,MATCH(F_Inputs_Formatted!$I11,F_Inputs!$AD$4:$AD$75,0),MATCH(F_Inputs_Formatted!AH$4,F_Inputs!$A$4:$AD$4,0)),$O11),"##BLANK") -> 0.44
A12: UUW | B12: NWT | C12: =_xlfn.XLOOKUP($B12,FD_Lists!$B$4:$B$25,FD_Lists!C$4:C$25) -> United Utilities | D12: =_xlfn.XLOOKUP($B12,FD_Lists!$B$4:$B$25,FD_Lists!D$4:D$25) -> England | E12: =_xlfn.XLOOKUP($B12,FD_Lists!$B$4:$B$25,FD_Lists!E$4:E$25) -> Company | F12: =_xlfn.XLOOKUP($B12,FD_Lists!$B$4:$B$25,FD_Lists!F$4:F$25) -> WaSC | G12: PCL units | H12: OUT4_20_PR24 | I12: =B12&H12 -> NWTOUT4_20_PR24 | J12: Totex | K12: Company view | L12: BIO | M12: =_xlfn.XLOOKUP($H12,F_Inputs!$B:$B,F_Inputs!C:C) -> Underlying calculations for common performance commitments - water and combined - Biodiversity - Total biodiversity units for area of land served (per 100km2) | N12: =_xlfn.XLOOKUP($H12,F_Inputs!$B:$B,F_Inputs!D:D) -> Number | O12: 2 | P12: =IFERROR(ROUND(INDEX(F_Inputs!$A$4:$AD$75,MATCH(F_Inputs_Formatted!$I12,F_Inputs!$AD$4:$AD$75,0),MATCH(F_Inputs_Formatted!P$4,F_Inputs!$A$4:$AD$4,0)),$O12),"##BLANK") -> 0 | Q12: =IFERROR(ROUND(INDEX(F_Inputs!$A$4:$AD$75,MATCH(F_Inputs_Formatted!$I12,F_Inputs!$AD$4:$AD$75,0),MATCH(F_Inputs_Formatted!Q$4,F_Inputs!$A$4:$AD$4,0)),$O12),"##BLANK") -> 0 | R12: =IFERROR(ROUND(INDEX(F_Inputs!$A$4:$AD$75,MATCH(F_Inputs_Formatted!$I12,F_Inputs!$AD$4:$AD$75,0),MATCH(F_Inputs_Formatted!R$4,F_Inputs!$A$4:$AD$4,0)),$O12),"##BLANK") -> 0 | S12: =IFERROR(ROUND(INDEX(F_Inputs!$A$4:$AD$75,MATCH(F_Inputs_Formatted!$I12,F_Inputs!$AD$4:$AD$75,0),MATCH(F_Inputs_Formatted!S$4,F_Inputs!$A$4:$AD$4,0)),$O12),"##BLANK") -> 0 | T12: =IFERROR(ROUND(INDEX(F_Inputs!$A$4:$AD$75,MATCH(F_Inputs_Formatted!$I12,F_Inputs!$AD$4:$AD$75,0),MATCH(F_Inputs_Formatted!T$4,F_Inputs!$A$4:$AD$4,0)),$O12),"##BLANK") -> 0 | U12: =IFERROR(ROUND(INDEX(F_Inputs!$A$4:$AD$75,MATCH(F_Inputs_Formatted!$I12,F_Inputs!$AD$4:$AD$75,0),MATCH(F_Inputs_Formatted!U$4,F_Inputs!$A$4:$AD$4,0)),$O12),"##BLANK") -> 0 | V12: =IFERROR(ROUND(INDEX(F_Inputs!$A$4:$AD$75,MATCH(F_Inputs_Formatted!$I12,F_Inputs!$AD$4:$AD$75,0),MATCH(F_Inputs_Formatted!V$4,F_Inputs!$A$4:$AD$4,0)),$O12),"##BLANK") -> 0 | W12: =IFERROR(ROUND(INDEX(F_Inputs!$A$4:$AD$75,MATCH(F_Inputs_Formatted!$I12,F_Inputs!$AD$4:$AD$75,0),MATCH(F_Inputs_Formatted!W$4,F_Inputs!$A$4:$AD$4,0)),$O12),"##BLANK") -> 0 | ... AH12: =IFERROR(ROUND(INDEX(F_Inputs!$A$4:$AD$75,MATCH(F_Inputs_Formatted!$I12,F_Inputs!$AD$4:$AD$75,0),MATCH(F_Inputs_Formatted!AH$4,F_Inputs!$A$4:$AD$4,0)),$O12),"##BLANK") -> 0.73
B13: WSX | C13: =_xlfn.XLOOKUP($B13,FD_Lists!$B$4:$B$25,FD_Lists!C$4:C$25) -> Wessex Water | D13: =_xlfn.XLOOKUP($B13,FD_Lists!$B$4:$B$25,FD_Lists!D$4:D$25) -> England | E13: =_xlfn.XLOOKUP($B13,FD_Lists!$B$4:$B$25,FD_Lists!E$4:E$25) -> Company | F13: =_xlfn.XLOOKUP($B13,FD_Lists!$B$4:$B$25,FD_Lists!F$4:F$25) -> WaSC | G13: PCL units | H13: OUT4_20_PR24 | I13: =B13&H13 -> WSXOUT4_20_PR24 | J13: Totex | K13: Company view | L13: BIO | M13: =_xlfn.XLOOKUP($H13,F_Inputs!$B:$B,F_Inputs!C:C) -> Underlying calculations for common performance commitments - water and combined - Biodiversity - Total biodiversity units for area of land served (per 100km2) | N13: =_xlfn.XLOOKUP($H13,F_Inputs!$B:$B,F_Inputs!D:D) -> Number | O13: 2 | P13: =IFERROR(ROUND(INDEX(F_Inputs!$A$4:$AD$75,MATCH(F_Inputs_Formatted!$I13,F_Inputs!$AD$4:$AD$75,0),MATCH(F_Inputs_Formatted!P$4,F_Inputs!$A$4:$AD$4,0)),$O13),"##BLANK") -> 0 | Q13: =IFERROR(ROUND(INDEX(F_Inputs!$A$4:$AD$75,MATCH(F_Inputs_Formatted!$I13,F_Inputs!$AD$4:$AD$75,0),MATCH(F_Inputs_Formatted!Q$4,F_Inputs!$A$4:$AD$4,0)),$O13),"##BLANK") -> 0 | R13: =IFERROR(ROUND(INDEX(F_Inputs!$A$4:$AD$75,MATCH(F_Inputs_Formatted!$I13,F_Inputs!$AD$4:$AD$75,0),MATCH(F_Inputs_Formatted!R$4,F_Inputs!$A$4:$AD$4,0)),$O13),"##BLANK") -> 0 | S13: =IFERROR(ROUND(INDEX(F_Inputs!$A$4:$AD$75,MATCH(F_Inputs_Formatted!$I13,F_Inputs!$AD$4:$AD$75,0),MATCH(F_Inputs_Formatted!S$4,F_Inputs!$A$4:$AD$4,0)),$O13),"##BLANK") -> 0 | T13: =IFERROR(ROUND(INDEX(F_Inputs!$A$4:$AD$75,MATCH(F_Inputs_Formatted!$I13,F_Inputs!$AD$4:$AD$75,0),MATCH(F_Inputs_Formatted!T$4,F_Inputs!$A$4:$AD$4,0)),$O13),"##BLANK") -> 0 | U13: =IFERROR(ROUND(INDEX(F_Inputs!$A$4:$AD$75,MATCH(F_Inputs_Formatted!$I13,F_Inputs!$AD$4:$AD$75,0),MATCH(F_Inputs_Formatted!U$4,F_Inputs!$A$4:$AD$4,0)),$O13),"##BLANK") -> 0 | V13: =IFERROR(ROUND(INDEX(F_Inputs!$A$4:$AD$75,MATCH(F_Inputs_Formatted!$I13,F_Inputs!$AD$4:$AD$75,0),MATCH(F_Inputs_Formatted!V$4,F_Inputs!$A$4:$AD$4,0)),$O13),"##BLANK") -> 0 | W13: =IFERROR(ROUND(INDEX(F_Inputs!$A$4:$AD$75,MATCH(F_Inputs_Formatted!$I13,F_Inputs!$AD$4:$AD$75,0),MATCH(F_Inputs_Formatted!W$4,F_Inputs!$A$4:$AD$4,0)),$O13),"##BLANK") -> 0 | ... AH13: =IFERROR(ROUND(INDEX(F_Inputs!$A$4:$AD$75,MATCH(F_Inputs_Formatted!$I13,F_Inputs!$AD$4:$AD$75,0),MATCH(F_Inputs_Formatted!AH$4,F_Inputs!$A$4:$AD$4,0)),$O13),"##BLANK") -> 0.17
B14: YKY | C14: =_xlfn.XLOOKUP($B14,FD_Lists!$B$4:$B$25,FD_Lists!C$4:C$25) -> Yorkshire Water | D14: =_xlfn.XLOOKUP($B14,FD_Lists!$B$4:$B$25,FD_Lists!D$4:D$25) -> England | E14: =_xlfn.XLOOKUP($B14,FD_Lists!$B$4:$B$25,FD_Lists!E$4:E$25) -> Company | F14: =_xlfn.XLOOKUP($B14,FD_Lists!$B$4:$B$25,FD_Lists!F$4:F$25) -> WaSC | G14: PCL units | H14: OUT4_20_PR24 | I14: =B14&H14 -> YKYOUT4_20_PR24 | J14: Totex | K14: Company view | L14: BIO | M14: =_xlfn.XLOOKUP($H14,F_Inputs!$B:$B,F_Inputs!C:C) -> Underlying calculations for common performance commitments - water and combined - Biodiversity - Total biodiversity units for area of land served (per 100km2) | N14: =_xlfn.XLOOKUP($H14,F_Inputs!$B:$B,F_Inputs!D:D) -> Number | O14: 2 | P14: =IFERROR(ROUND(INDEX(F_Inputs!$A$4:$AD$75,MATCH(F_Inputs_Formatted!$I14,F_Inputs!$AD$4:$AD$75,0),MATCH(F_Inputs_Formatted!P$4,F_Inputs!$A$4:$AD$4,0)),$O14),"##BLANK") -> 0 | Q14: =IFERROR(ROUND(INDEX(F_Inputs!$A$4:$AD$75,MATCH(F_Inputs_Formatted!$I14,F_Inputs!$AD$4:$AD$75,0),MATCH(F_Inputs_Formatted!Q$4,F_Inputs!$A$4:$AD$4,0)),$O14),"##BLANK") -> 0 | R14: =IFERROR(ROUND(INDEX(F_Inputs!$A$4:$AD$75,MATCH(F_Inputs_Formatted!$I14,F_Inputs!$AD$4:$AD$75,0),MATCH(F_Inputs_Formatted!R$4,F_Inputs!$A$4:$AD$4,0)),$O14),"##BLANK") -> 0 | S14: =IFERROR(ROUND(INDEX(F_Inputs!$A$4:$AD$75,MATCH(F_Inputs_Formatted!$I14,F_Inputs!$AD$4:$AD$75,0),MATCH(F_Inputs_Formatted!S$4,F_Inputs!$A$4:$AD$4,0)),$O14),"##BLANK") -> 0 | T14: =IFERROR(ROUND(INDEX(F_Inputs!$A$4:$AD$75,MATCH(F_Inputs_Formatted!$I14,F_Inputs!$AD$4:$AD$75,0),MATCH(F_Inputs_Formatted!T$4,F_Inputs!$A$4:$AD$4,0)),$O14),"##BLANK") -> 0 | U14: =IFERROR(ROUND(INDEX(F_Inputs!$A$4:$AD$75,MATCH(F_Inputs_Formatted!$I14,F_Inputs!$AD$4:$AD$75,0),MATCH(F_Inputs_Formatted!U$4,F_Inputs!$A$4:$AD$4,0)),$O14),"##BLANK") -> 0 | V14: =IFERROR(ROUND(INDEX(F_Inputs!$A$4:$AD$75,MATCH(F_Inputs_Formatted!$I14,F_Inputs!$AD$4:$AD$75,0),MATCH(F_Inputs_Formatted!V$4,F_Inputs!$A$4:$AD$4,0)),$O14),"##BLANK") -> 0 | W14: =IFERROR(ROUND(INDEX(F_Inputs!$A$4:$AD$75,MATCH(F_Inputs_Formatted!$I14,F_Inputs!$AD$4:$AD$75,0),MATCH(F_Inputs_Formatted!W$4,F_Inputs!$A$4:$AD$4,0)),$O14),"##BLANK") -> 0 | ... AH14: =IFERROR(ROUND(INDEX(F_Inputs!$A$4:$AD$75,MATCH(F_Inputs_Formatted!$I14,F_Inputs!$AD$4:$AD$75,0),MATCH(F_Inputs_Formatted!AH$4,F_Inputs!$A$4:$AD$4,0)),$O14),"##BLANK") -> 0.85
B15: AFW | C15: =_xlfn.XLOOKUP($B15,FD_Lists!$B$4:$B$25,FD_Lists!C$4:C$25) -> Affinity Water | D15: =_xlfn.XLOOKUP($B15,FD_Lists!$B$4:$B$25,FD_Lists!D$4:D$25) -> England | E15: =_xlfn.XLOOKUP($B15,FD_Lists!$B$4:$B$25,FD_Lists!E$4:E$25) -> Company | F15: =_xlfn.XLOOKUP($B15,FD_Lists!$B$4:$B$25,FD_Lists!F$4:F$25) -> WoC | G15: PCL units | H15: OUT4_20_PR24 | I15: =B15&H15 -> AFWOUT4_20_PR24 | J15: Totex | K15: Company view | L15: BIO | M15: =_xlfn.XLOOKUP($H15,F_Inputs!$B:$B,F_Inputs!C:C) -> Underlying calculations for common performance commitments - water and combined - Biodiversity - Total biodiversity units for area of land served (per 100km2) | N15: =_xlfn.XLOOKUP($H15,F_Inputs!$B:$B,F_Inputs!D:D) -> Number | O15: 2 | P15: =IFERROR(ROUND(INDEX(F_Inputs!$A$4:$AD$75,MATCH(F_Inputs_Formatted!$I15,F_Inputs!$AD$4:$AD$75,0),MATCH(F_Inputs_Formatted!P$4,F_Inputs!$A$4:$AD$4,0)),$O15),"##BLANK") -> 0 | Q15: =IFERROR(ROUND(INDEX(F_Inputs!$A$4:$AD$75,MATCH(F_Inputs_Formatted!$I15,F_Inputs!$AD$4:$AD$75,0),MATCH(F_Inputs_Formatted!Q$4,F_Inputs!$A$4:$AD$4,0)),$O15),"##BLANK") -> 0 | R15: =IFERROR(ROUND(INDEX(F_Inputs!$A$4:$AD$75,MATCH(F_Inputs_Formatted!$I15,F_Inputs!$AD$4:$AD$75,0),MATCH(F_Inputs_Formatted!R$4,F_Inputs!$A$4:$AD$4,0)),$O15),"##BLANK") -> 0 | S15: =IFERROR(ROUND(INDEX(F_Inputs!$A$4:$AD$75,MATCH(F_Inputs_Formatted!$I15,F_Inputs!$AD$4:$AD$75,0),MATCH(F_Inputs_Formatted!S$4,F_Inputs!$A$4:$AD$4,0)),$O15),"##BLANK") -> 0 | T15: =IFERROR(ROUND(INDEX(F_Inputs!$A$4:$AD$75,MATCH(F_Inputs_Formatted!$I15,F_Inputs!$AD$4:$AD$75,0),MATCH(F_Inputs_Formatted!T$4,F_Inputs!$A$4:$AD$4,0)),$O15),"##BLANK") -> 0 | U15: =IFERROR(ROUND(INDEX(F_Inputs!$A$4:$AD$75,MATCH(F_Inputs_Formatted!$I15,F_Inputs!$AD$4:$AD$75,0),MATCH(F_Inputs_Formatted!U$4,F_Inputs!$A$4:$AD$4,0)),$O15),"##BLANK") -> 0 | V15: =IFERROR(ROUND(INDEX(F_Inputs!$A$4:$AD$75,MATCH(F_Inputs_Formatted!$I15,F_Inputs!$AD$4:$AD$75,0),MATCH(F_Inputs_Formatted!V$4,F_Inputs!$A$4:$AD$4,0)),$O15),"##BLANK") -> 0 | W15: =IFERROR(ROUND(INDEX(F_Inputs!$A$4:$AD$75,MATCH(F_Inputs_Formatted!$I15,F_Inputs!$AD$4:$AD$75,0),MATCH(F_Inputs_Formatted!W$4,F_Inputs!$A$4:$AD$4,0)),$O15),"##BLANK") -> 0 | ... AH15: =IFERROR(ROUND(INDEX(F_Inputs!$A$4:$AD$75,MATCH(F_Inputs_Formatted!$I15,F_Inputs!$AD$4:$AD$75,0),MATCH(F_Inputs_Formatted!AH$4,F_Inputs!$A$4:$AD$4,0)),$O15),"##BLANK") -> 0.73
B16: PRT | C16: =_xlfn.XLOOKUP($B16,FD_Lists!$B$4:$B$25,FD_Lists!C$4:C$25) -> Portsmouth Water | D16: =_xlfn.XLOOKUP($B16,FD_Lists!$B$4:$B$25,FD_Lists!D$4:D$25) -> England | E16: =_xlfn.XLOOKUP($B16,FD_Lists!$B$4:$B$25,FD_Lists!E$4:E$25) -> Company | F16: =_xlfn.XLOOKUP($B16,FD_Lists!$B$4:$B$25,FD_Lists!F$4:F$25) -> WoC | G16: PCL units | H16: OUT4_20_PR24 | I16: =B16&H16 -> PRTOUT4_20_PR24 | J16: Totex | K16: Company view | L16: BIO | M16: =_xlfn.XLOOKUP($H16,F_Inputs!$B:$B,F_Inputs!C:C) -> Underlying calculations for common performance commitments - water and combined - Biodiversity - Total biodiversity units for area of land served (per 100km2) | N16: =_xlfn.XLOOKUP($H16,F_Inputs!$B:$B,F_Inputs!D:D) -> Number | O16: 2 | P16: =IFERROR(ROUND(INDEX(F_Inputs!$A$4:$AD$75,MATCH(F_Inputs_Formatted!$I16,F_Inputs!$AD$4:$AD$75,0),MATCH(F_Inputs_Formatted!P$4,F_Inputs!$A$4:$AD$4,0)),$O16),"##BLANK") -> 0 | Q16: =IFERROR(ROUND(INDEX(F_Inputs!$A$4:$AD$75,MATCH(F_Inputs_Formatted!$I16,F_Inputs!$AD$4:$AD$75,0),MATCH(F_Inputs_Formatted!Q$4,F_Inputs!$A$4:$AD$4,0)),$O16),"##BLANK") -> 0 | R16: =IFERROR(ROUND(INDEX(F_Inputs!$A$4:$AD$75,MATCH(F_Inputs_Formatted!$I16,F_Inputs!$AD$4:$AD$75,0),MATCH(F_Inputs_Formatted!R$4,F_Inputs!$A$4:$AD$4,0)),$O16),"##BLANK") -> 0 | S16: =IFERROR(ROUND(INDEX(F_Inputs!$A$4:$AD$75,MATCH(F_Inputs_Formatted!$I16,F_Inputs!$AD$4:$AD$75,0),MATCH(F_Inputs_Formatted!S$4,F_Inputs!$A$4:$AD$4,0)),$O16),"##BLANK") -> 0 | T16: =IFERROR(ROUND(INDEX(F_Inputs!$A$4:$AD$75,MATCH(F_Inputs_Formatted!$I16,F_Inputs!$AD$4:$AD$75,0),MATCH(F_Inputs_Formatted!T$4,F_Inputs!$A$4:$AD$4,0)),$O16),"##BLANK") -> 0 | U16: =IFERROR(ROUND(INDEX(F_Inputs!$A$4:$AD$75,MATCH(F_Inputs_Formatted!$I16,F_Inputs!$AD$4:$AD$75,0),MATCH(F_Inputs_Formatted!U$4,F_Inputs!$A$4:$AD$4,0)),$O16),"##BLANK") -> 0 | V16: =IFERROR(ROUND(INDEX(F_Inputs!$A$4:$AD$75,MATCH(F_Inputs_Formatted!$I16,F_Inputs!$AD$4:$AD$75,0),MATCH(F_Inputs_Formatted!V$4,F_Inputs!$A$4:$AD$4,0)),$O16),"##BLANK") -> 0 | W16: =IFERROR(ROUND(INDEX(F_Inputs!$A$4:$AD$75,MATCH(F_Inputs_Formatted!$I16,F_Inputs!$AD$4:$AD$75,0),MATCH(F_Inputs_Formatted!W$4,F_Inputs!$A$4:$AD$4,0)),$O16),"##BLANK") -> 0 | ... AH16: =IFERROR(ROUND(INDEX(F_Inputs!$A$4:$AD$75,MATCH(F_Inputs_Formatted!$I16,F_Inputs!$AD$4:$AD$75,0),MATCH(F_Inputs_Formatted!AH$4,F_Inputs!$A$4:$AD$4,0)),$O16),"##BLANK") -> 0.62
B17: SEW | C17: =_xlfn.XLOOKUP($B17,FD_Lists!$B$4:$B$25,FD_Lists!C$4:C$25) -> South East Water | D17: =_xlfn.XLOOKUP($B17,FD_Lists!$B$4:$B$25,FD_Lists!D$4:D$25) -> England | E17: =_xlfn.XLOOKUP($B17,FD_Lists!$B$4:$B$25,FD_Lists!E$4:E$25) -> Company | F17: =_xlfn.XLOOKUP($B17,FD_Lists!$B$4:$B$25,FD_Lists!F$4:F$25) -> WoC | G17: PCL units | H17: OUT4_20_PR24 | I17: =B17&H17 -> SEWOUT4_20_PR24 | J17: Totex | K17: Company view | L17: BIO | M17: =_xlfn.XLOOKUP($H17,F_Inputs!$B:$B,F_Inputs!C:C) -> Underlying calculations for common performance commitments - water and combined - Biodiversity - Total biodiversity units for area of land served (per 100km2) | N17: =_xlfn.XLOOKUP($H17,F_Inputs!$B:$B,F_Inputs!D:D) -> Number | O17: 2 | P17: =IFERROR(ROUND(INDEX(F_Inputs!$A$4:$AD$75,MATCH(F_Inputs_Formatted!$I17,F_Inputs!$AD$4:$AD$75,0),MATCH(F_Inputs_Formatted!P$4,F_Inputs!$A$4:$AD$4,0)),$O17),"##BLANK") -> 0 | Q17: =IFERROR(ROUND(INDEX(F_Inputs!$A$4:$AD$75,MATCH(F_Inputs_Formatted!$I17,F_Inputs!$AD$4:$AD$75,0),MATCH(F_Inputs_Formatted!Q$4,F_Inputs!$A$4:$AD$4,0)),$O17),"##BLANK") -> 0 | R17: =IFERROR(ROUND(INDEX(F_Inputs!$A$4:$AD$75,MATCH(F_Inputs_Formatted!$I17,F_Inputs!$AD$4:$AD$75,0),MATCH(F_Inputs_Formatted!R$4,F_Inputs!$A$4:$AD$4,0)),$O17),"##BLANK") -> 0 | S17: =IFERROR(ROUND(INDEX(F_Inputs!$A$4:$AD$75,MATCH(F_Inputs_Formatted!$I17,F_Inputs!$AD$4:$AD$75,0),MATCH(F_Inputs_Formatted!S$4,F_Inputs!$A$4:$AD$4,0)),$O17),"##BLANK") -> 0 | T17: =IFERROR(ROUND(INDEX(F_Inputs!$A$4:$AD$75,MATCH(F_Inputs_Formatted!$I17,F_Inputs!$AD$4:$AD$75,0),MATCH(F_Inputs_Formatted!T$4,F_Inputs!$A$4:$AD$4,0)),$O17),"##BLANK") -> 0 | U17: =IFERROR(ROUND(INDEX(F_Inputs!$A$4:$AD$75,MATCH(F_Inputs_Formatted!$I17,F_Inputs!$AD$4:$AD$75,0),MATCH(F_Inputs_Formatted!U$4,F_Inputs!$A$4:$AD$4,0)),$O17),"##BLANK") -> 0 | V17: =IFERROR(ROUND(INDEX(F_Inputs!$A$4:$AD$75,MATCH(F_Inputs_Formatted!$I17,F_Inputs!$AD$4:$AD$75,0),MATCH(F_Inputs_Formatted!V$4,F_Inputs!$A$4:$AD$4,0)),$O17),"##BLANK") -> 0 | W17: =IFERROR(ROUND(INDEX(F_Inputs!$A$4:$AD$75,MATCH(F_Inputs_Formatted!$I17,F_Inputs!$AD$4:$AD$75,0),MATCH(F_Inputs_Formatted!W$4,F_Inputs!$A$4:$AD$4,0)),$O17),"##BLANK") -> 0 | ... AH17: =IFERROR(ROUND(INDEX(F_Inputs!$A$4:$AD$75,MATCH(F_Inputs_Formatted!$I17,F_Inputs!$AD$4:$AD$75,0),MATCH(F_Inputs_Formatted!AH$4,F_Inputs!$A$4:$AD$4,0)),$O17),"##BLANK") -> 0
B18: SSC | C18: =_xlfn.XLOOKUP($B18,FD_Lists!$B$4:$B$25,FD_Lists!C$4:C$25) -> South Staffordshire Water | D18: =_xlfn.XLOOKUP($B18,FD_Lists!$B$4:$B$25,FD_Lists!D$4:D$25) -> England | E18: =_xlfn.XLOOKUP($B18,FD_Lists!$B$4:$B$25,FD_Lists!E$4:E$25) -> Company | F18: =_xlfn.XLOOKUP($B18,FD_Lists!$B$4:$B$25,FD_Lists!F$4:F$25) -> WoC | G18: PCL units | H18: OUT4_20_PR24 | I18: =B18&H18 -> SSCOUT4_20_PR24 | J18: Totex | K18: Company view | L18: BIO | M18: =_xlfn.XLOOKUP($H18,F_Inputs!$B:$B,F_Inputs!C:C) -> Underlying calculations for common performance commitments - water and combined - Biodiversity - Total biodiversity units for area of land served (per 100km2) | N18: =_xlfn.XLOOKUP($H18,F_Inputs!$B:$B,F_Inputs!D:D) -> Number | O18: 2 | P18: =IFERROR(ROUND(INDEX(F_Inputs!$A$4:$AD$75,MATCH(F_Inputs_Formatted!$I18,F_Inputs!$AD$4:$AD$75,0),MATCH(F_Inputs_Formatted!P$4,F_Inputs!$A$4:$AD$4,0)),$O18),"##BLANK") -> ##BLANK | Q18: =IFERROR(ROUND(INDEX(F_Inputs!$A$4:$AD$75,MATCH(F_Inputs_Formatted!$I18,F_Inputs!$AD$4:$AD$75,0),MATCH(F_Inputs_Formatted!Q$4,F_Inputs!$A$4:$AD$4,0)),$O18),"##BLANK") -> ##BLANK | R18: =IFERROR(ROUND(INDEX(F_Inputs!$A$4:$AD$75,MATCH(F_Inputs_Formatted!$I18,F_Inputs!$AD$4:$AD$75,0),MATCH(F_Inputs_Formatted!R$4,F_Inputs!$A$4:$AD$4,0)),$O18),"##BLANK") -> ##BLANK | S18: =IFERROR(ROUND(INDEX(F_Inputs!$A$4:$AD$75,MATCH(F_Inputs_Formatted!$I18,F_Inputs!$AD$4:$AD$75,0),MATCH(F_Inputs_Formatted!S$4,F_Inputs!$A$4:$AD$4,0)),$O18),"##BLANK") -> ##BLANK | T18: =IFERROR(ROUND(INDEX(F_Inputs!$A$4:$AD$75,MATCH(F_Inputs_Formatted!$I18,F_Inputs!$AD$4:$AD$75,0),MATCH(F_Inputs_Formatted!T$4,F_Inputs!$A$4:$AD$4,0)),$O18),"##BLANK") -> ##BLANK | U18: =IFERROR(ROUND(INDEX(F_Inputs!$A$4:$AD$75,MATCH(F_Inputs_Formatted!$I18,F_Inputs!$AD$4:$AD$75,0),MATCH(F_Inputs_Formatted!U$4,F_Inputs!$A$4:$AD$4,0)),$O18),"##BLANK") -> ##BLANK | V18: =IFERROR(ROUND(INDEX(F_Inputs!$A$4:$AD$75,MATCH(F_Inputs_Formatted!$I18,F_Inputs!$AD$4:$AD$75,0),MATCH(F_Inputs_Formatted!V$4,F_Inputs!$A$4:$AD$4,0)),$O18),"##BLANK") -> ##BLANK | W18: =IFERROR(ROUND(INDEX(F_Inputs!$A$4:$AD$75,MATCH(F_Inputs_Formatted!$I18,F_Inputs!$AD$4:$AD$75,0),MATCH(F_Inputs_Formatted!W$4,F_Inputs!$A$4:$AD$4,0)),$O18),"##BLANK") -> ##BLANK | ... AH18: =IFERROR(ROUND(INDEX(F_Inputs!$A$4:$AD$75,MATCH(F_Inputs_Formatted!$I18,F_Inputs!$AD$4:$AD$75,0),MATCH(F_Inputs_Formatted!AH$4,F_Inputs!$A$4:$AD$4,0)),$O18),"##BLANK") -> 1.11
B19: SES | C19: =_xlfn.XLOOKUP($B19,FD_Lists!$B$4:$B$25,FD_Lists!C$4:C$25) -> SES Water | D19: =_xlfn.XLOOKUP($B19,FD_Lists!$B$4:$B$25,FD_Lists!D$4:D$25) -> England | E19: =_xlfn.XLOOKUP($B19,FD_Lists!$B$4:$B$25,FD_Lists!E$4:E$25) -> Company | F19: =_xlfn.XLOOKUP($B19,FD_Lists!$B$4:$B$25,FD_Lists!F$4:F$25) -> WoC | G19: PCL units | H19: OUT4_20_PR24 | I19: =B19&H19 -> SESOUT4_20_PR24 | J19: Totex | K19: Company view | L19: BIO | M19: =_xlfn.XLOOKUP($H19,F_Inputs!$B:$B,F_Inputs!C:C) -> Underlying calculations for common performance commitments - water and combined - Biodiversity - Total biodiversity units for area of land served (per 100km2) | N19: =_xlfn.XLOOKUP($H19,F_Inputs!$B:$B,F_Inputs!D:D) -> Number | O19: 2 | P19: =IFERROR(ROUND(INDEX(F_Inputs!$A$4:$AD$75,MATCH(F_Inputs_Formatted!$I19,F_Inputs!$AD$4:$AD$75,0),MATCH(F_Inputs_Formatted!P$4,F_Inputs!$A$4:$AD$4,0)),$O19),"##BLANK") -> 0 | Q19: =IFERROR(ROUND(INDEX(F_Inputs!$A$4:$AD$75,MATCH(F_Inputs_Formatted!$I19,F_Inputs!$AD$4:$AD$75,0),MATCH(F_Inputs_Formatted!Q$4,F_Inputs!$A$4:$AD$4,0)),$O19),"##BLANK") -> 0 | R19: =IFERROR(ROUND(INDEX(F_Inputs!$A$4:$AD$75,MATCH(F_Inputs_Formatted!$I19,F_Inputs!$AD$4:$AD$75,0),MATCH(F_Inputs_Formatted!R$4,F_Inputs!$A$4:$AD$4,0)),$O19),"##BLANK") -> 0 | S19: =IFERROR(ROUND(INDEX(F_Inputs!$A$4:$AD$75,MATCH(F_Inputs_Formatted!$I19,F_Inputs!$AD$4:$AD$75,0),MATCH(F_Inputs_Formatted!S$4,F_Inputs!$A$4:$AD$4,0)),$O19),"##BLANK") -> 0 | T19: =IFERROR(ROUND(INDEX(F_Inputs!$A$4:$AD$75,MATCH(F_Inputs_Formatted!$I19,F_Inputs!$AD$4:$AD$75,0),MATCH(F_Inputs_Formatted!T$4,F_Inputs!$A$4:$AD$4,0)),$O19),"##BLANK") -> 0 | U19: =IFERROR(ROUND(INDEX(F_Inputs!$A$4:$AD$75,MATCH(F_Inputs_Formatted!$I19,F_Inputs!$AD$4:$AD$75,0),MATCH(F_Inputs_Formatted!U$4,F_Inputs!$A$4:$AD$4,0)),$O19),"##BLANK") -> 0 | V19: =IFERROR(ROUND(INDEX(F_Inputs!$A$4:$AD$75,MATCH(F_Inputs_Formatted!$I19,F_Inputs!$AD$4:$AD$75,0),MATCH(F_Inputs_Formatted!V$4,F_Inputs!$A$4:$AD$4,0)),$O19),"##BLANK") -> 0 | W19: =IFERROR(ROUND(INDEX(F_Inputs!$A$4:$AD$75,MATCH(F_Inputs_Formatted!$I19,F_Inputs!$AD$4:$AD$75,0),MATCH(F_Inputs_Formatted!W$4,F_Inputs!$A$4:$AD$4,0)),$O19),"##BLANK") -> 0 | ... AH19: =IFERROR(ROUND(INDEX(F_Inputs!$A$4:$AD$75,MATCH(F_Inputs_Formatted!$I19,F_Inputs!$AD$4:$AD$75,0),MATCH(F_Inputs_Formatted!AH$4,F_Inputs!$A$4:$AD$4,0)),$O19),"##BLANK") -> 3.01
B20: SWB | C20: =_xlfn.XLOOKUP($B20,FD_Lists!$B$4:$B$25,FD_Lists!C$4:C$25) -> South West Water | D20: =_xlfn.XLOOKUP($B20,FD_Lists!$B$4:$B$25,FD_Lists!D$4:D$25) -> England | E20: =_xlfn.XLOOKUP($B20,FD_Lists!$B$4:$B$25,FD_Lists!E$4:E$25) -> Company | F20: =_xlfn.XLOOKUP($B20,FD_Lists!$B$4:$B$25,FD_Lists!F$4:F$25) -> WaSC | G20: PCL units | H20: OUT4_20_PR24 | I20: =B20&H20 -> SWBOUT4_20_PR24 | J20: Totex | K20: Company view | L20: BIO | M20: =_xlfn.XLOOKUP($H20,F_Inputs!$B:$B,F_Inputs!C:C) -> Underlying calculations for common performance commitments - water and combined - Biodiversity - Total biodiversity units for area of land served (per 100km2) | N20: =_xlfn.XLOOKUP($H20,F_Inputs!$B:$B,F_Inputs!D:D) -> Number | O20: 2 | P20: =IFERROR(ROUND(INDEX(F_Inputs!$A$4:$AD$75,MATCH(F_Inputs_Formatted!$I20,F_Inputs!$AD$4:$AD$75,0),MATCH(F_Inputs_Formatted!P$4,F_Inputs!$A$4:$AD$4,0)),$O20),"##BLANK") -> 0 | Q20: =IFERROR(ROUND(INDEX(F_Inputs!$A$4:$AD$75,MATCH(F_Inputs_Formatted!$I20,F_Inputs!$AD$4:$AD$75,0),MATCH(F_Inputs_Formatted!Q$4,F_Inputs!$A$4:$AD$4,0)),$O20),"##BLANK") -> 0 | R20: =IFERROR(ROUND(INDEX(F_Inputs!$A$4:$AD$75,MATCH(F_Inputs_Formatted!$I20,F_Inputs!$AD$4:$AD$75,0),MATCH(F_Inputs_Formatted!R$4,F_Inputs!$A$4:$AD$4,0)),$O20),"##BLANK") -> 0 | S20: =IFERROR(ROUND(INDEX(F_Inputs!$A$4:$AD$75,MATCH(F_Inputs_Formatted!$I20,F_Inputs!$AD$4:$AD$75,0),MATCH(F_Inputs_Formatted!S$4,F_Inputs!$A$4:$AD$4,0)),$O20),"##BLANK") -> 0 | T20: =IFERROR(ROUND(INDEX(F_Inputs!$A$4:$AD$75,MATCH(F_Inputs_Formatted!$I20,F_Inputs!$AD$4:$AD$75,0),MATCH(F_Inputs_Formatted!T$4,F_Inputs!$A$4:$AD$4,0)),$O20),"##BLANK") -> 0 | U20: =IFERROR(ROUND(INDEX(F_Inputs!$A$4:$AD$75,MATCH(F_Inputs_Formatted!$I20,F_Inputs!$AD$4:$AD$75,0),MATCH(F_Inputs_Formatted!U$4,F_Inputs!$A$4:$AD$4,0)),$O20),"##BLANK") -> 0 | V20: =IFERROR(ROUND(INDEX(F_Inputs!$A$4:$AD$75,MATCH(F_Inputs_Formatted!$I20,F_Inputs!$AD$4:$AD$75,0),MATCH(F_Inputs_Formatted!V$4,F_Inputs!$A$4:$AD$4,0)),$O20),"##BLANK") -> 0 | W20: =IFERROR(ROUND(INDEX(F_Inputs!$A$4:$AD$75,MATCH(F_Inputs_Formatted!$I20,F_Inputs!$AD$4:$AD$75,0),MATCH(F_Inputs_Formatted!W$4,F_Inputs!$A$4:$AD$4,0)),$O20),"##BLANK") -> 0 | ... AH20: =IFERROR(ROUND(INDEX(F_Inputs!$A$4:$AD$75,MATCH(F_Inputs_Formatted!$I20,F_Inputs!$AD$4:$AD$75,0),MATCH(F_Inputs_Formatted!AH$4,F_Inputs!$A$4:$AD$4,0)),$O20),"##BLANK") -> 2.47
