Workbook
Name _1___Data_table_for_graph___Leakage___AR4__AR3__AR2__AR1_and_Ofwat_leakage_targets: #REF!
Name _1__Data_table_for_graph___meter_penetration___AR4__AR3__AR2__and_AR1: #REF!
Name _1__Graph___meter_penetration___AR4__AR3__AR2__and_AR1: #REF!
Name _2__Graph___Leakage_AR4__AR3__AR2__AR1_and_Ofwat_leakage_targets: #REF!
Name _2__Graph___meter_penetration___AR4__AR3__AR2__and_AR1: #REF!
Name _3__Table_of_Leakage__Ml_d__percent_change_since_AR3__AR2__AR1: #REF!
Name _3__Table_of_meter_penetration_percent_change_since_AR3__AR2_and_AR1: #REF!
Name _AtRisk_SimSetting_AutomaticallyGenerateReports: FALSE
Name _AtRisk_SimSetting_AutomaticResultsDisplayMode: 0
Name _AtRisk_SimSetting_ConvergenceConfidenceLevel: 0.95
Name _AtRisk_SimSetting_ConvergencePercentileToTest: 0.9
Name _AtRisk_SimSetting_ConvergencePerformMeanTest: TRUE
Name _AtRisk_SimSetting_ConvergencePerformPercentileTest: FALSE
Name _AtRisk_SimSetting_ConvergencePerformStdDeviationTest: FALSE
Name _AtRisk_SimSetting_ConvergenceTestAllOutputs: TRUE
Name _AtRisk_SimSetting_ConvergenceTestingPeriod: 100
Name _AtRisk_SimSetting_ConvergenceTolerance: 0.03
Name _AtRisk_SimSetting_LiveUpdate: TRUE
Name _AtRisk_SimSetting_LiveUpdatePeriod: -1
Name _AtRisk_SimSetting_MacroRecalculationBehavior: 0
Name _AtRisk_SimSetting_RandomNumberGenerator: 0
Name _AtRisk_SimSetting_ReportOptionCustomItemsCount: 0
Name _AtRisk_SimSetting_ReportOptionDataMode: 1
Name _AtRisk_SimSetting_ReportOptionReportMultiSimType: 1
Name _AtRisk_SimSetting_ReportOptionReportPlacement: 1
Name _AtRisk_SimSetting_ReportOptionReportSelection: 257
Name _AtRisk_SimSetting_ReportOptionReportsFileType: 1
Name _AtRisk_SimSetting_ReportOptionSelectiveQR: FALSE
Name _AtRisk_SimSetting_ReportsList: 257
Name _AtRisk_SimSetting_ShowSimulationProgressWindow: TRUE
Name _AtRisk_SimSetting_SimNameCount: 0
Name _AtRisk_SimSetting_SmartSensitivityAnalysisEnabled: TRUE
Name _AtRisk_SimSetting_StatisticFunctionUpdating: 1
Name _AtRisk_SimSetting_StdRecalcActiveSimulationNumber: 1
Name _AtRisk_SimSetting_StdRecalcBehavior: 1
Name _AtRisk_SimSetting_StdRecalcWithoutRiskStatic: 0
Name _AtRisk_SimSetting_StdRecalcWithoutRiskStaticPercentile: 0.5
Name _Order1: 255
Name _Order2: 255
Name Actuals_Old: #REF!
Name AddRWD: #REF!
Name AddRWD2: #REF!
Name AddRWDI: #REF!
Name AddSC: #REF!
Name AddSC2: #REF!
Name AddSCI: #REF!
Name AddSLD: #REF!
Name AddSLD2: #REF!
Name AddSLDI: #REF!
Name AddSLT: #REF!
Name AddSLT2: #REF!
Name AddSLTI: #REF!
Name AddST: #REF!
Name AddST2: #REF!
Name AddSTI: #REF!
Name AddTWD: #REF!
Name AddTWI: #REF!
Name AddWR: #REF!
Name AddWR2: #REF!
Name AddWRI: #REF!

Sheet CLEAR_SHEET
A1: FOUNTAIN_INSTANCE_URL | B1: FountainLive
A2: externalModelId | B2: 9088
A3: EXTERNAL_MODEL_NAME | B3: POST-FD-OC19-ODI-rates-Performance-Range
A4: EXTERNAL_MODEL_CODE | B4: EXTMDL_9088
A5: EXTERNAL_MODEL_FAMILY | B5: EXTERNAL
A6: companyId | B6: 0
A7: F_Outputs_Report_ID | B7: 33316
A8: F_Outputs_TEAM | B8: IPL
A9: F_Outputs_USER | B9: OFWAT\Thomas.Elliott
A10: F_Outputs_TITLE | B10: POST-FD-OC19-ODI-rates-Performance-Range_Fout
A11: outputRunId | B11: 219
A12: outputRunName | B12: Outcomes: CMA scenario (Run 12)
A13: outputSheetLastSent | B13: 30 Mar 2026 10:56:43

Sheet Cover
A1: =RIGHT(CELL("filename", $A$1), LEN(CELL("filename", $A$1)) - SEARCH("]", CELL("filename", $A$1))) -> #VALUE!
B3: PR24 ODI Rates - Performance Range Model 3
B5: Model code | C5: PR24OC19
B6: Version number: | C6: 2
B7: File name: | C7: =MID(CELL("filename"), FIND("[", CELL("filename"), 1) + 1, FIND("]", CELL("filename"), 1) - FIND("[", CELL("filename"), 1) - 1) -> #VALUE!
B8: Date: | C8: 46113
B10: For enquiries please contact: | C10: PR24@ofwat.gov.uk

Sheet Change Log
A1: =RIGHT(CELL("filename", $A$1), LEN(CELL("filename", $A$1)) - SEARCH("]", CELL("filename", $A$1))) -> #VALUE!
A4: PR24 ODI Rates C-MeX model
B6: Below are details of changes to the model from the previously published version (December 2024). The changes fix issues that have been identified and implement improvements for clarity and ease of use.
B8: Reference | C8: Sheet(s) in current model | D8: Description of change(s) made | E8: Model link(s)
B9: 2 | C9: Storm.overflows | D9: Additonal year of performance data added for storm overflows in line with the CMA Final determinations. | E9: Historical-performance-trends-for-PR24-V6.0
B10: 3 | C10: b.Proxy PCL | D10: Proxy PCL now calculated for Storm overflows for 2024 | E10: N/A
B11: 4 | C11: C.Dif to PCL | D11: Difference to PCL now calculated for Storm overflows for 2024 | E11: N/A
B12: 5 | C12: D.%Dif to PCL | D12: Percentage difference to PCL now calculated for Storm overflows for 2024 | E12: N/A
B13: 6 | C13: P10P90 | D13: P10 and P90 performance ranges extended to include 2024 performance for storm overflows | E13: N/A
B14: 8 | C14: F_Outputs | D14: Performance range for storm overflows updated to reflect additional year of outturn. | E14: N/A
A16: END

Sheet Conceptual Model
A1: Conceptual Model
A3: This sheet contains a map of this model's outputs, calculations and inputs
A40: End of sheet

Sheet Assumptions
A1: =RIGHT(CELL("filename", A1), LEN(CELL("filename", A1)) - SEARCH("]", CELL("filename", A1))) -> #VALUE!
A3: This sheet lists the assumptions we make to calculate the Performance Range for each PC in this model
B5: Area | C5: River water quality | D5: Bathing water quality | E5: Serious pollution incidents | F5: Storm overflows
B6: RCV and price base | C6: For the RoRE allocation we use 2022-23 RCV set at Financial Year Average prices for 2022-23. Water RCV: Sum of Water resources and Water network plus Wastewater RCV: Sum of Bioresources and Wastewater network plus Gearing: We use notional gearing of 55% to get the regulated equity value | D6: For the RoRE allocation we use 2022-23 RCV set at Financial Year Average prices for 2022-23. Water RCV: Sum of Water resources and Water network plus Wastewater RCV: Sum of Bioresources and Wastewater network plus Gearing: We use notional gearing of 55% to get the regulated equity value | E6: For the RoRE allocation we use 2022-23 RCV set at Financial Year Average prices for 2022-23. Water RCV: Sum of Water resources and Water network plus Wastewater RCV: Sum of Bioresources and Wastewater network plus Gearing: We use notional gearing of 55% to get the regulated equity value | F6: For the RoRE allocation we use 2022-23 RCV set at Financial Year Average prices for 2022-23. Water RCV: Sum of Water resources and Water network plus Wastewater RCV: Sum of Bioresources and Wastewater network plus Gearing: We use notional gearing of 55% to get the regulated equity value
B7: Price control allocation (PCA) | C7: 100% wastewater regulated equity | D7: 100% wastewater regulated equity | E7: This PC will apply to both water and wastewater but the PCA is still to be determined. Since this split is currently to be determined, we adopt the following approach when setting the RoRE allocation: WaSCs: we use wastewater regulated equity WoCs: we use water regulated equity | F7: 100% wastewater regulated equity
B8: Historic performance, including years of available data and any companies excluded | C8: Definition: Permitted P load per STW (kg/y), actual P load per STW Years of data used: 2011 to 2021 Companies: WaSCs Source: https://www.ofwat.gov.uk/publication/water-company-phosphorus-discharge-data-2011-2021/ | D8: Definition: Bathing water classification (EA, NRW) converted to a classification score according to the PR24 PC definition Years of data used: 2015-2021 Companies: all WaSCs with bathing water area | E8: Definition: Category 1-2 pollution incidents from water and wastewater assets, according to PR24 PC definition Years of data used: 2011-12 to 2021-22 Companies: WaSCs only | F8: Definition: Number of spills per storm overflow Years of data used: 2019-2022 Companies: WaSCs only Number of spills per storm overflow is calculated as the total number of spills per calendar year divided by the number of spills with EDM installed. We make an additional adjustment based on the proportion of the year that an EDM is not operational. This approach assumes that the number of spills when a storm overflow is unmonitored is the same as when a storm overflow is monitored. We restrict the data to 3 years because the extent of monitoring is much less in early years. 2019 onwards had an acceptable level of monitoring.
B9: PCL, including whether this is a historic PCL or whether a proxy PCL has been set, and the assumptions that have been used to set this | C9: We use modelled forecasted P permit data (tonnes per annum) from STWs at the company level for post-AMP7 and post-AMP8. We calculate the difference between the two to get the reduction in permitted P load during AMP8. We calculate an average annual reduction across AMP8. The figures for the permitted P load are taken from modelling work undertaken by the EA as of June 2023. These are not finalised figures and are subject to change, but they provide a reasonable estimate at this stage for the level of permitted phosphorus load being released by sewage treatment works between the end of AMP7 and the end of AMP8. This allows us to scale the difference between actual load and permitted load to form a performance range which is used to derive the indicative ODI rate. We calculate the % difference between actual P load and permitted P load for each STW. We calculate an industry-wide median % difference to permitted P load across all STWs in the data set. We apply this % value to the annual reduction in permitted P load. This is the proxy PCL. | D9: There has not previously been a comparable wide-scale financial incentive for improving bathing water quality. We have set a proxy PCL for each company based on their median score across all years. This reflects the fluctuation in scores across years while historic performance has not been incentivised. | E9: We develop a proxy PCL using Environmental Performance Assessment (EPA) targets for serious pollution incidents. For Welsh companies, we follow the EA methodology based on RCV size. For comparability to pollution incident performance we normalise this to 10,000km sewer network, based on each company's total sewer length for the respective year. | F9: We have set a proxy PCL for this PC. We calculate the 10th and 90th percentiles of spills per overflow for each year. The annual PCL is the midpoint between these. Performance has not been financially incentivised so we have avoided using a proxy PCL that stretches performance over time (e.g. a glidepath to 20 spills).
B10: Performance range around the PCL, including any years of data or companies that have been excluded | C10: We calculate an industry-wide 10th and 90th percentile of the % difference between actual P load and permitted P load across all STWs in the data set. We apply the 10th/90th percentile difference to the annual reduction in permitted P load. The performance range is the difference from the 10th percentile to the midpoint between the 10th and 90th percentiles, measured in kg per year. | D10: We use the difference between the historic performance and the proxy PCL for each company from 2016-17 until 2021-22. This is used to calculate a historic industry-wide 10th and 90th percentile performance. The performance range for these percentiles is identical. Either can be used to represent a "stretching" performance range, while removing outliers. To convert this % performance range into a number range we apply the 10th percentile range to the 2021 performance for each company. | E10: We calculate the difference between normalised performance and normalised PCL for all WaSCs across all years. We calculate the industry 10th/90th percentiles. We use the normalised industry 10th percentile performance range as it is the larger of the two in absolute terms. We convert this into an unnormalised value for each company based on the length of their sewer length in 2021-22. This represents the "stretching" performance range, while removing outliers. | F10: We calculate the % difference between the historic performance and the proxy PCL for each company in each year between 2019 and 2022. This is used to calculate a historic industry-wide 10th and 90th percentile % performance range. We use the 90th percentile as it is the larger of the two in absolute terms. This represents the "stretching" performance range, while removing outliers.
B11: Normalisation data | C11: - | D11: For un-normalising and re-normalising for the rate per improvement per bathing water area and final indicative ODI rate we use the number of bathing water areas per company from 2021. | E11: To get the normalised performance range, we use each company's sewer length in km for the respective year. | F11: -
B12: Other assumptions | C12: We do not have the same modelled forecasted permitted P load from STWs for Wales. We calculate the ODI rate per kg P reduction using England data. We apply the same rate to Welsh companies. Historic performance and normalisation data reflects the current view in terms of company mergers. | D12: Historic performance and normalisation data reflects the current view in terms of company mergers. | E12: Historic performance and normalisation data reflects the current view in terms of company mergers. | F12: Historic performance and normalisation data reflects the current view in terms of company mergers.
A18: End of sheet

Sheet Output >

Sheet F_Outputs
C1: [Fountain will populate this cell with the report name. Keep this placeholder here]
A2: Acronym | B2: Reference | C2: Item description | D2: Unit | E2: Model | F2: Constant
A4: ANH | B4: PR24QA_PR24OC19_OUT1 | C4: Date & Time for Model - PR24OC19 | D4: Text | E4: Price Review 2024
A5: ANH | B5: PR24QA_PR24OC19_OUT2 | C5: Name of Model - PR24OC19 | D5: Text | E5: Price Review 2024
A6: ANH | B6: PR24QA_PR24OC19_OUT3 | C6: F_Inputs time stamp - PR24OC19 | D6: Text | E6: Price Review 2024
A7: ANH | B7: PR24QA_PR24OC19_OUT4 | C7: Model override switch - PR24OC19 | D7: nr | E7: Price Review 2024
A8: ANH | B8: C_ODI_RWQ_P90 | C8: P90 performance range for RWQ top-down model | D8: % | E8: Price Review 2024 | F8: ='P1090'!$F$7 -> 0.85515823
A9: ANH | B9: C_ODI_RWQ_P50 | C9: P50 performance range for RWQ top-down model | D9: % | E9: Price Review 2024 | F9: ='P1090'!$H$7 -> 0.63733333
A10: ANH | B10: C_ODI_BWQ_P90 | C10: P90 performance range for BWQ top-down model | D10: % | E10: Price Review 2024 | F10: ='P1090'!$F$8 -> 0.062853121
A11: ANH | B11: C_ODI_SPL_P90 | C11: P90 performance range for SPL top-down model | D11: nr | E11: Price Review 2024 | F11: ='P1090'!$F$9 -> 1.3581034
A12: ANH | B12: C_ODI_SOF_P90 | C12: P90 performance range for SOF top-down model | D12: % | E12: Price Review 2024 | F12: ='P1090'!$F$10 -> 0.39528927
A13: WSH | B13: PR24QA_PR24OC19_OUT1 | C13: Date & Time for Model - PR24OC19 | D13: Text | E13: Price Review 2024
A14: WSH | B14: PR24QA_PR24OC19_OUT2 | C14: Name of Model - PR24OC19 | D14: Text | E14: Price Review 2024
A15: WSH | B15: PR24QA_PR24OC19_OUT3 | C15: F_Inputs time stamp - PR24OC19 | D15: Text | E15: Price Review 2024
A16: WSH | B16: PR24QA_PR24OC19_OUT4 | C16: Model override switch - PR24OC19 | D16: nr | E16: Price Review 2024
A17: WSH | B17: C_ODI_RWQ_P90 | C17: P90 performance range for RWQ top-down model | D17: % | E17: Price Review 2024 | F17: ='P1090'!$F$7 -> 0.85515823
A18: WSH | B18: C_ODI_RWQ_P50 | C18: P50 performance range for RWQ top-down model | D18: % | E18: Price Review 2024 | F18: ='P1090'!$H$7 -> 0.63733333
A19: WSH | B19: C_ODI_BWQ_P90 | C19: P90 performance range for BWQ top-down model | D19: % | E19: Price Review 2024 | F19: ='P1090'!$F$8 -> 0.062853121
A20: WSH | B20: C_ODI_SPL_P90 | C20: P90 performance range for SPL top-down model | D20: nr | E20: Price Review 2024 | F20: ='P1090'!$F$9 -> 1.3581034
A21: WSH | B21: C_ODI_SOF_P90 | C21: P90 performance range for SOF top-down model | D21: % | E21: Price Review 2024 | F21: ='P1090'!$F$10 -> 0.39528927
A22: HDD | B22: PR24QA_PR24OC19_OUT1 | C22: Date & Time for Model - PR24OC19 | D22: Text | E22: Price Review 2024
A23: HDD | B23: PR24QA_PR24OC19_OUT2 | C23: Name of Model - PR24OC19 | D23: Text | E23: Price Review 2024
A24: HDD | B24: PR24QA_PR24OC19_OUT3 | C24: F_Inputs time stamp - PR24OC19 | D24: Text | E24: Price Review 2024
A25: HDD | B25: PR24QA_PR24OC19_OUT4 | C25: Model override switch - PR24OC19 | D25: nr | E25: Price Review 2024
A26: HDD | B26: C_ODI_RWQ_P90 | C26: P90 performance range for RWQ top-down model | D26: % | E26: Price Review 2024 | F26: ='P1090'!$F$7 -> 0.85515823
A27: HDD | B27: C_ODI_RWQ_P50 | C27: P50 performance range for RWQ top-down model | D27: % | E27: Price Review 2024 | F27: ='P1090'!$H$7 -> 0.63733333
A28: HDD | B28: C_ODI_BWQ_P90 | C28: P90 performance range for BWQ top-down model | D28: % | E28: Price Review 2024 | F28: ='P1090'!$F$8 -> 0.062853121
A29: HDD | B29: C_ODI_SPL_P90 | C29: P90 performance range for SPL top-down model | D29: nr | E29: Price Review 2024 | F29: ='P1090'!$F$9 -> 1.3581034
A30: HDD | B30: C_ODI_SOF_P90 | C30: P90 performance range for SOF top-down model | D30: % | E30: Price Review 2024 | F30: ='P1090'!$F$10 -> 0.39528927
A31: NES | B31: PR24QA_PR24OC19_OUT1 | C31: Date & Time for Model - PR24OC19 | D31: Text | E31: Price Review 2024
A32: NES | B32: PR24QA_PR24OC19_OUT2 | C32: Name of Model - PR24OC19 | D32: Text | E32: Price Review 2024
A33: NES | B33: PR24QA_PR24OC19_OUT3 | C33: F_Inputs time stamp - PR24OC19 | D33: Text | E33: Price Review 2024
A34: NES | B34: PR24QA_PR24OC19_OUT4 | C34: Model override switch - PR24OC19 | D34: nr | E34: Price Review 2024
A35: NES | B35: C_ODI_RWQ_P90 | C35: P90 performance range for RWQ top-down model | D35: % | E35: Price Review 2024 | F35: ='P1090'!$F$7 -> 0.85515823
A36: NES | B36: C_ODI_RWQ_P50 | C36: P50 performance range for RWQ top-down model | D36: % | E36: Price Review 2024 | F36: ='P1090'!$H$7 -> 0.63733333
A37: NES | B37: C_ODI_BWQ_P90 | C37: P90 performance range for BWQ top-down model | D37: % | E37: Price Review 2024 | F37: ='P1090'!$F$8 -> 0.062853121
A38: NES | B38: C_ODI_SPL_P90 | C38: P90 performance range for SPL top-down model | D38: nr | E38: Price Review 2024 | F38: ='P1090'!$F$9 -> 1.3581034
A39: NES | B39: C_ODI_SOF_P90 | C39: P90 performance range for SOF top-down model | D39: % | E39: Price Review 2024 | F39: ='P1090'!$F$10 -> 0.39528927
A40: SVE | B40: PR24QA_PR24OC19_OUT1 | C40: Date & Time for Model - PR24OC19 | D40: Text | E40: Price Review 2024
A41: SVE | B41: PR24QA_PR24OC19_OUT2 | C41: Name of Model - PR24OC19 | D41: Text | E41: Price Review 2024
...

Sheet P1090
A1: =RIGHT(CELL("filename", A1), LEN(CELL("filename", A1)) - SEARCH("]", CELL("filename", A1))) -> #VALUE!
A2: SPI=E25:R41
A3: This sheet calculates the P10, P90 and median range for each PC
D5: 0.1 | E5: 0.9 | H5: 0.5
D6: P10 | E6: P90 | F6: P10/P90 higher | H6: P-median
B7: River water quality | D7: ='River.STW'!C7 -> 0.34524394 | E7: ='River.STW'!D7 -> 0.85515823 | F7: =MAX(ABS(D7),ABS(E7)) -> 0.85515823 | H7: ='River.STW'!E7 -> 0.63733333
B8: Bathing water quality | D8: =_xlfn.PERCENTILE.INC('d.%Dif to PCL'!E8:O17,D$5) -> -0.034272227 | E8: =_xlfn.PERCENTILE.INC('d.%Dif to PCL'!E8:O17,E$5) -> 0.062853121 | F8: =MAX(ABS(D8),ABS(E8)) -> 0.062853121
B9: Serious pollution incidents | D9: =_xlfn.PERCENTILE.INC(SPI.ALL,D$5) -> -1.3581034 | E9: =_xlfn.PERCENTILE.INC(SPI.ALL,E$5) -> 1.0701485 | F9: =MAX(ABS(D9),ABS(E9)) -> 1.3581034
B10: Storm overflows | D10: =_xlfn.PERCENTILE.INC('d.%Dif to PCL'!E45:J55,D$5) -> -0.35855326 | E10: =_xlfn.PERCENTILE.INC('d.%Dif to PCL'!E45:J55,E$5) -> 0.39528927 | F10: =MAX(ABS(D10),ABS(E10)) -> 0.39528927
A22: End of sheet

Sheet RWQ >

Sheet River.STW
A1: =RIGHT(CELL("filename", A1), LEN(CELL("filename", A1)) - SEARCH("]", CELL("filename", A1))) -> #VALUE!
A3: This sheet calculates the P10, P90 and P-median load difference to permit for the river water quality PC
C5: 0.1 | D5: 0.9 | E5: 0.5 | G5: Error check
C6: P10 | D6: P90 | E6: P-median | G6: Length selected range | H6: =COUNTA('Rivers.load'!$L$7:$L$3720) -> 3714
B7: Percentile | C7: =_xlfn.PERCENTILE.INC('Rivers.load'!$L$7:$L$3720,C$5) -> 0.34524394 | D7: =_xlfn.PERCENTILE.INC('Rivers.load'!$L$7:$L$3720,D$5) -> 0.85515823 | E7: =_xlfn.PERCENTILE.INC('Rivers.load'!$L$7:$L$3720,E$5) -> 0.63733333 | G7: Data rows in column | H7: =COUNTA('Rivers.load'!L:L)-1 -> 3714
G8: Equal | H8: =H6=H7 -> TRUE
G10: If FALSE, the range used in the PERCENT.INC formula should be updated
A14: End of sheet

Sheet BWQ, SPL, SOF >

Sheet d.%Dif to PCL
A1: =RIGHT(CELL("filename", A1), LEN(CELL("filename", A1)) - SEARCH("]", CELL("filename", A1))) -> #VALUE!
A3: This sheet calculates the difference between the PCL and Performance range as a percentage of the PCL
B5: Bathing water quality
E6: Performance range (Proxy PCL - Performance) / (Proxy PCL)
B7: Company | C7: Measure | D7: Unit | E7: 2015 | F7: 2016 | G7: 2017 | H7: 2018 | I7: 2019 | J7: 2020 | K7: 2021 | L7: 2022 | M7: 2023
B8: ANH | C8: Total score | D8: nr | E8: =IF('c.Dif to PCL'!E9="","",'c.Dif to PCL'!E9/'b.Proxy PCL'!E9) -> -0.046036014 | F8: =IF('c.Dif to PCL'!F9="","",'c.Dif to PCL'!F9/'b.Proxy PCL'!F9) -> -0.03226595 | G8: =IF('c.Dif to PCL'!G9="","",'c.Dif to PCL'!G9/'b.Proxy PCL'!G9) -> 0.0083109264 | H8: =IF('c.Dif to PCL'!H9="","",'c.Dif to PCL'!H9/'b.Proxy PCL'!H9) -> 0.024199462 | I8: =IF('c.Dif to PCL'!I9="","",'c.Dif to PCL'!I9/'b.Proxy PCL'!I9) -> 0 | J8: =IF('c.Dif to PCL'!J9="","",'c.Dif to PCL'!J9/'b.Proxy PCL'!J9) -> 0 | K8: =IF('c.Dif to PCL'!K9="","",'c.Dif to PCL'!K9/'b.Proxy PCL'!K9) -> -0.012598794 | L8: =IF('c.Dif to PCL'!L9="","",'c.Dif to PCL'!L9/'b.Proxy PCL'!L9) -> -0.012598794 | M8: =IF('c.Dif to PCL'!M9="","",'c.Dif to PCL'!M9/'b.Proxy PCL'!M9) -> 0.024185083
B9: WSH | C9: Total score | D9: nr | E9: =IF('c.Dif to PCL'!E10="","",'c.Dif to PCL'!E10/'b.Proxy PCL'!E10) -> 0 | F9: =IF('c.Dif to PCL'!F10="","",'c.Dif to PCL'!F10/'b.Proxy PCL'!F10) -> -0.012143877 | G9: =IF('c.Dif to PCL'!G10="","",'c.Dif to PCL'!G10/'b.Proxy PCL'!G10) -> 0.01215946 | H9: =IF('c.Dif to PCL'!H10="","",'c.Dif to PCL'!H10/'b.Proxy PCL'!H10) -> 0.0051952908 | I9: =IF('c.Dif to PCL'!I10="","",'c.Dif to PCL'!I10/'b.Proxy PCL'!I10) -> -0.010374856 | J9: =IF('c.Dif to PCL'!J10="","",'c.Dif to PCL'!J10/'b.Proxy PCL'!J10) -> 0.0072411748 | K9: =IF('c.Dif to PCL'!K10="","",'c.Dif to PCL'!K10/'b.Proxy PCL'!K10) -> -0.0032647711 | L9: =IF('c.Dif to PCL'!L10="","",'c.Dif to PCL'!L10/'b.Proxy PCL'!L10) -> -0.0054437159 | M9: =IF('c.Dif to PCL'!M10="","",'c.Dif to PCL'!M10/'b.Proxy PCL'!M10) -> 0.033756737
B10: NES | C10: Total score | D10: nr | E10: =IF('c.Dif to PCL'!E11="","",'c.Dif to PCL'!E11/'b.Proxy PCL'!E11) -> 0.090385308 | F10: =IF('c.Dif to PCL'!F11="","",'c.Dif to PCL'!F11/'b.Proxy PCL'!F11) -> -0.017644941 | G10: =IF('c.Dif to PCL'!G11="","",'c.Dif to PCL'!G11/'b.Proxy PCL'!G11) -> 0.0064818149 | H10: =IF('c.Dif to PCL'!H11="","",'c.Dif to PCL'!H11/'b.Proxy PCL'!H11) -> -0.018005041 | I10: =IF('c.Dif to PCL'!I11="","",'c.Dif to PCL'!I11/'b.Proxy PCL'!I11) -> -0.0064818149 | J10: =IF('c.Dif to PCL'!J11="","",'c.Dif to PCL'!J11/'b.Proxy PCL'!J11) | K10: =IF('c.Dif to PCL'!K11="","",'c.Dif to PCL'!K11/'b.Proxy PCL'!K11) -> -0.018005041 | L10: =IF('c.Dif to PCL'!L11="","",'c.Dif to PCL'!L11/'b.Proxy PCL'!L11) -> 0.03060857 | M10: =IF('c.Dif to PCL'!M11="","",'c.Dif to PCL'!M11/'b.Proxy PCL'!M11) -> 0.042491898
B11: SVE | C11: Total score | D11: nr | E11: =IF('c.Dif to PCL'!E12="","",'c.Dif to PCL'!E12/'b.Proxy PCL'!E12) | F11: =IF('c.Dif to PCL'!F12="","",'c.Dif to PCL'!F12/'b.Proxy PCL'!F12) | G11: =IF('c.Dif to PCL'!G12="","",'c.Dif to PCL'!G12/'b.Proxy PCL'!G12) | H11: =IF('c.Dif to PCL'!H12="","",'c.Dif to PCL'!H12/'b.Proxy PCL'!H12) | I11: =IF('c.Dif to PCL'!I12="","",'c.Dif to PCL'!I12/'b.Proxy PCL'!I12) | J11: =IF('c.Dif to PCL'!J12="","",'c.Dif to PCL'!J12/'b.Proxy PCL'!J12) | K11: =IF('c.Dif to PCL'!K12="","",'c.Dif to PCL'!K12/'b.Proxy PCL'!K12) | L11: =IF('c.Dif to PCL'!L12="","",'c.Dif to PCL'!L12/'b.Proxy PCL'!L12) | M11: =IF('c.Dif to PCL'!M12="","",'c.Dif to PCL'!M12/'b.Proxy PCL'!M12)
B12: SWB | C12: Total score | D12: nr | E12: =IF('c.Dif to PCL'!E13="","",'c.Dif to PCL'!E13/'b.Proxy PCL'!E13) -> 0.049933822 | F12: =IF('c.Dif to PCL'!F13="","",'c.Dif to PCL'!F13/'b.Proxy PCL'!F13) -> -0.0088660603 | G12: =IF('c.Dif to PCL'!G13="","",'c.Dif to PCL'!G13/'b.Proxy PCL'!G13) -> 0.040784695 | H12: =IF('c.Dif to PCL'!H13="","",'c.Dif to PCL'!H13/'b.Proxy PCL'!H13) -> 0.021958923 | I12: =IF('c.Dif to PCL'!I13="","",'c.Dif to PCL'!I13/'b.Proxy PCL'!I13) -> -0.011434273 | J12: =IF('c.Dif to PCL'!J13="","",'c.Dif to PCL'!J13/'b.Proxy PCL'!J13) | K12: =IF('c.Dif to PCL'!K13="","",'c.Dif to PCL'!K13/'b.Proxy PCL'!K13) -> 0.0088660603 | L12: =IF('c.Dif to PCL'!L13="","",'c.Dif to PCL'!L13/'b.Proxy PCL'!L13) -> -0.028049389 | M12: =IF('c.Dif to PCL'!M13="","",'c.Dif to PCL'!M13/'b.Proxy PCL'!M13) -> -0.027415811
B13: SRN | C13: Total score | D13: nr | E13: =IF('c.Dif to PCL'!E14="","",'c.Dif to PCL'!E14/'b.Proxy PCL'!E14) -> 0.0077110494 | F13: =IF('c.Dif to PCL'!F14="","",'c.Dif to PCL'!F14/'b.Proxy PCL'!F14) -> 0.0075668214 | G13: =IF('c.Dif to PCL'!G14="","",'c.Dif to PCL'!G14/'b.Proxy PCL'!G14) -> 0.0026630678 | H13: =IF('c.Dif to PCL'!H14="","",'c.Dif to PCL'!H14/'b.Proxy PCL'!H14) -> -0.036278504 | I13: =IF('c.Dif to PCL'!I14="","",'c.Dif to PCL'!I14/'b.Proxy PCL'!I14) -> -0.036278504 | J13: =IF('c.Dif to PCL'!J14="","",'c.Dif to PCL'!J14/'b.Proxy PCL'!J14) -> -0.036278504 | K13: =IF('c.Dif to PCL'!K14="","",'c.Dif to PCL'!K14/'b.Proxy PCL'!K14) -> -0.026615225 | L13: =IF('c.Dif to PCL'!L14="","",'c.Dif to PCL'!L14/'b.Proxy PCL'!L14) -> 0 | M13: =IF('c.Dif to PCL'!M14="","",'c.Dif to PCL'!M14/'b.Proxy PCL'!M14) -> 0.08593416
B14: TMS | C14: Total score | D14: nr | E14: =IF('c.Dif to PCL'!E15="","",'c.Dif to PCL'!E15/'b.Proxy PCL'!E15) -> 0.34 | F14: =IF('c.Dif to PCL'!F15="","",'c.Dif to PCL'!F15/'b.Proxy PCL'!F15) -> 0 | G14: =IF('c.Dif to PCL'!G15="","",'c.Dif to PCL'!G15/'b.Proxy PCL'!G15) -> 0 | H14: =IF('c.Dif to PCL'!H15="","",'c.Dif to PCL'!H15/'b.Proxy PCL'!H15) -> 0 | I14: =IF('c.Dif to PCL'!I15="","",'c.Dif to PCL'!I15/'b.Proxy PCL'!I15) -> 0 | J14: =IF('c.Dif to PCL'!J15="","",'c.Dif to PCL'!J15/'b.Proxy PCL'!J15) | K14: =IF('c.Dif to PCL'!K15="","",'c.Dif to PCL'!K15/'b.Proxy PCL'!K15) -> 0 | L14: =IF('c.Dif to PCL'!L15="","",'c.Dif to PCL'!L15/'b.Proxy PCL'!L15) -> 0.5 | M14: =IF('c.Dif to PCL'!M15="","",'c.Dif to PCL'!M15/'b.Proxy PCL'!M15) -> 0.5
B15: UUW | C15: Total score | D15: nr | E15: =IF('c.Dif to PCL'!E16="","",'c.Dif to PCL'!E16/'b.Proxy PCL'!E16) -> 0.18585401 | F15: =IF('c.Dif to PCL'!F16="","",'c.Dif to PCL'!F16/'b.Proxy PCL'!F16) -> -0.030488664 | G15: =IF('c.Dif to PCL'!G16="","",'c.Dif to PCL'!G16/'b.Proxy PCL'!G16) -> 0.0060225682 | H15: =IF('c.Dif to PCL'!H16="","",'c.Dif to PCL'!H16/'b.Proxy PCL'!H16) -> 0.010055152 | I15: =IF('c.Dif to PCL'!I16="","",'c.Dif to PCL'!I16/'b.Proxy PCL'!I16) -> 0.013783319 | J15: =IF('c.Dif to PCL'!J16="","",'c.Dif to PCL'!J16/'b.Proxy PCL'!J16) | K15: =IF('c.Dif to PCL'!K16="","",'c.Dif to PCL'!K16/'b.Proxy PCL'!K16) -> -0.024663403 | L15: =IF('c.Dif to PCL'!L16="","",'c.Dif to PCL'!L16/'b.Proxy PCL'!L16) -> -0.044469291 | M15: =IF('c.Dif to PCL'!M16="","",'c.Dif to PCL'!M16/'b.Proxy PCL'!M16) -> -0.0060225682
B16: WSX | C16: Total score | D16: nr | E16: =IF('c.Dif to PCL'!E17="","",'c.Dif to PCL'!E17/'b.Proxy PCL'!E17) -> 0.00099329526 | F16: =IF('c.Dif to PCL'!F17="","",'c.Dif to PCL'!F17/'b.Proxy PCL'!F17) -> -0.016389372 | G16: =IF('c.Dif to PCL'!G17="","",'c.Dif to PCL'!G17/'b.Proxy PCL'!G17) -> 0.00024832381 | H16: =IF('c.Dif to PCL'!H17="","",'c.Dif to PCL'!H17/'b.Proxy PCL'!H17) -> -0.00024832381 | I16: =IF('c.Dif to PCL'!I17="","",'c.Dif to PCL'!I17/'b.Proxy PCL'!I17) -> -0.012235121 | J16: =IF('c.Dif to PCL'!J17="","",'c.Dif to PCL'!J17/'b.Proxy PCL'!J17) | K16: =IF('c.Dif to PCL'!K17="","",'c.Dif to PCL'!K17/'b.Proxy PCL'!K17) -> 0.028614146 | L16: =IF('c.Dif to PCL'!L17="","",'c.Dif to PCL'!L17/'b.Proxy PCL'!L17) -> -0.00049664763 | M16: =IF('c.Dif to PCL'!M17="","",'c.Dif to PCL'!M17/'b.Proxy PCL'!M17) -> 0.024335734
B17: YKY | C17: Total score | D17: nr | E17: =IF('c.Dif to PCL'!E18="","",'c.Dif to PCL'!E18/'b.Proxy PCL'!E18) -> -0.068839488 | F17: =IF('c.Dif to PCL'!F18="","",'c.Dif to PCL'!F18/'b.Proxy PCL'!F18) -> -0.021590053 | G17: =IF('c.Dif to PCL'!G18="","",'c.Dif to PCL'!G18/'b.Proxy PCL'!G18) -> 0.075772419 | H17: =IF('c.Dif to PCL'!H18="","",'c.Dif to PCL'!H18/'b.Proxy PCL'!H18) -> 0.099397136 | I17: =IF('c.Dif to PCL'!I18="","",'c.Dif to PCL'!I18/'b.Proxy PCL'!I18) -> 0.0020346647 | J17: =IF('c.Dif to PCL'!J18="","",'c.Dif to PCL'!J18/'b.Proxy PCL'!J18) -> -0.050489827 | K17: =IF('c.Dif to PCL'!K18="","",'c.Dif to PCL'!K18/'b.Proxy PCL'!K18) -> 0 | L17: =IF('c.Dif to PCL'!L18="","",'c.Dif to PCL'!L18/'b.Proxy PCL'!L18) -> -0.15297664 | M17: =IF('c.Dif to PCL'!M18="","",'c.Dif to PCL'!M18/'b.Proxy PCL'!M18) -> 0.049736247
B20: Serious Pollution Incidents
E21: Performance range (Normalised Proxy PCL - Normalised Performance)
B22: Company | C22: Measure | D22: Unit | E22: 2011-12 | F22: 2012-13 | G22: 2013-14 | H22: 2014-15 | I22: 2015-16 | J22: 2016-17 | K22: 2017-18 | L22: 2018-19 | M22: 2019-20 | N22: 2020-21 | O22: 2021-22 | P22: 2022-23 | Q22: 2023-24 | R22: 2024-25
B23: ANH | C23: Performance range | D23: Number of category 1-2 pollution incidents per 10,000 km sewer network | E23: N/A - see c.Dif to PCL sheet
B24: WSH | C24: Performance range | D24: Number of category 1-2 pollution incidents per 10,000 km sewer network
B25: HDD | C25: Performance range | D25: Number of category 1-2 pollution incidents per 10,000 km sewer network
B26: NES | C26: Performance range | D26: Number of category 1-2 pollution incidents per 10,000 km sewer network
B27: SVE | C27: Performance range | D27: Number of category 1-2 pollution incidents per 10,000 km sewer network
B28: SWB | C28: Performance range | D28: Number of category 1-2 pollution incidents per 10,000 km sewer network
B29: SRN | C29: Performance range | D29: Number of category 1-2 pollution incidents per 10,000 km sewer network
B30: TMS | C30: Performance range | D30: Number of category 1-2 pollution incidents per 10,000 km sewer network
B31: UUW | C31: Performance range | D31: Number of category 1-2 pollution incidents per 10,000 km sewer network
B32: WSX | C32: Performance range | D32: Number of category 1-2 pollution incidents per 10,000 km sewer network
B33: YKY | C33: Performance range | D33: Number of category 1-2 pollution incidents per 10,000 km sewer network
B34: AFW | C34: Performance range | D34: Number of category 1-2 pollution incidents per 10,000 km sewer network
B35: BRL | C35: Performance range | D35: Number of category 1-2 pollution incidents per 10,000 km sewer network
... B39: SES | C39: Performance range | D39: Number of category 1-2 pollution incidents per 10,000 km sewer network
B42: Storm overflows
E43: Performance - Proxy PCL
B44: Company | C44: Measure | D44: Unit | E44: 2020 | F44: 2021 | G44: 2022 | H44: 2023 | I44: 2024
B45: ANH | C45: Performance range | D45: Number of spills per overflow | E45: ='c.Dif to PCL'!E47/'b.Proxy PCL'!E$61 -> 0.33198058 | F45: ='c.Dif to PCL'!F47/'b.Proxy PCL'!F$61 -> 0.35734115 | G45: ='c.Dif to PCL'!G47/'b.Proxy PCL'!G$61 -> -0.27673134 | H45: ='c.Dif to PCL'!H47/'b.Proxy PCL'!H$61 -> -0.40246218 | I45: ='c.Dif to PCL'!I47/'b.Proxy PCL'!I$61 -> -0.1006894
B46: WSH | C46: Performance range | D46: Number of spills per overflow | E46: ='c.Dif to PCL'!E48/'b.Proxy PCL'!E$61 -> 0.42591061 | F46: ='c.Dif to PCL'!F48/'b.Proxy PCL'!F$61 -> 0.3275467 | G46: ='c.Dif to PCL'!G48/'b.Proxy PCL'!G$61 -> 0.35936133 | H46: ='c.Dif to PCL'!H48/'b.Proxy PCL'!H$61 -> 0.45550905 | I46: ='c.Dif to PCL'!I48/'b.Proxy PCL'!I$61 -> 0.45362856
B47: HDD | C47: Performance range | D47: Number of spills per overflow | E47: ='c.Dif to PCL'!E49/'b.Proxy PCL'!E$61 -> -0.23094762 | F47: ='c.Dif to PCL'!F49/'b.Proxy PCL'!F$61 -> 0.27193495 | G47: ='c.Dif to PCL'!G49/'b.Proxy PCL'!G$61 -> 0.12572552 | H47: ='c.Dif to PCL'!H49/'b.Proxy PCL'!H$61 -> 0.065274087 | I47: ='c.Dif to PCL'!I49/'b.Proxy PCL'!I$61 -> 0.087795003
B48: NES | C48: Performance range | D48: Number of spills per overflow | E48: ='c.Dif to PCL'!E50/'b.Proxy PCL'!E$61 -> -0.42591061 | F48: ='c.Dif to PCL'!F50/'b.Proxy PCL'!F$61 -> -0.17768004 | G48: ='c.Dif to PCL'!G50/'b.Proxy PCL'!G$61 -> -0.25036749 | H48: ='c.Dif to PCL'!H50/'b.Proxy PCL'!H$61 -> -0.16305408 | I48: ='c.Dif to PCL'!I50/'b.Proxy PCL'!I$61 -> -0.20488759
B49: SVE | C49: Performance range | D49: Number of spills per overflow | E49: ='c.Dif to PCL'!E51/'b.Proxy PCL'!E$61 -> -0.10036652 | F49: ='c.Dif to PCL'!F51/'b.Proxy PCL'!F$61 -> -0.13637754 | G49: ='c.Dif to PCL'!G51/'b.Proxy PCL'!G$61 -> -0.28140654 | H49: ='c.Dif to PCL'!H51/'b.Proxy PCL'!H$61 -> -0.27980007 | I49: ='c.Dif to PCL'!I51/'b.Proxy PCL'!I$61 -> -0.24997229
...

Sheet c.Dif to PCL
A1: =RIGHT(CELL("filename", A1), LEN(CELL("filename", A1)) - SEARCH("]", CELL("filename", A1))) -> #VALUE!
A3: This sheet calculates the difference between the Proxy PCL and Performance
B6: Bathing water quality
E7: Performance range (Proxy PCL - Performance)
B8: Company | C8: Measure | D8: Unit | E8: 2015 | F8: 2016 | G8: 2017 | H8: 2018 | I8: 2019 | J8: 2020 | K8: 2021 | L8: 2022 | M8: 2023
B9: ANH | C9: Performance range | D9: nr | E9: =IF(a.Performance!F10="","",'b.Proxy PCL'!E9-a.Performance!F10) -> -3.8435374 | F9: =IF(a.Performance!G10="","",'b.Proxy PCL'!F9-a.Performance!G10) -> -2.6938776 | G9: =IF(a.Performance!H10="","",'b.Proxy PCL'!G9-a.Performance!H10) -> 0.69387755 | H9: =IF(a.Performance!I10="","",'b.Proxy PCL'!H9-a.Performance!I10) -> 2.0204082 | I9: =IF(a.Performance!J10="","",'b.Proxy PCL'!I9-a.Performance!J10) -> 0 | J9: =IF(a.Performance!K10="","",'b.Proxy PCL'!J9-a.Performance!K10) -> 0 | K9: =IF(a.Performance!L10="","",'b.Proxy PCL'!K9-a.Performance!L10) -> -1.0518707 | L9: =IF(a.Performance!M10="","",'b.Proxy PCL'!L9-a.Performance!M10) -> -1.0518707 | M9: =IF(a.Performance!N10="","",'b.Proxy PCL'!M9-a.Performance!N10) -> 2.0192077
B10: WSH | C10: Performance range | D10: nr | E10: =IF(a.Performance!F11="","",'b.Proxy PCL'!E10-a.Performance!F11) -> 0 | F10: =IF(a.Performance!G11="","",'b.Proxy PCL'!F10-a.Performance!G11) -> -1.0898534 | G10: =IF(a.Performance!H11="","",'b.Proxy PCL'!G10-a.Performance!H11) -> 1.0912519 | H10: =IF(a.Performance!I11="","",'b.Proxy PCL'!H10-a.Performance!I11) -> 0.46625189 | I10: =IF(a.Performance!J11="","",'b.Proxy PCL'!I10-a.Performance!J11) -> -0.93109244 | J10: =IF(a.Performance!K11="","",'b.Proxy PCL'!J10-a.Performance!K11) -> 0.64985994 | K10: =IF(a.Performance!L11="","",'b.Proxy PCL'!K10-a.Performance!L11) -> -0.2929972 | L10: =IF(a.Performance!M11="","",'b.Proxy PCL'!L10-a.Performance!M11) -> -0.48854682 | M10: =IF(a.Performance!N11="","",'b.Proxy PCL'!M10-a.Performance!N11) -> 3.0295017
B11: NES | C11: Performance range | D11: nr | E11: =IF(a.Performance!F12="","",'b.Proxy PCL'!E11-a.Performance!F12) -> 7.6060606 | F11: =IF(a.Performance!G12="","",'b.Proxy PCL'!F11-a.Performance!G12) -> -1.4848485 | G11: =IF(a.Performance!H12="","",'b.Proxy PCL'!G11-a.Performance!H12) -> 0.54545455 | H11: =IF(a.Performance!I12="","",'b.Proxy PCL'!H11-a.Performance!I12) -> -1.5151515 | I11: =IF(a.Performance!J12="","",'b.Proxy PCL'!I11-a.Performance!J12) -> -0.54545455 | J11: =IF(a.Performance!K12="","",'b.Proxy PCL'!J11-a.Performance!K12) | K11: =IF(a.Performance!L12="","",'b.Proxy PCL'!K11-a.Performance!L12) -> -1.5151515 | L11: =IF(a.Performance!M12="","",'b.Proxy PCL'!L11-a.Performance!M12) -> 2.5757576 | M11: =IF(a.Performance!N12="","",'b.Proxy PCL'!M11-a.Performance!N12) -> 3.5757576
B12: SVE | C12: Performance range | D12: nr | E12: =IF(a.Performance!F13="","",'b.Proxy PCL'!E12-a.Performance!F13) | F12: =IF(a.Performance!G13="","",'b.Proxy PCL'!F12-a.Performance!G13) | G12: =IF(a.Performance!H13="","",'b.Proxy PCL'!G12-a.Performance!H13) | H12: =IF(a.Performance!I13="","",'b.Proxy PCL'!H12-a.Performance!I13) | I12: =IF(a.Performance!J13="","",'b.Proxy PCL'!I12-a.Performance!J13) | J12: =IF(a.Performance!K13="","",'b.Proxy PCL'!J12-a.Performance!K13) | K12: =IF(a.Performance!L13="","",'b.Proxy PCL'!K12-a.Performance!L13) | L12: =IF(a.Performance!M13="","",'b.Proxy PCL'!L12-a.Performance!M13) | M12: =IF(a.Performance!N13="","",'b.Proxy PCL'!M12-a.Performance!N13)
B13: SWB | C13: Performance range | D13: nr | E13: =IF(a.Performance!F14="","",'b.Proxy PCL'!E13-a.Performance!F14) -> 4.4016646 | F13: =IF(a.Performance!G14="","",'b.Proxy PCL'!F13-a.Performance!G14) -> -0.7815429 | G13: =IF(a.Performance!H14="","",'b.Proxy PCL'!G13-a.Performance!H14) -> 3.5951694 | H13: =IF(a.Performance!I14="","",'b.Proxy PCL'!H13-a.Performance!I14) -> 1.9356782 | I13: =IF(a.Performance!J14="","",'b.Proxy PCL'!I13-a.Performance!J14) -> -1.0079308 | J13: =IF(a.Performance!K14="","",'b.Proxy PCL'!J13-a.Performance!K14) | K13: =IF(a.Performance!L14="","",'b.Proxy PCL'!K13-a.Performance!L14) -> 0.7815429 | L13: =IF(a.Performance!M14="","",'b.Proxy PCL'!L13-a.Performance!M14) -> -2.4725526 | M13: =IF(a.Performance!N14="","",'b.Proxy PCL'!M13-a.Performance!N14) -> -2.4167027
B14: SRN | C14: Performance range | D14: nr | E14: =IF(a.Performance!F15="","",'b.Proxy PCL'!E14-a.Performance!F15) -> 0.64414802 | F14: =IF(a.Performance!G15="","",'b.Proxy PCL'!F14-a.Performance!G15) -> 0.63209983 | G14: =IF(a.Performance!H15="","",'b.Proxy PCL'!G14-a.Performance!H15) -> 0.22246127 | H14: =IF(a.Performance!I15="","",'b.Proxy PCL'!H14-a.Performance!I15) -> -3.0305508 | I14: =IF(a.Performance!J15="","",'b.Proxy PCL'!I14-a.Performance!J15) -> -3.0305508 | J14: =IF(a.Performance!K15="","",'b.Proxy PCL'!J14-a.Performance!K15) -> -3.0305508 | K14: =IF(a.Performance!L15="","",'b.Proxy PCL'!K14-a.Performance!L15) -> -2.2233219 | L14: =IF(a.Performance!M15="","",'b.Proxy PCL'!L14-a.Performance!M15) -> 0 | M14: =IF(a.Performance!N15="","",'b.Proxy PCL'!M14-a.Performance!N15) -> 7.1785714
B15: TMS | C15: Performance range | D15: nr | E15: =IF(a.Performance!F16="","",'b.Proxy PCL'!E15-a.Performance!F16) -> 34 | F15: =IF(a.Performance!G16="","",'b.Proxy PCL'!F15-a.Performance!G16) -> 0 | G15: =IF(a.Performance!H16="","",'b.Proxy PCL'!G15-a.Performance!H16) -> 0 | H15: =IF(a.Performance!I16="","",'b.Proxy PCL'!H15-a.Performance!I16) -> 0 | I15: =IF(a.Performance!J16="","",'b.Proxy PCL'!I15-a.Performance!J16) -> 0 | J15: =IF(a.Performance!K16="","",'b.Proxy PCL'!J15-a.Performance!K16) | K15: =IF(a.Performance!L16="","",'b.Proxy PCL'!K15-a.Performance!L16) -> 0 | L15: =IF(a.Performance!M16="","",'b.Proxy PCL'!L15-a.Performance!M16) -> 50 | M15: =IF(a.Performance!N16="","",'b.Proxy PCL'!M15-a.Performance!N16) -> 50
B16: UUW | C16: Performance range | D16: nr | E16: =IF(a.Performance!F17="","",'b.Proxy PCL'!E16-a.Performance!F17) -> 11.001669 | F16: =IF(a.Performance!G17="","",'b.Proxy PCL'!F16-a.Performance!G17) -> -1.8047831 | G16: =IF(a.Performance!H17="","",'b.Proxy PCL'!G16-a.Performance!H17) -> 0.35650723 | H16: =IF(a.Performance!I17="","",'b.Proxy PCL'!H16-a.Performance!I17) -> 0.59521691 | I16: =IF(a.Performance!J17="","",'b.Proxy PCL'!I16-a.Performance!J17) -> 0.81590656 | J16: =IF(a.Performance!K17="","",'b.Proxy PCL'!J16-a.Performance!K17) | K16: =IF(a.Performance!L17="","",'b.Proxy PCL'!K16-a.Performance!L17) -> -1.4599555 | L16: =IF(a.Performance!M17="","",'b.Proxy PCL'!L16-a.Performance!M17) -> -2.6323693 | M16: =IF(a.Performance!N17="","",'b.Proxy PCL'!M16-a.Performance!N17) -> -0.35650723
B17: WSX | C17: Performance range | D17: nr | E17: =IF(a.Performance!F18="","",'b.Proxy PCL'!E17-a.Performance!F18) -> 0.085106383 | F17: =IF(a.Performance!G18="","",'b.Proxy PCL'!F17-a.Performance!G18) -> -1.4042553 | G17: =IF(a.Performance!H18="","",'b.Proxy PCL'!G17-a.Performance!H18) -> 0.021276596 | H17: =IF(a.Performance!I18="","",'b.Proxy PCL'!H17-a.Performance!I18) -> -0.021276596 | I17: =IF(a.Performance!J18="","",'b.Proxy PCL'!I17-a.Performance!J18) -> -1.0483156 | J17: =IF(a.Performance!K18="","",'b.Proxy PCL'!J17-a.Performance!K18) | K17: =IF(a.Performance!L18="","",'b.Proxy PCL'!K17-a.Performance!L18) -> 2.4516844 | L17: =IF(a.Performance!M18="","",'b.Proxy PCL'!L17-a.Performance!M18) -> -0.042553191 | M17: =IF(a.Performance!N18="","",'b.Proxy PCL'!M17-a.Performance!N18) -> 2.0851064
B18: YKY | C18: Performance range | D18: nr | E18: =IF(a.Performance!F19="","",'b.Proxy PCL'!E18-a.Performance!F19) -> -4.8078947 | F18: =IF(a.Performance!G19="","",'b.Proxy PCL'!F18-a.Performance!G19) -> -1.5078947 | G18: =IF(a.Performance!H19="","",'b.Proxy PCL'!G18-a.Performance!H19) -> 5.2921053 | H18: =IF(a.Performance!I19="","",'b.Proxy PCL'!H18-a.Performance!I19) -> 6.9421053 | I18: =IF(a.Performance!J19="","",'b.Proxy PCL'!I18-a.Performance!J19) -> 0.14210526 | J18: =IF(a.Performance!K19="","",'b.Proxy PCL'!J18-a.Performance!K19) -> -3.5263158 | K18: =IF(a.Performance!L19="","",'b.Proxy PCL'!K18-a.Performance!L19) -> 0 | L18: =IF(a.Performance!M19="","",'b.Proxy PCL'!L18-a.Performance!M19) -> -10.684211 | M18: =IF(a.Performance!N19="","",'b.Proxy PCL'!M18-a.Performance!N19) -> 3.4736842
B21: Serious pollution incidents
E23: Performance range (Normalised Proxy PCL - Normalised Performance)
B24: Company | C24: Measure | D24: Unit | E24: 2011-12 | F24: 2012-13 | G24: 2013-14 | H24: 2014-15 | I24: 2015-16 | J24: 2016-17 | K24: 2017-18 | L24: 2018-19 | M24: 2019-20 | N24: 2020-21 | O24: 2021-22 | P24: 2022-23 | Q24: 2023-24
B25: ANH | C25: Performance range | D25: Number of category 1-2 pollution incidents per 10,000 km sewer network | E25: =IF('b.Proxy PCL'!E25="","",'b.Proxy PCL'!E25-a.Performance!F26) -> 0.3950934 | F25: =IF('b.Proxy PCL'!F25="","",'b.Proxy PCL'!F25-a.Performance!G26) -> 1.1849872 | G25: =IF('b.Proxy PCL'!G25="","",'b.Proxy PCL'!G25-a.Performance!H26) -> 0.26251433 | H25: =IF('b.Proxy PCL'!H25="","",'b.Proxy PCL'!H25-a.Performance!I26) -> 0.39300555 | I25: =IF('b.Proxy PCL'!I25="","",'b.Proxy PCL'!I25-a.Performance!J26) -> -0.13058445 | J25: =IF('b.Proxy PCL'!J25="","",'b.Proxy PCL'!J25-a.Performance!K26) -> -0.91116803 | K25: =IF('b.Proxy PCL'!K25="","",'b.Proxy PCL'!K25-a.Performance!L26) -> -1.9624055 | L25: =IF('b.Proxy PCL'!L25="","",'b.Proxy PCL'!L25-a.Performance!M26) -> -0.78361193 | ... R25: =IF('b.Proxy PCL'!R25="","",'b.Proxy PCL'!R25-a.Performance!S26)
B26: WSH | C26: Performance range | D26: Number of category 1-2 pollution incidents per 10,000 km sewer network | E26: =IF('b.Proxy PCL'!E26="","",'b.Proxy PCL'!E26-a.Performance!F27) -> 0.55914965 | F26: =IF('b.Proxy PCL'!F26="","",'b.Proxy PCL'!F26-a.Performance!G27) -> -0.2790163 | G26: =IF('b.Proxy PCL'!G26="","",'b.Proxy PCL'!G26-a.Performance!H27) -> 1.1133902 | H26: =IF('b.Proxy PCL'!H26="","",'b.Proxy PCL'!H26-a.Performance!I27) -> 0.27787812 | I26: =IF('b.Proxy PCL'!I26="","",'b.Proxy PCL'!I26-a.Performance!J27) -> 1.1095639 | J26: =IF('b.Proxy PCL'!J26="","",'b.Proxy PCL'!J26-a.Performance!K27) -> 0 | K26: =IF('b.Proxy PCL'!K26="","",'b.Proxy PCL'!K26-a.Performance!L27) -> -0.27578599 | L26: =IF('b.Proxy PCL'!L26="","",'b.Proxy PCL'!L26-a.Performance!M27) -> -0.82295496 | ... R26: =IF('b.Proxy PCL'!R26="","",'b.Proxy PCL'!R26-a.Performance!S27)
B27: HDD | C27: Performance range | D27: Number of category 1-2 pollution incidents per 10,000 km sewer network | E27: =IF('b.Proxy PCL'!E27="","",'b.Proxy PCL'!E27-a.Performance!F28) | F27: =IF('b.Proxy PCL'!F27="","",'b.Proxy PCL'!F27-a.Performance!G28) | G27: =IF('b.Proxy PCL'!G27="","",'b.Proxy PCL'!G27-a.Performance!H28) | H27: =IF('b.Proxy PCL'!H27="","",'b.Proxy PCL'!H27-a.Performance!I28) | I27: =IF('b.Proxy PCL'!I27="","",'b.Proxy PCL'!I27-a.Performance!J28) | J27: =IF('b.Proxy PCL'!J27="","",'b.Proxy PCL'!J27-a.Performance!K28) | K27: =IF('b.Proxy PCL'!K27="","",'b.Proxy PCL'!K27-a.Performance!L28) -> 19.931417 | L27: =IF('b.Proxy PCL'!L27="","",'b.Proxy PCL'!L27-a.Performance!M28) -> 19.949098 | ... R27: =IF('b.Proxy PCL'!R27="","",'b.Proxy PCL'!R27-a.Performance!S28)
B28: NES | C28: Performance range | D28: Number of category 1-2 pollution incidents per 10,000 km sewer network | E28: =IF('b.Proxy PCL'!E28="","",'b.Proxy PCL'!E28-a.Performance!F29) -> -2.0111282 | F28: =IF('b.Proxy PCL'!F28="","",'b.Proxy PCL'!F28-a.Performance!G29) -> 0.66970265 | G28: =IF('b.Proxy PCL'!G28="","",'b.Proxy PCL'!G28-a.Performance!H29) -> 0 | H28: =IF('b.Proxy PCL'!H28="","",'b.Proxy PCL'!H28-a.Performance!I29) -> 0.66835984 | I28: =IF('b.Proxy PCL'!I28="","",'b.Proxy PCL'!I28-a.Performance!J29) -> 0 | J28: =IF('b.Proxy PCL'!J28="","",'b.Proxy PCL'!J28-a.Performance!K29) -> -2.3346563 | K28: =IF('b.Proxy PCL'!K28="","",'b.Proxy PCL'!K28-a.Performance!L29) -> -0.66608939 | L28: =IF('b.Proxy PCL'!L28="","",'b.Proxy PCL'!L28-a.Performance!M29) -> 0 | ... R28: =IF('b.Proxy PCL'!R28="","",'b.Proxy PCL'!R28-a.Performance!S29)
B29: SVE | C29: Performance range | D29: Number of category 1-2 pollution incidents per 10,000 km sewer network | E29: =IF('b.Proxy PCL'!E29="","",'b.Proxy PCL'!E29-a.Performance!F30) -> -0.1084712 | F29: =IF('b.Proxy PCL'!F29="","",'b.Proxy PCL'!F29-a.Performance!G30) -> 0 | G29: =IF('b.Proxy PCL'!G29="","",'b.Proxy PCL'!G29-a.Performance!H30) -> 0.74970671 | H29: =IF('b.Proxy PCL'!H29="","",'b.Proxy PCL'!H29-a.Performance!I30) -> 0.42946553 | I29: =IF('b.Proxy PCL'!I29="","",'b.Proxy PCL'!I29-a.Performance!J30) -> 1.2865563 | J29: =IF('b.Proxy PCL'!J29="","",'b.Proxy PCL'!J29-a.Performance!K30) -> -0.21338554 | K29: =IF('b.Proxy PCL'!K29="","",'b.Proxy PCL'!K29-a.Performance!L30) -> 0.32076939 | L29: =IF('b.Proxy PCL'!L29="","",'b.Proxy PCL'!L29-a.Performance!M30) -> -0.21686543 | ... R29: =IF('b.Proxy PCL'!R29="","",'b.Proxy PCL'!R29-a.Performance!S30)
B30: SWB | C30: Performance range | D30: Number of category 1-2 pollution incidents per 10,000 km sewer network | E30: =IF('b.Proxy PCL'!E30="","",'b.Proxy PCL'!E30-a.Performance!F31) -> -5.772544 | F30: =IF('b.Proxy PCL'!F30="","",'b.Proxy PCL'!F30-a.Performance!G31) -> 0 | G30: =IF('b.Proxy PCL'!G30="","",'b.Proxy PCL'!G30-a.Performance!H31) -> -2.6597159 | H30: =IF('b.Proxy PCL'!H30="","",'b.Proxy PCL'!H30-a.Performance!I31) -> 0.44203779 | I30: =IF('b.Proxy PCL'!I30="","",'b.Proxy PCL'!I30-a.Performance!J31) -> -1.3257618 | J30: =IF('b.Proxy PCL'!J30="","",'b.Proxy PCL'!J30-a.Performance!K31) -> -0.88391539 | K30: =IF('b.Proxy PCL'!K30="","",'b.Proxy PCL'!K30-a.Performance!L31) -> -0.44029588 | L30: =IF('b.Proxy PCL'!L30="","",'b.Proxy PCL'!L30-a.Performance!M31) -> 0 | ... R30: =IF('b.Proxy PCL'!R30="","",'b.Proxy PCL'!R30-a.Performance!S31)
B31: SRN | C31: Performance range | D31: Number of category 1-2 pollution incidents per 10,000 km sewer network | E31: =IF('b.Proxy PCL'!E31="","",'b.Proxy PCL'!E31-a.Performance!F32) -> -3.8542913 | F31: =IF('b.Proxy PCL'!F31="","",'b.Proxy PCL'!F31-a.Performance!G32) -> -1.0220077 | G31: =IF('b.Proxy PCL'!G31="","",'b.Proxy PCL'!G31-a.Performance!H32) -> -0.76390595 | H31: =IF('b.Proxy PCL'!H31="","",'b.Proxy PCL'!H31-a.Performance!I32) -> -1.5223519 | I31: =IF('b.Proxy PCL'!I31="","",'b.Proxy PCL'!I31-a.Performance!J32) -> -0.25376093 | J31: =IF('b.Proxy PCL'!J31="","",'b.Proxy PCL'!J31-a.Performance!K32) -> -0.25353684 | K31: =IF('b.Proxy PCL'!K31="","",'b.Proxy PCL'!K31-a.Performance!L32) -> -0.5058041 | L31: =IF('b.Proxy PCL'!L31="","",'b.Proxy PCL'!L31-a.Performance!M32) -> -1.261957 | ... R31: =IF('b.Proxy PCL'!R31="","",'b.Proxy PCL'!R31-a.Performance!S32)
B32: TMS | C32: Performance range | D32: Number of category 1-2 pollution incidents per 10,000 km sewer network | E32: =IF('b.Proxy PCL'!E32="","",'b.Proxy PCL'!E32-a.Performance!F33) -> -0.36813043 | F32: =IF('b.Proxy PCL'!F32="","",'b.Proxy PCL'!F32-a.Performance!G33) -> 0.18389354 | G32: =IF('b.Proxy PCL'!G32="","",'b.Proxy PCL'!G32-a.Performance!H33) -> -0.45977684 | H32: =IF('b.Proxy PCL'!H32="","",'b.Proxy PCL'!H32-a.Performance!I33) -> 0.091912145 | I32: =IF('b.Proxy PCL'!I32="","",'b.Proxy PCL'!I32-a.Performance!J33) -> 0.45937102 | J32: =IF('b.Proxy PCL'!J32="","",'b.Proxy PCL'!J32-a.Performance!K33) -> -0.36730386 | K32: =IF('b.Proxy PCL'!K32="","",'b.Proxy PCL'!K32-a.Performance!L33) -> -0.36703979 | L32: =IF('b.Proxy PCL'!L32="","",'b.Proxy PCL'!L32-a.Performance!M33) -> -0.27506868 | ... R32: =IF('b.Proxy PCL'!R32="","",'b.Proxy PCL'!R32-a.Performance!S33)
B33: UUW | C33: Performance range | D33: Number of category 1-2 pollution incidents per 10,000 km sewer network | E33: =IF('b.Proxy PCL'!E33="","",'b.Proxy PCL'!E33-a.Performance!F34) -> 1.0438716 | F33: =IF('b.Proxy PCL'!F33="","",'b.Proxy PCL'!F33-a.Performance!G34) -> 0.78180501 | G33: =IF('b.Proxy PCL'!G33="","",'b.Proxy PCL'!G33-a.Performance!H34) -> 0.6493709 | H33: =IF('b.Proxy PCL'!H33="","",'b.Proxy PCL'!H33-a.Performance!I34) -> 1.2970044 | I33: =IF('b.Proxy PCL'!I33="","",'b.Proxy PCL'!I33-a.Performance!J34) -> 0.77727903 | J33: =IF('b.Proxy PCL'!J33="","",'b.Proxy PCL'!J33-a.Performance!K34) -> 0.12931425 | K33: =IF('b.Proxy PCL'!K33="","",'b.Proxy PCL'!K33-a.Performance!L34) -> 0.25860174 | L33: =IF('b.Proxy PCL'!L33="","",'b.Proxy PCL'!L33-a.Performance!M34) -> 0.38221429 | ... R33: =IF('b.Proxy PCL'!R33="","",'b.Proxy PCL'!R33-a.Performance!S34)
B34: WSX | C34: Performance range | D34: Number of category 1-2 pollution incidents per 10,000 km sewer network | E34: =IF('b.Proxy PCL'!E34="","",'b.Proxy PCL'!E34-a.Performance!F35) -> 1.1665875 | F34: =IF('b.Proxy PCL'!F34="","",'b.Proxy PCL'!F34-a.Performance!G35) -> 1.7364211 | G34: =IF('b.Proxy PCL'!G34="","",'b.Proxy PCL'!G34-a.Performance!H35) -> 0 | H34: =IF('b.Proxy PCL'!H34="","",'b.Proxy PCL'!H34-a.Performance!I35) -> 0.86623911 | I34: =IF('b.Proxy PCL'!I34="","",'b.Proxy PCL'!I34-a.Performance!J35) -> 0.86429253 | J34: =IF('b.Proxy PCL'!J34="","",'b.Proxy PCL'!J34-a.Performance!K35) -> 0 | K34: =IF('b.Proxy PCL'!K34="","",'b.Proxy PCL'!K34-a.Performance!L35) -> -0.28616815 | L34: =IF('b.Proxy PCL'!L34="","",'b.Proxy PCL'!L34-a.Performance!M35) -> -0.57424681 | ... R34: =IF('b.Proxy PCL'!R34="","",'b.Proxy PCL'!R34-a.Performance!S35)
B35: YKY | C35: Performance range | D35: Number of category 1-2 pollution incidents per 10,000 km sewer network | E35: =IF('b.Proxy PCL'!E35="","",'b.Proxy PCL'!E35-a.Performance!F36) -> -1.3459061 | F35: =IF('b.Proxy PCL'!F35="","",'b.Proxy PCL'!F35-a.Performance!G36) -> 0.3842843 | G35: =IF('b.Proxy PCL'!G35="","",'b.Proxy PCL'!G35-a.Performance!H36) -> -0.57591353 | H35: =IF('b.Proxy PCL'!H35="","",'b.Proxy PCL'!H35-a.Performance!I36) -> 0.76740922 | I35: =IF('b.Proxy PCL'!I35="","",'b.Proxy PCL'!I35-a.Performance!J36) -> 0.1916443 | J35: =IF('b.Proxy PCL'!J35="","",'b.Proxy PCL'!J35-a.Performance!K36) -> -0.76585359 | K35: =IF('b.Proxy PCL'!K35="","",'b.Proxy PCL'!K35-a.Performance!L36) -> -0.57400888 | L35: =IF('b.Proxy PCL'!L35="","",'b.Proxy PCL'!L35-a.Performance!M36) -> -2.1035562 | ... R35: =IF('b.Proxy PCL'!R35="","",'b.Proxy PCL'!R35-a.Performance!S36)
B36: AFW | C36: Performance range | D36: Number of category 1-2 pollution incidents per 10,000 km sewer network | E36: =IF('b.Proxy PCL'!E36="","",'b.Proxy PCL'!E36-a.Performance!F37) | F36: =IF('b.Proxy PCL'!F36="","",'b.Proxy PCL'!F36-a.Performance!G37) | G36: =IF('b.Proxy PCL'!G36="","",'b.Proxy PCL'!G36-a.Performance!H37) | H36: =IF('b.Proxy PCL'!H36="","",'b.Proxy PCL'!H36-a.Performance!I37) | I36: =IF('b.Proxy PCL'!I36="","",'b.Proxy PCL'!I36-a.Performance!J37) | J36: =IF('b.Proxy PCL'!J36="","",'b.Proxy PCL'!J36-a.Performance!K37) | K36: =IF('b.Proxy PCL'!K36="","",'b.Proxy PCL'!K36-a.Performance!L37) | L36: =IF('b.Proxy PCL'!L36="","",'b.Proxy PCL'!L36-a.Performance!M37) | ... R36: =IF('b.Proxy PCL'!R36="","",'b.Proxy PCL'!R36-a.Performance!S37)
... B41: SES | C41: Performance range | D41: Number of category 1-2 pollution incidents per 10,000 km sewer network | E41: =IF('b.Proxy PCL'!E41="","",'b.Proxy PCL'!E41-a.Performance!F42) | F41: =IF('b.Proxy PCL'!F41="","",'b.Proxy PCL'!F41-a.Performance!G42) | G41: =IF('b.Proxy PCL'!G41="","",'b.Proxy PCL'!G41-a.Performance!H42) | H41: =IF('b.Proxy PCL'!H41="","",'b.Proxy PCL'!H41-a.Performance!I42) | I41: =IF('b.Proxy PCL'!I41="","",'b.Proxy PCL'!I41-a.Performance!J42) | J41: =IF('b.Proxy PCL'!J41="","",'b.Proxy PCL'!J41-a.Performance!K42) | K41: =IF('b.Proxy PCL'!K41="","",'b.Proxy PCL'!K41-a.Performance!L42) | L41: =IF('b.Proxy PCL'!L41="","",'b.Proxy PCL'!L41-a.Performance!M42) | ... R41: =IF('b.Proxy PCL'!R41="","",'b.Proxy PCL'!R41-a.Performance!S42)
B44: Storm overflows
E45: Performance - Proxy PCL
B46: Company | C46: Measure | D46: Unit | E46: 2020 | F46: 2021 | G46: 2022 | H46: 2023 | I46: 2023
B47: ANH | C47: Performance range | D47: Number of spills per overflow | E47: =a.Performance!G48-'b.Proxy PCL'!E$61 -> 13.576262 | F47: =a.Performance!H48-'b.Proxy PCL'!F$61 -> 12.481087 | G47: =a.Performance!I48-'b.Proxy PCL'!G$61 -> -8.3398856 | H47: =a.Performance!J48-'b.Proxy PCL'!H$61 -> -15.45302 | I47: =a.Performance!K48-'b.Proxy PCL'!I$61 -> -3.5197215
B48: WSH | C48: Performance range | D48: Number of spills per overflow | E48: =a.Performance!G49-'b.Proxy PCL'!E$61 -> 17.417508 | F48: =a.Performance!H49-'b.Proxy PCL'!F$61 -> 11.440437 | G48: =a.Performance!I49-'b.Proxy PCL'!G$61 -> 10.830116 | H48: =a.Performance!J49-'b.Proxy PCL'!H$61 -> 17.489819 | I48: =a.Performance!K49-'b.Proxy PCL'!I$61 -> 15.857143
B49: HDD | C49: Performance range | D49: Number of spills per overflow | E49: =a.Performance!G50-'b.Proxy PCL'!E$61 -> -9.4445448 | F49: =a.Performance!H50-'b.Proxy PCL'!F$61 -> 9.4980494 | G49: =a.Performance!I50-'b.Proxy PCL'!G$61 -> 3.7890053 | H49: =a.Performance!J50-'b.Proxy PCL'!H$61 -> 2.5062772 | I49: =a.Performance!K50-'b.Proxy PCL'!I$61 -> 3.0689821
B50: NES | C50: Performance range | D50: Number of spills per overflow | E50: =a.Performance!G51-'b.Proxy PCL'!E$61 -> -17.417508 | F50: =a.Performance!H51-'b.Proxy PCL'!F$61 -> -6.2059465 | G50: =a.Performance!I51-'b.Proxy PCL'!G$61 -> -7.5453552 | H50: =a.Performance!J51-'b.Proxy PCL'!H$61 -> -6.260658 | I50: =a.Performance!K51-'b.Proxy PCL'!I$61 -> -7.1620975
B51: SVE | C51: Performance range | D51: Number of spills per overflow | E51: =a.Performance!G52-'b.Proxy PCL'!E$61 -> -4.1044638 | F51: =a.Performance!H52-'b.Proxy PCL'!F$61 -> -4.7633474 | G51: =a.Performance!I52-'b.Proxy PCL'!G$61 -> -8.4807829 | H51: =a.Performance!J52-'b.Proxy PCL'!H$61 -> -10.743261 | I51: =a.Performance!K52-'b.Proxy PCL'!I$61 -> -8.7380885
B52: SWB | C52: Performance range | D52: Number of spills per overflow | E52: =a.Performance!G53-'b.Proxy PCL'!E$61 -> -2.4901824 | F52: =a.Performance!H53-'b.Proxy PCL'!F$61 -> 3.9415151 | G52: =a.Performance!I53-'b.Proxy PCL'!G$61 -> -1.6798266 | H52: =a.Performance!J53-'b.Proxy PCL'!H$61 -> 5.0084148 | I52: =a.Performance!K53-'b.Proxy PCL'!I$61 -> 7.1620975
...

Sheet b.Proxy PCL
A1: =RIGHT(CELL("filename", A1), LEN(CELL("filename", A1)) - SEARCH("]", CELL("filename", A1))) -> #VALUE!
A3: This sheet shows the Performance values needed to calculate the Performance Range
B6: Bathing water quality
E7: Proxy PCL (median score per company)
B8: Company | C8: Measure | D8: Unit | E8: 2015 | F8: 2016 | G8: 2017 | H8: 2018 | I8: 2019 | J8: 2020 | K8: 2021 | L8: 2022 | M8: 2023
B9: ANH | C9: Proxy PCL | D9: nr | E9: =MEDIAN(a.Performance!$F10:$N10) -> 83.489796 | F9: =MEDIAN(a.Performance!$F10:$N10) -> 83.489796 | G9: =MEDIAN(a.Performance!$F10:$N10) -> 83.489796 | H9: =MEDIAN(a.Performance!$F10:$N10) -> 83.489796 | I9: =MEDIAN(a.Performance!$F10:$N10) -> 83.489796 | J9: =MEDIAN(a.Performance!$F10:$N10) -> 83.489796 | K9: =MEDIAN(a.Performance!$F10:$N10) -> 83.489796 | L9: =MEDIAN(a.Performance!$F10:$N10) -> 83.489796 | M9: =MEDIAN(a.Performance!$F10:$N10) -> 83.489796
B10: WSH | C10: Proxy PCL | D10: nr | E10: =MEDIAN(a.Performance!$F11:$N11) -> 89.745098 | F10: =MEDIAN(a.Performance!$F11:$N11) -> 89.745098 | G10: =MEDIAN(a.Performance!$F11:$N11) -> 89.745098 | H10: =MEDIAN(a.Performance!$F11:$N11) -> 89.745098 | I10: =MEDIAN(a.Performance!$F11:$N11) -> 89.745098 | J10: =MEDIAN(a.Performance!$F11:$N11) -> 89.745098 | K10: =MEDIAN(a.Performance!$F11:$N11) -> 89.745098 | L10: =MEDIAN(a.Performance!$F11:$N11) -> 89.745098 | M10: =MEDIAN(a.Performance!$F11:$N11) -> 89.745098
B11: NES | C11: Proxy PCL | D11: nr | E11: =MEDIAN(a.Performance!$F12:$N12) -> 84.151515 | F11: =MEDIAN(a.Performance!$F12:$N12) -> 84.151515 | G11: =MEDIAN(a.Performance!$F12:$N12) -> 84.151515 | H11: =MEDIAN(a.Performance!$F12:$N12) -> 84.151515 | I11: =MEDIAN(a.Performance!$F12:$N12) -> 84.151515 | J11: =MEDIAN(a.Performance!$F12:$N12) -> 84.151515 | K11: =MEDIAN(a.Performance!$F12:$N12) -> 84.151515 | L11: =MEDIAN(a.Performance!$F12:$N12) -> 84.151515 | M11: =MEDIAN(a.Performance!$F12:$N12) -> 84.151515
B12: SVE | C12: Proxy PCL | D12: nr
B13: SWB | C13: Proxy PCL | D13: nr | E13: =MEDIAN(a.Performance!$F14:$N14) -> 88.149964 | F13: =MEDIAN(a.Performance!$F14:$N14) -> 88.149964 | G13: =MEDIAN(a.Performance!$F14:$N14) -> 88.149964 | H13: =MEDIAN(a.Performance!$F14:$N14) -> 88.149964 | I13: =MEDIAN(a.Performance!$F14:$N14) -> 88.149964 | J13: =MEDIAN(a.Performance!$F14:$N14) -> 88.149964 | K13: =MEDIAN(a.Performance!$F14:$N14) -> 88.149964 | L13: =MEDIAN(a.Performance!$F14:$N14) -> 88.149964 | M13: =MEDIAN(a.Performance!$F14:$N14) -> 88.149964
B14: SRN | C14: Proxy PCL | D14: nr | E14: =MEDIAN(a.Performance!$F15:$N15) -> 83.535714 | F14: =MEDIAN(a.Performance!$F15:$N15) -> 83.535714 | G14: =MEDIAN(a.Performance!$F15:$N15) -> 83.535714 | H14: =MEDIAN(a.Performance!$F15:$N15) -> 83.535714 | I14: =MEDIAN(a.Performance!$F15:$N15) -> 83.535714 | J14: =MEDIAN(a.Performance!$F15:$N15) -> 83.535714 | K14: =MEDIAN(a.Performance!$F15:$N15) -> 83.535714 | L14: =MEDIAN(a.Performance!$F15:$N15) -> 83.535714 | M14: =MEDIAN(a.Performance!$F15:$N15) -> 83.535714
B15: TMS | C15: Proxy PCL | D15: nr | E15: =MEDIAN(a.Performance!$F16:$N16) -> 100 | F15: =MEDIAN(a.Performance!$F16:$N16) -> 100 | G15: =MEDIAN(a.Performance!$F16:$N16) -> 100 | H15: =MEDIAN(a.Performance!$F16:$N16) -> 100 | I15: =MEDIAN(a.Performance!$F16:$N16) -> 100 | J15: =MEDIAN(a.Performance!$F16:$N16) -> 100 | K15: =MEDIAN(a.Performance!$F16:$N16) -> 100 | L15: =MEDIAN(a.Performance!$F16:$N16) -> 100 | M15: =MEDIAN(a.Performance!$F16:$N16) -> 100
B16: UUW | C16: Proxy PCL | D16: nr | E16: =MEDIAN(a.Performance!$F17:$N17) -> 59.195217 | F16: =MEDIAN(a.Performance!$F17:$N17) -> 59.195217 | G16: =MEDIAN(a.Performance!$F17:$N17) -> 59.195217 | H16: =MEDIAN(a.Performance!$F17:$N17) -> 59.195217 | I16: =MEDIAN(a.Performance!$F17:$N17) -> 59.195217 | J16: =MEDIAN(a.Performance!$F17:$N17) -> 59.195217 | K16: =MEDIAN(a.Performance!$F17:$N17) -> 59.195217 | L16: =MEDIAN(a.Performance!$F17:$N17) -> 59.195217 | M16: =MEDIAN(a.Performance!$F17:$N17) -> 59.195217
B17: WSX | C17: Proxy PCL | D17: nr | E17: =MEDIAN(a.Performance!$F18:$N18) -> 85.680851 | F17: =MEDIAN(a.Performance!$F18:$N18) -> 85.680851 | G17: =MEDIAN(a.Performance!$F18:$N18) -> 85.680851 | H17: =MEDIAN(a.Performance!$F18:$N18) -> 85.680851 | I17: =MEDIAN(a.Performance!$F18:$N18) -> 85.680851 | J17: =MEDIAN(a.Performance!$F18:$N18) -> 85.680851 | K17: =MEDIAN(a.Performance!$F18:$N18) -> 85.680851 | L17: =MEDIAN(a.Performance!$F18:$N18) -> 85.680851 | M17: =MEDIAN(a.Performance!$F18:$N18) -> 85.680851
