Workbook
Name _1___Data_table_for_graph___Leakage___AR4__AR3__AR2__AR1_and_Ofwat_leakage_targets: #REF!
Name _1__Data_table_for_graph___meter_penetration___AR4__AR3__AR2__and_AR1: #REF!
Name _1__Graph___meter_penetration___AR4__AR3__AR2__and_AR1: #REF!
Name _2__Graph___Leakage_AR4__AR3__AR2__AR1_and_Ofwat_leakage_targets: #REF!
Name _2__Graph___meter_penetration___AR4__AR3__AR2__and_AR1: #REF!
Name _3__Table_of_Leakage__Ml_d__percent_change_since_AR3__AR2__AR1: #REF!
Name _3__Table_of_meter_penetration_percent_change_since_AR3__AR2_and_AR1: #REF!
Name _AtRisk_SimSetting_AutomaticallyGenerateReports: FALSE
Name _AtRisk_SimSetting_AutomaticResultsDisplayMode: 0
Name _AtRisk_SimSetting_ConvergenceConfidenceLevel: 0.95
Name _AtRisk_SimSetting_ConvergencePercentileToTest: 0.9
Name _AtRisk_SimSetting_ConvergencePerformMeanTest: TRUE
Name _AtRisk_SimSetting_ConvergencePerformPercentileTest: FALSE
Name _AtRisk_SimSetting_ConvergencePerformStdDeviationTest: FALSE
Name _AtRisk_SimSetting_ConvergenceTestAllOutputs: TRUE
Name _AtRisk_SimSetting_ConvergenceTestingPeriod: 100
Name _AtRisk_SimSetting_ConvergenceTolerance: 0.03
Name _AtRisk_SimSetting_LiveUpdate: TRUE
Name _AtRisk_SimSetting_LiveUpdatePeriod: -1
Name _AtRisk_SimSetting_MacroRecalculationBehavior: 0
Name _AtRisk_SimSetting_RandomNumberGenerator: 0
Name _AtRisk_SimSetting_ReportOptionCustomItemsCount: 0
Name _AtRisk_SimSetting_ReportOptionDataMode: 1
Name _AtRisk_SimSetting_ReportOptionReportMultiSimType: 1
Name _AtRisk_SimSetting_ReportOptionReportPlacement: 1
Name _AtRisk_SimSetting_ReportOptionReportSelection: 257
Name _AtRisk_SimSetting_ReportOptionReportsFileType: 1
Name _AtRisk_SimSetting_ReportOptionSelectiveQR: FALSE
Name _AtRisk_SimSetting_ReportsList: 257
Name _AtRisk_SimSetting_ShowSimulationProgressWindow: TRUE
Name _AtRisk_SimSetting_SimNameCount: 0
Name _AtRisk_SimSetting_SmartSensitivityAnalysisEnabled: TRUE
Name _AtRisk_SimSetting_StatisticFunctionUpdating: 1
Name _AtRisk_SimSetting_StdRecalcActiveSimulationNumber: 1
Name _AtRisk_SimSetting_StdRecalcBehavior: 1
Name _AtRisk_SimSetting_StdRecalcWithoutRiskStatic: 0
Name _AtRisk_SimSetting_StdRecalcWithoutRiskStaticPercentile: 0.5
Name _Order1: 255
Name _Order2: 255
Name Actuals_Old: #REF!
Name AddRWD: #REF!
Name AddRWD2: #REF!
Name AddRWDI: #REF!
Name AddSC: #REF!
Name AddSC2: #REF!
Name AddSCI: #REF!
Name AddSLD: #REF!
Name AddSLD2: #REF!
Name AddSLDI: #REF!
Name AddSLT: #REF!
Name AddSLT2: #REF!
Name AddSLTI: #REF!
Name AddST: #REF!
Name AddST2: #REF!
Name AddSTI: #REF!
Name AddTWD: #REF!
Name AddTWI: #REF!
Name AddWR: #REF!
Name AddWR2: #REF!
Name AddWRI: #REF!

Sheet CLEAR_SHEET
A1: FOUNTAIN_INSTANCE_URL | B1: FountainLive
A2: externalModelId | B2: 9088
A3: EXTERNAL_MODEL_NAME | B3: POST-FD-OC19-ODI-rates-Performance-Range
A4: EXTERNAL_MODEL_CODE | B4: EXTMDL_9088
A5: EXTERNAL_MODEL_FAMILY | B5: EXTERNAL
A6: companyId | B6: 0
A7: F_Outputs_Report_ID | B7: 33316
A8: F_Outputs_TEAM | B8: IPL
A9: F_Outputs_USER | B9: OFWAT\Thomas.Elliott
A10: F_Outputs_TITLE | B10: POST-FD-OC19-ODI-rates-Performance-Range_Fout
A11: outputRunId | B11: 219
A12: outputRunName | B12: Outcomes: CMA scenario (Run 12)
A13: outputSheetLastSent | B13: 30 Mar 2026 10:56:43

Sheet Cover
A1: =RIGHT(CELL("filename", $A$1), LEN(CELL("filename", $A$1)) - SEARCH("]", CELL("filename", $A$1))) -> #VALUE!
B3: PR24 ODI Rates - Performance Range Model 3
B5: Model code | C5: PR24OC19
B6: Version number: | C6: 2
B7: File name: | C7: =MID(CELL("filename"), FIND("[", CELL("filename"), 1) + 1, FIND("]", CELL("filename"), 1) - FIND("[", CELL("filename"), 1) - 1) -> #VALUE!
B8: Date: | C8: 46113
B10: For enquiries please contact: | C10: PR24@ofwat.gov.uk

Sheet Change Log
A1: =RIGHT(CELL("filename", $A$1), LEN(CELL("filename", $A$1)) - SEARCH("]", CELL("filename", $A$1))) -> #VALUE!
A4: PR24 ODI Rates C-MeX model
B6: Below are details of changes to the model from the previously published version (December 2024). The changes fix issues that have been identified and implement improvements for clarity and ease of use.
B8: Reference | C8: Sheet(s) in current model | D8: Description of change(s) made | E8: Model link(s)
B9: 2 | C9: Storm.overflows | D9: Additonal year of performance data added for storm overflows in line with the CMA Final determinations. | E9: Historical-performance-trends-for-PR24-V6.0
B10: 3 | C10: b.Proxy PCL | D10: Proxy PCL now calculated for Storm overflows for 2024 | E10: N/A
B11: 4 | C11: C.Dif to PCL | D11: Difference to PCL now calculated for Storm overflows for 2024 | E11: N/A
B12: 5 | C12: D.%Dif to PCL | D12: Percentage difference to PCL now calculated for Storm overflows for 2024 | E12: N/A
B13: 6 | C13: P10P90 | D13: P10 and P90 performance ranges extended to include 2024 performance for storm overflows | E13: N/A
B14: 8 | C14: F_Outputs | D14: Performance range for storm overflows updated to reflect additional year of outturn. | E14: N/A
A16: END

Sheet Conceptual Model
A1: Conceptual Model
A3: This sheet contains a map of this model's outputs, calculations and inputs
A40: End of sheet

Sheet Assumptions
A1: =RIGHT(CELL("filename", A1), LEN(CELL("filename", A1)) - SEARCH("]", CELL("filename", A1))) -> #VALUE!
A3: This sheet lists the assumptions we make to calculate the Performance Range for each PC in this model
B5: Area | C5: River water quality | D5: Bathing water quality | E5: Serious pollution incidents | F5: Storm overflows
B6: RCV and price base | C6: For the RoRE allocation we use 2022-23 RCV set at Financial Year Average prices for 2022-23. Water RCV: Sum of Water resources and Water network plus Wastewater RCV: Sum of Bioresources and Wastewater network plus Gearing: We use notional gearing of 55% to get the regulated equity value | D6: For the RoRE allocation we use 2022-23 RCV set at Financial Year Average prices for 2022-23. Water RCV: Sum of Water resources and Water network plus Wastewater RCV: Sum of Bioresources and Wastewater network plus Gearing: We use notional gearing of 55% to get the regulated equity value | E6: For the RoRE allocation we use 2022-23 RCV set at Financial Year Average prices for 2022-23. Water RCV: Sum of Water resources and Water network plus Wastewater RCV: Sum of Bioresources and Wastewater network plus Gearing: We use notional gearing of 55% to get the regulated equity value | F6: For the RoRE allocation we use 2022-23 RCV set at Financial Year Average prices for 2022-23. Water RCV: Sum of Water resources and Water network plus Wastewater RCV: Sum of Bioresources and Wastewater network plus Gearing: We use notional gearing of 55% to get the regulated equity value
B7: Price control allocation (PCA) | C7: 100% wastewater regulated equity | D7: 100% wastewater regulated equity | E7: This PC will apply to both water and wastewater but the PCA is still to be determined. Since this split is currently to be determined, we adopt the following approach when setting the RoRE allocation: WaSCs: we use wastewater regulated equity WoCs: we use water regulated equity | F7: 100% wastewater regulated equity
B8: Historic performance, including years of available data and any companies excluded | C8: Definition: Permitted P load per STW (kg/y), actual P load per STW Years of data used: 2011 to 2021 Companies: WaSCs Source: https://www.ofwat.gov.uk/publication/water-company-phosphorus-discharge-data-2011-2021/ | D8: Definition: Bathing water classification (EA, NRW) converted to a classification score according to the PR24 PC definition Years of data used: 2015-2021 Companies: all WaSCs with bathing water area | E8: Definition: Category 1-2 pollution incidents from water and wastewater assets, according to PR24 PC definition Years of data used: 2011-12 to 2021-22 Companies: WaSCs only | F8: Definition: Number of spills per storm overflow Years of data used: 2019-2022 Companies: WaSCs only Number of spills per storm overflow is calculated as the total number of spills per calendar year divided by the number of spills with EDM installed. We make an additional adjustment based on the proportion of the year that an EDM is not operational. This approach assumes that the number of spills when a storm overflow is unmonitored is the same as when a storm overflow is monitored. We restrict the data to 3 years because the extent of monitoring is much less in early years. 2019 onwards had an acceptable level of monitoring.
B9: PCL, including whether this is a historic PCL or whether a proxy PCL has been set, and the assumptions that have been used to set this | C9: We use modelled forecasted P permit data (tonnes per annum) from STWs at the company level for post-AMP7 and post-AMP8. We calculate the difference between the two to get the reduction in permitted P load during AMP8. We calculate an average annual reduction across AMP8. The figures for the permitted P load are taken from modelling work undertaken by the EA as of June 2023. These are not finalised figures and are subject to change, but they provide a reasonable estimate at this stage for the level of permitted phosphorus load being released by sewage treatment works between the end of AMP7 and the end of AMP8. This allows us to scale the difference between actual load and permitted load to form a performance range which is used to derive the indicative ODI rate. We calculate the % difference between actual P load and permitted P load for each STW. We calculate an industry-wide median % difference to permitted P load across all STWs in the data set. We apply this % value to the annual reduction in permitted P load. This is the proxy PCL. | D9: There has not previously been a comparable wide-scale financial incentive for improving bathing water quality. We have set a proxy PCL for each company based on their median score across all years. This reflects the fluctuation in scores across years while historic performance has not been incentivised. | E9: We develop a proxy PCL using Environmental Performance Assessment (EPA) targets for serious pollution incidents. For Welsh companies, we follow the EA methodology based on RCV size. For comparability to pollution incident performance we normalise this to 10,000km sewer network, based on each company's total sewer length for the respective year. | F9: We have set a proxy PCL for this PC. We calculate the 10th and 90th percentiles of spills per overflow for each year. The annual PCL is the midpoint between these. Performance has not been financially incentivised so we have avoided using a proxy PCL that stretches performance over time (e.g. a glidepath to 20 spills).
B10: Performance range around the PCL, including any years of data or companies that have been excluded | C10: We calculate an industry-wide 10th and 90th percentile of the % difference between actual P load and permitted P load across all STWs in the data set. We apply the 10th/90th percentile difference to the annual reduction in permitted P load. The performance range is the difference from the 10th percentile to the midpoint between the 10th and 90th percentiles, measured in kg per year. | D10: We use the difference between the historic performance and the proxy PCL for each company from 2016-17 until 2021-22. This is used to calculate a historic industry-wide 10th and 90th percentile performance. The performance range for these percentiles is identical. Either can be used to represent a "stretching" performance range, while removing outliers. To convert this % performance range into a number range we apply the 10th percentile range to the 2021 performance for each company. | E10: We calculate the difference between normalised performance and normalised PCL for all WaSCs across all years. We calculate the industry 10th/90th percentiles. We use the normalised industry 10th percentile performance range as it is the larger of the two in absolute terms. We convert this into an unnormalised value for each company based on the length of their sewer length in 2021-22. This represents the "stretching" performance range, while removing outliers. | F10: We calculate the % difference between the historic performance and the proxy PCL for each company in each year between 2019 and 2022. This is used to calculate a historic industry-wide 10th and 90th percentile % performance range. We use the 90th percentile as it is the larger of the two in absolute terms. This represents the "stretching" performance range, while removing outliers.
B11: Normalisation data | C11: - | D11: For un-normalising and re-normalising for the rate per improvement per bathing water area and final indicative ODI rate we use the number of bathing water areas per company from 2021. | E11: To get the normalised performance range, we use each company's sewer length in km for the respective year. | F11: -
B12: Other assumptions | C12: We do not have the same modelled forecasted permitted P load from STWs for Wales. We calculate the ODI rate per kg P reduction using England data. We apply the same rate to Welsh companies. Historic performance and normalisation data reflects the current view in terms of company mergers. | D12: Historic performance and normalisation data reflects the current view in terms of company mergers. | E12: Historic performance and normalisation data reflects the current view in terms of company mergers. | F12: Historic performance and normalisation data reflects the current view in terms of company mergers.
A18: End of sheet

Sheet Output >

Sheet F_Outputs
C1: [Fountain will populate this cell with the report name. Keep this placeholder here]
A2: Acronym | B2: Reference | C2: Item description | D2: Unit | E2: Model | F2: Constant
A4: ANH | B4: PR24QA_PR24OC19_OUT1 | C4: Date & Time for Model - PR24OC19 | D4: Text | E4: Price Review 2024
A5: ANH | B5: PR24QA_PR24OC19_OUT2 | C5: Name of Model - PR24OC19 | D5: Text | E5: Price Review 2024
A6: ANH | B6: PR24QA_PR24OC19_OUT3 | C6: F_Inputs time stamp - PR24OC19 | D6: Text | E6: Price Review 2024
A7: ANH | B7: PR24QA_PR24OC19_OUT4 | C7: Model override switch - PR24OC19 | D7: nr | E7: Price Review 2024
A8: ANH | B8: C_ODI_RWQ_P90 | C8: P90 performance range for RWQ top-down model | D8: % | E8: Price Review 2024 | F8: ='P1090'!$F$7 -> 0.85515823
A9: ANH | B9: C_ODI_RWQ_P50 | C9: P50 performance range for RWQ top-down model | D9: % | E9: Price Review 2024 | F9: ='P1090'!$H$7 -> 0.63733333
A10: ANH | B10: C_ODI_BWQ_P90 | C10: P90 performance range for BWQ top-down model | D10: % | E10: Price Review 2024 | F10: ='P1090'!$F$8 -> 0.062853121
A11: ANH | B11: C_ODI_SPL_P90 | C11: P90 performance range for SPL top-down model | D11: nr | E11: Price Review 2024 | F11: ='P1090'!$F$9 -> 1.3581034
A12: ANH | B12: C_ODI_SOF_P90 | C12: P90 performance range for SOF top-down model | D12: % | E12: Price Review 2024 | F12: ='P1090'!$F$10 -> 0.39528927
A13: WSH | B13: PR24QA_PR24OC19_OUT1 | C13: Date & Time for Model - PR24OC19 | D13: Text | E13: Price Review 2024
A14: WSH | B14: PR24QA_PR24OC19_OUT2 | C14: Name of Model - PR24OC19 | D14: Text | E14: Price Review 2024
A15: WSH | B15: PR24QA_PR24OC19_OUT3 | C15: F_Inputs time stamp - PR24OC19 | D15: Text | E15: Price Review 2024
A16: WSH | B16: PR24QA_PR24OC19_OUT4 | C16: Model override switch - PR24OC19 | D16: nr | E16: Price Review 2024
A17: WSH | B17: C_ODI_RWQ_P90 | C17: P90 performance range for RWQ top-down model | D17: % | E17: Price Review 2024 | F17: ='P1090'!$F$7 -> 0.85515823
A18: WSH | B18: C_ODI_RWQ_P50 | C18: P50 performance range for RWQ top-down model | D18: % | E18: Price Review 2024 | F18: ='P1090'!$H$7 -> 0.63733333
A19: WSH | B19: C_ODI_BWQ_P90 | C19: P90 performance range for BWQ top-down model | D19: % | E19: Price Review 2024 | F19: ='P1090'!$F$8 -> 0.062853121
A20: WSH | B20: C_ODI_SPL_P90 | C20: P90 performance range for SPL top-down model | D20: nr | E20: Price Review 2024 | F20: ='P1090'!$F$9 -> 1.3581034
A21: WSH | B21: C_ODI_SOF_P90 | C21: P90 performance range for SOF top-down model | D21: % | E21: Price Review 2024 | F21: ='P1090'!$F$10 -> 0.39528927
A22: HDD | B22: PR24QA_PR24OC19_OUT1 | C22: Date & Time for Model - PR24OC19 | D22: Text | E22: Price Review 2024
A23: HDD | B23: PR24QA_PR24OC19_OUT2 | C23: Name of Model - PR24OC19 | D23: Text | E23: Price Review 2024
A24: HDD | B24: PR24QA_PR24OC19_OUT3 | C24: F_Inputs time stamp - PR24OC19 | D24: Text | E24: Price Review 2024
A25: HDD | B25: PR24QA_PR24OC19_OUT4 | C25: Model override switch - PR24OC19 | D25: nr | E25: Price Review 2024
A26: HDD | B26: C_ODI_RWQ_P90 | C26: P90 performance range for RWQ top-down model | D26: % | E26: Price Review 2024 | F26: ='P1090'!$F$7 -> 0.85515823
A27: HDD | B27: C_ODI_RWQ_P50 | C27: P50 performance range for RWQ top-down model | D27: % | E27: Price Review 2024 | F27: ='P1090'!$H$7 -> 0.63733333
A28: HDD | B28: C_ODI_BWQ_P90 | C28: P90 performance range for BWQ top-down model | D28: % | E28: Price Review 2024 | F28: ='P1090'!$F$8 -> 0.062853121
A29: HDD | B29: C_ODI_SPL_P90 | C29: P90 performance range for SPL top-down model | D29: nr | E29: Price Review 2024 | F29: ='P1090'!$F$9 -> 1.3581034
A30: HDD | B30: C_ODI_SOF_P90 | C30: P90 performance range for SOF top-down model | D30: % | E30: Price Review 2024 | F30: ='P1090'!$F$10 -> 0.39528927
A31: NES | B31: PR24QA_PR24OC19_OUT1 | C31: Date & Time for Model - PR24OC19 | D31: Text | E31: Price Review 2024
A32: NES | B32: PR24QA_PR24OC19_OUT2 | C32: Name of Model - PR24OC19 | D32: Text | E32: Price Review 2024
A33: NES | B33: PR24QA_PR24OC19_OUT3 | C33: F_Inputs time stamp - PR24OC19 | D33: Text | E33: Price Review 2024
A34: NES | B34: PR24QA_PR24OC19_OUT4 | C34: Model override switch - PR24OC19 | D34: nr | E34: Price Review 2024
A35: NES | B35: C_ODI_RWQ_P90 | C35: P90 performance range for RWQ top-down model | D35: % | E35: Price Review 2024 | F35: ='P1090'!$F$7 -> 0.85515823
A36: NES | B36: C_ODI_RWQ_P50 | C36: P50 performance range for RWQ top-down model | D36: % | E36: Price Review 2024 | F36: ='P1090'!$H$7 -> 0.63733333
A37: NES | B37: C_ODI_BWQ_P90 | C37: P90 performance range for BWQ top-down model | D37: % | E37: Price Review 2024 | F37: ='P1090'!$F$8 -> 0.062853121
A38: NES | B38: C_ODI_SPL_P90 | C38: P90 performance range for SPL top-down model | D38: nr | E38: Price Review 2024 | F38: ='P1090'!$F$9 -> 1.3581034
A39: NES | B39: C_ODI_SOF_P90 | C39: P90 performance range for SOF top-down model | D39: % | E39: Price Review 2024 | F39: ='P1090'!$F$10 -> 0.39528927
A40: SVE | B40: PR24QA_PR24OC19_OUT1 | C40: Date & Time for Model - PR24OC19 | D40: Text | E40: Price Review 2024
A41: SVE | B41: PR24QA_PR24OC19_OUT2 | C41: Name of Model - PR24OC19 | D41: Text | E41: Price Review 2024
A42: SVE | B42: PR24QA_PR24OC19_OUT3 | C42: F_Inputs time stamp - PR24OC19 | D42: Text | E42: Price Review 2024
A43: SVE | B43: PR24QA_PR24OC19_OUT4 | C43: Model override switch - PR24OC19 | D43: nr | E43: Price Review 2024
A44: SVE | B44: C_ODI_RWQ_P90 | C44: P90 performance range for RWQ top-down model | D44: % | E44: Price Review 2024 | F44: ='P1090'!$F$7 -> 0.85515823
A45: SVE | B45: C_ODI_RWQ_P50 | C45: P50 performance range for RWQ top-down model | D45: % | E45: Price Review 2024 | F45: ='P1090'!$H$7 -> 0.63733333
A46: SVE | B46: C_ODI_BWQ_P90 | C46: P90 performance range for BWQ top-down model | D46: % | E46: Price Review 2024 | F46: ='P1090'!$F$8 -> 0.062853121
A47: SVE | B47: C_ODI_SPL_P90 | C47: P90 performance range for SPL top-down model | D47: nr | E47: Price Review 2024 | F47: ='P1090'!$F$9 -> 1.3581034
A48: SVE | B48: C_ODI_SOF_P90 | C48: P90 performance range for SOF top-down model | D48: % | E48: Price Review 2024 | F48: ='P1090'!$F$10 -> 0.39528927
A49: SWB | B49: PR24QA_PR24OC19_OUT1 | C49: Date & Time for Model - PR24OC19 | D49: Text | E49: Price Review 2024
A50: SWB | B50: PR24QA_PR24OC19_OUT2 | C50: Name of Model - PR24OC19 | D50: Text | E50: Price Review 2024
A51: SWB | B51: PR24QA_PR24OC19_OUT3 | C51: F_Inputs time stamp - PR24OC19 | D51: Text | E51: Price Review 2024
A52: SWB | B52: PR24QA_PR24OC19_OUT4 | C52: Model override switch - PR24OC19 | D52: nr | E52: Price Review 2024
A53: SWB | B53: C_ODI_RWQ_P90 | C53: P90 performance range for RWQ top-down model | D53: % | E53: Price Review 2024 | F53: ='P1090'!$F$7 -> 0.85515823
A54: SWB | B54: C_ODI_RWQ_P50 | C54: P50 performance range for RWQ top-down model | D54: % | E54: Price Review 2024 | F54: ='P1090'!$H$7 -> 0.63733333
A55: SWB | B55: C_ODI_BWQ_P90 | C55: P90 performance range for BWQ top-down model | D55: % | E55: Price Review 2024 | F55: ='P1090'!$F$8 -> 0.062853121
A56: SWB | B56: C_ODI_SPL_P90 | C56: P90 performance range for SPL top-down model | D56: nr | E56: Price Review 2024 | F56: ='P1090'!$F$9 -> 1.3581034
A57: SWB | B57: C_ODI_SOF_P90 | C57: P90 performance range for SOF top-down model | D57: % | E57: Price Review 2024 | F57: ='P1090'!$F$10 -> 0.39528927
A58: SRN | B58: PR24QA_PR24OC19_OUT1 | C58: Date & Time for Model - PR24OC19 | D58: Text | E58: Price Review 2024
A59: SRN | B59: PR24QA_PR24OC19_OUT2 | C59: Name of Model - PR24OC19 | D59: Text | E59: Price Review 2024
A60: SRN | B60: PR24QA_PR24OC19_OUT3 | C60: F_Inputs time stamp - PR24OC19 | D60: Text | E60: Price Review 2024
A61: SRN | B61: PR24QA_PR24OC19_OUT4 | C61: Model override switch - PR24OC19 | D61: nr | E61: Price Review 2024
A62: SRN | B62: C_ODI_RWQ_P90 | C62: P90 performance range for RWQ top-down model | D62: % | E62: Price Review 2024 | F62: ='P1090'!$F$7 -> 0.85515823
A63: SRN | B63: C_ODI_RWQ_P50 | C63: P50 performance range for RWQ top-down model | D63: % | E63: Price Review 2024 | F63: ='P1090'!$H$7 -> 0.63733333
A64: SRN | B64: C_ODI_BWQ_P90 | C64: P90 performance range for BWQ top-down model | D64: % | E64: Price Review 2024 | F64: ='P1090'!$F$8 -> 0.062853121
A65: SRN | B65: C_ODI_SPL_P90 | C65: P90 performance range for SPL top-down model | D65: nr | E65: Price Review 2024 | F65: ='P1090'!$F$9 -> 1.3581034
A66: SRN | B66: C_ODI_SOF_P90 | C66: P90 performance range for SOF top-down model | D66: % | E66: Price Review 2024 | F66: ='P1090'!$F$10 -> 0.39528927
A67: TMS | B67: PR24QA_PR24OC19_OUT1 | C67: Date & Time for Model - PR24OC19 | D67: Text | E67: Price Review 2024
A68: TMS | B68: PR24QA_PR24OC19_OUT2 | C68: Name of Model - PR24OC19 | D68: Text | E68: Price Review 2024
A69: TMS | B69: PR24QA_PR24OC19_OUT3 | C69: F_Inputs time stamp - PR24OC19 | D69: Text | E69: Price Review 2024
A70: TMS | B70: PR24QA_PR24OC19_OUT4 | C70: Model override switch - PR24OC19 | D70: nr | E70: Price Review 2024
A71: TMS | B71: C_ODI_RWQ_P90 | C71: P90 performance range for RWQ top-down model | D71: % | E71: Price Review 2024 | F71: ='P1090'!$F$7 -> 0.85515823
A72: TMS | B72: C_ODI_RWQ_P50 | C72: P50 performance range for RWQ top-down model | D72: % | E72: Price Review 2024 | F72: ='P1090'!$H$7 -> 0.63733333
A73: TMS | B73: C_ODI_BWQ_P90 | C73: P90 performance range for BWQ top-down model | D73: % | E73: Price Review 2024 | F73: ='P1090'!$F$8 -> 0.062853121
A74: TMS | B74: C_ODI_SPL_P90 | C74: P90 performance range for SPL top-down model | D74: nr | E74: Price Review 2024 | F74: ='P1090'!$F$9 -> 1.3581034
A75: TMS | B75: C_ODI_SOF_P90 | C75: P90 performance range for SOF top-down model | D75: % | E75: Price Review 2024 | F75: ='P1090'!$F$10 -> 0.39528927
A76: NWT | B76: PR24QA_PR24OC19_OUT1 | C76: Date & Time for Model - PR24OC19 | D76: Text | E76: Price Review 2024
A77: NWT | B77: PR24QA_PR24OC19_OUT2 | C77: Name of Model - PR24OC19 | D77: Text | E77: Price Review 2024
A78: NWT | B78: PR24QA_PR24OC19_OUT3 | C78: F_Inputs time stamp - PR24OC19 | D78: Text | E78: Price Review 2024
A79: NWT | B79: PR24QA_PR24OC19_OUT4 | C79: Model override switch - PR24OC19 | D79: nr | E79: Price Review 2024
A80: NWT | B80: C_ODI_RWQ_P90 | C80: P90 performance range for RWQ top-down model | D80: % | E80: Price Review 2024 | F80: ='P1090'!$F$7 -> 0.85515823
A81: NWT | B81: C_ODI_RWQ_P50 | C81: P50 performance range for RWQ top-down model | D81: % | E81: Price Review 2024 | F81: ='P1090'!$H$7 -> 0.63733333
A82: NWT | B82: C_ODI_BWQ_P90 | C82: P90 performance range for BWQ top-down model | D82: % | E82: Price Review 2024 | F82: ='P1090'!$F$8 -> 0.062853121
A83: NWT | B83: C_ODI_SPL_P90 | C83: P90 performance range for SPL top-down model | D83: nr | E83: Price Review 2024 | F83: ='P1090'!$F$9 -> 1.3581034
A84: NWT | B84: C_ODI_SOF_P90 | C84: P90 performance range for SOF top-down model | D84: % | E84: Price Review 2024 | F84: ='P1090'!$F$10 -> 0.39528927
A85: WSX | B85: PR24QA_PR24OC19_OUT1 | C85: Date & Time for Model - PR24OC19 | D85: Text | E85: Price Review 2024
A86: WSX | B86: PR24QA_PR24OC19_OUT2 | C86: Name of Model - PR24OC19 | D86: Text | E86: Price Review 2024
A87: WSX | B87: PR24QA_PR24OC19_OUT3 | C87: F_Inputs time stamp - PR24OC19 | D87: Text | E87: Price Review 2024
A88: WSX | B88: PR24QA_PR24OC19_OUT4 | C88: Model override switch - PR24OC19 | D88: nr | E88: Price Review 2024
A89: WSX | B89: C_ODI_RWQ_P90 | C89: P90 performance range for RWQ top-down model | D89: % | E89: Price Review 2024 | F89: ='P1090'!$F$7 -> 0.85515823
A90: WSX | B90: C_ODI_RWQ_P50 | C90: P50 performance range for RWQ top-down model | D90: % | E90: Price Review 2024 | F90: ='P1090'!$H$7 -> 0.63733333
A91: WSX | B91: C_ODI_BWQ_P90 | C91: P90 performance range for BWQ top-down model | D91: % | E91: Price Review 2024 | F91: ='P1090'!$F$8 -> 0.062853121
A92: WSX | B92: C_ODI_SPL_P90 | C92: P90 performance range for SPL top-down model | D92: nr | E92: Price Review 2024 | F92: ='P1090'!$F$9 -> 1.3581034
A93: WSX | B93: C_ODI_SOF_P90 | C93: P90 performance range for SOF top-down model | D93: % | E93: Price Review 2024 | F93: ='P1090'!$F$10 -> 0.39528927
A94: YKY | B94: PR24QA_PR24OC19_OUT1 | C94: Date & Time for Model - PR24OC19 | D94: Text | E94: Price Review 2024
A95: YKY | B95: PR24QA_PR24OC19_OUT2 | C95: Name of Model - PR24OC19 | D95: Text | E95: Price Review 2024
A96: YKY | B96: PR24QA_PR24OC19_OUT3 | C96: F_Inputs time stamp - PR24OC19 | D96: Text | E96: Price Review 2024
A97: YKY | B97: PR24QA_PR24OC19_OUT4 | C97: Model override switch - PR24OC19 | D97: nr | E97: Price Review 2024
A98: YKY | B98: C_ODI_RWQ_P90 | C98: P90 performance range for RWQ top-down model | D98: % | E98: Price Review 2024 | F98: ='P1090'!$F$7 -> 0.85515823
A99: YKY | B99: C_ODI_RWQ_P50 | C99: P50 performance range for RWQ top-down model | D99: % | E99: Price Review 2024 | F99: ='P1090'!$H$7 -> 0.63733333
A100: YKY | B100: C_ODI_BWQ_P90 | C100: P90 performance range for BWQ top-down model | D100: % | E100: Price Review 2024 | F100: ='P1090'!$F$8 -> 0.062853121
A101: YKY | B101: C_ODI_SPL_P90 | C101: P90 performance range for SPL top-down model | D101: nr | E101: Price Review 2024 | F101: ='P1090'!$F$9 -> 1.3581034
...

Sheet P1090
A1: =RIGHT(CELL("filename", A1), LEN(CELL("filename", A1)) - SEARCH("]", CELL("filename", A1))) -> #VALUE!
A2: SPI=E25:R41
A3: This sheet calculates the P10, P90 and median range for each PC
D5: 0.1 | E5: 0.9 | H5: 0.5
D6: P10 | E6: P90 | F6: P10/P90 higher | H6: P-median
B7: River water quality | D7: ='River.STW'!C7 -> 0.34524394 | E7: ='River.STW'!D7 -> 0.85515823 | F7: =MAX(ABS(D7),ABS(E7)) -> 0.85515823 | H7: ='River.STW'!E7 -> 0.63733333
B8: Bathing water quality | D8: =_xlfn.PERCENTILE.INC('d.%Dif to PCL'!E8:O17,D$5) -> -0.034272227 | E8: =_xlfn.PERCENTILE.INC('d.%Dif to PCL'!E8:O17,E$5) -> 0.062853121 | F8: =MAX(ABS(D8),ABS(E8)) -> 0.062853121
B9: Serious pollution incidents | D9: =_xlfn.PERCENTILE.INC(SPI.ALL,D$5) -> -1.3581034 | E9: =_xlfn.PERCENTILE.INC(SPI.ALL,E$5) -> 1.0701485 | F9: =MAX(ABS(D9),ABS(E9)) -> 1.3581034
B10: Storm overflows | D10: =_xlfn.PERCENTILE.INC('d.%Dif to PCL'!E45:J55,D$5) -> -0.35855326 | E10: =_xlfn.PERCENTILE.INC('d.%Dif to PCL'!E45:J55,E$5) -> 0.39528927 | F10: =MAX(ABS(D10),ABS(E10)) -> 0.39528927
A22: End of sheet

Sheet RWQ >

Sheet River.STW
A1: =RIGHT(CELL("filename", A1), LEN(CELL("filename", A1)) - SEARCH("]", CELL("filename", A1))) -> #VALUE!
A3: This sheet calculates the P10, P90 and P-median load difference to permit for the river water quality PC
C5: 0.1 | D5: 0.9 | E5: 0.5 | G5: Error check
C6: P10 | D6: P90 | E6: P-median | G6: Length selected range | H6: =COUNTA('Rivers.load'!$L$7:$L$3720) -> 3714
B7: Percentile | C7: =_xlfn.PERCENTILE.INC('Rivers.load'!$L$7:$L$3720,C$5) -> 0.34524394 | D7: =_xlfn.PERCENTILE.INC('Rivers.load'!$L$7:$L$3720,D$5) -> 0.85515823 | E7: =_xlfn.PERCENTILE.INC('Rivers.load'!$L$7:$L$3720,E$5) -> 0.63733333 | G7: Data rows in column | H7: =COUNTA('Rivers.load'!L:L)-1 -> 3714
G8: Equal | H8: =H6=H7 -> TRUE
G10: If FALSE, the range used in the PERCENT.INC formula should be updated
A14: End of sheet

Sheet BWQ, SPL, SOF >

Sheet d.%Dif to PCL
A1: =RIGHT(CELL("filename", A1), LEN(CELL("filename", A1)) - SEARCH("]", CELL("filename", A1))) -> #VALUE!
A3: This sheet calculates the difference between the PCL and Performance range as a percentage of the PCL
B5: Bathing water quality
E6: Performance range (Proxy PCL - Performance) / (Proxy PCL)
B7: Company | C7: Measure | D7: Unit | E7: 2015 | F7: 2016 | G7: 2017 | H7: 2018 | I7: 2019 | J7: 2020 | K7: 2021 | L7: 2022 | M7: 2023
B8: ANH | C8: Total score | D8: nr | E8: =IF('c.Dif to PCL'!E9="","",'c.Dif to PCL'!E9/'b.Proxy PCL'!E9) -> -0.046036014 | F8: =IF('c.Dif to PCL'!F9="","",'c.Dif to PCL'!F9/'b.Proxy PCL'!F9) -> -0.03226595 | G8: =IF('c.Dif to PCL'!G9="","",'c.Dif to PCL'!G9/'b.Proxy PCL'!G9) -> 0.0083109264 | H8: =IF('c.Dif to PCL'!H9="","",'c.Dif to PCL'!H9/'b.Proxy PCL'!H9) -> 0.024199462 | I8: =IF('c.Dif to PCL'!I9="","",'c.Dif to PCL'!I9/'b.Proxy PCL'!I9) -> 0 | J8: =IF('c.Dif to PCL'!J9="","",'c.Dif to PCL'!J9/'b.Proxy PCL'!J9) -> 0 | K8: =IF('c.Dif to PCL'!K9="","",'c.Dif to PCL'!K9/'b.Proxy PCL'!K9) -> -0.012598794 | L8: =IF('c.Dif to PCL'!L9="","",'c.Dif to PCL'!L9/'b.Proxy PCL'!L9) -> -0.012598794 | M8: =IF('c.Dif to PCL'!M9="","",'c.Dif to PCL'!M9/'b.Proxy PCL'!M9) -> 0.024185083
B9: WSH | C9: Total score | D9: nr | E9: =IF('c.Dif to PCL'!E10="","",'c.Dif to PCL'!E10/'b.Proxy PCL'!E10) -> 0 | F9: =IF('c.Dif to PCL'!F10="","",'c.Dif to PCL'!F10/'b.Proxy PCL'!F10) -> -0.012143877 | G9: =IF('c.Dif to PCL'!G10="","",'c.Dif to PCL'!G10/'b.Proxy PCL'!G10) -> 0.01215946 | H9: =IF('c.Dif to PCL'!H10="","",'c.Dif to PCL'!H10/'b.Proxy PCL'!H10) -> 0.0051952908 | I9: =IF('c.Dif to PCL'!I10="","",'c.Dif to PCL'!I10/'b.Proxy PCL'!I10) -> -0.010374856 | J9: =IF('c.Dif to PCL'!J10="","",'c.Dif to PCL'!J10/'b.Proxy PCL'!J10) -> 0.0072411748 | K9: =IF('c.Dif to PCL'!K10="","",'c.Dif to PCL'!K10/'b.Proxy PCL'!K10) -> -0.0032647711 | L9: =IF('c.Dif to PCL'!L10="","",'c.Dif to PCL'!L10/'b.Proxy PCL'!L10) -> -0.0054437159 | M9: =IF('c.Dif to PCL'!M10="","",'c.Dif to PCL'!M10/'b.Proxy PCL'!M10) -> 0.033756737
B10: NES | C10: Total score | D10: nr | E10: =IF('c.Dif to PCL'!E11="","",'c.Dif to PCL'!E11/'b.Proxy PCL'!E11) -> 0.090385308 | F10: =IF('c.Dif to PCL'!F11="","",'c.Dif to PCL'!F11/'b.Proxy PCL'!F11) -> -0.017644941 | G10: =IF('c.Dif to PCL'!G11="","",'c.Dif to PCL'!G11/'b.Proxy PCL'!G11) -> 0.0064818149 | H10: =IF('c.Dif to PCL'!H11="","",'c.Dif to PCL'!H11/'b.Proxy PCL'!H11) -> -0.018005041 | I10: =IF('c.Dif to PCL'!I11="","",'c.Dif to PCL'!I11/'b.Proxy PCL'!I11) -> -0.0064818149 | J10: =IF('c.Dif to PCL'!J11="","",'c.Dif to PCL'!J11/'b.Proxy PCL'!J11) | K10: =IF('c.Dif to PCL'!K11="","",'c.Dif to PCL'!K11/'b.Proxy PCL'!K11) -> -0.018005041 | L10: =IF('c.Dif to PCL'!L11="","",'c.Dif to PCL'!L11/'b.Proxy PCL'!L11) -> 0.03060857 | M10: =IF('c.Dif to PCL'!M11="","",'c.Dif to PCL'!M11/'b.Proxy PCL'!M11) -> 0.042491898
B11: SVE | C11: Total score | D11: nr | E11: =IF('c.Dif to PCL'!E12="","",'c.Dif to PCL'!E12/'b.Proxy PCL'!E12) | F11: =IF('c.Dif to PCL'!F12="","",'c.Dif to PCL'!F12/'b.Proxy PCL'!F12) | G11: =IF('c.Dif to PCL'!G12="","",'c.Dif to PCL'!G12/'b.Proxy PCL'!G12) | H11: =IF('c.Dif to PCL'!H12="","",'c.Dif to PCL'!H12/'b.Proxy PCL'!H12) | I11: =IF('c.Dif to PCL'!I12="","",'c.Dif to PCL'!I12/'b.Proxy PCL'!I12) | J11: =IF('c.Dif to PCL'!J12="","",'c.Dif to PCL'!J12/'b.Proxy PCL'!J12) | K11: =IF('c.Dif to PCL'!K12="","",'c.Dif to PCL'!K12/'b.Proxy PCL'!K12) | L11: =IF('c.Dif to PCL'!L12="","",'c.Dif to PCL'!L12/'b.Proxy PCL'!L12) | M11: =IF('c.Dif to PCL'!M12="","",'c.Dif to PCL'!M12/'b.Proxy PCL'!M12)
B12: SWB | C12: Total score | D12: nr | E12: =IF('c.Dif to PCL'!E13="","",'c.Dif to PCL'!E13/'b.Proxy PCL'!E13) -> 0.049933822 | F12: =IF('c.Dif to PCL'!F13="","",'c.Dif to PCL'!F13/'b.Proxy PCL'!F13) -> -0.0088660603 | G12: =IF('c.Dif to PCL'!G13="","",'c.Dif to PCL'!G13/'b.Proxy PCL'!G13) -> 0.040784695 | H12: =IF('c.Dif to PCL'!H13="","",'c.Dif to PCL'!H13/'b.Proxy PCL'!H13) -> 0.021958923 | I12: =IF('c.Dif to PCL'!I13="","",'c.Dif to PCL'!I13/'b.Proxy PCL'!I13) -> -0.011434273 | J12: =IF('c.Dif to PCL'!J13="","",'c.Dif to PCL'!J13/'b.Proxy PCL'!J13) | K12: =IF('c.Dif to PCL'!K13="","",'c.Dif to PCL'!K13/'b.Proxy PCL'!K13) -> 0.0088660603 | L12: =IF('c.Dif to PCL'!L13="","",'c.Dif to PCL'!L13/'b.Proxy PCL'!L13) -> -0.028049389 | M12: =IF('c.Dif to PCL'!M13="","",'c.Dif to PCL'!M13/'b.Proxy PCL'!M13) -> -0.027415811
B13: SRN | C13: Total score | D13: nr | E13: =IF('c.Dif to PCL'!E14="","",'c.Dif to PCL'!E14/'b.Proxy PCL'!E14) -> 0.0077110494 | F13: =IF('c.Dif to PCL'!F14="","",'c.Dif to PCL'!F14/'b.Proxy PCL'!F14) -> 0.0075668214 | G13: =IF('c.Dif to PCL'!G14="","",'c.Dif to PCL'!G14/'b.Proxy PCL'!G14) -> 0.0026630678 | H13: =IF('c.Dif to PCL'!H14="","",'c.Dif to PCL'!H14/'b.Proxy PCL'!H14) -> -0.036278504 | I13: =IF('c.Dif to PCL'!I14="","",'c.Dif to PCL'!I14/'b.Proxy PCL'!I14) -> -0.036278504 | J13: =IF('c.Dif to PCL'!J14="","",'c.Dif to PCL'!J14/'b.Proxy PCL'!J14) -> -0.036278504 | K13: =IF('c.Dif to PCL'!K14="","",'c.Dif to PCL'!K14/'b.Proxy PCL'!K14) -> -0.026615225 | L13: =IF('c.Dif to PCL'!L14="","",'c.Dif to PCL'!L14/'b.Proxy PCL'!L14) -> 0 | M13: =IF('c.Dif to PCL'!M14="","",'c.Dif to PCL'!M14/'b.Proxy PCL'!M14) -> 0.08593416
B14: TMS | C14: Total score | D14: nr | E14: =IF('c.Dif to PCL'!E15="","",'c.Dif to PCL'!E15/'b.Proxy PCL'!E15) -> 0.34 | F14: =IF('c.Dif to PCL'!F15="","",'c.Dif to PCL'!F15/'b.Proxy PCL'!F15) -> 0 | G14: =IF('c.Dif to PCL'!G15="","",'c.Dif to PCL'!G15/'b.Proxy PCL'!G15) -> 0 | H14: =IF('c.Dif to PCL'!H15="","",'c.Dif to PCL'!H15/'b.Proxy PCL'!H15) -> 0 | I14: =IF('c.Dif to PCL'!I15="","",'c.Dif to PCL'!I15/'b.Proxy PCL'!I15) -> 0 | J14: =IF('c.Dif to PCL'!J15="","",'c.Dif to PCL'!J15/'b.Proxy PCL'!J15) | K14: =IF('c.Dif to PCL'!K15="","",'c.Dif to PCL'!K15/'b.Proxy PCL'!K15) -> 0 | L14: =IF('c.Dif to PCL'!L15="","",'c.Dif to PCL'!L15/'b.Proxy PCL'!L15) -> 0.5 | M14: =IF('c.Dif to PCL'!M15="","",'c.Dif to PCL'!M15/'b.Proxy PCL'!M15) -> 0.5
B15: UUW | C15: Total score | D15: nr | E15: =IF('c.Dif to PCL'!E16="","",'c.Dif to PCL'!E16/'b.Proxy PCL'!E16) -> 0.18585401 | F15: =IF('c.Dif to PCL'!F16="","",'c.Dif to PCL'!F16/'b.Proxy PCL'!F16) -> -0.030488664 | G15: =IF('c.Dif to PCL'!G16="","",'c.Dif to PCL'!G16/'b.Proxy PCL'!G16) -> 0.0060225682 | H15: =IF('c.Dif to PCL'!H16="","",'c.Dif to PCL'!H16/'b.Proxy PCL'!H16) -> 0.010055152 | I15: =IF('c.Dif to PCL'!I16="","",'c.Dif to PCL'!I16/'b.Proxy PCL'!I16) -> 0.013783319 | J15: =IF('c.Dif to PCL'!J16="","",'c.Dif to PCL'!J16/'b.Proxy PCL'!J16) | K15: =IF('c.Dif to PCL'!K16="","",'c.Dif to PCL'!K16/'b.Proxy PCL'!K16) -> -0.024663403 | L15: =IF('c.Dif to PCL'!L16="","",'c.Dif to PCL'!L16/'b.Proxy PCL'!L16) -> -0.044469291 | M15: =IF('c.Dif to PCL'!M16="","",'c.Dif to PCL'!M16/'b.Proxy PCL'!M16) -> -0.0060225682
B16: WSX | C16: Total score | D16: nr | E16: =IF('c.Dif to PCL'!E17="","",'c.Dif to PCL'!E17/'b.Proxy PCL'!E17) -> 0.00099329526 | F16: =IF('c.Dif to PCL'!F17="","",'c.Dif to PCL'!F17/'b.Proxy PCL'!F17) -> -0.016389372 | G16: =IF('c.Dif to PCL'!G17="","",'c.Dif to PCL'!G17/'b.Proxy PCL'!G17) -> 0.00024832381 | H16: =IF('c.Dif to PCL'!H17="","",'c.Dif to PCL'!H17/'b.Proxy PCL'!H17) -> -0.00024832381 | I16: =IF('c.Dif to PCL'!I17="","",'c.Dif to PCL'!I17/'b.Proxy PCL'!I17) -> -0.012235121 | J16: =IF('c.Dif to PCL'!J17="","",'c.Dif to PCL'!J17/'b.Proxy PCL'!J17) | K16: =IF('c.Dif to PCL'!K17="","",'c.Dif to PCL'!K17/'b.Proxy PCL'!K17) -> 0.028614146 | L16: =IF('c.Dif to PCL'!L17="","",'c.Dif to PCL'!L17/'b.Proxy PCL'!L17) -> -0.00049664763 | M16: =IF('c.Dif to PCL'!M17="","",'c.Dif to PCL'!M17/'b.Proxy PCL'!M17) -> 0.024335734
B17: YKY | C17: Total score | D17: nr | E17: =IF('c.Dif to PCL'!E18="","",'c.Dif to PCL'!E18/'b.Proxy PCL'!E18) -> -0.068839488 | F17: =IF('c.Dif to PCL'!F18="","",'c.Dif to PCL'!F18/'b.Proxy PCL'!F18) -> -0.021590053 | G17: =IF('c.Dif to PCL'!G18="","",'c.Dif to PCL'!G18/'b.Proxy PCL'!G18) -> 0.075772419 | H17: =IF('c.Dif to PCL'!H18="","",'c.Dif to PCL'!H18/'b.Proxy PCL'!H18) -> 0.099397136 | I17: =IF('c.Dif to PCL'!I18="","",'c.Dif to PCL'!I18/'b.Proxy PCL'!I18) -> 0.0020346647 | J17: =IF('c.Dif to PCL'!J18="","",'c.Dif to PCL'!J18/'b.Proxy PCL'!J18) -> -0.050489827 | K17: =IF('c.Dif to PCL'!K18="","",'c.Dif to PCL'!K18/'b.Proxy PCL'!K18) -> 0 | L17: =IF('c.Dif to PCL'!L18="","",'c.Dif to PCL'!L18/'b.Proxy PCL'!L18) -> -0.15297664 | M17: =IF('c.Dif to PCL'!M18="","",'c.Dif to PCL'!M18/'b.Proxy PCL'!M18) -> 0.049736247
B20: Serious Pollution Incidents
E21: Performance range (Normalised Proxy PCL - Normalised Performance)
B22: Company | C22: Measure | D22: Unit | E22: 2011-12 | F22: 2012-13 | G22: 2013-14 | H22: 2014-15 | I22: 2015-16 | J22: 2016-17 | K22: 2017-18 | L22: 2018-19 | M22: 2019-20 | N22: 2020-21 | O22: 2021-22 | P22: 2022-23 | Q22: 2023-24 | R22: 2024-25
B23: ANH | C23: Performance range | D23: Number of category 1-2 pollution incidents per 10,000 km sewer network | E23: N/A - see c.Dif to PCL sheet
B24: WSH | C24: Performance range | D24: Number of category 1-2 pollution incidents per 10,000 km sewer network
B25: HDD | C25: Performance range | D25: Number of category 1-2 pollution incidents per 10,000 km sewer network
B26: NES | C26: Performance range | D26: Number of category 1-2 pollution incidents per 10,000 km sewer network
B27: SVE | C27: Performance range | D27: Number of category 1-2 pollution incidents per 10,000 km sewer network
B28: SWB | C28: Performance range | D28: Number of category 1-2 pollution incidents per 10,000 km sewer network
B29: SRN | C29: Performance range | D29: Number of category 1-2 pollution incidents per 10,000 km sewer network
B30: TMS | C30: Performance range | D30: Number of category 1-2 pollution incidents per 10,000 km sewer network
B31: UUW | C31: Performance range | D31: Number of category 1-2 pollution incidents per 10,000 km sewer network
B32: WSX | C32: Performance range | D32: Number of category 1-2 pollution incidents per 10,000 km sewer network
B33: YKY | C33: Performance range | D33: Number of category 1-2 pollution incidents per 10,000 km sewer network
B34: AFW | C34: Performance range | D34: Number of category 1-2 pollution incidents per 10,000 km sewer network
B35: BRL | C35: Performance range | D35: Number of category 1-2 pollution incidents per 10,000 km sewer network
... B39: SES | C39: Performance range | D39: Number of category 1-2 pollution incidents per 10,000 km sewer network
B42: Storm overflows
E43: Performance - Proxy PCL
B44: Company | C44: Measure | D44: Unit | E44: 2020 | F44: 2021 | G44: 2022 | H44: 2023 | I44: 2024
B45: ANH | C45: Performance range | D45: Number of spills per overflow | E45: ='c.Dif to PCL'!E47/'b.Proxy PCL'!E$61 -> 0.33198058 | F45: ='c.Dif to PCL'!F47/'b.Proxy PCL'!F$61 -> 0.35734115 | G45: ='c.Dif to PCL'!G47/'b.Proxy PCL'!G$61 -> -0.27673134 | H45: ='c.Dif to PCL'!H47/'b.Proxy PCL'!H$61 -> -0.40246218 | I45: ='c.Dif to PCL'!I47/'b.Proxy PCL'!I$61 -> -0.1006894
B46: WSH | C46: Performance range | D46: Number of spills per overflow | E46: ='c.Dif to PCL'!E48/'b.Proxy PCL'!E$61 -> 0.42591061 | F46: ='c.Dif to PCL'!F48/'b.Proxy PCL'!F$61 -> 0.3275467 | G46: ='c.Dif to PCL'!G48/'b.Proxy PCL'!G$61 -> 0.35936133 | H46: ='c.Dif to PCL'!H48/'b.Proxy PCL'!H$61 -> 0.45550905 | I46: ='c.Dif to PCL'!I48/'b.Proxy PCL'!I$61 -> 0.45362856
B47: HDD | C47: Performance range | D47: Number of spills per overflow | E47: ='c.Dif to PCL'!E49/'b.Proxy PCL'!E$61 -> -0.23094762 | F47: ='c.Dif to PCL'!F49/'b.Proxy PCL'!F$61 -> 0.27193495 | G47: ='c.Dif to PCL'!G49/'b.Proxy PCL'!G$61 -> 0.12572552 | H47: ='c.Dif to PCL'!H49/'b.Proxy PCL'!H$61 -> 0.065274087 | I47: ='c.Dif to PCL'!I49/'b.Proxy PCL'!I$61 -> 0.087795003
B48: NES | C48: Performance range | D48: Number of spills per overflow | E48: ='c.Dif to PCL'!E50/'b.Proxy PCL'!E$61 -> -0.42591061 | F48: ='c.Dif to PCL'!F50/'b.Proxy PCL'!F$61 -> -0.17768004 | G48: ='c.Dif to PCL'!G50/'b.Proxy PCL'!G$61 -> -0.25036749 | H48: ='c.Dif to PCL'!H50/'b.Proxy PCL'!H$61 -> -0.16305408 | I48: ='c.Dif to PCL'!I50/'b.Proxy PCL'!I$61 -> -0.20488759
B49: SVE | C49: Performance range | D49: Number of spills per overflow | E49: ='c.Dif to PCL'!E51/'b.Proxy PCL'!E$61 -> -0.10036652 | F49: ='c.Dif to PCL'!F51/'b.Proxy PCL'!F$61 -> -0.13637754 | G49: ='c.Dif to PCL'!G51/'b.Proxy PCL'!G$61 -> -0.28140654 | H49: ='c.Dif to PCL'!H51/'b.Proxy PCL'!H$61 -> -0.27980007 | I49: ='c.Dif to PCL'!I51/'b.Proxy PCL'!I$61 -> -0.24997229
B50: SWB | C50: Performance range | D50: Number of spills per overflow | E50: ='c.Dif to PCL'!E52/'b.Proxy PCL'!E$61 -> -0.060892475 | F50: ='c.Dif to PCL'!F52/'b.Proxy PCL'!F$61 -> 0.11284798 | G50: ='c.Dif to PCL'!G52/'b.Proxy PCL'!G$61 -> -0.055739454 | H50: ='c.Dif to PCL'!H52/'b.Proxy PCL'!H$61 -> 0.13044036 | I50: ='c.Dif to PCL'!I52/'b.Proxy PCL'!I$61 -> 0.20488759
B51: SRN | C51: Performance range | D51: Number of spills per overflow | E51: ='c.Dif to PCL'!E53/'b.Proxy PCL'!E$61 -> -0.45006545 | F51: ='c.Dif to PCL'!F53/'b.Proxy PCL'!F$61 -> -0.36891149 | G51: ='c.Dif to PCL'!G53/'b.Proxy PCL'!G$61 -> -0.35936133 | H51: ='c.Dif to PCL'!H53/'b.Proxy PCL'!H$61 -> -0.13816351 | I51: ='c.Dif to PCL'!I53/'b.Proxy PCL'!I$61 -> -0.078102932
B52: TMS | C52: Performance range | D52: Number of spills per overflow | E52: ='c.Dif to PCL'!E54/'b.Proxy PCL'!E$61 -> 0.35643224 | F52: ='c.Dif to PCL'!F54/'b.Proxy PCL'!F$61 -> 0.30035209 | G52: ='c.Dif to PCL'!G54/'b.Proxy PCL'!G$61 -> -0.20661119 | H52: ='c.Dif to PCL'!H54/'b.Proxy PCL'!H$61 -> -0.19668201 | I52: ='c.Dif to PCL'!I54/'b.Proxy PCL'!I$61 -> 0.14906366
B53: UUW | C53: Performance range | D53: Number of spills per overflow | E53: ='c.Dif to PCL'!E55/'b.Proxy PCL'!E$61 -> 0.5197393 | F53: ='c.Dif to PCL'!F55/'b.Proxy PCL'!F$61 -> 0.41924122 | G53: ='c.Dif to PCL'!G55/'b.Proxy PCL'!G$61 -> 0.43929809 | H53: ='c.Dif to PCL'!H55/'b.Proxy PCL'!H$61 -> 0.27980007 | I53: ='c.Dif to PCL'!I55/'b.Proxy PCL'!I$61 -> 0.031201526
B54: WSX | C54: Performance range | D54: Number of spills per overflow | E54: ='c.Dif to PCL'!E56/'b.Proxy PCL'!E$61 -> -0.26933075 | F54: ='c.Dif to PCL'!F56/'b.Proxy PCL'!F$61 -> -0.35734115 | G54: ='c.Dif to PCL'!G56/'b.Proxy PCL'!G$61 -> -0.3858303 | H54: ='c.Dif to PCL'!H56/'b.Proxy PCL'!H$61 -> -0.16632286 | I54: ='c.Dif to PCL'!I56/'b.Proxy PCL'!I$61 -> -0.014263047
B55: YKY | C55: Performance range | D55: Number of spills per overflow | E55: ='c.Dif to PCL'!E57/'b.Proxy PCL'!E$61 -> -0.17608144 | F55: ='c.Dif to PCL'!F57/'b.Proxy PCL'!F$61 -> 0.10476888 | G55: ='c.Dif to PCL'!G57/'b.Proxy PCL'!G$61 -> -0.016689545 | H55: ='c.Dif to PCL'!H57/'b.Proxy PCL'!H$61 -> 0.010302782 | I55: ='c.Dif to PCL'!I57/'b.Proxy PCL'!I$61 -> -0.059200688
A61: End of sheet

Sheet c.Dif to PCL
A1: =RIGHT(CELL("filename", A1), LEN(CELL("filename", A1)) - SEARCH("]", CELL("filename", A1))) -> #VALUE!
A3: This sheet calculates the difference between the Proxy PCL and Performance
B6: Bathing water quality
E7: Performance range (Proxy PCL - Performance)
B8: Company | C8: Measure | D8: Unit | E8: 2015 | F8: 2016 | G8: 2017 | H8: 2018 | I8: 2019 | J8: 2020 | K8: 2021 | L8: 2022 | M8: 2023
B9: ANH | C9: Performance range | D9: nr | E9: =IF(a.Performance!F10="","",'b.Proxy PCL'!E9-a.Performance!F10) -> -3.8435374 | F9: =IF(a.Performance!G10="","",'b.Proxy PCL'!F9-a.Performance!G10) -> -2.6938776 | G9: =IF(a.Performance!H10="","",'b.Proxy PCL'!G9-a.Performance!H10) -> 0.69387755 | H9: =IF(a.Performance!I10="","",'b.Proxy PCL'!H9-a.Performance!I10) -> 2.0204082 | I9: =IF(a.Performance!J10="","",'b.Proxy PCL'!I9-a.Performance!J10) -> 0 | J9: =IF(a.Performance!K10="","",'b.Proxy PCL'!J9-a.Performance!K10) -> 0 | K9: =IF(a.Performance!L10="","",'b.Proxy PCL'!K9-a.Performance!L10) -> -1.0518707 | L9: =IF(a.Performance!M10="","",'b.Proxy PCL'!L9-a.Performance!M10) -> -1.0518707 | M9: =IF(a.Performance!N10="","",'b.Proxy PCL'!M9-a.Performance!N10) -> 2.0192077
B10: WSH | C10: Performance range | D10: nr | E10: =IF(a.Performance!F11="","",'b.Proxy PCL'!E10-a.Performance!F11) -> 0 | F10: =IF(a.Performance!G11="","",'b.Proxy PCL'!F10-a.Performance!G11) -> -1.0898534 | G10: =IF(a.Performance!H11="","",'b.Proxy PCL'!G10-a.Performance!H11) -> 1.0912519 | H10: =IF(a.Performance!I11="","",'b.Proxy PCL'!H10-a.Performance!I11) -> 0.46625189 | I10: =IF(a.Performance!J11="","",'b.Proxy PCL'!I10-a.Performance!J11) -> -0.93109244 | J10: =IF(a.Performance!K11="","",'b.Proxy PCL'!J10-a.Performance!K11) -> 0.64985994 | K10: =IF(a.Performance!L11="","",'b.Proxy PCL'!K10-a.Performance!L11) -> -0.2929972 | L10: =IF(a.Performance!M11="","",'b.Proxy PCL'!L10-a.Performance!M11) -> -0.48854682 | M10: =IF(a.Performance!N11="","",'b.Proxy PCL'!M10-a.Performance!N11) -> 3.0295017
B11: NES | C11: Performance range | D11: nr | E11: =IF(a.Performance!F12="","",'b.Proxy PCL'!E11-a.Performance!F12) -> 7.6060606 | F11: =IF(a.Performance!G12="","",'b.Proxy PCL'!F11-a.Performance!G12) -> -1.4848485 | G11: =IF(a.Performance!H12="","",'b.Proxy PCL'!G11-a.Performance!H12) -> 0.54545455 | H11: =IF(a.Performance!I12="","",'b.Proxy PCL'!H11-a.Performance!I12) -> -1.5151515 | I11: =IF(a.Performance!J12="","",'b.Proxy PCL'!I11-a.Performance!J12) -> -0.54545455 | J11: =IF(a.Performance!K12="","",'b.Proxy PCL'!J11-a.Performance!K12) | K11: =IF(a.Performance!L12="","",'b.Proxy PCL'!K11-a.Performance!L12) -> -1.5151515 | L11: =IF(a.Performance!M12="","",'b.Proxy PCL'!L11-a.Performance!M12) -> 2.5757576 | M11: =IF(a.Performance!N12="","",'b.Proxy PCL'!M11-a.Performance!N12) -> 3.5757576
B12: SVE | C12: Performance range | D12: nr | E12: =IF(a.Performance!F13="","",'b.Proxy PCL'!E12-a.Performance!F13) | F12: =IF(a.Performance!G13="","",'b.Proxy PCL'!F12-a.Performance!G13) | G12: =IF(a.Performance!H13="","",'b.Proxy PCL'!G12-a.Performance!H13) | H12: =IF(a.Performance!I13="","",'b.Proxy PCL'!H12-a.Performance!I13) | I12: =IF(a.Performance!J13="","",'b.Proxy PCL'!I12-a.Performance!J13) | J12: =IF(a.Performance!K13="","",'b.Proxy PCL'!J12-a.Performance!K13) | K12: =IF(a.Performance!L13="","",'b.Proxy PCL'!K12-a.Performance!L13) | L12: =IF(a.Performance!M13="","",'b.Proxy PCL'!L12-a.Performance!M13) | M12: =IF(a.Performance!N13="","",'b.Proxy PCL'!M12-a.Performance!N13)
B13: SWB | C13: Performance range | D13: nr | E13: =IF(a.Performance!F14="","",'b.Proxy PCL'!E13-a.Performance!F14) -> 4.4016646 | F13: =IF(a.Performance!G14="","",'b.Proxy PCL'!F13-a.Performance!G14) -> -0.7815429 | G13: =IF(a.Performance!H14="","",'b.Proxy PCL'!G13-a.Performance!H14) -> 3.5951694 | H13: =IF(a.Performance!I14="","",'b.Proxy PCL'!H13-a.Performance!I14) -> 1.9356782 | I13: =IF(a.Performance!J14="","",'b.Proxy PCL'!I13-a.Performance!J14) -> -1.0079308 | J13: =IF(a.Performance!K14="","",'b.Proxy PCL'!J13-a.Performance!K14) | K13: =IF(a.Performance!L14="","",'b.Proxy PCL'!K13-a.Performance!L14) -> 0.7815429 | L13: =IF(a.Performance!M14="","",'b.Proxy PCL'!L13-a.Performance!M14) -> -2.4725526 | M13: =IF(a.Performance!N14="","",'b.Proxy PCL'!M13-a.Performance!N14) -> -2.4167027
B14: SRN | C14: Performance range | D14: nr | E14: =IF(a.Performance!F15="","",'b.Proxy PCL'!E14-a.Performance!F15) -> 0.64414802 | F14: =IF(a.Performance!G15="","",'b.Proxy PCL'!F14-a.Performance!G15) -> 0.63209983 | G14: =IF(a.Performance!H15="","",'b.Proxy PCL'!G14-a.Performance!H15) -> 0.22246127 | H14: =IF(a.Performance!I15="","",'b.Proxy PCL'!H14-a.Performance!I15) -> -3.0305508 | I14: =IF(a.Performance!J15="","",'b.Proxy PCL'!I14-a.Performance!J15) -> -3.0305508 | J14: =IF(a.Performance!K15="","",'b.Proxy PCL'!J14-a.Performance!K15) -> -3.0305508 | K14: =IF(a.Performance!L15="","",'b.Proxy PCL'!K14-a.Performance!L15) -> -2.2233219 | L14: =IF(a.Performance!M15="","",'b.Proxy PCL'!L14-a.Performance!M15) -> 0 | M14: =IF(a.Performance!N15="","",'b.Proxy PCL'!M14-a.Performance!N15) -> 7.1785714
B15: TMS | C15: Performance range | D15: nr | E15: =IF(a.Performance!F16="","",'b.Proxy PCL'!E15-a.Performance!F16) -> 34 | F15: =IF(a.Performance!G16="","",'b.Proxy PCL'!F15-a.Performance!G16) -> 0 | G15: =IF(a.Performance!H16="","",'b.Proxy PCL'!G15-a.Performance!H16) -> 0 | H15: =IF(a.Performance!I16="","",'b.Proxy PCL'!H15-a.Performance!I16) -> 0 | I15: =IF(a.Performance!J16="","",'b.Proxy PCL'!I15-a.Performance!J16) -> 0 | J15: =IF(a.Performance!K16="","",'b.Proxy PCL'!J15-a.Performance!K16) | K15: =IF(a.Performance!L16="","",'b.Proxy PCL'!K15-a.Performance!L16) -> 0 | L15: =IF(a.Performance!M16="","",'b.Proxy PCL'!L15-a.Performance!M16) -> 50 | M15: =IF(a.Performance!N16="","",'b.Proxy PCL'!M15-a.Performance!N16) -> 50
B16: UUW | C16: Performance range | D16: nr | E16: =IF(a.Performance!F17="","",'b.Proxy PCL'!E16-a.Performance!F17) -> 11.001669 | F16: =IF(a.Performance!G17="","",'b.Proxy PCL'!F16-a.Performance!G17) -> -1.8047831 | G16: =IF(a.Performance!H17="","",'b.Proxy PCL'!G16-a.Performance!H17) -> 0.35650723 | H16: =IF(a.Performance!I17="","",'b.Proxy PCL'!H16-a.Performance!I17) -> 0.59521691 | I16: =IF(a.Performance!J17="","",'b.Proxy PCL'!I16-a.Performance!J17) -> 0.81590656 | J16: =IF(a.Performance!K17="","",'b.Proxy PCL'!J16-a.Performance!K17) | K16: =IF(a.Performance!L17="","",'b.Proxy PCL'!K16-a.Performance!L17) -> -1.4599555 | L16: =IF(a.Performance!M17="","",'b.Proxy PCL'!L16-a.Performance!M17) -> -2.6323693 | M16: =IF(a.Performance!N17="","",'b.Proxy PCL'!M16-a.Performance!N17) -> -0.35650723
B17: WSX | C17: Performance range | D17: nr | E17: =IF(a.Performance!F18="","",'b.Proxy PCL'!E17-a.Performance!F18) -> 0.085106383 | F17: =IF(a.Performance!G18="","",'b.Proxy PCL'!F17-a.Performance!G18) -> -1.4042553 | G17: =IF(a.Performance!H18="","",'b.Proxy PCL'!G17-a.Performance!H18) -> 0.021276596 | H17: =IF(a.Performance!I18="","",'b.Proxy PCL'!H17-a.Performance!I18) -> -0.021276596 | I17: =IF(a.Performance!J18="","",'b.Proxy PCL'!I17-a.Performance!J18) -> -1.0483156 | J17: =IF(a.Performance!K18="","",'b.Proxy PCL'!J17-a.Performance!K18) | K17: =IF(a.Performance!L18="","",'b.Proxy PCL'!K17-a.Performance!L18) -> 2.4516844 | L17: =IF(a.Performance!M18="","",'b.Proxy PCL'!L17-a.Performance!M18) -> -0.042553191 | M17: =IF(a.Performance!N18="","",'b.Proxy PCL'!M17-a.Performance!N18) -> 2.0851064
B18: YKY | C18: Performance range | D18: nr | E18: =IF(a.Performance!F19="","",'b.Proxy PCL'!E18-a.Performance!F19) -> -4.8078947 | F18: =IF(a.Performance!G19="","",'b.Proxy PCL'!F18-a.Performance!G19) -> -1.5078947 | G18: =IF(a.Performance!H19="","",'b.Proxy PCL'!G18-a.Performance!H19) -> 5.2921053 | H18: =IF(a.Performance!I19="","",'b.Proxy PCL'!H18-a.Performance!I19) -> 6.9421053 | I18: =IF(a.Performance!J19="","",'b.Proxy PCL'!I18-a.Performance!J19) -> 0.14210526 | J18: =IF(a.Performance!K19="","",'b.Proxy PCL'!J18-a.Performance!K19) -> -3.5263158 | K18: =IF(a.Performance!L19="","",'b.Proxy PCL'!K18-a.Performance!L19) -> 0 | L18: =IF(a.Performance!M19="","",'b.Proxy PCL'!L18-a.Performance!M19) -> -10.684211 | M18: =IF(a.Performance!N19="","",'b.Proxy PCL'!M18-a.Performance!N19) -> 3.4736842
B21: Serious pollution incidents
E23: Performance range (Normalised Proxy PCL - Normalised Performance)
B24: Company | C24: Measure | D24: Unit | E24: 2011-12 | F24: 2012-13 | G24: 2013-14 | H24: 2014-15 | I24: 2015-16 | J24: 2016-17 | K24: 2017-18 | L24: 2018-19 | M24: 2019-20 | N24: 2020-21 | O24: 2021-22 | P24: 2022-23 | Q24: 2023-24
B25: ANH | C25: Performance range | D25: Number of category 1-2 pollution incidents per 10,000 km sewer network | E25: =IF('b.Proxy PCL'!E25="","",'b.Proxy PCL'!E25-a.Performance!F26) -> 0.3950934 | F25: =IF('b.Proxy PCL'!F25="","",'b.Proxy PCL'!F25-a.Performance!G26) -> 1.1849872 | G25: =IF('b.Proxy PCL'!G25="","",'b.Proxy PCL'!G25-a.Performance!H26) -> 0.26251433 | H25: =IF('b.Proxy PCL'!H25="","",'b.Proxy PCL'!H25-a.Performance!I26) -> 0.39300555 | I25: =IF('b.Proxy PCL'!I25="","",'b.Proxy PCL'!I25-a.Performance!J26) -> -0.13058445 | J25: =IF('b.Proxy PCL'!J25="","",'b.Proxy PCL'!J25-a.Performance!K26) -> -0.91116803 | K25: =IF('b.Proxy PCL'!K25="","",'b.Proxy PCL'!K25-a.Performance!L26) -> -1.9624055 | L25: =IF('b.Proxy PCL'!L25="","",'b.Proxy PCL'!L25-a.Performance!M26) -> -0.78361193 | ... R25: =IF('b.Proxy PCL'!R25="","",'b.Proxy PCL'!R25-a.Performance!S26)
B26: WSH | C26: Performance range | D26: Number of category 1-2 pollution incidents per 10,000 km sewer network | E26: =IF('b.Proxy PCL'!E26="","",'b.Proxy PCL'!E26-a.Performance!F27) -> 0.55914965 | F26: =IF('b.Proxy PCL'!F26="","",'b.Proxy PCL'!F26-a.Performance!G27) -> -0.2790163 | G26: =IF('b.Proxy PCL'!G26="","",'b.Proxy PCL'!G26-a.Performance!H27) -> 1.1133902 | H26: =IF('b.Proxy PCL'!H26="","",'b.Proxy PCL'!H26-a.Performance!I27) -> 0.27787812 | I26: =IF('b.Proxy PCL'!I26="","",'b.Proxy PCL'!I26-a.Performance!J27) -> 1.1095639 | J26: =IF('b.Proxy PCL'!J26="","",'b.Proxy PCL'!J26-a.Performance!K27) -> 0 | K26: =IF('b.Proxy PCL'!K26="","",'b.Proxy PCL'!K26-a.Performance!L27) -> -0.27578599 | L26: =IF('b.Proxy PCL'!L26="","",'b.Proxy PCL'!L26-a.Performance!M27) -> -0.82295496 | ... R26: =IF('b.Proxy PCL'!R26="","",'b.Proxy PCL'!R26-a.Performance!S27)
B27: HDD | C27: Performance range | D27: Number of category 1-2 pollution incidents per 10,000 km sewer network | E27: =IF('b.Proxy PCL'!E27="","",'b.Proxy PCL'!E27-a.Performance!F28) | F27: =IF('b.Proxy PCL'!F27="","",'b.Proxy PCL'!F27-a.Performance!G28) | G27: =IF('b.Proxy PCL'!G27="","",'b.Proxy PCL'!G27-a.Performance!H28) | H27: =IF('b.Proxy PCL'!H27="","",'b.Proxy PCL'!H27-a.Performance!I28) | I27: =IF('b.Proxy PCL'!I27="","",'b.Proxy PCL'!I27-a.Performance!J28) | J27: =IF('b.Proxy PCL'!J27="","",'b.Proxy PCL'!J27-a.Performance!K28) | K27: =IF('b.Proxy PCL'!K27="","",'b.Proxy PCL'!K27-a.Performance!L28) -> 19.931417 | L27: =IF('b.Proxy PCL'!L27="","",'b.Proxy PCL'!L27-a.Performance!M28) -> 19.949098 | ... R27: =IF('b.Proxy PCL'!R27="","",'b.Proxy PCL'!R27-a.Performance!S28)
B28: NES | C28: Performance range | D28: Number of category 1-2 pollution incidents per 10,000 km sewer network | E28: =IF('b.Proxy PCL'!E28="","",'b.Proxy PCL'!E28-a.Performance!F29) -> -2.0111282 | F28: =IF('b.Proxy PCL'!F28="","",'b.Proxy PCL'!F28-a.Performance!G29) -> 0.66970265 | G28: =IF('b.Proxy PCL'!G28="","",'b.Proxy PCL'!G28-a.Performance!H29) -> 0 | H28: =IF('b.Proxy PCL'!H28="","",'b.Proxy PCL'!H28-a.Performance!I29) -> 0.66835984 | I28: =IF('b.Proxy PCL'!I28="","",'b.Proxy PCL'!I28-a.Performance!J29) -> 0 | J28: =IF('b.Proxy PCL'!J28="","",'b.Proxy PCL'!J28-a.Performance!K29) -> -2.3346563 | K28: =IF('b.Proxy PCL'!K28="","",'b.Proxy PCL'!K28-a.Performance!L29) -> -0.66608939 | L28: =IF('b.Proxy PCL'!L28="","",'b.Proxy PCL'!L28-a.Performance!M29) -> 0 | ... R28: =IF('b.Proxy PCL'!R28="","",'b.Proxy PCL'!R28-a.Performance!S29)
B29: SVE | C29: Performance range | D29: Number of category 1-2 pollution incidents per 10,000 km sewer network | E29: =IF('b.Proxy PCL'!E29="","",'b.Proxy PCL'!E29-a.Performance!F30) -> -0.1084712 | F29: =IF('b.Proxy PCL'!F29="","",'b.Proxy PCL'!F29-a.Performance!G30) -> 0 | G29: =IF('b.Proxy PCL'!G29="","",'b.Proxy PCL'!G29-a.Performance!H30) -> 0.74970671 | H29: =IF('b.Proxy PCL'!H29="","",'b.Proxy PCL'!H29-a.Performance!I30) -> 0.42946553 | I29: =IF('b.Proxy PCL'!I29="","",'b.Proxy PCL'!I29-a.Performance!J30) -> 1.2865563 | J29: =IF('b.Proxy PCL'!J29="","",'b.Proxy PCL'!J29-a.Performance!K30) -> -0.21338554 | K29: =IF('b.Proxy PCL'!K29="","",'b.Proxy PCL'!K29-a.Performance!L30) -> 0.32076939 | L29: =IF('b.Proxy PCL'!L29="","",'b.Proxy PCL'!L29-a.Performance!M30) -> -0.21686543 | ... R29: =IF('b.Proxy PCL'!R29="","",'b.Proxy PCL'!R29-a.Performance!S30)
B30: SWB | C30: Performance range | D30: Number of category 1-2 pollution incidents per 10,000 km sewer network | E30: =IF('b.Proxy PCL'!E30="","",'b.Proxy PCL'!E30-a.Performance!F31) -> -5.772544 | F30: =IF('b.Proxy PCL'!F30="","",'b.Proxy PCL'!F30-a.Performance!G31) -> 0 | G30: =IF('b.Proxy PCL'!G30="","",'b.Proxy PCL'!G30-a.Performance!H31) -> -2.6597159 | H30: =IF('b.Proxy PCL'!H30="","",'b.Proxy PCL'!H30-a.Performance!I31) -> 0.44203779 | I30: =IF('b.Proxy PCL'!I30="","",'b.Proxy PCL'!I30-a.Performance!J31) -> -1.3257618 | J30: =IF('b.Proxy PCL'!J30="","",'b.Proxy PCL'!J30-a.Performance!K31) -> -0.88391539 | K30: =IF('b.Proxy PCL'!K30="","",'b.Proxy PCL'!K30-a.Performance!L31) -> -0.44029588 | L30: =IF('b.Proxy PCL'!L30="","",'b.Proxy PCL'!L30-a.Performance!M31) -> 0 | ... R30: =IF('b.Proxy PCL'!R30="","",'b.Proxy PCL'!R30-a.Performance!S31)
B31: SRN | C31: Performance range | D31: Number of category 1-2 pollution incidents per 10,000 km sewer network | E31: =IF('b.Proxy PCL'!E31="","",'b.Proxy PCL'!E31-a.Performance!F32) -> -3.8542913 | F31: =IF('b.Proxy PCL'!F31="","",'b.Proxy PCL'!F31-a.Performance!G32) -> -1.0220077 | G31: =IF('b.Proxy PCL'!G31="","",'b.Proxy PCL'!G31-a.Performance!H32) -> -0.76390595 | H31: =IF('b.Proxy PCL'!H31="","",'b.Proxy PCL'!H31-a.Performance!I32) -> -1.5223519 | I31: =IF('b.Proxy PCL'!I31="","",'b.Proxy PCL'!I31-a.Performance!J32) -> -0.25376093 | J31: =IF('b.Proxy PCL'!J31="","",'b.Proxy PCL'!J31-a.Performance!K32) -> -0.25353684 | K31: =IF('b.Proxy PCL'!K31="","",'b.Proxy PCL'!K31-a.Performance!L32) -> -0.5058041 | L31: =IF('b.Proxy PCL'!L31="","",'b.Proxy PCL'!L31-a.Performance!M32) -> -1.261957 | ... R31: =IF('b.Proxy PCL'!R31="","",'b.Proxy PCL'!R31-a.Performance!S32)
B32: TMS | C32: Performance range | D32: Number of category 1-2 pollution incidents per 10,000 km sewer network | E32: =IF('b.Proxy PCL'!E32="","",'b.Proxy PCL'!E32-a.Performance!F33) -> -0.36813043 | F32: =IF('b.Proxy PCL'!F32="","",'b.Proxy PCL'!F32-a.Performance!G33) -> 0.18389354 | G32: =IF('b.Proxy PCL'!G32="","",'b.Proxy PCL'!G32-a.Performance!H33) -> -0.45977684 | H32: =IF('b.Proxy PCL'!H32="","",'b.Proxy PCL'!H32-a.Performance!I33) -> 0.091912145 | I32: =IF('b.Proxy PCL'!I32="","",'b.Proxy PCL'!I32-a.Performance!J33) -> 0.45937102 | J32: =IF('b.Proxy PCL'!J32="","",'b.Proxy PCL'!J32-a.Performance!K33) -> -0.36730386 | K32: =IF('b.Proxy PCL'!K32="","",'b.Proxy PCL'!K32-a.Performance!L33) -> -0.36703979 | L32: =IF('b.Proxy PCL'!L32="","",'b.Proxy PCL'!L32-a.Performance!M33) -> -0.27506868 | ... R32: =IF('b.Proxy PCL'!R32="","",'b.Proxy PCL'!R32-a.Performance!S33)
B33: UUW | C33: Performance range | D33: Number of category 1-2 pollution incidents per 10,000 km sewer network | E33: =IF('b.Proxy PCL'!E33="","",'b.Proxy PCL'!E33-a.Performance!F34) -> 1.0438716 | F33: =IF('b.Proxy PCL'!F33="","",'b.Proxy PCL'!F33-a.Performance!G34) -> 0.78180501 | G33: =IF('b.Proxy PCL'!G33="","",'b.Proxy PCL'!G33-a.Performance!H34) -> 0.6493709 | H33: =IF('b.Proxy PCL'!H33="","",'b.Proxy PCL'!H33-a.Performance!I34) -> 1.2970044 | I33: =IF('b.Proxy PCL'!I33="","",'b.Proxy PCL'!I33-a.Performance!J34) -> 0.77727903 | J33: =IF('b.Proxy PCL'!J33="","",'b.Proxy PCL'!J33-a.Performance!K34) -> 0.12931425 | K33: =IF('b.Proxy PCL'!K33="","",'b.Proxy PCL'!K33-a.Performance!L34) -> 0.25860174 | L33: =IF('b.Proxy PCL'!L33="","",'b.Proxy PCL'!L33-a.Performance!M34) -> 0.38221429 | ... R33: =IF('b.Proxy PCL'!R33="","",'b.Proxy PCL'!R33-a.Performance!S34)
B34: WSX | C34: Performance range | D34: Number of category 1-2 pollution incidents per 10,000 km sewer network | E34: =IF('b.Proxy PCL'!E34="","",'b.Proxy PCL'!E34-a.Performance!F35) -> 1.1665875 | F34: =IF('b.Proxy PCL'!F34="","",'b.Proxy PCL'!F34-a.Performance!G35) -> 1.7364211 | G34: =IF('b.Proxy PCL'!G34="","",'b.Proxy PCL'!G34-a.Performance!H35) -> 0 | H34: =IF('b.Proxy PCL'!H34="","",'b.Proxy PCL'!H34-a.Performance!I35) -> 0.86623911 | I34: =IF('b.Proxy PCL'!I34="","",'b.Proxy PCL'!I34-a.Performance!J35) -> 0.86429253 | J34: =IF('b.Proxy PCL'!J34="","",'b.Proxy PCL'!J34-a.Performance!K35) -> 0 | K34: =IF('b.Proxy PCL'!K34="","",'b.Proxy PCL'!K34-a.Performance!L35) -> -0.28616815 | L34: =IF('b.Proxy PCL'!L34="","",'b.Proxy PCL'!L34-a.Performance!M35) -> -0.57424681 | ... R34: =IF('b.Proxy PCL'!R34="","",'b.Proxy PCL'!R34-a.Performance!S35)
B35: YKY | C35: Performance range | D35: Number of category 1-2 pollution incidents per 10,000 km sewer network | E35: =IF('b.Proxy PCL'!E35="","",'b.Proxy PCL'!E35-a.Performance!F36) -> -1.3459061 | F35: =IF('b.Proxy PCL'!F35="","",'b.Proxy PCL'!F35-a.Performance!G36) -> 0.3842843 | G35: =IF('b.Proxy PCL'!G35="","",'b.Proxy PCL'!G35-a.Performance!H36) -> -0.57591353 | H35: =IF('b.Proxy PCL'!H35="","",'b.Proxy PCL'!H35-a.Performance!I36) -> 0.76740922 | I35: =IF('b.Proxy PCL'!I35="","",'b.Proxy PCL'!I35-a.Performance!J36) -> 0.1916443 | J35: =IF('b.Proxy PCL'!J35="","",'b.Proxy PCL'!J35-a.Performance!K36) -> -0.76585359 | K35: =IF('b.Proxy PCL'!K35="","",'b.Proxy PCL'!K35-a.Performance!L36) -> -0.57400888 | L35: =IF('b.Proxy PCL'!L35="","",'b.Proxy PCL'!L35-a.Performance!M36) -> -2.1035562 | ... R35: =IF('b.Proxy PCL'!R35="","",'b.Proxy PCL'!R35-a.Performance!S36)
B36: AFW | C36: Performance range | D36: Number of category 1-2 pollution incidents per 10,000 km sewer network | E36: =IF('b.Proxy PCL'!E36="","",'b.Proxy PCL'!E36-a.Performance!F37) | F36: =IF('b.Proxy PCL'!F36="","",'b.Proxy PCL'!F36-a.Performance!G37) | G36: =IF('b.Proxy PCL'!G36="","",'b.Proxy PCL'!G36-a.Performance!H37) | H36: =IF('b.Proxy PCL'!H36="","",'b.Proxy PCL'!H36-a.Performance!I37) | I36: =IF('b.Proxy PCL'!I36="","",'b.Proxy PCL'!I36-a.Performance!J37) | J36: =IF('b.Proxy PCL'!J36="","",'b.Proxy PCL'!J36-a.Performance!K37) | K36: =IF('b.Proxy PCL'!K36="","",'b.Proxy PCL'!K36-a.Performance!L37) | L36: =IF('b.Proxy PCL'!L36="","",'b.Proxy PCL'!L36-a.Performance!M37) | ... R36: =IF('b.Proxy PCL'!R36="","",'b.Proxy PCL'!R36-a.Performance!S37)
... B41: SES | C41: Performance range | D41: Number of category 1-2 pollution incidents per 10,000 km sewer network | E41: =IF('b.Proxy PCL'!E41="","",'b.Proxy PCL'!E41-a.Performance!F42) | F41: =IF('b.Proxy PCL'!F41="","",'b.Proxy PCL'!F41-a.Performance!G42) | G41: =IF('b.Proxy PCL'!G41="","",'b.Proxy PCL'!G41-a.Performance!H42) | H41: =IF('b.Proxy PCL'!H41="","",'b.Proxy PCL'!H41-a.Performance!I42) | I41: =IF('b.Proxy PCL'!I41="","",'b.Proxy PCL'!I41-a.Performance!J42) | J41: =IF('b.Proxy PCL'!J41="","",'b.Proxy PCL'!J41-a.Performance!K42) | K41: =IF('b.Proxy PCL'!K41="","",'b.Proxy PCL'!K41-a.Performance!L42) | L41: =IF('b.Proxy PCL'!L41="","",'b.Proxy PCL'!L41-a.Performance!M42) | ... R41: =IF('b.Proxy PCL'!R41="","",'b.Proxy PCL'!R41-a.Performance!S42)
B44: Storm overflows
E45: Performance - Proxy PCL
B46: Company | C46: Measure | D46: Unit | E46: 2020 | F46: 2021 | G46: 2022 | H46: 2023 | I46: 2023
B47: ANH | C47: Performance range | D47: Number of spills per overflow | E47: =a.Performance!G48-'b.Proxy PCL'!E$61 -> 13.576262 | F47: =a.Performance!H48-'b.Proxy PCL'!F$61 -> 12.481087 | G47: =a.Performance!I48-'b.Proxy PCL'!G$61 -> -8.3398856 | H47: =a.Performance!J48-'b.Proxy PCL'!H$61 -> -15.45302 | I47: =a.Performance!K48-'b.Proxy PCL'!I$61 -> -3.5197215
B48: WSH | C48: Performance range | D48: Number of spills per overflow | E48: =a.Performance!G49-'b.Proxy PCL'!E$61 -> 17.417508 | F48: =a.Performance!H49-'b.Proxy PCL'!F$61 -> 11.440437 | G48: =a.Performance!I49-'b.Proxy PCL'!G$61 -> 10.830116 | H48: =a.Performance!J49-'b.Proxy PCL'!H$61 -> 17.489819 | I48: =a.Performance!K49-'b.Proxy PCL'!I$61 -> 15.857143
B49: HDD | C49: Performance range | D49: Number of spills per overflow | E49: =a.Performance!G50-'b.Proxy PCL'!E$61 -> -9.4445448 | F49: =a.Performance!H50-'b.Proxy PCL'!F$61 -> 9.4980494 | G49: =a.Performance!I50-'b.Proxy PCL'!G$61 -> 3.7890053 | H49: =a.Performance!J50-'b.Proxy PCL'!H$61 -> 2.5062772 | I49: =a.Performance!K50-'b.Proxy PCL'!I$61 -> 3.0689821
B50: NES | C50: Performance range | D50: Number of spills per overflow | E50: =a.Performance!G51-'b.Proxy PCL'!E$61 -> -17.417508 | F50: =a.Performance!H51-'b.Proxy PCL'!F$61 -> -6.2059465 | G50: =a.Performance!I51-'b.Proxy PCL'!G$61 -> -7.5453552 | H50: =a.Performance!J51-'b.Proxy PCL'!H$61 -> -6.260658 | I50: =a.Performance!K51-'b.Proxy PCL'!I$61 -> -7.1620975
B51: SVE | C51: Performance range | D51: Number of spills per overflow | E51: =a.Performance!G52-'b.Proxy PCL'!E$61 -> -4.1044638 | F51: =a.Performance!H52-'b.Proxy PCL'!F$61 -> -4.7633474 | G51: =a.Performance!I52-'b.Proxy PCL'!G$61 -> -8.4807829 | H51: =a.Performance!J52-'b.Proxy PCL'!H$61 -> -10.743261 | I51: =a.Performance!K52-'b.Proxy PCL'!I$61 -> -8.7380885
B52: SWB | C52: Performance range | D52: Number of spills per overflow | E52: =a.Performance!G53-'b.Proxy PCL'!E$61 -> -2.4901824 | F52: =a.Performance!H53-'b.Proxy PCL'!F$61 -> 3.9415151 | G52: =a.Performance!I53-'b.Proxy PCL'!G$61 -> -1.6798266 | H52: =a.Performance!J53-'b.Proxy PCL'!H$61 -> 5.0084148 | I52: =a.Performance!K53-'b.Proxy PCL'!I$61 -> 7.1620975
B53: SRN | C53: Performance range | D53: Number of spills per overflow | E53: =a.Performance!G54-'b.Proxy PCL'!E$61 -> -18.405313 | F53: =a.Performance!H54-'b.Proxy PCL'!F$61 -> -12.885212 | G53: =a.Performance!I54-'b.Proxy PCL'!G$61 -> -10.830116 | H53: =a.Performance!J54-'b.Proxy PCL'!H$61 -> -5.3049546 | I53: =a.Performance!K54-'b.Proxy PCL'!I$61 -> -2.7301839
B54: TMS | C54: Performance range | D54: Number of spills per overflow | E54: =a.Performance!G55-'b.Proxy PCL'!E$61 -> 14.576207 | F54: =a.Performance!H55-'b.Proxy PCL'!F$61 -> 10.490593 | G54: =a.Performance!I55-'b.Proxy PCL'!G$61 -> -6.2266664 | H54: =a.Performance!J55-'b.Proxy PCL'!H$61 -> -7.551843 | I54: =a.Performance!K55-'b.Proxy PCL'!I$61 -> 5.2107032
B55: UUW | C55: Performance range | D55: Number of spills per overflow | E55: =a.Performance!G56-'b.Proxy PCL'!E$61 -> 21.254608 | F55: =a.Performance!H56-'b.Proxy PCL'!F$61 -> 14.643112 | G55: =a.Performance!I56-'b.Proxy PCL'!G$61 -> 13.23918 | H55: =a.Performance!J56-'b.Proxy PCL'!H$61 -> 10.743261 | I55: =a.Performance!K56-'b.Proxy PCL'!I$61 -> 1.0906877
B56: WSX | C56: Performance range | D56: Number of spills per overflow | E56: =a.Performance!G57-'b.Proxy PCL'!E$61 -> -11.014213 | F56: =a.Performance!H57-'b.Proxy PCL'!F$61 -> -12.481087 | G56: =a.Performance!I57-'b.Proxy PCL'!G$61 -> -11.627814 | H56: =a.Performance!J57-'b.Proxy PCL'!H$61 -> -6.3861665 | I56: =a.Performance!K57-'b.Proxy PCL'!I$61 -> -0.49858231
B57: YKY | C57: Performance range | D57: Number of spills per overflow | E57: =a.Performance!G58-'b.Proxy PCL'!E$61 -> -7.2008063 | F57: =a.Performance!H58-'b.Proxy PCL'!F$61 -> 3.6593312 | G57: =a.Performance!I58-'b.Proxy PCL'!G$61 -> -0.50297484 | H57: =a.Performance!J58-'b.Proxy PCL'!H$61 -> 0.39558774 | I57: =a.Performance!K58-'b.Proxy PCL'!I$61 -> -2.0694327
A61: End of sheet

Sheet b.Proxy PCL
A1: =RIGHT(CELL("filename", A1), LEN(CELL("filename", A1)) - SEARCH("]", CELL("filename", A1))) -> #VALUE!
A3: This sheet shows the Performance values needed to calculate the Performance Range
B6: Bathing water quality
E7: Proxy PCL (median score per company)
B8: Company | C8: Measure | D8: Unit | E8: 2015 | F8: 2016 | G8: 2017 | H8: 2018 | I8: 2019 | J8: 2020 | K8: 2021 | L8: 2022 | M8: 2023
B9: ANH | C9: Proxy PCL | D9: nr | E9: =MEDIAN(a.Performance!$F10:$N10) -> 83.489796 | F9: =MEDIAN(a.Performance!$F10:$N10) -> 83.489796 | G9: =MEDIAN(a.Performance!$F10:$N10) -> 83.489796 | H9: =MEDIAN(a.Performance!$F10:$N10) -> 83.489796 | I9: =MEDIAN(a.Performance!$F10:$N10) -> 83.489796 | J9: =MEDIAN(a.Performance!$F10:$N10) -> 83.489796 | K9: =MEDIAN(a.Performance!$F10:$N10) -> 83.489796 | L9: =MEDIAN(a.Performance!$F10:$N10) -> 83.489796 | M9: =MEDIAN(a.Performance!$F10:$N10) -> 83.489796
B10: WSH | C10: Proxy PCL | D10: nr | E10: =MEDIAN(a.Performance!$F11:$N11) -> 89.745098 | F10: =MEDIAN(a.Performance!$F11:$N11) -> 89.745098 | G10: =MEDIAN(a.Performance!$F11:$N11) -> 89.745098 | H10: =MEDIAN(a.Performance!$F11:$N11) -> 89.745098 | I10: =MEDIAN(a.Performance!$F11:$N11) -> 89.745098 | J10: =MEDIAN(a.Performance!$F11:$N11) -> 89.745098 | K10: =MEDIAN(a.Performance!$F11:$N11) -> 89.745098 | L10: =MEDIAN(a.Performance!$F11:$N11) -> 89.745098 | M10: =MEDIAN(a.Performance!$F11:$N11) -> 89.745098
B11: NES | C11: Proxy PCL | D11: nr | E11: =MEDIAN(a.Performance!$F12:$N12) -> 84.151515 | F11: =MEDIAN(a.Performance!$F12:$N12) -> 84.151515 | G11: =MEDIAN(a.Performance!$F12:$N12) -> 84.151515 | H11: =MEDIAN(a.Performance!$F12:$N12) -> 84.151515 | I11: =MEDIAN(a.Performance!$F12:$N12) -> 84.151515 | J11: =MEDIAN(a.Performance!$F12:$N12) -> 84.151515 | K11: =MEDIAN(a.Performance!$F12:$N12) -> 84.151515 | L11: =MEDIAN(a.Performance!$F12:$N12) -> 84.151515 | M11: =MEDIAN(a.Performance!$F12:$N12) -> 84.151515
B12: SVE | C12: Proxy PCL | D12: nr
B13: SWB | C13: Proxy PCL | D13: nr | E13: =MEDIAN(a.Performance!$F14:$N14) -> 88.149964 | F13: =MEDIAN(a.Performance!$F14:$N14) -> 88.149964 | G13: =MEDIAN(a.Performance!$F14:$N14) -> 88.149964 | H13: =MEDIAN(a.Performance!$F14:$N14) -> 88.149964 | I13: =MEDIAN(a.Performance!$F14:$N14) -> 88.149964 | J13: =MEDIAN(a.Performance!$F14:$N14) -> 88.149964 | K13: =MEDIAN(a.Performance!$F14:$N14) -> 88.149964 | L13: =MEDIAN(a.Performance!$F14:$N14) -> 88.149964 | M13: =MEDIAN(a.Performance!$F14:$N14) -> 88.149964
B14: SRN | C14: Proxy PCL | D14: nr | E14: =MEDIAN(a.Performance!$F15:$N15) -> 83.535714 | F14: =MEDIAN(a.Performance!$F15:$N15) -> 83.535714 | G14: =MEDIAN(a.Performance!$F15:$N15) -> 83.535714 | H14: =MEDIAN(a.Performance!$F15:$N15) -> 83.535714 | I14: =MEDIAN(a.Performance!$F15:$N15) -> 83.535714 | J14: =MEDIAN(a.Performance!$F15:$N15) -> 83.535714 | K14: =MEDIAN(a.Performance!$F15:$N15) -> 83.535714 | L14: =MEDIAN(a.Performance!$F15:$N15) -> 83.535714 | M14: =MEDIAN(a.Performance!$F15:$N15) -> 83.535714
B15: TMS | C15: Proxy PCL | D15: nr | E15: =MEDIAN(a.Performance!$F16:$N16) -> 100 | F15: =MEDIAN(a.Performance!$F16:$N16) -> 100 | G15: =MEDIAN(a.Performance!$F16:$N16) -> 100 | H15: =MEDIAN(a.Performance!$F16:$N16) -> 100 | I15: =MEDIAN(a.Performance!$F16:$N16) -> 100 | J15: =MEDIAN(a.Performance!$F16:$N16) -> 100 | K15: =MEDIAN(a.Performance!$F16:$N16) -> 100 | L15: =MEDIAN(a.Performance!$F16:$N16) -> 100 | M15: =MEDIAN(a.Performance!$F16:$N16) -> 100
B16: UUW | C16: Proxy PCL | D16: nr | E16: =MEDIAN(a.Performance!$F17:$N17) -> 59.195217 | F16: =MEDIAN(a.Performance!$F17:$N17) -> 59.195217 | G16: =MEDIAN(a.Performance!$F17:$N17) -> 59.195217 | H16: =MEDIAN(a.Performance!$F17:$N17) -> 59.195217 | I16: =MEDIAN(a.Performance!$F17:$N17) -> 59.195217 | J16: =MEDIAN(a.Performance!$F17:$N17) -> 59.195217 | K16: =MEDIAN(a.Performance!$F17:$N17) -> 59.195217 | L16: =MEDIAN(a.Performance!$F17:$N17) -> 59.195217 | M16: =MEDIAN(a.Performance!$F17:$N17) -> 59.195217
B17: WSX | C17: Proxy PCL | D17: nr | E17: =MEDIAN(a.Performance!$F18:$N18) -> 85.680851 | F17: =MEDIAN(a.Performance!$F18:$N18) -> 85.680851 | G17: =MEDIAN(a.Performance!$F18:$N18) -> 85.680851 | H17: =MEDIAN(a.Performance!$F18:$N18) -> 85.680851 | I17: =MEDIAN(a.Performance!$F18:$N18) -> 85.680851 | J17: =MEDIAN(a.Performance!$F18:$N18) -> 85.680851 | K17: =MEDIAN(a.Performance!$F18:$N18) -> 85.680851 | L17: =MEDIAN(a.Performance!$F18:$N18) -> 85.680851 | M17: =MEDIAN(a.Performance!$F18:$N18) -> 85.680851
B18: YKY | C18: Proxy PCL | D18: nr | E18: =MEDIAN(a.Performance!$F19:$N19) -> 69.842105 | F18: =MEDIAN(a.Performance!$F19:$N19) -> 69.842105 | G18: =MEDIAN(a.Performance!$F19:$N19) -> 69.842105 | H18: =MEDIAN(a.Performance!$F19:$N19) -> 69.842105 | I18: =MEDIAN(a.Performance!$F19:$N19) -> 69.842105 | J18: =MEDIAN(a.Performance!$F19:$N19) -> 69.842105 | K18: =MEDIAN(a.Performance!$F19:$N19) -> 69.842105 | L18: =MEDIAN(a.Performance!$F19:$N19) -> 69.842105 | M18: =MEDIAN(a.Performance!$F19:$N19) -> 69.842105
B21: Serious pollution incidents
C22: Multiply by 10,000 to normalise into definition "per 10,000 km sewer network" | E22: 10000 | F22: 10000 | G22: 10000 | H22: 10000 | I22: 10000 | J22: 10000 | K22: 10000 | L22: 10000 | M22: 10000 | N22: 10000 | O22: 10000 | P22: 10000 | Q22: 10000 | R22: 10000
E23: Normalised Proxy PCL (EPA target) | W23: Sewer length | AO23: Proxy PCL (EPA target)
B24: Company | C24: Measure | D24: Unit | E24: 2011-12 | F24: 2012-13 | G24: 2013-14 | H24: 2014-15 | I24: 2015-16 | J24: 2016-17 | K24: 2017-18 | L24: 2018-19 | M24: 2019-20 | N24: 2020-21 | O24: 2021-22 | P24: 2022-23 | Q24: 2023-24 | R24: 2024-25 | T24: Company | U24: Measure | V24: Unit | W24: 2011-12 | X24: 2012-13 | Y24: 2013-14 | Z24: 2014-15 | AA24: 2015-16 | AB24: 2016-17 | AC24: 2017-18 | AD24: 2018-19 | AE24: 2019-20 | AF24: 2020-21 | AG24: 2021-22 | AH24: 2022-23 | AI24: 2023-24 | AL24: Company | AM24: Measure | AN24: Unit | AO24: 2011-12 | AP24: 2012-13 | AQ24: 2013-14 | AR24: 2014-15 | AS24: 2015-16 | AT24: 2016-17 | AU24: 2017-18 | AV24: 2018-19 | AW24: 2019-20 | AX24: 2020-21 | AY24: 2021-22 | AZ24: 2022-23 | BA24: 2023-24 | BB24: 2024-25
B25: ANH | C25: Proxy PCL | D25: Number of category 1-2 pollution incidents per 10,000 km sewer network | E25: =IF(W25=0,"",(AO25/W25)*E$22) -> 1.5803736 | F25: =IF(X25=0,"",(AP25/X25)*F$22) -> 1.5799829 | G25: =IF(Y25=0,"",(AQ25/Y25)*G$22) -> 1.575086 | H25: =IF(Z25=0,"",(AR25/Z25)*H$22) -> 1.5720222 | I25: =IF(AA25=0,"",(AS25/AA25)*I$22) -> 1.5670134 | J25: =IF(AB25=0,"",(AT25/AB25)*J$22) -> 0.52066745 | K25: =IF(AC25=0,"",(AU25/AC25)*K$22) -> 0.52330814 | L25: =IF(AD25=0,"",(AV25/AD25)*L$22) -> 0.52240795 | ... R25: =IF(AJ25=0,"",(BB25/AJ25)*R$22) | T25: ANH | U25: Sewer length | V25: km | W25: =a.Performance!X26 -> 75931.413 | X25: =a.Performance!Y26 -> 75950.188 | Y25: =a.Performance!Z26 -> 76186.318 | Z25: =a.Performance!AA26 -> 76334.801 | AA25: =a.Performance!AB26 -> 76578.796 | AB25: =a.Performance!AC26 -> 76824.469 | AC25: =a.Performance!AD26 -> 76436.8 | AD25: =a.Performance!AE26 -> 76568.513 | ... AI25: =a.Performance!AJ26 -> 76437 | AL25: ANH | AM25: Proxy PCL | AN25: Number of serious pollution incidents | AO25: ='SPL.EPA.targets'!C44 -> 12 | AP25: ='SPL.EPA.targets'!D44 -> 12 | AQ25: ='SPL.EPA.targets'!E44 -> 12 | AR25: ='SPL.EPA.targets'!F44 -> 12 | AS25: ='SPL.EPA.targets'!G44 -> 12 | AT25: ='SPL.EPA.targets'!H44 -> 4 | AU25: ='SPL.EPA.targets'!I44 -> 4 | AV25: ='SPL.EPA.targets'!J44 -> 4 | ... BB25: ='SPL.EPA.targets'!P44 -> 1
B26: WSH | C26: Proxy PCL | D26: Number of category 1-2 pollution incidents per 10,000 km sewer network | E26: =IF(W26=0,"",(AO26/W26)*E$22) -> 1.6774489 | F26: =IF(X26=0,"",(AP26/X26)*F$22) -> 1.6740978 | G26: =IF(Y26=0,"",(AQ26/Y26)*G$22) -> 1.6700852 | H26: =IF(Z26=0,"",(AR26/Z26)*H$22) -> 1.6672687 | I26: =IF(AA26=0,"",(AS26/AA26)*I$22) -> 1.6643458 | J26: =IF(AB26=0,"",(AT26/AB26)*J$22) -> 0.55373285 | K26: =IF(AC26=0,"",(AU26/AC26)*K$22) -> 0.55157198 | L26: =IF(AD26=0,"",(AV26/AD26)*L$22) -> 0.54863664 | ... R26: =IF(AJ26=0,"",(BB26/AJ26)*R$22) | T26: WSH | U26: Sewer length | V26: km | W26: =a.Performance!X27 -> 35768.6 | X26: =a.Performance!Y27 -> 35840.2 | Y26: =a.Performance!Z27 -> 35926.31 | Z26: =a.Performance!AA27 -> 35987 | AA26: =a.Performance!AB27 -> 36050.2 | AB26: =a.Performance!AC27 -> 36118.5 | AC26: =a.Performance!AD27 -> 36260 | AD26: =a.Performance!AE27 -> 36454 | ... AI26: =a.Performance!AJ27 -> 36249 | AL26: WSH | AM26: Proxy PCL | AN26: Number of serious pollution incidents | AO26: ='SPL.EPA.targets'!C45 -> 6 | AP26: ='SPL.EPA.targets'!D45 -> 6 | AQ26: ='SPL.EPA.targets'!E45 -> 6 | AR26: ='SPL.EPA.targets'!F45 -> 6 | AS26: ='SPL.EPA.targets'!G45 -> 6 | AT26: ='SPL.EPA.targets'!H45 -> 2 | AU26: ='SPL.EPA.targets'!I45 -> 2 | AV26: ='SPL.EPA.targets'!J45 -> 2 | ... BB26: ='SPL.EPA.targets'!P45 -> 0
B27: HDD | C27: Proxy PCL | D27: Number of category 1-2 pollution incidents per 10,000 km sewer network | E27: =IF(W27=0,"",(AO27/W27)*E$22) | F27: =IF(X27=0,"",(AP27/X27)*F$22) | G27: =IF(Y27=0,"",(AQ27/Y27)*G$22) | H27: =IF(Z27=0,"",(AR27/Z27)*H$22) | I27: =IF(AA27=0,"",(AS27/AA27)*I$22) | J27: =IF(AB27=0,"",(AT27/AB27)*J$22) | K27: =IF(AC27=0,"",(AU27/AC27)*K$22) -> 19.931417 | L27: =IF(AD27=0,"",(AV27/AD27)*L$22) -> 19.949098 | ... R27: =IF(AJ27=0,"",(BB27/AJ27)*R$22) | T27: HDD | U27: Sewer length | V27: km | W27: =a.Performance!X28 -> 0 | X27: =a.Performance!Y28 -> 0 | Y27: =a.Performance!Z28 -> 0 | Z27: =a.Performance!AA28 -> 0 | AA27: =a.Performance!AB28 -> 0 | AB27: =a.Performance!AC28 -> 0 | AC27: =a.Performance!AD28 -> 501.72047 | AD27: =a.Performance!AE28 -> 501.2758 | ... AI27: =a.Performance!AJ28 -> 502 | AL27: HDD | AM27: Proxy PCL | AN27: Number of serious pollution incidents | AO27: ='SPL.EPA.targets'!C46 -> 0 | AP27: ='SPL.EPA.targets'!D46 -> 0 | AQ27: ='SPL.EPA.targets'!E46 -> 0 | AR27: ='SPL.EPA.targets'!F46 -> 0 | AS27: ='SPL.EPA.targets'!G46 -> 0 | AT27: ='SPL.EPA.targets'!H46 -> 0 | AU27: ='SPL.EPA.targets'!I46 -> 1 | AV27: ='SPL.EPA.targets'!J46 -> 1 | ... BB27: ='SPL.EPA.targets'!P46 -> 0
B28: NES | C28: Proxy PCL | D28: Number of category 1-2 pollution incidents per 10,000 km sewer network | E28: =IF(W28=0,"",(AO28/W28)*E$22) -> 1.6759402 | F28: =IF(X28=0,"",(AP28/X28)*F$22) -> 1.6742566 | G28: =IF(Y28=0,"",(AQ28/Y28)*G$22) -> 1.6734721 | H28: =IF(Z28=0,"",(AR28/Z28)*H$22) -> 1.6708996 | I28: =IF(AA28=0,"",(AS28/AA28)*I$22) -> 1.6686134 | J28: =IF(AB28=0,"",(AT28/AB28)*J$22) -> 0.66704466 | K28: =IF(AC28=0,"",(AU28/AC28)*K$22) -> 0.66608939 | L28: =IF(AD28=0,"",(AV28/AD28)*L$22) -> 0.66511473 | ... R28: =IF(AJ28=0,"",(BB28/AJ28)*R$22) | T28: NES | U28: Sewer length | V28: km | W28: =a.Performance!X29 -> 29834 | X28: =a.Performance!Y29 -> 29864 | Y28: =a.Performance!Z29 -> 29878 | Z28: =a.Performance!AA29 -> 29924 | AA28: =a.Performance!AB29 -> 29965 | AB28: =a.Performance!AC29 -> 29983 | AC28: =a.Performance!AD29 -> 30026 | AD28: =a.Performance!AE29 -> 30070 | ... AI28: =a.Performance!AJ29 -> 30026 | AL28: NES | AM28: Proxy PCL | AN28: Number of serious pollution incidents | AO28: ='SPL.EPA.targets'!C47 -> 5 | AP28: ='SPL.EPA.targets'!D47 -> 5 | AQ28: ='SPL.EPA.targets'!E47 -> 5 | AR28: ='SPL.EPA.targets'!F47 -> 5 | AS28: ='SPL.EPA.targets'!G47 -> 5 | AT28: ='SPL.EPA.targets'!H47 -> 2 | AU28: ='SPL.EPA.targets'!I47 -> 2 | AV28: ='SPL.EPA.targets'!J47 -> 2 | ... BB28: ='SPL.EPA.targets'!P47 -> 0
B29: SVE | C29: Proxy PCL | D29: Number of category 1-2 pollution incidents per 10,000 km sewer network | E29: =IF(W29=0,"",(AO29/W29)*E$22) -> 1.5185968 | F29: =IF(X29=0,"",(AP29/X29)*F$22) -> 1.506532 | G29: =IF(Y29=0,"",(AQ29/Y29)*G$22) -> 1.6065144 | H29: =IF(Z29=0,"",(AR29/Z29)*H$22) -> 1.5031294 | I29: =IF(AA29=0,"",(AS29/AA29)*I$22) -> 1.5009823 | J29: =IF(AB29=0,"",(AT29/AB29)*J$22) -> 0.53346386 | K29: =IF(AC29=0,"",(AU29/AC29)*K$22) -> 0.53461564 | L29: =IF(AD29=0,"",(AV29/AD29)*L$22) -> 0.54216356 | ... R29: =IF(AJ29=0,"",(BB29/AJ29)*R$22) | T29: SVE | U29: Sewer length | V29: km | W29: =a.Performance!X30 -> 92190.367 | X29: =a.Performance!Y30 -> 92928.663 | Y29: =a.Performance!Z30 -> 93369.846 | Z29: =a.Performance!AA30 -> 93139.023 | AA29: =a.Performance!AB30 -> 93272.251 | AB29: =a.Performance!AC30 -> 93727.062 | AC29: =a.Performance!AD30 -> 93525.135 | AD29: =a.Performance!AE30 -> 92223.092 | ... AI29: =a.Performance!AJ30 -> 93525 | AL29: SVE | AM29: Proxy PCL | AN29: Number of serious pollution incidents | AO29: ='SPL.EPA.targets'!C48 -> 14 | AP29: ='SPL.EPA.targets'!D48 -> 14 | AQ29: ='SPL.EPA.targets'!E48 -> 15 | AR29: ='SPL.EPA.targets'!F48 -> 14 | AS29: ='SPL.EPA.targets'!G48 -> 14 | AT29: ='SPL.EPA.targets'!H48 -> 5 | AU29: ='SPL.EPA.targets'!I48 -> 5 | AV29: ='SPL.EPA.targets'!J48 -> 5 | ... BB29: ='SPL.EPA.targets'!P48 -> 1
B30: SWB | C30: Proxy PCL | D30: Number of category 1-2 pollution incidents per 10,000 km sewer network | E30: =IF(W30=0,"",(AO30/W30)*E$22) -> 1.7761674 | F30: =IF(X30=0,"",(AP30/X30)*F$22) -> 1.7781729 | G30: =IF(Y30=0,"",(AQ30/Y30)*G$22) -> 1.773144 | H30: =IF(Z30=0,"",(AR30/Z30)*H$22) -> 1.7681512 | I30: =IF(AA30=0,"",(AS30/AA30)*I$22) -> 1.7676823 | J30: =IF(AB30=0,"",(AT30/AB30)*J$22) -> 0.88391539 | K30: =IF(AC30=0,"",(AU30/AC30)*K$22) -> 0.88059176 | L30: =IF(AD30=0,"",(AV30/AD30)*L$22) -> 0.87875045 | ... R30: =IF(AJ30=0,"",(BB30/AJ30)*R$22) | T30: SWB | U30: Sewer length | V30: km | W30: =a.Performance!X31 -> 22520.4 | X30: =a.Performance!Y31 -> 22495 | Y30: =a.Performance!Z31 -> 22558.8 | Z30: =a.Performance!AA31 -> 22622.5 | AA30: =a.Performance!AB31 -> 22628.5 | AB30: =a.Performance!AC31 -> 22626.6 | AC30: =a.Performance!AD31 -> 22712 | AD30: =a.Performance!AE31 -> 22759.59 | ... AI30: =a.Performance!AJ31 -> 17440 | AL30: SWB | AM30: Proxy PCL | AN30: Number of serious pollution incidents | AO30: ='SPL.EPA.targets'!C49 -> 4 | AP30: ='SPL.EPA.targets'!D49 -> 4 | AQ30: ='SPL.EPA.targets'!E49 -> 4 | AR30: ='SPL.EPA.targets'!F49 -> 4 | AS30: ='SPL.EPA.targets'!G49 -> 4 | AT30: ='SPL.EPA.targets'!H49 -> 2 | AU30: ='SPL.EPA.targets'!I49 -> 2 | AV30: ='SPL.EPA.targets'!J49 -> 2 | ... BB30: ='SPL.EPA.targets'!P49 -> 0
B31: SRN | C31: Proxy PCL | D31: Number of category 1-2 pollution incidents per 10,000 km sewer network | E31: =IF(W31=0,"",(AO31/W31)*E$22) -> 1.5417165 | F31: =IF(X31=0,"",(AP31/X31)*F$22) -> 1.5330115 | G31: =IF(Y31=0,"",(AQ31/Y31)*G$22) -> 1.5278119 | H31: =IF(Z31=0,"",(AR31/Z31)*H$22) -> 1.5223519 | I31: =IF(AA31=0,"",(AS31/AA31)*I$22) -> 1.5225656 | J31: =IF(AB31=0,"",(AT31/AB31)*J$22) -> 0.50707368 | K31: =IF(AC31=0,"",(AU31/AC31)*K$22) -> 0.5058041 | L31: =IF(AD31=0,"",(AV31/AD31)*L$22) -> 0.50478282 | ... R31: =IF(AJ31=0,"",(BB31/AJ31)*R$22) | T31: SRN | U31: Sewer length | V31: km | W31: =a.Performance!X32 -> 38917.66 | X31: =a.Performance!Y32 -> 39138.65 | Y31: =a.Performance!Z32 -> 39271.85 | Z31: =a.Performance!AA32 -> 39412.7 | AA31: =a.Performance!AB32 -> 39407.17 | AB31: =a.Performance!AC32 -> 39442 | AC31: =a.Performance!AD32 -> 39541 | AD31: =a.Performance!AE32 -> 39621 | ... AI31: =a.Performance!AJ32 -> 39729 | AL31: SRN | AM31: Proxy PCL | AN31: Number of serious pollution incidents | AO31: ='SPL.EPA.targets'!C50 -> 6 | AP31: ='SPL.EPA.targets'!D50 -> 6 | AQ31: ='SPL.EPA.targets'!E50 -> 6 | AR31: ='SPL.EPA.targets'!F50 -> 6 | AS31: ='SPL.EPA.targets'!G50 -> 6 | AT31: ='SPL.EPA.targets'!H50 -> 2 | AU31: ='SPL.EPA.targets'!I50 -> 2 | AV31: ='SPL.EPA.targets'!J50 -> 2 | ... BB31: ='SPL.EPA.targets'!P50 -> 0
B32: TMS | C32: Proxy PCL | D32: Number of category 1-2 pollution incidents per 10,000 km sewer network | E32: =IF(W32=0,"",(AO32/W32)*E$22) -> 1.5645543 | F32: =IF(X32=0,"",(AP32/X32)*F$22) -> 1.5630951 | G32: =IF(Y32=0,"",(AQ32/Y32)*G$22) -> 1.5632412 | H32: =IF(Z32=0,"",(AR32/Z32)*H$22) -> 1.5625065 | I32: =IF(AA32=0,"",(AS32/AA32)*I$22) -> 1.5618615 | J32: =IF(AB32=0,"",(AT32/AB32)*J$22) -> 0.55095579 | K32: =IF(AC32=0,"",(AU32/AC32)*K$22) -> 0.55055969 | L32: =IF(AD32=0,"",(AV32/AD32)*L$22) -> 0.55013736 | ... R32: =IF(AJ32=0,"",(BB32/AJ32)*R$22) | T32: TMS | U32: Sewer length | V32: km | W32: =a.Performance!X33 -> 108657.14 | X32: =a.Performance!Y33 -> 108758.58 | Y32: =a.Performance!Z33 -> 108748.41 | Z32: =a.Performance!AA33 -> 108799.55 | AA32: =a.Performance!AB33 -> 108844.48 | AB32: =a.Performance!AC33 -> 108901.66 | AC32: =a.Performance!AD33 -> 108980.01 | AD32: =a.Performance!AE33 -> 109063.67 | ... AI32: =a.Performance!AJ33 -> 108980 | AL32: TMS | AM32: Proxy PCL | AN32: Number of serious pollution incidents | AO32: ='SPL.EPA.targets'!C51 -> 17 | AP32: ='SPL.EPA.targets'!D51 -> 17 | AQ32: ='SPL.EPA.targets'!E51 -> 17 | AR32: ='SPL.EPA.targets'!F51 -> 17 | AS32: ='SPL.EPA.targets'!G51 -> 17 | AT32: ='SPL.EPA.targets'!H51 -> 6 | AU32: ='SPL.EPA.targets'!I51 -> 6 | AV32: ='SPL.EPA.targets'!J51 -> 6 | ... BB32: ='SPL.EPA.targets'!P51 -> 1
B33: UUW | C33: Proxy PCL | D33: Number of category 1-2 pollution incidents per 10,000 km sewer network | E33: =IF(W33=0,"",(AO33/W33)*E$22) -> 1.5658074 | F33: =IF(X33=0,"",(AP33/X33)*F$22) -> 1.56361 | G33: =IF(Y33=0,"",(AQ33/Y33)*G$22) -> 1.5584902 | H33: =IF(Z33=0,"",(AR33/Z33)*H$22) -> 1.5564052 | I33: =IF(AA33=0,"",(AS33/AA33)*I$22) -> 1.5545581 | J33: =IF(AB33=0,"",(AT33/AB33)*J$22) -> 0.51725699 | K33: =IF(AC33=0,"",(AU33/AC33)*K$22) -> 0.51720348 | L33: =IF(AD33=0,"",(AV33/AD33)*L$22) -> 0.50961906 | ... R33: =IF(AJ33=0,"",(BB33/AJ33)*R$22) | T33: UUW | U33: Sewer length | V33: km | W33: =a.Performance!X34 -> 76637.78 | X33: =a.Performance!Y34 -> 76745.479 | Y33: =a.Performance!Z34 -> 76997.599 | Z33: =a.Performance!AA34 -> 77100.743 | AA33: =a.Performance!AB34 -> 77192.356 | AB33: =a.Performance!AC34 -> 77331 | AC33: =a.Performance!AD34 -> 77339 | AD33: =a.Performance!AE34 -> 78490 | ... AI33: =a.Performance!AJ34 -> 77339 | AL33: UUW | AM33: Proxy PCL | AN33: Number of serious pollution incidents | AO33: ='SPL.EPA.targets'!C52 -> 12 | AP33: ='SPL.EPA.targets'!D52 -> 12 | AQ33: ='SPL.EPA.targets'!E52 -> 12 | AR33: ='SPL.EPA.targets'!F52 -> 12 | AS33: ='SPL.EPA.targets'!G52 -> 12 | AT33: ='SPL.EPA.targets'!H52 -> 4 | AU33: ='SPL.EPA.targets'!I52 -> 4 | AV33: ='SPL.EPA.targets'!J52 -> 4 | ... BB33: ='SPL.EPA.targets'!P52 -> 1
B34: WSX | C34: Proxy PCL | D34: Number of category 1-2 pollution incidents per 10,000 km sewer network | E34: =IF(W34=0,"",(AO34/W34)*E$22) -> 1.7498813 | F34: =IF(X34=0,"",(AP34/X34)*F$22) -> 1.7364211 | G34: =IF(Y34=0,"",(AQ34/Y34)*G$22) -> 1.735249 | H34: =IF(Z34=0,"",(AR34/Z34)*H$22) -> 1.7324782 | I34: =IF(AA34=0,"",(AS34/AA34)*I$22) -> 1.7285851 | J34: =IF(AB34=0,"",(AT34/AB34)*J$22) -> 0.57494841 | K34: =IF(AC34=0,"",(AU34/AC34)*K$22) -> 0.5723363 | L34: =IF(AD34=0,"",(AV34/AD34)*L$22) -> 0.57424681 | ... R34: =IF(AJ34=0,"",(BB34/AJ34)*R$22) | T34: WSX | U34: Sewer length | V34: km | W34: =a.Performance!X35 -> 34288.04 | X34: =a.Performance!Y35 -> 34553.83 | Y34: =a.Performance!Z35 -> 34577.17 | Z34: =a.Performance!AA35 -> 34632.47 | AA34: =a.Performance!AB35 -> 34710.47 | AB34: =a.Performance!AC35 -> 34785.73 | AC34: =a.Performance!AD35 -> 34944.49 | AD34: =a.Performance!AE35 -> 34828.23 | ... AI34: =a.Performance!AJ35 -> 34944 | AL34: WSX | AM34: Proxy PCL | AN34: Number of serious pollution incidents | AO34: ='SPL.EPA.targets'!C53 -> 6 | AP34: ='SPL.EPA.targets'!D53 -> 6 | AQ34: ='SPL.EPA.targets'!E53 -> 6 | AR34: ='SPL.EPA.targets'!F53 -> 6 | AS34: ='SPL.EPA.targets'!G53 -> 6 | AT34: ='SPL.EPA.targets'!H53 -> 2 | AU34: ='SPL.EPA.targets'!I53 -> 2 | AV34: ='SPL.EPA.targets'!J53 -> 2 | ... BB34: ='SPL.EPA.targets'!P53 -> 0
B35: YKY | C35: Proxy PCL | D35: Number of category 1-2 pollution incidents per 10,000 km sewer network | E35: =IF(W35=0,"",(AO35/W35)*E$22) -> 1.5381784 | F35: =IF(X35=0,"",(AP35/X35)*F$22) -> 1.5371372 | G35: =IF(Y35=0,"",(AQ35/Y35)*G$22) -> 1.5357694 | H35: =IF(Z35=0,"",(AR35/Z35)*H$22) -> 1.5348184 | I35: =IF(AA35=0,"",(AS35/AA35)*I$22) -> 1.5331544 | J35: =IF(AB35=0,"",(AT35/AB35)*J$22) -> 0.57439019 | K35: =IF(AC35=0,"",(AU35/AC35)*K$22) -> 0.57400888 | L35: =IF(AD35=0,"",(AV35/AD35)*L$22) -> 0.57369714 | ... R35: =IF(AJ35=0,"",(BB35/AJ35)*R$22) | T35: YKY | U35: Sewer length | V35: km | W35: =a.Performance!X36 -> 52009.572 | X35: =a.Performance!Y36 -> 52044.801 | Y35: =a.Performance!Z36 -> 52091.153 | Z35: =a.Performance!AA36 -> 52123.429 | AA35: =a.Performance!AB36 -> 52180.002 | AB35: =a.Performance!AC36 -> 52229.304 | AC35: =a.Performance!AD36 -> 52264 | AD35: =a.Performance!AE36 -> 52292.399 | ... AI35: =a.Performance!AJ36 -> 52263 | AL35: YKY | AM35: Proxy PCL | AN35: Number of serious pollution incidents | AO35: ='SPL.EPA.targets'!C54 -> 8 | AP35: ='SPL.EPA.targets'!D54 -> 8 | AQ35: ='SPL.EPA.targets'!E54 -> 8 | AR35: ='SPL.EPA.targets'!F54 -> 8 | AS35: ='SPL.EPA.targets'!G54 -> 8 | AT35: ='SPL.EPA.targets'!H54 -> 3 | AU35: ='SPL.EPA.targets'!I54 -> 3 | AV35: ='SPL.EPA.targets'!J54 -> 3 | ... BB35: ='SPL.EPA.targets'!P54 -> 0
B36: AFW | C36: Proxy PCL | D36: Number of category 1-2 pollution incidents per 10,000 km sewer network | E36: =IF(W36=0,"",(AO36/W36)*E$22) | F36: =IF(X36=0,"",(AP36/X36)*F$22) | G36: =IF(Y36=0,"",(AQ36/Y36)*G$22) | H36: =IF(Z36=0,"",(AR36/Z36)*H$22) | I36: =IF(AA36=0,"",(AS36/AA36)*I$22) | J36: =IF(AB36=0,"",(AT36/AB36)*J$22) | K36: =IF(AC36=0,"",(AU36/AC36)*K$22) | L36: =IF(AD36=0,"",(AV36/AD36)*L$22) | ... R36: =IF(AJ36=0,"",(BB36/AJ36)*R$22) | T36: AFW | U36: Sewer length | V36: km | W36: =a.Performance!X37 -> 0 | X36: =a.Performance!Y37 -> 0 | Y36: =a.Performance!Z37 -> 0 | Z36: =a.Performance!AA37 -> 0 | AA36: =a.Performance!AB37 -> 0 | AB36: =a.Performance!AC37 -> 0 | AC36: =a.Performance!AD37 -> 0 | AD36: =a.Performance!AE37 -> 0 | ... AI36: =a.Performance!AJ37 -> 0 | AL36: AFW | AM36: Proxy PCL | AN36: Number of serious pollution incidents | AO36: ='SPL.EPA.targets'!C55 -> 0 | AP36: ='SPL.EPA.targets'!D55 -> 0 | AQ36: ='SPL.EPA.targets'!E55 -> 0 | AR36: ='SPL.EPA.targets'!F55 -> 0 | AS36: ='SPL.EPA.targets'!G55 -> 0 | AT36: ='SPL.EPA.targets'!H55 -> 0 | AU36: ='SPL.EPA.targets'!I55 -> 0 | AV36: ='SPL.EPA.targets'!J55 -> 0 | ... BB36: ='SPL.EPA.targets'!P55 -> 0
... B41: SES | C41: Proxy PCL | D41: Number of category 1-2 pollution incidents per 10,000 km sewer network | E41: =IF(W41=0,"",(AO41/W41)*E$22) | F41: =IF(X41=0,"",(AP41/X41)*F$22) | G41: =IF(Y41=0,"",(AQ41/Y41)*G$22) | H41: =IF(Z41=0,"",(AR41/Z41)*H$22) | I41: =IF(AA41=0,"",(AS41/AA41)*I$22) | J41: =IF(AB41=0,"",(AT41/AB41)*J$22) | K41: =IF(AC41=0,"",(AU41/AC41)*K$22) | L41: =IF(AD41=0,"",(AV41/AD41)*L$22) | ... R41: =IF(AJ41=0,"",(BB41/AJ41)*R$22) | T41: SES | U41: Sewer length | V41: km | W41: =a.Performance!X42 -> 0 | X41: =a.Performance!Y42 -> 0 | Y41: =a.Performance!Z42 -> 0 | Z41: =a.Performance!AA42 -> 0 | AA41: =a.Performance!AB42 -> 0 | AB41: =a.Performance!AC42 -> 0 | AC41: =a.Performance!AD42 -> 0 | AD41: =a.Performance!AE42 -> 0 | ... AI41: =a.Performance!AJ42 -> 0 | AL41: SES | AM41: Proxy PCL | AN41: Number of serious pollution incidents | AO41: ='SPL.EPA.targets'!C60 -> 0 | AP41: ='SPL.EPA.targets'!D60 -> 0 | AQ41: ='SPL.EPA.targets'!E60 -> 0 | AR41: ='SPL.EPA.targets'!F60 -> 0 | AS41: ='SPL.EPA.targets'!G60 -> 0 | AT41: ='SPL.EPA.targets'!H60 -> 0 | AU41: ='SPL.EPA.targets'!I60 -> 0 | AV41: ='SPL.EPA.targets'!J60 -> 0 | ... BB41: ='SPL.EPA.targets'!P60 -> 0
B44: Storm overflows
E45: Proxy PCL
B46: Company | C46: Measure | D46: Unit | E46: 2020 | F46: 2021 | G46: 2022 | H46: 2023 | I46: 2023
B47: ANH | C47: Adjusted spills per overflow | D47: Annual number of spills | E47: =a.Performance!G48 -> 54.471011 | F47: =a.Performance!H48 -> 47.40874 | G47: =a.Performance!I48 -> 21.797235 | H47: =a.Performance!J48 -> 22.943185 | I47: =a.Performance!K48 -> 31.436506
B48: WSH | C48: Adjusted spills per overflow | D48: Annual number of spills | E48: =a.Performance!G49 -> 58.312256 | F48: =a.Performance!H49 -> 46.368089 | G48: =a.Performance!I49 -> 40.967236 | H48: =a.Performance!J49 -> 55.886024 | I48: =a.Performance!K49 -> 50.813371
B49: HDD | C49: Adjusted spills per overflow | D49: Annual number of spills | E49: =a.Performance!G50 -> 31.450204 | F49: =a.Performance!H50 -> 44.425702 | G49: =a.Performance!I50 -> 33.926126 | H49: =a.Performance!J50 -> 40.902482 | I49: =a.Performance!K50 -> 38.02521
B50: NES | C50: Adjusted spills per overflow | D50: Annual number of spills | E50: =a.Performance!G51 -> 23.477241 | F50: =a.Performance!H51 -> 28.721706 | G50: =a.Performance!I51 -> 22.591765 | H50: =a.Performance!J51 -> 32.135547 | I50: =a.Performance!K51 -> 27.79413
B51: SVE | C51: Adjusted spills per overflow | D51: Annual number of spills | E51: =a.Performance!G52 -> 36.790285 | F51: =a.Performance!H52 -> 30.164305 | G51: =a.Performance!I52 -> 21.656338 | H51: =a.Performance!J52 -> 27.652944 | I51: =a.Performance!K52 -> 26.218139
B52: SWB | C52: Adjusted spills per overflow | D52: Annual number of spills | E52: =a.Performance!G53 -> 38.404566 | F52: =a.Performance!H53 -> 38.869167 | G52: =a.Performance!I53 -> 28.457294 | H52: =a.Performance!J53 -> 43.40462 | I52: =a.Performance!K53 -> 42.118325
B53: SRN | C53: Adjusted spills per overflow | D53: Annual number of spills | E53: =a.Performance!G54 -> 22.489435 | F53: =a.Performance!H54 -> 22.04244 | G53: =a.Performance!I54 -> 19.307005 | H53: =a.Performance!J54 -> 33.091251 | I53: =a.Performance!K54 -> 32.226044
B54: TMS | C54: Adjusted spills per overflow | D54: Annual number of spills | E54: =a.Performance!G55 -> 55.470956 | F54: =a.Performance!H55 -> 45.418246 | G54: =a.Performance!I55 -> 23.910454 | H54: =a.Performance!J55 -> 30.844362 | I54: =a.Performance!K55 -> 40.166931
B55: UUW | C55: Adjusted spills per overflow | D55: Annual number of spills | E55: =a.Performance!G56 -> 62.149357 | F55: =a.Performance!H56 -> 49.570764 | G55: =a.Performance!I56 -> 43.3763 | H55: =a.Performance!J56 -> 49.139466 | I55: =a.Performance!K56 -> 36.046916
B56: WSX | C56: Adjusted spills per overflow | D56: Annual number of spills | E56: =a.Performance!G57 -> 29.880536 | F56: =a.Performance!H57 -> 22.446565 | G56: =a.Performance!I57 -> 18.509306 | H56: =a.Performance!J57 -> 32.010039 | I56: =a.Performance!K57 -> 34.457646
B57: YKY | C57: Adjusted spills per overflow | D57: Annual number of spills | E57: =a.Performance!G58 -> 33.693942 | F57: =a.Performance!H58 -> 38.586983 | G57: =a.Performance!I58 -> 29.634146 | H57: =a.Performance!J58 -> 38.791793 | I57: =a.Performance!K58 -> 32.886795
A59: 0.1 | B59: P10 | C59: Adjusted spills per overflow | D59: Annual number of spills | E59: =_xlfn.PERCENTILE.INC(E$47:E$57,$A59) -> 23.477241 | F59: =_xlfn.PERCENTILE.INC(F$47:F$57,$A59) -> 22.446565 | G59: =_xlfn.PERCENTILE.INC(G$47:G$57,$A59) -> 19.307005 | H59: =_xlfn.PERCENTILE.INC(H$47:H$57,$A59) -> 27.652944 | I59: =_xlfn.PERCENTILE.INC(I$47:I$57,$A59) -> 27.79413
A60: 0.9 | B60: P90 | C60: Adjusted spills per overflow | D60: Annual number of spills | E60: =_xlfn.PERCENTILE.INC(E$47:E$57,$A60) -> 58.312256 | F60: =_xlfn.PERCENTILE.INC(F$47:F$57,$A60) -> 47.40874 | G60: =_xlfn.PERCENTILE.INC(G$47:G$57,$A60) -> 40.967236 | H60: =_xlfn.PERCENTILE.INC(H$47:H$57,$A60) -> 49.139466 | I60: =_xlfn.PERCENTILE.INC(I$47:I$57,$A60) -> 42.118325
B61: Midpoint PCL | C61: Adjusted spills per overflow | D61: Annual number of spills | E61: =AVERAGE(E59:E60) -> 40.894749 | F61: =AVERAGE(F59:F60) -> 34.927652 | G61: =AVERAGE(G59:G60) -> 30.137121 | H61: =AVERAGE(H59:H60) -> 38.396205 | I61: =AVERAGE(I59:I60) -> 34.956228
A65: End of sheet

Sheet a.Performance
A1: =RIGHT(CELL("filename", A1), LEN(CELL("filename", A1)) - SEARCH("]", CELL("filename", A1))) -> #VALUE!
A3: This sheet shows the Performance values needed to calculate the Performance Range
A4: SPL 2024-25 performance data source:
A5: Historical-performance-trends-for-PR24-V6.0
C7: Bathing water quality
F8: Performance (average score per site) | S8: Number of sites
C9: Company | D9: Measure | E9: Unit | F9: 2015 | G9: 2016 | H9: 2017 | I9: 2018 | J9: 2019 | K9: 2020 | L9: 2021 | M9: 2022 | N9: 2023 | P9: Company | Q9: Measure | R9: Unit | S9: 2015 | T9: 2016 | U9: 2017 | V9: 2018 | W9: 2019 | X9: 2020 | Y9: 2021 | Z9: 2022 | AA9: 2023
C10: ANH | D10: Average score per site | E10: nr | F10: 87.333333 | G10: 86.183673 | H10: 82.795918 | I10: 81.469388 | J10: 83.489796 | K10: 83.489796 | L10: 84.541667 | M10: 84.541667 | N10: 81.470588 | P10: ANH | Q10: Number of sites | R10: nr | S10: =COUNTIFS(BWQ.classifications!M:M,">=0",BWQ.classifications!$B:$B,$P10) -> 48 | T10: =COUNTIFS(BWQ.classifications!N:N,">=0",BWQ.classifications!$B:$B,$P10) -> 49 | U10: =COUNTIFS(BWQ.classifications!O:O,">=0",BWQ.classifications!$B:$B,$P10) -> 49 | V10: =COUNTIFS(BWQ.classifications!P:P,">=0",BWQ.classifications!$B:$B,$P10) -> 49 | W10: =COUNTIFS(BWQ.classifications!Q:Q,">=0",BWQ.classifications!$B:$B,$P10) -> 49 | X10: 49 | Y10: 48 | Z10: 48 | AA10: 51
C11: WSH | D11: Average score per site | E11: nr | F11: 89.745098 | G11: 90.834951 | H11: 88.653846 | I11: 89.278846 | J11: 90.67619 | K11: 89.095238 | L11: 90.038095 | M11: 90.233645 | N11: 86.715596 | P11: WSH | Q11: Number of sites | R11: nr | S11: =COUNTIFS(BWQ.classifications!M:M,">=0",BWQ.classifications!$B:$B,$P11) -> 102 | T11: =COUNTIFS(BWQ.classifications!N:N,">=0",BWQ.classifications!$B:$B,$P11) -> 103 | U11: =COUNTIFS(BWQ.classifications!O:O,">=0",BWQ.classifications!$B:$B,$P11) -> 104 | V11: =COUNTIFS(BWQ.classifications!P:P,">=0",BWQ.classifications!$B:$B,$P11) -> 104 | W11: =COUNTIFS(BWQ.classifications!Q:Q,">=0",BWQ.classifications!$B:$B,$P11) -> 105 | X11: 105 | Y11: 105 | Z11: 107 | AA11: 109
C12: NES | D12: Average score per site | E12: nr | F12: 76.545455 | G12: 85.636364 | H12: 83.606061 | I12: 85.666667 | J12: 84.69697 | L12: 85.666667 | M12: 81.575758 | N12: 80.575758 | P12: NES | Q12: Number of sites | R12: nr | S12: =COUNTIFS(BWQ.classifications!M:M,">=0",BWQ.classifications!$B:$B,$P12) -> 34 | T12: =COUNTIFS(BWQ.classifications!N:N,">=0",BWQ.classifications!$B:$B,$P12) -> 34 | U12: =COUNTIFS(BWQ.classifications!O:O,">=0",BWQ.classifications!$B:$B,$P12) -> 34 | V12: =COUNTIFS(BWQ.classifications!P:P,">=0",BWQ.classifications!$B:$B,$P12) -> 34 | W12: =COUNTIFS(BWQ.classifications!Q:Q,">=0",BWQ.classifications!$B:$B,$P12) -> 34 | X12: 0 | Y12: 33 | Z12: 33 | AA12: 33
C13: SVE | D13: Average score per site | E13: nr | P13: SVE | Q13: Number of sites | R13: nr | S13: =COUNTIFS(BWQ.classifications!M:M,">=0",BWQ.classifications!$B:$B,$P13) -> 1 | T13: =COUNTIFS(BWQ.classifications!N:N,">=0",BWQ.classifications!$B:$B,$P13) -> 1 | U13: =COUNTIFS(BWQ.classifications!O:O,">=0",BWQ.classifications!$B:$B,$P13) -> 1 | V13: =COUNTIFS(BWQ.classifications!P:P,">=0",BWQ.classifications!$B:$B,$P13) -> 1 | W13: =COUNTIFS(BWQ.classifications!Q:Q,">=0",BWQ.classifications!$B:$B,$P13) -> 1 | X13: 0 | Y13: 0 | Z13: 0 | AA13: 0
C14: SWB | D14: Average score per site | E14: nr | F14: 83.748299 | G14: 88.931507 | H14: 84.554795 | I14: 86.214286 | J14: 89.157895 | L14: 87.368421 | M14: 90.622517 | N14: 90.566667 | P14: SWB | Q14: Number of sites | R14: nr | S14: =COUNTIFS(BWQ.classifications!M:M,">=0",BWQ.classifications!$B:$B,$P14) -> 143 | T14: =COUNTIFS(BWQ.classifications!N:N,">=0",BWQ.classifications!$B:$B,$P14) -> 143 | U14: =COUNTIFS(BWQ.classifications!O:O,">=0",BWQ.classifications!$B:$B,$P14) -> 143 | V14: =COUNTIFS(BWQ.classifications!P:P,">=0",BWQ.classifications!$B:$B,$P14) -> 151 | W14: =COUNTIFS(BWQ.classifications!Q:Q,">=0",BWQ.classifications!$B:$B,$P14) -> 151 | X14: 0 | Y14: 152 | Z14: 151 | AA14: 150
C15: SRN | D15: Average score per site | E15: nr | F15: 82.891566 | G15: 82.903614 | H15: 83.313253 | I15: 86.566265 | J15: 86.566265 | K15: 86.566265 | L15: 85.759036 | M15: 83.535714 | N15: 76.357143 | P15: SRN | Q15: Number of sites | R15: nr | S15: =COUNTIFS(BWQ.classifications!M:M,">=0",BWQ.classifications!$B:$B,$P15) -> 83 | T15: =COUNTIFS(BWQ.classifications!N:N,">=0",BWQ.classifications!$B:$B,$P15) -> 83 | U15: =COUNTIFS(BWQ.classifications!O:O,">=0",BWQ.classifications!$B:$B,$P15) -> 83 | V15: =COUNTIFS(BWQ.classifications!P:P,">=0",BWQ.classifications!$B:$B,$P15) -> 83 | W15: =COUNTIFS(BWQ.classifications!Q:Q,">=0",BWQ.classifications!$B:$B,$P15) -> 83 | X15: 83 | Y15: 83 | Z15: 84 | AA15: 84
C16: TMS | D16: Average score per site | E16: nr | F16: 66 | G16: 100 | H16: 100 | I16: 100 | J16: 100 | L16: 100 | M16: 50 | N16: 50 | P16: TMS | Q16: Number of sites | R16: nr | S16: =COUNTIFS(BWQ.classifications!M:M,">=0",BWQ.classifications!$B:$B,$P16) -> 6 | T16: =COUNTIFS(BWQ.classifications!N:N,">=0",BWQ.classifications!$B:$B,$P16) -> 6 | U16: =COUNTIFS(BWQ.classifications!O:O,">=0",BWQ.classifications!$B:$B,$P16) -> 6 | V16: =COUNTIFS(BWQ.classifications!P:P,">=0",BWQ.classifications!$B:$B,$P16) -> 6 | W16: =COUNTIFS(BWQ.classifications!Q:Q,">=0",BWQ.classifications!$B:$B,$P16) -> 6 | X16: 0 | Y16: 1 | Z16: 2 | AA16: 2
C17: UUW | D17: Average score per site | E17: nr | F17: 48.193548 | G17: 61 | H17: 58.83871 | I17: 58.6 | J17: 58.37931 | L17: 60.655172 | M17: 61.827586 | N17: 59.551724 | P17: UUW | Q17: Number of sites | R17: nr | S17: =COUNTIFS(BWQ.classifications!M:M,">=0",BWQ.classifications!$B:$B,$P17) -> 31 | T17: =COUNTIFS(BWQ.classifications!N:N,">=0",BWQ.classifications!$B:$B,$P17) -> 31 | U17: =COUNTIFS(BWQ.classifications!O:O,">=0",BWQ.classifications!$B:$B,$P17) -> 31 | V17: =COUNTIFS(BWQ.classifications!P:P,">=0",BWQ.classifications!$B:$B,$P17) -> 30 | W17: =COUNTIFS(BWQ.classifications!Q:Q,">=0",BWQ.classifications!$B:$B,$P17) -> 29 | X17: 0 | Y17: 29 | Z17: 29 | AA17: 29
C18: WSX | D18: Average score per site | E18: nr | F18: 85.595745 | G18: 87.085106 | H18: 85.659574 | I18: 85.702128 | J18: 86.729167 | L18: 83.229167 | M18: 85.723404 | N18: 83.595745 | P18: WSX | Q18: Number of sites | R18: nr | S18: =COUNTIFS(BWQ.classifications!M:M,">=0",BWQ.classifications!$B:$B,$P18) -> 47 | T18: =COUNTIFS(BWQ.classifications!N:N,">=0",BWQ.classifications!$B:$B,$P18) -> 47 | U18: =COUNTIFS(BWQ.classifications!O:O,">=0",BWQ.classifications!$B:$B,$P18) -> 47 | V18: =COUNTIFS(BWQ.classifications!P:P,">=0",BWQ.classifications!$B:$B,$P18) -> 47 | W18: =COUNTIFS(BWQ.classifications!Q:Q,">=0",BWQ.classifications!$B:$B,$P18) -> 49 | X18: 0 | Y18: 48 | Z18: 47 | AA18: 47
C19: YKY | D19: Average score per site | E19: nr | F19: 74.65 | G19: 71.35 | H19: 64.55 | I19: 62.9 | J19: 69.7 | K19: 73.368421 | L19: 69.842105 | M19: 80.526316 | N19: 66.368421 | P19: YKY | Q19: Number of sites | R19: nr | S19: =COUNTIFS(BWQ.classifications!M:M,">=0",BWQ.classifications!$B:$B,$P19) -> 19 | T19: =COUNTIFS(BWQ.classifications!N:N,">=0",BWQ.classifications!$B:$B,$P19) -> 19 | U19: =COUNTIFS(BWQ.classifications!O:O,">=0",BWQ.classifications!$B:$B,$P19) -> 19 | V19: =COUNTIFS(BWQ.classifications!P:P,">=0",BWQ.classifications!$B:$B,$P19) -> 19 | W19: =COUNTIFS(BWQ.classifications!Q:Q,">=0",BWQ.classifications!$B:$B,$P19) -> 18 | X19: 19 | Y19: 19 | Z19: 19 | AA19: 19
C22: Serious pollution incidents
E23: Multiply by 10,000 to normalise into definition "per 10,000 km sewer network" | F23: 10000 | G23: 10000 | H23: 10000 | I23: 10000 | J23: 10000 | K23: 10000 | L23: 10000 | M23: 10000 | N23: 10000 | O23: 10000 | P23: 10000 | Q23: 10000 | R23: 10000 | S23: 10000
C24: Performance (normalised) | F24: Normalised Performance | X24: Sewer length | AR24: Performance
C25: Company | D25: Measure | E25: Unit | F25: 2011-12 | G25: 2012-13 | H25: 2013-14 | I25: 2014-15 | J25: 2015-16 | K25: 2016-17 | L25: 2017-18 | M25: 2018-19 | N25: 2019-20 | O25: 2020-21 | P25: 2021-22 | Q25: 2022-23 | R25: 2023-24 | U25: Company | V25: Measure | W25: Unit | X25: 2011-12 | Y25: 2012-13 | Z25: 2013-14 | AA25: 2014-15 | AB25: 2015-16 | AC25: 2016-17 | AD25: 2017-18 | AE25: 2018-19 | AF25: 2019-20 | AG25: 2020-21 | AH25: 2021-22 | AI25: 2022-23 | AJ25: 2023-24 | AO25: Company | AP25: Measure | AQ25: Unit | AR25: 2011-12 | AS25: 2012-13 | AT25: 2013-14 | AU25: 2014-15 | AV25: 2015-16 | AW25: 2016-17 | AX25: 2017-18 | AY25: 2018-19 | AZ25: 2019-20 | BA25: 2020-21 | BB25: 2021-22 | BC25: 2022-23 | BD25: 2023-24
C26: ANH | D26: Performance | E26: Number of category 1-2 pollution incidents per 10,000 km sewer network | F26: =IF(X26=0,"",(AR26/X26)*F$23) -> 1.1852802 | G26: =IF(Y26=0,"",(AS26/Y26)*G$23) -> 0.39499573 | H26: =IF(Z26=0,"",(AT26/Z26)*H$23) -> 1.3125716 | I26: =IF(AA26=0,"",(AU26/AA26)*I$23) -> 1.1790166 | J26: =IF(AB26=0,"",(AV26/AB26)*J$23) -> 1.6975979 | K26: =IF(AC26=0,"",(AW26/AC26)*K$23) -> 1.4318355 | L26: =IF(AD26=0,"",(AX26/AD26)*L$23) -> 2.4857137 | M26: =IF(AE26=0,"",(AY26/AE26)*M$23) -> 1.3060199 | ... R26: =IF(AJ26=0,"",(BD26/AJ26)*R$23) -> 1.4390936 | U26: ANH | V26: Sewer length | W26: km | X26: =SUMIFS('SPL.Sewer.length'!$F:$F,'SPL.Sewer.length'!$B:$B,$U26,'SPL.Sewer.length'!$C:$C,X$25) -> 75931.413 | Y26: =SUMIFS('SPL.Sewer.length'!$F:$F,'SPL.Sewer.length'!$B:$B,$U26,'SPL.Sewer.length'!$C:$C,Y$25) -> 75950.188 | Z26: =SUMIFS('SPL.Sewer.length'!$F:$F,'SPL.Sewer.length'!$B:$B,$U26,'SPL.Sewer.length'!$C:$C,Z$25) -> 76186.318 | AA26: =SUMIFS('SPL.Sewer.length'!$F:$F,'SPL.Sewer.length'!$B:$B,$U26,'SPL.Sewer.length'!$C:$C,AA$25) -> 76334.801 | AB26: =SUMIFS('SPL.Sewer.length'!$F:$F,'SPL.Sewer.length'!$B:$B,$U26,'SPL.Sewer.length'!$C:$C,AB$25) -> 76578.796 | AC26: =SUMIFS('SPL.Sewer.length'!$F:$F,'SPL.Sewer.length'!$B:$B,$U26,'SPL.Sewer.length'!$C:$C,AC$25) -> 76824.469 | AD26: =SUMIFS('SPL.Sewer.length'!$F:$F,'SPL.Sewer.length'!$B:$B,$U26,'SPL.Sewer.length'!$C:$C,AD$25) -> 76436.8 | AE26: =SUMIFS('SPL.Sewer.length'!$F:$F,'SPL.Sewer.length'!$B:$B,$U26,'SPL.Sewer.length'!$C:$C,AE$25) -> 76568.513 | ... AI26: =SUMIFS('SPL.Sewer.length'!$F:$F,'SPL.Sewer.length'!$B:$B,$U26,'SPL.Sewer.length'!$C:$C,AI$25) -> 76437 | AJ26: 76437 | AO26: ANH | AP26: Performance | AQ26: Number of serious pollution incidents | AR26: =SUMIFS(Performance!J7:J23,Performance!$C7:$C23,$AO26) -> 9 | AS26: =SUMIFS(Performance!K7:K23,Performance!$C7:$C23,$AO26) -> 3 | AT26: =SUMIFS(Performance!L7:L23,Performance!$C7:$C23,$AO26) -> 10 | AU26: =SUMIFS(Performance!M7:M23,Performance!$C7:$C23,$AO26) -> 9 | AV26: 13 | AW26: 11 | AX26: 19 | AY26: 10 | AZ26: 14 | BA26: 11 | BB26: 14 | BC26: 11 | BD26: 11
C27: WSH | D27: Performance | E27: Number of category 1-2 pollution incidents per 10,000 km sewer network | F27: =IF(X27=0,"",(AR27/X27)*F$23) -> 1.1182993 | G27: =IF(Y27=0,"",(AS27/Y27)*G$23) -> 1.9531141 | H27: =IF(Z27=0,"",(AT27/Z27)*H$23) -> 0.55669508 | I27: =IF(AA27=0,"",(AU27/AA27)*I$23) -> 1.3893906 | J27: =IF(AB27=0,"",(AV27/AB27)*J$23) -> 0.55478194 | K27: =IF(AC27=0,"",(AW27/AC27)*K$23) -> 0.55373285 | L27: =IF(AD27=0,"",(AX27/AD27)*L$23) -> 0.82735797 | M27: =IF(AE27=0,"",(AY27/AE27)*M$23) -> 1.3715916 | ... R27: =IF(AJ27=0,"",(BD27/AJ27)*R$23) -> 1.9310878 | U27: WSH | V27: Sewer length | W27: km | X27: =SUMIFS('SPL.Sewer.length'!$F:$F,'SPL.Sewer.length'!$B:$B,$U27,'SPL.Sewer.length'!$C:$C,X$25) -> 35768.6 | Y27: =SUMIFS('SPL.Sewer.length'!$F:$F,'SPL.Sewer.length'!$B:$B,$U27,'SPL.Sewer.length'!$C:$C,Y$25) -> 35840.2 | Z27: =SUMIFS('SPL.Sewer.length'!$F:$F,'SPL.Sewer.length'!$B:$B,$U27,'SPL.Sewer.length'!$C:$C,Z$25) -> 35926.31 | AA27: =SUMIFS('SPL.Sewer.length'!$F:$F,'SPL.Sewer.length'!$B:$B,$U27,'SPL.Sewer.length'!$C:$C,AA$25) -> 35987 | AB27: =SUMIFS('SPL.Sewer.length'!$F:$F,'SPL.Sewer.length'!$B:$B,$U27,'SPL.Sewer.length'!$C:$C,AB$25) -> 36050.2 | AC27: =SUMIFS('SPL.Sewer.length'!$F:$F,'SPL.Sewer.length'!$B:$B,$U27,'SPL.Sewer.length'!$C:$C,AC$25) -> 36118.5 | AD27: =SUMIFS('SPL.Sewer.length'!$F:$F,'SPL.Sewer.length'!$B:$B,$U27,'SPL.Sewer.length'!$C:$C,AD$25) -> 36260 | AE27: =SUMIFS('SPL.Sewer.length'!$F:$F,'SPL.Sewer.length'!$B:$B,$U27,'SPL.Sewer.length'!$C:$C,AE$25) -> 36454 | ... AI27: =SUMIFS('SPL.Sewer.length'!$F:$F,'SPL.Sewer.length'!$B:$B,$U27,'SPL.Sewer.length'!$C:$C,AI$25) -> 36249 | AJ27: 36249 | AO27: WSH | AP27: Performance | AQ27: Number of serious pollution incidents | AR27: =SUMIFS(Performance!J8:J24,Performance!$C8:$C24,$AO27) -> 4 | AS27: =SUMIFS(Performance!K8:K24,Performance!$C8:$C24,$AO27) -> 7 | AT27: =SUMIFS(Performance!L8:L24,Performance!$C8:$C24,$AO27) -> 2 | AU27: =SUMIFS(Performance!M8:M24,Performance!$C8:$C24,$AO27) -> 5 | AV27: 2 | AW27: 2 | AX27: 3 | AY27: 5 | AZ27: 2 | BA27: 3 | BB27: 3 | BC27: 5 | BD27: 7
C28: HDD | D28: Performance | E28: Number of category 1-2 pollution incidents per 10,000 km sewer network | F28: =IF(X28=0,"",(AR28/X28)*F$23) | G28: =IF(Y28=0,"",(AS28/Y28)*G$23) | H28: =IF(Z28=0,"",(AT28/Z28)*H$23) | I28: =IF(AA28=0,"",(AU28/AA28)*I$23) | J28: =IF(AB28=0,"",(AV28/AB28)*J$23) | K28: =IF(AC28=0,"",(AW28/AC28)*K$23) | L28: =IF(AD28=0,"",(AX28/AD28)*L$23) -> 0 | M28: =IF(AE28=0,"",(AY28/AE28)*M$23) -> 0 | ... R28: =IF(AJ28=0,"",(BD28/AJ28)*R$23) -> 0 | U28: HDD | V28: Sewer length | W28: km | X28: =SUMIFS('SPL.Sewer.length'!$F:$F,'SPL.Sewer.length'!$B:$B,$U28,'SPL.Sewer.length'!$C:$C,X$25) -> 0 | Y28: =SUMIFS('SPL.Sewer.length'!$F:$F,'SPL.Sewer.length'!$B:$B,$U28,'SPL.Sewer.length'!$C:$C,Y$25) -> 0 | Z28: =SUMIFS('SPL.Sewer.length'!$F:$F,'SPL.Sewer.length'!$B:$B,$U28,'SPL.Sewer.length'!$C:$C,Z$25) -> 0 | AA28: =SUMIFS('SPL.Sewer.length'!$F:$F,'SPL.Sewer.length'!$B:$B,$U28,'SPL.Sewer.length'!$C:$C,AA$25) -> 0 | AB28: =SUMIFS('SPL.Sewer.length'!$F:$F,'SPL.Sewer.length'!$B:$B,$U28,'SPL.Sewer.length'!$C:$C,AB$25) -> 0 | AC28: =SUMIFS('SPL.Sewer.length'!$F:$F,'SPL.Sewer.length'!$B:$B,$U28,'SPL.Sewer.length'!$C:$C,AC$25) -> 0 | AD28: =SUMIFS('SPL.Sewer.length'!$F:$F,'SPL.Sewer.length'!$B:$B,$U28,'SPL.Sewer.length'!$C:$C,AD$25) -> 501.72047 | AE28: =SUMIFS('SPL.Sewer.length'!$F:$F,'SPL.Sewer.length'!$B:$B,$U28,'SPL.Sewer.length'!$C:$C,AE$25) -> 501.2758 | ... AI28: =SUMIFS('SPL.Sewer.length'!$F:$F,'SPL.Sewer.length'!$B:$B,$U28,'SPL.Sewer.length'!$C:$C,AI$25) -> 502 | AJ28: 502 | AO28: HDD | AP28: Performance | AQ28: Number of serious pollution incidents | AR28: =SUMIFS(Performance!J9:J25,Performance!$C9:$C25,$AO28) -> 0 | AS28: =SUMIFS(Performance!K9:K25,Performance!$C9:$C25,$AO28) -> 0 | AT28: =SUMIFS(Performance!L9:L25,Performance!$C9:$C25,$AO28) -> 0 | AU28: =SUMIFS(Performance!M9:M25,Performance!$C9:$C25,$AO28) -> 0 | AV28: 0 | AW28: 0 | AX28: 0 | AY28: 0 | AZ28: 0 | BA28: 0 | BB28: 0 | BC28: 0 | BD28: 0
C29: NES | D29: Performance | E29: Number of category 1-2 pollution incidents per 10,000 km sewer network | F29: =IF(X29=0,"",(AR29/X29)*F$23) -> 3.6870684 | G29: =IF(Y29=0,"",(AS29/Y29)*G$23) -> 1.004554 | H29: =IF(Z29=0,"",(AT29/Z29)*H$23) -> 1.6734721 | I29: =IF(AA29=0,"",(AU29/AA29)*I$23) -> 1.0025398 | J29: =IF(AB29=0,"",(AV29/AB29)*J$23) -> 1.6686134 | K29: =IF(AC29=0,"",(AW29/AC29)*K$23) -> 3.001701 | L29: =IF(AD29=0,"",(AX29/AD29)*L$23) -> 1.3321788 | M29: =IF(AE29=0,"",(AY29/AE29)*M$23) -> 0.66511473 | ... R29: =IF(AJ29=0,"",(BD29/AJ29)*R$23) -> 0 | U29: NES | V29: Sewer length | W29: km | X29: =SUMIFS('SPL.Sewer.length'!$F:$F,'SPL.Sewer.length'!$B:$B,$U29,'SPL.Sewer.length'!$C:$C,X$25) -> 29834 | Y29: =SUMIFS('SPL.Sewer.length'!$F:$F,'SPL.Sewer.length'!$B:$B,$U29,'SPL.Sewer.length'!$C:$C,Y$25) -> 29864 | Z29: =SUMIFS('SPL.Sewer.length'!$F:$F,'SPL.Sewer.length'!$B:$B,$U29,'SPL.Sewer.length'!$C:$C,Z$25) -> 29878 | AA29: =SUMIFS('SPL.Sewer.length'!$F:$F,'SPL.Sewer.length'!$B:$B,$U29,'SPL.Sewer.length'!$C:$C,AA$25) -> 29924 | AB29: =SUMIFS('SPL.Sewer.length'!$F:$F,'SPL.Sewer.length'!$B:$B,$U29,'SPL.Sewer.length'!$C:$C,AB$25) -> 29965 | AC29: =SUMIFS('SPL.Sewer.length'!$F:$F,'SPL.Sewer.length'!$B:$B,$U29,'SPL.Sewer.length'!$C:$C,AC$25) -> 29983 | AD29: =SUMIFS('SPL.Sewer.length'!$F:$F,'SPL.Sewer.length'!$B:$B,$U29,'SPL.Sewer.length'!$C:$C,AD$25) -> 30026 | AE29: =SUMIFS('SPL.Sewer.length'!$F:$F,'SPL.Sewer.length'!$B:$B,$U29,'SPL.Sewer.length'!$C:$C,AE$25) -> 30070 | ... AI29: =SUMIFS('SPL.Sewer.length'!$F:$F,'SPL.Sewer.length'!$B:$B,$U29,'SPL.Sewer.length'!$C:$C,AI$25) -> 30026 | AJ29: 30026 | AO29: NES | AP29: Performance | AQ29: Number of serious pollution incidents | AR29: =SUMIFS(Performance!J10:J26,Performance!$C10:$C26,$AO29) -> 11 | AS29: =SUMIFS(Performance!K10:K26,Performance!$C10:$C26,$AO29) -> 3 | AT29: =SUMIFS(Performance!L10:L26,Performance!$C10:$C26,$AO29) -> 5 | AU29: =SUMIFS(Performance!M10:M26,Performance!$C10:$C26,$AO29) -> 3 | AV29: 5 | AW29: 9 | AX29: 4 | AY29: 2 | AZ29: 3 | BA29: 4 | BB29: 1 | BC29: 0 | BD29: 0
C30: SVE | D30: Performance | E30: Number of category 1-2 pollution incidents per 10,000 km sewer network | F30: =IF(X30=0,"",(AR30/X30)*F$23) -> 1.627068 | G30: =IF(Y30=0,"",(AS30/Y30)*G$23) -> 1.506532 | H30: =IF(Z30=0,"",(AT30/Z30)*H$23) -> 0.85680766 | I30: =IF(AA30=0,"",(AU30/AA30)*I$23) -> 1.0736638 | J30: =IF(AB30=0,"",(AV30/AB30)*J$23) -> 0.21442605 | K30: =IF(AC30=0,"",(AW30/AC30)*K$23) -> 0.7468494 | L30: =IF(AD30=0,"",(AX30/AD30)*L$23) -> 0.21384626 | M30: =IF(AE30=0,"",(AY30/AE30)*M$23) -> 0.75902899 | ... R30: =IF(AJ30=0,"",(BD30/AJ30)*R$23) -> 0 | U30: SVE | V30: Sewer length | W30: km | X30: =SUMIFS('SPL.Sewer.length'!$F:$F,'SPL.Sewer.length'!$B:$B,$U30,'SPL.Sewer.length'!$C:$C,X$25) -> 92190.367 | Y30: =SUMIFS('SPL.Sewer.length'!$F:$F,'SPL.Sewer.length'!$B:$B,$U30,'SPL.Sewer.length'!$C:$C,Y$25) -> 92928.663 | Z30: =SUMIFS('SPL.Sewer.length'!$F:$F,'SPL.Sewer.length'!$B:$B,$U30,'SPL.Sewer.length'!$C:$C,Z$25) -> 93369.846 | AA30: =SUMIFS('SPL.Sewer.length'!$F:$F,'SPL.Sewer.length'!$B:$B,$U30,'SPL.Sewer.length'!$C:$C,AA$25) -> 93139.023 | AB30: =SUMIFS('SPL.Sewer.length'!$F:$F,'SPL.Sewer.length'!$B:$B,$U30,'SPL.Sewer.length'!$C:$C,AB$25) -> 93272.251 | AC30: =SUMIFS('SPL.Sewer.length'!$F:$F,'SPL.Sewer.length'!$B:$B,$U30,'SPL.Sewer.length'!$C:$C,AC$25) -> 93727.062 | AD30: =SUMIFS('SPL.Sewer.length'!$F:$F,'SPL.Sewer.length'!$B:$B,$U30,'SPL.Sewer.length'!$C:$C,AD$25) -> 93525.135 | AE30: =SUMIFS('SPL.Sewer.length'!$F:$F,'SPL.Sewer.length'!$B:$B,$U30,'SPL.Sewer.length'!$C:$C,AE$25) -> 92223.092 | ... AI30: =SUMIFS('SPL.Sewer.length'!$F:$F,'SPL.Sewer.length'!$B:$B,$U30,'SPL.Sewer.length'!$C:$C,AI$25) -> 93525 | AJ30: 93525 | AO30: SVE | AP30: Performance | AQ30: Number of serious pollution incidents | AR30: =SUMIFS(Performance!J11:J27,Performance!$C11:$C27,$AO30) -> 15 | AS30: =SUMIFS(Performance!K11:K27,Performance!$C11:$C27,$AO30) -> 14 | AT30: =SUMIFS(Performance!L11:L27,Performance!$C11:$C27,$AO30) -> 8 | AU30: =SUMIFS(Performance!M11:M27,Performance!$C11:$C27,$AO30) -> 10 | AV30: 2 | AW30: 7 | AX30: 2 | AY30: 7 | AZ30: 4 | BA30: 2 | BB30: 4 | BC30: 1 | BD30: 0
C31: SWB | D31: Performance | E31: Number of category 1-2 pollution incidents per 10,000 km sewer network | F31: =IF(X31=0,"",(AR31/X31)*F$23) -> 7.5487114 | G31: =IF(Y31=0,"",(AS31/Y31)*G$23) -> 1.7781729 | H31: =IF(Z31=0,"",(AT31/Z31)*H$23) -> 4.4328599 | I31: =IF(AA31=0,"",(AU31/AA31)*I$23) -> 1.3261134 | J31: =IF(AB31=0,"",(AV31/AB31)*J$23) -> 3.0934441 | K31: =IF(AC31=0,"",(AW31/AC31)*K$23) -> 1.7678308 | L31: =IF(AD31=0,"",(AX31/AD31)*L$23) -> 1.3208876 | M31: =IF(AE31=0,"",(AY31/AE31)*M$23) -> 0.87875045 | ... R31: =IF(AJ31=0,"",(BD31/AJ31)*R$23) -> 1.146789 | U31: SWB | V31: Sewer length | W31: km | X31: =SUMIFS('SPL.Sewer.length'!$F:$F,'SPL.Sewer.length'!$B:$B,$U31,'SPL.Sewer.length'!$C:$C,X$25) -> 22520.4 | Y31: =SUMIFS('SPL.Sewer.length'!$F:$F,'SPL.Sewer.length'!$B:$B,$U31,'SPL.Sewer.length'!$C:$C,Y$25) -> 22495 | Z31: =SUMIFS('SPL.Sewer.length'!$F:$F,'SPL.Sewer.length'!$B:$B,$U31,'SPL.Sewer.length'!$C:$C,Z$25) -> 22558.8 | AA31: =SUMIFS('SPL.Sewer.length'!$F:$F,'SPL.Sewer.length'!$B:$B,$U31,'SPL.Sewer.length'!$C:$C,AA$25) -> 22622.5 | AB31: =SUMIFS('SPL.Sewer.length'!$F:$F,'SPL.Sewer.length'!$B:$B,$U31,'SPL.Sewer.length'!$C:$C,AB$25) -> 22628.5 | AC31: =SUMIFS('SPL.Sewer.length'!$F:$F,'SPL.Sewer.length'!$B:$B,$U31,'SPL.Sewer.length'!$C:$C,AC$25) -> 22626.6 | AD31: =SUMIFS('SPL.Sewer.length'!$F:$F,'SPL.Sewer.length'!$B:$B,$U31,'SPL.Sewer.length'!$C:$C,AD$25) -> 22712 | AE31: =SUMIFS('SPL.Sewer.length'!$F:$F,'SPL.Sewer.length'!$B:$B,$U31,'SPL.Sewer.length'!$C:$C,AE$25) -> 22759.59 | ... AI31: =SUMIFS('SPL.Sewer.length'!$F:$F,'SPL.Sewer.length'!$B:$B,$U31,'SPL.Sewer.length'!$C:$C,AI$25) -> 17440 | AJ31: 17440 | AO31: SWB | AP31: Performance | AQ31: Number of serious pollution incidents | AR31: =SUMIFS(Performance!J12:J28,Performance!$C12:$C28,$AO31) -> 17 | AS31: =SUMIFS(Performance!K12:K28,Performance!$C12:$C28,$AO31) -> 4 | AT31: =SUMIFS(Performance!L12:L28,Performance!$C12:$C28,$AO31) -> 10 | AU31: =SUMIFS(Performance!M12:M28,Performance!$C12:$C28,$AO31) -> 3 | AV31: 7 | AW31: 4 | AX31: 3 | AY31: 2 | AZ31: 1 | BA31: 3 | BB31: 8 | BC31: 2 | BD31: 2
C32: SRN | D32: Performance | E32: Number of category 1-2 pollution incidents per 10,000 km sewer network | F32: =IF(X32=0,"",(AR32/X32)*F$23) -> 5.3960079 | G32: =IF(Y32=0,"",(AS32/Y32)*G$23) -> 2.5550191 | H32: =IF(Z32=0,"",(AT32/Z32)*H$23) -> 2.2917179 | I32: =IF(AA32=0,"",(AU32/AA32)*I$23) -> 3.0447039 | J32: =IF(AB32=0,"",(AV32/AB32)*J$23) -> 1.7763265 | K32: =IF(AC32=0,"",(AW32/AC32)*K$23) -> 0.76061052 | L32: =IF(AD32=0,"",(AX32/AD32)*L$23) -> 1.0116082 | M32: =IF(AE32=0,"",(AY32/AE32)*M$23) -> 1.7667399 | ... R32: =IF(AJ32=0,"",(BD32/AJ32)*R$23) -> 3.2721689 | U32: SRN | V32: Sewer length | W32: km | X32: =SUMIFS('SPL.Sewer.length'!$F:$F,'SPL.Sewer.length'!$B:$B,$U32,'SPL.Sewer.length'!$C:$C,X$25) -> 38917.66 | Y32: =SUMIFS('SPL.Sewer.length'!$F:$F,'SPL.Sewer.length'!$B:$B,$U32,'SPL.Sewer.length'!$C:$C,Y$25) -> 39138.65 | Z32: =SUMIFS('SPL.Sewer.length'!$F:$F,'SPL.Sewer.length'!$B:$B,$U32,'SPL.Sewer.length'!$C:$C,Z$25) -> 39271.85 | AA32: =SUMIFS('SPL.Sewer.length'!$F:$F,'SPL.Sewer.length'!$B:$B,$U32,'SPL.Sewer.length'!$C:$C,AA$25) -> 39412.7 | AB32: =SUMIFS('SPL.Sewer.length'!$F:$F,'SPL.Sewer.length'!$B:$B,$U32,'SPL.Sewer.length'!$C:$C,AB$25) -> 39407.17 | AC32: =SUMIFS('SPL.Sewer.length'!$F:$F,'SPL.Sewer.length'!$B:$B,$U32,'SPL.Sewer.length'!$C:$C,AC$25) -> 39442 | AD32: =SUMIFS('SPL.Sewer.length'!$F:$F,'SPL.Sewer.length'!$B:$B,$U32,'SPL.Sewer.length'!$C:$C,AD$25) -> 39541 | AE32: =SUMIFS('SPL.Sewer.length'!$F:$F,'SPL.Sewer.length'!$B:$B,$U32,'SPL.Sewer.length'!$C:$C,AE$25) -> 39621 | ... AI32: =SUMIFS('SPL.Sewer.length'!$F:$F,'SPL.Sewer.length'!$B:$B,$U32,'SPL.Sewer.length'!$C:$C,AI$25) -> 39729 | AJ32: 39729 | AO32: SRN | AP32: Performance | AQ32: Number of serious pollution incidents | AR32: =SUMIFS(Performance!J13:J29,Performance!$C13:$C29,$AO32) -> 21 | AS32: =SUMIFS(Performance!K13:K29,Performance!$C13:$C29,$AO32) -> 10 | AT32: =SUMIFS(Performance!L13:L29,Performance!$C13:$C29,$AO32) -> 9 | AU32: =SUMIFS(Performance!M13:M29,Performance!$C13:$C29,$AO32) -> 12 | AV32: 7 | AW32: 3 | AX32: 4 | AY32: 7 | AZ32: 7 | BA32: 4 | BB32: 12 | BC32: 5 | BD32: 13
C33: TMS | D33: Performance | E33: Number of category 1-2 pollution incidents per 10,000 km sewer network | F33: =IF(X33=0,"",(AR33/X33)*F$23) -> 1.9326848 | G33: =IF(Y33=0,"",(AS33/Y33)*G$23) -> 1.3792015 | H33: =IF(Z33=0,"",(AT33/Z33)*H$23) -> 2.0230181 | I33: =IF(AA33=0,"",(AU33/AA33)*I$23) -> 1.4705943 | J33: =IF(AB33=0,"",(AV33/AB33)*J$23) -> 1.1024905 | K33: =IF(AC33=0,"",(AW33/AC33)*K$23) -> 0.91825965 | L33: =IF(AD33=0,"",(AX33/AD33)*L$23) -> 0.91759948 | M33: =IF(AE33=0,"",(AY33/AE33)*M$23) -> 0.82520605 | ... R33: =IF(AJ33=0,"",(BD33/AJ33)*R$23) -> 1.2846394 | U33: TMS | V33: Sewer length | W33: km | X33: =SUMIFS('SPL.Sewer.length'!$F:$F,'SPL.Sewer.length'!$B:$B,$U33,'SPL.Sewer.length'!$C:$C,X$25) -> 108657.14 | Y33: =SUMIFS('SPL.Sewer.length'!$F:$F,'SPL.Sewer.length'!$B:$B,$U33,'SPL.Sewer.length'!$C:$C,Y$25) -> 108758.58 | Z33: =SUMIFS('SPL.Sewer.length'!$F:$F,'SPL.Sewer.length'!$B:$B,$U33,'SPL.Sewer.length'!$C:$C,Z$25) -> 108748.41 | AA33: =SUMIFS('SPL.Sewer.length'!$F:$F,'SPL.Sewer.length'!$B:$B,$U33,'SPL.Sewer.length'!$C:$C,AA$25) -> 108799.55 | AB33: =SUMIFS('SPL.Sewer.length'!$F:$F,'SPL.Sewer.length'!$B:$B,$U33,'SPL.Sewer.length'!$C:$C,AB$25) -> 108844.48 | AC33: =SUMIFS('SPL.Sewer.length'!$F:$F,'SPL.Sewer.length'!$B:$B,$U33,'SPL.Sewer.length'!$C:$C,AC$25) -> 108901.66 | AD33: =SUMIFS('SPL.Sewer.length'!$F:$F,'SPL.Sewer.length'!$B:$B,$U33,'SPL.Sewer.length'!$C:$C,AD$25) -> 108980.01 | AE33: =SUMIFS('SPL.Sewer.length'!$F:$F,'SPL.Sewer.length'!$B:$B,$U33,'SPL.Sewer.length'!$C:$C,AE$25) -> 109063.67 | ... AI33: =SUMIFS('SPL.Sewer.length'!$F:$F,'SPL.Sewer.length'!$B:$B,$U33,'SPL.Sewer.length'!$C:$C,AI$25) -> 108980 | AJ33: 108980 | AO33: TMS | AP33: Performance | AQ33: Number of serious pollution incidents | AR33: =SUMIFS(Performance!J14:J30,Performance!$C14:$C30,$AO33) -> 21 | AS33: =SUMIFS(Performance!K14:K30,Performance!$C14:$C30,$AO33) -> 15 | AT33: =SUMIFS(Performance!L14:L30,Performance!$C14:$C30,$AO33) -> 22 | AU33: =SUMIFS(Performance!M14:M30,Performance!$C14:$C30,$AO33) -> 16 | AV33: 12 | AW33: 10 | AX33: 10 | AY33: 9 | AZ33: 15 | BA33: 13 | BB33: 12 | BC33: 17 | BD33: 14
C34: UUW | D34: Performance | E34: Number of category 1-2 pollution incidents per 10,000 km sewer network | F34: =IF(X34=0,"",(AR34/X34)*F$23) -> 0.52193578 | G34: =IF(Y34=0,"",(AS34/Y34)*G$23) -> 0.78180501 | H34: =IF(Z34=0,"",(AT34/Z34)*H$23) -> 0.90911926 | I34: =IF(AA34=0,"",(AU34/AA34)*I$23) -> 0.25940087 | J34: =IF(AB34=0,"",(AV34/AB34)*J$23) -> 0.77727903 | K34: =IF(AC34=0,"",(AW34/AC34)*K$23) -> 0.38794274 | L34: =IF(AD34=0,"",(AX34/AD34)*L$23) -> 0.25860174 | M34: =IF(AE34=0,"",(AY34/AE34)*M$23) -> 0.12740476 | ... R34: =IF(AJ34=0,"",(BD34/AJ34)*R$23) -> 0.12930087 | T34: NWT | U34: UUW | V34: Sewer length | W34: km | X34: =SUMIFS('SPL.Sewer.length'!$F:$F,'SPL.Sewer.length'!$B:$B,$U34,'SPL.Sewer.length'!$C:$C,X$25) -> 76637.78 | Y34: =SUMIFS('SPL.Sewer.length'!$F:$F,'SPL.Sewer.length'!$B:$B,$U34,'SPL.Sewer.length'!$C:$C,Y$25) -> 76745.479 | Z34: =SUMIFS('SPL.Sewer.length'!$F:$F,'SPL.Sewer.length'!$B:$B,$U34,'SPL.Sewer.length'!$C:$C,Z$25) -> 76997.599 | AA34: =SUMIFS('SPL.Sewer.length'!$F:$F,'SPL.Sewer.length'!$B:$B,$U34,'SPL.Sewer.length'!$C:$C,AA$25) -> 77100.743 | AB34: =SUMIFS('SPL.Sewer.length'!$F:$F,'SPL.Sewer.length'!$B:$B,$U34,'SPL.Sewer.length'!$C:$C,AB$25) -> 77192.356 | AC34: =SUMIFS('SPL.Sewer.length'!$F:$F,'SPL.Sewer.length'!$B:$B,$U34,'SPL.Sewer.length'!$C:$C,AC$25) -> 77331 | AD34: =SUMIFS('SPL.Sewer.length'!$F:$F,'SPL.Sewer.length'!$B:$B,$U34,'SPL.Sewer.length'!$C:$C,AD$25) -> 77339 | AE34: =SUMIFS('SPL.Sewer.length'!$F:$F,'SPL.Sewer.length'!$B:$B,$U34,'SPL.Sewer.length'!$C:$C,AE$25) -> 78490 | ... AI34: =SUMIFS('SPL.Sewer.length'!$F:$F,'SPL.Sewer.length'!$B:$B,$U34,'SPL.Sewer.length'!$C:$C,AI$25) -> 77339 | AJ34: 77339 | AN34: NWT | AO34: UUW | AP34: Performance | AQ34: Number of serious pollution incidents | AR34: =SUMIFS(Performance!J15:J31,Performance!$C15:$C31,$AO34) -> 4 | AS34: =SUMIFS(Performance!K15:K31,Performance!$C15:$C31,$AO34) -> 6 | AT34: =SUMIFS(Performance!L15:L31,Performance!$C15:$C31,$AO34) -> 7 | AU34: =SUMIFS(Performance!M15:M31,Performance!$C15:$C31,$AO34) -> 2 | AV34: 6 | AW34: 3 | AX34: 2 | AY34: 1 | AZ34: 0 | BA34: 0 | BB34: 1 | BC34: 0 | BD34: 1
C35: WSX | D35: Performance | E35: Number of category 1-2 pollution incidents per 10,000 km sewer network | F35: =IF(X35=0,"",(AR35/X35)*F$23) -> 0.58329377 | G35: =IF(Y35=0,"",(AS35/Y35)*G$23) -> 0 | H35: =IF(Z35=0,"",(AT35/Z35)*H$23) -> 1.735249 | I35: =IF(AA35=0,"",(AU35/AA35)*I$23) -> 0.86623911 | J35: =IF(AB35=0,"",(AV35/AB35)*J$23) -> 0.86429253 | K35: =IF(AC35=0,"",(AW35/AC35)*K$23) -> 0.57494841 | L35: =IF(AD35=0,"",(AX35/AD35)*L$23) -> 0.85850445 | M35: =IF(AE35=0,"",(AY35/AE35)*M$23) -> 1.1484936 | ... R35: =IF(AJ35=0,"",(BD35/AJ35)*R$23) -> 0.28617216 | U35: WSX | V35: Sewer length | W35: km | X35: =SUMIFS('SPL.Sewer.length'!$F:$F,'SPL.Sewer.length'!$B:$B,$U35,'SPL.Sewer.length'!$C:$C,X$25) -> 34288.04 | Y35: =SUMIFS('SPL.Sewer.length'!$F:$F,'SPL.Sewer.length'!$B:$B,$U35,'SPL.Sewer.length'!$C:$C,Y$25) -> 34553.83 | Z35: =SUMIFS('SPL.Sewer.length'!$F:$F,'SPL.Sewer.length'!$B:$B,$U35,'SPL.Sewer.length'!$C:$C,Z$25) -> 34577.17 | AA35: =SUMIFS('SPL.Sewer.length'!$F:$F,'SPL.Sewer.length'!$B:$B,$U35,'SPL.Sewer.length'!$C:$C,AA$25) -> 34632.47 | AB35: =SUMIFS('SPL.Sewer.length'!$F:$F,'SPL.Sewer.length'!$B:$B,$U35,'SPL.Sewer.length'!$C:$C,AB$25) -> 34710.47 | AC35: =SUMIFS('SPL.Sewer.length'!$F:$F,'SPL.Sewer.length'!$B:$B,$U35,'SPL.Sewer.length'!$C:$C,AC$25) -> 34785.73 | AD35: =SUMIFS('SPL.Sewer.length'!$F:$F,'SPL.Sewer.length'!$B:$B,$U35,'SPL.Sewer.length'!$C:$C,AD$25) -> 34944.49 | AE35: =SUMIFS('SPL.Sewer.length'!$F:$F,'SPL.Sewer.length'!$B:$B,$U35,'SPL.Sewer.length'!$C:$C,AE$25) -> 34828.23 | ... AI35: =SUMIFS('SPL.Sewer.length'!$F:$F,'SPL.Sewer.length'!$B:$B,$U35,'SPL.Sewer.length'!$C:$C,AI$25) -> 34944 | AJ35: 34944 | AO35: WSX | AP35: Performance | AQ35: Number of serious pollution incidents | AR35: =SUMIFS(Performance!J16:J32,Performance!$C16:$C32,$AO35) -> 2 | AS35: =SUMIFS(Performance!K16:K32,Performance!$C16:$C32,$AO35) -> 0 | AT35: =SUMIFS(Performance!L16:L32,Performance!$C16:$C32,$AO35) -> 6 | AU35: =SUMIFS(Performance!M16:M32,Performance!$C16:$C32,$AO35) -> 3 | AV35: 3 | AW35: 2 | AX35: 3 | AY35: 4 | AZ35: 1 | BA35: 4 | BB35: 5 | BC35: 5 | BD35: 1
C36: YKY | D36: Performance | E36: Number of category 1-2 pollution incidents per 10,000 km sewer network | F36: =IF(X36=0,"",(AR36/X36)*F$23) -> 2.8840845 | G36: =IF(Y36=0,"",(AS36/Y36)*G$23) -> 1.1528529 | H36: =IF(Z36=0,"",(AT36/Z36)*H$23) -> 2.1116829 | I36: =IF(AA36=0,"",(AU36/AA36)*I$23) -> 0.76740922 | J36: =IF(AB36=0,"",(AV36/AB36)*J$23) -> 1.3415101 | K36: =IF(AC36=0,"",(AW36/AC36)*K$23) -> 1.3402438 | L36: =IF(AD36=0,"",(AX36/AD36)*L$23) -> 1.1480178 | M36: =IF(AE36=0,"",(AY36/AE36)*M$23) -> 2.6772533 | ... R36: =IF(AJ36=0,"",(BD36/AJ36)*R$23) -> 0.95669977 | U36: YKY | V36: Sewer length | W36: km | X36: =SUMIFS('SPL.Sewer.length'!$F:$F,'SPL.Sewer.length'!$B:$B,$U36,'SPL.Sewer.length'!$C:$C,X$25) -> 52009.572 | Y36: =SUMIFS('SPL.Sewer.length'!$F:$F,'SPL.Sewer.length'!$B:$B,$U36,'SPL.Sewer.length'!$C:$C,Y$25) -> 52044.801 | Z36: =SUMIFS('SPL.Sewer.length'!$F:$F,'SPL.Sewer.length'!$B:$B,$U36,'SPL.Sewer.length'!$C:$C,Z$25) -> 52091.153 | AA36: =SUMIFS('SPL.Sewer.length'!$F:$F,'SPL.Sewer.length'!$B:$B,$U36,'SPL.Sewer.length'!$C:$C,AA$25) -> 52123.429 | AB36: =SUMIFS('SPL.Sewer.length'!$F:$F,'SPL.Sewer.length'!$B:$B,$U36,'SPL.Sewer.length'!$C:$C,AB$25) -> 52180.002 | AC36: =SUMIFS('SPL.Sewer.length'!$F:$F,'SPL.Sewer.length'!$B:$B,$U36,'SPL.Sewer.length'!$C:$C,AC$25) -> 52229.304 | AD36: =SUMIFS('SPL.Sewer.length'!$F:$F,'SPL.Sewer.length'!$B:$B,$U36,'SPL.Sewer.length'!$C:$C,AD$25) -> 52264 | AE36: =SUMIFS('SPL.Sewer.length'!$F:$F,'SPL.Sewer.length'!$B:$B,$U36,'SPL.Sewer.length'!$C:$C,AE$25) -> 52292.399 | ... AI36: =SUMIFS('SPL.Sewer.length'!$F:$F,'SPL.Sewer.length'!$B:$B,$U36,'SPL.Sewer.length'!$C:$C,AI$25) -> 52263 | AJ36: 52263 | AO36: YKY | AP36: Performance | AQ36: Number of serious pollution incidents | AR36: =SUMIFS(Performance!J17:J33,Performance!$C17:$C33,$AO36) -> 15 | AS36: =SUMIFS(Performance!K17:K33,Performance!$C17:$C33,$AO36) -> 6 | AT36: =SUMIFS(Performance!L17:L33,Performance!$C17:$C33,$AO36) -> 11 | AU36: =SUMIFS(Performance!M17:M33,Performance!$C17:$C33,$AO36) -> 4 | AV36: 7 | AW36: 7 | AX36: 6 | AY36: 14 | AZ36: 7 | BA36: 3 | BB36: 5 | BC36: 3 | BD36: 5
C37: AFW | D37: Performance | E37: Number of category 1-2 pollution incidents per 10,000 km sewer network | F37: =IF(X37=0,"",(AR37/X37)*F$23) | G37: =IF(Y37=0,"",(AS37/Y37)*G$23) | H37: =IF(Z37=0,"",(AT37/Z37)*H$23) | I37: =IF(AA37=0,"",(AU37/AA37)*I$23) | J37: =IF(AB37=0,"",(AV37/AB37)*J$23) | K37: =IF(AC37=0,"",(AW37/AC37)*K$23) | L37: =IF(AD37=0,"",(AX37/AD37)*L$23) | M37: =IF(AE37=0,"",(AY37/AE37)*M$23) | ... Q37: =IF(AI37=0,"",(BC37/AI37)*Q$23) | U37: AFW | V37: Sewer length | W37: km | X37: =SUMIFS('SPL.Sewer.length'!$F:$F,'SPL.Sewer.length'!$B:$B,$U37,'SPL.Sewer.length'!$C:$C,X$25) -> 0 | Y37: =SUMIFS('SPL.Sewer.length'!$F:$F,'SPL.Sewer.length'!$B:$B,$U37,'SPL.Sewer.length'!$C:$C,Y$25) -> 0 | Z37: =SUMIFS('SPL.Sewer.length'!$F:$F,'SPL.Sewer.length'!$B:$B,$U37,'SPL.Sewer.length'!$C:$C,Z$25) -> 0 | AA37: =SUMIFS('SPL.Sewer.length'!$F:$F,'SPL.Sewer.length'!$B:$B,$U37,'SPL.Sewer.length'!$C:$C,AA$25) -> 0 | AB37: =SUMIFS('SPL.Sewer.length'!$F:$F,'SPL.Sewer.length'!$B:$B,$U37,'SPL.Sewer.length'!$C:$C,AB$25) -> 0 | AC37: =SUMIFS('SPL.Sewer.length'!$F:$F,'SPL.Sewer.length'!$B:$B,$U37,'SPL.Sewer.length'!$C:$C,AC$25) -> 0 | AD37: =SUMIFS('SPL.Sewer.length'!$F:$F,'SPL.Sewer.length'!$B:$B,$U37,'SPL.Sewer.length'!$C:$C,AD$25) -> 0 | AE37: =SUMIFS('SPL.Sewer.length'!$F:$F,'SPL.Sewer.length'!$B:$B,$U37,'SPL.Sewer.length'!$C:$C,AE$25) -> 0 | ... AJ37: =SUMIFS('SPL.Sewer.length'!$F:$F,'SPL.Sewer.length'!$B:$B,$U37,'SPL.Sewer.length'!$C:$C,AJ$25) -> 0 | AO37: AFW | AP37: Performance | AQ37: Number of serious pollution incidents | AR37: =SUMIFS(Performance!J18:J34,Performance!$C18:$C34,$AO37) -> 0 | AS37: =SUMIFS(Performance!K18:K34,Performance!$C18:$C34,$AO37) -> 0 | AT37: =SUMIFS(Performance!L18:L34,Performance!$C18:$C34,$AO37) -> 0 | AU37: =SUMIFS(Performance!M18:M34,Performance!$C18:$C34,$AO37) -> 0 | AV37: 2 | AW37: 2 | AX37: 0 | AY37: 0 | AZ37: 0 | BA37: 0 | BB37: 0 | BC37: 2 | BD37: 0
C38: BRL | D38: Performance | E38: Number of category 1-2 pollution incidents per 10,000 km sewer network | F38: =IF(X38=0,"",(AR38/X38)*F$23) | G38: =IF(Y38=0,"",(AS38/Y38)*G$23) | H38: =IF(Z38=0,"",(AT38/Z38)*H$23) | I38: =IF(AA38=0,"",(AU38/AA38)*I$23) | J38: =IF(AB38=0,"",(AV38/AB38)*J$23) | K38: =IF(AC38=0,"",(AW38/AC38)*K$23) | L38: =IF(AD38=0,"",(AX38/AD38)*L$23) | M38: =IF(AE38=0,"",(AY38/AE38)*M$23) | ... Q38: =IF(AI38=0,"",(BC38/AI38)*Q$23) | U38: BRL | V38: Sewer length | W38: km | X38: =SUMIFS('SPL.Sewer.length'!$F:$F,'SPL.Sewer.length'!$B:$B,$U38,'SPL.Sewer.length'!$C:$C,X$25) -> 0 | Y38: =SUMIFS('SPL.Sewer.length'!$F:$F,'SPL.Sewer.length'!$B:$B,$U38,'SPL.Sewer.length'!$C:$C,Y$25) -> 0 | Z38: =SUMIFS('SPL.Sewer.length'!$F:$F,'SPL.Sewer.length'!$B:$B,$U38,'SPL.Sewer.length'!$C:$C,Z$25) -> 0 | AA38: =SUMIFS('SPL.Sewer.length'!$F:$F,'SPL.Sewer.length'!$B:$B,$U38,'SPL.Sewer.length'!$C:$C,AA$25) -> 0 | AB38: =SUMIFS('SPL.Sewer.length'!$F:$F,'SPL.Sewer.length'!$B:$B,$U38,'SPL.Sewer.length'!$C:$C,AB$25) -> 0 | AC38: =SUMIFS('SPL.Sewer.length'!$F:$F,'SPL.Sewer.length'!$B:$B,$U38,'SPL.Sewer.length'!$C:$C,AC$25) -> 0 | AD38: =SUMIFS('SPL.Sewer.length'!$F:$F,'SPL.Sewer.length'!$B:$B,$U38,'SPL.Sewer.length'!$C:$C,AD$25) -> 0 | AE38: =SUMIFS('SPL.Sewer.length'!$F:$F,'SPL.Sewer.length'!$B:$B,$U38,'SPL.Sewer.length'!$C:$C,AE$25) -> 0 | ... AJ38: =SUMIFS('SPL.Sewer.length'!$F:$F,'SPL.Sewer.length'!$B:$B,$U38,'SPL.Sewer.length'!$C:$C,AJ$25) -> 0 | AO38: BRL | AP38: Performance | AQ38: Number of serious pollution incidents | AR38: =SUMIFS(Performance!J19:J35,Performance!$C19:$C35,$AO38) -> 0 | AS38: =SUMIFS(Performance!K19:K35,Performance!$C19:$C35,$AO38) -> 0 | AT38: =SUMIFS(Performance!L19:L35,Performance!$C19:$C35,$AO38) -> 0 | AU38: =SUMIFS(Performance!M19:M35,Performance!$C19:$C35,$AO38) -> 0 | AV38: 0 | AW38: 0 | AX38: 0 | AY38: 0 | AZ38: 0 | BA38: 0 | BB38: 0 | BC38: 0 | BD38: 0
C39: SSC | D39: Performance | E39: Number of category 1-2 pollution incidents per 10,000 km sewer network | F39: =IF(X39=0,"",(AR39/X39)*F$23) | G39: =IF(Y39=0,"",(AS39/Y39)*G$23) | H39: =IF(Z39=0,"",(AT39/Z39)*H$23) | I39: =IF(AA39=0,"",(AU39/AA39)*I$23) | J39: =IF(AB39=0,"",(AV39/AB39)*J$23) | K39: =IF(AC39=0,"",(AW39/AC39)*K$23) | L39: =IF(AD39=0,"",(AX39/AD39)*L$23) | M39: =IF(AE39=0,"",(AY39/AE39)*M$23) | ... Q39: =IF(AI39=0,"",(BC39/AI39)*Q$23) | U39: SSC | V39: Sewer length | W39: km | X39: =SUMIFS('SPL.Sewer.length'!$F:$F,'SPL.Sewer.length'!$B:$B,$U39,'SPL.Sewer.length'!$C:$C,X$25) -> 0 | Y39: =SUMIFS('SPL.Sewer.length'!$F:$F,'SPL.Sewer.length'!$B:$B,$U39,'SPL.Sewer.length'!$C:$C,Y$25) -> 0 | Z39: =SUMIFS('SPL.Sewer.length'!$F:$F,'SPL.Sewer.length'!$B:$B,$U39,'SPL.Sewer.length'!$C:$C,Z$25) -> 0 | AA39: =SUMIFS('SPL.Sewer.length'!$F:$F,'SPL.Sewer.length'!$B:$B,$U39,'SPL.Sewer.length'!$C:$C,AA$25) -> 0 | AB39: =SUMIFS('SPL.Sewer.length'!$F:$F,'SPL.Sewer.length'!$B:$B,$U39,'SPL.Sewer.length'!$C:$C,AB$25) -> 0 | AC39: =SUMIFS('SPL.Sewer.length'!$F:$F,'SPL.Sewer.length'!$B:$B,$U39,'SPL.Sewer.length'!$C:$C,AC$25) -> 0 | AD39: =SUMIFS('SPL.Sewer.length'!$F:$F,'SPL.Sewer.length'!$B:$B,$U39,'SPL.Sewer.length'!$C:$C,AD$25) -> 0 | AE39: =SUMIFS('SPL.Sewer.length'!$F:$F,'SPL.Sewer.length'!$B:$B,$U39,'SPL.Sewer.length'!$C:$C,AE$25) -> 0 | ... AJ39: =SUMIFS('SPL.Sewer.length'!$F:$F,'SPL.Sewer.length'!$B:$B,$U39,'SPL.Sewer.length'!$C:$C,AJ$25) -> 0 | AO39: SSC | AP39: Performance | AQ39: Number of serious pollution incidents | AR39: =SUMIFS(Performance!J20:J36,Performance!$C20:$C36,$AO39) -> 0 | AS39: =SUMIFS(Performance!K20:K36,Performance!$C20:$C36,$AO39) -> 0 | AT39: =SUMIFS(Performance!L20:L36,Performance!$C20:$C36,$AO39) -> 0 | AU39: =SUMIFS(Performance!M20:M36,Performance!$C20:$C36,$AO39) -> 0 | AV39: 0 | AW39: 0 | AX39: 0 | AY39: 0 | AZ39: 0 | BA39: 0 | BB39: 0 | BC39: 0 | BD39: 0
C40: PRT | D40: Performance | E40: Number of category 1-2 pollution incidents per 10,000 km sewer network | F40: =IF(X40=0,"",(AR40/X40)*F$23) | G40: =IF(Y40=0,"",(AS40/Y40)*G$23) | H40: =IF(Z40=0,"",(AT40/Z40)*H$23) | I40: =IF(AA40=0,"",(AU40/AA40)*I$23) | J40: =IF(AB40=0,"",(AV40/AB40)*J$23) | K40: =IF(AC40=0,"",(AW40/AC40)*K$23) | L40: =IF(AD40=0,"",(AX40/AD40)*L$23) | M40: =IF(AE40=0,"",(AY40/AE40)*M$23) | ... Q40: =IF(AI40=0,"",(BC40/AI40)*Q$23) | U40: PRT | V40: Sewer length | W40: km | X40: =SUMIFS('SPL.Sewer.length'!$F:$F,'SPL.Sewer.length'!$B:$B,$U40,'SPL.Sewer.length'!$C:$C,X$25) -> 0 | Y40: =SUMIFS('SPL.Sewer.length'!$F:$F,'SPL.Sewer.length'!$B:$B,$U40,'SPL.Sewer.length'!$C:$C,Y$25) -> 0 | Z40: =SUMIFS('SPL.Sewer.length'!$F:$F,'SPL.Sewer.length'!$B:$B,$U40,'SPL.Sewer.length'!$C:$C,Z$25) -> 0 | AA40: =SUMIFS('SPL.Sewer.length'!$F:$F,'SPL.Sewer.length'!$B:$B,$U40,'SPL.Sewer.length'!$C:$C,AA$25) -> 0 | AB40: =SUMIFS('SPL.Sewer.length'!$F:$F,'SPL.Sewer.length'!$B:$B,$U40,'SPL.Sewer.length'!$C:$C,AB$25) -> 0 | AC40: =SUMIFS('SPL.Sewer.length'!$F:$F,'SPL.Sewer.length'!$B:$B,$U40,'SPL.Sewer.length'!$C:$C,AC$25) -> 0 | AD40: =SUMIFS('SPL.Sewer.length'!$F:$F,'SPL.Sewer.length'!$B:$B,$U40,'SPL.Sewer.length'!$C:$C,AD$25) -> 0 | AE40: =SUMIFS('SPL.Sewer.length'!$F:$F,'SPL.Sewer.length'!$B:$B,$U40,'SPL.Sewer.length'!$C:$C,AE$25) -> 0 | ... AJ40: =SUMIFS('SPL.Sewer.length'!$F:$F,'SPL.Sewer.length'!$B:$B,$U40,'SPL.Sewer.length'!$C:$C,AJ$25) -> 0 | AO40: PRT | AP40: Performance | AQ40: Number of serious pollution incidents | AR40: =SUMIFS(Performance!J21:J37,Performance!$C21:$C37,$AO40) -> 0 | AS40: =SUMIFS(Performance!K21:K37,Performance!$C21:$C37,$AO40) -> 0 | AT40: =SUMIFS(Performance!L21:L37,Performance!$C21:$C37,$AO40) -> 0 | AU40: =SUMIFS(Performance!M21:M37,Performance!$C21:$C37,$AO40) -> 0 | AV40: 0 | AW40: 0 | AX40: 0 | AY40: 0 | AZ40: 0 | BA40: 0 | BB40: 0 | BC40: 0 | BD40: 0
C41: SEW | D41: Performance | E41: Number of category 1-2 pollution incidents per 10,000 km sewer network | F41: =IF(X41=0,"",(AR41/X41)*F$23) | G41: =IF(Y41=0,"",(AS41/Y41)*G$23) | H41: =IF(Z41=0,"",(AT41/Z41)*H$23) | I41: =IF(AA41=0,"",(AU41/AA41)*I$23) | J41: =IF(AB41=0,"",(AV41/AB41)*J$23) | K41: =IF(AC41=0,"",(AW41/AC41)*K$23) | L41: =IF(AD41=0,"",(AX41/AD41)*L$23) | M41: =IF(AE41=0,"",(AY41/AE41)*M$23) | ... Q41: =IF(AI41=0,"",(BC41/AI41)*Q$23) | U41: SEW | V41: Sewer length | W41: km | X41: =SUMIFS('SPL.Sewer.length'!$F:$F,'SPL.Sewer.length'!$B:$B,$U41,'SPL.Sewer.length'!$C:$C,X$25) -> 0 | Y41: =SUMIFS('SPL.Sewer.length'!$F:$F,'SPL.Sewer.length'!$B:$B,$U41,'SPL.Sewer.length'!$C:$C,Y$25) -> 0 | Z41: =SUMIFS('SPL.Sewer.length'!$F:$F,'SPL.Sewer.length'!$B:$B,$U41,'SPL.Sewer.length'!$C:$C,Z$25) -> 0 | AA41: =SUMIFS('SPL.Sewer.length'!$F:$F,'SPL.Sewer.length'!$B:$B,$U41,'SPL.Sewer.length'!$C:$C,AA$25) -> 0 | AB41: =SUMIFS('SPL.Sewer.length'!$F:$F,'SPL.Sewer.length'!$B:$B,$U41,'SPL.Sewer.length'!$C:$C,AB$25) -> 0 | AC41: =SUMIFS('SPL.Sewer.length'!$F:$F,'SPL.Sewer.length'!$B:$B,$U41,'SPL.Sewer.length'!$C:$C,AC$25) -> 0 | AD41: =SUMIFS('SPL.Sewer.length'!$F:$F,'SPL.Sewer.length'!$B:$B,$U41,'SPL.Sewer.length'!$C:$C,AD$25) -> 0 | AE41: =SUMIFS('SPL.Sewer.length'!$F:$F,'SPL.Sewer.length'!$B:$B,$U41,'SPL.Sewer.length'!$C:$C,AE$25) -> 0 | ... AJ41: =SUMIFS('SPL.Sewer.length'!$F:$F,'SPL.Sewer.length'!$B:$B,$U41,'SPL.Sewer.length'!$C:$C,AJ$25) -> 0 | AO41: SEW | AP41: Performance | AQ41: Number of serious pollution incidents | AR41: =SUMIFS(Performance!J22:J38,Performance!$C22:$C38,$AO41) -> 0 | AS41: =SUMIFS(Performance!K22:K38,Performance!$C22:$C38,$AO41) -> 0 | AT41: =SUMIFS(Performance!L22:L38,Performance!$C22:$C38,$AO41) -> 0 | AU41: =SUMIFS(Performance!M22:M38,Performance!$C22:$C38,$AO41) -> 0 | AV41: 0 | AW41: 2 | AX41: 1 | AY41: 1 | AZ41: 3 | BA41: 0 | BB41: 0 | BC41: 0 | BD41: 0
C42: SES | D42: Performance | E42: Number of category 1-2 pollution incidents per 10,000 km sewer network | F42: =IF(X42=0,"",(AR42/X42)*F$23) | G42: =IF(Y42=0,"",(AS42/Y42)*G$23) | H42: =IF(Z42=0,"",(AT42/Z42)*H$23) | I42: =IF(AA42=0,"",(AU42/AA42)*I$23) | J42: =IF(AB42=0,"",(AV42/AB42)*J$23) | K42: =IF(AC42=0,"",(AW42/AC42)*K$23) | L42: =IF(AD42=0,"",(AX42/AD42)*L$23) | M42: =IF(AE42=0,"",(AY42/AE42)*M$23) | ... Q42: =IF(AI42=0,"",(BC42/AI42)*Q$23) | U42: SES | V42: Sewer length | W42: km | X42: =SUMIFS('SPL.Sewer.length'!$F:$F,'SPL.Sewer.length'!$B:$B,$U42,'SPL.Sewer.length'!$C:$C,X$25) -> 0 | Y42: =SUMIFS('SPL.Sewer.length'!$F:$F,'SPL.Sewer.length'!$B:$B,$U42,'SPL.Sewer.length'!$C:$C,Y$25) -> 0 | Z42: =SUMIFS('SPL.Sewer.length'!$F:$F,'SPL.Sewer.length'!$B:$B,$U42,'SPL.Sewer.length'!$C:$C,Z$25) -> 0 | AA42: =SUMIFS('SPL.Sewer.length'!$F:$F,'SPL.Sewer.length'!$B:$B,$U42,'SPL.Sewer.length'!$C:$C,AA$25) -> 0 | AB42: =SUMIFS('SPL.Sewer.length'!$F:$F,'SPL.Sewer.length'!$B:$B,$U42,'SPL.Sewer.length'!$C:$C,AB$25) -> 0 | AC42: =SUMIFS('SPL.Sewer.length'!$F:$F,'SPL.Sewer.length'!$B:$B,$U42,'SPL.Sewer.length'!$C:$C,AC$25) -> 0 | AD42: =SUMIFS('SPL.Sewer.length'!$F:$F,'SPL.Sewer.length'!$B:$B,$U42,'SPL.Sewer.length'!$C:$C,AD$25) -> 0 | AE42: =SUMIFS('SPL.Sewer.length'!$F:$F,'SPL.Sewer.length'!$B:$B,$U42,'SPL.Sewer.length'!$C:$C,AE$25) -> 0 | ... AJ42: =SUMIFS('SPL.Sewer.length'!$F:$F,'SPL.Sewer.length'!$B:$B,$U42,'SPL.Sewer.length'!$C:$C,AJ$25) -> 0 | AO42: SES | AP42: Performance | AQ42: Number of serious pollution incidents | AR42: =SUMIFS(Performance!J23:J39,Performance!$C23:$C39,$AO42) -> 0 | AS42: =SUMIFS(Performance!K23:K39,Performance!$C23:$C39,$AO42) -> 0 | AT42: =SUMIFS(Performance!L23:L39,Performance!$C23:$C39,$AO42) -> 0 | AU42: =SUMIFS(Performance!M23:M39,Performance!$C23:$C39,$AO42) -> 0 | AV42: 0 | AW42: 0 | AX42: 0 | AY42: 0 | AZ42: 0 | BA42: 0 | BB42: 0 | BC42: 0 | BD42: 0
C45: Storm overflows
F46: Adjusted spills per overflow | O46: Spills per overflow (EDM)
C47: Company | D47: Measure | E47: Unit | F47: 2019 | G47: 2020 | H47: 2021 | I47: 2022 | J47: 2023 | K47: 2024 | L47: Company | M47: Measure | N47: Unit | O47: 2019 | P47: 2020 | Q47: 2021 | R47: 2022 | S47: 2023 | T47: 2023
C48: ANH | D48: Adjusted spills per overflow | E48: number of spills per year | F48: =IF(O48="","",O48/Storm.overflows!E24) -> 145.95687 | G48: =IF(P48="","",P48/Storm.overflows!F24) -> 54.471011 | H48: =IF(Q48="","",Q48/Storm.overflows!G24) -> 47.40874 | I48: =IF(R48="","",R48/Storm.overflows!H24) -> 21.797235 | J48: =IF(S48="","",S48/Storm.overflows!I24) -> 22.943185 | K48: =IF(T48="","",T48/Storm.overflows!J24) -> 31.436506 | L48: ANH | M48: Spills per overflow (EDM) | N48: number of spills per year | O48: =IF(Storm.overflows!E10=0,"",Storm.overflows!E10/Storm.overflows!O10) -> 40.867925 | P48: =IF(Storm.overflows!F10=0,"",Storm.overflows!F10/Storm.overflows!P10) -> 24.511955 | Q48: =IF(Storm.overflows!G10=0,"",Storm.overflows!G10/Storm.overflows!Q10) -> 25.600719 | R48: =IF(Storm.overflows!H10=0,"",Storm.overflows!H10/Storm.overflows!R10) -> 15.258065 | S48: =IF(Storm.overflows!I10=0,"",Storm.overflows!I10/Storm.overflows!S10) -> 22.222769 | T48: =IF(Storm.overflows!J10=0,"",Storm.overflows!J10/Storm.overflows!T10) -> 30.41482
C49: WSH | D49: Adjusted spills per overflow | E49: number of spills per year | F49: =IF(O49="","",O49/Storm.overflows!E25) | G49: =IF(P49="","",P49/Storm.overflows!F25) -> 58.312256 | H49: =IF(Q49="","",Q49/Storm.overflows!G25) -> 46.368089 | I49: =IF(R49="","",R49/Storm.overflows!H25) -> 40.967236 | J49: =IF(S49="","",S49/Storm.overflows!I25) -> 55.886024 | K49: =IF(T49="","",T49/Storm.overflows!J25) -> 50.813371 | L49: WSH | M49: Spills per overflow (EDM) | N49: number of spills per year | O49: =IF(Storm.overflows!E11=0,"",Storm.overflows!E11/Storm.overflows!O11) | P49: =IF(Storm.overflows!F11=0,"",Storm.overflows!F11/Storm.overflows!P11) -> 54.580272 | Q49: =IF(Storm.overflows!G11=0,"",Storm.overflows!G11/Storm.overflows!Q11) -> 43.400532 | R49: =IF(Storm.overflows!H11=0,"",Storm.overflows!H11/Storm.overflows!R11) -> 38.345333 | S49: =IF(Storm.overflows!I11=0,"",Storm.overflows!I11/Storm.overflows!S11) -> 52.700521 | T49: =IF(Storm.overflows!J11=0,"",Storm.overflows!J11/Storm.overflows!T11) -> 47.581641
C50: HDD | D50: Adjusted spills per overflow | E50: number of spills per year | F50: =IF(O50="","",O50/Storm.overflows!E26) | G50: =IF(P50="","",P50/Storm.overflows!F26) -> 31.450204 | H50: =IF(Q50="","",Q50/Storm.overflows!G26) -> 44.425702 | I50: =IF(R50="","",R50/Storm.overflows!H26) -> 33.926126 | J50: =IF(S50="","",S50/Storm.overflows!I26) -> 40.902482 | K50: =IF(T50="","",T50/Storm.overflows!J26) -> 38.02521 | L50: HDD | M50: Spills per overflow (EDM) | N50: number of spills per year | O50: =IF(Storm.overflows!E12=0,"",Storm.overflows!E12/Storm.overflows!O12) | P50: =IF(Storm.overflows!F12=0,"",Storm.overflows!F12/Storm.overflows!P12) -> 27 | Q50: =IF(Storm.overflows!G12=0,"",Storm.overflows!G12/Storm.overflows!Q12) -> 35.638298 | R50: =IF(Storm.overflows!H12=0,"",Storm.overflows!H12/Storm.overflows!R12) -> 29.020408 | S50: =IF(Storm.overflows!I12=0,"",Storm.overflows!I12/Storm.overflows!S12) -> 38.755102 | T50: =IF(Storm.overflows!J12=0,"",Storm.overflows!J12/Storm.overflows!T12) -> 36.2
C51: NES | D51: Adjusted spills per overflow | E51: number of spills per year | F51: =IF(O51="","",O51/Storm.overflows!E27) -> 24.279013 | G51: =IF(P51="","",P51/Storm.overflows!F27) -> 23.477241 | H51: =IF(Q51="","",Q51/Storm.overflows!G27) -> 28.721706 | I51: =IF(R51="","",R51/Storm.overflows!H27) -> 22.591765 | J51: =IF(S51="","",S51/Storm.overflows!I27) -> 32.135547 | K51: =IF(T51="","",T51/Storm.overflows!J27) -> 27.79413 | L51: NES | M51: Spills per overflow (EDM) | N51: number of spills per year | O51: =IF(Storm.overflows!E13=0,"",Storm.overflows!E13/Storm.overflows!O13) -> 23.732735 | P51: =IF(Storm.overflows!F13=0,"",Storm.overflows!F13/Storm.overflows!P13) -> 22.380854 | Q51: =IF(Storm.overflows!G13=0,"",Storm.overflows!G13/Storm.overflows!Q13) -> 25.335417 | R51: =IF(Storm.overflows!H13=0,"",Storm.overflows!H13/Storm.overflows!R13) -> 20.298701 | S51: =IF(Storm.overflows!I13=0,"",Storm.overflows!I13/Storm.overflows!S13) -> 30.072445 | T51: =IF(Storm.overflows!J13=0,"",Storm.overflows!J13/Storm.overflows!T13) -> 26.148718
C52: SVE | D52: Adjusted spills per overflow | E52: number of spills per year | F52: =IF(O52="","",O52/Storm.overflows!E28) -> 82.428131 | G52: =IF(P52="","",P52/Storm.overflows!F28) -> 36.790285 | H52: =IF(Q52="","",Q52/Storm.overflows!G28) -> 30.164305 | I52: =IF(R52="","",R52/Storm.overflows!H28) -> 21.656338 | J52: =IF(S52="","",S52/Storm.overflows!I28) -> 27.652944 | K52: =IF(T52="","",T52/Storm.overflows!J28) -> 26.218139 | L52: SVE | M52: Spills per overflow (EDM) | N52: number of spills per year | O52: =IF(Storm.overflows!E14=0,"",Storm.overflows!E14/Storm.overflows!O14) -> 32.496338 | P52: =IF(Storm.overflows!F14=0,"",Storm.overflows!F14/Storm.overflows!P14) -> 26.652972 | Q52: =IF(Storm.overflows!G14=0,"",Storm.overflows!G14/Storm.overflows!Q14) -> 24.741294 | R52: =IF(Storm.overflows!H14=0,"",Storm.overflows!H14/Storm.overflows!R14) -> 18.361362 | S52: =IF(Storm.overflows!I14=0,"",Storm.overflows!I14/Storm.overflows!S14) -> 24.88765 | T52: =IF(Storm.overflows!J14=0,"",Storm.overflows!J14/Storm.overflows!T14) -> 25.248068
C53: SWB | D53: Adjusted spills per overflow | E53: number of spills per year | F53: =IF(O53="","",O53/Storm.overflows!E29) -> 33.439072 | G53: =IF(P53="","",P53/Storm.overflows!F29) -> 38.404566 | H53: =IF(Q53="","",Q53/Storm.overflows!G29) -> 38.869167 | I53: =IF(R53="","",R53/Storm.overflows!H29) -> 28.457294 | J53: =IF(S53="","",S53/Storm.overflows!I29) -> 43.40462 | K53: =IF(T53="","",T53/Storm.overflows!J29) -> 42.118325 | L53: SWB | M53: Spills per overflow (EDM) | N53: number of spills per year | O53: =IF(Storm.overflows!E15=0,"",Storm.overflows!E15/Storm.overflows!O15) -> 33.439072 | P53: =IF(Storm.overflows!F15=0,"",Storm.overflows!F15/Storm.overflows!P15) -> 38.404566 | Q53: =IF(Storm.overflows!G15=0,"",Storm.overflows!G15/Storm.overflows!Q15) -> 38.869167 | R53: =IF(Storm.overflows!H15=0,"",Storm.overflows!H15/Storm.overflows!R15) -> 28.457294 | S53: =IF(Storm.overflows!I15=0,"",Storm.overflows!I15/Storm.overflows!S15) -> 43.40462 | T53: =IF(Storm.overflows!J15=0,"",Storm.overflows!J15/Storm.overflows!T15) -> 41.00219
C54: SRN | D54: Adjusted spills per overflow | E54: number of spills per year | F54: =IF(O54="","",O54/Storm.overflows!E30) -> 20.511499 | G54: =IF(P54="","",P54/Storm.overflows!F30) -> 22.489435 | H54: =IF(Q54="","",Q54/Storm.overflows!G30) -> 22.04244 | I54: =IF(R54="","",R54/Storm.overflows!H30) -> 19.307005 | J54: =IF(S54="","",S54/Storm.overflows!I30) -> 33.091251 | K54: =IF(T54="","",T54/Storm.overflows!J30) -> 32.226044 | L54: SRN | M54: Spills per overflow (EDM) | N54: number of spills per year | O54: =IF(Storm.overflows!E16=0,"",Storm.overflows!E16/Storm.overflows!O16) -> 19.664374 | P54: =IF(Storm.overflows!F16=0,"",Storm.overflows!F16/Storm.overflows!P16) -> 21.632588 | Q54: =IF(Storm.overflows!G16=0,"",Storm.overflows!G16/Storm.overflows!Q16) -> 20.230551 | R54: =IF(Storm.overflows!H16=0,"",Storm.overflows!H16/Storm.overflows!R16) -> 17.772098 | S54: =IF(Storm.overflows!I16=0,"",Storm.overflows!I16/Storm.overflows!S16) -> 30.659044 | T54: =IF(Storm.overflows!J16=0,"",Storm.overflows!J16/Storm.overflows!T16) -> 30.015337
C55: TMS | D55: Adjusted spills per overflow | E55: number of spills per year | F55: =IF(O55="","",O55/Storm.overflows!E31) -> #DIV/0! | G55: =IF(P55="","",P55/Storm.overflows!F31) -> 55.470956 | H55: =IF(Q55="","",Q55/Storm.overflows!G31) -> 45.418246 | I55: =IF(R55="","",R55/Storm.overflows!H31) -> 23.910454 | J55: =IF(S55="","",S55/Storm.overflows!I31) -> 30.844362 | K55: =IF(T55="","",T55/Storm.overflows!J31) -> 40.166931 | L55: TMS | M55: Spills per overflow (EDM) | N55: number of spills per year | O55: =IF(Storm.overflows!E17=0,"",Storm.overflows!E17/Storm.overflows!O17) -> 25.186486 | P55: =IF(Storm.overflows!F17=0,"",Storm.overflows!F17/Storm.overflows!P17) -> 39.833693 | Q55: =IF(Storm.overflows!G17=0,"",Storm.overflows!G17/Storm.overflows!Q17) -> 31.915401 | R55: =IF(Storm.overflows!H17=0,"",Storm.overflows!H17/Storm.overflows!R17) -> 16.978814 | S55: =IF(Storm.overflows!I17=0,"",Storm.overflows!I17/Storm.overflows!S17) -> 27.852459 | T55: =IF(Storm.overflows!J17=0,"",Storm.overflows!J17/Storm.overflows!T17) -> 39.086441
C56: UUW | D56: Adjusted spills per overflow | E56: number of spills per year | F56: =IF(O56="","",O56/Storm.overflows!E32) -> 57.261156 | G56: =IF(P56="","",P56/Storm.overflows!F32) -> 62.149357 | H56: =IF(Q56="","",Q56/Storm.overflows!G32) -> 49.570764 | I56: =IF(R56="","",R56/Storm.overflows!H32) -> 43.3763 | J56: =IF(S56="","",S56/Storm.overflows!I32) -> 49.139466 | K56: =IF(T56="","",T56/Storm.overflows!J32) -> 36.046916 | L56: UUW | M56: Spills per overflow (EDM) | N56: number of spills per year | O56: =IF(Storm.overflows!E18=0,"",Storm.overflows!E18/Storm.overflows!O18) -> 57.261156 | P56: =IF(Storm.overflows!F18=0,"",Storm.overflows!F18/Storm.overflows!P18) -> 59.220374 | Q56: =IF(Storm.overflows!G18=0,"",Storm.overflows!G18/Storm.overflows!Q18) -> 41.75435 | R56: =IF(Storm.overflows!H18=0,"",Storm.overflows!H18/Storm.overflows!R18) -> 35.131913 | S56: =IF(Storm.overflows!I18=0,"",Storm.overflows!I18/Storm.overflows!S18) -> 45.429436 | T56: =IF(Storm.overflows!J18=0,"",Storm.overflows!J18/Storm.overflows!T18) -> 34.280617
C57: WSX | D57: Adjusted spills per overflow | E57: number of spills per year | F57: =IF(O57="","",O57/Storm.overflows!E33) -> 315.04082 | G57: =IF(P57="","",P57/Storm.overflows!F33) -> 29.880536 | H57: =IF(Q57="","",Q57/Storm.overflows!G33) -> 22.446565 | I57: =IF(R57="","",R57/Storm.overflows!H33) -> 18.509306 | J57: =IF(S57="","",S57/Storm.overflows!I33) -> 32.010039 | K57: =IF(T57="","",T57/Storm.overflows!J33) -> 34.457646 | L57: WSX | M57: Spills per overflow (EDM) | N57: number of spills per year | O57: =IF(Storm.overflows!E19=0,"",Storm.overflows!E19/Storm.overflows!O19) -> 315.04082 | P57: =IF(Storm.overflows!F19=0,"",Storm.overflows!F19/Storm.overflows!P19) -> 29.880536 | Q57: =IF(Storm.overflows!G19=0,"",Storm.overflows!G19/Storm.overflows!Q19) -> 22.446565 | R57: =IF(Storm.overflows!H19=0,"",Storm.overflows!H19/Storm.overflows!R19) -> 18.509306 | S57: =IF(Storm.overflows!I19=0,"",Storm.overflows!I19/Storm.overflows!S19) -> 32.010039 | T57: =IF(Storm.overflows!J19=0,"",Storm.overflows!J19/Storm.overflows!T19) -> 33.923552
C58: YKY | D58: Adjusted spills per overflow | E58: number of spills per year | F58: =IF(O58="","",O58/Storm.overflows!E34) -> #VALUE! | G58: =IF(P58="","",P58/Storm.overflows!F34) -> 33.693942 | H58: =IF(Q58="","",Q58/Storm.overflows!G34) -> 38.586983 | I58: =IF(R58="","",R58/Storm.overflows!H34) -> 29.634146 | J58: =IF(S58="","",S58/Storm.overflows!I34) -> 38.791793 | K58: =IF(T58="","",T58/Storm.overflows!J34) -> 32.886795 | L58: YKY | M58: Spills per overflow (EDM) | N58: number of spills per year | O58: =IF(Storm.overflows!E20=0,"",Storm.overflows!E20/Storm.overflows!O20) -> 32.126752 | P58: =IF(Storm.overflows!F20=0,"",Storm.overflows!F20/Storm.overflows!P20) -> 30.172925 | Q58: =IF(Storm.overflows!G20=0,"",Storm.overflows!G20/Storm.overflows!Q20) -> 33.570676 | R58: =IF(Storm.overflows!H20=0,"",Storm.overflows!H20/Storm.overflows!R20) -> 25.624646 | S58: =IF(Storm.overflows!I20=0,"",Storm.overflows!I20/Storm.overflows!S20) -> 35.917321 | T58: =IF(Storm.overflows!J20=0,"",Storm.overflows!J20/Storm.overflows!T20) -> 31.110908
A64: End of sheet

Sheet Inputs >

Sheet SPL.EPA.targets
A1: =RIGHT(CELL("filename", A1), LEN(CELL("filename", A1)) - SEARCH("]", CELL("filename", A1))) -> #VALUE!
A3: This sheet shows the EPA targets for Serious Pollution Incidents (proxy PCL)
B6: WSH and HDD targets assume they are small asset base companies, following the EPA definition
B7: Targets for WoCs assume zero serious pollution incidents
B9: Normalised targets (per 10,000km)
B11: Company | C11: 2011-12 | D11: 2012-13 | E11: 2013-14 | F11: 2014-15 | G11: 2015-16 | H11: 2016-17 | I11: 2017-18 | J11: 2018-19 | K11: 2019-20 | L11: 2020-21 | M11: 2021-22 | N11: 2022-23 | O11: 2023-24 | P11: 2024-25
B12: ANH | C12: 1.5 | D12: 1.5 | E12: 1.5 | F12: 1.5 | G12: 1.5 | H12: 0.5 | I12: 0.5 | J12: 0.5 | K12: 0.5
B13: WSH | C13: 1.5 | D13: 1.5 | E13: 1.5 | F13: 1.5 | G13: 1.5 | H13: 0.5 | I13: 0.5 | J13: 0.5 | K13: 0.5
B14: HDD | C14: 1.5 | D14: 1.5 | E14: 1.5 | F14: 1.5 | G14: 1.5 | H14: 0.5 | I14: 0.5 | J14: 0.5 | K14: 0.5
B15: NES | C15: 1.5 | D15: 1.5 | E15: 1.5 | F15: 1.5 | G15: 1.5 | H15: 0.5 | I15: 0.5 | J15: 0.5 | K15: 0.5
B16: SVE | C16: 1.5 | D16: 1.5 | E16: 1.5 | F16: 1.5 | G16: 1.5 | H16: 0.5 | I16: 0.5 | J16: 0.5 | K16: 0.5
B17: SWB | C17: 1.5 | D17: 1.5 | E17: 1.5 | F17: 1.5 | G17: 1.5 | H17: 0.5 | I17: 0.5 | J17: 0.5 | K17: 0.5
B18: SRN | C18: 1.5 | D18: 1.5 | E18: 1.5 | F18: 1.5 | G18: 1.5 | H18: 0.5 | I18: 0.5 | J18: 0.5 | K18: 0.5
B19: TMS | C19: 1.5 | D19: 1.5 | E19: 1.5 | F19: 1.5 | G19: 1.5 | H19: 0.5 | I19: 0.5 | J19: 0.5 | K19: 0.5
B20: UUW | C20: 1.5 | D20: 1.5 | E20: 1.5 | F20: 1.5 | G20: 1.5 | H20: 0.5 | I20: 0.5 | J20: 0.5 | K20: 0.5
B21: WSX | C21: 1.5 | D21: 1.5 | E21: 1.5 | F21: 1.5 | G21: 1.5 | H21: 0.5 | I21: 0.5 | J21: 0.5 | K21: 0.5
B22: YKY | C22: 1.5 | D22: 1.5 | E22: 1.5 | F22: 1.5 | G22: 1.5 | H22: 0.5 | I22: 0.5 | J22: 0.5 | K22: 0.5
B25: Sewer length (km)
B27: Company | C27: 2011-12 | D27: 2012-13 | E27: 2013-14 | F27: 2014-15 | G27: 2015-16 | H27: 2016-17 | I27: 2017-18 | J27: 2018-19 | K27: 2019-20 | L27: 2020-21 | M27: 2021-22 | N27: 2022-23 | O27: 2023-24 | P27: 2024-25
B28: ANH | C28: =SUMIFS('SPL.Sewer.length'!$F:$F,'SPL.Sewer.length'!$B:$B,'SPL.EPA.targets'!$B28,'SPL.Sewer.length'!$C:$C,'SPL.EPA.targets'!C$27) -> 75931.413 | D28: =SUMIFS('SPL.Sewer.length'!$F:$F,'SPL.Sewer.length'!$B:$B,'SPL.EPA.targets'!$B28,'SPL.Sewer.length'!$C:$C,'SPL.EPA.targets'!D$27) -> 75950.188 | E28: =SUMIFS('SPL.Sewer.length'!$F:$F,'SPL.Sewer.length'!$B:$B,'SPL.EPA.targets'!$B28,'SPL.Sewer.length'!$C:$C,'SPL.EPA.targets'!E$27) -> 76186.318 | F28: =SUMIFS('SPL.Sewer.length'!$F:$F,'SPL.Sewer.length'!$B:$B,'SPL.EPA.targets'!$B28,'SPL.Sewer.length'!$C:$C,'SPL.EPA.targets'!F$27) -> 76334.801 | G28: =SUMIFS('SPL.Sewer.length'!$F:$F,'SPL.Sewer.length'!$B:$B,'SPL.EPA.targets'!$B28,'SPL.Sewer.length'!$C:$C,'SPL.EPA.targets'!G$27) -> 76578.796 | H28: =SUMIFS('SPL.Sewer.length'!$F:$F,'SPL.Sewer.length'!$B:$B,'SPL.EPA.targets'!$B28,'SPL.Sewer.length'!$C:$C,'SPL.EPA.targets'!H$27) -> 76824.469 | I28: =SUMIFS('SPL.Sewer.length'!$F:$F,'SPL.Sewer.length'!$B:$B,'SPL.EPA.targets'!$B28,'SPL.Sewer.length'!$C:$C,'SPL.EPA.targets'!I$27) -> 76436.8 | J28: =SUMIFS('SPL.Sewer.length'!$F:$F,'SPL.Sewer.length'!$B:$B,'SPL.EPA.targets'!$B28,'SPL.Sewer.length'!$C:$C,'SPL.EPA.targets'!J$27) -> 76568.513 | ... N28: =SUMIFS('SPL.Sewer.length'!$F:$F,'SPL.Sewer.length'!$B:$B,'SPL.EPA.targets'!$B28,'SPL.Sewer.length'!$C:$C,'SPL.EPA.targets'!N$27) -> 76437 | O28: 76437
B29: WSH | C29: =SUMIFS('SPL.Sewer.length'!$F:$F,'SPL.Sewer.length'!$B:$B,'SPL.EPA.targets'!$B29,'SPL.Sewer.length'!$C:$C,'SPL.EPA.targets'!C$27) -> 35768.6 | D29: =SUMIFS('SPL.Sewer.length'!$F:$F,'SPL.Sewer.length'!$B:$B,'SPL.EPA.targets'!$B29,'SPL.Sewer.length'!$C:$C,'SPL.EPA.targets'!D$27) -> 35840.2 | E29: =SUMIFS('SPL.Sewer.length'!$F:$F,'SPL.Sewer.length'!$B:$B,'SPL.EPA.targets'!$B29,'SPL.Sewer.length'!$C:$C,'SPL.EPA.targets'!E$27) -> 35926.31 | F29: =SUMIFS('SPL.Sewer.length'!$F:$F,'SPL.Sewer.length'!$B:$B,'SPL.EPA.targets'!$B29,'SPL.Sewer.length'!$C:$C,'SPL.EPA.targets'!F$27) -> 35987 | G29: =SUMIFS('SPL.Sewer.length'!$F:$F,'SPL.Sewer.length'!$B:$B,'SPL.EPA.targets'!$B29,'SPL.Sewer.length'!$C:$C,'SPL.EPA.targets'!G$27) -> 36050.2 | H29: =SUMIFS('SPL.Sewer.length'!$F:$F,'SPL.Sewer.length'!$B:$B,'SPL.EPA.targets'!$B29,'SPL.Sewer.length'!$C:$C,'SPL.EPA.targets'!H$27) -> 36118.5 | I29: =SUMIFS('SPL.Sewer.length'!$F:$F,'SPL.Sewer.length'!$B:$B,'SPL.EPA.targets'!$B29,'SPL.Sewer.length'!$C:$C,'SPL.EPA.targets'!I$27) -> 36260 | J29: =SUMIFS('SPL.Sewer.length'!$F:$F,'SPL.Sewer.length'!$B:$B,'SPL.EPA.targets'!$B29,'SPL.Sewer.length'!$C:$C,'SPL.EPA.targets'!J$27) -> 36454 | ... N29: =SUMIFS('SPL.Sewer.length'!$F:$F,'SPL.Sewer.length'!$B:$B,'SPL.EPA.targets'!$B29,'SPL.Sewer.length'!$C:$C,'SPL.EPA.targets'!N$27) -> 36249 | O29: 36249
B30: HDD | C30: =SUMIFS('SPL.Sewer.length'!$F:$F,'SPL.Sewer.length'!$B:$B,'SPL.EPA.targets'!$B30,'SPL.Sewer.length'!$C:$C,'SPL.EPA.targets'!C$27) -> 0 | D30: =SUMIFS('SPL.Sewer.length'!$F:$F,'SPL.Sewer.length'!$B:$B,'SPL.EPA.targets'!$B30,'SPL.Sewer.length'!$C:$C,'SPL.EPA.targets'!D$27) -> 0 | E30: =SUMIFS('SPL.Sewer.length'!$F:$F,'SPL.Sewer.length'!$B:$B,'SPL.EPA.targets'!$B30,'SPL.Sewer.length'!$C:$C,'SPL.EPA.targets'!E$27) -> 0 | F30: =SUMIFS('SPL.Sewer.length'!$F:$F,'SPL.Sewer.length'!$B:$B,'SPL.EPA.targets'!$B30,'SPL.Sewer.length'!$C:$C,'SPL.EPA.targets'!F$27) -> 0 | G30: =SUMIFS('SPL.Sewer.length'!$F:$F,'SPL.Sewer.length'!$B:$B,'SPL.EPA.targets'!$B30,'SPL.Sewer.length'!$C:$C,'SPL.EPA.targets'!G$27) -> 0 | H30: =SUMIFS('SPL.Sewer.length'!$F:$F,'SPL.Sewer.length'!$B:$B,'SPL.EPA.targets'!$B30,'SPL.Sewer.length'!$C:$C,'SPL.EPA.targets'!H$27) -> 0 | I30: =SUMIFS('SPL.Sewer.length'!$F:$F,'SPL.Sewer.length'!$B:$B,'SPL.EPA.targets'!$B30,'SPL.Sewer.length'!$C:$C,'SPL.EPA.targets'!I$27) -> 501.72047 | J30: =SUMIFS('SPL.Sewer.length'!$F:$F,'SPL.Sewer.length'!$B:$B,'SPL.EPA.targets'!$B30,'SPL.Sewer.length'!$C:$C,'SPL.EPA.targets'!J$27) -> 501.2758 | ... N30: =SUMIFS('SPL.Sewer.length'!$F:$F,'SPL.Sewer.length'!$B:$B,'SPL.EPA.targets'!$B30,'SPL.Sewer.length'!$C:$C,'SPL.EPA.targets'!N$27) -> 502 | O30: 502
B31: NES | C31: =SUMIFS('SPL.Sewer.length'!$F:$F,'SPL.Sewer.length'!$B:$B,'SPL.EPA.targets'!$B31,'SPL.Sewer.length'!$C:$C,'SPL.EPA.targets'!C$27) -> 29834 | D31: =SUMIFS('SPL.Sewer.length'!$F:$F,'SPL.Sewer.length'!$B:$B,'SPL.EPA.targets'!$B31,'SPL.Sewer.length'!$C:$C,'SPL.EPA.targets'!D$27) -> 29864 | E31: =SUMIFS('SPL.Sewer.length'!$F:$F,'SPL.Sewer.length'!$B:$B,'SPL.EPA.targets'!$B31,'SPL.Sewer.length'!$C:$C,'SPL.EPA.targets'!E$27) -> 29878 | F31: =SUMIFS('SPL.Sewer.length'!$F:$F,'SPL.Sewer.length'!$B:$B,'SPL.EPA.targets'!$B31,'SPL.Sewer.length'!$C:$C,'SPL.EPA.targets'!F$27) -> 29924 | G31: =SUMIFS('SPL.Sewer.length'!$F:$F,'SPL.Sewer.length'!$B:$B,'SPL.EPA.targets'!$B31,'SPL.Sewer.length'!$C:$C,'SPL.EPA.targets'!G$27) -> 29965 | H31: =SUMIFS('SPL.Sewer.length'!$F:$F,'SPL.Sewer.length'!$B:$B,'SPL.EPA.targets'!$B31,'SPL.Sewer.length'!$C:$C,'SPL.EPA.targets'!H$27) -> 29983 | I31: =SUMIFS('SPL.Sewer.length'!$F:$F,'SPL.Sewer.length'!$B:$B,'SPL.EPA.targets'!$B31,'SPL.Sewer.length'!$C:$C,'SPL.EPA.targets'!I$27) -> 30026 | J31: =SUMIFS('SPL.Sewer.length'!$F:$F,'SPL.Sewer.length'!$B:$B,'SPL.EPA.targets'!$B31,'SPL.Sewer.length'!$C:$C,'SPL.EPA.targets'!J$27) -> 30070 | ... N31: =SUMIFS('SPL.Sewer.length'!$F:$F,'SPL.Sewer.length'!$B:$B,'SPL.EPA.targets'!$B31,'SPL.Sewer.length'!$C:$C,'SPL.EPA.targets'!N$27) -> 30026 | O31: 30026
B32: SVE | C32: =SUMIFS('SPL.Sewer.length'!$F:$F,'SPL.Sewer.length'!$B:$B,'SPL.EPA.targets'!$B32,'SPL.Sewer.length'!$C:$C,'SPL.EPA.targets'!C$27) -> 92190.367 | D32: =SUMIFS('SPL.Sewer.length'!$F:$F,'SPL.Sewer.length'!$B:$B,'SPL.EPA.targets'!$B32,'SPL.Sewer.length'!$C:$C,'SPL.EPA.targets'!D$27) -> 92928.663 | E32: =SUMIFS('SPL.Sewer.length'!$F:$F,'SPL.Sewer.length'!$B:$B,'SPL.EPA.targets'!$B32,'SPL.Sewer.length'!$C:$C,'SPL.EPA.targets'!E$27) -> 93369.846 | F32: =SUMIFS('SPL.Sewer.length'!$F:$F,'SPL.Sewer.length'!$B:$B,'SPL.EPA.targets'!$B32,'SPL.Sewer.length'!$C:$C,'SPL.EPA.targets'!F$27) -> 93139.023 | G32: =SUMIFS('SPL.Sewer.length'!$F:$F,'SPL.Sewer.length'!$B:$B,'SPL.EPA.targets'!$B32,'SPL.Sewer.length'!$C:$C,'SPL.EPA.targets'!G$27) -> 93272.251 | H32: =SUMIFS('SPL.Sewer.length'!$F:$F,'SPL.Sewer.length'!$B:$B,'SPL.EPA.targets'!$B32,'SPL.Sewer.length'!$C:$C,'SPL.EPA.targets'!H$27) -> 93727.062 | I32: =SUMIFS('SPL.Sewer.length'!$F:$F,'SPL.Sewer.length'!$B:$B,'SPL.EPA.targets'!$B32,'SPL.Sewer.length'!$C:$C,'SPL.EPA.targets'!I$27) -> 93525.135 | J32: =SUMIFS('SPL.Sewer.length'!$F:$F,'SPL.Sewer.length'!$B:$B,'SPL.EPA.targets'!$B32,'SPL.Sewer.length'!$C:$C,'SPL.EPA.targets'!J$27) -> 92223.092 | ... N32: =SUMIFS('SPL.Sewer.length'!$F:$F,'SPL.Sewer.length'!$B:$B,'SPL.EPA.targets'!$B32,'SPL.Sewer.length'!$C:$C,'SPL.EPA.targets'!N$27) -> 93525 | O32: 93525
B33: SWB | C33: =SUMIFS('SPL.Sewer.length'!$F:$F,'SPL.Sewer.length'!$B:$B,'SPL.EPA.targets'!$B33,'SPL.Sewer.length'!$C:$C,'SPL.EPA.targets'!C$27) -> 22520.4 | D33: =SUMIFS('SPL.Sewer.length'!$F:$F,'SPL.Sewer.length'!$B:$B,'SPL.EPA.targets'!$B33,'SPL.Sewer.length'!$C:$C,'SPL.EPA.targets'!D$27) -> 22495 | E33: =SUMIFS('SPL.Sewer.length'!$F:$F,'SPL.Sewer.length'!$B:$B,'SPL.EPA.targets'!$B33,'SPL.Sewer.length'!$C:$C,'SPL.EPA.targets'!E$27) -> 22558.8 | F33: =SUMIFS('SPL.Sewer.length'!$F:$F,'SPL.Sewer.length'!$B:$B,'SPL.EPA.targets'!$B33,'SPL.Sewer.length'!$C:$C,'SPL.EPA.targets'!F$27) -> 22622.5 | G33: =SUMIFS('SPL.Sewer.length'!$F:$F,'SPL.Sewer.length'!$B:$B,'SPL.EPA.targets'!$B33,'SPL.Sewer.length'!$C:$C,'SPL.EPA.targets'!G$27) -> 22628.5 | H33: =SUMIFS('SPL.Sewer.length'!$F:$F,'SPL.Sewer.length'!$B:$B,'SPL.EPA.targets'!$B33,'SPL.Sewer.length'!$C:$C,'SPL.EPA.targets'!H$27) -> 22626.6 | I33: =SUMIFS('SPL.Sewer.length'!$F:$F,'SPL.Sewer.length'!$B:$B,'SPL.EPA.targets'!$B33,'SPL.Sewer.length'!$C:$C,'SPL.EPA.targets'!I$27) -> 22712 | J33: =SUMIFS('SPL.Sewer.length'!$F:$F,'SPL.Sewer.length'!$B:$B,'SPL.EPA.targets'!$B33,'SPL.Sewer.length'!$C:$C,'SPL.EPA.targets'!J$27) -> 22759.59 | ... N33: =SUMIFS('SPL.Sewer.length'!$F:$F,'SPL.Sewer.length'!$B:$B,'SPL.EPA.targets'!$B33,'SPL.Sewer.length'!$C:$C,'SPL.EPA.targets'!N$27) -> 17440 | O33: 17440
B34: SRN | C34: =SUMIFS('SPL.Sewer.length'!$F:$F,'SPL.Sewer.length'!$B:$B,'SPL.EPA.targets'!$B34,'SPL.Sewer.length'!$C:$C,'SPL.EPA.targets'!C$27) -> 38917.66 | D34: =SUMIFS('SPL.Sewer.length'!$F:$F,'SPL.Sewer.length'!$B:$B,'SPL.EPA.targets'!$B34,'SPL.Sewer.length'!$C:$C,'SPL.EPA.targets'!D$27) -> 39138.65 | E34: =SUMIFS('SPL.Sewer.length'!$F:$F,'SPL.Sewer.length'!$B:$B,'SPL.EPA.targets'!$B34,'SPL.Sewer.length'!$C:$C,'SPL.EPA.targets'!E$27) -> 39271.85 | F34: =SUMIFS('SPL.Sewer.length'!$F:$F,'SPL.Sewer.length'!$B:$B,'SPL.EPA.targets'!$B34,'SPL.Sewer.length'!$C:$C,'SPL.EPA.targets'!F$27) -> 39412.7 | G34: =SUMIFS('SPL.Sewer.length'!$F:$F,'SPL.Sewer.length'!$B:$B,'SPL.EPA.targets'!$B34,'SPL.Sewer.length'!$C:$C,'SPL.EPA.targets'!G$27) -> 39407.17 | H34: =SUMIFS('SPL.Sewer.length'!$F:$F,'SPL.Sewer.length'!$B:$B,'SPL.EPA.targets'!$B34,'SPL.Sewer.length'!$C:$C,'SPL.EPA.targets'!H$27) -> 39442 | I34: =SUMIFS('SPL.Sewer.length'!$F:$F,'SPL.Sewer.length'!$B:$B,'SPL.EPA.targets'!$B34,'SPL.Sewer.length'!$C:$C,'SPL.EPA.targets'!I$27) -> 39541 | J34: =SUMIFS('SPL.Sewer.length'!$F:$F,'SPL.Sewer.length'!$B:$B,'SPL.EPA.targets'!$B34,'SPL.Sewer.length'!$C:$C,'SPL.EPA.targets'!J$27) -> 39621 | ... N34: =SUMIFS('SPL.Sewer.length'!$F:$F,'SPL.Sewer.length'!$B:$B,'SPL.EPA.targets'!$B34,'SPL.Sewer.length'!$C:$C,'SPL.EPA.targets'!N$27) -> 39729 | O34: 39729
B35: TMS | C35: =SUMIFS('SPL.Sewer.length'!$F:$F,'SPL.Sewer.length'!$B:$B,'SPL.EPA.targets'!$B35,'SPL.Sewer.length'!$C:$C,'SPL.EPA.targets'!C$27) -> 108657.14 | D35: =SUMIFS('SPL.Sewer.length'!$F:$F,'SPL.Sewer.length'!$B:$B,'SPL.EPA.targets'!$B35,'SPL.Sewer.length'!$C:$C,'SPL.EPA.targets'!D$27) -> 108758.58 | E35: =SUMIFS('SPL.Sewer.length'!$F:$F,'SPL.Sewer.length'!$B:$B,'SPL.EPA.targets'!$B35,'SPL.Sewer.length'!$C:$C,'SPL.EPA.targets'!E$27) -> 108748.41 | F35: =SUMIFS('SPL.Sewer.length'!$F:$F,'SPL.Sewer.length'!$B:$B,'SPL.EPA.targets'!$B35,'SPL.Sewer.length'!$C:$C,'SPL.EPA.targets'!F$27) -> 108799.55 | G35: =SUMIFS('SPL.Sewer.length'!$F:$F,'SPL.Sewer.length'!$B:$B,'SPL.EPA.targets'!$B35,'SPL.Sewer.length'!$C:$C,'SPL.EPA.targets'!G$27) -> 108844.48 | H35: =SUMIFS('SPL.Sewer.length'!$F:$F,'SPL.Sewer.length'!$B:$B,'SPL.EPA.targets'!$B35,'SPL.Sewer.length'!$C:$C,'SPL.EPA.targets'!H$27) -> 108901.66 | I35: =SUMIFS('SPL.Sewer.length'!$F:$F,'SPL.Sewer.length'!$B:$B,'SPL.EPA.targets'!$B35,'SPL.Sewer.length'!$C:$C,'SPL.EPA.targets'!I$27) -> 108980.01 | J35: =SUMIFS('SPL.Sewer.length'!$F:$F,'SPL.Sewer.length'!$B:$B,'SPL.EPA.targets'!$B35,'SPL.Sewer.length'!$C:$C,'SPL.EPA.targets'!J$27) -> 109063.67 | ... N35: =SUMIFS('SPL.Sewer.length'!$F:$F,'SPL.Sewer.length'!$B:$B,'SPL.EPA.targets'!$B35,'SPL.Sewer.length'!$C:$C,'SPL.EPA.targets'!N$27) -> 108980 | O35: 108980
B36: UUW | C36: =SUMIFS('SPL.Sewer.length'!$F:$F,'SPL.Sewer.length'!$B:$B,'SPL.EPA.targets'!$B36,'SPL.Sewer.length'!$C:$C,'SPL.EPA.targets'!C$27) -> 76637.78 | D36: =SUMIFS('SPL.Sewer.length'!$F:$F,'SPL.Sewer.length'!$B:$B,'SPL.EPA.targets'!$B36,'SPL.Sewer.length'!$C:$C,'SPL.EPA.targets'!D$27) -> 76745.479 | E36: =SUMIFS('SPL.Sewer.length'!$F:$F,'SPL.Sewer.length'!$B:$B,'SPL.EPA.targets'!$B36,'SPL.Sewer.length'!$C:$C,'SPL.EPA.targets'!E$27) -> 76997.599 | F36: =SUMIFS('SPL.Sewer.length'!$F:$F,'SPL.Sewer.length'!$B:$B,'SPL.EPA.targets'!$B36,'SPL.Sewer.length'!$C:$C,'SPL.EPA.targets'!F$27) -> 77100.743 | G36: =SUMIFS('SPL.Sewer.length'!$F:$F,'SPL.Sewer.length'!$B:$B,'SPL.EPA.targets'!$B36,'SPL.Sewer.length'!$C:$C,'SPL.EPA.targets'!G$27) -> 77192.356 | H36: =SUMIFS('SPL.Sewer.length'!$F:$F,'SPL.Sewer.length'!$B:$B,'SPL.EPA.targets'!$B36,'SPL.Sewer.length'!$C:$C,'SPL.EPA.targets'!H$27) -> 77331 | I36: =SUMIFS('SPL.Sewer.length'!$F:$F,'SPL.Sewer.length'!$B:$B,'SPL.EPA.targets'!$B36,'SPL.Sewer.length'!$C:$C,'SPL.EPA.targets'!I$27) -> 77339 | J36: =SUMIFS('SPL.Sewer.length'!$F:$F,'SPL.Sewer.length'!$B:$B,'SPL.EPA.targets'!$B36,'SPL.Sewer.length'!$C:$C,'SPL.EPA.targets'!J$27) -> 78490 | ... N36: =SUMIFS('SPL.Sewer.length'!$F:$F,'SPL.Sewer.length'!$B:$B,'SPL.EPA.targets'!$B36,'SPL.Sewer.length'!$C:$C,'SPL.EPA.targets'!N$27) -> 77339 | O36: 77339
B37: WSX | C37: =SUMIFS('SPL.Sewer.length'!$F:$F,'SPL.Sewer.length'!$B:$B,'SPL.EPA.targets'!$B37,'SPL.Sewer.length'!$C:$C,'SPL.EPA.targets'!C$27) -> 34288.04 | D37: =SUMIFS('SPL.Sewer.length'!$F:$F,'SPL.Sewer.length'!$B:$B,'SPL.EPA.targets'!$B37,'SPL.Sewer.length'!$C:$C,'SPL.EPA.targets'!D$27) -> 34553.83 | E37: =SUMIFS('SPL.Sewer.length'!$F:$F,'SPL.Sewer.length'!$B:$B,'SPL.EPA.targets'!$B37,'SPL.Sewer.length'!$C:$C,'SPL.EPA.targets'!E$27) -> 34577.17 | F37: =SUMIFS('SPL.Sewer.length'!$F:$F,'SPL.Sewer.length'!$B:$B,'SPL.EPA.targets'!$B37,'SPL.Sewer.length'!$C:$C,'SPL.EPA.targets'!F$27) -> 34632.47 | G37: =SUMIFS('SPL.Sewer.length'!$F:$F,'SPL.Sewer.length'!$B:$B,'SPL.EPA.targets'!$B37,'SPL.Sewer.length'!$C:$C,'SPL.EPA.targets'!G$27) -> 34710.47 | H37: =SUMIFS('SPL.Sewer.length'!$F:$F,'SPL.Sewer.length'!$B:$B,'SPL.EPA.targets'!$B37,'SPL.Sewer.length'!$C:$C,'SPL.EPA.targets'!H$27) -> 34785.73 | I37: =SUMIFS('SPL.Sewer.length'!$F:$F,'SPL.Sewer.length'!$B:$B,'SPL.EPA.targets'!$B37,'SPL.Sewer.length'!$C:$C,'SPL.EPA.targets'!I$27) -> 34944.49 | J37: =SUMIFS('SPL.Sewer.length'!$F:$F,'SPL.Sewer.length'!$B:$B,'SPL.EPA.targets'!$B37,'SPL.Sewer.length'!$C:$C,'SPL.EPA.targets'!J$27) -> 34828.23 | ... N37: =SUMIFS('SPL.Sewer.length'!$F:$F,'SPL.Sewer.length'!$B:$B,'SPL.EPA.targets'!$B37,'SPL.Sewer.length'!$C:$C,'SPL.EPA.targets'!N$27) -> 34944 | O37: 34944
B38: YKY | C38: =SUMIFS('SPL.Sewer.length'!$F:$F,'SPL.Sewer.length'!$B:$B,'SPL.EPA.targets'!$B38,'SPL.Sewer.length'!$C:$C,'SPL.EPA.targets'!C$27) -> 52009.572 | D38: =SUMIFS('SPL.Sewer.length'!$F:$F,'SPL.Sewer.length'!$B:$B,'SPL.EPA.targets'!$B38,'SPL.Sewer.length'!$C:$C,'SPL.EPA.targets'!D$27) -> 52044.801 | E38: =SUMIFS('SPL.Sewer.length'!$F:$F,'SPL.Sewer.length'!$B:$B,'SPL.EPA.targets'!$B38,'SPL.Sewer.length'!$C:$C,'SPL.EPA.targets'!E$27) -> 52091.153 | F38: =SUMIFS('SPL.Sewer.length'!$F:$F,'SPL.Sewer.length'!$B:$B,'SPL.EPA.targets'!$B38,'SPL.Sewer.length'!$C:$C,'SPL.EPA.targets'!F$27) -> 52123.429 | G38: =SUMIFS('SPL.Sewer.length'!$F:$F,'SPL.Sewer.length'!$B:$B,'SPL.EPA.targets'!$B38,'SPL.Sewer.length'!$C:$C,'SPL.EPA.targets'!G$27) -> 52180.002 | H38: =SUMIFS('SPL.Sewer.length'!$F:$F,'SPL.Sewer.length'!$B:$B,'SPL.EPA.targets'!$B38,'SPL.Sewer.length'!$C:$C,'SPL.EPA.targets'!H$27) -> 52229.304 | I38: =SUMIFS('SPL.Sewer.length'!$F:$F,'SPL.Sewer.length'!$B:$B,'SPL.EPA.targets'!$B38,'SPL.Sewer.length'!$C:$C,'SPL.EPA.targets'!I$27) -> 52264 | J38: =SUMIFS('SPL.Sewer.length'!$F:$F,'SPL.Sewer.length'!$B:$B,'SPL.EPA.targets'!$B38,'SPL.Sewer.length'!$C:$C,'SPL.EPA.targets'!J$27) -> 52292.399 | ... N38: =SUMIFS('SPL.Sewer.length'!$F:$F,'SPL.Sewer.length'!$B:$B,'SPL.EPA.targets'!$B38,'SPL.Sewer.length'!$C:$C,'SPL.EPA.targets'!N$27) -> 52263 | O38: 52263
B41: Unnormalised targets
B43: Company | C43: 2011-12 | D43: 2012-13 | E43: 2013-14 | F43: 2014-15 | G43: 2015-16 | H43: 2016-17 | I43: 2017-18 | J43: 2018-19 | K43: 2019-20 | L43: 2020-21 | M43: 2021-22 | N43: 2022-23 | O43: 2023-24 | P43: 2024-25
B44: ANH | C44: =ROUNDUP((C12*C28)/10000,0) -> 12 | D44: =ROUNDUP((D12*D28)/10000,0) -> 12 | E44: =ROUNDUP((E12*E28)/10000,0) -> 12 | F44: =ROUNDUP((F12*F28)/10000,0) -> 12 | G44: =ROUNDUP((G12*G28)/10000,0) -> 12 | H44: =ROUNDUP((H12*H28)/10000,0) -> 4 | I44: =ROUNDUP((I12*I28)/10000,0) -> 4 | J44: =ROUNDUP((J12*J28)/10000,0) -> 4 | K44: =ROUNDUP((K12*K28)/10000,0) -> 4 | L44: 3 | M44: 3 | N44: 2 | O44: 2 | P44: 1
B45: WSH | C45: =ROUNDUP((C13*C29)/10000,0) -> 6 | D45: =ROUNDUP((D13*D29)/10000,0) -> 6 | E45: =ROUNDUP((E13*E29)/10000,0) -> 6 | F45: =ROUNDUP((F13*F29)/10000,0) -> 6 | G45: =ROUNDUP((G13*G29)/10000,0) -> 6 | H45: =ROUNDUP((H13*H29)/10000,0) -> 2 | I45: =ROUNDUP((I13*I29)/10000,0) -> 2 | J45: =ROUNDUP((J13*J29)/10000,0) -> 2 | K45: =ROUNDUP((K13*K29)/10000,0) -> 2 | L45: 1 | M45: 1 | N45: 1 | O45: 1 | P45: 0
B46: HDD | I46: =ROUNDUP((I14*I30)/10000,0) -> 1 | J46: =ROUNDUP((J14*J30)/10000,0) -> 1 | K46: =ROUNDUP((K14*K30)/10000,0) -> 1 | L46: 1 | M46: 1 | N46: 1 | O46: 1 | P46: 0
B47: NES | C47: =ROUNDUP((C15*C31)/10000,0) -> 5 | D47: =ROUNDUP((D15*D31)/10000,0) -> 5 | E47: =ROUNDUP((E15*E31)/10000,0) -> 5 | F47: =ROUNDUP((F15*F31)/10000,0) -> 5 | G47: =ROUNDUP((G15*G31)/10000,0) -> 5 | H47: =ROUNDUP((H15*H31)/10000,0) -> 2 | I47: =ROUNDUP((I15*I31)/10000,0) -> 2 | J47: =ROUNDUP((J15*J31)/10000,0) -> 2 | K47: =ROUNDUP((K15*K31)/10000,0) -> 2 | L47: 1 | M47: 1 | N47: 1 | O47: 1 | P47: 0
B48: SVE | C48: =ROUNDUP((C16*C32)/10000,0) -> 14 | D48: =ROUNDUP((D16*D32)/10000,0) -> 14 | E48: =ROUNDUP((E16*E32)/10000,0) -> 15 | F48: =ROUNDUP((F16*F32)/10000,0) -> 14 | G48: =ROUNDUP((G16*G32)/10000,0) -> 14 | H48: =ROUNDUP((H16*H32)/10000,0) -> 5 | I48: =ROUNDUP((I16*I32)/10000,0) -> 5 | J48: =ROUNDUP((J16*J32)/10000,0) -> 5 | K48: =ROUNDUP((K16*K32)/10000,0) -> 5 | L48: 3 | M48: 3 | N48: 2 | O48: 2 | P48: 1
B49: SWB | C49: =ROUNDUP((C17*C33)/10000,0) -> 4 | D49: =ROUNDUP((D17*D33)/10000,0) -> 4 | E49: =ROUNDUP((E17*E33)/10000,0) -> 4 | F49: =ROUNDUP((F17*F33)/10000,0) -> 4 | G49: =ROUNDUP((G17*G33)/10000,0) -> 4 | H49: =ROUNDUP((H17*H33)/10000,0) -> 2 | I49: =ROUNDUP((I17*I33)/10000,0) -> 2 | J49: =ROUNDUP((J17*J33)/10000,0) -> 2 | K49: =ROUNDUP((K17*K33)/10000,0) -> 2 | L49: 1 | M49: 1 | N49: 1 | O49: 1 | P49: 0
B50: SRN | C50: =ROUNDUP((C18*C34)/10000,0) -> 6 | D50: =ROUNDUP((D18*D34)/10000,0) -> 6 | E50: =ROUNDUP((E18*E34)/10000,0) -> 6 | F50: =ROUNDUP((F18*F34)/10000,0) -> 6 | G50: =ROUNDUP((G18*G34)/10000,0) -> 6 | H50: =ROUNDUP((H18*H34)/10000,0) -> 2 | I50: =ROUNDUP((I18*I34)/10000,0) -> 2 | J50: =ROUNDUP((J18*J34)/10000,0) -> 2 | K50: =ROUNDUP((K18*K34)/10000,0) -> 2 | L50: 1 | M50: 1 | N50: 1 | O50: 1 | P50: 0
B51: TMS | C51: =ROUNDUP((C19*C35)/10000,0) -> 17 | D51: =ROUNDUP((D19*D35)/10000,0) -> 17 | E51: =ROUNDUP((E19*E35)/10000,0) -> 17 | F51: =ROUNDUP((F19*F35)/10000,0) -> 17 | G51: =ROUNDUP((G19*G35)/10000,0) -> 17 | H51: =ROUNDUP((H19*H35)/10000,0) -> 6 | I51: =ROUNDUP((I19*I35)/10000,0) -> 6 | J51: =ROUNDUP((J19*J35)/10000,0) -> 6 | K51: =ROUNDUP((K19*K35)/10000,0) -> 6 | L51: 3 | M51: 3 | N51: 2 | O51: 2 | P51: 1
B52: UUW | C52: =ROUNDUP((C20*C36)/10000,0) -> 12 | D52: =ROUNDUP((D20*D36)/10000,0) -> 12 | E52: =ROUNDUP((E20*E36)/10000,0) -> 12 | F52: =ROUNDUP((F20*F36)/10000,0) -> 12 | G52: =ROUNDUP((G20*G36)/10000,0) -> 12 | H52: =ROUNDUP((H20*H36)/10000,0) -> 4 | I52: =ROUNDUP((I20*I36)/10000,0) -> 4 | J52: =ROUNDUP((J20*J36)/10000,0) -> 4 | K52: =ROUNDUP((K20*K36)/10000,0) -> 4 | L52: 3 | M52: 3 | N52: 2 | O52: 2 | P52: 1
B53: WSX | C53: =ROUNDUP((C21*C37)/10000,0) -> 6 | D53: =ROUNDUP((D21*D37)/10000,0) -> 6 | E53: =ROUNDUP((E21*E37)/10000,0) -> 6 | F53: =ROUNDUP((F21*F37)/10000,0) -> 6 | G53: =ROUNDUP((G21*G37)/10000,0) -> 6 | H53: =ROUNDUP((H21*H37)/10000,0) -> 2 | I53: =ROUNDUP((I21*I37)/10000,0) -> 2 | J53: =ROUNDUP((J21*J37)/10000,0) -> 2 | K53: =ROUNDUP((K21*K37)/10000,0) -> 2 | L53: 1 | M53: 1 | N53: 1 | O53: 1 | P53: 0
B54: YKY | C54: =ROUNDUP((C22*C38)/10000,0) -> 8 | D54: =ROUNDUP((D22*D38)/10000,0) -> 8 | E54: =ROUNDUP((E22*E38)/10000,0) -> 8 | F54: =ROUNDUP((F22*F38)/10000,0) -> 8 | G54: =ROUNDUP((G22*G38)/10000,0) -> 8 | H54: =ROUNDUP((H22*H38)/10000,0) -> 3 | I54: =ROUNDUP((I22*I38)/10000,0) -> 3 | J54: =ROUNDUP((J22*J38)/10000,0) -> 3 | K54: =ROUNDUP((K22*K38)/10000,0) -> 3 | L54: 1 | M54: 1 | N54: 1 | O54: 1 | P54: 0
B55: AFW | C55: 0 | D55: 0 | E55: 0 | F55: 0 | G55: 0 | H55: 0 | I55: 0 | J55: 0 | K55: 0 | L55: 0 | M55: 0 | N55: 0 | O55: 0 | P55: 0
B56: BRL | C56: 0 | D56: 0 | E56: 0 | F56: 0 | G56: 0 | H56: 0 | I56: 0 | J56: 0 | K56: 0 | L56: 0 | M56: 0 | N56: 0 | O56: 0 | P56: 0
B57: SSC | C57: 0 | D57: 0 | E57: 0 | F57: 0 | G57: 0 | H57: 0 | I57: 0 | J57: 0 | K57: 0 | L57: 0 | M57: 0 | N57: 0 | O57: 0 | P57: 0
B58: PRT | C58: 0 | D58: 0 | E58: 0 | F58: 0 | G58: 0 | H58: 0 | I58: 0 | J58: 0 | K58: 0 | L58: 0 | M58: 0 | N58: 0 | O58: 0 | P58: 0
B59: SEW | C59: 0 | D59: 0 | E59: 0 | F59: 0 | G59: 0 | H59: 0 | I59: 0 | J59: 0 | K59: 0 | L59: 0 | M59: 0 | N59: 0 | O59: 0 | P59: 0
B60: SES | C60: 0 | D60: 0 | E60: 0 | F60: 0 | G60: 0 | H60: 0 | I60: 0 | J60: 0 | K60: 0 | L60: 0 | M60: 0 | N60: 0 | O60: 0 | P60: 0
A64: End of sheet

Sheet BWQ.classifications
A1: =RIGHT(CELL("filename", A1), LEN(CELL("filename", A1)) - SEARCH("]", CELL("filename", A1))) -> #VALUE!
A3: This sheet shows classifications and scores for bathing water quality in each location and in each year
A4: Data Source:
A5: BWQ classifications | B5: England | C5: https://environment.data.gov.uk/bwq/profiles/data.html
A6: BWQ classifications | B6: Wales | C6: https://environment.data.gov.uk/wales/bathing-waters/profiles/
A7: BWQ scoring | B7: all | C7: https://www.ofwat.gov.uk/publication/bathing-water-quality-pc-definition/
C9: Classification | D9: Excellent | E9: Good | F9: Sufficient | G9: Poor | H9: None | I9: Closed
C10: Score | D10: 100 | E10: 66 | F10: 33 | G10: 0
D12: BWQ classification | Q12: BWQ score
B13: Company | C13: Location | D13: 2015 | E13: 2016 | F13: 2017 | G13: 2018 | H13: 2019 | I13: 2020 | J13: 2021 | K13: 2022 | L13: 2023 | M13: 2015 | N13: 2016 | O13: 2017 | P13: 2018 | Q13: 2019 | R13: 2020 | S13: 2021 | T13: 2022 | U13: 2023
B14: ANH | C14: Cleethorpes | D14: Good | E14: Good | F14: Good | G14: Excellent | H14: Excellent | I14: None | J14: Good | M14: {=INDEX($D$10:$I$10,,MATCH(D14,$D$9:$I$9,0))} -> 66 | N14: {=INDEX($D$10:$I$10,,MATCH(E14,$D$9:$I$9,0))} -> 66 | O14: {=INDEX($D$10:$I$10,,MATCH(F14,$D$9:$I$9,0))} -> 66 | P14: {=INDEX($D$10:$I$10,,MATCH(G14,$D$9:$I$9,0))} -> 100 | Q14: {=INDEX($D$10:$I$10,,MATCH(H14,$D$9:$I$9,0))} -> 100 | R14: {=INDEX($D$10:$I$10,,MATCH(I14,$D$9:$I$9,0))} | S14: {=INDEX($D$10:$I$10,,MATCH(J14,$D$9:$I$9,0))} -> 66
B15: ANH | C15: Humberston Fitties | D15: Excellent | E15: Excellent | F15: Excellent | G15: Excellent | H15: Good | I15: None | J15: Good | M15: {=INDEX($D$10:$I$10,,MATCH(D15,$D$9:$I$9,0))} -> 100 | N15: {=INDEX($D$10:$I$10,,MATCH(E15,$D$9:$I$9,0))} -> 100 | O15: {=INDEX($D$10:$I$10,,MATCH(F15,$D$9:$I$9,0))} -> 100 | P15: {=INDEX($D$10:$I$10,,MATCH(G15,$D$9:$I$9,0))} -> 100 | Q15: {=INDEX($D$10:$I$10,,MATCH(H15,$D$9:$I$9,0))} -> 66 | R15: {=INDEX($D$10:$I$10,,MATCH(I15,$D$9:$I$9,0))} | S15: {=INDEX($D$10:$I$10,,MATCH(J15,$D$9:$I$9,0))} -> 66
B16: ANH | C16: Mablethorpe Town | D16: Excellent | E16: Excellent | F16: Excellent | G16: Excellent | H16: Excellent | I16: None | J16: Excellent | M16: {=INDEX($D$10:$I$10,,MATCH(D16,$D$9:$I$9,0))} -> 100 | N16: {=INDEX($D$10:$I$10,,MATCH(E16,$D$9:$I$9,0))} -> 100 | O16: {=INDEX($D$10:$I$10,,MATCH(F16,$D$9:$I$9,0))} -> 100 | P16: {=INDEX($D$10:$I$10,,MATCH(G16,$D$9:$I$9,0))} -> 100 | Q16: {=INDEX($D$10:$I$10,,MATCH(H16,$D$9:$I$9,0))} -> 100 | R16: {=INDEX($D$10:$I$10,,MATCH(I16,$D$9:$I$9,0))} | S16: {=INDEX($D$10:$I$10,,MATCH(J16,$D$9:$I$9,0))} -> 100
B17: ANH | C17: Sutton-on-Sea | D17: Excellent | E17: Excellent | F17: Excellent | G17: Excellent | H17: Excellent | I17: None | J17: Excellent | M17: {=INDEX($D$10:$I$10,,MATCH(D17,$D$9:$I$9,0))} -> 100 | N17: {=INDEX($D$10:$I$10,,MATCH(E17,$D$9:$I$9,0))} -> 100 | O17: {=INDEX($D$10:$I$10,,MATCH(F17,$D$9:$I$9,0))} -> 100 | P17: {=INDEX($D$10:$I$10,,MATCH(G17,$D$9:$I$9,0))} -> 100 | Q17: {=INDEX($D$10:$I$10,,MATCH(H17,$D$9:$I$9,0))} -> 100 | R17: {=INDEX($D$10:$I$10,,MATCH(I17,$D$9:$I$9,0))} | S17: {=INDEX($D$10:$I$10,,MATCH(J17,$D$9:$I$9,0))} -> 100
B18: ANH | C18: Moggs Eye | D18: Excellent | E18: Excellent | F18: Excellent | G18: Excellent | H18: Excellent | I18: None | J18: Excellent | M18: {=INDEX($D$10:$I$10,,MATCH(D18,$D$9:$I$9,0))} -> 100 | N18: {=INDEX($D$10:$I$10,,MATCH(E18,$D$9:$I$9,0))} -> 100 | O18: {=INDEX($D$10:$I$10,,MATCH(F18,$D$9:$I$9,0))} -> 100 | P18: {=INDEX($D$10:$I$10,,MATCH(G18,$D$9:$I$9,0))} -> 100 | Q18: {=INDEX($D$10:$I$10,,MATCH(H18,$D$9:$I$9,0))} -> 100 | R18: {=INDEX($D$10:$I$10,,MATCH(I18,$D$9:$I$9,0))} | S18: {=INDEX($D$10:$I$10,,MATCH(J18,$D$9:$I$9,0))} -> 100
B19: ANH | C19: Anderby | D19: Excellent | E19: Excellent | F19: Excellent | G19: Excellent | H19: Excellent | I19: None | J19: Excellent | M19: {=INDEX($D$10:$I$10,,MATCH(D19,$D$9:$I$9,0))} -> 100 | N19: {=INDEX($D$10:$I$10,,MATCH(E19,$D$9:$I$9,0))} -> 100 | O19: {=INDEX($D$10:$I$10,,MATCH(F19,$D$9:$I$9,0))} -> 100 | P19: {=INDEX($D$10:$I$10,,MATCH(G19,$D$9:$I$9,0))} -> 100 | Q19: {=INDEX($D$10:$I$10,,MATCH(H19,$D$9:$I$9,0))} -> 100 | R19: {=INDEX($D$10:$I$10,,MATCH(I19,$D$9:$I$9,0))} | S19: {=INDEX($D$10:$I$10,,MATCH(J19,$D$9:$I$9,0))} -> 100
B20: ANH | C20: Chapel St Leonards | D20: Excellent | E20: Excellent | F20: Excellent | G20: Excellent | H20: Excellent | I20: None | J20: Excellent | M20: {=INDEX($D$10:$I$10,,MATCH(D20,$D$9:$I$9,0))} -> 100 | N20: {=INDEX($D$10:$I$10,,MATCH(E20,$D$9:$I$9,0))} -> 100 | O20: {=INDEX($D$10:$I$10,,MATCH(F20,$D$9:$I$9,0))} -> 100 | P20: {=INDEX($D$10:$I$10,,MATCH(G20,$D$9:$I$9,0))} -> 100 | Q20: {=INDEX($D$10:$I$10,,MATCH(H20,$D$9:$I$9,0))} -> 100 | R20: {=INDEX($D$10:$I$10,,MATCH(I20,$D$9:$I$9,0))} | S20: {=INDEX($D$10:$I$10,,MATCH(J20,$D$9:$I$9,0))} -> 100
B21: ANH | C21: Ingoldmells South | D21: Excellent | E21: Excellent | F21: Excellent | G21: Excellent | H21: Excellent | I21: None | J21: Excellent | M21: {=INDEX($D$10:$I$10,,MATCH(D21,$D$9:$I$9,0))} -> 100 | N21: {=INDEX($D$10:$I$10,,MATCH(E21,$D$9:$I$9,0))} -> 100 | O21: {=INDEX($D$10:$I$10,,MATCH(F21,$D$9:$I$9,0))} -> 100 | P21: {=INDEX($D$10:$I$10,,MATCH(G21,$D$9:$I$9,0))} -> 100 | Q21: {=INDEX($D$10:$I$10,,MATCH(H21,$D$9:$I$9,0))} -> 100 | R21: {=INDEX($D$10:$I$10,,MATCH(I21,$D$9:$I$9,0))} | S21: {=INDEX($D$10:$I$10,,MATCH(J21,$D$9:$I$9,0))} -> 100
B22: ANH | C22: Skegness | D22: Excellent | E22: Excellent | F22: Excellent | G22: Excellent | H22: Excellent | I22: None | J22: Excellent | M22: {=INDEX($D$10:$I$10,,MATCH(D22,$D$9:$I$9,0))} -> 100 | N22: {=INDEX($D$10:$I$10,,MATCH(E22,$D$9:$I$9,0))} -> 100 | O22: {=INDEX($D$10:$I$10,,MATCH(F22,$D$9:$I$9,0))} -> 100 | P22: {=INDEX($D$10:$I$10,,MATCH(G22,$D$9:$I$9,0))} -> 100 | Q22: {=INDEX($D$10:$I$10,,MATCH(H22,$D$9:$I$9,0))} -> 100 | R22: {=INDEX($D$10:$I$10,,MATCH(I22,$D$9:$I$9,0))} | S22: {=INDEX($D$10:$I$10,,MATCH(J22,$D$9:$I$9,0))} -> 100
B23: ANH | C23: Hemsby | D23: Excellent | E23: Excellent | F23: Excellent | G23: Excellent | H23: Excellent | I23: None | J23: Excellent | M23: {=INDEX($D$10:$I$10,,MATCH(D23,$D$9:$I$9,0))} -> 100 | N23: {=INDEX($D$10:$I$10,,MATCH(E23,$D$9:$I$9,0))} -> 100 | O23: {=INDEX($D$10:$I$10,,MATCH(F23,$D$9:$I$9,0))} -> 100 | P23: {=INDEX($D$10:$I$10,,MATCH(G23,$D$9:$I$9,0))} -> 100 | Q23: {=INDEX($D$10:$I$10,,MATCH(H23,$D$9:$I$9,0))} -> 100 | R23: {=INDEX($D$10:$I$10,,MATCH(I23,$D$9:$I$9,0))} | S23: {=INDEX($D$10:$I$10,,MATCH(J23,$D$9:$I$9,0))} -> 100
B24: ANH | C24: Caister Point | D24: Excellent | E24: Excellent | F24: Excellent | G24: Excellent | H24: Excellent | I24: None | J24: Excellent | M24: {=INDEX($D$10:$I$10,,MATCH(D24,$D$9:$I$9,0))} -> 100 | N24: {=INDEX($D$10:$I$10,,MATCH(E24,$D$9:$I$9,0))} -> 100 | O24: {=INDEX($D$10:$I$10,,MATCH(F24,$D$9:$I$9,0))} -> 100 | P24: {=INDEX($D$10:$I$10,,MATCH(G24,$D$9:$I$9,0))} -> 100 | Q24: {=INDEX($D$10:$I$10,,MATCH(H24,$D$9:$I$9,0))} -> 100 | R24: {=INDEX($D$10:$I$10,,MATCH(I24,$D$9:$I$9,0))} | S24: {=INDEX($D$10:$I$10,,MATCH(J24,$D$9:$I$9,0))} -> 100
B25: ANH | C25: Great Yarmouth North | D25: Excellent | E25: Excellent | F25: Excellent | G25: Excellent | H25: Excellent | I25: None | J25: Excellent | M25: {=INDEX($D$10:$I$10,,MATCH(D25,$D$9:$I$9,0))} -> 100 | N25: {=INDEX($D$10:$I$10,,MATCH(E25,$D$9:$I$9,0))} -> 100 | O25: {=INDEX($D$10:$I$10,,MATCH(F25,$D$9:$I$9,0))} -> 100 | P25: {=INDEX($D$10:$I$10,,MATCH(G25,$D$9:$I$9,0))} -> 100 | Q25: {=INDEX($D$10:$I$10,,MATCH(H25,$D$9:$I$9,0))} -> 100 | R25: {=INDEX($D$10:$I$10,,MATCH(I25,$D$9:$I$9,0))} | S25: {=INDEX($D$10:$I$10,,MATCH(J25,$D$9:$I$9,0))} -> 100
... B546: WSH | C546: Prestatyn | D546: Excellent | E546: Excellent | F546: Excellent | G546: Excellent | H546: Excellent | I546: Excellent | J546: Excellent | M546: {=INDEX($D$10:$I$10,,MATCH(D546,$D$9:$I$9,0))} -> 100 | N546: {=INDEX($D$10:$I$10,,MATCH(E546,$D$9:$I$9,0))} -> 100 | O546: {=INDEX($D$10:$I$10,,MATCH(F546,$D$9:$I$9,0))} -> 100 | P546: {=INDEX($D$10:$I$10,,MATCH(G546,$D$9:$I$9,0))} -> 100 | Q546: {=INDEX($D$10:$I$10,,MATCH(H546,$D$9:$I$9,0))} -> 100 | R546: {=INDEX($D$10:$I$10,,MATCH(I546,$D$9:$I$9,0))} -> 100 | S546: {=INDEX($D$10:$I$10,,MATCH(J546,$D$9:$I$9,0))} -> 100
A549: End of sheet

Sheet Performance
A1: =RIGHT(CELL("filename", A1), LEN(CELL("filename", A1)) - SEARCH("]", CELL("filename", A1))) -> #VALUE!
A3: This sheet contains historical company performance data.
B6: Help - NWT | C6: Final code | D6: Company | E6: PR24 PC reference | F6: PR24 PC name | G6: Data description | H6: Units | I6: Decimal places | J6: 2011-12 | K6: 2012-13 | L6: 2013-14 | M6: 2014-15 | N6: 2015-16 | O6: 2016-17 | P6: 2017-18 | Q6: 2018-19 | R6: 2019-20 | S6: 2020-21 | T6: 2021-22 | U6: Comment
B7: =IF(D7="UU","UUW","") | C7: =IF(B7="",D7,B7) -> ANH | D7: ANH | E7: PR24_SPL.1 | F7: Serious pollution incidents | G7: Number of serious pollution incidents | H7: Number of serious pollution incidents | I7: 0 | J7: 9 | K7: 3 | L7: 10 | M7: 9 | N7: 10 | O7: 11 | P7: 19 | Q7: 10 | R7: 14 | S7: 11 | T7: 14
B8: =IF(D8="UU","UUW","") | C8: =IF(B8="",D8,B8) -> WSH | D8: WSH | E8: PR24_SPL.1 | F8: Serious pollution incidents | G8: Number of serious pollution incidents | H8: Number of serious pollution incidents | I8: 0 | J8: 4 | K8: 7 | L8: 2 | M8: 5 | N8: 2 | O8: 3 | P8: 3 | Q8: 5 | R8: 2 | S8: 3 | T8: 3
B9: =IF(D9="UU","UUW","") | C9: =IF(B9="",D9,B9) -> HDD | D9: HDD | E9: PR24_SPL.1 | F9: Serious pollution incidents | G9: Number of serious pollution incidents | H9: Number of serious pollution incidents | I9: 0 | J9: - | K9: - | L9: - | M9: 0 | N9: 0 | O9: 0 | P9: 0 | Q9: 0 | R9: 0 | S9: 0 | T9: 0
B10: =IF(D10="UU","UUW","") | C10: =IF(B10="",D10,B10) -> NES | D10: NES | E10: PR24_SPL.1 | F10: Serious pollution incidents | G10: Number of serious pollution incidents | H10: Number of serious pollution incidents | I10: 0 | J10: 11 | K10: 3 | L10: 5 | M10: 3 | N10: 5 | O10: 9 | P10: 4 | Q10: 2 | R10: 3 | S10: 4 | T10: 1
B11: =IF(D11="UU","UUW","") | C11: =IF(B11="",D11,B11) -> SVE | D11: SVE | E11: PR24_SPL.1 | F11: Serious pollution incidents | G11: Number of serious pollution incidents | H11: Number of serious pollution incidents | I11: 0 | J11: 15 | K11: 14 | L11: 8 | M11: 10 | N11: 2 | O11: 7 | P11: 2 | Q11: 7 | R11: 4 | S11: 2 | T11: 4
B12: =IF(D12="UU","UUW","") | C12: =IF(B12="",D12,B12) -> SWB | D12: SWB | E12: PR24_SPL.1 | F12: Serious pollution incidents | G12: Number of serious pollution incidents | H12: Number of serious pollution incidents | I12: 0 | J12: 17 | K12: 4 | L12: 10 | M12: 3 | N12: 7 | O12: 4 | P12: 3 | Q12: 2 | R12: 1 | S12: 3 | T12: 8
B13: =IF(D13="UU","UUW","") | C13: =IF(B13="",D13,B13) -> SRN | D13: SRN | E13: PR24_SPL.1 | F13: Serious pollution incidents | G13: Number of serious pollution incidents | H13: Number of serious pollution incidents | I13: 0 | J13: 21 | K13: 10 | L13: 9 | M13: 12 | N13: 7 | O13: 3 | P13: 4 | Q13: 7 | R13: 7 | S13: 4 | T13: 12
B14: =IF(D14="UU","UUW","") | C14: =IF(B14="",D14,B14) -> TMS | D14: TMS | E14: PR24_SPL.1 | F14: Serious pollution incidents | G14: Number of serious pollution incidents | H14: Number of serious pollution incidents | I14: 0 | J14: 21 | K14: 15 | L14: 22 | M14: 16 | N14: 12 | O14: 10 | P14: 10 | Q14: 9 | R14: 15 | S14: 13 | T14: 12
B15: =IF(D15="UU","UUW","") -> UUW | C15: =IF(B15="",D15,B15) -> UUW | D15: UU | E15: PR24_SPL.1 | F15: Serious pollution incidents | G15: Number of serious pollution incidents | H15: Number of serious pollution incidents | I15: 0 | J15: 4 | K15: 6 | L15: 7 | M15: 2 | N15: 6 | O15: 4 | P15: 2 | Q15: 1 | R15: 0 | S15: 0 | T15: 1
B16: =IF(D16="UU","UUW","") | C16: =IF(B16="",D16,B16) -> WSX | D16: WSX | E16: PR24_SPL.1 | F16: Serious pollution incidents | G16: Number of serious pollution incidents | H16: Number of serious pollution incidents | I16: 0 | J16: 2 | K16: 0 | L16: 6 | M16: 3 | N16: 3 | O16: 2 | P16: 3 | Q16: 4 | R16: 1 | S16: 4 | T16: 5
B17: =IF(D17="UU","UUW","") | C17: =IF(B17="",D17,B17) -> YKY | D17: YKY | E17: PR24_SPL.1 | F17: Serious pollution incidents | G17: Number of serious pollution incidents | H17: Number of serious pollution incidents | I17: 0 | J17: 15 | K17: 6 | L17: 11 | M17: 4 | N17: 7 | O17: 7 | P17: 6 | Q17: 14 | R17: 7 | S17: 3 | T17: 5
B18: =IF(D18="UU","UUW","") | C18: =IF(B18="",D18,B18) -> AFW | D18: AFW | E18: PR24_SPL.1 | F18: Serious pollution incidents | G18: Number of serious pollution incidents | H18: Number of serious pollution incidents | I18: 0 | J18: 0 | K18: 0 | L18: 0 | M18: 0 | N18: 2 | O18: 2 | P18: 0 | Q18: 0 | R18: 0 | S18: 0 | T18: 0
B19: =IF(D19="UU","UUW","") | C19: =IF(B19="",D19,B19) -> BRL | D19: BRL | E19: PR24_SPL.1 | F19: Serious pollution incidents | G19: Number of serious pollution incidents | H19: Number of serious pollution incidents | I19: 0 | J19: 0 | K19: 0 | L19: 0 | M19: 0 | N19: 0 | O19: 0 | P19: 0 | Q19: 0 | R19: 0 | S19: 0 | T19: 0
B20: =IF(D20="UU","UUW","") | C20: =IF(B20="",D20,B20) -> PRT | D20: PRT | E20: PR24_SPL.1 | F20: Serious pollution incidents | G20: Number of serious pollution incidents | H20: Number of serious pollution incidents | I20: 0 | J20: 0 | K20: 0 | L20: 0 | M20: 0 | N20: 0 | O20: 0 | P20: 1 | Q20: 0 | R20: 0 | S20: 0 | T20: 0
B21: =IF(D21="UU","UUW","") | C21: =IF(B21="",D21,B21) -> SEW | D21: SEW | E21: PR24_SPL.1 | F21: Serious pollution incidents | G21: Number of serious pollution incidents | H21: Number of serious pollution incidents | I21: 0 | J21: 1 | K21: 0 | L21: 0 | M21: 0 | N21: 0 | O21: 0 | P21: 1 | Q21: 0 | R21: 3 | S21: 0 | T21: 0
... B45: =IF(D45="UU","UUW","") | C45: =IF(B45="",D45,B45) -> YKY | D45: YKY | E45: PR24_POL.2 | F45: Total pollution incidents | G45: Total number of pollution incidents | H45: Total number of pollution incidents | I45: 0 | J45: 289 | K45: 253 | L45: 239 | M45: 180 | N45: 219 | O45: 240 | P45: 225 | Q45: 229 | R45: 181 | S45: 125 | T45: 143
B46: =IF(D46="UU","UUW","") | C46: =IF(B46="",D46,B46) -> ANH | D46: ANH | E46: PR24_POL.3 | F46: Total pollution incidents | G46: Pollution incidents - Sewer length in km | H46: Pollution incidents - Sewer length in km | I46: 0 | P46: 76437
B47: =IF(D47="UU","UUW","") | C47: =IF(B47="",D47,B47) -> WSH | D47: WSH | E47: PR24_POL.3 | F47: Total pollution incidents | G47: Pollution incidents - Sewer length in km | H47: Pollution incidents - Sewer length in km | I47: 0 | P47: 36249
B48: =IF(D48="UU","UUW","") | C48: =IF(B48="",D48,B48) -> HDD | D48: HDD | E48: PR24_POL.3 | F48: Total pollution incidents | G48: Pollution incidents - Sewer length in km | H48: Pollution incidents - Sewer length in km | I48: 0 | P48: 502
B49: =IF(D49="UU","UUW","") | C49: =IF(B49="",D49,B49) -> NES | D49: NES | E49: PR24_POL.3 | F49: Total pollution incidents | G49: Pollution incidents - Sewer length in km | H49: Pollution incidents - Sewer length in km | I49: 0 | P49: 30026
B50: =IF(D50="UU","UUW","") | C50: =IF(B50="",D50,B50) -> SVE | D50: SVE | E50: PR24_POL.3 | F50: Total pollution incidents | G50: Pollution incidents - Sewer length in km | H50: Pollution incidents - Sewer length in km | I50: 0 | P50: 93525
B51: =IF(D51="UU","UUW","") | C51: =IF(B51="",D51,B51) -> SWB | D51: SWB | E51: PR24_POL.3 | F51: Total pollution incidents | G51: Pollution incidents - Sewer length in km | H51: Pollution incidents - Sewer length in km | I51: 0 | P51: 17440
B52: =IF(D52="UU","UUW","") | C52: =IF(B52="",D52,B52) -> SRN | D52: SRN | E52: PR24_POL.3 | F52: Total pollution incidents | G52: Pollution incidents - Sewer length in km | H52: Pollution incidents - Sewer length in km | I52: 0 | P52: 39729
B53: =IF(D53="UU","UUW","") | C53: =IF(B53="",D53,B53) -> TMS | D53: TMS | E53: PR24_POL.3 | F53: Total pollution incidents | G53: Pollution incidents - Sewer length in km | H53: Pollution incidents - Sewer length in km | I53: 0 | P53: 108980
B54: =IF(D54="UU","UUW","") -> UUW | C54: =IF(B54="",D54,B54) -> UUW | D54: UU | E54: PR24_POL.3 | F54: Total pollution incidents | G54: Pollution incidents - Sewer length in km | H54: Pollution incidents - Sewer length in km | I54: 0 | P54: 77339
B55: =IF(D55="UU","UUW","") | C55: =IF(B55="",D55,B55) -> WSX | D55: WSX | E55: PR24_POL.3 | F55: Total pollution incidents | G55: Pollution incidents - Sewer length in km | H55: Pollution incidents - Sewer length in km | I55: 0 | P55: 34944
B56: =IF(D56="UU","UUW","") | C56: =IF(B56="",D56,B56) -> YKY | D56: YKY | E56: PR24_POL.3 | F56: Total pollution incidents | G56: Pollution incidents - Sewer length in km | H56: Pollution incidents - Sewer length in km | I56: 0 | P56: 52263
B57: =IF(D57="UU","UUW","") | C57: =IF(B57="",D57,B57) -> ANH | D57: ANH | E57: PR24_NHH.1 | F57: Business demand | G57: Annual non-household consumption levels reported in terms of the consistent PR19 reporting methodology | H57: Ml/d | I57: 1 | P57: 284.2 | Q57: 301 | R57: 295 | S57: 275.7 | T57: 296.5
B58: =IF(D58="UU","UUW","") | C58: =IF(B58="",D58,B58) -> WSH | D58: WSH | E58: PR24_NHH.1 | F58: Business demand | G58: Annual non-household consumption levels reported in terms of the consistent PR19 reporting methodology | H58: Ml/d | I58: 1 | P58: 172.3 | Q58: 181.8 | R58: 179 | S58: 152.7 | T58: 165.8
B59: =IF(D59="UU","UUW","") | C59: =IF(B59="",D59,B59) -> HDD | D59: HDD | E59: PR24_NHH.1 | F59: Business demand | G59: Annual non-household consumption levels reported in terms of the consistent PR19 reporting methodology | H59: Ml/d | I59: 1 | P59: 16.9 | Q59: 16.5 | R59: 16.1 | S59: 13.7 | T59: 17.3
B60: =IF(D60="UU","UUW","") | C60: =IF(B60="",D60,B60) -> NES | D60: NES | E60: PR24_NHH.1 | F60: Business demand | G60: Annual non-household consumption levels reported in terms of the consistent PR19 reporting methodology | H60: Ml/d | I60: 1 | P60: 220 | Q60: 217.4 | R60: 213.7 | S60: 181.3 | T60: 199.6
B61: =IF(D61="UU","UUW","") | C61: =IF(B61="",D61,B61) -> SVE | D61: SVE | E61: PR24_NHH.1 | F61: Business demand | G61: Annual non-household consumption levels reported in terms of the consistent PR19 reporting methodology | H61: Ml/d | I61: 1 | P61: 352.4 | Q61: 362.4 | R61: 357.5 | S61: 275.3 | T61: 323
B62: =IF(D62="UU","UUW","") | C62: =IF(B62="",D62,B62) -> SWB | D62: SWB | E62: PR24_NHH.1 | F62: Business demand | G62: Annual non-household consumption levels reported in terms of the consistent PR19 reporting methodology | H62: Ml/d | I62: 1 | P62: 141.8 | Q62: 150.3 | R62: 158.6 | S62: 137.9 | T62: 148.9
B63: =IF(D63="UU","UUW","") | C63: =IF(B63="",D63,B63) -> SRN | D63: SRN | E63: PR24_NHH.1 | F63: Business demand | G63: Annual non-household consumption levels reported in terms of the consistent PR19 reporting methodology | H63: Ml/d | I63: 1 | P63: 116.4 | Q63: 120 | R63: 110.7 | S63: 97.5 | T63: 98.6
B64: =IF(D64="UU","UUW","") | C64: =IF(B64="",D64,B64) -> TMS | D64: TMS | E64: PR24_NHH.1 | F64: Business demand | G64: Annual non-household consumption levels reported in terms of the consistent PR19 reporting methodology | H64: Ml/d | I64: 1 | P64: 485.2 | Q64: 472.2 | R64: 454.2 | S64: 364.8 | T64: 388.5
B65: =IF(D65="UU","UUW","") -> UUW | C65: =IF(B65="",D65,B65) -> UUW | D65: UU | E65: PR24_NHH.1 | F65: Business demand | G65: Annual non-household consumption levels reported in terms of the consistent PR19 reporting methodology | H65: Ml/d | I65: 1 | P65: 359.9 | Q65: 371.8 | R65: 369.6 | S65: 315.3 | T65: 350.6
B66: =IF(D66="UU","UUW","") | C66: =IF(B66="",D66,B66) -> WSX | D66: WSX | E66: PR24_NHH.1 | F66: Business demand | G66: Annual non-household consumption levels reported in terms of the consistent PR19 reporting methodology | H66: Ml/d | I66: 1 | P66: 82 | Q66: 83.8 | R66: 79.1 | S66: 70.6 | T66: 74.6
B67: =IF(D67="UU","UUW","") | C67: =IF(B67="",D67,B67) -> YKY | D67: YKY | E67: PR24_NHH.1 | F67: Business demand | G67: Annual non-household consumption levels reported in terms of the consistent PR19 reporting methodology | H67: Ml/d | I67: 1 | P67: 275.8 | Q67: 284.1 | R67: 272.1 | S67: 236.6 | T67: 251.2
B68: =IF(D68="UU","UUW","") | C68: =IF(B68="",D68,B68) -> AFW | D68: AFW | E68: PR24_NHH.1 | F68: Business demand | G68: Annual non-household consumption levels reported in terms of the consistent PR19 reporting methodology | H68: Ml/d | I68: 1 | P68: 149.5 | Q68: 164.3 | R68: 174.1 | S68: 127.7 | T68: 147.3
... B73: =IF(D73="UU","UUW","") | C73: =IF(B73="",D73,B73) -> SES | D73: SES | E73: PR24_NHH.1 | F73: Business demand | G73: Annual non-household consumption levels reported in terms of the consistent PR19 reporting methodology | H73: Ml/d | I73: 1 | P73: 27.5 | Q73: 24.7 | R73: 24.4 | S73: 20.6 | T73: 21.4
B74: =IF(D74="UU","UUW","") | C74: =IF(B74="",D74,B74) -> ANH | D74: ANH | E74: PR24_NHH.2 | F74: Business demand | G74: Annual non-household consumption levels reported in terms of historical reporting methodologies | H74: Ml/d | I74: 1 | J74: 258.2 | K74: 270.6 | L74: 273.4 | M74: 270.6 | N74: 267.7 | O74: 267.9 | P74: 274.7 | Q74: 291.1 | R74: 284.7
B75: =IF(D75="UU","UUW","") | C75: =IF(B75="",D75,B75) -> WSH | D75: WSH | E75: PR24_NHH.2 | F75: Business demand | G75: Annual non-household consumption levels reported in terms of historical reporting methodologies | H75: Ml/d | I75: 1 | J75: 185.7 | K75: 171.7 | L75: 174.9 | M75: 180 | N75: 173.4 | O75: 178.6 | P75: 174.2 | Q75: 183.6 | R75: 178.2
B76: =IF(D76="UU","UUW","") | C76: =IF(B76="",D76,B76) -> HDD | D76: HDD | E76: PR24_NHH.2 | F76: Business demand | G76: Annual non-household consumption levels reported in terms of historical reporting methodologies | H76: Ml/d | I76: 1 | J76: 19.1 | K76: 18 | L76: 17.8 | M76: 18.8 | N76: 17.4 | O76: 19.1 | P76: 19.4 | Q76: 16 | R76: 15.7
B77: =IF(D77="UU","UUW","") | C77: =IF(B77="",D77,B77) -> NES | D77: NES | E77: PR24_NHH.2 | F77: Business demand | G77: Annual non-household consumption levels reported in terms of historical reporting methodologies | H77: Ml/d | I77: 1 | J77: 254.8 | K77: 238.7 | L77: 233.4 | M77: 230.9 | N77: 222.7 | O77: 233 | P77: 220.7 | Q77: 218 | R77: 215.1
B78: =IF(D78="UU","UUW","") | C78: =IF(B78="",D78,B78) -> SVE | D78: SVE | E78: PR24_NHH.2 | F78: Business demand | G78: Annual non-household consumption levels reported in terms of historical reporting methodologies | H78: Ml/d | I78: 1 | J78: 376.9 | K78: 356.8 | L78: 360.8 | M78: 367.7 | N78: 378.4 | O78: 363.6 | P78: 360.2 | Q78: 374.2 | R78: 370.1
B79: =IF(D79="UU","UUW","") | C79: =IF(B79="",D79,B79) -> SWB | D79: SWB | E79: PR24_NHH.2 | F79: Business demand | G79: Annual non-household consumption levels reported in terms of historical reporting methodologies | H79: Ml/d | I79: 1 | J79: 161 | K79: 155.7 | L79: 156.5 | M79: 157.7 | N79: 150.3 | O79: 146.4 | P79: 145.8 | Q79: 152.3 | R79: 140.4
B80: =IF(D80="UU","UUW","") | C80: =IF(B80="",D80,B80) -> SRN | D80: SRN | E80: PR24_NHH.2 | F80: Business demand | G80: Annual non-household consumption levels reported in terms of historical reporting methodologies | H80: Ml/d | I80: 1 | J80: 93.6 | K80: 103.6 | L80: 103.1 | M80: 106.2 | N80: 110.3 | O80: 109.2 | P80: 118.2 | Q80: 120.2 | R80: 112.5
B81: =IF(D81="UU","UUW","") | C81: =IF(B81="",D81,B81) -> TMS | D81: TMS | E81: PR24_NHH.2 | F81: Business demand | G81: Annual non-household consumption levels reported in terms of historical reporting methodologies | H81: Ml/d | I81: 1 | J81: 501.5 | K81: 490.2 | L81: 501.4 | M81: 508 | N81: 499.6 | O81: 478.8 | P81: 491.7 | Q81: 478.9 | R81: 460.5
B82: =IF(D82="UU","UUW","") -> UUW | C82: =IF(B82="",D82,B82) -> UUW | D82: UU | E82: PR24_NHH.2 | F82: Business demand | G82: Annual non-household consumption levels reported in terms of historical reporting methodologies | H82: Ml/d | I82: 1 | J82: 377.8 | K82: 372.8 | L82: 361.4 | M82: 362.5 | N82: 370.1 | O82: 368.6 | P82: 365.8 | Q82: 376.8 | R82: 377.3
B83: =IF(D83="UU","UUW","") | C83: =IF(B83="",D83,B83) -> WSX | D83: WSX | E83: PR24_NHH.2 | F83: Business demand | G83: Annual non-household consumption levels reported in terms of historical reporting methodologies | H83: Ml/d | I83: 1 | J83: 101.7 | K83: 96.7 | L83: 99.3 | M83: 99 | N83: 98.5 | O83: 97.6 | P83: 98.2 | Q83: 100.4 | R83: 95.2
B84: =IF(D84="UU","UUW","") | C84: =IF(B84="",D84,B84) -> YKY | D84: YKY | E84: PR24_NHH.2 | F84: Business demand | G84: Annual non-household consumption levels reported in terms of historical reporting methodologies | H84: Ml/d | I84: 1 | J84: 272.6 | K84: 259 | L84: 264.5 | M84: 266.8 | N84: 269.1 | O84: 267.7 | P84: 275.3 | Q84: 291.3 | R84: 276.6
B85: =IF(D85="UU","UUW","") | C85: =IF(B85="",D85,B85) -> AFW | D85: AFW | E85: PR24_NHH.2 | F85: Business demand | G85: Annual non-household consumption levels reported in terms of historical reporting methodologies | H85: Ml/d | I85: 1 | J85: 178.2 | K85: 169.5 | L85: 172.7 | M85: 171.9 | N85: 168.9 | O85: 172.4 | P85: 178.9 | Q85: 182.5 | R85: 176.9
... B90: =IF(D90="UU","UUW","") | C90: =IF(B90="",D90,B90) -> SES | D90: SES | E90: PR24_NHH.2 | F90: Business demand | G90: Annual non-household consumption levels reported in terms of historical reporting methodologies | H90: Ml/d | I90: 1 | J90: 25.1 | K90: 24.4 | L90: 24.5 | M90: 25.2 | N90: 26 | O90: 27.3 | P90: 24.7 | Q90: 24.6 | R90: 24.9
B91: =IF(D91="UU","UUW","") | C91: =IF(B91="",D91,B91) -> NES | D91: NES | E91: PR24_NHH.1A | F91: Business demand | G91: Annual non-household consumption levels reported in terms of the consistent PR19 reporting methodology (region 1) | H91: Ml/d | I91: 1 | P91: 144.8 | Q91: 143.2 | R91: 140.7 | S91: 120.2 | T91: 130.6
B92: =IF(D92="UU","UUW","") | C92: =IF(B92="",D92,B92) -> NES | D92: NES | E92: PR24_NHH.1B | F92: Business demand | G92: Annual non-household consumption levels reported in terms of the consistent PR19 reporting methodology (region 2) | H92: Ml/d | I92: 1 | P92: 75.2 | Q92: 74.2 | R92: 73 | S92: 61 | T92: 68.9
B93: =IF(D93="UU","UUW","") | C93: =IF(B93="",D93,B93) -> SSC | D93: SSC | E93: PR24_NHH.1A | F93: Business demand | G93: Annual non-household consumption levels reported in terms of the consistent PR19 reporting methodology (region 1) | H93: Ml/d | I93: 1 | P93: 21.3 | Q93: 22.8 | R93: 26 | S93: 20.6 | T93: 22.7
B94: =IF(D94="UU","UUW","") | C94: =IF(B94="",D94,B94) -> SSC | D94: SSC | E94: PR24_NHH.1B | F94: Business demand | G94: Annual non-household consumption levels reported in terms of the consistent PR19 reporting methodology (region 2) | H94: Ml/d | I94: 1 | P94: 57 | Q94: 58.1 | R94: 60.6 | S94: 50.7 | T94: 52.7
B95: =IF(D95="UU","UUW","") | C95: =IF(B95="",D95,B95) -> NES | D95: NES | E95: PR24_NHH.2A | F95: Business demand | G95: Annual non-household consumption levels reported in terms of the consistent historical reporting methodologies (region 1) | H95: Ml/d | I95: 1 | J95: 162.2 | K95: 157 | L95: 154.6 | M95: 153.4 | N95: 146.6 | O95: 151.4 | P95: 144.4 | Q95: 143.8 | R95: 141.5
B96: =IF(D96="UU","UUW","") | C96: =IF(B96="",D96,B96) -> NES | D96: NES | E96: PR24_NHH.2B | F96: Business demand | G96: Annual non-household consumption levels reported in terms of the consistent historical reporting methodologies (region 2) | H96: Ml/d | I96: 1 | J96: 92.5 | K96: 81.7 | L96: 78.8 | M96: 77.5 | N96: 76 | O96: 81.6 | P96: 76.3 | Q96: 74.2 | R96: 73.6
B97: =IF(D97="UU","UUW","") | C97: =IF(B97="",D97,B97) -> SSC | D97: SSC | E97: PR24_NHH.2A | F97: Business demand | G97: Annual non-household consumption levels reported in terms of the consistent historical reporting methodologies (region 1) | H97: Ml/d | I97: 1 | J97: 52.7 | K97: 53 | L97: 52.8 | M97: 52.2 | N97: 53.3 | O97: 54.9 | P97: 56 | Q97: 57.4 | R97: 61
B98: =IF(D98="UU","UUW","") | C98: =IF(B98="",D98,B98) -> SSC | D98: SSC | E98: PR24_NHH.2B | F98: Business demand | G98: Annual non-household consumption levels reported in terms of the consistent historical reporting methodologies (region 2) | H98: Ml/d | I98: 1 | J98: 20.9 | K98: 20.9 | L98: 20.5 | M98: 20.5 | N98: 21.1 | O98: 21.1 | P98: 21.8 | Q98: 23 | R98: 26.2
