Workbook
Name \0: #REF!
Name \A: #REF!
Name \C: #REF!
Name \P: #REF!
Name \Q: #REF!
Name \V: #REF!
Name \X: #REF!
Name \Z: #REF!
Name ___INDEX_SHEET___ASAP_Utilities: #REF!
Name _1___Data_table_for_graph___Leakage___AR4__AR3__AR2__AR1_and_Ofwat_leakage_targets: #REF!
Name _1__Data_table_for_graph___meter_penetration___AR4__AR3__AR2__and_AR1: #REF!
Name _1__Graph___meter_penetration___AR4__AR3__AR2__and_AR1: #REF!
Name _1_8_4_Step2: #REF!
Name _1st_model_column_flag: #REF!
Name _2__Graph___Leakage_AR4__AR3__AR2__AR1_and_Ofwat_leakage_targets: #REF!
Name _2__Graph___meter_penetration___AR4__AR3__AR2__and_AR1: #REF!
Name _2020_25_RCV___nominal.ADDN1: #REF!
Name _2020_25_RCV___nominal.ADDN1.BEG: #REF!
Name _2020_25_RCV___nominal.ADDN2: #REF!
Name _2020_25_RCV___nominal.ADDN2.BEG: #REF!
Name _2020_25_RCV___nominal.BR: #REF!
Name _2020_25_RCV___nominal.BR.BEG: #REF!
Name _2020_25_RCV___nominal.WN: #REF!
Name _2020_25_RCV___nominal.WN.BEG: #REF!
Name _2020_25_RCV___nominal.WR: #REF!
Name _2020_25_RCV___nominal.WR.BEG: #REF!
Name _2020_25_RCV___nominal.WWN: #REF!
Name _2020_25_RCV___nominal.WWN.BEG: #REF!
Name _2020_25_RCV___not_negative_check.ADDN1: #REF!
Name _2020_25_RCV___not_negative_check.ADDN2: #REF!
Name _2020_25_RCV___not_negative_check.BR: #REF!
Name _2020_25_RCV___not_negative_check.WN: #REF!
Name _2020_25_RCV___not_negative_check.WR: #REF!
Name _2020_25_RCV___not_negative_check.WWN: #REF!
Name _2020_25_RCV___not_negative_check_overall.ADDN1: #REF!
Name _2020_25_RCV___not_negative_check_overall.ADDN2: #REF!
Name _2020_25_RCV___not_negative_check_overall.BR: #REF!
Name _2020_25_RCV___not_negative_check_overall.WN: #REF!
Name _2020_25_RCV___not_negative_check_overall.WR: #REF!
Name _2020_25_RCV___not_negative_check_overall.WWN: #REF!
Name _2020_25_RCV___opening_plus_movement___nominal.ADDN1: #REF!
Name _2020_25_RCV___opening_plus_movement___nominal.ADDN2: #REF!
Name _2020_25_RCV___opening_plus_movement___nominal.BR: #REF!
Name _2020_25_RCV___opening_plus_movement___nominal.WN: #REF!
Name _2020_25_RCV___opening_plus_movement___nominal.WR: #REF!
Name _2020_25_RCV___opening_plus_movement___nominal.WWN: #REF!
Name _2020_25_RCV___real.ADDN1: #REF!
Name _2020_25_RCV___real.ADDN2: #REF!
Name _2020_25_RCV___real.BR: #REF!
Name _2020_25_RCV___real.WN: #REF!
Name _2020_25_RCV___real.WR: #REF!
Name _2020_25_RCV___real.WWN: #REF!
Name _2020_25_RCV_initial_balance___nominal.ADDN1: #REF!
Name _2020_25_RCV_initial_balance___nominal.ADDN2: #REF!
Name _2020_25_RCV_initial_balance___nominal.BR: #REF!
Name _2020_25_RCV_initial_balance___nominal.WN: #REF!
Name _2020_25_RCV_initial_balance___nominal.WR: #REF!
Name _2020_25_RCV_initial_balance___nominal.WWN: #REF!
Name _2020_25_RCV_initial_balance___not_negative_check.ADDN1: #REF!
Name _2020_25_RCV_initial_balance___not_negative_check.ADDN2: #REF!

Sheet Cover
A1: =RIGHT(CELL("filename", $A$1), LEN(CELL("filename", $A$1)) - SEARCH("]", CELL("filename", $A$1))) -> #VALUE!
B3: PR24 Performance Commitment Model
B5: Performance commitment | C5: Discharge Permit Compliance (DIS)
B6: Version number: | C6: 3
B7: File name: | C7: =MID(CELL("filename"), FIND("[", CELL("filename"), 1) + 1, FIND("]", CELL("filename"), 1) - FIND("[", CELL("filename"), 1) - 1) -> #VALUE!
B8: Date: | C8: 46266
B10: For enquiries please contact: | C10: PR24@Ofwat.gov.uk
B12: Instructions: | C12: A separate model 'User guide' has been created to help the user in operating the model.

Sheet Overview
B2: Discharge Permit Compliance (DIS)
B12: Approach to setting performance commitment level (PCL)
B13: PCL Type | C13: Common level
B14: Baseline | C14: Set at 100%
B15: Performance from totex | C15: Set at 100%
B17: END

Sheet Conceptual_Model

Sheet PR24_DD_PCLs
B2: =Overview!B2 &" - PR24 draft determination performance commitment levels" -> Discharge Permit Compliance (DIS) - PR24 draft determination performance commitment levels
B4: PR24 DD PCLs
B6: Company | C6: Company name | D6: Region | E6: Company/Region | F6: WoC/WaSC | G6: Underlying calc | H6: BONCODE | I6: Unique identifier | J6: Performance from totex | K6: Company DD view / Ofwat DD view | L6: PC code | M6: Units | N6: Units | O6: DP | P6: 2024-25 | Q6: 2025-26 | R6: 2026-27 | S6: 2027-28 | T6: 2028-29 | U6: 2029-30
B7: ANH | C7: =_xlfn.XLOOKUP($B7,FD_Lists!$B$4:$B$25,FD_Lists!C$4:C$25) -> Anglian Water | D7: =_xlfn.XLOOKUP($B7,FD_Lists!$B$4:$B$25,FD_Lists!D$4:D$25) -> England | E7: =_xlfn.XLOOKUP($B7,FD_Lists!$B$4:$B$25,FD_Lists!E$4:E$25) -> Company | F7: =_xlfn.XLOOKUP($B7,FD_Lists!$B$4:$B$25,FD_Lists!F$4:F$25) -> WaSC | G7: PCL | H7: OUT5_07_PR24 | I7: ANHOUT5_07_PR24 | J7: Totex | K7: Company view (DD) | L7: DIS | M7: Percentage compliance | N7: Percentage | O7: 3 | P7: 1 | Q7: 1 | R7: 1 | S7: 1 | T7: 1 | U7: 1
B8: WSH | C8: =_xlfn.XLOOKUP($B8,FD_Lists!$B$4:$B$25,FD_Lists!C$4:C$25) -> Dŵr Cymru | D8: =_xlfn.XLOOKUP($B8,FD_Lists!$B$4:$B$25,FD_Lists!D$4:D$25) -> Wales | E8: =_xlfn.XLOOKUP($B8,FD_Lists!$B$4:$B$25,FD_Lists!E$4:E$25) -> Company | F8: =_xlfn.XLOOKUP($B8,FD_Lists!$B$4:$B$25,FD_Lists!F$4:F$25) -> WaSC | G8: PCL | H8: OUT5_07_PR24 | I8: WSHOUT5_07_PR24 | J8: Totex | K8: Company view (DD) | L8: DIS | M8: Percentage compliance | N8: Percentage | O8: 3 | P8: 1 | Q8: 1 | R8: 1 | S8: 1 | T8: 1 | U8: 1
B9: HDD | C9: =_xlfn.XLOOKUP($B9,FD_Lists!$B$4:$B$25,FD_Lists!C$4:C$25) -> Hafren Dyfrdwy | D9: =_xlfn.XLOOKUP($B9,FD_Lists!$B$4:$B$25,FD_Lists!D$4:D$25) -> Wales | E9: =_xlfn.XLOOKUP($B9,FD_Lists!$B$4:$B$25,FD_Lists!E$4:E$25) -> Company | F9: =_xlfn.XLOOKUP($B9,FD_Lists!$B$4:$B$25,FD_Lists!F$4:F$25) -> WaSC | G9: PCL | H9: OUT5_07_PR24 | I9: HDDOUT5_07_PR24 | J9: Totex | K9: Company view (DD) | L9: DIS | M9: Percentage compliance | N9: Percentage | O9: 3 | P9: 1 | Q9: 1 | R9: 1 | S9: 1 | T9: 1 | U9: 1
B10: NES | C10: =_xlfn.XLOOKUP($B10,FD_Lists!$B$4:$B$25,FD_Lists!C$4:C$25) -> Northumbrian Water | D10: =_xlfn.XLOOKUP($B10,FD_Lists!$B$4:$B$25,FD_Lists!D$4:D$25) -> England | E10: =_xlfn.XLOOKUP($B10,FD_Lists!$B$4:$B$25,FD_Lists!E$4:E$25) -> Company | F10: =_xlfn.XLOOKUP($B10,FD_Lists!$B$4:$B$25,FD_Lists!F$4:F$25) -> WaSC | G10: PCL | H10: OUT5_07_PR24 | I10: NESOUT5_07_PR24 | J10: Totex | K10: Company view (DD) | L10: DIS | M10: Percentage compliance | N10: Percentage | O10: 3 | P10: 1 | Q10: 1 | R10: 1 | S10: 1 | T10: 1 | U10: 1
B11: SVE | C11: =_xlfn.XLOOKUP($B11,FD_Lists!$B$4:$B$25,FD_Lists!C$4:C$25) -> Severn Trent Water | D11: =_xlfn.XLOOKUP($B11,FD_Lists!$B$4:$B$25,FD_Lists!D$4:D$25) -> England | E11: =_xlfn.XLOOKUP($B11,FD_Lists!$B$4:$B$25,FD_Lists!E$4:E$25) -> Company | F11: =_xlfn.XLOOKUP($B11,FD_Lists!$B$4:$B$25,FD_Lists!F$4:F$25) -> WaSC | G11: PCL | H11: OUT5_07_PR24 | I11: SVEOUT5_07_PR24 | J11: Totex | K11: Company view (DD) | L11: DIS | M11: Percentage compliance | N11: Percentage | O11: 3 | P11: 1 | Q11: 1 | R11: 1 | S11: 1 | T11: 1 | U11: 1
B12: SRN | C12: =_xlfn.XLOOKUP($B12,FD_Lists!$B$4:$B$25,FD_Lists!C$4:C$25) -> Southern Water | D12: =_xlfn.XLOOKUP($B12,FD_Lists!$B$4:$B$25,FD_Lists!D$4:D$25) -> England | E12: =_xlfn.XLOOKUP($B12,FD_Lists!$B$4:$B$25,FD_Lists!E$4:E$25) -> Company | F12: =_xlfn.XLOOKUP($B12,FD_Lists!$B$4:$B$25,FD_Lists!F$4:F$25) -> WaSC | G12: PCL | H12: OUT5_07_PR24 | I12: SRNOUT5_07_PR24 | J12: Totex | K12: Company view (DD) | L12: DIS | M12: Percentage compliance | N12: Percentage | O12: 3 | P12: 1 | Q12: 1 | R12: 1 | S12: 1 | T12: 1 | U12: 1
B13: TMS | C13: =_xlfn.XLOOKUP($B13,FD_Lists!$B$4:$B$25,FD_Lists!C$4:C$25) -> Thames Water | D13: =_xlfn.XLOOKUP($B13,FD_Lists!$B$4:$B$25,FD_Lists!D$4:D$25) -> England | E13: =_xlfn.XLOOKUP($B13,FD_Lists!$B$4:$B$25,FD_Lists!E$4:E$25) -> Company | F13: =_xlfn.XLOOKUP($B13,FD_Lists!$B$4:$B$25,FD_Lists!F$4:F$25) -> WaSC | G13: PCL | H13: OUT5_07_PR24 | I13: TMSOUT5_07_PR24 | J13: Totex | K13: Company view (DD) | L13: DIS | M13: Percentage compliance | N13: Percentage | O13: 3 | P13: 1 | Q13: 1 | R13: 1 | S13: 1 | T13: 1 | U13: 1
B14: NWT | C14: =_xlfn.XLOOKUP($B14,FD_Lists!$B$4:$B$25,FD_Lists!C$4:C$25) -> United Utilities | D14: =_xlfn.XLOOKUP($B14,FD_Lists!$B$4:$B$25,FD_Lists!D$4:D$25) -> England | E14: =_xlfn.XLOOKUP($B14,FD_Lists!$B$4:$B$25,FD_Lists!E$4:E$25) -> Company | F14: =_xlfn.XLOOKUP($B14,FD_Lists!$B$4:$B$25,FD_Lists!F$4:F$25) -> WaSC | G14: PCL | H14: OUT5_07_PR24 | I14: NWTOUT5_07_PR24 | J14: Totex | K14: Company view (DD) | L14: DIS | M14: Percentage compliance | N14: Percentage | O14: 3 | P14: 1 | Q14: 1 | R14: 1 | S14: 1 | T14: 1 | U14: 1
B15: WSX | C15: =_xlfn.XLOOKUP($B15,FD_Lists!$B$4:$B$25,FD_Lists!C$4:C$25) -> Wessex Water | D15: =_xlfn.XLOOKUP($B15,FD_Lists!$B$4:$B$25,FD_Lists!D$4:D$25) -> England | E15: =_xlfn.XLOOKUP($B15,FD_Lists!$B$4:$B$25,FD_Lists!E$4:E$25) -> Company | F15: =_xlfn.XLOOKUP($B15,FD_Lists!$B$4:$B$25,FD_Lists!F$4:F$25) -> WaSC | G15: PCL | H15: OUT5_07_PR24 | I15: WSXOUT5_07_PR24 | J15: Totex | K15: Company view (DD) | L15: DIS | M15: Percentage compliance | N15: Percentage | O15: 3 | P15: 1 | Q15: 1 | R15: 1 | S15: 1 | T15: 1 | U15: 1
B16: YKY | C16: =_xlfn.XLOOKUP($B16,FD_Lists!$B$4:$B$25,FD_Lists!C$4:C$25) -> Yorkshire Water | D16: =_xlfn.XLOOKUP($B16,FD_Lists!$B$4:$B$25,FD_Lists!D$4:D$25) -> England | E16: =_xlfn.XLOOKUP($B16,FD_Lists!$B$4:$B$25,FD_Lists!E$4:E$25) -> Company | F16: =_xlfn.XLOOKUP($B16,FD_Lists!$B$4:$B$25,FD_Lists!F$4:F$25) -> WaSC | G16: PCL | H16: OUT5_07_PR24 | I16: YKYOUT5_07_PR24 | J16: Totex | K16: Company view (DD) | L16: DIS | M16: Percentage compliance | N16: Percentage | O16: 3 | P16: 1 | Q16: 1 | R16: 1 | S16: 1 | T16: 1 | U16: 1
B17: AFW | C17: =_xlfn.XLOOKUP($B17,FD_Lists!$B$4:$B$25,FD_Lists!C$4:C$25) -> Affinity Water | D17: =_xlfn.XLOOKUP($B17,FD_Lists!$B$4:$B$25,FD_Lists!D$4:D$25) -> England | E17: =_xlfn.XLOOKUP($B17,FD_Lists!$B$4:$B$25,FD_Lists!E$4:E$25) -> Company | F17: =_xlfn.XLOOKUP($B17,FD_Lists!$B$4:$B$25,FD_Lists!F$4:F$25) -> WoC | G17: PCL | H17: OUT5_07_PR24 | I17: AFWOUT5_07_PR24 | J17: Totex | K17: Company view (DD) | L17: DIS | M17: Percentage compliance | N17: Percentage | O17: 3 | P17: 1 | Q17: 1 | R17: 1 | S17: 1 | T17: 1 | U17: 1
B18: PRT | C18: =_xlfn.XLOOKUP($B18,FD_Lists!$B$4:$B$25,FD_Lists!C$4:C$25) -> Portsmouth Water | D18: =_xlfn.XLOOKUP($B18,FD_Lists!$B$4:$B$25,FD_Lists!D$4:D$25) -> England | E18: =_xlfn.XLOOKUP($B18,FD_Lists!$B$4:$B$25,FD_Lists!E$4:E$25) -> Company | F18: =_xlfn.XLOOKUP($B18,FD_Lists!$B$4:$B$25,FD_Lists!F$4:F$25) -> WoC | G18: PCL | H18: OUT5_07_PR24 | I18: PRTOUT5_07_PR24 | J18: Totex | K18: Company view (DD) | L18: DIS | M18: Percentage compliance | N18: Percentage | O18: 3 | P18: 1 | Q18: 1 | R18: 1 | S18: 1 | T18: 1 | U18: 1
... B23: BRL | C23: =_xlfn.XLOOKUP($B23,FD_Lists!$B$4:$B$25,FD_Lists!C$4:C$25) -> Bristol Water | D23: =_xlfn.XLOOKUP($B23,FD_Lists!$B$4:$B$25,FD_Lists!D$4:D$25) -> England | E23: =_xlfn.XLOOKUP($B23,FD_Lists!$B$4:$B$25,FD_Lists!E$4:E$25) -> Company | F23: =_xlfn.XLOOKUP($B23,FD_Lists!$B$4:$B$25,FD_Lists!F$4:F$25) -> WoC | G23: PCL | H23: OUT5_07_PR24 | I23: BRLOUT5_07_PR24 | J23: Totex | K23: Company view (DD) | L23: DIS | M23: Percentage compliance | N23: Percentage | O23: 3 | P23: 1 | Q23: 1 | R23: 1 | S23: 1 | T23: 1 | U23: 1
B25: END

Sheet PR19_PCLs
B2: =Overview!B2 &" - PR19 PCLs" -> Discharge Permit Compliance (DIS) - PR19 PCLs
B4: PR19 PCLs (these are aligned to PR19 definition)
B6: Company | C6: Company name | D6: Region | E6: Company | F6: WoC/WaSC | G6: Boncode | H6: Unique identifier | I6: PCL Code | J6: Measurement | K6: Units | L6: D.P | M6: 2020-21 | N6: 2021-22 | O6: 2022-23 | P6: 2023-24 | Q6: 2024-25
B7: ANH | C7: =_xlfn.XLOOKUP($B7,FD_Lists!$B$4:$B$25,FD_Lists!C$4:C$25) -> Anglian Water | D7: =_xlfn.XLOOKUP($B7,FD_Lists!$B$4:$B$25,FD_Lists!D$4:D$25) -> England | E7: =_xlfn.XLOOKUP($B7,FD_Lists!$B$4:$B$25,FD_Lists!E$4:E$25) -> Company | F7: =_xlfn.XLOOKUP($B7,FD_Lists!$B$4:$B$25,FD_Lists!F$4:F$25) -> WaSC | G7: x | H7: =B7&G7 -> ANHx | I7: DIS | J7: Percentage compliance | K7: Percentage | L7: 3 | M7: 1 | N7: 1 | O7: 1 | P7: 1 | Q7: 1
B8: WSH | C8: =_xlfn.XLOOKUP($B8,FD_Lists!$B$4:$B$25,FD_Lists!C$4:C$25) -> Dŵr Cymru | D8: =_xlfn.XLOOKUP($B8,FD_Lists!$B$4:$B$25,FD_Lists!D$4:D$25) -> Wales | E8: =_xlfn.XLOOKUP($B8,FD_Lists!$B$4:$B$25,FD_Lists!E$4:E$25) -> Company | F8: =_xlfn.XLOOKUP($B8,FD_Lists!$B$4:$B$25,FD_Lists!F$4:F$25) -> WaSC | G8: x | H8: =B8&G8 -> WSHx | I8: DIS | J8: Percentage compliance | K8: Percentage | L8: 3 | M8: 1 | N8: 1 | O8: 1 | P8: 1 | Q8: 1
B9: HDD | C9: =_xlfn.XLOOKUP($B9,FD_Lists!$B$4:$B$25,FD_Lists!C$4:C$25) -> Hafren Dyfrdwy | D9: =_xlfn.XLOOKUP($B9,FD_Lists!$B$4:$B$25,FD_Lists!D$4:D$25) -> Wales | E9: =_xlfn.XLOOKUP($B9,FD_Lists!$B$4:$B$25,FD_Lists!E$4:E$25) -> Company | F9: =_xlfn.XLOOKUP($B9,FD_Lists!$B$4:$B$25,FD_Lists!F$4:F$25) -> WaSC | G9: x | H9: =B9&G9 -> HDDx | I9: DIS | J9: Percentage compliance | K9: Percentage | L9: 3 | M9: 1 | N9: 1 | O9: 1 | P9: 1 | Q9: 1
B10: NES | C10: =_xlfn.XLOOKUP($B10,FD_Lists!$B$4:$B$25,FD_Lists!C$4:C$25) -> Northumbrian Water | D10: =_xlfn.XLOOKUP($B10,FD_Lists!$B$4:$B$25,FD_Lists!D$4:D$25) -> England | E10: =_xlfn.XLOOKUP($B10,FD_Lists!$B$4:$B$25,FD_Lists!E$4:E$25) -> Company | F10: =_xlfn.XLOOKUP($B10,FD_Lists!$B$4:$B$25,FD_Lists!F$4:F$25) -> WaSC | G10: x | H10: =B10&G10 -> NESx | I10: DIS | J10: Percentage compliance | K10: Percentage | L10: 3 | M10: 1 | N10: 1 | O10: 1 | P10: 1 | Q10: 1
B11: SVE | C11: =_xlfn.XLOOKUP($B11,FD_Lists!$B$4:$B$25,FD_Lists!C$4:C$25) -> Severn Trent Water | D11: =_xlfn.XLOOKUP($B11,FD_Lists!$B$4:$B$25,FD_Lists!D$4:D$25) -> England | E11: =_xlfn.XLOOKUP($B11,FD_Lists!$B$4:$B$25,FD_Lists!E$4:E$25) -> Company | F11: =_xlfn.XLOOKUP($B11,FD_Lists!$B$4:$B$25,FD_Lists!F$4:F$25) -> WaSC | G11: x | H11: =B11&G11 -> SVEx | I11: DIS | J11: Percentage compliance | K11: Percentage | L11: 3 | M11: 1 | N11: 1 | O11: 1 | P11: 1 | Q11: 1
B12: SRN | C12: =_xlfn.XLOOKUP($B12,FD_Lists!$B$4:$B$25,FD_Lists!C$4:C$25) -> Southern Water | D12: =_xlfn.XLOOKUP($B12,FD_Lists!$B$4:$B$25,FD_Lists!D$4:D$25) -> England | E12: =_xlfn.XLOOKUP($B12,FD_Lists!$B$4:$B$25,FD_Lists!E$4:E$25) -> Company | F12: =_xlfn.XLOOKUP($B12,FD_Lists!$B$4:$B$25,FD_Lists!F$4:F$25) -> WaSC | G12: x | H12: =B12&G12 -> SRNx | I12: DIS | J12: Percentage compliance | K12: Percentage | L12: 3 | M12: 1 | N12: 1 | O12: 1 | P12: 1 | Q12: 1
B13: TMS | C13: =_xlfn.XLOOKUP($B13,FD_Lists!$B$4:$B$25,FD_Lists!C$4:C$25) -> Thames Water | D13: =_xlfn.XLOOKUP($B13,FD_Lists!$B$4:$B$25,FD_Lists!D$4:D$25) -> England | E13: =_xlfn.XLOOKUP($B13,FD_Lists!$B$4:$B$25,FD_Lists!E$4:E$25) -> Company | F13: =_xlfn.XLOOKUP($B13,FD_Lists!$B$4:$B$25,FD_Lists!F$4:F$25) -> WaSC | G13: x | H13: =B13&G13 -> TMSx | I13: DIS | J13: Percentage compliance | K13: Percentage | L13: 3 | M13: 1 | N13: 1 | O13: 1 | P13: 1 | Q13: 1
B14: NWT | C14: =_xlfn.XLOOKUP($B14,FD_Lists!$B$4:$B$25,FD_Lists!C$4:C$25) -> United Utilities | D14: =_xlfn.XLOOKUP($B14,FD_Lists!$B$4:$B$25,FD_Lists!D$4:D$25) -> England | E14: =_xlfn.XLOOKUP($B14,FD_Lists!$B$4:$B$25,FD_Lists!E$4:E$25) -> Company | F14: =_xlfn.XLOOKUP($B14,FD_Lists!$B$4:$B$25,FD_Lists!F$4:F$25) -> WaSC | G14: x | H14: =B14&G14 -> NWTx | I14: DIS | J14: Percentage compliance | K14: Percentage | L14: 3 | M14: 1 | N14: 1 | O14: 1 | P14: 1 | Q14: 1
B15: WSX | C15: =_xlfn.XLOOKUP($B15,FD_Lists!$B$4:$B$25,FD_Lists!C$4:C$25) -> Wessex Water | D15: =_xlfn.XLOOKUP($B15,FD_Lists!$B$4:$B$25,FD_Lists!D$4:D$25) -> England | E15: =_xlfn.XLOOKUP($B15,FD_Lists!$B$4:$B$25,FD_Lists!E$4:E$25) -> Company | F15: =_xlfn.XLOOKUP($B15,FD_Lists!$B$4:$B$25,FD_Lists!F$4:F$25) -> WaSC | G15: x | H15: =B15&G15 -> WSXx | I15: DIS | J15: Percentage compliance | K15: Percentage | L15: 3 | M15: 1 | N15: 1 | O15: 1 | P15: 1 | Q15: 1
B16: YKY | C16: =_xlfn.XLOOKUP($B16,FD_Lists!$B$4:$B$25,FD_Lists!C$4:C$25) -> Yorkshire Water | D16: =_xlfn.XLOOKUP($B16,FD_Lists!$B$4:$B$25,FD_Lists!D$4:D$25) -> England | E16: =_xlfn.XLOOKUP($B16,FD_Lists!$B$4:$B$25,FD_Lists!E$4:E$25) -> Company | F16: =_xlfn.XLOOKUP($B16,FD_Lists!$B$4:$B$25,FD_Lists!F$4:F$25) -> WaSC | G16: x | H16: =B16&G16 -> YKYx | I16: DIS | J16: Percentage compliance | K16: Percentage | L16: 3 | M16: 1 | N16: 1 | O16: 1 | P16: 1 | Q16: 1
B17: AFW | C17: =_xlfn.XLOOKUP($B17,FD_Lists!$B$4:$B$25,FD_Lists!C$4:C$25) -> Affinity Water | D17: =_xlfn.XLOOKUP($B17,FD_Lists!$B$4:$B$25,FD_Lists!D$4:D$25) -> England | E17: =_xlfn.XLOOKUP($B17,FD_Lists!$B$4:$B$25,FD_Lists!E$4:E$25) -> Company | F17: =_xlfn.XLOOKUP($B17,FD_Lists!$B$4:$B$25,FD_Lists!F$4:F$25) -> WoC | G17: x | H17: =B17&G17 -> AFWx | I17: DIS | J17: Percentage compliance | K17: Percentage | L17: 3 | M17: ##BLANK | N17: ##BLANK | O17: ##BLANK | P17: ##BLANK | Q17: ##BLANK
B18: PRT | C18: =_xlfn.XLOOKUP($B18,FD_Lists!$B$4:$B$25,FD_Lists!C$4:C$25) -> Portsmouth Water | D18: =_xlfn.XLOOKUP($B18,FD_Lists!$B$4:$B$25,FD_Lists!D$4:D$25) -> England | E18: =_xlfn.XLOOKUP($B18,FD_Lists!$B$4:$B$25,FD_Lists!E$4:E$25) -> Company | F18: =_xlfn.XLOOKUP($B18,FD_Lists!$B$4:$B$25,FD_Lists!F$4:F$25) -> WoC | G18: x | H18: =B18&G18 -> PRTx | I18: DIS | J18: Percentage compliance | K18: Percentage | L18: 3 | M18: ##BLANK | N18: ##BLANK | O18: ##BLANK | P18: ##BLANK | Q18: ##BLANK
B19: SEW | C19: =_xlfn.XLOOKUP($B19,FD_Lists!$B$4:$B$25,FD_Lists!C$4:C$25) -> South East Water | D19: =_xlfn.XLOOKUP($B19,FD_Lists!$B$4:$B$25,FD_Lists!D$4:D$25) -> England | E19: =_xlfn.XLOOKUP($B19,FD_Lists!$B$4:$B$25,FD_Lists!E$4:E$25) -> Company | F19: =_xlfn.XLOOKUP($B19,FD_Lists!$B$4:$B$25,FD_Lists!F$4:F$25) -> WoC | G19: x | H19: =B19&G19 -> SEWx | I19: DIS | J19: Percentage compliance | K19: Percentage | L19: 3 | M19: ##BLANK | N19: ##BLANK | O19: ##BLANK | P19: ##BLANK | Q19: ##BLANK
B20: SSC | C20: =_xlfn.XLOOKUP($B20,FD_Lists!$B$4:$B$25,FD_Lists!C$4:C$25) -> South Staffordshire Water | D20: =_xlfn.XLOOKUP($B20,FD_Lists!$B$4:$B$25,FD_Lists!D$4:D$25) -> England | E20: =_xlfn.XLOOKUP($B20,FD_Lists!$B$4:$B$25,FD_Lists!E$4:E$25) -> Company | F20: =_xlfn.XLOOKUP($B20,FD_Lists!$B$4:$B$25,FD_Lists!F$4:F$25) -> WoC | G20: x | H20: =B20&G20 -> SSCx | I20: DIS | J20: Percentage compliance | K20: Percentage | L20: 3 | M20: ##BLANK | N20: ##BLANK | O20: ##BLANK | P20: ##BLANK | Q20: ##BLANK
B21: SES | C21: =_xlfn.XLOOKUP($B21,FD_Lists!$B$4:$B$25,FD_Lists!C$4:C$25) -> SES Water | D21: =_xlfn.XLOOKUP($B21,FD_Lists!$B$4:$B$25,FD_Lists!D$4:D$25) -> England | E21: =_xlfn.XLOOKUP($B21,FD_Lists!$B$4:$B$25,FD_Lists!E$4:E$25) -> Company | F21: =_xlfn.XLOOKUP($B21,FD_Lists!$B$4:$B$25,FD_Lists!F$4:F$25) -> WoC | G21: x | H21: =B21&G21 -> SESx | I21: DIS | J21: Percentage compliance | K21: Percentage | L21: 3 | M21: ##BLANK | N21: ##BLANK | O21: ##BLANK | P21: ##BLANK | Q21: ##BLANK
B22: SWB | C22: =_xlfn.XLOOKUP($B22,FD_Lists!$B$4:$B$25,FD_Lists!C$4:C$25) -> South West Water | D22: =_xlfn.XLOOKUP($B22,FD_Lists!$B$4:$B$25,FD_Lists!D$4:D$25) -> England | E22: =_xlfn.XLOOKUP($B22,FD_Lists!$B$4:$B$25,FD_Lists!E$4:E$25) -> Company | F22: =_xlfn.XLOOKUP($B22,FD_Lists!$B$4:$B$25,FD_Lists!F$4:F$25) -> WaSC | G22: x | H22: =B22&G22 -> SWBx | I22: DIS | J22: Percentage compliance | K22: Percentage | L22: 3 | M22: ##BLANK | N22: ##BLANK | O22: ##BLANK | P22: ##BLANK | Q22: ##BLANK
B23: BRL | C23: =_xlfn.XLOOKUP($B23,FD_Lists!$B$4:$B$25,FD_Lists!C$4:C$25) -> Bristol Water | D23: =_xlfn.XLOOKUP($B23,FD_Lists!$B$4:$B$25,FD_Lists!D$4:D$25) -> England | E23: =_xlfn.XLOOKUP($B23,FD_Lists!$B$4:$B$25,FD_Lists!E$4:E$25) -> Company | F23: =_xlfn.XLOOKUP($B23,FD_Lists!$B$4:$B$25,FD_Lists!F$4:F$25) -> WoC | G23: x | H23: =B23&G23 -> BRLx | I23: DIS | J23: Percentage compliance | K23: Percentage | L23: 3 | M23: ##BLANK | N23: ##BLANK | O23: ##BLANK | P23: ##BLANK | Q23: ##BLANK
B25: END

Sheet F_Inputs
C2: DIS_OFWAT_FD | E2: Run on 16 Oct 2024 16:26
A4: Company Acronym | B4: Item Code | C4: Item Description | D4: Item Unit | E4: Item Table Suite | F4: 2011-12 | G4: 2012-13 | H4: 2013-14 | I4: 2014-15 | J4: 2015-16 | K4: 2016-17 | L4: 2017-18 | M4: 2018-19 | N4: 2019-20 | O4: 2020-21 | P4: 2021-22 | Q4: 2022-23 | R4: 2023-24 | S4: 2024-25 | T4: 2025-26 | U4: 2026-27 | V4: 2027-28 | W4: 2028-29 | X4: 2029-30 | Y4: =A4&B4 -> Company AcronymItem Code
A5: Company Acronym | B5: Item Code | C5: Item Description | D5: Item Unit | E5: Item Table Suite | F5: Price Review 2024 | G5: Price Review 2024 | H5: Price Review 2024 | I5: Price Review 2024 | J5: Price Review 2024 | K5: Price Review 2024 | L5: Price Review 2024 | M5: Price Review 2024 | N5: Price Review 2024 | O5: Price Review 2024 | P5: Price Review 2024 | Q5: Price Review 2024 | R5: Price Review 2024 | S5: Price Review 2024 | T5: Price Review 2024 | U5: Price Review 2024 | V5: Price Review 2024 | W5: Price Review 2024 | X5: Price Review 2024 | Y5: =A5&B5 -> Company AcronymItem Code
A6: Company Acronym | B6: Item Code | C6: Item Description | D6: Item Unit | E6: Item Table Suite | F6: Run 11 - PR24 FD Data | G6: Run 11 - PR24 FD Data | H6: Run 11 - PR24 FD Data | I6: Run 11 - PR24 FD Data | J6: Run 11 - PR24 FD Data | K6: Run 11 - PR24 FD Data | L6: Run 11 - PR24 FD Data | M6: Run 11 - PR24 FD Data | N6: Run 11 - PR24 FD Data | O6: Run 11 - PR24 FD Data | P6: Run 11 - PR24 FD Data | Q6: Run 11 - PR24 FD Data | R6: Run 11 - PR24 FD Data | S6: Run 11 - PR24 FD Data | T6: Run 11 - PR24 FD Data | U6: Run 11 - PR24 FD Data | V6: Run 11 - PR24 FD Data | W6: Run 11 - PR24 FD Data | X6: Run 11 - PR24 FD Data | Y6: =A6&B6 -> Company AcronymItem Code
A7: Company Acronym | B7: Item Code | C7: Item Description | D7: Item Unit | E7: Item Table Suite | F7: Latest | G7: Latest | H7: Latest | I7: Latest | J7: Latest | K7: Latest | L7: Latest | M7: Latest | N7: Latest | O7: Latest | P7: Latest | Q7: Latest | R7: Latest | S7: Latest | T7: Latest | U7: Latest | V7: Latest | W7: Latest | X7: Latest | Y7: =A7&B7 -> Company AcronymItem Code
A8: ANH | B8: OUT5_07_PR24 | C8: Underlying calculations for common performance commitments - wastewater - Discharge permit compliance (wastewater) - Percentage compliance (wastewater) | D8: % | E8: Price Review 2024 | F8: 0.97087379 | G8: 0.98055556 | H8: 0.97493036 | I8: 0.98609179 | J8: 0.99038462 | K8: 0.99582173 | L8: 0.98885794 | M8: 0.98677249 | N8: 0.98809524 | O8: 0.99603175 | P8: 0.98143236 | Q8: 0.98670213 | R8: 0.98668442 | S8: 0.98668442 | T8: 1 | U8: 1 | V8: 1 | W8: 1 | X8: 1 | Y8: =A8&B8 -> ANHOUT5_07_PR24
A9: ANH | B9: OUT2_14_PR24 | C9: Outcome performance from base expenditure - Common PCs - Discharge permit compliance? | D9: % | E9: Price Review 2024 | T9: 1 | U9: 1 | V9: 1 | W9: 1 | X9: 1 | Y9: =A9&B9 -> ANHOUT2_14_PR24
A10: ANH | B10: OUT3_14_01_PR24 | C10: Outcome performance from enhancement expenditure - Common PCs - Discharge permit compliance? - Variance between the overall performance (OUT1) and the performance trend delivered | D10: % | E10: Price Review 2024 | Q10: 0.98566308 | R10: 0.98444976 | S10: 0.98444976 | T10: 0 | U10: 0 | V10: 0 | W10: 0 | X10: 0 | Y10: =A10&B10 -> ANHOUT3_14_01_PR24
A11: ANH | B11: OUT4_19_PR24 | C11: Underlying calculations for common performance commitments - water and combined - Discharge permit compliance - Percentage compliance | D11: % | E11: Price Review 2024 | F11: 0.96437659 | G11: 0.97073791 | H11: 0.97197452 | I11: 0.98348158 | J11: 0.9826087 | K11: 0.99119497 | L11: 0.98612863 | M11: 0.98212157 | N11: 0.9858156 | O11: 0.99292453 | P11: 0.98220641 | Q11: 0.98566308 | R11: 0.98444976 | S11: 0.98444976 | T11: 1 | U11: 1 | V11: 1 | W11: 1 | X11: 1 | Y11: =A11&B11 -> ANHOUT4_19_PR24
A12: WSH | B12: OUT5_07_PR24 | C12: Underlying calculations for common performance commitments - wastewater - Discharge permit compliance (wastewater) - Percentage compliance (wastewater) | D12: % | E12: Price Review 2024 | G12: 0.98641766 | H12: 0.97902098 | I12: 0.99125874 | J12: 0.98589065 | K12: 0.99470899 | L12: 0.98211091 | M12: 0.99642218 | N12: 0.9893617 | O12: 0.99644128 | P12: 0.98754448 | Q12: 0.98932384 | R12: 0.98579041 | S12: 0.98983051 | T12: 1 | U12: 1 | V12: 1 | W12: 1 | X12: 1 | Y12: =A12&B12 -> WSHOUT5_07_PR24
A13: WSH | B13: OUT2_14_PR24 | C13: Outcome performance from base expenditure - Common PCs - Discharge permit compliance? | D13: % | E13: Price Review 2024 | G13: 0.9706 | H13: 0.9636 | I13: 0.9775 | J13: 0.9709 | K13: 0.9903 | L13: 0.967 | M13: 0.9802 | N13: 0.9818 | O13: 0.9966 | P13: 0.9832 | Q13: 0.98504983 | R13: 0.9916388 | S13: 0.9916388 | T13: 1 | U13: 1 | V13: 1 | W13: 1 | X13: 0.99828 | Y13: =A13&B13 -> WSHOUT2_14_PR24
A14: WSH | B14: OUT3_14_01_PR24 | C14: Outcome performance from enhancement expenditure - Common PCs - Discharge permit compliance? - Variance between the overall performance (OUT1) and the performance trend delivered | D14: % | E14: Price Review 2024 | Q14: 0 | R14: -0.011539293 | S14: -0.0011777467 | T14: 0 | U14: 0 | V14: 0 | W14: 0 | X14: 0.00172 | Y14: =A14&B14 -> WSHOUT3_14_01_PR24
A15: WSH | B15: OUT4_19_PR24 | C15: Underlying calculations for common performance commitments - water and combined - Discharge permit compliance - Percentage compliance | D15: % | E15: Price Review 2024 | G15: 0.97063369 | H15: 0.96360759 | I15: 0.97752809 | J15: 0.97087379 | K15: 0.99029126 | L15: 0.9669967 | M15: 0.98019802 | N15: 0.98181818 | O15: 0.99664992 | P15: 0.98322148 | Q15: 0.98504983 | R15: 0.9800995 | S15: 0.99046105 | T15: 1 | U15: 1 | V15: 1 | W15: 1 | X15: 1 | Y15: =A15&B15 -> WSHOUT4_19_PR24
A16: HDD | B16: OUT5_07_PR24 | C16: Underlying calculations for common performance commitments - wastewater - Discharge permit compliance (wastewater) - Percentage compliance (wastewater) | D16: % | E16: Price Review 2024 | M16: 1 | N16: 1 | O16: 1 | P16: 0.97674419 | Q16: 0.97674419 | R16: 1 | S16: 1 | T16: 1 | U16: 1 | V16: 1 | W16: 1 | X16: 1 | Y16: =A16&B16 -> HDDOUT5_07_PR24
A17: HDD | B17: OUT2_14_PR24 | C17: Outcome performance from base expenditure - Common PCs - Discharge permit compliance? | D17: % | E17: Price Review 2024 | M17: 1 | N17: 1 | O17: 1 | P17: 0.9787 | Q17: 0.97826087 | R17: 1 | S17: 1 | T17: 1 | U17: 1 | V17: 1 | W17: 1 | X17: 1 | Y17: =A17&B17 -> HDDOUT2_14_PR24
A18: HDD | B18: OUT3_14_01_PR24 | C18: Outcome performance from enhancement expenditure - Common PCs - Discharge permit compliance? - Variance between the overall performance (OUT1) and the performance trend delivered | D18: % | E18: Price Review 2024 | Q18: 0 | R18: 0 | S18: 0 | T18: 0 | U18: 0 | V18: 0 | W18: 0 | X18: 0 | Y18: =A18&B18 -> HDDOUT3_14_01_PR24
A19: HDD | B19: OUT4_19_PR24 | C19: Underlying calculations for common performance commitments - water and combined - Discharge permit compliance - Percentage compliance | D19: % | E19: Price Review 2024 | F19: 1 | G19: 1 | H19: 1 | I19: 0.75 | J19: 1 | K19: 1 | L19: 1 | M19: 1 | N19: 1 | O19: 1 | P19: 0.9787234 | Q19: 0.97826087 | R19: 1 | S19: 1 | T19: 1 | U19: 1 | V19: 1 | W19: 1 | X19: 1 | Y19: =A19&B19 -> HDDOUT4_19_PR24
A20: NES | B20: OUT5_07_PR24 | C20: Underlying calculations for common performance commitments - wastewater - Discharge permit compliance (wastewater) - Percentage compliance (wastewater) | D20: % | E20: Price Review 2024 | L20: 0.98734177 | M20: 1 | N20: 0.96273292 | O20: 0.99378882 | P20: 0.98757764 | Q20: 0.99375 | R20: 0.98125 | S20: 0.98734177 | T20: 1 | U20: 1 | V20: 1 | W20: 1 | X20: 1 | Y20: =A20&B20 -> NESOUT5_07_PR24
A21: NES | B21: OUT2_14_PR24 | C21: Outcome performance from base expenditure - Common PCs - Discharge permit compliance? | D21: % | E21: Price Review 2024 | L21: 0.96 | M21: 0.995 | N21: 0.966 | O21: 0.9951 | P21: 0.9804 | Q21: 0.9853 | R21: 0.9854 | S21: 0.9854 | T21: 0.9949 | U21: 0.9949 | V21: 0.9949 | W21: 0.9949 | X21: 0.9949 | Y21: =A21&B21 -> NESOUT2_14_PR24
A22: NES | B22: OUT3_14_01_PR24 | C22: Outcome performance from enhancement expenditure - Common PCs - Discharge permit compliance? - Variance between the overall performance (OUT1) and the performance trend delivered | D22: % | E22: Price Review 2024 | Q22: -5.8823529e-06 | R22: 3.6893204e-05 | S22: 0.0047960784 | T22: 0.0051 | U22: 0.0051 | V22: 0.0051 | W22: 0.0051 | X22: 0.0051 | Y22: =A22&B22 -> NESOUT3_14_01_PR24
A23: NES | B23: OUT4_19_PR24 | C23: Underlying calculations for common performance commitments - water and combined - Discharge permit compliance - Percentage compliance | D23: % | E23: Price Review 2024 | L23: 0.96 | M23: 0.995 | N23: 0.96568627 | O23: 0.99512195 | P23: 0.98039216 | Q23: 0.98529412 | R23: 0.98543689 | S23: 0.99019608 | T23: 1 | U23: 1 | V23: 1 | W23: 1 | X23: 1 | Y23: =A23&B23 -> NESOUT4_19_PR24
A24: SVE | B24: OUT5_07_PR24 | C24: Underlying calculations for common performance commitments - wastewater - Discharge permit compliance (wastewater) - Percentage compliance (wastewater) | D24: % | E24: Price Review 2024 | L24: 0.99869792 | M24: 0.98603352 | N24: 0.99859944 | O24: 0.99717115 | P24: 0.99429387 | Q24: 0.99568966 | R24: 0.99568966 | S24: 0.99558174 | T24: 0.99558174 | U24: 0.99558824 | V24: 0.99562682 | W24: 0.99562682 | X24: 0.995671 | Y24: =A24&B24 -> SVEOUT5_07_PR24
A25: SVE | B25: OUT2_14_PR24 | C25: Outcome performance from base expenditure - Common PCs - Discharge permit compliance? | D25: % | E25: Price Review 2024 | G25: 0.991 | H25: 0.993 | I25: 0.999 | J25: 0.99 | K25: 0.996 | L25: 0.9963145 | M25: 0.98423127 | N25: 0.99605782 | O25: 0.99602649 | P25: 0.99332443 | Q25: 0.99327957 | R25: 0.9946 | S25: 0.99449794 | T25: 0.99449794 | U25: 0.99450549 | V25: 0.99455041 | W25: 0.99455041 | X25: 0.99460189 | Y25: =A25&B25 -> SVEOUT2_14_PR24
A26: SVE | B26: OUT3_14_01_PR24 | C26: Outcome performance from enhancement expenditure - Common PCs - Discharge permit compliance? - Variance between the overall performance (OUT1) and the performance trend delivered | D26: % | E26: Price Review 2024 | Q26: 0 | R26: 2.3655914e-05 | S26: 0 | T26: 0 | U26: 0 | V26: 0 | W26: 0 | X26: 0 | Y26: =A26&B26 -> SVEOUT3_14_01_PR24
A27: SVE | B27: OUT4_19_PR24 | C27: Underlying calculations for common performance commitments - water and combined - Discharge permit compliance - Percentage compliance | D27: % | E27: Price Review 2024 | L27: 0.9963145 | M27: 0.98423127 | N27: 0.99605782 | O27: 0.99602649 | P27: 0.99332443 | Q27: 0.99327957 | R27: 0.99462366 | S27: 0.99449794 | T27: 0.99449794 | U27: 0.99450549 | V27: 0.99455041 | W27: 0.99455041 | X27: 0.99460189 | Y27: =A27&B27 -> SVEOUT4_19_PR24
A28: SWB | B28: OUT5_07_PR24 | C28: Underlying calculations for common performance commitments - wastewater - Discharge permit compliance (wastewater) - Percentage compliance (wastewater) | D28: % | E28: Price Review 2024 | F28: 0.89802632 | G28: 0.97068404 | H28: 0.93137255 | I28: 0.96065574 | J28: 0.95765472 | K28: 0.98366013 | L28: 0.97039474 | M28: 0.98697068 | N28: 0.98688525 | O28: 0.99344262 | P28: 0.98032787 | Q28: 0.99344262 | R28: 0.96393443 | S28: 0.99013158 | T28: 1 | U28: 1 | V28: 1 | W28: 1 | X28: 1 | Y28: =A28&B28 -> SWBOUT5_07_PR24
A29: SWB | B29: OUT2_14_PR24 | C29: Outcome performance from base expenditure - Common PCs - Discharge permit compliance? | D29: % | E29: Price Review 2024 | F29: 89.03 | G29: 96.49 | H29: 93.27 | I29: 96.14 | J29: 95.53 | K29: 98.08 | L29: 97.1 | M29: 0.9872 | N29: 0.9871 | O29: 0.9904 | P29: 0.9746 | Q29: 0.9937 | R29: 0.96393443 | S29: 0.9904 | T29: 1 | U29: 1 | V29: 1 | W29: 1 | X29: 1 | Y29: =A29&B29 -> SWBOUT2_14_PR24
A30: SWB | B30: OUT3_14_01_PR24 | C30: Outcome performance from enhancement expenditure - Common PCs - Discharge permit compliance? - Variance between the overall performance (OUT1) and the performance trend delivered | D30: % | E30: Price Review 2024 | Q30: -4.9206349e-05 | R30: -0.0020296643 | S30: 4.5859873e-05 | T30: 0 | U30: 0 | V30: 0 | W30: 0 | X30: 0 | Y30: =A30&B30 -> SWBOUT3_14_01_PR24
A31: SWB | B31: OUT4_19_PR24 | C31: Underlying calculations for common performance commitments - water and combined - Discharge permit compliance - Percentage compliance | D31: % | E31: Price Review 2024 | F31: 0.89032258 | G31: 0.96485623 | H31: 0.93269231 | I31: 0.96141479 | J31: 0.95527157 | K31: 0.98076923 | L31: 0.97096774 | M31: 0.98722045 | N31: 0.98713826 | O31: 0.9903537 | P31: 0.97460317 | Q31: 0.99365079 | R31: 0.96190476 | S31: 0.99044586 | T31: 1 | U31: 1 | V31: 1 | W31: 1 | X31: 1 | Y31: =A31&B31 -> SWBOUT4_19_PR24
A32: SBB | B32: OUT5_07_PR24 | C32: Underlying calculations for common performance commitments - wastewater - Discharge permit compliance (wastewater) - Percentage compliance (wastewater) | D32: % | E32: Price Review 2024 | Y32: =A32&B32 -> SBBOUT5_07_PR24
A33: SBB | B33: OUT2_14_PR24 | C33: Outcome performance from base expenditure - Common PCs - Discharge permit compliance? | D33: % | E33: Price Review 2024 | Y33: =A33&B33 -> SBBOUT2_14_PR24
A34: SBB | B34: OUT3_14_01_PR24 | C34: Outcome performance from enhancement expenditure - Common PCs - Discharge permit compliance? - Variance between the overall performance (OUT1) and the performance trend delivered | D34: % | E34: Price Review 2024 | Y34: =A34&B34 -> SBBOUT3_14_01_PR24
A35: SBB | B35: OUT4_19_PR24 | C35: Underlying calculations for common performance commitments - water and combined - Discharge permit compliance - Percentage compliance | D35: % | E35: Price Review 2024 | Y35: =A35&B35 -> SBBOUT4_19_PR24
A36: SRN | B36: OUT5_07_PR24 | C36: Underlying calculations for common performance commitments - wastewater - Discharge permit compliance (wastewater) - Percentage compliance (wastewater) | D36: % | E36: Price Review 2024 | F36: 0.96028881 | G36: 0.9673913 | H36: 0.95973154 | I36: 0.98983051 | J36: 0.99312715 | K36: 0.99317406 | L36: 0.98381877 | M36: 0.99680511 | N36: 0.99367089 | O36: 0.96825397 | P36: 0.98095238 | Q36: 0.98083067 | R36: 0.99358974 | S36: 0.99038462 | T36: 0.99019608 | U36: 0.99019608 | V36: 0.99019608 | W36: 0.99016393 | X36: 0.99016393 | Y36: =A36&B36 -> SRNOUT5_07_PR24
A37: SRN | B37: OUT2_14_PR24 | C37: Outcome performance from base expenditure - Common PCs - Discharge permit compliance? | D37: % | E37: Price Review 2024 | F37: 0.9527027 | G37: 0.96283784 | H37: 0.95297806 | I37: 0.98101266 | J37: 0.98392283 | K37: 0.98722045 | L37: 0.98170732 | M37: 0.991 | N37: 0.988 | O37: 0.9706 | P37: 0.9794 | Q37: 0.98214286 | R37: 0.99107143 | S37: 0.99107143 | T37: 0.98538462 | U37: 0.97446407 | V37: 0.95800242 | W37: 0.92507914 | X37: 0.65663256 | Y37: =A37&B37 -> SRNOUT2_14_PR24
A38: SRN | B38: OUT3_14_01_PR24 | C38: Outcome performance from enhancement expenditure - Common PCs - Discharge permit compliance? - Variance between the overall performance (OUT1) and the performance trend delivered | D38: % | E38: Price Review 2024 | Q38: 0 | R38: 0.0029761905 | S38: 0 | T38: 0.0055244755 | U38: 0.016445023 | V38: 0.032906667 | W38: 0.065802323 | X38: 0.3342489 | Y38: =A38&B38 -> SRNOUT3_14_01_PR24
A39: SRN | B39: OUT4_19_PR24 | C39: Underlying calculations for common performance commitments - water and combined - Discharge permit compliance - Percentage compliance | D39: % | E39: Price Review 2024 | F39: 0.9527027 | G39: 0.96283784 | H39: 0.95297806 | I39: 0.98101266 | J39: 0.98392283 | K39: 0.98722045 | L39: 0.98170732 | M39: 0.99099099 | N39: 0.98809524 | O39: 0.97058824 | P39: 0.97941176 | Q39: 0.98214286 | R39: 0.99404762 | S39: 0.99107143 | T39: 0.99090909 | U39: 0.99090909 | V39: 0.99090909 | W39: 0.99088146 | X39: 0.99088146 | Y39: =A39&B39 -> SRNOUT4_19_PR24
A40: TMS | B40: OUT5_07_PR24 | C40: Underlying calculations for common performance commitments - wastewater - Discharge permit compliance (wastewater) - Percentage compliance (wastewater) | D40: % | E40: Price Review 2024 | F40: 0.99710145 | G40: 0.99130435 | H40: 0.95714286 | I40: 0.98850575 | J40: 0.99132948 | K40: 0.98280802 | L40: 0.99425287 | M40: 0.98853868 | N40: 0.99713467 | O40: 0.99713467 | P40: 0.99137931 | Q40: 0.99712644 | R40: 0.99137931 | S40: 0.98563218 | T40: 1 | U40: 1 | V40: 1 | W40: 1 | X40: 1 | Y40: =A40&B40 -> TMSOUT5_07_PR24
A41: TMS | B41: OUT2_14_PR24 | C41: Outcome performance from base expenditure - Common PCs - Discharge permit compliance? | D41: % | E41: Price Review 2024 | F41: 0.99472296 | G41: 0.99208443 | H41: 0.95572917 | I41: 0.98691099 | J41: 0.99210526 | K41: 0.97911227 | L41: 0.99477807 | M41: 0.98958333 | N41: 0.9974026 | O41: 0.9974026 | P41: 0.98958333 | Q41: 0.99479167 | R41: 0.9921875 | S41: 0.98697917 | T41: 1 | U41: 1 | V41: 1 | W41: 0.987 | X41: 0.987 | Y41: =A41&B41 -> TMSOUT2_14_PR24
A42: TMS | B42: OUT3_14_01_PR24 | C42: Outcome performance from enhancement expenditure - Common PCs - Discharge permit compliance? - Variance between the overall performance (OUT1) and the performance trend delivered | D42: % | E42: Price Review 2024 | Q42: 0 | R42: 0 | S42: 0 | T42: 0 | U42: 0 | V42: 0 | W42: 0.013 | X42: 0.013 | Y42: =A42&B42 -> TMSOUT3_14_01_PR24
A43: TMS | B43: OUT4_19_PR24 | C43: Underlying calculations for common performance commitments - water and combined - Discharge permit compliance - Percentage compliance | D43: % | E43: Price Review 2024 | F43: 0.99472296 | G43: 0.99208443 | H43: 0.95572917 | I43: 0.98691099 | J43: 0.99210526 | K43: 0.97911227 | L43: 0.99477807 | M43: 0.98958333 | N43: 0.9974026 | O43: 0.9974026 | P43: 0.98958333 | Q43: 0.99479167 | R43: 0.9921875 | S43: 0.98697917 | T43: 1 | U43: 1 | V43: 1 | W43: 1 | X43: 1 | Y43: =A43&B43 -> TMSOUT4_19_PR24
A44: NWT | B44: OUT5_07_PR24 | C44: Underlying calculations for common performance commitments - wastewater - Discharge permit compliance (wastewater) - Percentage compliance (wastewater) | D44: % | E44: Price Review 2024 | F44: 0.98611111 | G44: 0.99164345 | H44: 0.98607242 | I44: 0.98333333 | J44: 0.97206704 | K44: 0.98102981 | L44: 0.98930481 | M44: 0.98918919 | N44: 0.98387097 | O44: 1 | P44: 0.992 | Q44: 0.98395722 | R44: 0.98930481 | S44: 0.98930481 | T44: 1 | U44: 1 | V44: 1 | W44: 1 | X44: 1 | Y44: =A44&B44 -> NWTOUT5_07_PR24
A45: NWT | B45: OUT2_14_PR24 | C45: Outcome performance from base expenditure - Common PCs - Discharge permit compliance? | D45: % | E45: Price Review 2024 | F45: 0.98611111 | G45: 0.99164345 | H45: 0.98607242 | I45: 0.98333333 | J45: 0.97206704 | K45: 0.97374702 | L45: 0.98762376 | M45: 0.98737374 | N45: 0.98469388 | O45: 0.99748111 | P45: 0.98976982 | Q45: 0.9845 | R45: 1 | S45: 1 | T45: 1 | U45: 1 | V45: 0.9974 | W45: 0.9952 | X45: 0.9833 | Y45: =A45&B45 -> NWTOUT2_14_PR24
A46: NWT | B46: OUT3_14_01_PR24 | C46: Outcome performance from enhancement expenditure - Common PCs - Discharge permit compliance? - Variance between the overall performance (OUT1) and the performance trend delivered | D46: % | E46: Price Review 2024 | Q46: 3.6082474e-05 | R46: -0.010309278 | S46: -0.010309278 | T46: 0 | U46: 0 | V46: 0.0026 | W46: 0.0048 | X46: 0.0167 | Y46: =A46&B46 -> NWTOUT3_14_01_PR24
A47: NWT | B47: OUT4_19_PR24 | C47: Underlying calculations for common performance commitments - water and combined - Discharge permit compliance - Percentage compliance | D47: % | E47: Price Review 2024 | F47: 0.98611111 | G47: 0.99164345 | H47: 0.98607242 | I47: 0.98333333 | J47: 0.97206704 | K47: 0.97374702 | L47: 0.98762376 | M47: 0.98737374 | N47: 0.98469388 | O47: 0.99748111 | P47: 0.98976982 | Q47: 0.98453608 | R47: 0.98969072 | S47: 0.98969072 | T47: 1 | U47: 1 | V47: 1 | W47: 1 | X47: 1 | Y47: =A47&B47 -> NWTOUT4_19_PR24
A48: WSX | B48: OUT5_07_PR24 | C48: Underlying calculations for common performance commitments - wastewater - Discharge permit compliance (wastewater) - Percentage compliance (wastewater) | D48: % | E48: Price Review 2024 | F48: 0.99673203 | G48: 0.99671053 | H48: 0.99016393 | I48: 0.99667774 | J48: 0.99666667 | K48: 0.99326599 | L48: 0.99315068 | M48: 1 | N48: 0.98662207 | O48: 0.99665552 | P48: 1 | Q48: 0.99655172 | R48: 0.99310345 | S48: 0.99310345 | T48: 0.99312715 | U48: 0.99310345 | V48: 0.99310345 | W48: 0.99310345 | X48: 0.99310345 | Y48: =A48&B48 -> WSXOUT5_07_PR24
A49: WSX | B49: OUT2_14_PR24 | C49: Outcome performance from base expenditure - Common PCs - Discharge permit compliance? | D49: % | E49: Price Review 2024 | F49: 0.99673203 | G49: 0.99671053 | H49: 0.99016393 | I49: 0.99667774 | J49: 0.99666667 | K49: 0.99371069 | L49: 0.99019608 | M49: 1 | N49: 0.98461538 | O49: 0.99076923 | P49: 1 | Q49: 0.99350649 | R49: 0.9903 | S49: 0.9903 | T49: 0.9903 | U49: 0.9903 | V49: 0.9902 | W49: 0.9902 | X49: 0.9902 | Y49: =A49&B49 -> WSXOUT2_14_PR24
A50: WSX | B50: OUT3_14_01_PR24 | C50: Outcome performance from enhancement expenditure - Common PCs - Discharge permit compliance? - Variance between the overall performance (OUT1) and the performance trend delivered | D50: % | E50: Price Review 2024 | Q50: 0 | R50: -4.025974e-05 | S50: -4.025974e-05 | T50: -8.7378641e-06 | U50: -4.025974e-05 | V50: 2.8013029e-05 | W50: 2.8013029e-05 | X50: 2.8013029e-05 | Y50: =A50&B50 -> WSXOUT3_14_01_PR24
A51: WSX | B51: OUT4_19_PR24 | C51: Underlying calculations for common performance commitments - water and combined - Discharge permit compliance - Percentage compliance | D51: % | E51: Price Review 2024 | F51: 0.99673203 | G51: 0.99671053 | H51: 0.99016393 | I51: 0.99667774 | J51: 0.99666667 | K51: 0.99371069 | L51: 0.99019608 | M51: 1 | N51: 0.98461538 | O51: 0.99076923 | P51: 1 | Q51: 0.99350649 | R51: 0.99025974 | S51: 0.99025974 | T51: 0.99029126 | U51: 0.99025974 | V51: 0.99022801 | W51: 0.99022801 | X51: 0.99022801 | Y51: =A51&B51 -> WSXOUT4_19_PR24
A52: YKY | B52: OUT5_07_PR24 | C52: Underlying calculations for common performance commitments - wastewater - Discharge permit compliance (wastewater) - Percentage compliance (wastewater) | D52: % | E52: Price Review 2024 | F52: 0.97288136 | G52: 0.97278912 | H52: 0.97979798 | I52: 0.99331104 | J52: 0.99322034 | K52: 0.97651007 | L52: 0.97610922 | M52: 0.97610922 | N52: 0.9829932 | O52: 0.98976109 | P52: 0.98969072 | Q52: 0.99659864 | R52: 0.98979592 | S52: 0.98639456 | T52: 1 | U52: 1 | V52: 1 | W52: 1 | X52: 1 | Y52: =A52&B52 -> YKYOUT5_07_PR24
A53: YKY | B53: OUT2_14_PR24 | C53: Outcome performance from base expenditure - Common PCs - Discharge permit compliance? | D53: % | E53: Price Review 2024 | F53: 0.9729 | G53: 0.9728 | H53: 0.9798 | I53: 0.9933 | J53: 0.9932 | K53: 0.9765 | L53: 0.9761 | M53: 0.9761 | N53: 0.983 | O53: 0.9898 | P53: 0.9897 | Q53: 0.9966 | R53: 0.9898 | S53: 0.9864 | T53: 1 | U53: 1 | V53: 1 | W53: 1 | X53: 1 | Y53: =A53&B53 -> YKYOUT2_14_PR24
A54: YKY | B54: OUT3_14_01_PR24 | C54: Outcome performance from enhancement expenditure - Common PCs - Discharge permit compliance? - Variance between the overall performance (OUT1) and the performance trend delivered | D54: % | E54: Price Review 2024 | Q54: 0.00020511182 | R54: 0.00061533546 | S54: 0.00082044728 | T54: 0 | U54: 0 | V54: 0 | W54: 0 | X54: 0 | Y54: =A54&B54 -> YKYOUT3_14_01_PR24
A55: YKY | B55: OUT4_19_PR24 | C55: Underlying calculations for common performance commitments - water and combined - Discharge permit compliance - Percentage compliance | D55: % | E55: Price Review 2024 | F55: 0.97288136 | G55: 0.97278912 | H55: 0.97979798 | I55: 0.99331104 | J55: 0.99322034 | K55: 0.97169811 | L55: 0.97770701 | M55: 0.97452229 | N55: 0.97468354 | O55: 0.99038462 | P55: 0.99032258 | Q55: 0.99680511 | R55: 0.99041534 | S55: 0.98722045 | T55: 1 | U55: 1 | V55: 1 | W55: 1 | X55: 1 | Y55: =A55&B55 -> YKYOUT4_19_PR24
A56: AFW | B56: OUT5_07_PR24 | C56: Underlying calculations for common performance commitments - wastewater - Discharge permit compliance (wastewater) - Percentage compliance (wastewater) | D56: % | E56: Price Review 2024 | F56: 0 | G56: 0 | H56: 0 | I56: 0 | J56: 0 | K56: 0 | L56: 0 | M56: 0 | N56: 0 | O56: 0 | P56: 0 | Q56: 0 | R56: 0 | S56: 0 | T56: 0 | U56: 0 | V56: 0 | W56: 0 | X56: 0 | Y56: =A56&B56 -> AFWOUT5_07_PR24
A57: AFW | B57: OUT2_14_PR24 | C57: Outcome performance from base expenditure - Common PCs - Discharge permit compliance? | D57: % | E57: Price Review 2024 | O57: 0.97 | P57: 0.97 | Q57: 0.96774194 | R57: 1 | S57: 1 | T57: 1 | U57: 1 | V57: 1 | W57: 1 | X57: 1 | Y57: =A57&B57 -> AFWOUT2_14_PR24
A58: AFW | B58: OUT3_14_01_PR24 | C58: Outcome performance from enhancement expenditure - Common PCs - Discharge permit compliance? - Variance between the overall performance (OUT1) and the performance trend delivered | D58: % | E58: Price Review 2024 | Q58: 0 | R58: 0 | S58: 0 | T58: 0 | U58: 0 | V58: 0 | W58: 0 | X58: 0 | Y58: =A58&B58 -> AFWOUT3_14_01_PR24
A59: AFW | B59: OUT4_19_PR24 | C59: Underlying calculations for common performance commitments - water and combined - Discharge permit compliance - Percentage compliance | D59: % | E59: Price Review 2024 | F59: 1 | G59: 1 | H59: 1 | I59: 1 | J59: 1 | K59: 1 | L59: 1 | M59: 1 | N59: 1 | O59: 0.97619048 | P59: 0.96774194 | Q59: 0.96774194 | R59: 1 | S59: 1 | T59: 1 | U59: 1 | V59: 1 | W59: 1 | X59: 1 | Y59: =A59&B59 -> AFWOUT4_19_PR24
A60: BRL | B60: OUT5_07_PR24 | C60: Underlying calculations for common performance commitments - wastewater - Discharge permit compliance (wastewater) - Percentage compliance (wastewater) | D60: % | E60: Price Review 2024 | Y60: =A60&B60 -> BRLOUT5_07_PR24
A61: BRL | B61: OUT2_14_PR24 | C61: Outcome performance from base expenditure - Common PCs - Discharge permit compliance? | D61: % | E61: Price Review 2024 | N61: 1 | O61: 1 | P61: 1 | Q61: 1 | R61: 1 | S61: 1 | T61: 1 | U61: 1 | V61: 1 | W61: 1 | X61: 1 | Y61: =A61&B61 -> BRLOUT2_14_PR24
A62: BRL | B62: OUT3_14_01_PR24 | C62: Outcome performance from enhancement expenditure - Common PCs - Discharge permit compliance? - Variance between the overall performance (OUT1) and the performance trend delivered | D62: % | E62: Price Review 2024 | Q62: 0 | R62: 0 | S62: 0 | T62: 0 | U62: 0 | V62: 0 | W62: 0 | X62: 0 | Y62: =A62&B62 -> BRLOUT3_14_01_PR24
A63: BRL | B63: OUT4_19_PR24 | C63: Underlying calculations for common performance commitments - water and combined - Discharge permit compliance - Percentage compliance | D63: % | E63: Price Review 2024 | N63: 1 | O63: 1 | P63: 1 | Q63: 1 | R63: 1 | S63: 1 | T63: 1 | U63: 1 | V63: 1 | W63: 1 | X63: 1 | Y63: =A63&B63 -> BRLOUT4_19_PR24
A64: PRT | B64: OUT5_07_PR24 | C64: Underlying calculations for common performance commitments - wastewater - Discharge permit compliance (wastewater) - Percentage compliance (wastewater) | D64: % | E64: Price Review 2024 | Y64: =A64&B64 -> PRTOUT5_07_PR24
A65: PRT | B65: OUT2_14_PR24 | C65: Outcome performance from base expenditure - Common PCs - Discharge permit compliance? | D65: % | E65: Price Review 2024 | Q65: 1 | R65: 0.8333 | S65: 1 | T65: 1 | U65: 1 | V65: 1 | W65: 1 | X65: 1 | Y65: =A65&B65 -> PRTOUT2_14_PR24
A66: PRT | B66: OUT3_14_01_PR24 | C66: Outcome performance from enhancement expenditure - Common PCs - Discharge permit compliance? - Variance between the overall performance (OUT1) and the performance trend delivered | D66: % | E66: Price Review 2024 | Q66: 0 | R66: 3.3333333e-05 | S66: 0 | T66: 0 | U66: 0 | V66: 0 | W66: 0 | X66: 0 | Y66: =A66&B66 -> PRTOUT3_14_01_PR24
A67: PRT | B67: OUT4_19_PR24 | C67: Underlying calculations for common performance commitments - water and combined - Discharge permit compliance - Percentage compliance | D67: % | E67: Price Review 2024 | F67: 1 | G67: 1 | H67: 1 | I67: 1 | J67: 1 | K67: 1 | L67: 0.83333333 | M67: 1 | N67: 1 | O67: 1 | P67: 1 | Q67: 1 | R67: 0.83333333 | S67: 1 | T67: 1 | U67: 1 | V67: 1 | W67: 1 | X67: 1 | Y67: =A67&B67 -> PRTOUT4_19_PR24
A68: SEW | B68: OUT5_07_PR24 | C68: Underlying calculations for common performance commitments - wastewater - Discharge permit compliance (wastewater) - Percentage compliance (wastewater) | D68: % | E68: Price Review 2024 | Y68: =A68&B68 -> SEWOUT5_07_PR24
A69: SEW | B69: OUT2_14_PR24 | C69: Outcome performance from base expenditure - Common PCs - Discharge permit compliance? | D69: % | E69: Price Review 2024 | F69: 0 | G69: 0 | H69: 0.97368421 | I69: 0.92105263 | J69: 0.98684211 | K69: 0.93421053 | L69: 0.94736842 | M69: 0.96052632 | N69: 0.96052632 | O69: 0.98684211 | P69: 0.97368421 | Q69: 0.92105263 | R69: 0.92105263 | S69: 0.96052632 | T69: 0.98701299 | U69: 0.98701299 | V69: 0.98701299 | W69: 0.98701299 | X69: 0.98701299 | Y69: =A69&B69 -> SEWOUT2_14_PR24
A70: SEW | B70: OUT3_14_01_PR24 | C70: Outcome performance from enhancement expenditure - Common PCs - Discharge permit compliance? - Variance between the overall performance (OUT1) and the performance trend delivered | D70: % | E70: Price Review 2024 | Q70: 0 | R70: 0 | S70: 0 | T70: 0 | U70: 0 | V70: 0 | W70: 0 | X70: 0 | Y70: =A70&B70 -> SEWOUT3_14_01_PR24
A71: SEW | B71: OUT4_19_PR24 | C71: Underlying calculations for common performance commitments - water and combined - Discharge permit compliance - Percentage compliance | D71: % | E71: Price Review 2024 | H71: 0.97368421 | I71: 0.92105263 | J71: 0.98684211 | K71: 0.93421053 | L71: 0.94736842 | M71: 0.96052632 | N71: 0.96052632 | O71: 0.98684211 | P71: 0.97368421 | Q71: 0.92105263 | R71: 0.92105263 | S71: 0.96052632 | T71: 0.98701299 | U71: 0.98701299 | V71: 0.98701299 | W71: 0.98701299 | X71: 0.98701299 | Y71: =A71&B71 -> SEWOUT4_19_PR24
A72: SSC | B72: OUT5_07_PR24 | C72: Underlying calculations for common performance commitments - wastewater - Discharge permit compliance (wastewater) - Percentage compliance (wastewater) | D72: % | E72: Price Review 2024 | Y72: =A72&B72 -> SSCOUT5_07_PR24
A73: SSC | B73: OUT2_14_PR24 | C73: Outcome performance from base expenditure - Common PCs - Discharge permit compliance? | D73: % | E73: Price Review 2024 | N73: 0.93103448 | O73: 1 | P73: 0.86206897 | Q73: 0.86206897 | R73: 0.96551724 | S73: 1 | T73: 1 | U73: 1 | V73: 1 | W73: 1 | X73: 1 | Y73: =A73&B73 -> SSCOUT2_14_PR24
A74: SSC | B74: OUT3_14_01_PR24 | C74: Outcome performance from enhancement expenditure - Common PCs - Discharge permit compliance? - Variance between the overall performance (OUT1) and the performance trend delivered | D74: % | E74: Price Review 2024 | Q74: 0 | R74: 0 | S74: 0 | T74: 0 | U74: 0 | V74: 0 | W74: 0 | X74: 0 | Y74: =A74&B74 -> SSCOUT3_14_01_PR24
A75: SSC | B75: OUT4_19_PR24 | C75: Underlying calculations for common performance commitments - water and combined - Discharge permit compliance - Percentage compliance | D75: % | E75: Price Review 2024 | N75: 0.93103448 | O75: 1 | P75: 0.86206897 | Q75: 0.86206897 | R75: 0.96551724 | S75: 1 | T75: 1 | U75: 1 | V75: 1 | W75: 1 | X75: 1 | Y75: =A75&B75 -> SSCOUT4_19_PR24
A76: SES | B76: OUT5_07_PR24 | C76: Underlying calculations for common performance commitments - wastewater - Discharge permit compliance (wastewater) - Percentage compliance (wastewater) | D76: % | E76: Price Review 2024 | Y76: =A76&B76 -> SESOUT5_07_PR24
A77: SES | B77: OUT2_14_PR24 | C77: Outcome performance from base expenditure - Common PCs - Discharge permit compliance? | D77: % | E77: Price Review 2024 | H77: 1 | I77: 1 | J77: 1 | K77: 1 | L77: 1 | M77: 1 | N77: 1 | O77: 1 | P77: 1 | Q77: 1 | R77: 1 | S77: 1 | T77: 1 | U77: 1 | V77: 1 | W77: 1 | X77: 1 | Y77: =A77&B77 -> SESOUT2_14_PR24
A78: SES | B78: OUT3_14_01_PR24 | C78: Outcome performance from enhancement expenditure - Common PCs - Discharge permit compliance? - Variance between the overall performance (OUT1) and the performance trend delivered | D78: % | E78: Price Review 2024 | Q78: 0 | R78: 0 | S78: 0 | T78: 0 | U78: 0 | V78: 0 | W78: 0 | X78: 0 | Y78: =A78&B78 -> SESOUT3_14_01_PR24
A79: SES | B79: OUT4_19_PR24 | C79: Underlying calculations for common performance commitments - water and combined - Discharge permit compliance - Percentage compliance | D79: % | E79: Price Review 2024 | F79: 1 | G79: 1 | H79: 1 | I79: 1 | J79: 1 | K79: 1 | L79: 1 | M79: 1 | N79: 1 | O79: 1 | P79: 1 | Q79: 1 | R79: 1 | S79: 1 | T79: 1 | U79: 1 | V79: 1 | W79: 1 | X79: 1 | Y79: =A79&B79 -> SESOUT4_19_PR24
B81: END

Sheet F_Inputs_Formatted
B2: =Overview!B2 &" - data formatted" -> Discharge Permit Compliance (DIS) - data formatted
B4: Company | C4: Company name | D4: Region | E4: Company/Region | F4: WoC/WaSC | G4: Underlying calc | H4: Boncode | I4: Unique identifier | J4: Performance from | K4: Company FD view / Ofwat FD view | L4: PC code | M4: Measurement | N4: Units | O4: DP | P4: 2011-12 | Q4: 2012-13 | R4: 2013-14 | S4: 2014-15 | T4: 2015-16 | U4: 2016-17 | V4: 2017-18 | W4: 2018-19 | X4: 2019-20 | Y4: 2020-21 | Z4: 2021-22 | AA4: 2022-23 | AB4: 2023-24 | AC4: 2024-25 | AD4: 2025-26 | AE4: 2026-27 | AF4: 2027-28 | AG4: 2028-29 | AH4: 2029-30
B5: ANH | C5: =_xlfn.XLOOKUP($B5,FD_Lists!$B$4:$B$25,FD_Lists!C$4:C$25) -> Anglian Water | D5: =_xlfn.XLOOKUP($B5,FD_Lists!$B$4:$B$25,FD_Lists!D$4:D$25) -> England | E5: =_xlfn.XLOOKUP($B5,FD_Lists!$B$4:$B$25,FD_Lists!E$4:E$25) -> Company | F5: =_xlfn.XLOOKUP($B5,FD_Lists!$B$4:$B$25,FD_Lists!F$4:F$25) -> WaSC | G5: PCL Units | H5: OUT4_19_PR24 | I5: =B5&H5 -> ANHOUT4_19_PR24 | J5: Totex | K5: Company view (FD) | L5: DIS | M5: Percentage compliance | N5: Percentage | O5: 3 | P5: =IFERROR(ROUND(INDEX(F_Inputs!$A$4:$Y$103, MATCH(F_Inputs_Formatted!$B5&F_Inputs_Formatted!$H5,F_Inputs!$Y$4:$Y$103,0),MATCH(F_Inputs_Formatted!P$4,F_Inputs!$A$4:$Y$4,0)),$O5),"##BLANK") -> 0.964 | Q5: =IFERROR(ROUND(INDEX(F_Inputs!$A$4:$Y$103, MATCH(F_Inputs_Formatted!$B5&F_Inputs_Formatted!$H5,F_Inputs!$Y$4:$Y$103,0),MATCH(F_Inputs_Formatted!Q$4,F_Inputs!$A$4:$Y$4,0)),$O5),"##BLANK") -> 0.971 | R5: =IFERROR(ROUND(INDEX(F_Inputs!$A$4:$Y$103, MATCH(F_Inputs_Formatted!$B5&F_Inputs_Formatted!$H5,F_Inputs!$Y$4:$Y$103,0),MATCH(F_Inputs_Formatted!R$4,F_Inputs!$A$4:$Y$4,0)),$O5),"##BLANK") -> 0.972 | S5: =IFERROR(ROUND(INDEX(F_Inputs!$A$4:$Y$103, MATCH(F_Inputs_Formatted!$B5&F_Inputs_Formatted!$H5,F_Inputs!$Y$4:$Y$103,0),MATCH(F_Inputs_Formatted!S$4,F_Inputs!$A$4:$Y$4,0)),$O5),"##BLANK") -> 0.983 | T5: =IFERROR(ROUND(INDEX(F_Inputs!$A$4:$Y$103, MATCH(F_Inputs_Formatted!$B5&F_Inputs_Formatted!$H5,F_Inputs!$Y$4:$Y$103,0),MATCH(F_Inputs_Formatted!T$4,F_Inputs!$A$4:$Y$4,0)),$O5),"##BLANK") -> 0.983 | U5: =IFERROR(ROUND(INDEX(F_Inputs!$A$4:$Y$103, MATCH(F_Inputs_Formatted!$B5&F_Inputs_Formatted!$H5,F_Inputs!$Y$4:$Y$103,0),MATCH(F_Inputs_Formatted!U$4,F_Inputs!$A$4:$Y$4,0)),$O5),"##BLANK") -> 0.991 | V5: =IFERROR(ROUND(INDEX(F_Inputs!$A$4:$Y$103, MATCH(F_Inputs_Formatted!$B5&F_Inputs_Formatted!$H5,F_Inputs!$Y$4:$Y$103,0),MATCH(F_Inputs_Formatted!V$4,F_Inputs!$A$4:$Y$4,0)),$O5),"##BLANK") -> 0.986 | W5: =IFERROR(ROUND(INDEX(F_Inputs!$A$4:$Y$103, MATCH(F_Inputs_Formatted!$B5&F_Inputs_Formatted!$H5,F_Inputs!$Y$4:$Y$103,0),MATCH(F_Inputs_Formatted!W$4,F_Inputs!$A$4:$Y$4,0)),$O5),"##BLANK") -> 0.982 | ... AH5: =IFERROR(ROUND(INDEX(F_Inputs!$A$4:$Y$103, MATCH(F_Inputs_Formatted!$B5&F_Inputs_Formatted!$H5,F_Inputs!$Y$4:$Y$103,0),MATCH(F_Inputs_Formatted!AH$4,F_Inputs!$A$4:$Y$4,0)),$O5),"##BLANK") -> 1
B6: WSH | C6: =_xlfn.XLOOKUP($B6,FD_Lists!$B$4:$B$25,FD_Lists!C$4:C$25) -> Dŵr Cymru | D6: =_xlfn.XLOOKUP($B6,FD_Lists!$B$4:$B$25,FD_Lists!D$4:D$25) -> Wales | E6: =_xlfn.XLOOKUP($B6,FD_Lists!$B$4:$B$25,FD_Lists!E$4:E$25) -> Company | F6: =_xlfn.XLOOKUP($B6,FD_Lists!$B$4:$B$25,FD_Lists!F$4:F$25) -> WaSC | G6: PCL Units | H6: OUT4_19_PR24 | I6: =B6&H6 -> WSHOUT4_19_PR24 | J6: Totex | K6: Company view (FD) | L6: DIS | M6: Percentage compliance | N6: Percentage | O6: 3 | P6: =IFERROR(ROUND(INDEX(F_Inputs!$A$4:$Y$103, MATCH(F_Inputs_Formatted!$B6&F_Inputs_Formatted!$H6,F_Inputs!$Y$4:$Y$103,0),MATCH(F_Inputs_Formatted!P$4,F_Inputs!$A$4:$Y$4,0)),$O6),"##BLANK") -> ##BLANK | Q6: =IFERROR(ROUND(INDEX(F_Inputs!$A$4:$Y$103, MATCH(F_Inputs_Formatted!$B6&F_Inputs_Formatted!$H6,F_Inputs!$Y$4:$Y$103,0),MATCH(F_Inputs_Formatted!Q$4,F_Inputs!$A$4:$Y$4,0)),$O6),"##BLANK") -> 0.971 | R6: =IFERROR(ROUND(INDEX(F_Inputs!$A$4:$Y$103, MATCH(F_Inputs_Formatted!$B6&F_Inputs_Formatted!$H6,F_Inputs!$Y$4:$Y$103,0),MATCH(F_Inputs_Formatted!R$4,F_Inputs!$A$4:$Y$4,0)),$O6),"##BLANK") -> 0.964 | S6: =IFERROR(ROUND(INDEX(F_Inputs!$A$4:$Y$103, MATCH(F_Inputs_Formatted!$B6&F_Inputs_Formatted!$H6,F_Inputs!$Y$4:$Y$103,0),MATCH(F_Inputs_Formatted!S$4,F_Inputs!$A$4:$Y$4,0)),$O6),"##BLANK") -> 0.978 | T6: =IFERROR(ROUND(INDEX(F_Inputs!$A$4:$Y$103, MATCH(F_Inputs_Formatted!$B6&F_Inputs_Formatted!$H6,F_Inputs!$Y$4:$Y$103,0),MATCH(F_Inputs_Formatted!T$4,F_Inputs!$A$4:$Y$4,0)),$O6),"##BLANK") -> 0.971 | U6: =IFERROR(ROUND(INDEX(F_Inputs!$A$4:$Y$103, MATCH(F_Inputs_Formatted!$B6&F_Inputs_Formatted!$H6,F_Inputs!$Y$4:$Y$103,0),MATCH(F_Inputs_Formatted!U$4,F_Inputs!$A$4:$Y$4,0)),$O6),"##BLANK") -> 0.99 | V6: =IFERROR(ROUND(INDEX(F_Inputs!$A$4:$Y$103, MATCH(F_Inputs_Formatted!$B6&F_Inputs_Formatted!$H6,F_Inputs!$Y$4:$Y$103,0),MATCH(F_Inputs_Formatted!V$4,F_Inputs!$A$4:$Y$4,0)),$O6),"##BLANK") -> 0.967 | W6: =IFERROR(ROUND(INDEX(F_Inputs!$A$4:$Y$103, MATCH(F_Inputs_Formatted!$B6&F_Inputs_Formatted!$H6,F_Inputs!$Y$4:$Y$103,0),MATCH(F_Inputs_Formatted!W$4,F_Inputs!$A$4:$Y$4,0)),$O6),"##BLANK") -> 0.98 | ... AH6: =IFERROR(ROUND(INDEX(F_Inputs!$A$4:$Y$103, MATCH(F_Inputs_Formatted!$B6&F_Inputs_Formatted!$H6,F_Inputs!$Y$4:$Y$103,0),MATCH(F_Inputs_Formatted!AH$4,F_Inputs!$A$4:$Y$4,0)),$O6),"##BLANK") -> 1
B7: HDD | C7: =_xlfn.XLOOKUP($B7,FD_Lists!$B$4:$B$25,FD_Lists!C$4:C$25) -> Hafren Dyfrdwy | D7: =_xlfn.XLOOKUP($B7,FD_Lists!$B$4:$B$25,FD_Lists!D$4:D$25) -> Wales | E7: =_xlfn.XLOOKUP($B7,FD_Lists!$B$4:$B$25,FD_Lists!E$4:E$25) -> Company | F7: =_xlfn.XLOOKUP($B7,FD_Lists!$B$4:$B$25,FD_Lists!F$4:F$25) -> WaSC | G7: PCL Units | H7: OUT4_19_PR24 | I7: =B7&H7 -> HDDOUT4_19_PR24 | J7: Totex | K7: Company view (FD) | L7: DIS | M7: Percentage compliance | N7: Percentage | O7: 3 | P7: =IFERROR(ROUND(INDEX(F_Inputs!$A$4:$Y$103, MATCH(F_Inputs_Formatted!$B7&F_Inputs_Formatted!$H7,F_Inputs!$Y$4:$Y$103,0),MATCH(F_Inputs_Formatted!P$4,F_Inputs!$A$4:$Y$4,0)),$O7),"##BLANK") -> 1 | Q7: =IFERROR(ROUND(INDEX(F_Inputs!$A$4:$Y$103, MATCH(F_Inputs_Formatted!$B7&F_Inputs_Formatted!$H7,F_Inputs!$Y$4:$Y$103,0),MATCH(F_Inputs_Formatted!Q$4,F_Inputs!$A$4:$Y$4,0)),$O7),"##BLANK") -> 1 | R7: =IFERROR(ROUND(INDEX(F_Inputs!$A$4:$Y$103, MATCH(F_Inputs_Formatted!$B7&F_Inputs_Formatted!$H7,F_Inputs!$Y$4:$Y$103,0),MATCH(F_Inputs_Formatted!R$4,F_Inputs!$A$4:$Y$4,0)),$O7),"##BLANK") -> 1 | S7: =IFERROR(ROUND(INDEX(F_Inputs!$A$4:$Y$103, MATCH(F_Inputs_Formatted!$B7&F_Inputs_Formatted!$H7,F_Inputs!$Y$4:$Y$103,0),MATCH(F_Inputs_Formatted!S$4,F_Inputs!$A$4:$Y$4,0)),$O7),"##BLANK") -> 0.75 | T7: =IFERROR(ROUND(INDEX(F_Inputs!$A$4:$Y$103, MATCH(F_Inputs_Formatted!$B7&F_Inputs_Formatted!$H7,F_Inputs!$Y$4:$Y$103,0),MATCH(F_Inputs_Formatted!T$4,F_Inputs!$A$4:$Y$4,0)),$O7),"##BLANK") -> 1 | U7: =IFERROR(ROUND(INDEX(F_Inputs!$A$4:$Y$103, MATCH(F_Inputs_Formatted!$B7&F_Inputs_Formatted!$H7,F_Inputs!$Y$4:$Y$103,0),MATCH(F_Inputs_Formatted!U$4,F_Inputs!$A$4:$Y$4,0)),$O7),"##BLANK") -> 1 | V7: =IFERROR(ROUND(INDEX(F_Inputs!$A$4:$Y$103, MATCH(F_Inputs_Formatted!$B7&F_Inputs_Formatted!$H7,F_Inputs!$Y$4:$Y$103,0),MATCH(F_Inputs_Formatted!V$4,F_Inputs!$A$4:$Y$4,0)),$O7),"##BLANK") -> 1 | W7: =IFERROR(ROUND(INDEX(F_Inputs!$A$4:$Y$103, MATCH(F_Inputs_Formatted!$B7&F_Inputs_Formatted!$H7,F_Inputs!$Y$4:$Y$103,0),MATCH(F_Inputs_Formatted!W$4,F_Inputs!$A$4:$Y$4,0)),$O7),"##BLANK") -> 1 | ... AH7: =IFERROR(ROUND(INDEX(F_Inputs!$A$4:$Y$103, MATCH(F_Inputs_Formatted!$B7&F_Inputs_Formatted!$H7,F_Inputs!$Y$4:$Y$103,0),MATCH(F_Inputs_Formatted!AH$4,F_Inputs!$A$4:$Y$4,0)),$O7),"##BLANK") -> 1
B8: NES | C8: =_xlfn.XLOOKUP($B8,FD_Lists!$B$4:$B$25,FD_Lists!C$4:C$25) -> Northumbrian Water | D8: =_xlfn.XLOOKUP($B8,FD_Lists!$B$4:$B$25,FD_Lists!D$4:D$25) -> England | E8: =_xlfn.XLOOKUP($B8,FD_Lists!$B$4:$B$25,FD_Lists!E$4:E$25) -> Company | F8: =_xlfn.XLOOKUP($B8,FD_Lists!$B$4:$B$25,FD_Lists!F$4:F$25) -> WaSC | G8: PCL Units | H8: OUT4_19_PR24 | I8: =B8&H8 -> NESOUT4_19_PR24 | J8: Totex | K8: Company view (FD) | L8: DIS | M8: Percentage compliance | N8: Percentage | O8: 3 | P8: =IFERROR(ROUND(INDEX(F_Inputs!$A$4:$Y$103, MATCH(F_Inputs_Formatted!$B8&F_Inputs_Formatted!$H8,F_Inputs!$Y$4:$Y$103,0),MATCH(F_Inputs_Formatted!P$4,F_Inputs!$A$4:$Y$4,0)),$O8),"##BLANK") -> ##BLANK | Q8: =IFERROR(ROUND(INDEX(F_Inputs!$A$4:$Y$103, MATCH(F_Inputs_Formatted!$B8&F_Inputs_Formatted!$H8,F_Inputs!$Y$4:$Y$103,0),MATCH(F_Inputs_Formatted!Q$4,F_Inputs!$A$4:$Y$4,0)),$O8),"##BLANK") -> ##BLANK | R8: =IFERROR(ROUND(INDEX(F_Inputs!$A$4:$Y$103, MATCH(F_Inputs_Formatted!$B8&F_Inputs_Formatted!$H8,F_Inputs!$Y$4:$Y$103,0),MATCH(F_Inputs_Formatted!R$4,F_Inputs!$A$4:$Y$4,0)),$O8),"##BLANK") -> ##BLANK | S8: =IFERROR(ROUND(INDEX(F_Inputs!$A$4:$Y$103, MATCH(F_Inputs_Formatted!$B8&F_Inputs_Formatted!$H8,F_Inputs!$Y$4:$Y$103,0),MATCH(F_Inputs_Formatted!S$4,F_Inputs!$A$4:$Y$4,0)),$O8),"##BLANK") -> ##BLANK | T8: =IFERROR(ROUND(INDEX(F_Inputs!$A$4:$Y$103, MATCH(F_Inputs_Formatted!$B8&F_Inputs_Formatted!$H8,F_Inputs!$Y$4:$Y$103,0),MATCH(F_Inputs_Formatted!T$4,F_Inputs!$A$4:$Y$4,0)),$O8),"##BLANK") -> ##BLANK | U8: =IFERROR(ROUND(INDEX(F_Inputs!$A$4:$Y$103, MATCH(F_Inputs_Formatted!$B8&F_Inputs_Formatted!$H8,F_Inputs!$Y$4:$Y$103,0),MATCH(F_Inputs_Formatted!U$4,F_Inputs!$A$4:$Y$4,0)),$O8),"##BLANK") -> ##BLANK | V8: =IFERROR(ROUND(INDEX(F_Inputs!$A$4:$Y$103, MATCH(F_Inputs_Formatted!$B8&F_Inputs_Formatted!$H8,F_Inputs!$Y$4:$Y$103,0),MATCH(F_Inputs_Formatted!V$4,F_Inputs!$A$4:$Y$4,0)),$O8),"##BLANK") -> 0.96 | W8: =IFERROR(ROUND(INDEX(F_Inputs!$A$4:$Y$103, MATCH(F_Inputs_Formatted!$B8&F_Inputs_Formatted!$H8,F_Inputs!$Y$4:$Y$103,0),MATCH(F_Inputs_Formatted!W$4,F_Inputs!$A$4:$Y$4,0)),$O8),"##BLANK") -> 0.995 | ... AH8: =IFERROR(ROUND(INDEX(F_Inputs!$A$4:$Y$103, MATCH(F_Inputs_Formatted!$B8&F_Inputs_Formatted!$H8,F_Inputs!$Y$4:$Y$103,0),MATCH(F_Inputs_Formatted!AH$4,F_Inputs!$A$4:$Y$4,0)),$O8),"##BLANK") -> 1
B9: SVE | C9: =_xlfn.XLOOKUP($B9,FD_Lists!$B$4:$B$25,FD_Lists!C$4:C$25) -> Severn Trent Water | D9: =_xlfn.XLOOKUP($B9,FD_Lists!$B$4:$B$25,FD_Lists!D$4:D$25) -> England | E9: =_xlfn.XLOOKUP($B9,FD_Lists!$B$4:$B$25,FD_Lists!E$4:E$25) -> Company | F9: =_xlfn.XLOOKUP($B9,FD_Lists!$B$4:$B$25,FD_Lists!F$4:F$25) -> WaSC | G9: PCL Units | H9: OUT4_19_PR24 | I9: =B9&H9 -> SVEOUT4_19_PR24 | J9: Totex | K9: Company view (FD) | L9: DIS | M9: Percentage compliance | N9: Percentage | O9: 3 | P9: =IFERROR(ROUND(INDEX(F_Inputs!$A$4:$Y$103, MATCH(F_Inputs_Formatted!$B9&F_Inputs_Formatted!$H9,F_Inputs!$Y$4:$Y$103,0),MATCH(F_Inputs_Formatted!P$4,F_Inputs!$A$4:$Y$4,0)),$O9),"##BLANK") -> ##BLANK | Q9: =IFERROR(ROUND(INDEX(F_Inputs!$A$4:$Y$103, MATCH(F_Inputs_Formatted!$B9&F_Inputs_Formatted!$H9,F_Inputs!$Y$4:$Y$103,0),MATCH(F_Inputs_Formatted!Q$4,F_Inputs!$A$4:$Y$4,0)),$O9),"##BLANK") -> ##BLANK | R9: =IFERROR(ROUND(INDEX(F_Inputs!$A$4:$Y$103, MATCH(F_Inputs_Formatted!$B9&F_Inputs_Formatted!$H9,F_Inputs!$Y$4:$Y$103,0),MATCH(F_Inputs_Formatted!R$4,F_Inputs!$A$4:$Y$4,0)),$O9),"##BLANK") -> ##BLANK | S9: =IFERROR(ROUND(INDEX(F_Inputs!$A$4:$Y$103, MATCH(F_Inputs_Formatted!$B9&F_Inputs_Formatted!$H9,F_Inputs!$Y$4:$Y$103,0),MATCH(F_Inputs_Formatted!S$4,F_Inputs!$A$4:$Y$4,0)),$O9),"##BLANK") -> ##BLANK | T9: =IFERROR(ROUND(INDEX(F_Inputs!$A$4:$Y$103, MATCH(F_Inputs_Formatted!$B9&F_Inputs_Formatted!$H9,F_Inputs!$Y$4:$Y$103,0),MATCH(F_Inputs_Formatted!T$4,F_Inputs!$A$4:$Y$4,0)),$O9),"##BLANK") -> ##BLANK | U9: =IFERROR(ROUND(INDEX(F_Inputs!$A$4:$Y$103, MATCH(F_Inputs_Formatted!$B9&F_Inputs_Formatted!$H9,F_Inputs!$Y$4:$Y$103,0),MATCH(F_Inputs_Formatted!U$4,F_Inputs!$A$4:$Y$4,0)),$O9),"##BLANK") -> ##BLANK | V9: =IFERROR(ROUND(INDEX(F_Inputs!$A$4:$Y$103, MATCH(F_Inputs_Formatted!$B9&F_Inputs_Formatted!$H9,F_Inputs!$Y$4:$Y$103,0),MATCH(F_Inputs_Formatted!V$4,F_Inputs!$A$4:$Y$4,0)),$O9),"##BLANK") -> 0.996 | W9: =IFERROR(ROUND(INDEX(F_Inputs!$A$4:$Y$103, MATCH(F_Inputs_Formatted!$B9&F_Inputs_Formatted!$H9,F_Inputs!$Y$4:$Y$103,0),MATCH(F_Inputs_Formatted!W$4,F_Inputs!$A$4:$Y$4,0)),$O9),"##BLANK") -> 0.984 | ... AH9: =IFERROR(ROUND(INDEX(F_Inputs!$A$4:$Y$103, MATCH(F_Inputs_Formatted!$B9&F_Inputs_Formatted!$H9,F_Inputs!$Y$4:$Y$103,0),MATCH(F_Inputs_Formatted!AH$4,F_Inputs!$A$4:$Y$4,0)),$O9),"##BLANK") -> 0.995
B10: SRN | C10: =_xlfn.XLOOKUP($B10,FD_Lists!$B$4:$B$25,FD_Lists!C$4:C$25) -> Southern Water | D10: =_xlfn.XLOOKUP($B10,FD_Lists!$B$4:$B$25,FD_Lists!D$4:D$25) -> England | E10: =_xlfn.XLOOKUP($B10,FD_Lists!$B$4:$B$25,FD_Lists!E$4:E$25) -> Company | F10: =_xlfn.XLOOKUP($B10,FD_Lists!$B$4:$B$25,FD_Lists!F$4:F$25) -> WaSC | G10: PCL Units | H10: OUT4_19_PR24 | I10: =B10&H10 -> SRNOUT4_19_PR24 | J10: Totex | K10: Company view (FD) | L10: DIS | M10: Percentage compliance | N10: Percentage | O10: 3 | P10: =IFERROR(ROUND(INDEX(F_Inputs!$A$4:$Y$103, MATCH(F_Inputs_Formatted!$B10&F_Inputs_Formatted!$H10,F_Inputs!$Y$4:$Y$103,0),MATCH(F_Inputs_Formatted!P$4,F_Inputs!$A$4:$Y$4,0)),$O10),"##BLANK") -> 0.953 | Q10: =IFERROR(ROUND(INDEX(F_Inputs!$A$4:$Y$103, MATCH(F_Inputs_Formatted!$B10&F_Inputs_Formatted!$H10,F_Inputs!$Y$4:$Y$103,0),MATCH(F_Inputs_Formatted!Q$4,F_Inputs!$A$4:$Y$4,0)),$O10),"##BLANK") -> 0.963 | R10: =IFERROR(ROUND(INDEX(F_Inputs!$A$4:$Y$103, MATCH(F_Inputs_Formatted!$B10&F_Inputs_Formatted!$H10,F_Inputs!$Y$4:$Y$103,0),MATCH(F_Inputs_Formatted!R$4,F_Inputs!$A$4:$Y$4,0)),$O10),"##BLANK") -> 0.953 | S10: =IFERROR(ROUND(INDEX(F_Inputs!$A$4:$Y$103, MATCH(F_Inputs_Formatted!$B10&F_Inputs_Formatted!$H10,F_Inputs!$Y$4:$Y$103,0),MATCH(F_Inputs_Formatted!S$4,F_Inputs!$A$4:$Y$4,0)),$O10),"##BLANK") -> 0.981 | T10: =IFERROR(ROUND(INDEX(F_Inputs!$A$4:$Y$103, MATCH(F_Inputs_Formatted!$B10&F_Inputs_Formatted!$H10,F_Inputs!$Y$4:$Y$103,0),MATCH(F_Inputs_Formatted!T$4,F_Inputs!$A$4:$Y$4,0)),$O10),"##BLANK") -> 0.984 | U10: =IFERROR(ROUND(INDEX(F_Inputs!$A$4:$Y$103, MATCH(F_Inputs_Formatted!$B10&F_Inputs_Formatted!$H10,F_Inputs!$Y$4:$Y$103,0),MATCH(F_Inputs_Formatted!U$4,F_Inputs!$A$4:$Y$4,0)),$O10),"##BLANK") -> 0.987 | V10: =IFERROR(ROUND(INDEX(F_Inputs!$A$4:$Y$103, MATCH(F_Inputs_Formatted!$B10&F_Inputs_Formatted!$H10,F_Inputs!$Y$4:$Y$103,0),MATCH(F_Inputs_Formatted!V$4,F_Inputs!$A$4:$Y$4,0)),$O10),"##BLANK") -> 0.982 | W10: =IFERROR(ROUND(INDEX(F_Inputs!$A$4:$Y$103, MATCH(F_Inputs_Formatted!$B10&F_Inputs_Formatted!$H10,F_Inputs!$Y$4:$Y$103,0),MATCH(F_Inputs_Formatted!W$4,F_Inputs!$A$4:$Y$4,0)),$O10),"##BLANK") -> 0.991 | ... AH10: =IFERROR(ROUND(INDEX(F_Inputs!$A$4:$Y$103, MATCH(F_Inputs_Formatted!$B10&F_Inputs_Formatted!$H10,F_Inputs!$Y$4:$Y$103,0),MATCH(F_Inputs_Formatted!AH$4,F_Inputs!$A$4:$Y$4,0)),$O10),"##BLANK") -> 0.991
B11: TMS | C11: =_xlfn.XLOOKUP($B11,FD_Lists!$B$4:$B$25,FD_Lists!C$4:C$25) -> Thames Water | D11: =_xlfn.XLOOKUP($B11,FD_Lists!$B$4:$B$25,FD_Lists!D$4:D$25) -> England | E11: =_xlfn.XLOOKUP($B11,FD_Lists!$B$4:$B$25,FD_Lists!E$4:E$25) -> Company | F11: =_xlfn.XLOOKUP($B11,FD_Lists!$B$4:$B$25,FD_Lists!F$4:F$25) -> WaSC | G11: PCL Units | H11: OUT4_19_PR24 | I11: =B11&H11 -> TMSOUT4_19_PR24 | J11: Totex | K11: Company view (FD) | L11: DIS | M11: Percentage compliance | N11: Percentage | O11: 3 | P11: =IFERROR(ROUND(INDEX(F_Inputs!$A$4:$Y$103, MATCH(F_Inputs_Formatted!$B11&F_Inputs_Formatted!$H11,F_Inputs!$Y$4:$Y$103,0),MATCH(F_Inputs_Formatted!P$4,F_Inputs!$A$4:$Y$4,0)),$O11),"##BLANK") -> 0.995 | Q11: =IFERROR(ROUND(INDEX(F_Inputs!$A$4:$Y$103, MATCH(F_Inputs_Formatted!$B11&F_Inputs_Formatted!$H11,F_Inputs!$Y$4:$Y$103,0),MATCH(F_Inputs_Formatted!Q$4,F_Inputs!$A$4:$Y$4,0)),$O11),"##BLANK") -> 0.992 | R11: =IFERROR(ROUND(INDEX(F_Inputs!$A$4:$Y$103, MATCH(F_Inputs_Formatted!$B11&F_Inputs_Formatted!$H11,F_Inputs!$Y$4:$Y$103,0),MATCH(F_Inputs_Formatted!R$4,F_Inputs!$A$4:$Y$4,0)),$O11),"##BLANK") -> 0.956 | S11: =IFERROR(ROUND(INDEX(F_Inputs!$A$4:$Y$103, MATCH(F_Inputs_Formatted!$B11&F_Inputs_Formatted!$H11,F_Inputs!$Y$4:$Y$103,0),MATCH(F_Inputs_Formatted!S$4,F_Inputs!$A$4:$Y$4,0)),$O11),"##BLANK") -> 0.987 | T11: =IFERROR(ROUND(INDEX(F_Inputs!$A$4:$Y$103, MATCH(F_Inputs_Formatted!$B11&F_Inputs_Formatted!$H11,F_Inputs!$Y$4:$Y$103,0),MATCH(F_Inputs_Formatted!T$4,F_Inputs!$A$4:$Y$4,0)),$O11),"##BLANK") -> 0.992 | U11: =IFERROR(ROUND(INDEX(F_Inputs!$A$4:$Y$103, MATCH(F_Inputs_Formatted!$B11&F_Inputs_Formatted!$H11,F_Inputs!$Y$4:$Y$103,0),MATCH(F_Inputs_Formatted!U$4,F_Inputs!$A$4:$Y$4,0)),$O11),"##BLANK") -> 0.979 | V11: =IFERROR(ROUND(INDEX(F_Inputs!$A$4:$Y$103, MATCH(F_Inputs_Formatted!$B11&F_Inputs_Formatted!$H11,F_Inputs!$Y$4:$Y$103,0),MATCH(F_Inputs_Formatted!V$4,F_Inputs!$A$4:$Y$4,0)),$O11),"##BLANK") -> 0.995 | W11: =IFERROR(ROUND(INDEX(F_Inputs!$A$4:$Y$103, MATCH(F_Inputs_Formatted!$B11&F_Inputs_Formatted!$H11,F_Inputs!$Y$4:$Y$103,0),MATCH(F_Inputs_Formatted!W$4,F_Inputs!$A$4:$Y$4,0)),$O11),"##BLANK") -> 0.99 | ... AH11: =IFERROR(ROUND(INDEX(F_Inputs!$A$4:$Y$103, MATCH(F_Inputs_Formatted!$B11&F_Inputs_Formatted!$H11,F_Inputs!$Y$4:$Y$103,0),MATCH(F_Inputs_Formatted!AH$4,F_Inputs!$A$4:$Y$4,0)),$O11),"##BLANK") -> 1
A12: UUW | B12: NWT | C12: =_xlfn.XLOOKUP($B12,FD_Lists!$B$4:$B$25,FD_Lists!C$4:C$25) -> United Utilities | D12: =_xlfn.XLOOKUP($B12,FD_Lists!$B$4:$B$25,FD_Lists!D$4:D$25) -> England | E12: =_xlfn.XLOOKUP($B12,FD_Lists!$B$4:$B$25,FD_Lists!E$4:E$25) -> Company | F12: =_xlfn.XLOOKUP($B12,FD_Lists!$B$4:$B$25,FD_Lists!F$4:F$25) -> WaSC | G12: PCL Units | H12: OUT4_19_PR24 | I12: =B12&H12 -> NWTOUT4_19_PR24 | J12: Totex | K12: Company view (FD) | L12: DIS | M12: Percentage compliance | N12: Percentage | O12: 3 | P12: =IFERROR(ROUND(INDEX(F_Inputs!$A$4:$Y$103, MATCH(F_Inputs_Formatted!$B12&F_Inputs_Formatted!$H12,F_Inputs!$Y$4:$Y$103,0),MATCH(F_Inputs_Formatted!P$4,F_Inputs!$A$4:$Y$4,0)),$O12),"##BLANK") -> 0.986 | Q12: =IFERROR(ROUND(INDEX(F_Inputs!$A$4:$Y$103, MATCH(F_Inputs_Formatted!$B12&F_Inputs_Formatted!$H12,F_Inputs!$Y$4:$Y$103,0),MATCH(F_Inputs_Formatted!Q$4,F_Inputs!$A$4:$Y$4,0)),$O12),"##BLANK") -> 0.992 | R12: =IFERROR(ROUND(INDEX(F_Inputs!$A$4:$Y$103, MATCH(F_Inputs_Formatted!$B12&F_Inputs_Formatted!$H12,F_Inputs!$Y$4:$Y$103,0),MATCH(F_Inputs_Formatted!R$4,F_Inputs!$A$4:$Y$4,0)),$O12),"##BLANK") -> 0.986 | S12: =IFERROR(ROUND(INDEX(F_Inputs!$A$4:$Y$103, MATCH(F_Inputs_Formatted!$B12&F_Inputs_Formatted!$H12,F_Inputs!$Y$4:$Y$103,0),MATCH(F_Inputs_Formatted!S$4,F_Inputs!$A$4:$Y$4,0)),$O12),"##BLANK") -> 0.983 | T12: =IFERROR(ROUND(INDEX(F_Inputs!$A$4:$Y$103, MATCH(F_Inputs_Formatted!$B12&F_Inputs_Formatted!$H12,F_Inputs!$Y$4:$Y$103,0),MATCH(F_Inputs_Formatted!T$4,F_Inputs!$A$4:$Y$4,0)),$O12),"##BLANK") -> 0.972 | U12: =IFERROR(ROUND(INDEX(F_Inputs!$A$4:$Y$103, MATCH(F_Inputs_Formatted!$B12&F_Inputs_Formatted!$H12,F_Inputs!$Y$4:$Y$103,0),MATCH(F_Inputs_Formatted!U$4,F_Inputs!$A$4:$Y$4,0)),$O12),"##BLANK") -> 0.974 | V12: =IFERROR(ROUND(INDEX(F_Inputs!$A$4:$Y$103, MATCH(F_Inputs_Formatted!$B12&F_Inputs_Formatted!$H12,F_Inputs!$Y$4:$Y$103,0),MATCH(F_Inputs_Formatted!V$4,F_Inputs!$A$4:$Y$4,0)),$O12),"##BLANK") -> 0.988 | W12: =IFERROR(ROUND(INDEX(F_Inputs!$A$4:$Y$103, MATCH(F_Inputs_Formatted!$B12&F_Inputs_Formatted!$H12,F_Inputs!$Y$4:$Y$103,0),MATCH(F_Inputs_Formatted!W$4,F_Inputs!$A$4:$Y$4,0)),$O12),"##BLANK") -> 0.987 | ... AH12: =IFERROR(ROUND(INDEX(F_Inputs!$A$4:$Y$103, MATCH(F_Inputs_Formatted!$B12&F_Inputs_Formatted!$H12,F_Inputs!$Y$4:$Y$103,0),MATCH(F_Inputs_Formatted!AH$4,F_Inputs!$A$4:$Y$4,0)),$O12),"##BLANK") -> 1
B13: WSX | C13: =_xlfn.XLOOKUP($B13,FD_Lists!$B$4:$B$25,FD_Lists!C$4:C$25) -> Wessex Water | D13: =_xlfn.XLOOKUP($B13,FD_Lists!$B$4:$B$25,FD_Lists!D$4:D$25) -> England | E13: =_xlfn.XLOOKUP($B13,FD_Lists!$B$4:$B$25,FD_Lists!E$4:E$25) -> Company | F13: =_xlfn.XLOOKUP($B13,FD_Lists!$B$4:$B$25,FD_Lists!F$4:F$25) -> WaSC | G13: PCL Units | H13: OUT4_19_PR24 | I13: =B13&H13 -> WSXOUT4_19_PR24 | J13: Totex | K13: Company view (FD) | L13: DIS | M13: Percentage compliance | N13: Percentage | O13: 3 | P13: =IFERROR(ROUND(INDEX(F_Inputs!$A$4:$Y$103, MATCH(F_Inputs_Formatted!$B13&F_Inputs_Formatted!$H13,F_Inputs!$Y$4:$Y$103,0),MATCH(F_Inputs_Formatted!P$4,F_Inputs!$A$4:$Y$4,0)),$O13),"##BLANK") -> 0.997 | Q13: =IFERROR(ROUND(INDEX(F_Inputs!$A$4:$Y$103, MATCH(F_Inputs_Formatted!$B13&F_Inputs_Formatted!$H13,F_Inputs!$Y$4:$Y$103,0),MATCH(F_Inputs_Formatted!Q$4,F_Inputs!$A$4:$Y$4,0)),$O13),"##BLANK") -> 0.997 | R13: =IFERROR(ROUND(INDEX(F_Inputs!$A$4:$Y$103, MATCH(F_Inputs_Formatted!$B13&F_Inputs_Formatted!$H13,F_Inputs!$Y$4:$Y$103,0),MATCH(F_Inputs_Formatted!R$4,F_Inputs!$A$4:$Y$4,0)),$O13),"##BLANK") -> 0.99 | S13: =IFERROR(ROUND(INDEX(F_Inputs!$A$4:$Y$103, MATCH(F_Inputs_Formatted!$B13&F_Inputs_Formatted!$H13,F_Inputs!$Y$4:$Y$103,0),MATCH(F_Inputs_Formatted!S$4,F_Inputs!$A$4:$Y$4,0)),$O13),"##BLANK") -> 0.997 | T13: =IFERROR(ROUND(INDEX(F_Inputs!$A$4:$Y$103, MATCH(F_Inputs_Formatted!$B13&F_Inputs_Formatted!$H13,F_Inputs!$Y$4:$Y$103,0),MATCH(F_Inputs_Formatted!T$4,F_Inputs!$A$4:$Y$4,0)),$O13),"##BLANK") -> 0.997 | U13: =IFERROR(ROUND(INDEX(F_Inputs!$A$4:$Y$103, MATCH(F_Inputs_Formatted!$B13&F_Inputs_Formatted!$H13,F_Inputs!$Y$4:$Y$103,0),MATCH(F_Inputs_Formatted!U$4,F_Inputs!$A$4:$Y$4,0)),$O13),"##BLANK") -> 0.994 | V13: =IFERROR(ROUND(INDEX(F_Inputs!$A$4:$Y$103, MATCH(F_Inputs_Formatted!$B13&F_Inputs_Formatted!$H13,F_Inputs!$Y$4:$Y$103,0),MATCH(F_Inputs_Formatted!V$4,F_Inputs!$A$4:$Y$4,0)),$O13),"##BLANK") -> 0.99 | W13: =IFERROR(ROUND(INDEX(F_Inputs!$A$4:$Y$103, MATCH(F_Inputs_Formatted!$B13&F_Inputs_Formatted!$H13,F_Inputs!$Y$4:$Y$103,0),MATCH(F_Inputs_Formatted!W$4,F_Inputs!$A$4:$Y$4,0)),$O13),"##BLANK") -> 1 | ... AH13: =IFERROR(ROUND(INDEX(F_Inputs!$A$4:$Y$103, MATCH(F_Inputs_Formatted!$B13&F_Inputs_Formatted!$H13,F_Inputs!$Y$4:$Y$103,0),MATCH(F_Inputs_Formatted!AH$4,F_Inputs!$A$4:$Y$4,0)),$O13),"##BLANK") -> 0.99
B14: YKY | C14: =_xlfn.XLOOKUP($B14,FD_Lists!$B$4:$B$25,FD_Lists!C$4:C$25) -> Yorkshire Water | D14: =_xlfn.XLOOKUP($B14,FD_Lists!$B$4:$B$25,FD_Lists!D$4:D$25) -> England | E14: =_xlfn.XLOOKUP($B14,FD_Lists!$B$4:$B$25,FD_Lists!E$4:E$25) -> Company | F14: =_xlfn.XLOOKUP($B14,FD_Lists!$B$4:$B$25,FD_Lists!F$4:F$25) -> WaSC | G14: PCL Units | H14: OUT4_19_PR24 | I14: =B14&H14 -> YKYOUT4_19_PR24 | J14: Totex | K14: Company view (FD) | L14: DIS | M14: Percentage compliance | N14: Percentage | O14: 3 | P14: =IFERROR(ROUND(INDEX(F_Inputs!$A$4:$Y$103, MATCH(F_Inputs_Formatted!$B14&F_Inputs_Formatted!$H14,F_Inputs!$Y$4:$Y$103,0),MATCH(F_Inputs_Formatted!P$4,F_Inputs!$A$4:$Y$4,0)),$O14),"##BLANK") -> 0.973 | Q14: =IFERROR(ROUND(INDEX(F_Inputs!$A$4:$Y$103, MATCH(F_Inputs_Formatted!$B14&F_Inputs_Formatted!$H14,F_Inputs!$Y$4:$Y$103,0),MATCH(F_Inputs_Formatted!Q$4,F_Inputs!$A$4:$Y$4,0)),$O14),"##BLANK") -> 0.973 | R14: =IFERROR(ROUND(INDEX(F_Inputs!$A$4:$Y$103, MATCH(F_Inputs_Formatted!$B14&F_Inputs_Formatted!$H14,F_Inputs!$Y$4:$Y$103,0),MATCH(F_Inputs_Formatted!R$4,F_Inputs!$A$4:$Y$4,0)),$O14),"##BLANK") -> 0.98 | S14: =IFERROR(ROUND(INDEX(F_Inputs!$A$4:$Y$103, MATCH(F_Inputs_Formatted!$B14&F_Inputs_Formatted!$H14,F_Inputs!$Y$4:$Y$103,0),MATCH(F_Inputs_Formatted!S$4,F_Inputs!$A$4:$Y$4,0)),$O14),"##BLANK") -> 0.993 | T14: =IFERROR(ROUND(INDEX(F_Inputs!$A$4:$Y$103, MATCH(F_Inputs_Formatted!$B14&F_Inputs_Formatted!$H14,F_Inputs!$Y$4:$Y$103,0),MATCH(F_Inputs_Formatted!T$4,F_Inputs!$A$4:$Y$4,0)),$O14),"##BLANK") -> 0.993 | U14: =IFERROR(ROUND(INDEX(F_Inputs!$A$4:$Y$103, MATCH(F_Inputs_Formatted!$B14&F_Inputs_Formatted!$H14,F_Inputs!$Y$4:$Y$103,0),MATCH(F_Inputs_Formatted!U$4,F_Inputs!$A$4:$Y$4,0)),$O14),"##BLANK") -> 0.972 | V14: =IFERROR(ROUND(INDEX(F_Inputs!$A$4:$Y$103, MATCH(F_Inputs_Formatted!$B14&F_Inputs_Formatted!$H14,F_Inputs!$Y$4:$Y$103,0),MATCH(F_Inputs_Formatted!V$4,F_Inputs!$A$4:$Y$4,0)),$O14),"##BLANK") -> 0.978 | W14: =IFERROR(ROUND(INDEX(F_Inputs!$A$4:$Y$103, MATCH(F_Inputs_Formatted!$B14&F_Inputs_Formatted!$H14,F_Inputs!$Y$4:$Y$103,0),MATCH(F_Inputs_Formatted!W$4,F_Inputs!$A$4:$Y$4,0)),$O14),"##BLANK") -> 0.975 | ... AH14: =IFERROR(ROUND(INDEX(F_Inputs!$A$4:$Y$103, MATCH(F_Inputs_Formatted!$B14&F_Inputs_Formatted!$H14,F_Inputs!$Y$4:$Y$103,0),MATCH(F_Inputs_Formatted!AH$4,F_Inputs!$A$4:$Y$4,0)),$O14),"##BLANK") -> 1
B15: AFW | C15: =_xlfn.XLOOKUP($B15,FD_Lists!$B$4:$B$25,FD_Lists!C$4:C$25) -> Affinity Water | D15: =_xlfn.XLOOKUP($B15,FD_Lists!$B$4:$B$25,FD_Lists!D$4:D$25) -> England | E15: =_xlfn.XLOOKUP($B15,FD_Lists!$B$4:$B$25,FD_Lists!E$4:E$25) -> Company | F15: =_xlfn.XLOOKUP($B15,FD_Lists!$B$4:$B$25,FD_Lists!F$4:F$25) -> WoC | G15: PCL Units | H15: OUT4_19_PR24 | I15: =B15&H15 -> AFWOUT4_19_PR24 | J15: Totex | K15: Company view (FD) | L15: DIS | M15: Percentage compliance | N15: Percentage | O15: 3 | P15: =IFERROR(ROUND(INDEX(F_Inputs!$A$4:$Y$103, MATCH(F_Inputs_Formatted!$B15&F_Inputs_Formatted!$H15,F_Inputs!$Y$4:$Y$103,0),MATCH(F_Inputs_Formatted!P$4,F_Inputs!$A$4:$Y$4,0)),$O15),"##BLANK") -> 1 | Q15: =IFERROR(ROUND(INDEX(F_Inputs!$A$4:$Y$103, MATCH(F_Inputs_Formatted!$B15&F_Inputs_Formatted!$H15,F_Inputs!$Y$4:$Y$103,0),MATCH(F_Inputs_Formatted!Q$4,F_Inputs!$A$4:$Y$4,0)),$O15),"##BLANK") -> 1 | R15: =IFERROR(ROUND(INDEX(F_Inputs!$A$4:$Y$103, MATCH(F_Inputs_Formatted!$B15&F_Inputs_Formatted!$H15,F_Inputs!$Y$4:$Y$103,0),MATCH(F_Inputs_Formatted!R$4,F_Inputs!$A$4:$Y$4,0)),$O15),"##BLANK") -> 1 | S15: =IFERROR(ROUND(INDEX(F_Inputs!$A$4:$Y$103, MATCH(F_Inputs_Formatted!$B15&F_Inputs_Formatted!$H15,F_Inputs!$Y$4:$Y$103,0),MATCH(F_Inputs_Formatted!S$4,F_Inputs!$A$4:$Y$4,0)),$O15),"##BLANK") -> 1 | T15: =IFERROR(ROUND(INDEX(F_Inputs!$A$4:$Y$103, MATCH(F_Inputs_Formatted!$B15&F_Inputs_Formatted!$H15,F_Inputs!$Y$4:$Y$103,0),MATCH(F_Inputs_Formatted!T$4,F_Inputs!$A$4:$Y$4,0)),$O15),"##BLANK") -> 1 | U15: =IFERROR(ROUND(INDEX(F_Inputs!$A$4:$Y$103, MATCH(F_Inputs_Formatted!$B15&F_Inputs_Formatted!$H15,F_Inputs!$Y$4:$Y$103,0),MATCH(F_Inputs_Formatted!U$4,F_Inputs!$A$4:$Y$4,0)),$O15),"##BLANK") -> 1 | V15: =IFERROR(ROUND(INDEX(F_Inputs!$A$4:$Y$103, MATCH(F_Inputs_Formatted!$B15&F_Inputs_Formatted!$H15,F_Inputs!$Y$4:$Y$103,0),MATCH(F_Inputs_Formatted!V$4,F_Inputs!$A$4:$Y$4,0)),$O15),"##BLANK") -> 1 | W15: =IFERROR(ROUND(INDEX(F_Inputs!$A$4:$Y$103, MATCH(F_Inputs_Formatted!$B15&F_Inputs_Formatted!$H15,F_Inputs!$Y$4:$Y$103,0),MATCH(F_Inputs_Formatted!W$4,F_Inputs!$A$4:$Y$4,0)),$O15),"##BLANK") -> 1 | ... AH15: =IFERROR(ROUND(INDEX(F_Inputs!$A$4:$Y$103, MATCH(F_Inputs_Formatted!$B15&F_Inputs_Formatted!$H15,F_Inputs!$Y$4:$Y$103,0),MATCH(F_Inputs_Formatted!AH$4,F_Inputs!$A$4:$Y$4,0)),$O15),"##BLANK") -> 1
B16: PRT | C16: =_xlfn.XLOOKUP($B16,FD_Lists!$B$4:$B$25,FD_Lists!C$4:C$25) -> Portsmouth Water | D16: =_xlfn.XLOOKUP($B16,FD_Lists!$B$4:$B$25,FD_Lists!D$4:D$25) -> England | E16: =_xlfn.XLOOKUP($B16,FD_Lists!$B$4:$B$25,FD_Lists!E$4:E$25) -> Company | F16: =_xlfn.XLOOKUP($B16,FD_Lists!$B$4:$B$25,FD_Lists!F$4:F$25) -> WoC | G16: PCL Units | H16: OUT4_19_PR24 | I16: =B16&H16 -> PRTOUT4_19_PR24 | J16: Totex | K16: Company view (FD) | L16: DIS | M16: Percentage compliance | N16: Percentage | O16: 3 | P16: =IFERROR(ROUND(INDEX(F_Inputs!$A$4:$Y$103, MATCH(F_Inputs_Formatted!$B16&F_Inputs_Formatted!$H16,F_Inputs!$Y$4:$Y$103,0),MATCH(F_Inputs_Formatted!P$4,F_Inputs!$A$4:$Y$4,0)),$O16),"##BLANK") -> 1 | Q16: =IFERROR(ROUND(INDEX(F_Inputs!$A$4:$Y$103, MATCH(F_Inputs_Formatted!$B16&F_Inputs_Formatted!$H16,F_Inputs!$Y$4:$Y$103,0),MATCH(F_Inputs_Formatted!Q$4,F_Inputs!$A$4:$Y$4,0)),$O16),"##BLANK") -> 1 | R16: =IFERROR(ROUND(INDEX(F_Inputs!$A$4:$Y$103, MATCH(F_Inputs_Formatted!$B16&F_Inputs_Formatted!$H16,F_Inputs!$Y$4:$Y$103,0),MATCH(F_Inputs_Formatted!R$4,F_Inputs!$A$4:$Y$4,0)),$O16),"##BLANK") -> 1 | S16: =IFERROR(ROUND(INDEX(F_Inputs!$A$4:$Y$103, MATCH(F_Inputs_Formatted!$B16&F_Inputs_Formatted!$H16,F_Inputs!$Y$4:$Y$103,0),MATCH(F_Inputs_Formatted!S$4,F_Inputs!$A$4:$Y$4,0)),$O16),"##BLANK") -> 1 | T16: =IFERROR(ROUND(INDEX(F_Inputs!$A$4:$Y$103, MATCH(F_Inputs_Formatted!$B16&F_Inputs_Formatted!$H16,F_Inputs!$Y$4:$Y$103,0),MATCH(F_Inputs_Formatted!T$4,F_Inputs!$A$4:$Y$4,0)),$O16),"##BLANK") -> 1 | U16: =IFERROR(ROUND(INDEX(F_Inputs!$A$4:$Y$103, MATCH(F_Inputs_Formatted!$B16&F_Inputs_Formatted!$H16,F_Inputs!$Y$4:$Y$103,0),MATCH(F_Inputs_Formatted!U$4,F_Inputs!$A$4:$Y$4,0)),$O16),"##BLANK") -> 1 | V16: =IFERROR(ROUND(INDEX(F_Inputs!$A$4:$Y$103, MATCH(F_Inputs_Formatted!$B16&F_Inputs_Formatted!$H16,F_Inputs!$Y$4:$Y$103,0),MATCH(F_Inputs_Formatted!V$4,F_Inputs!$A$4:$Y$4,0)),$O16),"##BLANK") -> 0.833 | W16: =IFERROR(ROUND(INDEX(F_Inputs!$A$4:$Y$103, MATCH(F_Inputs_Formatted!$B16&F_Inputs_Formatted!$H16,F_Inputs!$Y$4:$Y$103,0),MATCH(F_Inputs_Formatted!W$4,F_Inputs!$A$4:$Y$4,0)),$O16),"##BLANK") -> 1 | ... AH16: =IFERROR(ROUND(INDEX(F_Inputs!$A$4:$Y$103, MATCH(F_Inputs_Formatted!$B16&F_Inputs_Formatted!$H16,F_Inputs!$Y$4:$Y$103,0),MATCH(F_Inputs_Formatted!AH$4,F_Inputs!$A$4:$Y$4,0)),$O16),"##BLANK") -> 1
B17: SEW | C17: =_xlfn.XLOOKUP($B17,FD_Lists!$B$4:$B$25,FD_Lists!C$4:C$25) -> South East Water | D17: =_xlfn.XLOOKUP($B17,FD_Lists!$B$4:$B$25,FD_Lists!D$4:D$25) -> England | E17: =_xlfn.XLOOKUP($B17,FD_Lists!$B$4:$B$25,FD_Lists!E$4:E$25) -> Company | F17: =_xlfn.XLOOKUP($B17,FD_Lists!$B$4:$B$25,FD_Lists!F$4:F$25) -> WoC | G17: PCL Units | H17: OUT4_19_PR24 | I17: =B17&H17 -> SEWOUT4_19_PR24 | J17: Totex | K17: Company view (FD) | L17: DIS | M17: Percentage compliance | N17: Percentage | O17: 3 | P17: =IFERROR(ROUND(INDEX(F_Inputs!$A$4:$Y$103, MATCH(F_Inputs_Formatted!$B17&F_Inputs_Formatted!$H17,F_Inputs!$Y$4:$Y$103,0),MATCH(F_Inputs_Formatted!P$4,F_Inputs!$A$4:$Y$4,0)),$O17),"##BLANK") -> ##BLANK | Q17: =IFERROR(ROUND(INDEX(F_Inputs!$A$4:$Y$103, MATCH(F_Inputs_Formatted!$B17&F_Inputs_Formatted!$H17,F_Inputs!$Y$4:$Y$103,0),MATCH(F_Inputs_Formatted!Q$4,F_Inputs!$A$4:$Y$4,0)),$O17),"##BLANK") -> ##BLANK | R17: =IFERROR(ROUND(INDEX(F_Inputs!$A$4:$Y$103, MATCH(F_Inputs_Formatted!$B17&F_Inputs_Formatted!$H17,F_Inputs!$Y$4:$Y$103,0),MATCH(F_Inputs_Formatted!R$4,F_Inputs!$A$4:$Y$4,0)),$O17),"##BLANK") -> 0.974 | S17: =IFERROR(ROUND(INDEX(F_Inputs!$A$4:$Y$103, MATCH(F_Inputs_Formatted!$B17&F_Inputs_Formatted!$H17,F_Inputs!$Y$4:$Y$103,0),MATCH(F_Inputs_Formatted!S$4,F_Inputs!$A$4:$Y$4,0)),$O17),"##BLANK") -> 0.921 | T17: =IFERROR(ROUND(INDEX(F_Inputs!$A$4:$Y$103, MATCH(F_Inputs_Formatted!$B17&F_Inputs_Formatted!$H17,F_Inputs!$Y$4:$Y$103,0),MATCH(F_Inputs_Formatted!T$4,F_Inputs!$A$4:$Y$4,0)),$O17),"##BLANK") -> 0.987 | U17: =IFERROR(ROUND(INDEX(F_Inputs!$A$4:$Y$103, MATCH(F_Inputs_Formatted!$B17&F_Inputs_Formatted!$H17,F_Inputs!$Y$4:$Y$103,0),MATCH(F_Inputs_Formatted!U$4,F_Inputs!$A$4:$Y$4,0)),$O17),"##BLANK") -> 0.934 | V17: =IFERROR(ROUND(INDEX(F_Inputs!$A$4:$Y$103, MATCH(F_Inputs_Formatted!$B17&F_Inputs_Formatted!$H17,F_Inputs!$Y$4:$Y$103,0),MATCH(F_Inputs_Formatted!V$4,F_Inputs!$A$4:$Y$4,0)),$O17),"##BLANK") -> 0.947 | W17: =IFERROR(ROUND(INDEX(F_Inputs!$A$4:$Y$103, MATCH(F_Inputs_Formatted!$B17&F_Inputs_Formatted!$H17,F_Inputs!$Y$4:$Y$103,0),MATCH(F_Inputs_Formatted!W$4,F_Inputs!$A$4:$Y$4,0)),$O17),"##BLANK") -> 0.961 | ... AH17: =IFERROR(ROUND(INDEX(F_Inputs!$A$4:$Y$103, MATCH(F_Inputs_Formatted!$B17&F_Inputs_Formatted!$H17,F_Inputs!$Y$4:$Y$103,0),MATCH(F_Inputs_Formatted!AH$4,F_Inputs!$A$4:$Y$4,0)),$O17),"##BLANK") -> 0.987
B18: SSC | C18: =_xlfn.XLOOKUP($B18,FD_Lists!$B$4:$B$25,FD_Lists!C$4:C$25) -> South Staffordshire Water | D18: =_xlfn.XLOOKUP($B18,FD_Lists!$B$4:$B$25,FD_Lists!D$4:D$25) -> England | E18: =_xlfn.XLOOKUP($B18,FD_Lists!$B$4:$B$25,FD_Lists!E$4:E$25) -> Company | F18: =_xlfn.XLOOKUP($B18,FD_Lists!$B$4:$B$25,FD_Lists!F$4:F$25) -> WoC | G18: PCL Units | H18: OUT4_19_PR24 | I18: =B18&H18 -> SSCOUT4_19_PR24 | J18: Totex | K18: Company view (FD) | L18: DIS | M18: Percentage compliance | N18: Percentage | O18: 3 | P18: =IFERROR(ROUND(INDEX(F_Inputs!$A$4:$Y$103, MATCH(F_Inputs_Formatted!$B18&F_Inputs_Formatted!$H18,F_Inputs!$Y$4:$Y$103,0),MATCH(F_Inputs_Formatted!P$4,F_Inputs!$A$4:$Y$4,0)),$O18),"##BLANK") -> ##BLANK | Q18: =IFERROR(ROUND(INDEX(F_Inputs!$A$4:$Y$103, MATCH(F_Inputs_Formatted!$B18&F_Inputs_Formatted!$H18,F_Inputs!$Y$4:$Y$103,0),MATCH(F_Inputs_Formatted!Q$4,F_Inputs!$A$4:$Y$4,0)),$O18),"##BLANK") -> ##BLANK | R18: =IFERROR(ROUND(INDEX(F_Inputs!$A$4:$Y$103, MATCH(F_Inputs_Formatted!$B18&F_Inputs_Formatted!$H18,F_Inputs!$Y$4:$Y$103,0),MATCH(F_Inputs_Formatted!R$4,F_Inputs!$A$4:$Y$4,0)),$O18),"##BLANK") -> ##BLANK | S18: =IFERROR(ROUND(INDEX(F_Inputs!$A$4:$Y$103, MATCH(F_Inputs_Formatted!$B18&F_Inputs_Formatted!$H18,F_Inputs!$Y$4:$Y$103,0),MATCH(F_Inputs_Formatted!S$4,F_Inputs!$A$4:$Y$4,0)),$O18),"##BLANK") -> ##BLANK | T18: =IFERROR(ROUND(INDEX(F_Inputs!$A$4:$Y$103, MATCH(F_Inputs_Formatted!$B18&F_Inputs_Formatted!$H18,F_Inputs!$Y$4:$Y$103,0),MATCH(F_Inputs_Formatted!T$4,F_Inputs!$A$4:$Y$4,0)),$O18),"##BLANK") -> ##BLANK | U18: =IFERROR(ROUND(INDEX(F_Inputs!$A$4:$Y$103, MATCH(F_Inputs_Formatted!$B18&F_Inputs_Formatted!$H18,F_Inputs!$Y$4:$Y$103,0),MATCH(F_Inputs_Formatted!U$4,F_Inputs!$A$4:$Y$4,0)),$O18),"##BLANK") -> ##BLANK | V18: =IFERROR(ROUND(INDEX(F_Inputs!$A$4:$Y$103, MATCH(F_Inputs_Formatted!$B18&F_Inputs_Formatted!$H18,F_Inputs!$Y$4:$Y$103,0),MATCH(F_Inputs_Formatted!V$4,F_Inputs!$A$4:$Y$4,0)),$O18),"##BLANK") -> ##BLANK | W18: =IFERROR(ROUND(INDEX(F_Inputs!$A$4:$Y$103, MATCH(F_Inputs_Formatted!$B18&F_Inputs_Formatted!$H18,F_Inputs!$Y$4:$Y$103,0),MATCH(F_Inputs_Formatted!W$4,F_Inputs!$A$4:$Y$4,0)),$O18),"##BLANK") -> ##BLANK | ... AH18: =IFERROR(ROUND(INDEX(F_Inputs!$A$4:$Y$103, MATCH(F_Inputs_Formatted!$B18&F_Inputs_Formatted!$H18,F_Inputs!$Y$4:$Y$103,0),MATCH(F_Inputs_Formatted!AH$4,F_Inputs!$A$4:$Y$4,0)),$O18),"##BLANK") -> 1
B19: SES | C19: =_xlfn.XLOOKUP($B19,FD_Lists!$B$4:$B$25,FD_Lists!C$4:C$25) -> SES Water | D19: =_xlfn.XLOOKUP($B19,FD_Lists!$B$4:$B$25,FD_Lists!D$4:D$25) -> England | E19: =_xlfn.XLOOKUP($B19,FD_Lists!$B$4:$B$25,FD_Lists!E$4:E$25) -> Company | F19: =_xlfn.XLOOKUP($B19,FD_Lists!$B$4:$B$25,FD_Lists!F$4:F$25) -> WoC | G19: PCL Units | H19: OUT4_19_PR24 | I19: =B19&H19 -> SESOUT4_19_PR24 | J19: Totex | K19: Company view (FD) | L19: DIS | M19: Percentage compliance | N19: Percentage | O19: 3 | P19: =IFERROR(ROUND(INDEX(F_Inputs!$A$4:$Y$103, MATCH(F_Inputs_Formatted!$B19&F_Inputs_Formatted!$H19,F_Inputs!$Y$4:$Y$103,0),MATCH(F_Inputs_Formatted!P$4,F_Inputs!$A$4:$Y$4,0)),$O19),"##BLANK") -> 1 | Q19: =IFERROR(ROUND(INDEX(F_Inputs!$A$4:$Y$103, MATCH(F_Inputs_Formatted!$B19&F_Inputs_Formatted!$H19,F_Inputs!$Y$4:$Y$103,0),MATCH(F_Inputs_Formatted!Q$4,F_Inputs!$A$4:$Y$4,0)),$O19),"##BLANK") -> 1 | R19: =IFERROR(ROUND(INDEX(F_Inputs!$A$4:$Y$103, MATCH(F_Inputs_Formatted!$B19&F_Inputs_Formatted!$H19,F_Inputs!$Y$4:$Y$103,0),MATCH(F_Inputs_Formatted!R$4,F_Inputs!$A$4:$Y$4,0)),$O19),"##BLANK") -> 1 | S19: =IFERROR(ROUND(INDEX(F_Inputs!$A$4:$Y$103, MATCH(F_Inputs_Formatted!$B19&F_Inputs_Formatted!$H19,F_Inputs!$Y$4:$Y$103,0),MATCH(F_Inputs_Formatted!S$4,F_Inputs!$A$4:$Y$4,0)),$O19),"##BLANK") -> 1 | T19: =IFERROR(ROUND(INDEX(F_Inputs!$A$4:$Y$103, MATCH(F_Inputs_Formatted!$B19&F_Inputs_Formatted!$H19,F_Inputs!$Y$4:$Y$103,0),MATCH(F_Inputs_Formatted!T$4,F_Inputs!$A$4:$Y$4,0)),$O19),"##BLANK") -> 1 | U19: =IFERROR(ROUND(INDEX(F_Inputs!$A$4:$Y$103, MATCH(F_Inputs_Formatted!$B19&F_Inputs_Formatted!$H19,F_Inputs!$Y$4:$Y$103,0),MATCH(F_Inputs_Formatted!U$4,F_Inputs!$A$4:$Y$4,0)),$O19),"##BLANK") -> 1 | V19: =IFERROR(ROUND(INDEX(F_Inputs!$A$4:$Y$103, MATCH(F_Inputs_Formatted!$B19&F_Inputs_Formatted!$H19,F_Inputs!$Y$4:$Y$103,0),MATCH(F_Inputs_Formatted!V$4,F_Inputs!$A$4:$Y$4,0)),$O19),"##BLANK") -> 1 | W19: =IFERROR(ROUND(INDEX(F_Inputs!$A$4:$Y$103, MATCH(F_Inputs_Formatted!$B19&F_Inputs_Formatted!$H19,F_Inputs!$Y$4:$Y$103,0),MATCH(F_Inputs_Formatted!W$4,F_Inputs!$A$4:$Y$4,0)),$O19),"##BLANK") -> 1 | ... AH19: =IFERROR(ROUND(INDEX(F_Inputs!$A$4:$Y$103, MATCH(F_Inputs_Formatted!$B19&F_Inputs_Formatted!$H19,F_Inputs!$Y$4:$Y$103,0),MATCH(F_Inputs_Formatted!AH$4,F_Inputs!$A$4:$Y$4,0)),$O19),"##BLANK") -> 1
B20: SWB | C20: =_xlfn.XLOOKUP($B20,FD_Lists!$B$4:$B$25,FD_Lists!C$4:C$25) -> South West Water | D20: =_xlfn.XLOOKUP($B20,FD_Lists!$B$4:$B$25,FD_Lists!D$4:D$25) -> England | E20: =_xlfn.XLOOKUP($B20,FD_Lists!$B$4:$B$25,FD_Lists!E$4:E$25) -> Company | F20: =_xlfn.XLOOKUP($B20,FD_Lists!$B$4:$B$25,FD_Lists!F$4:F$25) -> WaSC | G20: PCL Units | H20: OUT4_19_PR24 | I20: =B20&H20 -> SWBOUT4_19_PR24 | J20: Totex | K20: Company view (FD) | L20: DIS | M20: Percentage compliance | N20: Percentage | O20: 3 | P20: =IFERROR(ROUND(INDEX(F_Inputs!$A$4:$Y$103, MATCH(F_Inputs_Formatted!$B20&F_Inputs_Formatted!$H20,F_Inputs!$Y$4:$Y$103,0),MATCH(F_Inputs_Formatted!P$4,F_Inputs!$A$4:$Y$4,0)),$O20),"##BLANK") -> 0.89 | Q20: =IFERROR(ROUND(INDEX(F_Inputs!$A$4:$Y$103, MATCH(F_Inputs_Formatted!$B20&F_Inputs_Formatted!$H20,F_Inputs!$Y$4:$Y$103,0),MATCH(F_Inputs_Formatted!Q$4,F_Inputs!$A$4:$Y$4,0)),$O20),"##BLANK") -> 0.965 | R20: =IFERROR(ROUND(INDEX(F_Inputs!$A$4:$Y$103, MATCH(F_Inputs_Formatted!$B20&F_Inputs_Formatted!$H20,F_Inputs!$Y$4:$Y$103,0),MATCH(F_Inputs_Formatted!R$4,F_Inputs!$A$4:$Y$4,0)),$O20),"##BLANK") -> 0.933 | S20: =IFERROR(ROUND(INDEX(F_Inputs!$A$4:$Y$103, MATCH(F_Inputs_Formatted!$B20&F_Inputs_Formatted!$H20,F_Inputs!$Y$4:$Y$103,0),MATCH(F_Inputs_Formatted!S$4,F_Inputs!$A$4:$Y$4,0)),$O20),"##BLANK") -> 0.961 | T20: =IFERROR(ROUND(INDEX(F_Inputs!$A$4:$Y$103, MATCH(F_Inputs_Formatted!$B20&F_Inputs_Formatted!$H20,F_Inputs!$Y$4:$Y$103,0),MATCH(F_Inputs_Formatted!T$4,F_Inputs!$A$4:$Y$4,0)),$O20),"##BLANK") -> 0.955 | U20: =IFERROR(ROUND(INDEX(F_Inputs!$A$4:$Y$103, MATCH(F_Inputs_Formatted!$B20&F_Inputs_Formatted!$H20,F_Inputs!$Y$4:$Y$103,0),MATCH(F_Inputs_Formatted!U$4,F_Inputs!$A$4:$Y$4,0)),$O20),"##BLANK") -> 0.981 | V20: =IFERROR(ROUND(INDEX(F_Inputs!$A$4:$Y$103, MATCH(F_Inputs_Formatted!$B20&F_Inputs_Formatted!$H20,F_Inputs!$Y$4:$Y$103,0),MATCH(F_Inputs_Formatted!V$4,F_Inputs!$A$4:$Y$4,0)),$O20),"##BLANK") -> 0.971 | W20: =IFERROR(ROUND(INDEX(F_Inputs!$A$4:$Y$103, MATCH(F_Inputs_Formatted!$B20&F_Inputs_Formatted!$H20,F_Inputs!$Y$4:$Y$103,0),MATCH(F_Inputs_Formatted!W$4,F_Inputs!$A$4:$Y$4,0)),$O20),"##BLANK") -> 0.987 | ... AH20: =IFERROR(ROUND(INDEX(F_Inputs!$A$4:$Y$103, MATCH(F_Inputs_Formatted!$B20&F_Inputs_Formatted!$H20,F_Inputs!$Y$4:$Y$103,0),MATCH(F_Inputs_Formatted!AH$4,F_Inputs!$A$4:$Y$4,0)),$O20),"##BLANK") -> 1
B21: BRL | C21: =_xlfn.XLOOKUP($B21,FD_Lists!$B$4:$B$25,FD_Lists!C$4:C$25) -> Bristol Water | D21: =_xlfn.XLOOKUP($B21,FD_Lists!$B$4:$B$25,FD_Lists!D$4:D$25) -> England | E21: =_xlfn.XLOOKUP($B21,FD_Lists!$B$4:$B$25,FD_Lists!E$4:E$25) -> Company | F21: =_xlfn.XLOOKUP($B21,FD_Lists!$B$4:$B$25,FD_Lists!F$4:F$25) -> WoC | G21: PCL Units | H21: OUT4_19_PR24 | I21: =B21&H21 -> BRLOUT4_19_PR24 | J21: Totex | K21: Company view (FD) | L21: DIS | M21: Percentage compliance | N21: Percentage | O21: 3 | P21: =IFERROR(ROUND(INDEX(F_Inputs!$A$4:$Y$103, MATCH(F_Inputs_Formatted!$B21&F_Inputs_Formatted!$H21,F_Inputs!$Y$4:$Y$103,0),MATCH(F_Inputs_Formatted!P$4,F_Inputs!$A$4:$Y$4,0)),$O21),"##BLANK") -> ##BLANK | Q21: =IFERROR(ROUND(INDEX(F_Inputs!$A$4:$Y$103, MATCH(F_Inputs_Formatted!$B21&F_Inputs_Formatted!$H21,F_Inputs!$Y$4:$Y$103,0),MATCH(F_Inputs_Formatted!Q$4,F_Inputs!$A$4:$Y$4,0)),$O21),"##BLANK") -> ##BLANK | R21: =IFERROR(ROUND(INDEX(F_Inputs!$A$4:$Y$103, MATCH(F_Inputs_Formatted!$B21&F_Inputs_Formatted!$H21,F_Inputs!$Y$4:$Y$103,0),MATCH(F_Inputs_Formatted!R$4,F_Inputs!$A$4:$Y$4,0)),$O21),"##BLANK") -> ##BLANK | S21: =IFERROR(ROUND(INDEX(F_Inputs!$A$4:$Y$103, MATCH(F_Inputs_Formatted!$B21&F_Inputs_Formatted!$H21,F_Inputs!$Y$4:$Y$103,0),MATCH(F_Inputs_Formatted!S$4,F_Inputs!$A$4:$Y$4,0)),$O21),"##BLANK") -> ##BLANK | T21: =IFERROR(ROUND(INDEX(F_Inputs!$A$4:$Y$103, MATCH(F_Inputs_Formatted!$B21&F_Inputs_Formatted!$H21,F_Inputs!$Y$4:$Y$103,0),MATCH(F_Inputs_Formatted!T$4,F_Inputs!$A$4:$Y$4,0)),$O21),"##BLANK") -> ##BLANK | U21: =IFERROR(ROUND(INDEX(F_Inputs!$A$4:$Y$103, MATCH(F_Inputs_Formatted!$B21&F_Inputs_Formatted!$H21,F_Inputs!$Y$4:$Y$103,0),MATCH(F_Inputs_Formatted!U$4,F_Inputs!$A$4:$Y$4,0)),$O21),"##BLANK") -> ##BLANK | V21: =IFERROR(ROUND(INDEX(F_Inputs!$A$4:$Y$103, MATCH(F_Inputs_Formatted!$B21&F_Inputs_Formatted!$H21,F_Inputs!$Y$4:$Y$103,0),MATCH(F_Inputs_Formatted!V$4,F_Inputs!$A$4:$Y$4,0)),$O21),"##BLANK") -> ##BLANK | W21: =IFERROR(ROUND(INDEX(F_Inputs!$A$4:$Y$103, MATCH(F_Inputs_Formatted!$B21&F_Inputs_Formatted!$H21,F_Inputs!$Y$4:$Y$103,0),MATCH(F_Inputs_Formatted!W$4,F_Inputs!$A$4:$Y$4,0)),$O21),"##BLANK") -> ##BLANK | ... AH21: =IFERROR(ROUND(INDEX(F_Inputs!$A$4:$Y$103, MATCH(F_Inputs_Formatted!$B21&F_Inputs_Formatted!$H21,F_Inputs!$Y$4:$Y$103,0),MATCH(F_Inputs_Formatted!AH$4,F_Inputs!$A$4:$Y$4,0)),$O21),"##BLANK") -> 1
B22: ANH | C22: =_xlfn.XLOOKUP($B22,FD_Lists!$B$4:$B$25,FD_Lists!C$4:C$25) -> Anglian Water | D22: =_xlfn.XLOOKUP($B22,FD_Lists!$B$4:$B$25,FD_Lists!D$4:D$25) -> England | E22: =_xlfn.XLOOKUP($B22,FD_Lists!$B$4:$B$25,FD_Lists!E$4:E$25) -> Company | F22: =_xlfn.XLOOKUP($B22,FD_Lists!$B$4:$B$25,FD_Lists!F$4:F$25) -> WaSC | G22: PCL Units | H22: OUT2_14_PR24 | I22: =B22&H22 -> ANHOUT2_14_PR24 | J22: Base | K22: Company view (FD) | L22: DIS | M22: Percentage compliance | N22: Percentage | O22: 3 | P22: =IFERROR(ROUND(INDEX(F_Inputs!$A$4:$Y$103, MATCH(F_Inputs_Formatted!$B22&F_Inputs_Formatted!$H22,F_Inputs!$Y$4:$Y$103,0),MATCH(F_Inputs_Formatted!P$4,F_Inputs!$A$4:$Y$4,0)),$O22),"##BLANK") -> ##BLANK | Q22: =IFERROR(ROUND(INDEX(F_Inputs!$A$4:$Y$103, MATCH(F_Inputs_Formatted!$B22&F_Inputs_Formatted!$H22,F_Inputs!$Y$4:$Y$103,0),MATCH(F_Inputs_Formatted!Q$4,F_Inputs!$A$4:$Y$4,0)),$O22),"##BLANK") -> ##BLANK | R22: =IFERROR(ROUND(INDEX(F_Inputs!$A$4:$Y$103, MATCH(F_Inputs_Formatted!$B22&F_Inputs_Formatted!$H22,F_Inputs!$Y$4:$Y$103,0),MATCH(F_Inputs_Formatted!R$4,F_Inputs!$A$4:$Y$4,0)),$O22),"##BLANK") -> ##BLANK | S22: =IFERROR(ROUND(INDEX(F_Inputs!$A$4:$Y$103, MATCH(F_Inputs_Formatted!$B22&F_Inputs_Formatted!$H22,F_Inputs!$Y$4:$Y$103,0),MATCH(F_Inputs_Formatted!S$4,F_Inputs!$A$4:$Y$4,0)),$O22),"##BLANK") -> ##BLANK | T22: =IFERROR(ROUND(INDEX(F_Inputs!$A$4:$Y$103, MATCH(F_Inputs_Formatted!$B22&F_Inputs_Formatted!$H22,F_Inputs!$Y$4:$Y$103,0),MATCH(F_Inputs_Formatted!T$4,F_Inputs!$A$4:$Y$4,0)),$O22),"##BLANK") -> ##BLANK | U22: =IFERROR(ROUND(INDEX(F_Inputs!$A$4:$Y$103, MATCH(F_Inputs_Formatted!$B22&F_Inputs_Formatted!$H22,F_Inputs!$Y$4:$Y$103,0),MATCH(F_Inputs_Formatted!U$4,F_Inputs!$A$4:$Y$4,0)),$O22),"##BLANK") -> ##BLANK | V22: =IFERROR(ROUND(INDEX(F_Inputs!$A$4:$Y$103, MATCH(F_Inputs_Formatted!$B22&F_Inputs_Formatted!$H22,F_Inputs!$Y$4:$Y$103,0),MATCH(F_Inputs_Formatted!V$4,F_Inputs!$A$4:$Y$4,0)),$O22),"##BLANK") -> ##BLANK | W22: =IFERROR(ROUND(INDEX(F_Inputs!$A$4:$Y$103, MATCH(F_Inputs_Formatted!$B22&F_Inputs_Formatted!$H22,F_Inputs!$Y$4:$Y$103,0),MATCH(F_Inputs_Formatted!W$4,F_Inputs!$A$4:$Y$4,0)),$O22),"##BLANK") -> ##BLANK | ... AH22: =IFERROR(ROUND(INDEX(F_Inputs!$A$4:$Y$103, MATCH(F_Inputs_Formatted!$B22&F_Inputs_Formatted!$H22,F_Inputs!$Y$4:$Y$103,0),MATCH(F_Inputs_Formatted!AH$4,F_Inputs!$A$4:$Y$4,0)),$O22),"##BLANK") -> 1
B23: WSH | C23: =_xlfn.XLOOKUP($B23,FD_Lists!$B$4:$B$25,FD_Lists!C$4:C$25) -> Dŵr Cymru | D23: =_xlfn.XLOOKUP($B23,FD_Lists!$B$4:$B$25,FD_Lists!D$4:D$25) -> Wales | E23: =_xlfn.XLOOKUP($B23,FD_Lists!$B$4:$B$25,FD_Lists!E$4:E$25) -> Company | F23: =_xlfn.XLOOKUP($B23,FD_Lists!$B$4:$B$25,FD_Lists!F$4:F$25) -> WaSC | G23: PCL Units | H23: OUT2_14_PR24 | I23: =B23&H23 -> WSHOUT2_14_PR24 | J23: Base | K23: Company view (FD) | L23: DIS | M23: Percentage compliance | N23: Percentage | O23: 3 | P23: =IFERROR(ROUND(INDEX(F_Inputs!$A$4:$Y$103, MATCH(F_Inputs_Formatted!$B23&F_Inputs_Formatted!$H23,F_Inputs!$Y$4:$Y$103,0),MATCH(F_Inputs_Formatted!P$4,F_Inputs!$A$4:$Y$4,0)),$O23),"##BLANK") -> ##BLANK | Q23: =IFERROR(ROUND(INDEX(F_Inputs!$A$4:$Y$103, MATCH(F_Inputs_Formatted!$B23&F_Inputs_Formatted!$H23,F_Inputs!$Y$4:$Y$103,0),MATCH(F_Inputs_Formatted!Q$4,F_Inputs!$A$4:$Y$4,0)),$O23),"##BLANK") -> 0.971 | R23: =IFERROR(ROUND(INDEX(F_Inputs!$A$4:$Y$103, MATCH(F_Inputs_Formatted!$B23&F_Inputs_Formatted!$H23,F_Inputs!$Y$4:$Y$103,0),MATCH(F_Inputs_Formatted!R$4,F_Inputs!$A$4:$Y$4,0)),$O23),"##BLANK") -> 0.964 | S23: =IFERROR(ROUND(INDEX(F_Inputs!$A$4:$Y$103, MATCH(F_Inputs_Formatted!$B23&F_Inputs_Formatted!$H23,F_Inputs!$Y$4:$Y$103,0),MATCH(F_Inputs_Formatted!S$4,F_Inputs!$A$4:$Y$4,0)),$O23),"##BLANK") -> 0.978 | T23: =IFERROR(ROUND(INDEX(F_Inputs!$A$4:$Y$103, MATCH(F_Inputs_Formatted!$B23&F_Inputs_Formatted!$H23,F_Inputs!$Y$4:$Y$103,0),MATCH(F_Inputs_Formatted!T$4,F_Inputs!$A$4:$Y$4,0)),$O23),"##BLANK") -> 0.971 | U23: =IFERROR(ROUND(INDEX(F_Inputs!$A$4:$Y$103, MATCH(F_Inputs_Formatted!$B23&F_Inputs_Formatted!$H23,F_Inputs!$Y$4:$Y$103,0),MATCH(F_Inputs_Formatted!U$4,F_Inputs!$A$4:$Y$4,0)),$O23),"##BLANK") -> 0.99 | V23: =IFERROR(ROUND(INDEX(F_Inputs!$A$4:$Y$103, MATCH(F_Inputs_Formatted!$B23&F_Inputs_Formatted!$H23,F_Inputs!$Y$4:$Y$103,0),MATCH(F_Inputs_Formatted!V$4,F_Inputs!$A$4:$Y$4,0)),$O23),"##BLANK") -> 0.967 | W23: =IFERROR(ROUND(INDEX(F_Inputs!$A$4:$Y$103, MATCH(F_Inputs_Formatted!$B23&F_Inputs_Formatted!$H23,F_Inputs!$Y$4:$Y$103,0),MATCH(F_Inputs_Formatted!W$4,F_Inputs!$A$4:$Y$4,0)),$O23),"##BLANK") -> 0.98 | ... AH23: =IFERROR(ROUND(INDEX(F_Inputs!$A$4:$Y$103, MATCH(F_Inputs_Formatted!$B23&F_Inputs_Formatted!$H23,F_Inputs!$Y$4:$Y$103,0),MATCH(F_Inputs_Formatted!AH$4,F_Inputs!$A$4:$Y$4,0)),$O23),"##BLANK") -> 0.998
B24: HDD | C24: =_xlfn.XLOOKUP($B24,FD_Lists!$B$4:$B$25,FD_Lists!C$4:C$25) -> Hafren Dyfrdwy | D24: =_xlfn.XLOOKUP($B24,FD_Lists!$B$4:$B$25,FD_Lists!D$4:D$25) -> Wales | E24: =_xlfn.XLOOKUP($B24,FD_Lists!$B$4:$B$25,FD_Lists!E$4:E$25) -> Company | F24: =_xlfn.XLOOKUP($B24,FD_Lists!$B$4:$B$25,FD_Lists!F$4:F$25) -> WaSC | G24: PCL Units | H24: OUT2_14_PR24 | I24: =B24&H24 -> HDDOUT2_14_PR24 | J24: Base | K24: Company view (FD) | L24: DIS | M24: Percentage compliance | N24: Percentage | O24: 3 | P24: =IFERROR(ROUND(INDEX(F_Inputs!$A$4:$Y$103, MATCH(F_Inputs_Formatted!$B24&F_Inputs_Formatted!$H24,F_Inputs!$Y$4:$Y$103,0),MATCH(F_Inputs_Formatted!P$4,F_Inputs!$A$4:$Y$4,0)),$O24),"##BLANK") -> ##BLANK | Q24: =IFERROR(ROUND(INDEX(F_Inputs!$A$4:$Y$103, MATCH(F_Inputs_Formatted!$B24&F_Inputs_Formatted!$H24,F_Inputs!$Y$4:$Y$103,0),MATCH(F_Inputs_Formatted!Q$4,F_Inputs!$A$4:$Y$4,0)),$O24),"##BLANK") -> ##BLANK | R24: =IFERROR(ROUND(INDEX(F_Inputs!$A$4:$Y$103, MATCH(F_Inputs_Formatted!$B24&F_Inputs_Formatted!$H24,F_Inputs!$Y$4:$Y$103,0),MATCH(F_Inputs_Formatted!R$4,F_Inputs!$A$4:$Y$4,0)),$O24),"##BLANK") -> ##BLANK | S24: =IFERROR(ROUND(INDEX(F_Inputs!$A$4:$Y$103, MATCH(F_Inputs_Formatted!$B24&F_Inputs_Formatted!$H24,F_Inputs!$Y$4:$Y$103,0),MATCH(F_Inputs_Formatted!S$4,F_Inputs!$A$4:$Y$4,0)),$O24),"##BLANK") -> ##BLANK | T24: =IFERROR(ROUND(INDEX(F_Inputs!$A$4:$Y$103, MATCH(F_Inputs_Formatted!$B24&F_Inputs_Formatted!$H24,F_Inputs!$Y$4:$Y$103,0),MATCH(F_Inputs_Formatted!T$4,F_Inputs!$A$4:$Y$4,0)),$O24),"##BLANK") -> ##BLANK | U24: =IFERROR(ROUND(INDEX(F_Inputs!$A$4:$Y$103, MATCH(F_Inputs_Formatted!$B24&F_Inputs_Formatted!$H24,F_Inputs!$Y$4:$Y$103,0),MATCH(F_Inputs_Formatted!U$4,F_Inputs!$A$4:$Y$4,0)),$O24),"##BLANK") -> ##BLANK | V24: =IFERROR(ROUND(INDEX(F_Inputs!$A$4:$Y$103, MATCH(F_Inputs_Formatted!$B24&F_Inputs_Formatted!$H24,F_Inputs!$Y$4:$Y$103,0),MATCH(F_Inputs_Formatted!V$4,F_Inputs!$A$4:$Y$4,0)),$O24),"##BLANK") -> ##BLANK | W24: =IFERROR(ROUND(INDEX(F_Inputs!$A$4:$Y$103, MATCH(F_Inputs_Formatted!$B24&F_Inputs_Formatted!$H24,F_Inputs!$Y$4:$Y$103,0),MATCH(F_Inputs_Formatted!W$4,F_Inputs!$A$4:$Y$4,0)),$O24),"##BLANK") -> 1 | ... AH24: =IFERROR(ROUND(INDEX(F_Inputs!$A$4:$Y$103, MATCH(F_Inputs_Formatted!$B24&F_Inputs_Formatted!$H24,F_Inputs!$Y$4:$Y$103,0),MATCH(F_Inputs_Formatted!AH$4,F_Inputs!$A$4:$Y$4,0)),$O24),"##BLANK") -> 1
... B28: TMS | C28: =_xlfn.XLOOKUP($B28,FD_Lists!$B$4:$B$25,FD_Lists!C$4:C$25) -> Thames Water | D28: =_xlfn.XLOOKUP($B28,FD_Lists!$B$4:$B$25,FD_Lists!D$4:D$25) -> England | E28: =_xlfn.XLOOKUP($B28,FD_Lists!$B$4:$B$25,FD_Lists!E$4:E$25) -> Company | F28: =_xlfn.XLOOKUP($B28,FD_Lists!$B$4:$B$25,FD_Lists!F$4:F$25) -> WaSC | G28: PCL Units | H28: OUT2_14_PR24 | I28: =B28&H28 -> TMSOUT2_14_PR24 | J28: Base | K28: Company view (FD) | L28: DIS | M28: Percentage compliance | N28: Percentage | O28: 3 | P28: =IFERROR(ROUND(INDEX(F_Inputs!$A$4:$Y$103, MATCH(F_Inputs_Formatted!$B28&F_Inputs_Formatted!$H28,F_Inputs!$Y$4:$Y$103,0),MATCH(F_Inputs_Formatted!P$4,F_Inputs!$A$4:$Y$4,0)),$O28),"##BLANK") -> 0.995 | Q28: =IFERROR(ROUND(INDEX(F_Inputs!$A$4:$Y$103, MATCH(F_Inputs_Formatted!$B28&F_Inputs_Formatted!$H28,F_Inputs!$Y$4:$Y$103,0),MATCH(F_Inputs_Formatted!Q$4,F_Inputs!$A$4:$Y$4,0)),$O28),"##BLANK") -> 0.992 | R28: =IFERROR(ROUND(INDEX(F_Inputs!$A$4:$Y$103, MATCH(F_Inputs_Formatted!$B28&F_Inputs_Formatted!$H28,F_Inputs!$Y$4:$Y$103,0),MATCH(F_Inputs_Formatted!R$4,F_Inputs!$A$4:$Y$4,0)),$O28),"##BLANK") -> 0.956 | S28: =IFERROR(ROUND(INDEX(F_Inputs!$A$4:$Y$103, MATCH(F_Inputs_Formatted!$B28&F_Inputs_Formatted!$H28,F_Inputs!$Y$4:$Y$103,0),MATCH(F_Inputs_Formatted!S$4,F_Inputs!$A$4:$Y$4,0)),$O28),"##BLANK") -> 0.987 | T28: =IFERROR(ROUND(INDEX(F_Inputs!$A$4:$Y$103, MATCH(F_Inputs_Formatted!$B28&F_Inputs_Formatted!$H28,F_Inputs!$Y$4:$Y$103,0),MATCH(F_Inputs_Formatted!T$4,F_Inputs!$A$4:$Y$4,0)),$O28),"##BLANK") -> 0.992 | U28: =IFERROR(ROUND(INDEX(F_Inputs!$A$4:$Y$103, MATCH(F_Inputs_Formatted!$B28&F_Inputs_Formatted!$H28,F_Inputs!$Y$4:$Y$103,0),MATCH(F_Inputs_Formatted!U$4,F_Inputs!$A$4:$Y$4,0)),$O28),"##BLANK") -> 0.979 | V28: =IFERROR(ROUND(INDEX(F_Inputs!$A$4:$Y$103, MATCH(F_Inputs_Formatted!$B28&F_Inputs_Formatted!$H28,F_Inputs!$Y$4:$Y$103,0),MATCH(F_Inputs_Formatted!V$4,F_Inputs!$A$4:$Y$4,0)),$O28),"##BLANK") -> 0.995 | W28: =IFERROR(ROUND(INDEX(F_Inputs!$A$4:$Y$103, MATCH(F_Inputs_Formatted!$B28&F_Inputs_Formatted!$H28,F_Inputs!$Y$4:$Y$103,0),MATCH(F_Inputs_Formatted!W$4,F_Inputs!$A$4:$Y$4,0)),$O28),"##BLANK") -> 0.99 | ... AH28: =IFERROR(ROUND(INDEX(F_Inputs!$A$4:$Y$103, MATCH(F_Inputs_Formatted!$B28&F_Inputs_Formatted!$H28,F_Inputs!$Y$4:$Y$103,0),MATCH(F_Inputs_Formatted!AH$4,F_Inputs!$A$4:$Y$4,0)),$O28),"##BLANK") -> 0.987
A29: UUW | B29: NWT | C29: =_xlfn.XLOOKUP($B29,FD_Lists!$B$4:$B$25,FD_Lists!C$4:C$25) -> United Utilities | D29: =_xlfn.XLOOKUP($B29,FD_Lists!$B$4:$B$25,FD_Lists!D$4:D$25) -> England | E29: =_xlfn.XLOOKUP($B29,FD_Lists!$B$4:$B$25,FD_Lists!E$4:E$25) -> Company | F29: =_xlfn.XLOOKUP($B29,FD_Lists!$B$4:$B$25,FD_Lists!F$4:F$25) -> WaSC | G29: PCL Units | H29: OUT2_14_PR24 | I29: =B29&H29 -> NWTOUT2_14_PR24 | J29: Base | K29: Company view (FD) | L29: DIS | M29: Percentage compliance | N29: Percentage | O29: 3 | P29: =IFERROR(ROUND(INDEX(F_Inputs!$A$4:$Y$103, MATCH(F_Inputs_Formatted!$B29&F_Inputs_Formatted!$H29,F_Inputs!$Y$4:$Y$103,0),MATCH(F_Inputs_Formatted!P$4,F_Inputs!$A$4:$Y$4,0)),$O29),"##BLANK") -> 0.986 | Q29: =IFERROR(ROUND(INDEX(F_Inputs!$A$4:$Y$103, MATCH(F_Inputs_Formatted!$B29&F_Inputs_Formatted!$H29,F_Inputs!$Y$4:$Y$103,0),MATCH(F_Inputs_Formatted!Q$4,F_Inputs!$A$4:$Y$4,0)),$O29),"##BLANK") -> 0.992 | R29: =IFERROR(ROUND(INDEX(F_Inputs!$A$4:$Y$103, MATCH(F_Inputs_Formatted!$B29&F_Inputs_Formatted!$H29,F_Inputs!$Y$4:$Y$103,0),MATCH(F_Inputs_Formatted!R$4,F_Inputs!$A$4:$Y$4,0)),$O29),"##BLANK") -> 0.986 | S29: =IFERROR(ROUND(INDEX(F_Inputs!$A$4:$Y$103, MATCH(F_Inputs_Formatted!$B29&F_Inputs_Formatted!$H29,F_Inputs!$Y$4:$Y$103,0),MATCH(F_Inputs_Formatted!S$4,F_Inputs!$A$4:$Y$4,0)),$O29),"##BLANK") -> 0.983 | T29: =IFERROR(ROUND(INDEX(F_Inputs!$A$4:$Y$103, MATCH(F_Inputs_Formatted!$B29&F_Inputs_Formatted!$H29,F_Inputs!$Y$4:$Y$103,0),MATCH(F_Inputs_Formatted!T$4,F_Inputs!$A$4:$Y$4,0)),$O29),"##BLANK") -> 0.972 | U29: =IFERROR(ROUND(INDEX(F_Inputs!$A$4:$Y$103, MATCH(F_Inputs_Formatted!$B29&F_Inputs_Formatted!$H29,F_Inputs!$Y$4:$Y$103,0),MATCH(F_Inputs_Formatted!U$4,F_Inputs!$A$4:$Y$4,0)),$O29),"##BLANK") -> 0.974 | V29: =IFERROR(ROUND(INDEX(F_Inputs!$A$4:$Y$103, MATCH(F_Inputs_Formatted!$B29&F_Inputs_Formatted!$H29,F_Inputs!$Y$4:$Y$103,0),MATCH(F_Inputs_Formatted!V$4,F_Inputs!$A$4:$Y$4,0)),$O29),"##BLANK") -> 0.988 | W29: =IFERROR(ROUND(INDEX(F_Inputs!$A$4:$Y$103, MATCH(F_Inputs_Formatted!$B29&F_Inputs_Formatted!$H29,F_Inputs!$Y$4:$Y$103,0),MATCH(F_Inputs_Formatted!W$4,F_Inputs!$A$4:$Y$4,0)),$O29),"##BLANK") -> 0.987 | ... AH29: =IFERROR(ROUND(INDEX(F_Inputs!$A$4:$Y$103, MATCH(F_Inputs_Formatted!$B29&F_Inputs_Formatted!$H29,F_Inputs!$Y$4:$Y$103,0),MATCH(F_Inputs_Formatted!AH$4,F_Inputs!$A$4:$Y$4,0)),$O29),"##BLANK") -> 0.983
B30: WSX | C30: =_xlfn.XLOOKUP($B30,FD_Lists!$B$4:$B$25,FD_Lists!C$4:C$25) -> Wessex Water | D30: =_xlfn.XLOOKUP($B30,FD_Lists!$B$4:$B$25,FD_Lists!D$4:D$25) -> England | E30: =_xlfn.XLOOKUP($B30,FD_Lists!$B$4:$B$25,FD_Lists!E$4:E$25) -> Company | F30: =_xlfn.XLOOKUP($B30,FD_Lists!$B$4:$B$25,FD_Lists!F$4:F$25) -> WaSC | G30: PCL Units | H30: OUT2_14_PR24 | I30: =B30&H30 -> WSXOUT2_14_PR24 | J30: Base | K30: Company view (FD) | L30: DIS | M30: Percentage compliance | N30: Percentage | O30: 3 | P30: =IFERROR(ROUND(INDEX(F_Inputs!$A$4:$Y$103, MATCH(F_Inputs_Formatted!$B30&F_Inputs_Formatted!$H30,F_Inputs!$Y$4:$Y$103,0),MATCH(F_Inputs_Formatted!P$4,F_Inputs!$A$4:$Y$4,0)),$O30),"##BLANK") -> 0.997 | Q30: =IFERROR(ROUND(INDEX(F_Inputs!$A$4:$Y$103, MATCH(F_Inputs_Formatted!$B30&F_Inputs_Formatted!$H30,F_Inputs!$Y$4:$Y$103,0),MATCH(F_Inputs_Formatted!Q$4,F_Inputs!$A$4:$Y$4,0)),$O30),"##BLANK") -> 0.997 | R30: =IFERROR(ROUND(INDEX(F_Inputs!$A$4:$Y$103, MATCH(F_Inputs_Formatted!$B30&F_Inputs_Formatted!$H30,F_Inputs!$Y$4:$Y$103,0),MATCH(F_Inputs_Formatted!R$4,F_Inputs!$A$4:$Y$4,0)),$O30),"##BLANK") -> 0.99 | S30: =IFERROR(ROUND(INDEX(F_Inputs!$A$4:$Y$103, MATCH(F_Inputs_Formatted!$B30&F_Inputs_Formatted!$H30,F_Inputs!$Y$4:$Y$103,0),MATCH(F_Inputs_Formatted!S$4,F_Inputs!$A$4:$Y$4,0)),$O30),"##BLANK") -> 0.997 | T30: =IFERROR(ROUND(INDEX(F_Inputs!$A$4:$Y$103, MATCH(F_Inputs_Formatted!$B30&F_Inputs_Formatted!$H30,F_Inputs!$Y$4:$Y$103,0),MATCH(F_Inputs_Formatted!T$4,F_Inputs!$A$4:$Y$4,0)),$O30),"##BLANK") -> 0.997 | U30: =IFERROR(ROUND(INDEX(F_Inputs!$A$4:$Y$103, MATCH(F_Inputs_Formatted!$B30&F_Inputs_Formatted!$H30,F_Inputs!$Y$4:$Y$103,0),MATCH(F_Inputs_Formatted!U$4,F_Inputs!$A$4:$Y$4,0)),$O30),"##BLANK") -> 0.994 | V30: =IFERROR(ROUND(INDEX(F_Inputs!$A$4:$Y$103, MATCH(F_Inputs_Formatted!$B30&F_Inputs_Formatted!$H30,F_Inputs!$Y$4:$Y$103,0),MATCH(F_Inputs_Formatted!V$4,F_Inputs!$A$4:$Y$4,0)),$O30),"##BLANK") -> 0.99 | W30: =IFERROR(ROUND(INDEX(F_Inputs!$A$4:$Y$103, MATCH(F_Inputs_Formatted!$B30&F_Inputs_Formatted!$H30,F_Inputs!$Y$4:$Y$103,0),MATCH(F_Inputs_Formatted!W$4,F_Inputs!$A$4:$Y$4,0)),$O30),"##BLANK") -> 1 | ... AH30: =IFERROR(ROUND(INDEX(F_Inputs!$A$4:$Y$103, MATCH(F_Inputs_Formatted!$B30&F_Inputs_Formatted!$H30,F_Inputs!$Y$4:$Y$103,0),MATCH(F_Inputs_Formatted!AH$4,F_Inputs!$A$4:$Y$4,0)),$O30),"##BLANK") -> 0.99
B31: YKY | C31: =_xlfn.XLOOKUP($B31,FD_Lists!$B$4:$B$25,FD_Lists!C$4:C$25) -> Yorkshire Water | D31: =_xlfn.XLOOKUP($B31,FD_Lists!$B$4:$B$25,FD_Lists!D$4:D$25) -> England | E31: =_xlfn.XLOOKUP($B31,FD_Lists!$B$4:$B$25,FD_Lists!E$4:E$25) -> Company | F31: =_xlfn.XLOOKUP($B31,FD_Lists!$B$4:$B$25,FD_Lists!F$4:F$25) -> WaSC | G31: PCL Units | H31: OUT2_14_PR24 | I31: =B31&H31 -> YKYOUT2_14_PR24 | J31: Base | K31: Company view (FD) | L31: DIS | M31: Percentage compliance | N31: Percentage | O31: 3 | P31: =IFERROR(ROUND(INDEX(F_Inputs!$A$4:$Y$103, MATCH(F_Inputs_Formatted!$B31&F_Inputs_Formatted!$H31,F_Inputs!$Y$4:$Y$103,0),MATCH(F_Inputs_Formatted!P$4,F_Inputs!$A$4:$Y$4,0)),$O31),"##BLANK") -> 0.973 | Q31: =IFERROR(ROUND(INDEX(F_Inputs!$A$4:$Y$103, MATCH(F_Inputs_Formatted!$B31&F_Inputs_Formatted!$H31,F_Inputs!$Y$4:$Y$103,0),MATCH(F_Inputs_Formatted!Q$4,F_Inputs!$A$4:$Y$4,0)),$O31),"##BLANK") -> 0.973 | R31: =IFERROR(ROUND(INDEX(F_Inputs!$A$4:$Y$103, MATCH(F_Inputs_Formatted!$B31&F_Inputs_Formatted!$H31,F_Inputs!$Y$4:$Y$103,0),MATCH(F_Inputs_Formatted!R$4,F_Inputs!$A$4:$Y$4,0)),$O31),"##BLANK") -> 0.98 | S31: =IFERROR(ROUND(INDEX(F_Inputs!$A$4:$Y$103, MATCH(F_Inputs_Formatted!$B31&F_Inputs_Formatted!$H31,F_Inputs!$Y$4:$Y$103,0),MATCH(F_Inputs_Formatted!S$4,F_Inputs!$A$4:$Y$4,0)),$O31),"##BLANK") -> 0.993 | T31: =IFERROR(ROUND(INDEX(F_Inputs!$A$4:$Y$103, MATCH(F_Inputs_Formatted!$B31&F_Inputs_Formatted!$H31,F_Inputs!$Y$4:$Y$103,0),MATCH(F_Inputs_Formatted!T$4,F_Inputs!$A$4:$Y$4,0)),$O31),"##BLANK") -> 0.993 | U31: =IFERROR(ROUND(INDEX(F_Inputs!$A$4:$Y$103, MATCH(F_Inputs_Formatted!$B31&F_Inputs_Formatted!$H31,F_Inputs!$Y$4:$Y$103,0),MATCH(F_Inputs_Formatted!U$4,F_Inputs!$A$4:$Y$4,0)),$O31),"##BLANK") -> 0.977 | V31: =IFERROR(ROUND(INDEX(F_Inputs!$A$4:$Y$103, MATCH(F_Inputs_Formatted!$B31&F_Inputs_Formatted!$H31,F_Inputs!$Y$4:$Y$103,0),MATCH(F_Inputs_Formatted!V$4,F_Inputs!$A$4:$Y$4,0)),$O31),"##BLANK") -> 0.976 | W31: =IFERROR(ROUND(INDEX(F_Inputs!$A$4:$Y$103, MATCH(F_Inputs_Formatted!$B31&F_Inputs_Formatted!$H31,F_Inputs!$Y$4:$Y$103,0),MATCH(F_Inputs_Formatted!W$4,F_Inputs!$A$4:$Y$4,0)),$O31),"##BLANK") -> 0.976 | ... AH31: =IFERROR(ROUND(INDEX(F_Inputs!$A$4:$Y$103, MATCH(F_Inputs_Formatted!$B31&F_Inputs_Formatted!$H31,F_Inputs!$Y$4:$Y$103,0),MATCH(F_Inputs_Formatted!AH$4,F_Inputs!$A$4:$Y$4,0)),$O31),"##BLANK") -> 1
B32: AFW | C32: =_xlfn.XLOOKUP($B32,FD_Lists!$B$4:$B$25,FD_Lists!C$4:C$25) -> Affinity Water | D32: =_xlfn.XLOOKUP($B32,FD_Lists!$B$4:$B$25,FD_Lists!D$4:D$25) -> England | E32: =_xlfn.XLOOKUP($B32,FD_Lists!$B$4:$B$25,FD_Lists!E$4:E$25) -> Company | F32: =_xlfn.XLOOKUP($B32,FD_Lists!$B$4:$B$25,FD_Lists!F$4:F$25) -> WoC | G32: PCL Units | H32: OUT2_14_PR24 | I32: =B32&H32 -> AFWOUT2_14_PR24 | J32: Base | K32: Company view (FD) | L32: DIS | M32: Percentage compliance | N32: Percentage | O32: 3 | P32: =IFERROR(ROUND(INDEX(F_Inputs!$A$4:$Y$103, MATCH(F_Inputs_Formatted!$B32&F_Inputs_Formatted!$H32,F_Inputs!$Y$4:$Y$103,0),MATCH(F_Inputs_Formatted!P$4,F_Inputs!$A$4:$Y$4,0)),$O32),"##BLANK") -> ##BLANK | Q32: =IFERROR(ROUND(INDEX(F_Inputs!$A$4:$Y$103, MATCH(F_Inputs_Formatted!$B32&F_Inputs_Formatted!$H32,F_Inputs!$Y$4:$Y$103,0),MATCH(F_Inputs_Formatted!Q$4,F_Inputs!$A$4:$Y$4,0)),$O32),"##BLANK") -> ##BLANK | R32: =IFERROR(ROUND(INDEX(F_Inputs!$A$4:$Y$103, MATCH(F_Inputs_Formatted!$B32&F_Inputs_Formatted!$H32,F_Inputs!$Y$4:$Y$103,0),MATCH(F_Inputs_Formatted!R$4,F_Inputs!$A$4:$Y$4,0)),$O32),"##BLANK") -> ##BLANK | S32: =IFERROR(ROUND(INDEX(F_Inputs!$A$4:$Y$103, MATCH(F_Inputs_Formatted!$B32&F_Inputs_Formatted!$H32,F_Inputs!$Y$4:$Y$103,0),MATCH(F_Inputs_Formatted!S$4,F_Inputs!$A$4:$Y$4,0)),$O32),"##BLANK") -> ##BLANK | T32: =IFERROR(ROUND(INDEX(F_Inputs!$A$4:$Y$103, MATCH(F_Inputs_Formatted!$B32&F_Inputs_Formatted!$H32,F_Inputs!$Y$4:$Y$103,0),MATCH(F_Inputs_Formatted!T$4,F_Inputs!$A$4:$Y$4,0)),$O32),"##BLANK") -> ##BLANK | U32: =IFERROR(ROUND(INDEX(F_Inputs!$A$4:$Y$103, MATCH(F_Inputs_Formatted!$B32&F_Inputs_Formatted!$H32,F_Inputs!$Y$4:$Y$103,0),MATCH(F_Inputs_Formatted!U$4,F_Inputs!$A$4:$Y$4,0)),$O32),"##BLANK") -> ##BLANK | V32: =IFERROR(ROUND(INDEX(F_Inputs!$A$4:$Y$103, MATCH(F_Inputs_Formatted!$B32&F_Inputs_Formatted!$H32,F_Inputs!$Y$4:$Y$103,0),MATCH(F_Inputs_Formatted!V$4,F_Inputs!$A$4:$Y$4,0)),$O32),"##BLANK") -> ##BLANK | W32: =IFERROR(ROUND(INDEX(F_Inputs!$A$4:$Y$103, MATCH(F_Inputs_Formatted!$B32&F_Inputs_Formatted!$H32,F_Inputs!$Y$4:$Y$103,0),MATCH(F_Inputs_Formatted!W$4,F_Inputs!$A$4:$Y$4,0)),$O32),"##BLANK") -> ##BLANK | ... AH32: =IFERROR(ROUND(INDEX(F_Inputs!$A$4:$Y$103, MATCH(F_Inputs_Formatted!$B32&F_Inputs_Formatted!$H32,F_Inputs!$Y$4:$Y$103,0),MATCH(F_Inputs_Formatted!AH$4,F_Inputs!$A$4:$Y$4,0)),$O32),"##BLANK") -> 1
B33: PRT | C33: =_xlfn.XLOOKUP($B33,FD_Lists!$B$4:$B$25,FD_Lists!C$4:C$25) -> Portsmouth Water | D33: =_xlfn.XLOOKUP($B33,FD_Lists!$B$4:$B$25,FD_Lists!D$4:D$25) -> England | E33: =_xlfn.XLOOKUP($B33,FD_Lists!$B$4:$B$25,FD_Lists!E$4:E$25) -> Company | F33: =_xlfn.XLOOKUP($B33,FD_Lists!$B$4:$B$25,FD_Lists!F$4:F$25) -> WoC | G33: PCL Units | H33: OUT2_14_PR24 | I33: =B33&H33 -> PRTOUT2_14_PR24 | J33: Base | K33: Company view (FD) | L33: DIS | M33: Percentage compliance | N33: Percentage | O33: 3 | P33: =IFERROR(ROUND(INDEX(F_Inputs!$A$4:$Y$103, MATCH(F_Inputs_Formatted!$B33&F_Inputs_Formatted!$H33,F_Inputs!$Y$4:$Y$103,0),MATCH(F_Inputs_Formatted!P$4,F_Inputs!$A$4:$Y$4,0)),$O33),"##BLANK") -> ##BLANK | Q33: =IFERROR(ROUND(INDEX(F_Inputs!$A$4:$Y$103, MATCH(F_Inputs_Formatted!$B33&F_Inputs_Formatted!$H33,F_Inputs!$Y$4:$Y$103,0),MATCH(F_Inputs_Formatted!Q$4,F_Inputs!$A$4:$Y$4,0)),$O33),"##BLANK") -> ##BLANK | R33: =IFERROR(ROUND(INDEX(F_Inputs!$A$4:$Y$103, MATCH(F_Inputs_Formatted!$B33&F_Inputs_Formatted!$H33,F_Inputs!$Y$4:$Y$103,0),MATCH(F_Inputs_Formatted!R$4,F_Inputs!$A$4:$Y$4,0)),$O33),"##BLANK") -> ##BLANK | S33: =IFERROR(ROUND(INDEX(F_Inputs!$A$4:$Y$103, MATCH(F_Inputs_Formatted!$B33&F_Inputs_Formatted!$H33,F_Inputs!$Y$4:$Y$103,0),MATCH(F_Inputs_Formatted!S$4,F_Inputs!$A$4:$Y$4,0)),$O33),"##BLANK") -> ##BLANK | T33: =IFERROR(ROUND(INDEX(F_Inputs!$A$4:$Y$103, MATCH(F_Inputs_Formatted!$B33&F_Inputs_Formatted!$H33,F_Inputs!$Y$4:$Y$103,0),MATCH(F_Inputs_Formatted!T$4,F_Inputs!$A$4:$Y$4,0)),$O33),"##BLANK") -> ##BLANK | U33: =IFERROR(ROUND(INDEX(F_Inputs!$A$4:$Y$103, MATCH(F_Inputs_Formatted!$B33&F_Inputs_Formatted!$H33,F_Inputs!$Y$4:$Y$103,0),MATCH(F_Inputs_Formatted!U$4,F_Inputs!$A$4:$Y$4,0)),$O33),"##BLANK") -> ##BLANK | V33: =IFERROR(ROUND(INDEX(F_Inputs!$A$4:$Y$103, MATCH(F_Inputs_Formatted!$B33&F_Inputs_Formatted!$H33,F_Inputs!$Y$4:$Y$103,0),MATCH(F_Inputs_Formatted!V$4,F_Inputs!$A$4:$Y$4,0)),$O33),"##BLANK") -> ##BLANK | W33: =IFERROR(ROUND(INDEX(F_Inputs!$A$4:$Y$103, MATCH(F_Inputs_Formatted!$B33&F_Inputs_Formatted!$H33,F_Inputs!$Y$4:$Y$103,0),MATCH(F_Inputs_Formatted!W$4,F_Inputs!$A$4:$Y$4,0)),$O33),"##BLANK") -> ##BLANK | ... AH33: =IFERROR(ROUND(INDEX(F_Inputs!$A$4:$Y$103, MATCH(F_Inputs_Formatted!$B33&F_Inputs_Formatted!$H33,F_Inputs!$Y$4:$Y$103,0),MATCH(F_Inputs_Formatted!AH$4,F_Inputs!$A$4:$Y$4,0)),$O33),"##BLANK") -> 1
B34: SEW | C34: =_xlfn.XLOOKUP($B34,FD_Lists!$B$4:$B$25,FD_Lists!C$4:C$25) -> South East Water | D34: =_xlfn.XLOOKUP($B34,FD_Lists!$B$4:$B$25,FD_Lists!D$4:D$25) -> England | E34: =_xlfn.XLOOKUP($B34,FD_Lists!$B$4:$B$25,FD_Lists!E$4:E$25) -> Company | F34: =_xlfn.XLOOKUP($B34,FD_Lists!$B$4:$B$25,FD_Lists!F$4:F$25) -> WoC | G34: PCL Units | H34: OUT2_14_PR24 | I34: =B34&H34 -> SEWOUT2_14_PR24 | J34: Base | K34: Company view (FD) | L34: DIS | M34: Percentage compliance | N34: Percentage | O34: 3 | P34: =IFERROR(ROUND(INDEX(F_Inputs!$A$4:$Y$103, MATCH(F_Inputs_Formatted!$B34&F_Inputs_Formatted!$H34,F_Inputs!$Y$4:$Y$103,0),MATCH(F_Inputs_Formatted!P$4,F_Inputs!$A$4:$Y$4,0)),$O34),"##BLANK") -> 0 | Q34: =IFERROR(ROUND(INDEX(F_Inputs!$A$4:$Y$103, MATCH(F_Inputs_Formatted!$B34&F_Inputs_Formatted!$H34,F_Inputs!$Y$4:$Y$103,0),MATCH(F_Inputs_Formatted!Q$4,F_Inputs!$A$4:$Y$4,0)),$O34),"##BLANK") -> 0 | R34: =IFERROR(ROUND(INDEX(F_Inputs!$A$4:$Y$103, MATCH(F_Inputs_Formatted!$B34&F_Inputs_Formatted!$H34,F_Inputs!$Y$4:$Y$103,0),MATCH(F_Inputs_Formatted!R$4,F_Inputs!$A$4:$Y$4,0)),$O34),"##BLANK") -> 0.974 | S34: =IFERROR(ROUND(INDEX(F_Inputs!$A$4:$Y$103, MATCH(F_Inputs_Formatted!$B34&F_Inputs_Formatted!$H34,F_Inputs!$Y$4:$Y$103,0),MATCH(F_Inputs_Formatted!S$4,F_Inputs!$A$4:$Y$4,0)),$O34),"##BLANK") -> 0.921 | T34: =IFERROR(ROUND(INDEX(F_Inputs!$A$4:$Y$103, MATCH(F_Inputs_Formatted!$B34&F_Inputs_Formatted!$H34,F_Inputs!$Y$4:$Y$103,0),MATCH(F_Inputs_Formatted!T$4,F_Inputs!$A$4:$Y$4,0)),$O34),"##BLANK") -> 0.987 | U34: =IFERROR(ROUND(INDEX(F_Inputs!$A$4:$Y$103, MATCH(F_Inputs_Formatted!$B34&F_Inputs_Formatted!$H34,F_Inputs!$Y$4:$Y$103,0),MATCH(F_Inputs_Formatted!U$4,F_Inputs!$A$4:$Y$4,0)),$O34),"##BLANK") -> 0.934 | V34: =IFERROR(ROUND(INDEX(F_Inputs!$A$4:$Y$103, MATCH(F_Inputs_Formatted!$B34&F_Inputs_Formatted!$H34,F_Inputs!$Y$4:$Y$103,0),MATCH(F_Inputs_Formatted!V$4,F_Inputs!$A$4:$Y$4,0)),$O34),"##BLANK") -> 0.947 | W34: =IFERROR(ROUND(INDEX(F_Inputs!$A$4:$Y$103, MATCH(F_Inputs_Formatted!$B34&F_Inputs_Formatted!$H34,F_Inputs!$Y$4:$Y$103,0),MATCH(F_Inputs_Formatted!W$4,F_Inputs!$A$4:$Y$4,0)),$O34),"##BLANK") -> 0.961 | ... AH34: =IFERROR(ROUND(INDEX(F_Inputs!$A$4:$Y$103, MATCH(F_Inputs_Formatted!$B34&F_Inputs_Formatted!$H34,F_Inputs!$Y$4:$Y$103,0),MATCH(F_Inputs_Formatted!AH$4,F_Inputs!$A$4:$Y$4,0)),$O34),"##BLANK") -> 0.987
B35: SSC | C35: =_xlfn.XLOOKUP($B35,FD_Lists!$B$4:$B$25,FD_Lists!C$4:C$25) -> South Staffordshire Water | D35: =_xlfn.XLOOKUP($B35,FD_Lists!$B$4:$B$25,FD_Lists!D$4:D$25) -> England | E35: =_xlfn.XLOOKUP($B35,FD_Lists!$B$4:$B$25,FD_Lists!E$4:E$25) -> Company | F35: =_xlfn.XLOOKUP($B35,FD_Lists!$B$4:$B$25,FD_Lists!F$4:F$25) -> WoC | G35: PCL Units | H35: OUT2_14_PR24 | I35: =B35&H35 -> SSCOUT2_14_PR24 | J35: Base | K35: Company view (FD) | L35: DIS | M35: Percentage compliance | N35: Percentage | O35: 3 | P35: =IFERROR(ROUND(INDEX(F_Inputs!$A$4:$Y$103, MATCH(F_Inputs_Formatted!$B35&F_Inputs_Formatted!$H35,F_Inputs!$Y$4:$Y$103,0),MATCH(F_Inputs_Formatted!P$4,F_Inputs!$A$4:$Y$4,0)),$O35),"##BLANK") -> ##BLANK | Q35: =IFERROR(ROUND(INDEX(F_Inputs!$A$4:$Y$103, MATCH(F_Inputs_Formatted!$B35&F_Inputs_Formatted!$H35,F_Inputs!$Y$4:$Y$103,0),MATCH(F_Inputs_Formatted!Q$4,F_Inputs!$A$4:$Y$4,0)),$O35),"##BLANK") -> ##BLANK | R35: =IFERROR(ROUND(INDEX(F_Inputs!$A$4:$Y$103, MATCH(F_Inputs_Formatted!$B35&F_Inputs_Formatted!$H35,F_Inputs!$Y$4:$Y$103,0),MATCH(F_Inputs_Formatted!R$4,F_Inputs!$A$4:$Y$4,0)),$O35),"##BLANK") -> ##BLANK | S35: =IFERROR(ROUND(INDEX(F_Inputs!$A$4:$Y$103, MATCH(F_Inputs_Formatted!$B35&F_Inputs_Formatted!$H35,F_Inputs!$Y$4:$Y$103,0),MATCH(F_Inputs_Formatted!S$4,F_Inputs!$A$4:$Y$4,0)),$O35),"##BLANK") -> ##BLANK | T35: =IFERROR(ROUND(INDEX(F_Inputs!$A$4:$Y$103, MATCH(F_Inputs_Formatted!$B35&F_Inputs_Formatted!$H35,F_Inputs!$Y$4:$Y$103,0),MATCH(F_Inputs_Formatted!T$4,F_Inputs!$A$4:$Y$4,0)),$O35),"##BLANK") -> ##BLANK | U35: =IFERROR(ROUND(INDEX(F_Inputs!$A$4:$Y$103, MATCH(F_Inputs_Formatted!$B35&F_Inputs_Formatted!$H35,F_Inputs!$Y$4:$Y$103,0),MATCH(F_Inputs_Formatted!U$4,F_Inputs!$A$4:$Y$4,0)),$O35),"##BLANK") -> ##BLANK | V35: =IFERROR(ROUND(INDEX(F_Inputs!$A$4:$Y$103, MATCH(F_Inputs_Formatted!$B35&F_Inputs_Formatted!$H35,F_Inputs!$Y$4:$Y$103,0),MATCH(F_Inputs_Formatted!V$4,F_Inputs!$A$4:$Y$4,0)),$O35),"##BLANK") -> ##BLANK | W35: =IFERROR(ROUND(INDEX(F_Inputs!$A$4:$Y$103, MATCH(F_Inputs_Formatted!$B35&F_Inputs_Formatted!$H35,F_Inputs!$Y$4:$Y$103,0),MATCH(F_Inputs_Formatted!W$4,F_Inputs!$A$4:$Y$4,0)),$O35),"##BLANK") -> ##BLANK | ... AH35: =IFERROR(ROUND(INDEX(F_Inputs!$A$4:$Y$103, MATCH(F_Inputs_Formatted!$B35&F_Inputs_Formatted!$H35,F_Inputs!$Y$4:$Y$103,0),MATCH(F_Inputs_Formatted!AH$4,F_Inputs!$A$4:$Y$4,0)),$O35),"##BLANK") -> 1
B36: SES | C36: =_xlfn.XLOOKUP($B36,FD_Lists!$B$4:$B$25,FD_Lists!C$4:C$25) -> SES Water | D36: =_xlfn.XLOOKUP($B36,FD_Lists!$B$4:$B$25,FD_Lists!D$4:D$25) -> England | E36: =_xlfn.XLOOKUP($B36,FD_Lists!$B$4:$B$25,FD_Lists!E$4:E$25) -> Company | F36: =_xlfn.XLOOKUP($B36,FD_Lists!$B$4:$B$25,FD_Lists!F$4:F$25) -> WoC | G36: PCL Units | H36: OUT2_14_PR24 | I36: =B36&H36 -> SESOUT2_14_PR24 | J36: Base | K36: Company view (FD) | L36: DIS | M36: Percentage compliance | N36: Percentage | O36: 3 | P36: =IFERROR(ROUND(INDEX(F_Inputs!$A$4:$Y$103, MATCH(F_Inputs_Formatted!$B36&F_Inputs_Formatted!$H36,F_Inputs!$Y$4:$Y$103,0),MATCH(F_Inputs_Formatted!P$4,F_Inputs!$A$4:$Y$4,0)),$O36),"##BLANK") -> ##BLANK | Q36: =IFERROR(ROUND(INDEX(F_Inputs!$A$4:$Y$103, MATCH(F_Inputs_Formatted!$B36&F_Inputs_Formatted!$H36,F_Inputs!$Y$4:$Y$103,0),MATCH(F_Inputs_Formatted!Q$4,F_Inputs!$A$4:$Y$4,0)),$O36),"##BLANK") -> ##BLANK | R36: =IFERROR(ROUND(INDEX(F_Inputs!$A$4:$Y$103, MATCH(F_Inputs_Formatted!$B36&F_Inputs_Formatted!$H36,F_Inputs!$Y$4:$Y$103,0),MATCH(F_Inputs_Formatted!R$4,F_Inputs!$A$4:$Y$4,0)),$O36),"##BLANK") -> 1 | S36: =IFERROR(ROUND(INDEX(F_Inputs!$A$4:$Y$103, MATCH(F_Inputs_Formatted!$B36&F_Inputs_Formatted!$H36,F_Inputs!$Y$4:$Y$103,0),MATCH(F_Inputs_Formatted!S$4,F_Inputs!$A$4:$Y$4,0)),$O36),"##BLANK") -> 1 | T36: =IFERROR(ROUND(INDEX(F_Inputs!$A$4:$Y$103, MATCH(F_Inputs_Formatted!$B36&F_Inputs_Formatted!$H36,F_Inputs!$Y$4:$Y$103,0),MATCH(F_Inputs_Formatted!T$4,F_Inputs!$A$4:$Y$4,0)),$O36),"##BLANK") -> 1 | U36: =IFERROR(ROUND(INDEX(F_Inputs!$A$4:$Y$103, MATCH(F_Inputs_Formatted!$B36&F_Inputs_Formatted!$H36,F_Inputs!$Y$4:$Y$103,0),MATCH(F_Inputs_Formatted!U$4,F_Inputs!$A$4:$Y$4,0)),$O36),"##BLANK") -> 1 | V36: =IFERROR(ROUND(INDEX(F_Inputs!$A$4:$Y$103, MATCH(F_Inputs_Formatted!$B36&F_Inputs_Formatted!$H36,F_Inputs!$Y$4:$Y$103,0),MATCH(F_Inputs_Formatted!V$4,F_Inputs!$A$4:$Y$4,0)),$O36),"##BLANK") -> 1 | W36: =IFERROR(ROUND(INDEX(F_Inputs!$A$4:$Y$103, MATCH(F_Inputs_Formatted!$B36&F_Inputs_Formatted!$H36,F_Inputs!$Y$4:$Y$103,0),MATCH(F_Inputs_Formatted!W$4,F_Inputs!$A$4:$Y$4,0)),$O36),"##BLANK") -> 1 | ... AH36: =IFERROR(ROUND(INDEX(F_Inputs!$A$4:$Y$103, MATCH(F_Inputs_Formatted!$B36&F_Inputs_Formatted!$H36,F_Inputs!$Y$4:$Y$103,0),MATCH(F_Inputs_Formatted!AH$4,F_Inputs!$A$4:$Y$4,0)),$O36),"##BLANK") -> 1
B37: SWB | C37: =_xlfn.XLOOKUP($B37,FD_Lists!$B$4:$B$25,FD_Lists!C$4:C$25) -> South West Water | D37: =_xlfn.XLOOKUP($B37,FD_Lists!$B$4:$B$25,FD_Lists!D$4:D$25) -> England | E37: =_xlfn.XLOOKUP($B37,FD_Lists!$B$4:$B$25,FD_Lists!E$4:E$25) -> Company | F37: =_xlfn.XLOOKUP($B37,FD_Lists!$B$4:$B$25,FD_Lists!F$4:F$25) -> WaSC | G37: PCL Units | H37: OUT2_14_PR24 | I37: =B37&H37 -> SWBOUT2_14_PR24 | J37: Base | K37: Company view (FD) | L37: DIS | M37: Percentage compliance | N37: Percentage | O37: 3 | P37: =IFERROR(ROUND(INDEX(F_Inputs!$A$4:$Y$103, MATCH(F_Inputs_Formatted!$B37&F_Inputs_Formatted!$H37,F_Inputs!$Y$4:$Y$103,0),MATCH(F_Inputs_Formatted!P$4,F_Inputs!$A$4:$Y$4,0)),$O37),"##BLANK") -> 89.03 | Q37: =IFERROR(ROUND(INDEX(F_Inputs!$A$4:$Y$103, MATCH(F_Inputs_Formatted!$B37&F_Inputs_Formatted!$H37,F_Inputs!$Y$4:$Y$103,0),MATCH(F_Inputs_Formatted!Q$4,F_Inputs!$A$4:$Y$4,0)),$O37),"##BLANK") -> 96.49 | R37: =IFERROR(ROUND(INDEX(F_Inputs!$A$4:$Y$103, MATCH(F_Inputs_Formatted!$B37&F_Inputs_Formatted!$H37,F_Inputs!$Y$4:$Y$103,0),MATCH(F_Inputs_Formatted!R$4,F_Inputs!$A$4:$Y$4,0)),$O37),"##BLANK") -> 93.27 | S37: =IFERROR(ROUND(INDEX(F_Inputs!$A$4:$Y$103, MATCH(F_Inputs_Formatted!$B37&F_Inputs_Formatted!$H37,F_Inputs!$Y$4:$Y$103,0),MATCH(F_Inputs_Formatted!S$4,F_Inputs!$A$4:$Y$4,0)),$O37),"##BLANK") -> 96.14 | T37: =IFERROR(ROUND(INDEX(F_Inputs!$A$4:$Y$103, MATCH(F_Inputs_Formatted!$B37&F_Inputs_Formatted!$H37,F_Inputs!$Y$4:$Y$103,0),MATCH(F_Inputs_Formatted!T$4,F_Inputs!$A$4:$Y$4,0)),$O37),"##BLANK") -> 95.53 | U37: =IFERROR(ROUND(INDEX(F_Inputs!$A$4:$Y$103, MATCH(F_Inputs_Formatted!$B37&F_Inputs_Formatted!$H37,F_Inputs!$Y$4:$Y$103,0),MATCH(F_Inputs_Formatted!U$4,F_Inputs!$A$4:$Y$4,0)),$O37),"##BLANK") -> 98.08 | V37: =IFERROR(ROUND(INDEX(F_Inputs!$A$4:$Y$103, MATCH(F_Inputs_Formatted!$B37&F_Inputs_Formatted!$H37,F_Inputs!$Y$4:$Y$103,0),MATCH(F_Inputs_Formatted!V$4,F_Inputs!$A$4:$Y$4,0)),$O37),"##BLANK") -> 97.1 | W37: =IFERROR(ROUND(INDEX(F_Inputs!$A$4:$Y$103, MATCH(F_Inputs_Formatted!$B37&F_Inputs_Formatted!$H37,F_Inputs!$Y$4:$Y$103,0),MATCH(F_Inputs_Formatted!W$4,F_Inputs!$A$4:$Y$4,0)),$O37),"##BLANK") -> 0.987 | ... AH37: =IFERROR(ROUND(INDEX(F_Inputs!$A$4:$Y$103, MATCH(F_Inputs_Formatted!$B37&F_Inputs_Formatted!$H37,F_Inputs!$Y$4:$Y$103,0),MATCH(F_Inputs_Formatted!AH$4,F_Inputs!$A$4:$Y$4,0)),$O37),"##BLANK") -> 1
B38: BRL | C38: =_xlfn.XLOOKUP($B38,FD_Lists!$B$4:$B$25,FD_Lists!C$4:C$25) -> Bristol Water | D38: =_xlfn.XLOOKUP($B38,FD_Lists!$B$4:$B$25,FD_Lists!D$4:D$25) -> England | E38: =_xlfn.XLOOKUP($B38,FD_Lists!$B$4:$B$25,FD_Lists!E$4:E$25) -> Company | F38: =_xlfn.XLOOKUP($B38,FD_Lists!$B$4:$B$25,FD_Lists!F$4:F$25) -> WoC | G38: PCL Units | H38: OUT2_14_PR24 | I38: =B38&H38 -> BRLOUT2_14_PR24 | J38: Base | K38: Company view (FD) | L38: DIS | M38: Percentage compliance | N38: Percentage | O38: 3 | P38: =IFERROR(ROUND(INDEX(F_Inputs!$A$4:$Y$103, MATCH(F_Inputs_Formatted!$B38&F_Inputs_Formatted!$H38,F_Inputs!$Y$4:$Y$103,0),MATCH(F_Inputs_Formatted!P$4,F_Inputs!$A$4:$Y$4,0)),$O38),"##BLANK") -> ##BLANK | Q38: =IFERROR(ROUND(INDEX(F_Inputs!$A$4:$Y$103, MATCH(F_Inputs_Formatted!$B38&F_Inputs_Formatted!$H38,F_Inputs!$Y$4:$Y$103,0),MATCH(F_Inputs_Formatted!Q$4,F_Inputs!$A$4:$Y$4,0)),$O38),"##BLANK") -> ##BLANK | R38: =IFERROR(ROUND(INDEX(F_Inputs!$A$4:$Y$103, MATCH(F_Inputs_Formatted!$B38&F_Inputs_Formatted!$H38,F_Inputs!$Y$4:$Y$103,0),MATCH(F_Inputs_Formatted!R$4,F_Inputs!$A$4:$Y$4,0)),$O38),"##BLANK") -> ##BLANK | S38: =IFERROR(ROUND(INDEX(F_Inputs!$A$4:$Y$103, MATCH(F_Inputs_Formatted!$B38&F_Inputs_Formatted!$H38,F_Inputs!$Y$4:$Y$103,0),MATCH(F_Inputs_Formatted!S$4,F_Inputs!$A$4:$Y$4,0)),$O38),"##BLANK") -> ##BLANK | T38: =IFERROR(ROUND(INDEX(F_Inputs!$A$4:$Y$103, MATCH(F_Inputs_Formatted!$B38&F_Inputs_Formatted!$H38,F_Inputs!$Y$4:$Y$103,0),MATCH(F_Inputs_Formatted!T$4,F_Inputs!$A$4:$Y$4,0)),$O38),"##BLANK") -> ##BLANK | U38: =IFERROR(ROUND(INDEX(F_Inputs!$A$4:$Y$103, MATCH(F_Inputs_Formatted!$B38&F_Inputs_Formatted!$H38,F_Inputs!$Y$4:$Y$103,0),MATCH(F_Inputs_Formatted!U$4,F_Inputs!$A$4:$Y$4,0)),$O38),"##BLANK") -> ##BLANK | V38: =IFERROR(ROUND(INDEX(F_Inputs!$A$4:$Y$103, MATCH(F_Inputs_Formatted!$B38&F_Inputs_Formatted!$H38,F_Inputs!$Y$4:$Y$103,0),MATCH(F_Inputs_Formatted!V$4,F_Inputs!$A$4:$Y$4,0)),$O38),"##BLANK") -> ##BLANK | W38: =IFERROR(ROUND(INDEX(F_Inputs!$A$4:$Y$103, MATCH(F_Inputs_Formatted!$B38&F_Inputs_Formatted!$H38,F_Inputs!$Y$4:$Y$103,0),MATCH(F_Inputs_Formatted!W$4,F_Inputs!$A$4:$Y$4,0)),$O38),"##BLANK") -> ##BLANK | ... AH38: =IFERROR(ROUND(INDEX(F_Inputs!$A$4:$Y$103, MATCH(F_Inputs_Formatted!$B38&F_Inputs_Formatted!$H38,F_Inputs!$Y$4:$Y$103,0),MATCH(F_Inputs_Formatted!AH$4,F_Inputs!$A$4:$Y$4,0)),$O38),"##BLANK") -> 1
B39: ANH | C39: =_xlfn.XLOOKUP($B39,FD_Lists!$B$4:$B$25,FD_Lists!C$4:C$25) -> Anglian Water | D39: =_xlfn.XLOOKUP($B39,FD_Lists!$B$4:$B$25,FD_Lists!D$4:D$25) -> England | E39: =_xlfn.XLOOKUP($B39,FD_Lists!$B$4:$B$25,FD_Lists!E$4:E$25) -> Company | F39: =_xlfn.XLOOKUP($B39,FD_Lists!$B$4:$B$25,FD_Lists!F$4:F$25) -> WaSC | G39: PCL Units | H39: OUT3_14_01_PR24 | I39: =B39&H39 -> ANHOUT3_14_01_PR24 | J39: Enhancement | K39: Company view (FD) | L39: DIS | M39: Percentage compliance | N39: Percentage | O39: 3 | P39: =IFERROR(ROUND(INDEX(F_Inputs!$A$4:$Y$103, MATCH(F_Inputs_Formatted!$B39&F_Inputs_Formatted!$H39,F_Inputs!$Y$4:$Y$103,0),MATCH(F_Inputs_Formatted!P$4,F_Inputs!$A$4:$Y$4,0)),$O39),"##BLANK") -> ##BLANK | Q39: =IFERROR(ROUND(INDEX(F_Inputs!$A$4:$Y$103, MATCH(F_Inputs_Formatted!$B39&F_Inputs_Formatted!$H39,F_Inputs!$Y$4:$Y$103,0),MATCH(F_Inputs_Formatted!Q$4,F_Inputs!$A$4:$Y$4,0)),$O39),"##BLANK") -> ##BLANK | R39: =IFERROR(ROUND(INDEX(F_Inputs!$A$4:$Y$103, MATCH(F_Inputs_Formatted!$B39&F_Inputs_Formatted!$H39,F_Inputs!$Y$4:$Y$103,0),MATCH(F_Inputs_Formatted!R$4,F_Inputs!$A$4:$Y$4,0)),$O39),"##BLANK") -> ##BLANK | S39: =IFERROR(ROUND(INDEX(F_Inputs!$A$4:$Y$103, MATCH(F_Inputs_Formatted!$B39&F_Inputs_Formatted!$H39,F_Inputs!$Y$4:$Y$103,0),MATCH(F_Inputs_Formatted!S$4,F_Inputs!$A$4:$Y$4,0)),$O39),"##BLANK") -> ##BLANK | T39: =IFERROR(ROUND(INDEX(F_Inputs!$A$4:$Y$103, MATCH(F_Inputs_Formatted!$B39&F_Inputs_Formatted!$H39,F_Inputs!$Y$4:$Y$103,0),MATCH(F_Inputs_Formatted!T$4,F_Inputs!$A$4:$Y$4,0)),$O39),"##BLANK") -> ##BLANK | U39: =IFERROR(ROUND(INDEX(F_Inputs!$A$4:$Y$103, MATCH(F_Inputs_Formatted!$B39&F_Inputs_Formatted!$H39,F_Inputs!$Y$4:$Y$103,0),MATCH(F_Inputs_Formatted!U$4,F_Inputs!$A$4:$Y$4,0)),$O39),"##BLANK") -> ##BLANK | V39: =IFERROR(ROUND(INDEX(F_Inputs!$A$4:$Y$103, MATCH(F_Inputs_Formatted!$B39&F_Inputs_Formatted!$H39,F_Inputs!$Y$4:$Y$103,0),MATCH(F_Inputs_Formatted!V$4,F_Inputs!$A$4:$Y$4,0)),$O39),"##BLANK") -> ##BLANK | W39: =IFERROR(ROUND(INDEX(F_Inputs!$A$4:$Y$103, MATCH(F_Inputs_Formatted!$B39&F_Inputs_Formatted!$H39,F_Inputs!$Y$4:$Y$103,0),MATCH(F_Inputs_Formatted!W$4,F_Inputs!$A$4:$Y$4,0)),$O39),"##BLANK") -> ##BLANK | ... AH39: =IFERROR(ROUND(INDEX(F_Inputs!$A$4:$Y$103, MATCH(F_Inputs_Formatted!$B39&F_Inputs_Formatted!$H39,F_Inputs!$Y$4:$Y$103,0),MATCH(F_Inputs_Formatted!AH$4,F_Inputs!$A$4:$Y$4,0)),$O39),"##BLANK") -> 0
B40: WSH | C40: =_xlfn.XLOOKUP($B40,FD_Lists!$B$4:$B$25,FD_Lists!C$4:C$25) -> Dŵr Cymru | D40: =_xlfn.XLOOKUP($B40,FD_Lists!$B$4:$B$25,FD_Lists!D$4:D$25) -> Wales | E40: =_xlfn.XLOOKUP($B40,FD_Lists!$B$4:$B$25,FD_Lists!E$4:E$25) -> Company | F40: =_xlfn.XLOOKUP($B40,FD_Lists!$B$4:$B$25,FD_Lists!F$4:F$25) -> WaSC | G40: PCL Units | H40: OUT3_14_01_PR24 | I40: =B40&H40 -> WSHOUT3_14_01_PR24 | J40: Enhancement | K40: Company view (FD) | L40: DIS | M40: Percentage compliance | N40: Percentage | O40: 3 | P40: =IFERROR(ROUND(INDEX(F_Inputs!$A$4:$Y$103, MATCH(F_Inputs_Formatted!$B40&F_Inputs_Formatted!$H40,F_Inputs!$Y$4:$Y$103,0),MATCH(F_Inputs_Formatted!P$4,F_Inputs!$A$4:$Y$4,0)),$O40),"##BLANK") -> ##BLANK | Q40: =IFERROR(ROUND(INDEX(F_Inputs!$A$4:$Y$103, MATCH(F_Inputs_Formatted!$B40&F_Inputs_Formatted!$H40,F_Inputs!$Y$4:$Y$103,0),MATCH(F_Inputs_Formatted!Q$4,F_Inputs!$A$4:$Y$4,0)),$O40),"##BLANK") -> ##BLANK | R40: =IFERROR(ROUND(INDEX(F_Inputs!$A$4:$Y$103, MATCH(F_Inputs_Formatted!$B40&F_Inputs_Formatted!$H40,F_Inputs!$Y$4:$Y$103,0),MATCH(F_Inputs_Formatted!R$4,F_Inputs!$A$4:$Y$4,0)),$O40),"##BLANK") -> ##BLANK | S40: =IFERROR(ROUND(INDEX(F_Inputs!$A$4:$Y$103, MATCH(F_Inputs_Formatted!$B40&F_Inputs_Formatted!$H40,F_Inputs!$Y$4:$Y$103,0),MATCH(F_Inputs_Formatted!S$4,F_Inputs!$A$4:$Y$4,0)),$O40),"##BLANK") -> ##BLANK | T40: =IFERROR(ROUND(INDEX(F_Inputs!$A$4:$Y$103, MATCH(F_Inputs_Formatted!$B40&F_Inputs_Formatted!$H40,F_Inputs!$Y$4:$Y$103,0),MATCH(F_Inputs_Formatted!T$4,F_Inputs!$A$4:$Y$4,0)),$O40),"##BLANK") -> ##BLANK | U40: =IFERROR(ROUND(INDEX(F_Inputs!$A$4:$Y$103, MATCH(F_Inputs_Formatted!$B40&F_Inputs_Formatted!$H40,F_Inputs!$Y$4:$Y$103,0),MATCH(F_Inputs_Formatted!U$4,F_Inputs!$A$4:$Y$4,0)),$O40),"##BLANK") -> ##BLANK | V40: =IFERROR(ROUND(INDEX(F_Inputs!$A$4:$Y$103, MATCH(F_Inputs_Formatted!$B40&F_Inputs_Formatted!$H40,F_Inputs!$Y$4:$Y$103,0),MATCH(F_Inputs_Formatted!V$4,F_Inputs!$A$4:$Y$4,0)),$O40),"##BLANK") -> ##BLANK | W40: =IFERROR(ROUND(INDEX(F_Inputs!$A$4:$Y$103, MATCH(F_Inputs_Formatted!$B40&F_Inputs_Formatted!$H40,F_Inputs!$Y$4:$Y$103,0),MATCH(F_Inputs_Formatted!W$4,F_Inputs!$A$4:$Y$4,0)),$O40),"##BLANK") -> ##BLANK | ... AH40: =IFERROR(ROUND(INDEX(F_Inputs!$A$4:$Y$103, MATCH(F_Inputs_Formatted!$B40&F_Inputs_Formatted!$H40,F_Inputs!$Y$4:$Y$103,0),MATCH(F_Inputs_Formatted!AH$4,F_Inputs!$A$4:$Y$4,0)),$O40),"##BLANK") -> 0.002
B41: HDD | C41: =_xlfn.XLOOKUP($B41,FD_Lists!$B$4:$B$25,FD_Lists!C$4:C$25) -> Hafren Dyfrdwy | D41: =_xlfn.XLOOKUP($B41,FD_Lists!$B$4:$B$25,FD_Lists!D$4:D$25) -> Wales | E41: =_xlfn.XLOOKUP($B41,FD_Lists!$B$4:$B$25,FD_Lists!E$4:E$25) -> Company | F41: =_xlfn.XLOOKUP($B41,FD_Lists!$B$4:$B$25,FD_Lists!F$4:F$25) -> WaSC | G41: PCL Units | H41: OUT3_14_01_PR24 | I41: =B41&H41 -> HDDOUT3_14_01_PR24 | J41: Enhancement | K41: Company view (FD) | L41: DIS | M41: Percentage compliance | N41: Percentage | O41: 3 | P41: =IFERROR(ROUND(INDEX(F_Inputs!$A$4:$Y$103, MATCH(F_Inputs_Formatted!$B41&F_Inputs_Formatted!$H41,F_Inputs!$Y$4:$Y$103,0),MATCH(F_Inputs_Formatted!P$4,F_Inputs!$A$4:$Y$4,0)),$O41),"##BLANK") -> ##BLANK | Q41: =IFERROR(ROUND(INDEX(F_Inputs!$A$4:$Y$103, MATCH(F_Inputs_Formatted!$B41&F_Inputs_Formatted!$H41,F_Inputs!$Y$4:$Y$103,0),MATCH(F_Inputs_Formatted!Q$4,F_Inputs!$A$4:$Y$4,0)),$O41),"##BLANK") -> ##BLANK | R41: =IFERROR(ROUND(INDEX(F_Inputs!$A$4:$Y$103, MATCH(F_Inputs_Formatted!$B41&F_Inputs_Formatted!$H41,F_Inputs!$Y$4:$Y$103,0),MATCH(F_Inputs_Formatted!R$4,F_Inputs!$A$4:$Y$4,0)),$O41),"##BLANK") -> ##BLANK | S41: =IFERROR(ROUND(INDEX(F_Inputs!$A$4:$Y$103, MATCH(F_Inputs_Formatted!$B41&F_Inputs_Formatted!$H41,F_Inputs!$Y$4:$Y$103,0),MATCH(F_Inputs_Formatted!S$4,F_Inputs!$A$4:$Y$4,0)),$O41),"##BLANK") -> ##BLANK | T41: =IFERROR(ROUND(INDEX(F_Inputs!$A$4:$Y$103, MATCH(F_Inputs_Formatted!$B41&F_Inputs_Formatted!$H41,F_Inputs!$Y$4:$Y$103,0),MATCH(F_Inputs_Formatted!T$4,F_Inputs!$A$4:$Y$4,0)),$O41),"##BLANK") -> ##BLANK | U41: =IFERROR(ROUND(INDEX(F_Inputs!$A$4:$Y$103, MATCH(F_Inputs_Formatted!$B41&F_Inputs_Formatted!$H41,F_Inputs!$Y$4:$Y$103,0),MATCH(F_Inputs_Formatted!U$4,F_Inputs!$A$4:$Y$4,0)),$O41),"##BLANK") -> ##BLANK | V41: =IFERROR(ROUND(INDEX(F_Inputs!$A$4:$Y$103, MATCH(F_Inputs_Formatted!$B41&F_Inputs_Formatted!$H41,F_Inputs!$Y$4:$Y$103,0),MATCH(F_Inputs_Formatted!V$4,F_Inputs!$A$4:$Y$4,0)),$O41),"##BLANK") -> ##BLANK | W41: =IFERROR(ROUND(INDEX(F_Inputs!$A$4:$Y$103, MATCH(F_Inputs_Formatted!$B41&F_Inputs_Formatted!$H41,F_Inputs!$Y$4:$Y$103,0),MATCH(F_Inputs_Formatted!W$4,F_Inputs!$A$4:$Y$4,0)),$O41),"##BLANK") -> ##BLANK | ... AH41: =IFERROR(ROUND(INDEX(F_Inputs!$A$4:$Y$103, MATCH(F_Inputs_Formatted!$B41&F_Inputs_Formatted!$H41,F_Inputs!$Y$4:$Y$103,0),MATCH(F_Inputs_Formatted!AH$4,F_Inputs!$A$4:$Y$4,0)),$O41),"##BLANK") -> 0
... B45: TMS | C45: =_xlfn.XLOOKUP($B45,FD_Lists!$B$4:$B$25,FD_Lists!C$4:C$25) -> Thames Water | D45: =_xlfn.XLOOKUP($B45,FD_Lists!$B$4:$B$25,FD_Lists!D$4:D$25) -> England | E45: =_xlfn.XLOOKUP($B45,FD_Lists!$B$4:$B$25,FD_Lists!E$4:E$25) -> Company | F45: =_xlfn.XLOOKUP($B45,FD_Lists!$B$4:$B$25,FD_Lists!F$4:F$25) -> WaSC | G45: PCL Units | H45: OUT3_14_01_PR24 | I45: =B45&H45 -> TMSOUT3_14_01_PR24 | J45: Enhancement | K45: Company view (FD) | L45: DIS | M45: Percentage compliance | N45: Percentage | O45: 3 | P45: =IFERROR(ROUND(INDEX(F_Inputs!$A$4:$Y$103, MATCH(F_Inputs_Formatted!$B45&F_Inputs_Formatted!$H45,F_Inputs!$Y$4:$Y$103,0),MATCH(F_Inputs_Formatted!P$4,F_Inputs!$A$4:$Y$4,0)),$O45),"##BLANK") -> ##BLANK | Q45: =IFERROR(ROUND(INDEX(F_Inputs!$A$4:$Y$103, MATCH(F_Inputs_Formatted!$B45&F_Inputs_Formatted!$H45,F_Inputs!$Y$4:$Y$103,0),MATCH(F_Inputs_Formatted!Q$4,F_Inputs!$A$4:$Y$4,0)),$O45),"##BLANK") -> ##BLANK | R45: =IFERROR(ROUND(INDEX(F_Inputs!$A$4:$Y$103, MATCH(F_Inputs_Formatted!$B45&F_Inputs_Formatted!$H45,F_Inputs!$Y$4:$Y$103,0),MATCH(F_Inputs_Formatted!R$4,F_Inputs!$A$4:$Y$4,0)),$O45),"##BLANK") -> ##BLANK | S45: =IFERROR(ROUND(INDEX(F_Inputs!$A$4:$Y$103, MATCH(F_Inputs_Formatted!$B45&F_Inputs_Formatted!$H45,F_Inputs!$Y$4:$Y$103,0),MATCH(F_Inputs_Formatted!S$4,F_Inputs!$A$4:$Y$4,0)),$O45),"##BLANK") -> ##BLANK | T45: =IFERROR(ROUND(INDEX(F_Inputs!$A$4:$Y$103, MATCH(F_Inputs_Formatted!$B45&F_Inputs_Formatted!$H45,F_Inputs!$Y$4:$Y$103,0),MATCH(F_Inputs_Formatted!T$4,F_Inputs!$A$4:$Y$4,0)),$O45),"##BLANK") -> ##BLANK | U45: =IFERROR(ROUND(INDEX(F_Inputs!$A$4:$Y$103, MATCH(F_Inputs_Formatted!$B45&F_Inputs_Formatted!$H45,F_Inputs!$Y$4:$Y$103,0),MATCH(F_Inputs_Formatted!U$4,F_Inputs!$A$4:$Y$4,0)),$O45),"##BLANK") -> ##BLANK | V45: =IFERROR(ROUND(INDEX(F_Inputs!$A$4:$Y$103, MATCH(F_Inputs_Formatted!$B45&F_Inputs_Formatted!$H45,F_Inputs!$Y$4:$Y$103,0),MATCH(F_Inputs_Formatted!V$4,F_Inputs!$A$4:$Y$4,0)),$O45),"##BLANK") -> ##BLANK | W45: =IFERROR(ROUND(INDEX(F_Inputs!$A$4:$Y$103, MATCH(F_Inputs_Formatted!$B45&F_Inputs_Formatted!$H45,F_Inputs!$Y$4:$Y$103,0),MATCH(F_Inputs_Formatted!W$4,F_Inputs!$A$4:$Y$4,0)),$O45),"##BLANK") -> ##BLANK | ... AH45: =IFERROR(ROUND(INDEX(F_Inputs!$A$4:$Y$103, MATCH(F_Inputs_Formatted!$B45&F_Inputs_Formatted!$H45,F_Inputs!$Y$4:$Y$103,0),MATCH(F_Inputs_Formatted!AH$4,F_Inputs!$A$4:$Y$4,0)),$O45),"##BLANK") -> 0.013
A46: UUW | B46: NWT | C46: =_xlfn.XLOOKUP($B46,FD_Lists!$B$4:$B$25,FD_Lists!C$4:C$25) -> United Utilities | D46: =_xlfn.XLOOKUP($B46,FD_Lists!$B$4:$B$25,FD_Lists!D$4:D$25) -> England | E46: =_xlfn.XLOOKUP($B46,FD_Lists!$B$4:$B$25,FD_Lists!E$4:E$25) -> Company | F46: =_xlfn.XLOOKUP($B46,FD_Lists!$B$4:$B$25,FD_Lists!F$4:F$25) -> WaSC | G46: PCL Units | H46: OUT3_14_01_PR24 | I46: =B46&H46 -> NWTOUT3_14_01_PR24 | J46: Enhancement | K46: Company view (FD) | L46: DIS | M46: Percentage compliance | N46: Percentage | O46: 3 | P46: =IFERROR(ROUND(INDEX(F_Inputs!$A$4:$Y$103, MATCH(F_Inputs_Formatted!$B46&F_Inputs_Formatted!$H46,F_Inputs!$Y$4:$Y$103,0),MATCH(F_Inputs_Formatted!P$4,F_Inputs!$A$4:$Y$4,0)),$O46),"##BLANK") -> ##BLANK | Q46: =IFERROR(ROUND(INDEX(F_Inputs!$A$4:$Y$103, MATCH(F_Inputs_Formatted!$B46&F_Inputs_Formatted!$H46,F_Inputs!$Y$4:$Y$103,0),MATCH(F_Inputs_Formatted!Q$4,F_Inputs!$A$4:$Y$4,0)),$O46),"##BLANK") -> ##BLANK | R46: =IFERROR(ROUND(INDEX(F_Inputs!$A$4:$Y$103, MATCH(F_Inputs_Formatted!$B46&F_Inputs_Formatted!$H46,F_Inputs!$Y$4:$Y$103,0),MATCH(F_Inputs_Formatted!R$4,F_Inputs!$A$4:$Y$4,0)),$O46),"##BLANK") -> ##BLANK | S46: =IFERROR(ROUND(INDEX(F_Inputs!$A$4:$Y$103, MATCH(F_Inputs_Formatted!$B46&F_Inputs_Formatted!$H46,F_Inputs!$Y$4:$Y$103,0),MATCH(F_Inputs_Formatted!S$4,F_Inputs!$A$4:$Y$4,0)),$O46),"##BLANK") -> ##BLANK | T46: =IFERROR(ROUND(INDEX(F_Inputs!$A$4:$Y$103, MATCH(F_Inputs_Formatted!$B46&F_Inputs_Formatted!$H46,F_Inputs!$Y$4:$Y$103,0),MATCH(F_Inputs_Formatted!T$4,F_Inputs!$A$4:$Y$4,0)),$O46),"##BLANK") -> ##BLANK | U46: =IFERROR(ROUND(INDEX(F_Inputs!$A$4:$Y$103, MATCH(F_Inputs_Formatted!$B46&F_Inputs_Formatted!$H46,F_Inputs!$Y$4:$Y$103,0),MATCH(F_Inputs_Formatted!U$4,F_Inputs!$A$4:$Y$4,0)),$O46),"##BLANK") -> ##BLANK | V46: =IFERROR(ROUND(INDEX(F_Inputs!$A$4:$Y$103, MATCH(F_Inputs_Formatted!$B46&F_Inputs_Formatted!$H46,F_Inputs!$Y$4:$Y$103,0),MATCH(F_Inputs_Formatted!V$4,F_Inputs!$A$4:$Y$4,0)),$O46),"##BLANK") -> ##BLANK | W46: =IFERROR(ROUND(INDEX(F_Inputs!$A$4:$Y$103, MATCH(F_Inputs_Formatted!$B46&F_Inputs_Formatted!$H46,F_Inputs!$Y$4:$Y$103,0),MATCH(F_Inputs_Formatted!W$4,F_Inputs!$A$4:$Y$4,0)),$O46),"##BLANK") -> ##BLANK | ... AH46: =IFERROR(ROUND(INDEX(F_Inputs!$A$4:$Y$103, MATCH(F_Inputs_Formatted!$B46&F_Inputs_Formatted!$H46,F_Inputs!$Y$4:$Y$103,0),MATCH(F_Inputs_Formatted!AH$4,F_Inputs!$A$4:$Y$4,0)),$O46),"##BLANK") -> 0.017
B47: WSX | C47: =_xlfn.XLOOKUP($B47,FD_Lists!$B$4:$B$25,FD_Lists!C$4:C$25) -> Wessex Water | D47: =_xlfn.XLOOKUP($B47,FD_Lists!$B$4:$B$25,FD_Lists!D$4:D$25) -> England | E47: =_xlfn.XLOOKUP($B47,FD_Lists!$B$4:$B$25,FD_Lists!E$4:E$25) -> Company | F47: =_xlfn.XLOOKUP($B47,FD_Lists!$B$4:$B$25,FD_Lists!F$4:F$25) -> WaSC | G47: PCL Units | H47: OUT3_14_01_PR24 | I47: =B47&H47 -> WSXOUT3_14_01_PR24 | J47: Enhancement | K47: Company view (FD) | L47: DIS | M47: Percentage compliance | N47: Percentage | O47: 3 | P47: =IFERROR(ROUND(INDEX(F_Inputs!$A$4:$Y$103, MATCH(F_Inputs_Formatted!$B47&F_Inputs_Formatted!$H47,F_Inputs!$Y$4:$Y$103,0),MATCH(F_Inputs_Formatted!P$4,F_Inputs!$A$4:$Y$4,0)),$O47),"##BLANK") -> ##BLANK | Q47: =IFERROR(ROUND(INDEX(F_Inputs!$A$4:$Y$103, MATCH(F_Inputs_Formatted!$B47&F_Inputs_Formatted!$H47,F_Inputs!$Y$4:$Y$103,0),MATCH(F_Inputs_Formatted!Q$4,F_Inputs!$A$4:$Y$4,0)),$O47),"##BLANK") -> ##BLANK | R47: =IFERROR(ROUND(INDEX(F_Inputs!$A$4:$Y$103, MATCH(F_Inputs_Formatted!$B47&F_Inputs_Formatted!$H47,F_Inputs!$Y$4:$Y$103,0),MATCH(F_Inputs_Formatted!R$4,F_Inputs!$A$4:$Y$4,0)),$O47),"##BLANK") -> ##BLANK | S47: =IFERROR(ROUND(INDEX(F_Inputs!$A$4:$Y$103, MATCH(F_Inputs_Formatted!$B47&F_Inputs_Formatted!$H47,F_Inputs!$Y$4:$Y$103,0),MATCH(F_Inputs_Formatted!S$4,F_Inputs!$A$4:$Y$4,0)),$O47),"##BLANK") -> ##BLANK | T47: =IFERROR(ROUND(INDEX(F_Inputs!$A$4:$Y$103, MATCH(F_Inputs_Formatted!$B47&F_Inputs_Formatted!$H47,F_Inputs!$Y$4:$Y$103,0),MATCH(F_Inputs_Formatted!T$4,F_Inputs!$A$4:$Y$4,0)),$O47),"##BLANK") -> ##BLANK | U47: =IFERROR(ROUND(INDEX(F_Inputs!$A$4:$Y$103, MATCH(F_Inputs_Formatted!$B47&F_Inputs_Formatted!$H47,F_Inputs!$Y$4:$Y$103,0),MATCH(F_Inputs_Formatted!U$4,F_Inputs!$A$4:$Y$4,0)),$O47),"##BLANK") -> ##BLANK | V47: =IFERROR(ROUND(INDEX(F_Inputs!$A$4:$Y$103, MATCH(F_Inputs_Formatted!$B47&F_Inputs_Formatted!$H47,F_Inputs!$Y$4:$Y$103,0),MATCH(F_Inputs_Formatted!V$4,F_Inputs!$A$4:$Y$4,0)),$O47),"##BLANK") -> ##BLANK | W47: =IFERROR(ROUND(INDEX(F_Inputs!$A$4:$Y$103, MATCH(F_Inputs_Formatted!$B47&F_Inputs_Formatted!$H47,F_Inputs!$Y$4:$Y$103,0),MATCH(F_Inputs_Formatted!W$4,F_Inputs!$A$4:$Y$4,0)),$O47),"##BLANK") -> ##BLANK | ... AH47: =IFERROR(ROUND(INDEX(F_Inputs!$A$4:$Y$103, MATCH(F_Inputs_Formatted!$B47&F_Inputs_Formatted!$H47,F_Inputs!$Y$4:$Y$103,0),MATCH(F_Inputs_Formatted!AH$4,F_Inputs!$A$4:$Y$4,0)),$O47),"##BLANK") -> 0
B48: YKY | C48: =_xlfn.XLOOKUP($B48,FD_Lists!$B$4:$B$25,FD_Lists!C$4:C$25) -> Yorkshire Water | D48: =_xlfn.XLOOKUP($B48,FD_Lists!$B$4:$B$25,FD_Lists!D$4:D$25) -> England | E48: =_xlfn.XLOOKUP($B48,FD_Lists!$B$4:$B$25,FD_Lists!E$4:E$25) -> Company | F48: =_xlfn.XLOOKUP($B48,FD_Lists!$B$4:$B$25,FD_Lists!F$4:F$25) -> WaSC | G48: PCL Units | H48: OUT3_14_01_PR24 | I48: =B48&H48 -> YKYOUT3_14_01_PR24 | J48: Enhancement | K48: Company view (FD) | L48: DIS | M48: Percentage compliance | N48: Percentage | O48: 3 | P48: =IFERROR(ROUND(INDEX(F_Inputs!$A$4:$Y$103, MATCH(F_Inputs_Formatted!$B48&F_Inputs_Formatted!$H48,F_Inputs!$Y$4:$Y$103,0),MATCH(F_Inputs_Formatted!P$4,F_Inputs!$A$4:$Y$4,0)),$O48),"##BLANK") -> ##BLANK | Q48: =IFERROR(ROUND(INDEX(F_Inputs!$A$4:$Y$103, MATCH(F_Inputs_Formatted!$B48&F_Inputs_Formatted!$H48,F_Inputs!$Y$4:$Y$103,0),MATCH(F_Inputs_Formatted!Q$4,F_Inputs!$A$4:$Y$4,0)),$O48),"##BLANK") -> ##BLANK | R48: =IFERROR(ROUND(INDEX(F_Inputs!$A$4:$Y$103, MATCH(F_Inputs_Formatted!$B48&F_Inputs_Formatted!$H48,F_Inputs!$Y$4:$Y$103,0),MATCH(F_Inputs_Formatted!R$4,F_Inputs!$A$4:$Y$4,0)),$O48),"##BLANK") -> ##BLANK | S48: =IFERROR(ROUND(INDEX(F_Inputs!$A$4:$Y$103, MATCH(F_Inputs_Formatted!$B48&F_Inputs_Formatted!$H48,F_Inputs!$Y$4:$Y$103,0),MATCH(F_Inputs_Formatted!S$4,F_Inputs!$A$4:$Y$4,0)),$O48),"##BLANK") -> ##BLANK | T48: =IFERROR(ROUND(INDEX(F_Inputs!$A$4:$Y$103, MATCH(F_Inputs_Formatted!$B48&F_Inputs_Formatted!$H48,F_Inputs!$Y$4:$Y$103,0),MATCH(F_Inputs_Formatted!T$4,F_Inputs!$A$4:$Y$4,0)),$O48),"##BLANK") -> ##BLANK | U48: =IFERROR(ROUND(INDEX(F_Inputs!$A$4:$Y$103, MATCH(F_Inputs_Formatted!$B48&F_Inputs_Formatted!$H48,F_Inputs!$Y$4:$Y$103,0),MATCH(F_Inputs_Formatted!U$4,F_Inputs!$A$4:$Y$4,0)),$O48),"##BLANK") -> ##BLANK | V48: =IFERROR(ROUND(INDEX(F_Inputs!$A$4:$Y$103, MATCH(F_Inputs_Formatted!$B48&F_Inputs_Formatted!$H48,F_Inputs!$Y$4:$Y$103,0),MATCH(F_Inputs_Formatted!V$4,F_Inputs!$A$4:$Y$4,0)),$O48),"##BLANK") -> ##BLANK | W48: =IFERROR(ROUND(INDEX(F_Inputs!$A$4:$Y$103, MATCH(F_Inputs_Formatted!$B48&F_Inputs_Formatted!$H48,F_Inputs!$Y$4:$Y$103,0),MATCH(F_Inputs_Formatted!W$4,F_Inputs!$A$4:$Y$4,0)),$O48),"##BLANK") -> ##BLANK | ... AH48: =IFERROR(ROUND(INDEX(F_Inputs!$A$4:$Y$103, MATCH(F_Inputs_Formatted!$B48&F_Inputs_Formatted!$H48,F_Inputs!$Y$4:$Y$103,0),MATCH(F_Inputs_Formatted!AH$4,F_Inputs!$A$4:$Y$4,0)),$O48),"##BLANK") -> 0
B49: AFW | C49: =_xlfn.XLOOKUP($B49,FD_Lists!$B$4:$B$25,FD_Lists!C$4:C$25) -> Affinity Water | D49: =_xlfn.XLOOKUP($B49,FD_Lists!$B$4:$B$25,FD_Lists!D$4:D$25) -> England | E49: =_xlfn.XLOOKUP($B49,FD_Lists!$B$4:$B$25,FD_Lists!E$4:E$25) -> Company | F49: =_xlfn.XLOOKUP($B49,FD_Lists!$B$4:$B$25,FD_Lists!F$4:F$25) -> WoC | G49: PCL Units | H49: OUT3_14_01_PR24 | I49: =B49&H49 -> AFWOUT3_14_01_PR24 | J49: Enhancement | K49: Company view (FD) | L49: DIS | M49: Percentage compliance | N49: Percentage | O49: 3 | P49: =IFERROR(ROUND(INDEX(F_Inputs!$A$4:$Y$103, MATCH(F_Inputs_Formatted!$B49&F_Inputs_Formatted!$H49,F_Inputs!$Y$4:$Y$103,0),MATCH(F_Inputs_Formatted!P$4,F_Inputs!$A$4:$Y$4,0)),$O49),"##BLANK") -> ##BLANK | Q49: =IFERROR(ROUND(INDEX(F_Inputs!$A$4:$Y$103, MATCH(F_Inputs_Formatted!$B49&F_Inputs_Formatted!$H49,F_Inputs!$Y$4:$Y$103,0),MATCH(F_Inputs_Formatted!Q$4,F_Inputs!$A$4:$Y$4,0)),$O49),"##BLANK") -> ##BLANK | R49: =IFERROR(ROUND(INDEX(F_Inputs!$A$4:$Y$103, MATCH(F_Inputs_Formatted!$B49&F_Inputs_Formatted!$H49,F_Inputs!$Y$4:$Y$103,0),MATCH(F_Inputs_Formatted!R$4,F_Inputs!$A$4:$Y$4,0)),$O49),"##BLANK") -> ##BLANK | S49: =IFERROR(ROUND(INDEX(F_Inputs!$A$4:$Y$103, MATCH(F_Inputs_Formatted!$B49&F_Inputs_Formatted!$H49,F_Inputs!$Y$4:$Y$103,0),MATCH(F_Inputs_Formatted!S$4,F_Inputs!$A$4:$Y$4,0)),$O49),"##BLANK") -> ##BLANK | T49: =IFERROR(ROUND(INDEX(F_Inputs!$A$4:$Y$103, MATCH(F_Inputs_Formatted!$B49&F_Inputs_Formatted!$H49,F_Inputs!$Y$4:$Y$103,0),MATCH(F_Inputs_Formatted!T$4,F_Inputs!$A$4:$Y$4,0)),$O49),"##BLANK") -> ##BLANK | U49: =IFERROR(ROUND(INDEX(F_Inputs!$A$4:$Y$103, MATCH(F_Inputs_Formatted!$B49&F_Inputs_Formatted!$H49,F_Inputs!$Y$4:$Y$103,0),MATCH(F_Inputs_Formatted!U$4,F_Inputs!$A$4:$Y$4,0)),$O49),"##BLANK") -> ##BLANK | V49: =IFERROR(ROUND(INDEX(F_Inputs!$A$4:$Y$103, MATCH(F_Inputs_Formatted!$B49&F_Inputs_Formatted!$H49,F_Inputs!$Y$4:$Y$103,0),MATCH(F_Inputs_Formatted!V$4,F_Inputs!$A$4:$Y$4,0)),$O49),"##BLANK") -> ##BLANK | W49: =IFERROR(ROUND(INDEX(F_Inputs!$A$4:$Y$103, MATCH(F_Inputs_Formatted!$B49&F_Inputs_Formatted!$H49,F_Inputs!$Y$4:$Y$103,0),MATCH(F_Inputs_Formatted!W$4,F_Inputs!$A$4:$Y$4,0)),$O49),"##BLANK") -> ##BLANK | ... AH49: =IFERROR(ROUND(INDEX(F_Inputs!$A$4:$Y$103, MATCH(F_Inputs_Formatted!$B49&F_Inputs_Formatted!$H49,F_Inputs!$Y$4:$Y$103,0),MATCH(F_Inputs_Formatted!AH$4,F_Inputs!$A$4:$Y$4,0)),$O49),"##BLANK") -> 0
B50: PRT | C50: =_xlfn.XLOOKUP($B50,FD_Lists!$B$4:$B$25,FD_Lists!C$4:C$25) -> Portsmouth Water | D50: =_xlfn.XLOOKUP($B50,FD_Lists!$B$4:$B$25,FD_Lists!D$4:D$25) -> England | E50: =_xlfn.XLOOKUP($B50,FD_Lists!$B$4:$B$25,FD_Lists!E$4:E$25) -> Company | F50: =_xlfn.XLOOKUP($B50,FD_Lists!$B$4:$B$25,FD_Lists!F$4:F$25) -> WoC | G50: PCL Units | H50: OUT3_14_01_PR24 | I50: =B50&H50 -> PRTOUT3_14_01_PR24 | J50: Enhancement | K50: Company view (FD) | L50: DIS | M50: Percentage compliance | N50: Percentage | O50: 3 | P50: =IFERROR(ROUND(INDEX(F_Inputs!$A$4:$Y$103, MATCH(F_Inputs_Formatted!$B50&F_Inputs_Formatted!$H50,F_Inputs!$Y$4:$Y$103,0),MATCH(F_Inputs_Formatted!P$4,F_Inputs!$A$4:$Y$4,0)),$O50),"##BLANK") -> ##BLANK | Q50: =IFERROR(ROUND(INDEX(F_Inputs!$A$4:$Y$103, MATCH(F_Inputs_Formatted!$B50&F_Inputs_Formatted!$H50,F_Inputs!$Y$4:$Y$103,0),MATCH(F_Inputs_Formatted!Q$4,F_Inputs!$A$4:$Y$4,0)),$O50),"##BLANK") -> ##BLANK | R50: =IFERROR(ROUND(INDEX(F_Inputs!$A$4:$Y$103, MATCH(F_Inputs_Formatted!$B50&F_Inputs_Formatted!$H50,F_Inputs!$Y$4:$Y$103,0),MATCH(F_Inputs_Formatted!R$4,F_Inputs!$A$4:$Y$4,0)),$O50),"##BLANK") -> ##BLANK | S50: =IFERROR(ROUND(INDEX(F_Inputs!$A$4:$Y$103, MATCH(F_Inputs_Formatted!$B50&F_Inputs_Formatted!$H50,F_Inputs!$Y$4:$Y$103,0),MATCH(F_Inputs_Formatted!S$4,F_Inputs!$A$4:$Y$4,0)),$O50),"##BLANK") -> ##BLANK | T50: =IFERROR(ROUND(INDEX(F_Inputs!$A$4:$Y$103, MATCH(F_Inputs_Formatted!$B50&F_Inputs_Formatted!$H50,F_Inputs!$Y$4:$Y$103,0),MATCH(F_Inputs_Formatted!T$4,F_Inputs!$A$4:$Y$4,0)),$O50),"##BLANK") -> ##BLANK | U50: =IFERROR(ROUND(INDEX(F_Inputs!$A$4:$Y$103, MATCH(F_Inputs_Formatted!$B50&F_Inputs_Formatted!$H50,F_Inputs!$Y$4:$Y$103,0),MATCH(F_Inputs_Formatted!U$4,F_Inputs!$A$4:$Y$4,0)),$O50),"##BLANK") -> ##BLANK | V50: =IFERROR(ROUND(INDEX(F_Inputs!$A$4:$Y$103, MATCH(F_Inputs_Formatted!$B50&F_Inputs_Formatted!$H50,F_Inputs!$Y$4:$Y$103,0),MATCH(F_Inputs_Formatted!V$4,F_Inputs!$A$4:$Y$4,0)),$O50),"##BLANK") -> ##BLANK | W50: =IFERROR(ROUND(INDEX(F_Inputs!$A$4:$Y$103, MATCH(F_Inputs_Formatted!$B50&F_Inputs_Formatted!$H50,F_Inputs!$Y$4:$Y$103,0),MATCH(F_Inputs_Formatted!W$4,F_Inputs!$A$4:$Y$4,0)),$O50),"##BLANK") -> ##BLANK | ... AH50: =IFERROR(ROUND(INDEX(F_Inputs!$A$4:$Y$103, MATCH(F_Inputs_Formatted!$B50&F_Inputs_Formatted!$H50,F_Inputs!$Y$4:$Y$103,0),MATCH(F_Inputs_Formatted!AH$4,F_Inputs!$A$4:$Y$4,0)),$O50),"##BLANK") -> 0
B51: SEW | C51: =_xlfn.XLOOKUP($B51,FD_Lists!$B$4:$B$25,FD_Lists!C$4:C$25) -> South East Water | D51: =_xlfn.XLOOKUP($B51,FD_Lists!$B$4:$B$25,FD_Lists!D$4:D$25) -> England | E51: =_xlfn.XLOOKUP($B51,FD_Lists!$B$4:$B$25,FD_Lists!E$4:E$25) -> Company | F51: =_xlfn.XLOOKUP($B51,FD_Lists!$B$4:$B$25,FD_Lists!F$4:F$25) -> WoC | G51: PCL Units | H51: OUT3_14_01_PR24 | I51: =B51&H51 -> SEWOUT3_14_01_PR24 | J51: Enhancement | K51: Company view (FD) | L51: DIS | M51: Percentage compliance | N51: Percentage | O51: 3 | P51: =IFERROR(ROUND(INDEX(F_Inputs!$A$4:$Y$103, MATCH(F_Inputs_Formatted!$B51&F_Inputs_Formatted!$H51,F_Inputs!$Y$4:$Y$103,0),MATCH(F_Inputs_Formatted!P$4,F_Inputs!$A$4:$Y$4,0)),$O51),"##BLANK") -> ##BLANK | Q51: =IFERROR(ROUND(INDEX(F_Inputs!$A$4:$Y$103, MATCH(F_Inputs_Formatted!$B51&F_Inputs_Formatted!$H51,F_Inputs!$Y$4:$Y$103,0),MATCH(F_Inputs_Formatted!Q$4,F_Inputs!$A$4:$Y$4,0)),$O51),"##BLANK") -> ##BLANK | R51: =IFERROR(ROUND(INDEX(F_Inputs!$A$4:$Y$103, MATCH(F_Inputs_Formatted!$B51&F_Inputs_Formatted!$H51,F_Inputs!$Y$4:$Y$103,0),MATCH(F_Inputs_Formatted!R$4,F_Inputs!$A$4:$Y$4,0)),$O51),"##BLANK") -> ##BLANK | S51: =IFERROR(ROUND(INDEX(F_Inputs!$A$4:$Y$103, MATCH(F_Inputs_Formatted!$B51&F_Inputs_Formatted!$H51,F_Inputs!$Y$4:$Y$103,0),MATCH(F_Inputs_Formatted!S$4,F_Inputs!$A$4:$Y$4,0)),$O51),"##BLANK") -> ##BLANK | T51: =IFERROR(ROUND(INDEX(F_Inputs!$A$4:$Y$103, MATCH(F_Inputs_Formatted!$B51&F_Inputs_Formatted!$H51,F_Inputs!$Y$4:$Y$103,0),MATCH(F_Inputs_Formatted!T$4,F_Inputs!$A$4:$Y$4,0)),$O51),"##BLANK") -> ##BLANK | U51: =IFERROR(ROUND(INDEX(F_Inputs!$A$4:$Y$103, MATCH(F_Inputs_Formatted!$B51&F_Inputs_Formatted!$H51,F_Inputs!$Y$4:$Y$103,0),MATCH(F_Inputs_Formatted!U$4,F_Inputs!$A$4:$Y$4,0)),$O51),"##BLANK") -> ##BLANK | V51: =IFERROR(ROUND(INDEX(F_Inputs!$A$4:$Y$103, MATCH(F_Inputs_Formatted!$B51&F_Inputs_Formatted!$H51,F_Inputs!$Y$4:$Y$103,0),MATCH(F_Inputs_Formatted!V$4,F_Inputs!$A$4:$Y$4,0)),$O51),"##BLANK") -> ##BLANK | W51: =IFERROR(ROUND(INDEX(F_Inputs!$A$4:$Y$103, MATCH(F_Inputs_Formatted!$B51&F_Inputs_Formatted!$H51,F_Inputs!$Y$4:$Y$103,0),MATCH(F_Inputs_Formatted!W$4,F_Inputs!$A$4:$Y$4,0)),$O51),"##BLANK") -> ##BLANK | ... AH51: =IFERROR(ROUND(INDEX(F_Inputs!$A$4:$Y$103, MATCH(F_Inputs_Formatted!$B51&F_Inputs_Formatted!$H51,F_Inputs!$Y$4:$Y$103,0),MATCH(F_Inputs_Formatted!AH$4,F_Inputs!$A$4:$Y$4,0)),$O51),"##BLANK") -> 0
B52: SSC | C52: =_xlfn.XLOOKUP($B52,FD_Lists!$B$4:$B$25,FD_Lists!C$4:C$25) -> South Staffordshire Water | D52: =_xlfn.XLOOKUP($B52,FD_Lists!$B$4:$B$25,FD_Lists!D$4:D$25) -> England | E52: =_xlfn.XLOOKUP($B52,FD_Lists!$B$4:$B$25,FD_Lists!E$4:E$25) -> Company | F52: =_xlfn.XLOOKUP($B52,FD_Lists!$B$4:$B$25,FD_Lists!F$4:F$25) -> WoC | G52: PCL Units | H52: OUT3_14_01_PR24 | I52: =B52&H52 -> SSCOUT3_14_01_PR24 | J52: Enhancement | K52: Company view (FD) | L52: DIS | M52: Percentage compliance | N52: Percentage | O52: 3 | P52: =IFERROR(ROUND(INDEX(F_Inputs!$A$4:$Y$103, MATCH(F_Inputs_Formatted!$B52&F_Inputs_Formatted!$H52,F_Inputs!$Y$4:$Y$103,0),MATCH(F_Inputs_Formatted!P$4,F_Inputs!$A$4:$Y$4,0)),$O52),"##BLANK") -> ##BLANK | Q52: =IFERROR(ROUND(INDEX(F_Inputs!$A$4:$Y$103, MATCH(F_Inputs_Formatted!$B52&F_Inputs_Formatted!$H52,F_Inputs!$Y$4:$Y$103,0),MATCH(F_Inputs_Formatted!Q$4,F_Inputs!$A$4:$Y$4,0)),$O52),"##BLANK") -> ##BLANK | R52: =IFERROR(ROUND(INDEX(F_Inputs!$A$4:$Y$103, MATCH(F_Inputs_Formatted!$B52&F_Inputs_Formatted!$H52,F_Inputs!$Y$4:$Y$103,0),MATCH(F_Inputs_Formatted!R$4,F_Inputs!$A$4:$Y$4,0)),$O52),"##BLANK") -> ##BLANK | S52: =IFERROR(ROUND(INDEX(F_Inputs!$A$4:$Y$103, MATCH(F_Inputs_Formatted!$B52&F_Inputs_Formatted!$H52,F_Inputs!$Y$4:$Y$103,0),MATCH(F_Inputs_Formatted!S$4,F_Inputs!$A$4:$Y$4,0)),$O52),"##BLANK") -> ##BLANK | T52: =IFERROR(ROUND(INDEX(F_Inputs!$A$4:$Y$103, MATCH(F_Inputs_Formatted!$B52&F_Inputs_Formatted!$H52,F_Inputs!$Y$4:$Y$103,0),MATCH(F_Inputs_Formatted!T$4,F_Inputs!$A$4:$Y$4,0)),$O52),"##BLANK") -> ##BLANK | U52: =IFERROR(ROUND(INDEX(F_Inputs!$A$4:$Y$103, MATCH(F_Inputs_Formatted!$B52&F_Inputs_Formatted!$H52,F_Inputs!$Y$4:$Y$103,0),MATCH(F_Inputs_Formatted!U$4,F_Inputs!$A$4:$Y$4,0)),$O52),"##BLANK") -> ##BLANK | V52: =IFERROR(ROUND(INDEX(F_Inputs!$A$4:$Y$103, MATCH(F_Inputs_Formatted!$B52&F_Inputs_Formatted!$H52,F_Inputs!$Y$4:$Y$103,0),MATCH(F_Inputs_Formatted!V$4,F_Inputs!$A$4:$Y$4,0)),$O52),"##BLANK") -> ##BLANK | W52: =IFERROR(ROUND(INDEX(F_Inputs!$A$4:$Y$103, MATCH(F_Inputs_Formatted!$B52&F_Inputs_Formatted!$H52,F_Inputs!$Y$4:$Y$103,0),MATCH(F_Inputs_Formatted!W$4,F_Inputs!$A$4:$Y$4,0)),$O52),"##BLANK") -> ##BLANK | ... AH52: =IFERROR(ROUND(INDEX(F_Inputs!$A$4:$Y$103, MATCH(F_Inputs_Formatted!$B52&F_Inputs_Formatted!$H52,F_Inputs!$Y$4:$Y$103,0),MATCH(F_Inputs_Formatted!AH$4,F_Inputs!$A$4:$Y$4,0)),$O52),"##BLANK") -> 0
B53: SES | C53: =_xlfn.XLOOKUP($B53,FD_Lists!$B$4:$B$25,FD_Lists!C$4:C$25) -> SES Water | D53: =_xlfn.XLOOKUP($B53,FD_Lists!$B$4:$B$25,FD_Lists!D$4:D$25) -> England | E53: =_xlfn.XLOOKUP($B53,FD_Lists!$B$4:$B$25,FD_Lists!E$4:E$25) -> Company | F53: =_xlfn.XLOOKUP($B53,FD_Lists!$B$4:$B$25,FD_Lists!F$4:F$25) -> WoC | G53: PCL Units | H53: OUT3_14_01_PR24 | I53: =B53&H53 -> SESOUT3_14_01_PR24 | J53: Enhancement | K53: Company view (FD) | L53: DIS | M53: Percentage compliance | N53: Percentage | O53: 3 | P53: =IFERROR(ROUND(INDEX(F_Inputs!$A$4:$Y$103, MATCH(F_Inputs_Formatted!$B53&F_Inputs_Formatted!$H53,F_Inputs!$Y$4:$Y$103,0),MATCH(F_Inputs_Formatted!P$4,F_Inputs!$A$4:$Y$4,0)),$O53),"##BLANK") -> ##BLANK | Q53: =IFERROR(ROUND(INDEX(F_Inputs!$A$4:$Y$103, MATCH(F_Inputs_Formatted!$B53&F_Inputs_Formatted!$H53,F_Inputs!$Y$4:$Y$103,0),MATCH(F_Inputs_Formatted!Q$4,F_Inputs!$A$4:$Y$4,0)),$O53),"##BLANK") -> ##BLANK | R53: =IFERROR(ROUND(INDEX(F_Inputs!$A$4:$Y$103, MATCH(F_Inputs_Formatted!$B53&F_Inputs_Formatted!$H53,F_Inputs!$Y$4:$Y$103,0),MATCH(F_Inputs_Formatted!R$4,F_Inputs!$A$4:$Y$4,0)),$O53),"##BLANK") -> ##BLANK | S53: =IFERROR(ROUND(INDEX(F_Inputs!$A$4:$Y$103, MATCH(F_Inputs_Formatted!$B53&F_Inputs_Formatted!$H53,F_Inputs!$Y$4:$Y$103,0),MATCH(F_Inputs_Formatted!S$4,F_Inputs!$A$4:$Y$4,0)),$O53),"##BLANK") -> ##BLANK | T53: =IFERROR(ROUND(INDEX(F_Inputs!$A$4:$Y$103, MATCH(F_Inputs_Formatted!$B53&F_Inputs_Formatted!$H53,F_Inputs!$Y$4:$Y$103,0),MATCH(F_Inputs_Formatted!T$4,F_Inputs!$A$4:$Y$4,0)),$O53),"##BLANK") -> ##BLANK | U53: =IFERROR(ROUND(INDEX(F_Inputs!$A$4:$Y$103, MATCH(F_Inputs_Formatted!$B53&F_Inputs_Formatted!$H53,F_Inputs!$Y$4:$Y$103,0),MATCH(F_Inputs_Formatted!U$4,F_Inputs!$A$4:$Y$4,0)),$O53),"##BLANK") -> ##BLANK | V53: =IFERROR(ROUND(INDEX(F_Inputs!$A$4:$Y$103, MATCH(F_Inputs_Formatted!$B53&F_Inputs_Formatted!$H53,F_Inputs!$Y$4:$Y$103,0),MATCH(F_Inputs_Formatted!V$4,F_Inputs!$A$4:$Y$4,0)),$O53),"##BLANK") -> ##BLANK | W53: =IFERROR(ROUND(INDEX(F_Inputs!$A$4:$Y$103, MATCH(F_Inputs_Formatted!$B53&F_Inputs_Formatted!$H53,F_Inputs!$Y$4:$Y$103,0),MATCH(F_Inputs_Formatted!W$4,F_Inputs!$A$4:$Y$4,0)),$O53),"##BLANK") -> ##BLANK | ... AH53: =IFERROR(ROUND(INDEX(F_Inputs!$A$4:$Y$103, MATCH(F_Inputs_Formatted!$B53&F_Inputs_Formatted!$H53,F_Inputs!$Y$4:$Y$103,0),MATCH(F_Inputs_Formatted!AH$4,F_Inputs!$A$4:$Y$4,0)),$O53),"##BLANK") -> 0
B54: SWB | C54: =_xlfn.XLOOKUP($B54,FD_Lists!$B$4:$B$25,FD_Lists!C$4:C$25) -> South West Water | D54: =_xlfn.XLOOKUP($B54,FD_Lists!$B$4:$B$25,FD_Lists!D$4:D$25) -> England | E54: =_xlfn.XLOOKUP($B54,FD_Lists!$B$4:$B$25,FD_Lists!E$4:E$25) -> Company | F54: =_xlfn.XLOOKUP($B54,FD_Lists!$B$4:$B$25,FD_Lists!F$4:F$25) -> WaSC | G54: PCL Units | H54: OUT3_14_01_PR24 | I54: =B54&H54 -> SWBOUT3_14_01_PR24 | J54: Enhancement | K54: Company view (FD) | L54: DIS | M54: Percentage compliance | N54: Percentage | O54: 3 | P54: =IFERROR(ROUND(INDEX(F_Inputs!$A$4:$Y$103, MATCH(F_Inputs_Formatted!$B54&F_Inputs_Formatted!$H54,F_Inputs!$Y$4:$Y$103,0),MATCH(F_Inputs_Formatted!P$4,F_Inputs!$A$4:$Y$4,0)),$O54),"##BLANK") -> ##BLANK | Q54: =IFERROR(ROUND(INDEX(F_Inputs!$A$4:$Y$103, MATCH(F_Inputs_Formatted!$B54&F_Inputs_Formatted!$H54,F_Inputs!$Y$4:$Y$103,0),MATCH(F_Inputs_Formatted!Q$4,F_Inputs!$A$4:$Y$4,0)),$O54),"##BLANK") -> ##BLANK | R54: =IFERROR(ROUND(INDEX(F_Inputs!$A$4:$Y$103, MATCH(F_Inputs_Formatted!$B54&F_Inputs_Formatted!$H54,F_Inputs!$Y$4:$Y$103,0),MATCH(F_Inputs_Formatted!R$4,F_Inputs!$A$4:$Y$4,0)),$O54),"##BLANK") -> ##BLANK | S54: =IFERROR(ROUND(INDEX(F_Inputs!$A$4:$Y$103, MATCH(F_Inputs_Formatted!$B54&F_Inputs_Formatted!$H54,F_Inputs!$Y$4:$Y$103,0),MATCH(F_Inputs_Formatted!S$4,F_Inputs!$A$4:$Y$4,0)),$O54),"##BLANK") -> ##BLANK | T54: =IFERROR(ROUND(INDEX(F_Inputs!$A$4:$Y$103, MATCH(F_Inputs_Formatted!$B54&F_Inputs_Formatted!$H54,F_Inputs!$Y$4:$Y$103,0),MATCH(F_Inputs_Formatted!T$4,F_Inputs!$A$4:$Y$4,0)),$O54),"##BLANK") -> ##BLANK | U54: =IFERROR(ROUND(INDEX(F_Inputs!$A$4:$Y$103, MATCH(F_Inputs_Formatted!$B54&F_Inputs_Formatted!$H54,F_Inputs!$Y$4:$Y$103,0),MATCH(F_Inputs_Formatted!U$4,F_Inputs!$A$4:$Y$4,0)),$O54),"##BLANK") -> ##BLANK | V54: =IFERROR(ROUND(INDEX(F_Inputs!$A$4:$Y$103, MATCH(F_Inputs_Formatted!$B54&F_Inputs_Formatted!$H54,F_Inputs!$Y$4:$Y$103,0),MATCH(F_Inputs_Formatted!V$4,F_Inputs!$A$4:$Y$4,0)),$O54),"##BLANK") -> ##BLANK | W54: =IFERROR(ROUND(INDEX(F_Inputs!$A$4:$Y$103, MATCH(F_Inputs_Formatted!$B54&F_Inputs_Formatted!$H54,F_Inputs!$Y$4:$Y$103,0),MATCH(F_Inputs_Formatted!W$4,F_Inputs!$A$4:$Y$4,0)),$O54),"##BLANK") -> ##BLANK | ... AH54: =IFERROR(ROUND(INDEX(F_Inputs!$A$4:$Y$103, MATCH(F_Inputs_Formatted!$B54&F_Inputs_Formatted!$H54,F_Inputs!$Y$4:$Y$103,0),MATCH(F_Inputs_Formatted!AH$4,F_Inputs!$A$4:$Y$4,0)),$O54),"##BLANK") -> 0
B55: BRL | C55: =_xlfn.XLOOKUP($B55,FD_Lists!$B$4:$B$25,FD_Lists!C$4:C$25) -> Bristol Water | D55: =_xlfn.XLOOKUP($B55,FD_Lists!$B$4:$B$25,FD_Lists!D$4:D$25) -> England | E55: =_xlfn.XLOOKUP($B55,FD_Lists!$B$4:$B$25,FD_Lists!E$4:E$25) -> Company | F55: =_xlfn.XLOOKUP($B55,FD_Lists!$B$4:$B$25,FD_Lists!F$4:F$25) -> WoC | G55: PCL Units | H55: OUT3_14_01_PR24 | I55: =B55&H55 -> BRLOUT3_14_01_PR24 | J55: Enhancement | K55: Company view (FD) | L55: DIS | M55: Percentage compliance | N55: Percentage | O55: 3 | P55: =IFERROR(ROUND(INDEX(F_Inputs!$A$4:$Y$103, MATCH(F_Inputs_Formatted!$B55&F_Inputs_Formatted!$H55,F_Inputs!$Y$4:$Y$103,0),MATCH(F_Inputs_Formatted!P$4,F_Inputs!$A$4:$Y$4,0)),$O55),"##BLANK") -> ##BLANK | Q55: =IFERROR(ROUND(INDEX(F_Inputs!$A$4:$Y$103, MATCH(F_Inputs_Formatted!$B55&F_Inputs_Formatted!$H55,F_Inputs!$Y$4:$Y$103,0),MATCH(F_Inputs_Formatted!Q$4,F_Inputs!$A$4:$Y$4,0)),$O55),"##BLANK") -> ##BLANK | R55: =IFERROR(ROUND(INDEX(F_Inputs!$A$4:$Y$103, MATCH(F_Inputs_Formatted!$B55&F_Inputs_Formatted!$H55,F_Inputs!$Y$4:$Y$103,0),MATCH(F_Inputs_Formatted!R$4,F_Inputs!$A$4:$Y$4,0)),$O55),"##BLANK") -> ##BLANK | S55: =IFERROR(ROUND(INDEX(F_Inputs!$A$4:$Y$103, MATCH(F_Inputs_Formatted!$B55&F_Inputs_Formatted!$H55,F_Inputs!$Y$4:$Y$103,0),MATCH(F_Inputs_Formatted!S$4,F_Inputs!$A$4:$Y$4,0)),$O55),"##BLANK") -> ##BLANK | T55: =IFERROR(ROUND(INDEX(F_Inputs!$A$4:$Y$103, MATCH(F_Inputs_Formatted!$B55&F_Inputs_Formatted!$H55,F_Inputs!$Y$4:$Y$103,0),MATCH(F_Inputs_Formatted!T$4,F_Inputs!$A$4:$Y$4,0)),$O55),"##BLANK") -> ##BLANK | U55: =IFERROR(ROUND(INDEX(F_Inputs!$A$4:$Y$103, MATCH(F_Inputs_Formatted!$B55&F_Inputs_Formatted!$H55,F_Inputs!$Y$4:$Y$103,0),MATCH(F_Inputs_Formatted!U$4,F_Inputs!$A$4:$Y$4,0)),$O55),"##BLANK") -> ##BLANK | V55: =IFERROR(ROUND(INDEX(F_Inputs!$A$4:$Y$103, MATCH(F_Inputs_Formatted!$B55&F_Inputs_Formatted!$H55,F_Inputs!$Y$4:$Y$103,0),MATCH(F_Inputs_Formatted!V$4,F_Inputs!$A$4:$Y$4,0)),$O55),"##BLANK") -> ##BLANK | W55: =IFERROR(ROUND(INDEX(F_Inputs!$A$4:$Y$103, MATCH(F_Inputs_Formatted!$B55&F_Inputs_Formatted!$H55,F_Inputs!$Y$4:$Y$103,0),MATCH(F_Inputs_Formatted!W$4,F_Inputs!$A$4:$Y$4,0)),$O55),"##BLANK") -> ##BLANK | ... AH55: =IFERROR(ROUND(INDEX(F_Inputs!$A$4:$Y$103, MATCH(F_Inputs_Formatted!$B55&F_Inputs_Formatted!$H55,F_Inputs!$Y$4:$Y$103,0),MATCH(F_Inputs_Formatted!AH$4,F_Inputs!$A$4:$Y$4,0)),$O55),"##BLANK") -> 0
B57: END

Sheet Overrides
B2: =Overview!B2 &" - data formatted" -> Discharge Permit Compliance (DIS) - data formatted
B4: Company | C4: Company name | D4: Region | E4: Company/Region | F4: WoC/WaSC | G4: Underlying calc | H4: Boncode | I4: Unique identifier | J4: Performance from | K4: Company FD view / Ofwat FD view | L4: PC code | M4: Measurement | N4: Units | O4: DP | P4: 2011-12 | Q4: 2012-13 | R4: 2013-14 | S4: 2014-15 | T4: 2015-16 | U4: 2016-17 | V4: 2017-18 | W4: 2018-19 | X4: 2019-20 | Y4: 2020-21 | Z4: 2021-22 | AA4: 2022-23 | AB4: 2023-24 | AC4: 2024-25 | AD4: 2025-26 | AE4: 2026-27 | AF4: 2027-28 | AG4: 2028-29 | AH4: 2029-30 | AK4: Reasoning | AL4: 2011-12 | AM4: 2012-13 | AN4: 2013-14 | AO4: 2014-15 | AP4: 2015-16 | AQ4: 2016-17 | AR4: 2017-18 | AS4: 2018-19 | AT4: 2019-20 | AU4: 2020-21 | AV4: 2021-22 | AW4: 2022-23 | AX4: 2023-24 | AY4: 2024-25 | AZ4: 2025-26 | BA4: 2026-27 | BB4: 2027-28 | BC4: 2028-29 | BD4: 2029-30
B5: ANH | C5: =_xlfn.XLOOKUP($B5,FD_Lists!$B$4:$B$25,FD_Lists!C$4:C$25) -> Anglian Water | D5: =_xlfn.XLOOKUP($B5,FD_Lists!$B$4:$B$25,FD_Lists!D$4:D$25) -> England | E5: =_xlfn.XLOOKUP($B5,FD_Lists!$B$4:$B$25,FD_Lists!E$4:E$25) -> Company | F5: =_xlfn.XLOOKUP($B5,FD_Lists!$B$4:$B$25,FD_Lists!F$4:F$25) -> WaSC | G5: PCL Units | H5: OUT5_07_PR24 | I5: =B5&H5 -> ANHOUT5_07_PR24 | J5: Totex | K5: Company view (FD) | L5: DIS | M5: Percentage compliance | N5: Percentage | O5: 3 | AL5: =IF(P5<>"","Ref required","") | AM5: =IF(Q5<>"","Ref required","") | AN5: =IF(R5<>"","Ref required","") | AO5: =IF(S5<>"","Ref required","") | AP5: =IF(T5<>"","Ref required","") | AQ5: =IF(U5<>"","Ref required","") | AR5: =IF(V5<>"","Ref required","") | AS5: =IF(W5<>"","Ref required","") | ... BD5: =IF(AH5<>"","Ref required","")
B6: WSH | C6: =_xlfn.XLOOKUP($B6,FD_Lists!$B$4:$B$25,FD_Lists!C$4:C$25) -> Dŵr Cymru | D6: =_xlfn.XLOOKUP($B6,FD_Lists!$B$4:$B$25,FD_Lists!D$4:D$25) -> Wales | E6: =_xlfn.XLOOKUP($B6,FD_Lists!$B$4:$B$25,FD_Lists!E$4:E$25) -> Company | F6: =_xlfn.XLOOKUP($B6,FD_Lists!$B$4:$B$25,FD_Lists!F$4:F$25) -> WaSC | G6: PCL Units | H6: OUT5_07_PR24 | I6: =B6&H6 -> WSHOUT5_07_PR24 | J6: Totex | K6: Company view (FD) | L6: DIS | M6: Percentage compliance | N6: Percentage | O6: 3 | AL6: =IF(P6<>"","Ref required","") | AM6: =IF(Q6<>"","Ref required","") | AN6: =IF(R6<>"","Ref required","") | AO6: =IF(S6<>"","Ref required","") | AP6: =IF(T6<>"","Ref required","") | AQ6: =IF(U6<>"","Ref required","") | AR6: =IF(V6<>"","Ref required","") | AS6: =IF(W6<>"","Ref required","") | ... BD6: =IF(AH6<>"","Ref required","")
B7: HDD | C7: =_xlfn.XLOOKUP($B7,FD_Lists!$B$4:$B$25,FD_Lists!C$4:C$25) -> Hafren Dyfrdwy | D7: =_xlfn.XLOOKUP($B7,FD_Lists!$B$4:$B$25,FD_Lists!D$4:D$25) -> Wales | E7: =_xlfn.XLOOKUP($B7,FD_Lists!$B$4:$B$25,FD_Lists!E$4:E$25) -> Company | F7: =_xlfn.XLOOKUP($B7,FD_Lists!$B$4:$B$25,FD_Lists!F$4:F$25) -> WaSC | G7: PCL Units | H7: OUT5_07_PR24 | I7: =B7&H7 -> HDDOUT5_07_PR24 | J7: Totex | K7: Company view (FD) | L7: DIS | M7: Percentage compliance | N7: Percentage | O7: 3 | AL7: =IF(P7<>"","Ref required","") | AM7: =IF(Q7<>"","Ref required","") | AN7: =IF(R7<>"","Ref required","") | AO7: =IF(S7<>"","Ref required","") | AP7: =IF(T7<>"","Ref required","") | AQ7: =IF(U7<>"","Ref required","") | AR7: =IF(V7<>"","Ref required","") | AS7: =IF(W7<>"","Ref required","") | ... BD7: =IF(AH7<>"","Ref required","")
B8: NES | C8: =_xlfn.XLOOKUP($B8,FD_Lists!$B$4:$B$25,FD_Lists!C$4:C$25) -> Northumbrian Water | D8: =_xlfn.XLOOKUP($B8,FD_Lists!$B$4:$B$25,FD_Lists!D$4:D$25) -> England | E8: =_xlfn.XLOOKUP($B8,FD_Lists!$B$4:$B$25,FD_Lists!E$4:E$25) -> Company | F8: =_xlfn.XLOOKUP($B8,FD_Lists!$B$4:$B$25,FD_Lists!F$4:F$25) -> WaSC | G8: PCL Units | H8: OUT5_07_PR24 | I8: =B8&H8 -> NESOUT5_07_PR24 | J8: Totex | K8: Company view (FD) | L8: DIS | M8: Percentage compliance | N8: Percentage | O8: 3 | AL8: =IF(P8<>"","Ref required","") | AM8: =IF(Q8<>"","Ref required","") | AN8: =IF(R8<>"","Ref required","") | AO8: =IF(S8<>"","Ref required","") | AP8: =IF(T8<>"","Ref required","") | AQ8: =IF(U8<>"","Ref required","") | AR8: =IF(V8<>"","Ref required","") | AS8: =IF(W8<>"","Ref required","") | ... BD8: =IF(AH8<>"","Ref required","")
B9: SVE | C9: =_xlfn.XLOOKUP($B9,FD_Lists!$B$4:$B$25,FD_Lists!C$4:C$25) -> Severn Trent Water | D9: =_xlfn.XLOOKUP($B9,FD_Lists!$B$4:$B$25,FD_Lists!D$4:D$25) -> England | E9: =_xlfn.XLOOKUP($B9,FD_Lists!$B$4:$B$25,FD_Lists!E$4:E$25) -> Company | F9: =_xlfn.XLOOKUP($B9,FD_Lists!$B$4:$B$25,FD_Lists!F$4:F$25) -> WaSC | G9: PCL Units | H9: OUT5_07_PR24 | I9: =B9&H9 -> SVEOUT5_07_PR24 | J9: Totex | K9: Company view (FD) | L9: DIS | M9: Percentage compliance | N9: Percentage | O9: 3 | AL9: =IF(P9<>"","Ref required","") | AM9: =IF(Q9<>"","Ref required","") | AN9: =IF(R9<>"","Ref required","") | AO9: =IF(S9<>"","Ref required","") | AP9: =IF(T9<>"","Ref required","") | AQ9: =IF(U9<>"","Ref required","") | AR9: =IF(V9<>"","Ref required","") | AS9: =IF(W9<>"","Ref required","") | ... BD9: =IF(AH9<>"","Ref required","")
B10: SRN | C10: =_xlfn.XLOOKUP($B10,FD_Lists!$B$4:$B$25,FD_Lists!C$4:C$25) -> Southern Water | D10: =_xlfn.XLOOKUP($B10,FD_Lists!$B$4:$B$25,FD_Lists!D$4:D$25) -> England | E10: =_xlfn.XLOOKUP($B10,FD_Lists!$B$4:$B$25,FD_Lists!E$4:E$25) -> Company | F10: =_xlfn.XLOOKUP($B10,FD_Lists!$B$4:$B$25,FD_Lists!F$4:F$25) -> WaSC | G10: PCL Units | H10: OUT5_07_PR24 | I10: =B10&H10 -> SRNOUT5_07_PR24 | J10: Totex | K10: Company view (FD) | L10: DIS | M10: Percentage compliance | N10: Percentage | O10: 3 | AL10: =IF(P10<>"","Ref required","") | AM10: =IF(Q10<>"","Ref required","") | AN10: =IF(R10<>"","Ref required","") | AO10: =IF(S10<>"","Ref required","") | AP10: =IF(T10<>"","Ref required","") | AQ10: =IF(U10<>"","Ref required","") | AR10: =IF(V10<>"","Ref required","") | AS10: =IF(W10<>"","Ref required","") | ... BD10: =IF(AH10<>"","Ref required","")
B11: TMS | C11: =_xlfn.XLOOKUP($B11,FD_Lists!$B$4:$B$25,FD_Lists!C$4:C$25) -> Thames Water | D11: =_xlfn.XLOOKUP($B11,FD_Lists!$B$4:$B$25,FD_Lists!D$4:D$25) -> England | E11: =_xlfn.XLOOKUP($B11,FD_Lists!$B$4:$B$25,FD_Lists!E$4:E$25) -> Company | F11: =_xlfn.XLOOKUP($B11,FD_Lists!$B$4:$B$25,FD_Lists!F$4:F$25) -> WaSC | G11: PCL Units | H11: OUT5_07_PR24 | I11: =B11&H11 -> TMSOUT5_07_PR24 | J11: Totex | K11: Company view (FD) | L11: DIS | M11: Percentage compliance | N11: Percentage | O11: 3 | AL11: =IF(P11<>"","Ref required","") | AM11: =IF(Q11<>"","Ref required","") | AN11: =IF(R11<>"","Ref required","") | AO11: =IF(S11<>"","Ref required","") | AP11: =IF(T11<>"","Ref required","") | AQ11: =IF(U11<>"","Ref required","") | AR11: =IF(V11<>"","Ref required","") | AS11: =IF(W11<>"","Ref required","") | ... BD11: =IF(AH11<>"","Ref required","")
A12: UUW | B12: NWT | C12: =_xlfn.XLOOKUP($B12,FD_Lists!$B$4:$B$25,FD_Lists!C$4:C$25) -> United Utilities | D12: =_xlfn.XLOOKUP($B12,FD_Lists!$B$4:$B$25,FD_Lists!D$4:D$25) -> England | E12: =_xlfn.XLOOKUP($B12,FD_Lists!$B$4:$B$25,FD_Lists!E$4:E$25) -> Company | F12: =_xlfn.XLOOKUP($B12,FD_Lists!$B$4:$B$25,FD_Lists!F$4:F$25) -> WaSC | G12: PCL Units | H12: OUT5_07_PR24 | I12: =B12&H12 -> NWTOUT5_07_PR24 | J12: Totex | K12: Company view (FD) | L12: DIS | M12: Percentage compliance | N12: Percentage | O12: 3 | AL12: =IF(P12<>"","Ref required","") | AM12: =IF(Q12<>"","Ref required","") | AN12: =IF(R12<>"","Ref required","") | AO12: =IF(S12<>"","Ref required","") | AP12: =IF(T12<>"","Ref required","") | AQ12: =IF(U12<>"","Ref required","") | AR12: =IF(V12<>"","Ref required","") | AS12: =IF(W12<>"","Ref required","") | ... BD12: =IF(AH12<>"","Ref required","")
B13: WSX | C13: =_xlfn.XLOOKUP($B13,FD_Lists!$B$4:$B$25,FD_Lists!C$4:C$25) -> Wessex Water | D13: =_xlfn.XLOOKUP($B13,FD_Lists!$B$4:$B$25,FD_Lists!D$4:D$25) -> England | E13: =_xlfn.XLOOKUP($B13,FD_Lists!$B$4:$B$25,FD_Lists!E$4:E$25) -> Company | F13: =_xlfn.XLOOKUP($B13,FD_Lists!$B$4:$B$25,FD_Lists!F$4:F$25) -> WaSC | G13: PCL Units | H13: OUT5_07_PR24 | I13: =B13&H13 -> WSXOUT5_07_PR24 | J13: Totex | K13: Company view (FD) | L13: DIS | M13: Percentage compliance | N13: Percentage | O13: 3 | AL13: =IF(P13<>"","Ref required","") | AM13: =IF(Q13<>"","Ref required","") | AN13: =IF(R13<>"","Ref required","") | AO13: =IF(S13<>"","Ref required","") | AP13: =IF(T13<>"","Ref required","") | AQ13: =IF(U13<>"","Ref required","") | AR13: =IF(V13<>"","Ref required","") | AS13: =IF(W13<>"","Ref required","") | ... BD13: =IF(AH13<>"","Ref required","")
B14: YKY | C14: =_xlfn.XLOOKUP($B14,FD_Lists!$B$4:$B$25,FD_Lists!C$4:C$25) -> Yorkshire Water | D14: =_xlfn.XLOOKUP($B14,FD_Lists!$B$4:$B$25,FD_Lists!D$4:D$25) -> England | E14: =_xlfn.XLOOKUP($B14,FD_Lists!$B$4:$B$25,FD_Lists!E$4:E$25) -> Company | F14: =_xlfn.XLOOKUP($B14,FD_Lists!$B$4:$B$25,FD_Lists!F$4:F$25) -> WaSC | G14: PCL Units | H14: OUT5_07_PR24 | I14: =B14&H14 -> YKYOUT5_07_PR24 | J14: Totex | K14: Company view (FD) | L14: DIS | M14: Percentage compliance | N14: Percentage | O14: 3 | AL14: =IF(P14<>"","Ref required","") | AM14: =IF(Q14<>"","Ref required","") | AN14: =IF(R14<>"","Ref required","") | AO14: =IF(S14<>"","Ref required","") | AP14: =IF(T14<>"","Ref required","") | AQ14: =IF(U14<>"","Ref required","") | AR14: =IF(V14<>"","Ref required","") | AS14: =IF(W14<>"","Ref required","") | ... BD14: =IF(AH14<>"","Ref required","")
B15: AFW | C15: =_xlfn.XLOOKUP($B15,FD_Lists!$B$4:$B$25,FD_Lists!C$4:C$25) -> Affinity Water | D15: =_xlfn.XLOOKUP($B15,FD_Lists!$B$4:$B$25,FD_Lists!D$4:D$25) -> England | E15: =_xlfn.XLOOKUP($B15,FD_Lists!$B$4:$B$25,FD_Lists!E$4:E$25) -> Company | F15: =_xlfn.XLOOKUP($B15,FD_Lists!$B$4:$B$25,FD_Lists!F$4:F$25) -> WoC | G15: PCL Units | H15: OUT5_07_PR24 | I15: =B15&H15 -> AFWOUT5_07_PR24 | J15: Totex | K15: Company view (FD) | L15: DIS | M15: Percentage compliance | N15: Percentage | O15: 3 | P15: =F_Inputs_Formatted!P32 -> ##BLANK | Q15: =F_Inputs_Formatted!Q32 -> ##BLANK | R15: =F_Inputs_Formatted!R32 -> ##BLANK | S15: =F_Inputs_Formatted!S32 -> ##BLANK | T15: =F_Inputs_Formatted!T32 -> ##BLANK | U15: =F_Inputs_Formatted!U32 -> ##BLANK | V15: =F_Inputs_Formatted!V32 -> ##BLANK | W15: =F_Inputs_Formatted!W32 -> ##BLANK | X15: =F_Inputs_Formatted!X32 -> ##BLANK | AL15: Blanked given no historical data | AM15: Blanked given no historical data | AN15: Blanked given no historical data | AO15: Blanked given no historical data | AP15: Blanked given no historical data | AQ15: Blanked given no historical data | AR15: Blanked given no historical data | AS15: Blanked given no historical data | AT15: Blanked given no historical data | AU15: =IF(Y15<>"","Ref required","") | AV15: =IF(Z15<>"","Ref required","") | AW15: =IF(AA15<>"","Ref required","") | AX15: =IF(AB15<>"","Ref required","") | AY15: =IF(AC15<>"","Ref required","") | AZ15: =IF(AD15<>"","Ref required","") | BA15: =IF(AE15<>"","Ref required","") | BB15: =IF(AF15<>"","Ref required","") | ... BD15: =IF(AH15<>"","Ref required","")
B16: PRT | C16: =_xlfn.XLOOKUP($B16,FD_Lists!$B$4:$B$25,FD_Lists!C$4:C$25) -> Portsmouth Water | D16: =_xlfn.XLOOKUP($B16,FD_Lists!$B$4:$B$25,FD_Lists!D$4:D$25) -> England | E16: =_xlfn.XLOOKUP($B16,FD_Lists!$B$4:$B$25,FD_Lists!E$4:E$25) -> Company | F16: =_xlfn.XLOOKUP($B16,FD_Lists!$B$4:$B$25,FD_Lists!F$4:F$25) -> WoC | G16: PCL Units | H16: OUT5_07_PR24 | I16: =B16&H16 -> PRTOUT5_07_PR24 | J16: Totex | K16: Company view (FD) | L16: DIS | M16: Percentage compliance | N16: Percentage | O16: 3 | AL16: =IF(P16<>"","Ref required","") | AM16: =IF(Q16<>"","Ref required","") | AN16: =IF(R16<>"","Ref required","") | AO16: =IF(S16<>"","Ref required","") | AP16: =IF(T16<>"","Ref required","") | AQ16: =IF(U16<>"","Ref required","") | AR16: =IF(V16<>"","Ref required","") | AS16: =IF(W16<>"","Ref required","") | ... BD16: =IF(AH16<>"","Ref required","")
B17: SEW | C17: =_xlfn.XLOOKUP($B17,FD_Lists!$B$4:$B$25,FD_Lists!C$4:C$25) -> South East Water | D17: =_xlfn.XLOOKUP($B17,FD_Lists!$B$4:$B$25,FD_Lists!D$4:D$25) -> England | E17: =_xlfn.XLOOKUP($B17,FD_Lists!$B$4:$B$25,FD_Lists!E$4:E$25) -> Company | F17: =_xlfn.XLOOKUP($B17,FD_Lists!$B$4:$B$25,FD_Lists!F$4:F$25) -> WoC | G17: PCL Units | H17: OUT5_07_PR24 | I17: =B17&H17 -> SEWOUT5_07_PR24 | J17: Totex | K17: Company view (FD) | L17: DIS | M17: Percentage compliance | N17: Percentage | O17: 3 | AL17: =IF(P17<>"","Ref required","") | AM17: =IF(Q17<>"","Ref required","") | AN17: =IF(R17<>"","Ref required","") | AO17: =IF(S17<>"","Ref required","") | AP17: =IF(T17<>"","Ref required","") | AQ17: =IF(U17<>"","Ref required","") | AR17: =IF(V17<>"","Ref required","") | AS17: =IF(W17<>"","Ref required","") | ... BD17: =IF(AH17<>"","Ref required","")
B18: SSC | C18: =_xlfn.XLOOKUP($B18,FD_Lists!$B$4:$B$25,FD_Lists!C$4:C$25) -> South Staffordshire Water | D18: =_xlfn.XLOOKUP($B18,FD_Lists!$B$4:$B$25,FD_Lists!D$4:D$25) -> England | E18: =_xlfn.XLOOKUP($B18,FD_Lists!$B$4:$B$25,FD_Lists!E$4:E$25) -> Company | F18: =_xlfn.XLOOKUP($B18,FD_Lists!$B$4:$B$25,FD_Lists!F$4:F$25) -> WoC | G18: PCL Units | H18: OUT5_07_PR24 | I18: =B18&H18 -> SSCOUT5_07_PR24 | J18: Totex | K18: Company view (FD) | L18: DIS | M18: Percentage compliance | N18: Percentage | O18: 3 | AL18: =IF(P18<>"","Ref required","") | AM18: =IF(Q18<>"","Ref required","") | AN18: =IF(R18<>"","Ref required","") | AO18: =IF(S18<>"","Ref required","") | AP18: =IF(T18<>"","Ref required","") | AQ18: =IF(U18<>"","Ref required","") | AR18: =IF(V18<>"","Ref required","") | AS18: =IF(W18<>"","Ref required","") | ... BD18: =IF(AH18<>"","Ref required","")
B19: SES | C19: =_xlfn.XLOOKUP($B19,FD_Lists!$B$4:$B$25,FD_Lists!C$4:C$25) -> SES Water | D19: =_xlfn.XLOOKUP($B19,FD_Lists!$B$4:$B$25,FD_Lists!D$4:D$25) -> England | E19: =_xlfn.XLOOKUP($B19,FD_Lists!$B$4:$B$25,FD_Lists!E$4:E$25) -> Company | F19: =_xlfn.XLOOKUP($B19,FD_Lists!$B$4:$B$25,FD_Lists!F$4:F$25) -> WoC | G19: PCL Units | H19: OUT5_07_PR24 | I19: =B19&H19 -> SESOUT5_07_PR24 | J19: Totex | K19: Company view (FD) | L19: DIS | M19: Percentage compliance | N19: Percentage | O19: 3 | AL19: =IF(P19<>"","Ref required","") | AM19: =IF(Q19<>"","Ref required","") | AN19: =IF(R19<>"","Ref required","") | AO19: =IF(S19<>"","Ref required","") | AP19: =IF(T19<>"","Ref required","") | AQ19: =IF(U19<>"","Ref required","") | AR19: =IF(V19<>"","Ref required","") | AS19: =IF(W19<>"","Ref required","") | ... BD19: =IF(AH19<>"","Ref required","")
B20: SWB | C20: =_xlfn.XLOOKUP($B20,FD_Lists!$B$4:$B$25,FD_Lists!C$4:C$25) -> South West Water | D20: =_xlfn.XLOOKUP($B20,FD_Lists!$B$4:$B$25,FD_Lists!D$4:D$25) -> England | E20: =_xlfn.XLOOKUP($B20,FD_Lists!$B$4:$B$25,FD_Lists!E$4:E$25) -> Company | F20: =_xlfn.XLOOKUP($B20,FD_Lists!$B$4:$B$25,FD_Lists!F$4:F$25) -> WaSC | G20: PCL Units | H20: OUT5_07_PR24 | I20: =B20&H20 -> SWBOUT5_07_PR24 | J20: Totex | K20: Company view (FD) | L20: DIS | M20: Percentage compliance | N20: Percentage | O20: 3 | AL20: =IF(P20<>"","Ref required","") | AM20: =IF(Q20<>"","Ref required","") | AN20: =IF(R20<>"","Ref required","") | AO20: =IF(S20<>"","Ref required","") | AP20: =IF(T20<>"","Ref required","") | AQ20: =IF(U20<>"","Ref required","") | AR20: =IF(V20<>"","Ref required","") | AS20: =IF(W20<>"","Ref required","") | ... BD20: =IF(AH20<>"","Ref required","")
B21: BRL | C21: =_xlfn.XLOOKUP($B21,FD_Lists!$B$4:$B$25,FD_Lists!C$4:C$25) -> Bristol Water | D21: =_xlfn.XLOOKUP($B21,FD_Lists!$B$4:$B$25,FD_Lists!D$4:D$25) -> England | E21: =_xlfn.XLOOKUP($B21,FD_Lists!$B$4:$B$25,FD_Lists!E$4:E$25) -> Company | F21: =_xlfn.XLOOKUP($B21,FD_Lists!$B$4:$B$25,FD_Lists!F$4:F$25) -> WoC | G21: PCL Units | H21: OUT5_07_PR24 | I21: =B21&H21 -> BRLOUT5_07_PR24 | J21: Totex | K21: Company view (FD) | L21: DIS | M21: Percentage compliance | N21: Percentage | O21: 3 | AL21: =IF(P21<>"","Ref required","") | AM21: =IF(Q21<>"","Ref required","") | AN21: =IF(R21<>"","Ref required","") | AO21: =IF(S21<>"","Ref required","") | AP21: =IF(T21<>"","Ref required","") | AQ21: =IF(U21<>"","Ref required","") | AR21: =IF(V21<>"","Ref required","") | AS21: =IF(W21<>"","Ref required","") | ... BD21: =IF(AH21<>"","Ref required","")
B22: ANH | C22: =_xlfn.XLOOKUP($B22,FD_Lists!$B$4:$B$25,FD_Lists!C$4:C$25) -> Anglian Water | D22: =_xlfn.XLOOKUP($B22,FD_Lists!$B$4:$B$25,FD_Lists!D$4:D$25) -> England | E22: =_xlfn.XLOOKUP($B22,FD_Lists!$B$4:$B$25,FD_Lists!E$4:E$25) -> Company | F22: =_xlfn.XLOOKUP($B22,FD_Lists!$B$4:$B$25,FD_Lists!F$4:F$25) -> WaSC | G22: PCL Units | H22: OUT2_14_PR24 | I22: =B22&H22 -> ANHOUT2_14_PR24 | J22: Base | K22: Company view (FD) | L22: DIS | M22: Percentage compliance | N22: Percentage | O22: 3 | AL22: =IF(P22<>"","Ref required","") | AM22: =IF(Q22<>"","Ref required","") | AN22: =IF(R22<>"","Ref required","") | AO22: =IF(S22<>"","Ref required","") | AP22: =IF(T22<>"","Ref required","") | AQ22: =IF(U22<>"","Ref required","") | AR22: =IF(V22<>"","Ref required","") | AS22: =IF(W22<>"","Ref required","") | ... BD22: =IF(AH22<>"","Ref required","")
B23: WSH | C23: =_xlfn.XLOOKUP($B23,FD_Lists!$B$4:$B$25,FD_Lists!C$4:C$25) -> Dŵr Cymru | D23: =_xlfn.XLOOKUP($B23,FD_Lists!$B$4:$B$25,FD_Lists!D$4:D$25) -> Wales | E23: =_xlfn.XLOOKUP($B23,FD_Lists!$B$4:$B$25,FD_Lists!E$4:E$25) -> Company | F23: =_xlfn.XLOOKUP($B23,FD_Lists!$B$4:$B$25,FD_Lists!F$4:F$25) -> WaSC | G23: PCL Units | H23: OUT2_14_PR24 | I23: =B23&H23 -> WSHOUT2_14_PR24 | J23: Base | K23: Company view (FD) | L23: DIS | M23: Percentage compliance | N23: Percentage | O23: 3 | AL23: =IF(P23<>"","Ref required","") | AM23: =IF(Q23<>"","Ref required","") | AN23: =IF(R23<>"","Ref required","") | AO23: =IF(S23<>"","Ref required","") | AP23: =IF(T23<>"","Ref required","") | AQ23: =IF(U23<>"","Ref required","") | AR23: =IF(V23<>"","Ref required","") | AS23: =IF(W23<>"","Ref required","") | ... BD23: =IF(AH23<>"","Ref required","")
B24: HDD | C24: =_xlfn.XLOOKUP($B24,FD_Lists!$B$4:$B$25,FD_Lists!C$4:C$25) -> Hafren Dyfrdwy | D24: =_xlfn.XLOOKUP($B24,FD_Lists!$B$4:$B$25,FD_Lists!D$4:D$25) -> Wales | E24: =_xlfn.XLOOKUP($B24,FD_Lists!$B$4:$B$25,FD_Lists!E$4:E$25) -> Company | F24: =_xlfn.XLOOKUP($B24,FD_Lists!$B$4:$B$25,FD_Lists!F$4:F$25) -> WaSC | G24: PCL Units | H24: OUT2_14_PR24 | I24: =B24&H24 -> HDDOUT2_14_PR24 | J24: Base | K24: Company view (FD) | L24: DIS | M24: Percentage compliance | N24: Percentage | O24: 3 | AL24: =IF(P24<>"","Ref required","") | AM24: =IF(Q24<>"","Ref required","") | AN24: =IF(R24<>"","Ref required","") | AO24: =IF(S24<>"","Ref required","") | AP24: =IF(T24<>"","Ref required","") | AQ24: =IF(U24<>"","Ref required","") | AR24: =IF(V24<>"","Ref required","") | AS24: =IF(W24<>"","Ref required","") | ... BD24: =IF(AH24<>"","Ref required","")
B25: NES | C25: =_xlfn.XLOOKUP($B25,FD_Lists!$B$4:$B$25,FD_Lists!C$4:C$25) -> Northumbrian Water | D25: =_xlfn.XLOOKUP($B25,FD_Lists!$B$4:$B$25,FD_Lists!D$4:D$25) -> England | E25: =_xlfn.XLOOKUP($B25,FD_Lists!$B$4:$B$25,FD_Lists!E$4:E$25) -> Company | F25: =_xlfn.XLOOKUP($B25,FD_Lists!$B$4:$B$25,FD_Lists!F$4:F$25) -> WaSC | G25: PCL Units | H25: OUT2_14_PR24 | I25: =B25&H25 -> NESOUT2_14_PR24 | J25: Base | K25: Company view (FD) | L25: DIS | M25: Percentage compliance | N25: Percentage | O25: 3 | AL25: =IF(P25<>"","Ref required","") | AM25: =IF(Q25<>"","Ref required","") | AN25: =IF(R25<>"","Ref required","") | AO25: =IF(S25<>"","Ref required","") | AP25: =IF(T25<>"","Ref required","") | AQ25: =IF(U25<>"","Ref required","") | AR25: =IF(V25<>"","Ref required","") | AS25: =IF(W25<>"","Ref required","") | ... BD25: =IF(AH25<>"","Ref required","")
B26: SVE | C26: =_xlfn.XLOOKUP($B26,FD_Lists!$B$4:$B$25,FD_Lists!C$4:C$25) -> Severn Trent Water | D26: =_xlfn.XLOOKUP($B26,FD_Lists!$B$4:$B$25,FD_Lists!D$4:D$25) -> England | E26: =_xlfn.XLOOKUP($B26,FD_Lists!$B$4:$B$25,FD_Lists!E$4:E$25) -> Company | F26: =_xlfn.XLOOKUP($B26,FD_Lists!$B$4:$B$25,FD_Lists!F$4:F$25) -> WaSC | G26: PCL Units | H26: OUT2_14_PR24 | I26: =B26&H26 -> SVEOUT2_14_PR24 | J26: Base | K26: Company view (FD) | L26: DIS | M26: Percentage compliance | N26: Percentage | O26: 3 | AL26: =IF(P26<>"","Ref required","") | AM26: =IF(Q26<>"","Ref required","") | AN26: =IF(R26<>"","Ref required","") | AO26: =IF(S26<>"","Ref required","") | AP26: =IF(T26<>"","Ref required","") | AQ26: =IF(U26<>"","Ref required","") | AR26: =IF(V26<>"","Ref required","") | AS26: =IF(W26<>"","Ref required","") | ... BD26: =IF(AH26<>"","Ref required","")
B27: SRN | C27: =_xlfn.XLOOKUP($B27,FD_Lists!$B$4:$B$25,FD_Lists!C$4:C$25) -> Southern Water | D27: =_xlfn.XLOOKUP($B27,FD_Lists!$B$4:$B$25,FD_Lists!D$4:D$25) -> England | E27: =_xlfn.XLOOKUP($B27,FD_Lists!$B$4:$B$25,FD_Lists!E$4:E$25) -> Company | F27: =_xlfn.XLOOKUP($B27,FD_Lists!$B$4:$B$25,FD_Lists!F$4:F$25) -> WaSC | G27: PCL Units | H27: OUT2_14_PR24 | I27: =B27&H27 -> SRNOUT2_14_PR24 | J27: Base | K27: Company view (FD) | L27: DIS | M27: Percentage compliance | N27: Percentage | O27: 3 | AL27: =IF(P27<>"","Ref required","") | AM27: =IF(Q27<>"","Ref required","") | AN27: =IF(R27<>"","Ref required","") | AO27: =IF(S27<>"","Ref required","") | AP27: =IF(T27<>"","Ref required","") | AQ27: =IF(U27<>"","Ref required","") | AR27: =IF(V27<>"","Ref required","") | AS27: =IF(W27<>"","Ref required","") | ... BD27: =IF(AH27<>"","Ref required","")
B28: TMS | C28: =_xlfn.XLOOKUP($B28,FD_Lists!$B$4:$B$25,FD_Lists!C$4:C$25) -> Thames Water | D28: =_xlfn.XLOOKUP($B28,FD_Lists!$B$4:$B$25,FD_Lists!D$4:D$25) -> England | E28: =_xlfn.XLOOKUP($B28,FD_Lists!$B$4:$B$25,FD_Lists!E$4:E$25) -> Company | F28: =_xlfn.XLOOKUP($B28,FD_Lists!$B$4:$B$25,FD_Lists!F$4:F$25) -> WaSC | G28: PCL Units | H28: OUT2_14_PR24 | I28: =B28&H28 -> TMSOUT2_14_PR24 | J28: Base | K28: Company view (FD) | L28: DIS | M28: Percentage compliance | N28: Percentage | O28: 3 | AL28: =IF(P28<>"","Ref required","") | AM28: =IF(Q28<>"","Ref required","") | AN28: =IF(R28<>"","Ref required","") | AO28: =IF(S28<>"","Ref required","") | AP28: =IF(T28<>"","Ref required","") | AQ28: =IF(U28<>"","Ref required","") | AR28: =IF(V28<>"","Ref required","") | AS28: =IF(W28<>"","Ref required","") | ... BD28: =IF(AH28<>"","Ref required","")
A29: UUW | B29: NWT | C29: =_xlfn.XLOOKUP($B29,FD_Lists!$B$4:$B$25,FD_Lists!C$4:C$25) -> United Utilities | D29: =_xlfn.XLOOKUP($B29,FD_Lists!$B$4:$B$25,FD_Lists!D$4:D$25) -> England | E29: =_xlfn.XLOOKUP($B29,FD_Lists!$B$4:$B$25,FD_Lists!E$4:E$25) -> Company | F29: =_xlfn.XLOOKUP($B29,FD_Lists!$B$4:$B$25,FD_Lists!F$4:F$25) -> WaSC | G29: PCL Units | H29: OUT2_14_PR24 | I29: =B29&H29 -> NWTOUT2_14_PR24 | J29: Base | K29: Company view (FD) | L29: DIS | M29: Percentage compliance | N29: Percentage | O29: 3 | AL29: =IF(P29<>"","Ref required","") | AM29: =IF(Q29<>"","Ref required","") | AN29: =IF(R29<>"","Ref required","") | AO29: =IF(S29<>"","Ref required","") | AP29: =IF(T29<>"","Ref required","") | AQ29: =IF(U29<>"","Ref required","") | AR29: =IF(V29<>"","Ref required","") | AS29: =IF(W29<>"","Ref required","") | ... BD29: =IF(AH29<>"","Ref required","")
B30: WSX | C30: =_xlfn.XLOOKUP($B30,FD_Lists!$B$4:$B$25,FD_Lists!C$4:C$25) -> Wessex Water | D30: =_xlfn.XLOOKUP($B30,FD_Lists!$B$4:$B$25,FD_Lists!D$4:D$25) -> England | E30: =_xlfn.XLOOKUP($B30,FD_Lists!$B$4:$B$25,FD_Lists!E$4:E$25) -> Company | F30: =_xlfn.XLOOKUP($B30,FD_Lists!$B$4:$B$25,FD_Lists!F$4:F$25) -> WaSC | G30: PCL Units | H30: OUT2_14_PR24 | I30: =B30&H30 -> WSXOUT2_14_PR24 | J30: Base | K30: Company view (FD) | L30: DIS | M30: Percentage compliance | N30: Percentage | O30: 3 | AL30: =IF(P30<>"","Ref required","") | AM30: =IF(Q30<>"","Ref required","") | AN30: =IF(R30<>"","Ref required","") | AO30: =IF(S30<>"","Ref required","") | AP30: =IF(T30<>"","Ref required","") | AQ30: =IF(U30<>"","Ref required","") | AR30: =IF(V30<>"","Ref required","") | AS30: =IF(W30<>"","Ref required","") | ... BD30: =IF(AH30<>"","Ref required","")
B31: YKY | C31: =_xlfn.XLOOKUP($B31,FD_Lists!$B$4:$B$25,FD_Lists!C$4:C$25) -> Yorkshire Water | D31: =_xlfn.XLOOKUP($B31,FD_Lists!$B$4:$B$25,FD_Lists!D$4:D$25) -> England | E31: =_xlfn.XLOOKUP($B31,FD_Lists!$B$4:$B$25,FD_Lists!E$4:E$25) -> Company | F31: =_xlfn.XLOOKUP($B31,FD_Lists!$B$4:$B$25,FD_Lists!F$4:F$25) -> WaSC | G31: PCL Units | H31: OUT2_14_PR24 | I31: =B31&H31 -> YKYOUT2_14_PR24 | J31: Base | K31: Company view (FD) | L31: DIS | M31: Percentage compliance | N31: Percentage | O31: 3 | AL31: =IF(P31<>"","Ref required","") | AM31: =IF(Q31<>"","Ref required","") | AN31: =IF(R31<>"","Ref required","") | AO31: =IF(S31<>"","Ref required","") | AP31: =IF(T31<>"","Ref required","") | AQ31: =IF(U31<>"","Ref required","") | AR31: =IF(V31<>"","Ref required","") | AS31: =IF(W31<>"","Ref required","") | ... BD31: =IF(AH31<>"","Ref required","")
B32: AFW | C32: =_xlfn.XLOOKUP($B32,FD_Lists!$B$4:$B$25,FD_Lists!C$4:C$25) -> Affinity Water | D32: =_xlfn.XLOOKUP($B32,FD_Lists!$B$4:$B$25,FD_Lists!D$4:D$25) -> England | E32: =_xlfn.XLOOKUP($B32,FD_Lists!$B$4:$B$25,FD_Lists!E$4:E$25) -> Company | F32: =_xlfn.XLOOKUP($B32,FD_Lists!$B$4:$B$25,FD_Lists!F$4:F$25) -> WoC | G32: PCL Units | H32: OUT2_14_PR24 | I32: =B32&H32 -> AFWOUT2_14_PR24 | J32: Base | K32: Company view (FD) | L32: DIS | M32: Percentage compliance | N32: Percentage | O32: 3 | AL32: =IF(P32<>"","Ref required","") | AM32: =IF(Q32<>"","Ref required","") | AN32: =IF(R32<>"","Ref required","") | AO32: =IF(S32<>"","Ref required","") | AP32: =IF(T32<>"","Ref required","") | AQ32: =IF(U32<>"","Ref required","") | AR32: =IF(V32<>"","Ref required","") | AS32: =IF(W32<>"","Ref required","") | ... BD32: =IF(AH32<>"","Ref required","")
B33: PRT | C33: =_xlfn.XLOOKUP($B33,FD_Lists!$B$4:$B$25,FD_Lists!C$4:C$25) -> Portsmouth Water | D33: =_xlfn.XLOOKUP($B33,FD_Lists!$B$4:$B$25,FD_Lists!D$4:D$25) -> England | E33: =_xlfn.XLOOKUP($B33,FD_Lists!$B$4:$B$25,FD_Lists!E$4:E$25) -> Company | F33: =_xlfn.XLOOKUP($B33,FD_Lists!$B$4:$B$25,FD_Lists!F$4:F$25) -> WoC | G33: PCL Units | H33: OUT2_14_PR24 | I33: =B33&H33 -> PRTOUT2_14_PR24 | J33: Base | K33: Company view (FD) | L33: DIS | M33: Percentage compliance | N33: Percentage | O33: 3 | AL33: =IF(P33<>"","Ref required","") | AM33: =IF(Q33<>"","Ref required","") | AN33: =IF(R33<>"","Ref required","") | AO33: =IF(S33<>"","Ref required","") | AP33: =IF(T33<>"","Ref required","") | AQ33: =IF(U33<>"","Ref required","") | AR33: =IF(V33<>"","Ref required","") | AS33: =IF(W33<>"","Ref required","") | ... BD33: =IF(AH33<>"","Ref required","")
B34: SEW | C34: =_xlfn.XLOOKUP($B34,FD_Lists!$B$4:$B$25,FD_Lists!C$4:C$25) -> South East Water | D34: =_xlfn.XLOOKUP($B34,FD_Lists!$B$4:$B$25,FD_Lists!D$4:D$25) -> England | E34: =_xlfn.XLOOKUP($B34,FD_Lists!$B$4:$B$25,FD_Lists!E$4:E$25) -> Company | F34: =_xlfn.XLOOKUP($B34,FD_Lists!$B$4:$B$25,FD_Lists!F$4:F$25) -> WoC | G34: PCL Units | H34: OUT2_14_PR24 | I34: =B34&H34 -> SEWOUT2_14_PR24 | J34: Base | K34: Company view (FD) | L34: DIS | M34: Percentage compliance | N34: Percentage | O34: 3 | AL34: =IF(P34<>"","Ref required","") | AM34: =IF(Q34<>"","Ref required","") | AN34: =IF(R34<>"","Ref required","") | AO34: =IF(S34<>"","Ref required","") | AP34: =IF(T34<>"","Ref required","") | AQ34: =IF(U34<>"","Ref required","") | AR34: =IF(V34<>"","Ref required","") | AS34: =IF(W34<>"","Ref required","") | ... BD34: =IF(AH34<>"","Ref required","")
B35: SSC | C35: =_xlfn.XLOOKUP($B35,FD_Lists!$B$4:$B$25,FD_Lists!C$4:C$25) -> South Staffordshire Water | D35: =_xlfn.XLOOKUP($B35,FD_Lists!$B$4:$B$25,FD_Lists!D$4:D$25) -> England | E35: =_xlfn.XLOOKUP($B35,FD_Lists!$B$4:$B$25,FD_Lists!E$4:E$25) -> Company | F35: =_xlfn.XLOOKUP($B35,FD_Lists!$B$4:$B$25,FD_Lists!F$4:F$25) -> WoC | G35: PCL Units | H35: OUT2_14_PR24 | I35: =B35&H35 -> SSCOUT2_14_PR24 | J35: Base | K35: Company view (FD) | L35: DIS | M35: Percentage compliance | N35: Percentage | O35: 3 | AL35: =IF(P35<>"","Ref required","") | AM35: =IF(Q35<>"","Ref required","") | AN35: =IF(R35<>"","Ref required","") | AO35: =IF(S35<>"","Ref required","") | AP35: =IF(T35<>"","Ref required","") | AQ35: =IF(U35<>"","Ref required","") | AR35: =IF(V35<>"","Ref required","") | AS35: =IF(W35<>"","Ref required","") | ... BD35: =IF(AH35<>"","Ref required","")
B36: SES | C36: =_xlfn.XLOOKUP($B36,FD_Lists!$B$4:$B$25,FD_Lists!C$4:C$25) -> SES Water | D36: =_xlfn.XLOOKUP($B36,FD_Lists!$B$4:$B$25,FD_Lists!D$4:D$25) -> England | E36: =_xlfn.XLOOKUP($B36,FD_Lists!$B$4:$B$25,FD_Lists!E$4:E$25) -> Company | F36: =_xlfn.XLOOKUP($B36,FD_Lists!$B$4:$B$25,FD_Lists!F$4:F$25) -> WoC | G36: PCL Units | H36: OUT2_14_PR24 | I36: =B36&H36 -> SESOUT2_14_PR24 | J36: Base | K36: Company view (FD) | L36: DIS | M36: Percentage compliance | N36: Percentage | O36: 3 | AL36: =IF(P36<>"","Ref required","") | AM36: =IF(Q36<>"","Ref required","") | AN36: =IF(R36<>"","Ref required","") | AO36: =IF(S36<>"","Ref required","") | AP36: =IF(T36<>"","Ref required","") | AQ36: =IF(U36<>"","Ref required","") | AR36: =IF(V36<>"","Ref required","") | AS36: =IF(W36<>"","Ref required","") | ... BD36: =IF(AH36<>"","Ref required","")
B37: SWB | C37: =_xlfn.XLOOKUP($B37,FD_Lists!$B$4:$B$25,FD_Lists!C$4:C$25) -> South West Water | D37: =_xlfn.XLOOKUP($B37,FD_Lists!$B$4:$B$25,FD_Lists!D$4:D$25) -> England | E37: =_xlfn.XLOOKUP($B37,FD_Lists!$B$4:$B$25,FD_Lists!E$4:E$25) -> Company | F37: =_xlfn.XLOOKUP($B37,FD_Lists!$B$4:$B$25,FD_Lists!F$4:F$25) -> WaSC | G37: PCL Units | H37: OUT2_14_PR24 | I37: =B37&H37 -> SWBOUT2_14_PR24 | J37: Base | K37: Company view (FD) | L37: DIS | M37: Percentage compliance | N37: Percentage | O37: 3 | P37: =F_Inputs_Formatted!P37/100 -> 0.8903 | Q37: =F_Inputs_Formatted!Q37/100 -> 0.9649 | R37: =F_Inputs_Formatted!R37/100 -> 0.9327 | S37: =F_Inputs_Formatted!S37/100 -> 0.9614 | T37: =F_Inputs_Formatted!T37/100 -> 0.9553 | U37: =F_Inputs_Formatted!U37/100 -> 0.9808 | V37: =F_Inputs_Formatted!V37/100 -> 0.971 | AL37: Values adjusted by dividing by 100 as values were off by factor of 100 | AM37: Values adjusted by dividing by 100 as values were off by factor of 101 | AN37: Values adjusted by dividing by 100 as values were off by factor of 102 | AO37: Values adjusted by dividing by 100 as values were off by factor of 103 | AP37: Values adjusted by dividing by 100 as values were off by factor of 104 | AQ37: Values adjusted by dividing by 100 as values were off by factor of 105 | AR37: Values adjusted by dividing by 100 as values were off by factor of 106 | AS37: =IF(W37<>"","Ref required","") | AT37: =IF(X37<>"","Ref required","") | AU37: =IF(Y37<>"","Ref required","") | AV37: =IF(Z37<>"","Ref required","") | AW37: =IF(AA37<>"","Ref required","") | AX37: =IF(AB37<>"","Ref required","") | AY37: =IF(AC37<>"","Ref required","") | AZ37: =IF(AD37<>"","Ref required","") | ... BD37: =IF(AH37<>"","Ref required","")
B38: BRL | C38: =_xlfn.XLOOKUP($B38,FD_Lists!$B$4:$B$25,FD_Lists!C$4:C$25) -> Bristol Water | D38: =_xlfn.XLOOKUP($B38,FD_Lists!$B$4:$B$25,FD_Lists!D$4:D$25) -> England | E38: =_xlfn.XLOOKUP($B38,FD_Lists!$B$4:$B$25,FD_Lists!E$4:E$25) -> Company | F38: =_xlfn.XLOOKUP($B38,FD_Lists!$B$4:$B$25,FD_Lists!F$4:F$25) -> WoC | G38: PCL Units | H38: OUT2_14_PR24 | I38: =B38&H38 -> BRLOUT2_14_PR24 | J38: Base | K38: Company view (FD) | L38: DIS | M38: Percentage compliance | N38: Percentage | O38: 3 | AL38: =IF(P38<>"","Ref required","") | AM38: =IF(Q38<>"","Ref required","") | AN38: =IF(R38<>"","Ref required","") | AO38: =IF(S38<>"","Ref required","") | AP38: =IF(T38<>"","Ref required","") | AQ38: =IF(U38<>"","Ref required","") | AR38: =IF(V38<>"","Ref required","") | AS38: =IF(W38<>"","Ref required","") | ... BD38: =IF(AH38<>"","Ref required","")
B39: ANH | C39: =_xlfn.XLOOKUP($B39,FD_Lists!$B$4:$B$25,FD_Lists!C$4:C$25) -> Anglian Water | D39: =_xlfn.XLOOKUP($B39,FD_Lists!$B$4:$B$25,FD_Lists!D$4:D$25) -> England | E39: =_xlfn.XLOOKUP($B39,FD_Lists!$B$4:$B$25,FD_Lists!E$4:E$25) -> Company | F39: =_xlfn.XLOOKUP($B39,FD_Lists!$B$4:$B$25,FD_Lists!F$4:F$25) -> WaSC | G39: PCL Units | H39: OUT3_14_01_PR24 | I39: =B39&H39 -> ANHOUT3_14_01_PR24 | J39: Enhancement | K39: Company view (FD) | L39: DIS | M39: Percentage compliance | N39: Percentage | O39: 3 | AL39: =IF(P39<>"","Ref required","") | AM39: =IF(Q39<>"","Ref required","") | AN39: =IF(R39<>"","Ref required","") | AO39: =IF(S39<>"","Ref required","") | AP39: =IF(T39<>"","Ref required","") | AQ39: =IF(U39<>"","Ref required","") | AR39: =IF(V39<>"","Ref required","") | AS39: =IF(W39<>"","Ref required","") | ... BD39: =IF(AH39<>"","Ref required","")
B40: WSH | C40: =_xlfn.XLOOKUP($B40,FD_Lists!$B$4:$B$25,FD_Lists!C$4:C$25) -> Dŵr Cymru | D40: =_xlfn.XLOOKUP($B40,FD_Lists!$B$4:$B$25,FD_Lists!D$4:D$25) -> Wales | E40: =_xlfn.XLOOKUP($B40,FD_Lists!$B$4:$B$25,FD_Lists!E$4:E$25) -> Company | F40: =_xlfn.XLOOKUP($B40,FD_Lists!$B$4:$B$25,FD_Lists!F$4:F$25) -> WaSC | G40: PCL Units | H40: OUT3_14_01_PR24 | I40: =B40&H40 -> WSHOUT3_14_01_PR24 | J40: Enhancement | K40: Company view (FD) | L40: DIS | M40: Percentage compliance | N40: Percentage | O40: 3 | AL40: =IF(P40<>"","Ref required","") | AM40: =IF(Q40<>"","Ref required","") | AN40: =IF(R40<>"","Ref required","") | AO40: =IF(S40<>"","Ref required","") | AP40: =IF(T40<>"","Ref required","") | AQ40: =IF(U40<>"","Ref required","") | AR40: =IF(V40<>"","Ref required","") | AS40: =IF(W40<>"","Ref required","") | ... BD40: =IF(AH40<>"","Ref required","")
B41: HDD | C41: =_xlfn.XLOOKUP($B41,FD_Lists!$B$4:$B$25,FD_Lists!C$4:C$25) -> Hafren Dyfrdwy | D41: =_xlfn.XLOOKUP($B41,FD_Lists!$B$4:$B$25,FD_Lists!D$4:D$25) -> Wales | E41: =_xlfn.XLOOKUP($B41,FD_Lists!$B$4:$B$25,FD_Lists!E$4:E$25) -> Company | F41: =_xlfn.XLOOKUP($B41,FD_Lists!$B$4:$B$25,FD_Lists!F$4:F$25) -> WaSC | G41: PCL Units | H41: OUT3_14_01_PR24 | I41: =B41&H41 -> HDDOUT3_14_01_PR24 | J41: Enhancement | K41: Company view (FD) | L41: DIS | M41: Percentage compliance | N41: Percentage | O41: 3 | AL41: =IF(P41<>"","Ref required","") | AM41: =IF(Q41<>"","Ref required","") | AN41: =IF(R41<>"","Ref required","") | AO41: =IF(S41<>"","Ref required","") | AP41: =IF(T41<>"","Ref required","") | AQ41: =IF(U41<>"","Ref required","") | AR41: =IF(V41<>"","Ref required","") | AS41: =IF(W41<>"","Ref required","") | ... BD41: =IF(AH41<>"","Ref required","")
B42: NES | C42: =_xlfn.XLOOKUP($B42,FD_Lists!$B$4:$B$25,FD_Lists!C$4:C$25) -> Northumbrian Water | D42: =_xlfn.XLOOKUP($B42,FD_Lists!$B$4:$B$25,FD_Lists!D$4:D$25) -> England | E42: =_xlfn.XLOOKUP($B42,FD_Lists!$B$4:$B$25,FD_Lists!E$4:E$25) -> Company | F42: =_xlfn.XLOOKUP($B42,FD_Lists!$B$4:$B$25,FD_Lists!F$4:F$25) -> WaSC | G42: PCL Units | H42: OUT3_14_01_PR24 | I42: =B42&H42 -> NESOUT3_14_01_PR24 | J42: Enhancement | K42: Company view (FD) | L42: DIS | M42: Percentage compliance | N42: Percentage | O42: 3 | AL42: =IF(P42<>"","Ref required","") | AM42: =IF(Q42<>"","Ref required","") | AN42: =IF(R42<>"","Ref required","") | AO42: =IF(S42<>"","Ref required","") | AP42: =IF(T42<>"","Ref required","") | AQ42: =IF(U42<>"","Ref required","") | AR42: =IF(V42<>"","Ref required","") | AS42: =IF(W42<>"","Ref required","") | ... BD42: =IF(AH42<>"","Ref required","")
B43: SVE | C43: =_xlfn.XLOOKUP($B43,FD_Lists!$B$4:$B$25,FD_Lists!C$4:C$25) -> Severn Trent Water | D43: =_xlfn.XLOOKUP($B43,FD_Lists!$B$4:$B$25,FD_Lists!D$4:D$25) -> England | E43: =_xlfn.XLOOKUP($B43,FD_Lists!$B$4:$B$25,FD_Lists!E$4:E$25) -> Company | F43: =_xlfn.XLOOKUP($B43,FD_Lists!$B$4:$B$25,FD_Lists!F$4:F$25) -> WaSC | G43: PCL Units | H43: OUT3_14_01_PR24 | I43: =B43&H43 -> SVEOUT3_14_01_PR24 | J43: Enhancement | K43: Company view (FD) | L43: DIS | M43: Percentage compliance | N43: Percentage | O43: 3 | AL43: =IF(P43<>"","Ref required","") | AM43: =IF(Q43<>"","Ref required","") | AN43: =IF(R43<>"","Ref required","") | AO43: =IF(S43<>"","Ref required","") | AP43: =IF(T43<>"","Ref required","") | AQ43: =IF(U43<>"","Ref required","") | AR43: =IF(V43<>"","Ref required","") | AS43: =IF(W43<>"","Ref required","") | ... BD43: =IF(AH43<>"","Ref required","")
B44: SRN | C44: =_xlfn.XLOOKUP($B44,FD_Lists!$B$4:$B$25,FD_Lists!C$4:C$25) -> Southern Water | D44: =_xlfn.XLOOKUP($B44,FD_Lists!$B$4:$B$25,FD_Lists!D$4:D$25) -> England | E44: =_xlfn.XLOOKUP($B44,FD_Lists!$B$4:$B$25,FD_Lists!E$4:E$25) -> Company | F44: =_xlfn.XLOOKUP($B44,FD_Lists!$B$4:$B$25,FD_Lists!F$4:F$25) -> WaSC | G44: PCL Units | H44: OUT3_14_01_PR24 | I44: =B44&H44 -> SRNOUT3_14_01_PR24 | J44: Enhancement | K44: Company view (FD) | L44: DIS | M44: Percentage compliance | N44: Percentage | O44: 3 | AL44: =IF(P44<>"","Ref required","") | AM44: =IF(Q44<>"","Ref required","") | AN44: =IF(R44<>"","Ref required","") | AO44: =IF(S44<>"","Ref required","") | AP44: =IF(T44<>"","Ref required","") | AQ44: =IF(U44<>"","Ref required","") | AR44: =IF(V44<>"","Ref required","") | AS44: =IF(W44<>"","Ref required","") | ... BD44: =IF(AH44<>"","Ref required","")
B45: TMS | C45: =_xlfn.XLOOKUP($B45,FD_Lists!$B$4:$B$25,FD_Lists!C$4:C$25) -> Thames Water | D45: =_xlfn.XLOOKUP($B45,FD_Lists!$B$4:$B$25,FD_Lists!D$4:D$25) -> England | E45: =_xlfn.XLOOKUP($B45,FD_Lists!$B$4:$B$25,FD_Lists!E$4:E$25) -> Company | F45: =_xlfn.XLOOKUP($B45,FD_Lists!$B$4:$B$25,FD_Lists!F$4:F$25) -> WaSC | G45: PCL Units | H45: OUT3_14_01_PR24 | I45: =B45&H45 -> TMSOUT3_14_01_PR24 | J45: Enhancement | K45: Company view (FD) | L45: DIS | M45: Percentage compliance | N45: Percentage | O45: 3 | AL45: =IF(P45<>"","Ref required","") | AM45: =IF(Q45<>"","Ref required","") | AN45: =IF(R45<>"","Ref required","") | AO45: =IF(S45<>"","Ref required","") | AP45: =IF(T45<>"","Ref required","") | AQ45: =IF(U45<>"","Ref required","") | AR45: =IF(V45<>"","Ref required","") | AS45: =IF(W45<>"","Ref required","") | ... BD45: =IF(AH45<>"","Ref required","")
A46: UUW | B46: NWT | C46: =_xlfn.XLOOKUP($B46,FD_Lists!$B$4:$B$25,FD_Lists!C$4:C$25) -> United Utilities | D46: =_xlfn.XLOOKUP($B46,FD_Lists!$B$4:$B$25,FD_Lists!D$4:D$25) -> England | E46: =_xlfn.XLOOKUP($B46,FD_Lists!$B$4:$B$25,FD_Lists!E$4:E$25) -> Company | F46: =_xlfn.XLOOKUP($B46,FD_Lists!$B$4:$B$25,FD_Lists!F$4:F$25) -> WaSC | G46: PCL Units | H46: OUT3_14_01_PR24 | I46: =B46&H46 -> NWTOUT3_14_01_PR24 | J46: Enhancement | K46: Company view (FD) | L46: DIS | M46: Percentage compliance | N46: Percentage | O46: 3 | AL46: =IF(P46<>"","Ref required","") | AM46: =IF(Q46<>"","Ref required","") | AN46: =IF(R46<>"","Ref required","") | AO46: =IF(S46<>"","Ref required","") | AP46: =IF(T46<>"","Ref required","") | AQ46: =IF(U46<>"","Ref required","") | AR46: =IF(V46<>"","Ref required","") | AS46: =IF(W46<>"","Ref required","") | ... BD46: =IF(AH46<>"","Ref required","")
B47: WSX | C47: =_xlfn.XLOOKUP($B47,FD_Lists!$B$4:$B$25,FD_Lists!C$4:C$25) -> Wessex Water | D47: =_xlfn.XLOOKUP($B47,FD_Lists!$B$4:$B$25,FD_Lists!D$4:D$25) -> England | E47: =_xlfn.XLOOKUP($B47,FD_Lists!$B$4:$B$25,FD_Lists!E$4:E$25) -> Company | F47: =_xlfn.XLOOKUP($B47,FD_Lists!$B$4:$B$25,FD_Lists!F$4:F$25) -> WaSC | G47: PCL Units | H47: OUT3_14_01_PR24 | I47: =B47&H47 -> WSXOUT3_14_01_PR24 | J47: Enhancement | K47: Company view (FD) | L47: DIS | M47: Percentage compliance | N47: Percentage | O47: 3 | AL47: =IF(P47<>"","Ref required","") | AM47: =IF(Q47<>"","Ref required","") | AN47: =IF(R47<>"","Ref required","") | AO47: =IF(S47<>"","Ref required","") | AP47: =IF(T47<>"","Ref required","") | AQ47: =IF(U47<>"","Ref required","") | AR47: =IF(V47<>"","Ref required","") | AS47: =IF(W47<>"","Ref required","") | ... BD47: =IF(AH47<>"","Ref required","")
B48: YKY | C48: =_xlfn.XLOOKUP($B48,FD_Lists!$B$4:$B$25,FD_Lists!C$4:C$25) -> Yorkshire Water | D48: =_xlfn.XLOOKUP($B48,FD_Lists!$B$4:$B$25,FD_Lists!D$4:D$25) -> England | E48: =_xlfn.XLOOKUP($B48,FD_Lists!$B$4:$B$25,FD_Lists!E$4:E$25) -> Company | F48: =_xlfn.XLOOKUP($B48,FD_Lists!$B$4:$B$25,FD_Lists!F$4:F$25) -> WaSC | G48: PCL Units | H48: OUT3_14_01_PR24 | I48: =B48&H48 -> YKYOUT3_14_01_PR24 | J48: Enhancement | K48: Company view (FD) | L48: DIS | M48: Percentage compliance | N48: Percentage | O48: 3 | AL48: =IF(P48<>"","Ref required","") | AM48: =IF(Q48<>"","Ref required","") | AN48: =IF(R48<>"","Ref required","") | AO48: =IF(S48<>"","Ref required","") | AP48: =IF(T48<>"","Ref required","") | AQ48: =IF(U48<>"","Ref required","") | AR48: =IF(V48<>"","Ref required","") | AS48: =IF(W48<>"","Ref required","") | ... BD48: =IF(AH48<>"","Ref required","")
B49: AFW | C49: =_xlfn.XLOOKUP($B49,FD_Lists!$B$4:$B$25,FD_Lists!C$4:C$25) -> Affinity Water | D49: =_xlfn.XLOOKUP($B49,FD_Lists!$B$4:$B$25,FD_Lists!D$4:D$25) -> England | E49: =_xlfn.XLOOKUP($B49,FD_Lists!$B$4:$B$25,FD_Lists!E$4:E$25) -> Company | F49: =_xlfn.XLOOKUP($B49,FD_Lists!$B$4:$B$25,FD_Lists!F$4:F$25) -> WoC | G49: PCL Units | H49: OUT3_14_01_PR24 | I49: =B49&H49 -> AFWOUT3_14_01_PR24 | J49: Enhancement | K49: Company view (FD) | L49: DIS | M49: Percentage compliance | N49: Percentage | O49: 3 | AL49: =IF(P49<>"","Ref required","") | AM49: =IF(Q49<>"","Ref required","") | AN49: =IF(R49<>"","Ref required","") | AO49: =IF(S49<>"","Ref required","") | AP49: =IF(T49<>"","Ref required","") | AQ49: =IF(U49<>"","Ref required","") | AR49: =IF(V49<>"","Ref required","") | AS49: =IF(W49<>"","Ref required","") | ... BD49: =IF(AH49<>"","Ref required","")
