Workbook
Name \0: #REF!
Name \A: #REF!
Name \C: #REF!
Name \P: #REF!
Name \Q: #REF!
Name \V: #REF!
Name \X: #REF!
Name \Z: #REF!
Name ___INDEX_SHEET___ASAP_Utilities: #REF!
Name _1___Data_table_for_graph___Leakage___AR4__AR3__AR2__AR1_and_Ofwat_leakage_targets: #REF!
Name _1__Data_table_for_graph___meter_penetration___AR4__AR3__AR2__and_AR1: #REF!
Name _1__Graph___meter_penetration___AR4__AR3__AR2__and_AR1: #REF!
Name _1_8_4_Step2: #REF!
Name _1st_model_column_flag: #REF!
Name _2__Graph___Leakage_AR4__AR3__AR2__AR1_and_Ofwat_leakage_targets: #REF!
Name _2__Graph___meter_penetration___AR4__AR3__AR2__and_AR1: #REF!
Name _2020_25_RCV___nominal.ADDN1: #REF!
Name _2020_25_RCV___nominal.ADDN1.BEG: #REF!
Name _2020_25_RCV___nominal.ADDN2: #REF!
Name _2020_25_RCV___nominal.ADDN2.BEG: #REF!
Name _2020_25_RCV___nominal.BR: #REF!
Name _2020_25_RCV___nominal.BR.BEG: #REF!
Name _2020_25_RCV___nominal.WN: #REF!
Name _2020_25_RCV___nominal.WN.BEG: #REF!
Name _2020_25_RCV___nominal.WR: #REF!
Name _2020_25_RCV___nominal.WR.BEG: #REF!
Name _2020_25_RCV___nominal.WWN: #REF!
Name _2020_25_RCV___nominal.WWN.BEG: #REF!
Name _2020_25_RCV___not_negative_check.ADDN1: #REF!
Name _2020_25_RCV___not_negative_check.ADDN2: #REF!
Name _2020_25_RCV___not_negative_check.BR: #REF!
Name _2020_25_RCV___not_negative_check.WN: #REF!
Name _2020_25_RCV___not_negative_check.WR: #REF!
Name _2020_25_RCV___not_negative_check.WWN: #REF!
Name _2020_25_RCV___not_negative_check_overall.ADDN1: #REF!
Name _2020_25_RCV___not_negative_check_overall.ADDN2: #REF!
Name _2020_25_RCV___not_negative_check_overall.BR: #REF!
Name _2020_25_RCV___not_negative_check_overall.WN: #REF!
Name _2020_25_RCV___not_negative_check_overall.WR: #REF!
Name _2020_25_RCV___not_negative_check_overall.WWN: #REF!
Name _2020_25_RCV___opening_plus_movement___nominal.ADDN1: #REF!
Name _2020_25_RCV___opening_plus_movement___nominal.ADDN2: #REF!
Name _2020_25_RCV___opening_plus_movement___nominal.BR: #REF!
Name _2020_25_RCV___opening_plus_movement___nominal.WN: #REF!
Name _2020_25_RCV___opening_plus_movement___nominal.WR: #REF!
Name _2020_25_RCV___opening_plus_movement___nominal.WWN: #REF!
Name _2020_25_RCV___real.ADDN1: #REF!
Name _2020_25_RCV___real.ADDN2: #REF!
Name _2020_25_RCV___real.BR: #REF!
Name _2020_25_RCV___real.WN: #REF!
Name _2020_25_RCV___real.WR: #REF!
Name _2020_25_RCV___real.WWN: #REF!
Name _2020_25_RCV_initial_balance___nominal.ADDN1: #REF!
Name _2020_25_RCV_initial_balance___nominal.ADDN2: #REF!
Name _2020_25_RCV_initial_balance___nominal.BR: #REF!
Name _2020_25_RCV_initial_balance___nominal.WN: #REF!
Name _2020_25_RCV_initial_balance___nominal.WR: #REF!
Name _2020_25_RCV_initial_balance___nominal.WWN: #REF!
Name _2020_25_RCV_initial_balance___not_negative_check.ADDN1: #REF!
Name _2020_25_RCV_initial_balance___not_negative_check.ADDN2: #REF!

Sheet Cover
A1: =RIGHT(CELL("filename", $A$1), LEN(CELL("filename", $A$1)) - SEARCH("]", CELL("filename", $A$1))) -> #VALUE!
B3: PR24 Performance Commitment Model
B5: Performance commitment | C5: Discharge Permit Compliance (DIS)
B6: Version number: | C6: 3
B7: File name: | C7: =MID(CELL("filename"), FIND("[", CELL("filename"), 1) + 1, FIND("]", CELL("filename"), 1) - FIND("[", CELL("filename"), 1) - 1) -> #VALUE!
B8: Date: | C8: 46266
B10: For enquiries please contact: | C10: PR24@Ofwat.gov.uk
B12: Instructions: | C12: A separate model 'User guide' has been created to help the user in operating the model.

Sheet Overview
B2: Discharge Permit Compliance (DIS)
B12: Approach to setting performance commitment level (PCL)
B13: PCL Type | C13: Common level
B14: Baseline | C14: Set at 100%
B15: Performance from totex | C15: Set at 100%
B17: END

Sheet Conceptual_Model

Sheet PR24_DD_PCLs
B2: =Overview!B2 &" - PR24 draft determination performance commitment levels" -> Discharge Permit Compliance (DIS) - PR24 draft determination performance commitment levels
B4: PR24 DD PCLs
B6: Company | C6: Company name | D6: Region | E6: Company/Region | F6: WoC/WaSC | G6: Underlying calc | H6: BONCODE | I6: Unique identifier | J6: Performance from totex | K6: Company DD view / Ofwat DD view | L6: PC code | M6: Units | N6: Units | O6: DP | P6: 2024-25 | Q6: 2025-26 | R6: 2026-27 | S6: 2027-28 | T6: 2028-29 | U6: 2029-30
B7: ANH | C7: =_xlfn.XLOOKUP($B7,FD_Lists!$B$4:$B$25,FD_Lists!C$4:C$25) -> Anglian Water | D7: =_xlfn.XLOOKUP($B7,FD_Lists!$B$4:$B$25,FD_Lists!D$4:D$25) -> England | E7: =_xlfn.XLOOKUP($B7,FD_Lists!$B$4:$B$25,FD_Lists!E$4:E$25) -> Company | F7: =_xlfn.XLOOKUP($B7,FD_Lists!$B$4:$B$25,FD_Lists!F$4:F$25) -> WaSC | G7: PCL | H7: OUT5_07_PR24 | I7: ANHOUT5_07_PR24 | J7: Totex | K7: Company view (DD) | L7: DIS | M7: Percentage compliance | N7: Percentage | O7: 3 | P7: 1 | Q7: 1 | R7: 1 | S7: 1 | T7: 1 | U7: 1
B8: WSH | C8: =_xlfn.XLOOKUP($B8,FD_Lists!$B$4:$B$25,FD_Lists!C$4:C$25) -> Dŵr Cymru | D8: =_xlfn.XLOOKUP($B8,FD_Lists!$B$4:$B$25,FD_Lists!D$4:D$25) -> Wales | E8: =_xlfn.XLOOKUP($B8,FD_Lists!$B$4:$B$25,FD_Lists!E$4:E$25) -> Company | F8: =_xlfn.XLOOKUP($B8,FD_Lists!$B$4:$B$25,FD_Lists!F$4:F$25) -> WaSC | G8: PCL | H8: OUT5_07_PR24 | I8: WSHOUT5_07_PR24 | J8: Totex | K8: Company view (DD) | L8: DIS | M8: Percentage compliance | N8: Percentage | O8: 3 | P8: 1 | Q8: 1 | R8: 1 | S8: 1 | T8: 1 | U8: 1
B9: HDD | C9: =_xlfn.XLOOKUP($B9,FD_Lists!$B$4:$B$25,FD_Lists!C$4:C$25) -> Hafren Dyfrdwy | D9: =_xlfn.XLOOKUP($B9,FD_Lists!$B$4:$B$25,FD_Lists!D$4:D$25) -> Wales | E9: =_xlfn.XLOOKUP($B9,FD_Lists!$B$4:$B$25,FD_Lists!E$4:E$25) -> Company | F9: =_xlfn.XLOOKUP($B9,FD_Lists!$B$4:$B$25,FD_Lists!F$4:F$25) -> WaSC | G9: PCL | H9: OUT5_07_PR24 | I9: HDDOUT5_07_PR24 | J9: Totex | K9: Company view (DD) | L9: DIS | M9: Percentage compliance | N9: Percentage | O9: 3 | P9: 1 | Q9: 1 | R9: 1 | S9: 1 | T9: 1 | U9: 1
B10: NES | C10: =_xlfn.XLOOKUP($B10,FD_Lists!$B$4:$B$25,FD_Lists!C$4:C$25) -> Northumbrian Water | D10: =_xlfn.XLOOKUP($B10,FD_Lists!$B$4:$B$25,FD_Lists!D$4:D$25) -> England | E10: =_xlfn.XLOOKUP($B10,FD_Lists!$B$4:$B$25,FD_Lists!E$4:E$25) -> Company | F10: =_xlfn.XLOOKUP($B10,FD_Lists!$B$4:$B$25,FD_Lists!F$4:F$25) -> WaSC | G10: PCL | H10: OUT5_07_PR24 | I10: NESOUT5_07_PR24 | J10: Totex | K10: Company view (DD) | L10: DIS | M10: Percentage compliance | N10: Percentage | O10: 3 | P10: 1 | Q10: 1 | R10: 1 | S10: 1 | T10: 1 | U10: 1
B11: SVE | C11: =_xlfn.XLOOKUP($B11,FD_Lists!$B$4:$B$25,FD_Lists!C$4:C$25) -> Severn Trent Water | D11: =_xlfn.XLOOKUP($B11,FD_Lists!$B$4:$B$25,FD_Lists!D$4:D$25) -> England | E11: =_xlfn.XLOOKUP($B11,FD_Lists!$B$4:$B$25,FD_Lists!E$4:E$25) -> Company | F11: =_xlfn.XLOOKUP($B11,FD_Lists!$B$4:$B$25,FD_Lists!F$4:F$25) -> WaSC | G11: PCL | H11: OUT5_07_PR24 | I11: SVEOUT5_07_PR24 | J11: Totex | K11: Company view (DD) | L11: DIS | M11: Percentage compliance | N11: Percentage | O11: 3 | P11: 1 | Q11: 1 | R11: 1 | S11: 1 | T11: 1 | U11: 1
B12: SRN | C12: =_xlfn.XLOOKUP($B12,FD_Lists!$B$4:$B$25,FD_Lists!C$4:C$25) -> Southern Water | D12: =_xlfn.XLOOKUP($B12,FD_Lists!$B$4:$B$25,FD_Lists!D$4:D$25) -> England | E12: =_xlfn.XLOOKUP($B12,FD_Lists!$B$4:$B$25,FD_Lists!E$4:E$25) -> Company | F12: =_xlfn.XLOOKUP($B12,FD_Lists!$B$4:$B$25,FD_Lists!F$4:F$25) -> WaSC | G12: PCL | H12: OUT5_07_PR24 | I12: SRNOUT5_07_PR24 | J12: Totex | K12: Company view (DD) | L12: DIS | M12: Percentage compliance | N12: Percentage | O12: 3 | P12: 1 | Q12: 1 | R12: 1 | S12: 1 | T12: 1 | U12: 1
B13: TMS | C13: =_xlfn.XLOOKUP($B13,FD_Lists!$B$4:$B$25,FD_Lists!C$4:C$25) -> Thames Water | D13: =_xlfn.XLOOKUP($B13,FD_Lists!$B$4:$B$25,FD_Lists!D$4:D$25) -> England | E13: =_xlfn.XLOOKUP($B13,FD_Lists!$B$4:$B$25,FD_Lists!E$4:E$25) -> Company | F13: =_xlfn.XLOOKUP($B13,FD_Lists!$B$4:$B$25,FD_Lists!F$4:F$25) -> WaSC | G13: PCL | H13: OUT5_07_PR24 | I13: TMSOUT5_07_PR24 | J13: Totex | K13: Company view (DD) | L13: DIS | M13: Percentage compliance | N13: Percentage | O13: 3 | P13: 1 | Q13: 1 | R13: 1 | S13: 1 | T13: 1 | U13: 1
B14: NWT | C14: =_xlfn.XLOOKUP($B14,FD_Lists!$B$4:$B$25,FD_Lists!C$4:C$25) -> United Utilities | D14: =_xlfn.XLOOKUP($B14,FD_Lists!$B$4:$B$25,FD_Lists!D$4:D$25) -> England | E14: =_xlfn.XLOOKUP($B14,FD_Lists!$B$4:$B$25,FD_Lists!E$4:E$25) -> Company | F14: =_xlfn.XLOOKUP($B14,FD_Lists!$B$4:$B$25,FD_Lists!F$4:F$25) -> WaSC | G14: PCL | H14: OUT5_07_PR24 | I14: NWTOUT5_07_PR24 | J14: Totex | K14: Company view (DD) | L14: DIS | M14: Percentage compliance | N14: Percentage | O14: 3 | P14: 1 | Q14: 1 | R14: 1 | S14: 1 | T14: 1 | U14: 1
B15: WSX | C15: =_xlfn.XLOOKUP($B15,FD_Lists!$B$4:$B$25,FD_Lists!C$4:C$25) -> Wessex Water | D15: =_xlfn.XLOOKUP($B15,FD_Lists!$B$4:$B$25,FD_Lists!D$4:D$25) -> England | E15: =_xlfn.XLOOKUP($B15,FD_Lists!$B$4:$B$25,FD_Lists!E$4:E$25) -> Company | F15: =_xlfn.XLOOKUP($B15,FD_Lists!$B$4:$B$25,FD_Lists!F$4:F$25) -> WaSC | G15: PCL | H15: OUT5_07_PR24 | I15: WSXOUT5_07_PR24 | J15: Totex | K15: Company view (DD) | L15: DIS | M15: Percentage compliance | N15: Percentage | O15: 3 | P15: 1 | Q15: 1 | R15: 1 | S15: 1 | T15: 1 | U15: 1
B16: YKY | C16: =_xlfn.XLOOKUP($B16,FD_Lists!$B$4:$B$25,FD_Lists!C$4:C$25) -> Yorkshire Water | D16: =_xlfn.XLOOKUP($B16,FD_Lists!$B$4:$B$25,FD_Lists!D$4:D$25) -> England | E16: =_xlfn.XLOOKUP($B16,FD_Lists!$B$4:$B$25,FD_Lists!E$4:E$25) -> Company | F16: =_xlfn.XLOOKUP($B16,FD_Lists!$B$4:$B$25,FD_Lists!F$4:F$25) -> WaSC | G16: PCL | H16: OUT5_07_PR24 | I16: YKYOUT5_07_PR24 | J16: Totex | K16: Company view (DD) | L16: DIS | M16: Percentage compliance | N16: Percentage | O16: 3 | P16: 1 | Q16: 1 | R16: 1 | S16: 1 | T16: 1 | U16: 1
B17: AFW | C17: =_xlfn.XLOOKUP($B17,FD_Lists!$B$4:$B$25,FD_Lists!C$4:C$25) -> Affinity Water | D17: =_xlfn.XLOOKUP($B17,FD_Lists!$B$4:$B$25,FD_Lists!D$4:D$25) -> England | E17: =_xlfn.XLOOKUP($B17,FD_Lists!$B$4:$B$25,FD_Lists!E$4:E$25) -> Company | F17: =_xlfn.XLOOKUP($B17,FD_Lists!$B$4:$B$25,FD_Lists!F$4:F$25) -> WoC | G17: PCL | H17: OUT5_07_PR24 | I17: AFWOUT5_07_PR24 | J17: Totex | K17: Company view (DD) | L17: DIS | M17: Percentage compliance | N17: Percentage | O17: 3 | P17: 1 | Q17: 1 | R17: 1 | S17: 1 | T17: 1 | U17: 1
B18: PRT | C18: =_xlfn.XLOOKUP($B18,FD_Lists!$B$4:$B$25,FD_Lists!C$4:C$25) -> Portsmouth Water | D18: =_xlfn.XLOOKUP($B18,FD_Lists!$B$4:$B$25,FD_Lists!D$4:D$25) -> England | E18: =_xlfn.XLOOKUP($B18,FD_Lists!$B$4:$B$25,FD_Lists!E$4:E$25) -> Company | F18: =_xlfn.XLOOKUP($B18,FD_Lists!$B$4:$B$25,FD_Lists!F$4:F$25) -> WoC | G18: PCL | H18: OUT5_07_PR24 | I18: PRTOUT5_07_PR24 | J18: Totex | K18: Company view (DD) | L18: DIS | M18: Percentage compliance | N18: Percentage | O18: 3 | P18: 1 | Q18: 1 | R18: 1 | S18: 1 | T18: 1 | U18: 1
... B23: BRL | C23: =_xlfn.XLOOKUP($B23,FD_Lists!$B$4:$B$25,FD_Lists!C$4:C$25) -> Bristol Water | D23: =_xlfn.XLOOKUP($B23,FD_Lists!$B$4:$B$25,FD_Lists!D$4:D$25) -> England | E23: =_xlfn.XLOOKUP($B23,FD_Lists!$B$4:$B$25,FD_Lists!E$4:E$25) -> Company | F23: =_xlfn.XLOOKUP($B23,FD_Lists!$B$4:$B$25,FD_Lists!F$4:F$25) -> WoC | G23: PCL | H23: OUT5_07_PR24 | I23: BRLOUT5_07_PR24 | J23: Totex | K23: Company view (DD) | L23: DIS | M23: Percentage compliance | N23: Percentage | O23: 3 | P23: 1 | Q23: 1 | R23: 1 | S23: 1 | T23: 1 | U23: 1
B25: END

Sheet PR19_PCLs
B2: =Overview!B2 &" - PR19 PCLs" -> Discharge Permit Compliance (DIS) - PR19 PCLs
B4: PR19 PCLs (these are aligned to PR19 definition)
B6: Company | C6: Company name | D6: Region | E6: Company | F6: WoC/WaSC | G6: Boncode | H6: Unique identifier | I6: PCL Code | J6: Measurement | K6: Units | L6: D.P | M6: 2020-21 | N6: 2021-22 | O6: 2022-23 | P6: 2023-24 | Q6: 2024-25
B7: ANH | C7: =_xlfn.XLOOKUP($B7,FD_Lists!$B$4:$B$25,FD_Lists!C$4:C$25) -> Anglian Water | D7: =_xlfn.XLOOKUP($B7,FD_Lists!$B$4:$B$25,FD_Lists!D$4:D$25) -> England | E7: =_xlfn.XLOOKUP($B7,FD_Lists!$B$4:$B$25,FD_Lists!E$4:E$25) -> Company | F7: =_xlfn.XLOOKUP($B7,FD_Lists!$B$4:$B$25,FD_Lists!F$4:F$25) -> WaSC | G7: x | H7: =B7&G7 -> ANHx | I7: DIS | J7: Percentage compliance | K7: Percentage | L7: 3 | M7: 1 | N7: 1 | O7: 1 | P7: 1 | Q7: 1
B8: WSH | C8: =_xlfn.XLOOKUP($B8,FD_Lists!$B$4:$B$25,FD_Lists!C$4:C$25) -> Dŵr Cymru | D8: =_xlfn.XLOOKUP($B8,FD_Lists!$B$4:$B$25,FD_Lists!D$4:D$25) -> Wales | E8: =_xlfn.XLOOKUP($B8,FD_Lists!$B$4:$B$25,FD_Lists!E$4:E$25) -> Company | F8: =_xlfn.XLOOKUP($B8,FD_Lists!$B$4:$B$25,FD_Lists!F$4:F$25) -> WaSC | G8: x | H8: =B8&G8 -> WSHx | I8: DIS | J8: Percentage compliance | K8: Percentage | L8: 3 | M8: 1 | N8: 1 | O8: 1 | P8: 1 | Q8: 1
B9: HDD | C9: =_xlfn.XLOOKUP($B9,FD_Lists!$B$4:$B$25,FD_Lists!C$4:C$25) -> Hafren Dyfrdwy | D9: =_xlfn.XLOOKUP($B9,FD_Lists!$B$4:$B$25,FD_Lists!D$4:D$25) -> Wales | E9: =_xlfn.XLOOKUP($B9,FD_Lists!$B$4:$B$25,FD_Lists!E$4:E$25) -> Company | F9: =_xlfn.XLOOKUP($B9,FD_Lists!$B$4:$B$25,FD_Lists!F$4:F$25) -> WaSC | G9: x | H9: =B9&G9 -> HDDx | I9: DIS | J9: Percentage compliance | K9: Percentage | L9: 3 | M9: 1 | N9: 1 | O9: 1 | P9: 1 | Q9: 1
B10: NES | C10: =_xlfn.XLOOKUP($B10,FD_Lists!$B$4:$B$25,FD_Lists!C$4:C$25) -> Northumbrian Water | D10: =_xlfn.XLOOKUP($B10,FD_Lists!$B$4:$B$25,FD_Lists!D$4:D$25) -> England | E10: =_xlfn.XLOOKUP($B10,FD_Lists!$B$4:$B$25,FD_Lists!E$4:E$25) -> Company | F10: =_xlfn.XLOOKUP($B10,FD_Lists!$B$4:$B$25,FD_Lists!F$4:F$25) -> WaSC | G10: x | H10: =B10&G10 -> NESx | I10: DIS | J10: Percentage compliance | K10: Percentage | L10: 3 | M10: 1 | N10: 1 | O10: 1 | P10: 1 | Q10: 1
B11: SVE | C11: =_xlfn.XLOOKUP($B11,FD_Lists!$B$4:$B$25,FD_Lists!C$4:C$25) -> Severn Trent Water | D11: =_xlfn.XLOOKUP($B11,FD_Lists!$B$4:$B$25,FD_Lists!D$4:D$25) -> England | E11: =_xlfn.XLOOKUP($B11,FD_Lists!$B$4:$B$25,FD_Lists!E$4:E$25) -> Company | F11: =_xlfn.XLOOKUP($B11,FD_Lists!$B$4:$B$25,FD_Lists!F$4:F$25) -> WaSC | G11: x | H11: =B11&G11 -> SVEx | I11: DIS | J11: Percentage compliance | K11: Percentage | L11: 3 | M11: 1 | N11: 1 | O11: 1 | P11: 1 | Q11: 1
B12: SRN | C12: =_xlfn.XLOOKUP($B12,FD_Lists!$B$4:$B$25,FD_Lists!C$4:C$25) -> Southern Water | D12: =_xlfn.XLOOKUP($B12,FD_Lists!$B$4:$B$25,FD_Lists!D$4:D$25) -> England | E12: =_xlfn.XLOOKUP($B12,FD_Lists!$B$4:$B$25,FD_Lists!E$4:E$25) -> Company | F12: =_xlfn.XLOOKUP($B12,FD_Lists!$B$4:$B$25,FD_Lists!F$4:F$25) -> WaSC | G12: x | H12: =B12&G12 -> SRNx | I12: DIS | J12: Percentage compliance | K12: Percentage | L12: 3 | M12: 1 | N12: 1 | O12: 1 | P12: 1 | Q12: 1
B13: TMS | C13: =_xlfn.XLOOKUP($B13,FD_Lists!$B$4:$B$25,FD_Lists!C$4:C$25) -> Thames Water | D13: =_xlfn.XLOOKUP($B13,FD_Lists!$B$4:$B$25,FD_Lists!D$4:D$25) -> England | E13: =_xlfn.XLOOKUP($B13,FD_Lists!$B$4:$B$25,FD_Lists!E$4:E$25) -> Company | F13: =_xlfn.XLOOKUP($B13,FD_Lists!$B$4:$B$25,FD_Lists!F$4:F$25) -> WaSC | G13: x | H13: =B13&G13 -> TMSx | I13: DIS | J13: Percentage compliance | K13: Percentage | L13: 3 | M13: 1 | N13: 1 | O13: 1 | P13: 1 | Q13: 1
B14: NWT | C14: =_xlfn.XLOOKUP($B14,FD_Lists!$B$4:$B$25,FD_Lists!C$4:C$25) -> United Utilities | D14: =_xlfn.XLOOKUP($B14,FD_Lists!$B$4:$B$25,FD_Lists!D$4:D$25) -> England | E14: =_xlfn.XLOOKUP($B14,FD_Lists!$B$4:$B$25,FD_Lists!E$4:E$25) -> Company | F14: =_xlfn.XLOOKUP($B14,FD_Lists!$B$4:$B$25,FD_Lists!F$4:F$25) -> WaSC | G14: x | H14: =B14&G14 -> NWTx | I14: DIS | J14: Percentage compliance | K14: Percentage | L14: 3 | M14: 1 | N14: 1 | O14: 1 | P14: 1 | Q14: 1
B15: WSX | C15: =_xlfn.XLOOKUP($B15,FD_Lists!$B$4:$B$25,FD_Lists!C$4:C$25) -> Wessex Water | D15: =_xlfn.XLOOKUP($B15,FD_Lists!$B$4:$B$25,FD_Lists!D$4:D$25) -> England | E15: =_xlfn.XLOOKUP($B15,FD_Lists!$B$4:$B$25,FD_Lists!E$4:E$25) -> Company | F15: =_xlfn.XLOOKUP($B15,FD_Lists!$B$4:$B$25,FD_Lists!F$4:F$25) -> WaSC | G15: x | H15: =B15&G15 -> WSXx | I15: DIS | J15: Percentage compliance | K15: Percentage | L15: 3 | M15: 1 | N15: 1 | O15: 1 | P15: 1 | Q15: 1
B16: YKY | C16: =_xlfn.XLOOKUP($B16,FD_Lists!$B$4:$B$25,FD_Lists!C$4:C$25) -> Yorkshire Water | D16: =_xlfn.XLOOKUP($B16,FD_Lists!$B$4:$B$25,FD_Lists!D$4:D$25) -> England | E16: =_xlfn.XLOOKUP($B16,FD_Lists!$B$4:$B$25,FD_Lists!E$4:E$25) -> Company | F16: =_xlfn.XLOOKUP($B16,FD_Lists!$B$4:$B$25,FD_Lists!F$4:F$25) -> WaSC | G16: x | H16: =B16&G16 -> YKYx | I16: DIS | J16: Percentage compliance | K16: Percentage | L16: 3 | M16: 1 | N16: 1 | O16: 1 | P16: 1 | Q16: 1
B17: AFW | C17: =_xlfn.XLOOKUP($B17,FD_Lists!$B$4:$B$25,FD_Lists!C$4:C$25) -> Affinity Water | D17: =_xlfn.XLOOKUP($B17,FD_Lists!$B$4:$B$25,FD_Lists!D$4:D$25) -> England | E17: =_xlfn.XLOOKUP($B17,FD_Lists!$B$4:$B$25,FD_Lists!E$4:E$25) -> Company | F17: =_xlfn.XLOOKUP($B17,FD_Lists!$B$4:$B$25,FD_Lists!F$4:F$25) -> WoC | G17: x | H17: =B17&G17 -> AFWx | I17: DIS | J17: Percentage compliance | K17: Percentage | L17: 3 | M17: ##BLANK | N17: ##BLANK | O17: ##BLANK | P17: ##BLANK | Q17: ##BLANK
B18: PRT | C18: =_xlfn.XLOOKUP($B18,FD_Lists!$B$4:$B$25,FD_Lists!C$4:C$25) -> Portsmouth Water | D18: =_xlfn.XLOOKUP($B18,FD_Lists!$B$4:$B$25,FD_Lists!D$4:D$25) -> England | E18: =_xlfn.XLOOKUP($B18,FD_Lists!$B$4:$B$25,FD_Lists!E$4:E$25) -> Company | F18: =_xlfn.XLOOKUP($B18,FD_Lists!$B$4:$B$25,FD_Lists!F$4:F$25) -> WoC | G18: x | H18: =B18&G18 -> PRTx | I18: DIS | J18: Percentage compliance | K18: Percentage | L18: 3 | M18: ##BLANK | N18: ##BLANK | O18: ##BLANK | P18: ##BLANK | Q18: ##BLANK
B19: SEW | C19: =_xlfn.XLOOKUP($B19,FD_Lists!$B$4:$B$25,FD_Lists!C$4:C$25) -> South East Water | D19: =_xlfn.XLOOKUP($B19,FD_Lists!$B$4:$B$25,FD_Lists!D$4:D$25) -> England | E19: =_xlfn.XLOOKUP($B19,FD_Lists!$B$4:$B$25,FD_Lists!E$4:E$25) -> Company | F19: =_xlfn.XLOOKUP($B19,FD_Lists!$B$4:$B$25,FD_Lists!F$4:F$25) -> WoC | G19: x | H19: =B19&G19 -> SEWx | I19: DIS | J19: Percentage compliance | K19: Percentage | L19: 3 | M19: ##BLANK | N19: ##BLANK | O19: ##BLANK | P19: ##BLANK | Q19: ##BLANK
B20: SSC | C20: =_xlfn.XLOOKUP($B20,FD_Lists!$B$4:$B$25,FD_Lists!C$4:C$25) -> South Staffordshire Water | D20: =_xlfn.XLOOKUP($B20,FD_Lists!$B$4:$B$25,FD_Lists!D$4:D$25) -> England | E20: =_xlfn.XLOOKUP($B20,FD_Lists!$B$4:$B$25,FD_Lists!E$4:E$25) -> Company | F20: =_xlfn.XLOOKUP($B20,FD_Lists!$B$4:$B$25,FD_Lists!F$4:F$25) -> WoC | G20: x | H20: =B20&G20 -> SSCx | I20: DIS | J20: Percentage compliance | K20: Percentage | L20: 3 | M20: ##BLANK | N20: ##BLANK | O20: ##BLANK | P20: ##BLANK | Q20: ##BLANK
B21: SES | C21: =_xlfn.XLOOKUP($B21,FD_Lists!$B$4:$B$25,FD_Lists!C$4:C$25) -> SES Water | D21: =_xlfn.XLOOKUP($B21,FD_Lists!$B$4:$B$25,FD_Lists!D$4:D$25) -> England | E21: =_xlfn.XLOOKUP($B21,FD_Lists!$B$4:$B$25,FD_Lists!E$4:E$25) -> Company | F21: =_xlfn.XLOOKUP($B21,FD_Lists!$B$4:$B$25,FD_Lists!F$4:F$25) -> WoC | G21: x | H21: =B21&G21 -> SESx | I21: DIS | J21: Percentage compliance | K21: Percentage | L21: 3 | M21: ##BLANK | N21: ##BLANK | O21: ##BLANK | P21: ##BLANK | Q21: ##BLANK
B22: SWB | C22: =_xlfn.XLOOKUP($B22,FD_Lists!$B$4:$B$25,FD_Lists!C$4:C$25) -> South West Water | D22: =_xlfn.XLOOKUP($B22,FD_Lists!$B$4:$B$25,FD_Lists!D$4:D$25) -> England | E22: =_xlfn.XLOOKUP($B22,FD_Lists!$B$4:$B$25,FD_Lists!E$4:E$25) -> Company | F22: =_xlfn.XLOOKUP($B22,FD_Lists!$B$4:$B$25,FD_Lists!F$4:F$25) -> WaSC | G22: x | H22: =B22&G22 -> SWBx | I22: DIS | J22: Percentage compliance | K22: Percentage | L22: 3 | M22: ##BLANK | N22: ##BLANK | O22: ##BLANK | P22: ##BLANK | Q22: ##BLANK
B23: BRL | C23: =_xlfn.XLOOKUP($B23,FD_Lists!$B$4:$B$25,FD_Lists!C$4:C$25) -> Bristol Water | D23: =_xlfn.XLOOKUP($B23,FD_Lists!$B$4:$B$25,FD_Lists!D$4:D$25) -> England | E23: =_xlfn.XLOOKUP($B23,FD_Lists!$B$4:$B$25,FD_Lists!E$4:E$25) -> Company | F23: =_xlfn.XLOOKUP($B23,FD_Lists!$B$4:$B$25,FD_Lists!F$4:F$25) -> WoC | G23: x | H23: =B23&G23 -> BRLx | I23: DIS | J23: Percentage compliance | K23: Percentage | L23: 3 | M23: ##BLANK | N23: ##BLANK | O23: ##BLANK | P23: ##BLANK | Q23: ##BLANK
B25: END

Sheet F_Inputs
C2: DIS_OFWAT_FD | E2: Run on 16 Oct 2024 16:26
A4: Company Acronym | B4: Item Code | C4: Item Description | D4: Item Unit | E4: Item Table Suite | F4: 2011-12 | G4: 2012-13 | H4: 2013-14 | I4: 2014-15 | J4: 2015-16 | K4: 2016-17 | L4: 2017-18 | M4: 2018-19 | N4: 2019-20 | O4: 2020-21 | P4: 2021-22 | Q4: 2022-23 | R4: 2023-24 | S4: 2024-25 | T4: 2025-26 | U4: 2026-27 | V4: 2027-28 | W4: 2028-29 | X4: 2029-30 | Y4: =A4&B4 -> Company AcronymItem Code
A5: Company Acronym | B5: Item Code | C5: Item Description | D5: Item Unit | E5: Item Table Suite | F5: Price Review 2024 | G5: Price Review 2024 | H5: Price Review 2024 | I5: Price Review 2024 | J5: Price Review 2024 | K5: Price Review 2024 | L5: Price Review 2024 | M5: Price Review 2024 | N5: Price Review 2024 | O5: Price Review 2024 | P5: Price Review 2024 | Q5: Price Review 2024 | R5: Price Review 2024 | S5: Price Review 2024 | T5: Price Review 2024 | U5: Price Review 2024 | V5: Price Review 2024 | W5: Price Review 2024 | X5: Price Review 2024 | Y5: =A5&B5 -> Company AcronymItem Code
A6: Company Acronym | B6: Item Code | C6: Item Description | D6: Item Unit | E6: Item Table Suite | F6: Run 11 - PR24 FD Data | G6: Run 11 - PR24 FD Data | H6: Run 11 - PR24 FD Data | I6: Run 11 - PR24 FD Data | J6: Run 11 - PR24 FD Data | K6: Run 11 - PR24 FD Data | L6: Run 11 - PR24 FD Data | M6: Run 11 - PR24 FD Data | N6: Run 11 - PR24 FD Data | O6: Run 11 - PR24 FD Data | P6: Run 11 - PR24 FD Data | Q6: Run 11 - PR24 FD Data | R6: Run 11 - PR24 FD Data | S6: Run 11 - PR24 FD Data | T6: Run 11 - PR24 FD Data | U6: Run 11 - PR24 FD Data | V6: Run 11 - PR24 FD Data | W6: Run 11 - PR24 FD Data | X6: Run 11 - PR24 FD Data | Y6: =A6&B6 -> Company AcronymItem Code
A7: Company Acronym | B7: Item Code | C7: Item Description | D7: Item Unit | E7: Item Table Suite | F7: Latest | G7: Latest | H7: Latest | I7: Latest | J7: Latest | K7: Latest | L7: Latest | M7: Latest | N7: Latest | O7: Latest | P7: Latest | Q7: Latest | R7: Latest | S7: Latest | T7: Latest | U7: Latest | V7: Latest | W7: Latest | X7: Latest | Y7: =A7&B7 -> Company AcronymItem Code
A8: ANH | B8: OUT5_07_PR24 | C8: Underlying calculations for common performance commitments - wastewater - Discharge permit compliance (wastewater) - Percentage compliance (wastewater) | D8: % | E8: Price Review 2024 | F8: 0.97087379 | G8: 0.98055556 | H8: 0.97493036 | I8: 0.98609179 | J8: 0.99038462 | K8: 0.99582173 | L8: 0.98885794 | M8: 0.98677249 | N8: 0.98809524 | O8: 0.99603175 | P8: 0.98143236 | Q8: 0.98670213 | R8: 0.98668442 | S8: 0.98668442 | T8: 1 | U8: 1 | V8: 1 | W8: 1 | X8: 1 | Y8: =A8&B8 -> ANHOUT5_07_PR24
A9: ANH | B9: OUT2_14_PR24 | C9: Outcome performance from base expenditure - Common PCs - Discharge permit compliance? | D9: % | E9: Price Review 2024 | T9: 1 | U9: 1 | V9: 1 | W9: 1 | X9: 1 | Y9: =A9&B9 -> ANHOUT2_14_PR24
A10: ANH | B10: OUT3_14_01_PR24 | C10: Outcome performance from enhancement expenditure - Common PCs - Discharge permit compliance? - Variance between the overall performance (OUT1) and the performance trend delivered | D10: % | E10: Price Review 2024 | Q10: 0.98566308 | R10: 0.98444976 | S10: 0.98444976 | T10: 0 | U10: 0 | V10: 0 | W10: 0 | X10: 0 | Y10: =A10&B10 -> ANHOUT3_14_01_PR24
A11: ANH | B11: OUT4_19_PR24 | C11: Underlying calculations for common performance commitments - water and combined - Discharge permit compliance - Percentage compliance | D11: % | E11: Price Review 2024 | F11: 0.96437659 | G11: 0.97073791 | H11: 0.97197452 | I11: 0.98348158 | J11: 0.9826087 | K11: 0.99119497 | L11: 0.98612863 | M11: 0.98212157 | N11: 0.9858156 | O11: 0.99292453 | P11: 0.98220641 | Q11: 0.98566308 | R11: 0.98444976 | S11: 0.98444976 | T11: 1 | U11: 1 | V11: 1 | W11: 1 | X11: 1 | Y11: =A11&B11 -> ANHOUT4_19_PR24
A12: WSH | B12: OUT5_07_PR24 | C12: Underlying calculations for common performance commitments - wastewater - Discharge permit compliance (wastewater) - Percentage compliance (wastewater) | D12: % | E12: Price Review 2024 | G12: 0.98641766 | H12: 0.97902098 | I12: 0.99125874 | J12: 0.98589065 | K12: 0.99470899 | L12: 0.98211091 | M12: 0.99642218 | N12: 0.9893617 | O12: 0.99644128 | P12: 0.98754448 | Q12: 0.98932384 | R12: 0.98579041 | S12: 0.98983051 | T12: 1 | U12: 1 | V12: 1 | W12: 1 | X12: 1 | Y12: =A12&B12 -> WSHOUT5_07_PR24
A13: WSH | B13: OUT2_14_PR24 | C13: Outcome performance from base expenditure - Common PCs - Discharge permit compliance? | D13: % | E13: Price Review 2024 | G13: 0.9706 | H13: 0.9636 | I13: 0.9775 | J13: 0.9709 | K13: 0.9903 | L13: 0.967 | M13: 0.9802 | N13: 0.9818 | O13: 0.9966 | P13: 0.9832 | Q13: 0.98504983 | R13: 0.9916388 | S13: 0.9916388 | T13: 1 | U13: 1 | V13: 1 | W13: 1 | X13: 0.99828 | Y13: =A13&B13 -> WSHOUT2_14_PR24
A14: WSH | B14: OUT3_14_01_PR24 | C14: Outcome performance from enhancement expenditure - Common PCs - Discharge permit compliance? - Variance between the overall performance (OUT1) and the performance trend delivered | D14: % | E14: Price Review 2024 | Q14: 0 | R14: -0.011539293 | S14: -0.0011777467 | T14: 0 | U14: 0 | V14: 0 | W14: 0 | X14: 0.00172 | Y14: =A14&B14 -> WSHOUT3_14_01_PR24
A15: WSH | B15: OUT4_19_PR24 | C15: Underlying calculations for common performance commitments - water and combined - Discharge permit compliance - Percentage compliance | D15: % | E15: Price Review 2024 | G15: 0.97063369 | H15: 0.96360759 | I15: 0.97752809 | J15: 0.97087379 | K15: 0.99029126 | L15: 0.9669967 | M15: 0.98019802 | N15: 0.98181818 | O15: 0.99664992 | P15: 0.98322148 | Q15: 0.98504983 | R15: 0.9800995 | S15: 0.99046105 | T15: 1 | U15: 1 | V15: 1 | W15: 1 | X15: 1 | Y15: =A15&B15 -> WSHOUT4_19_PR24
A16: HDD | B16: OUT5_07_PR24 | C16: Underlying calculations for common performance commitments - wastewater - Discharge permit compliance (wastewater) - Percentage compliance (wastewater) | D16: % | E16: Price Review 2024 | M16: 1 | N16: 1 | O16: 1 | P16: 0.97674419 | Q16: 0.97674419 | R16: 1 | S16: 1 | T16: 1 | U16: 1 | V16: 1 | W16: 1 | X16: 1 | Y16: =A16&B16 -> HDDOUT5_07_PR24
A17: HDD | B17: OUT2_14_PR24 | C17: Outcome performance from base expenditure - Common PCs - Discharge permit compliance? | D17: % | E17: Price Review 2024 | M17: 1 | N17: 1 | O17: 1 | P17: 0.9787 | Q17: 0.97826087 | R17: 1 | S17: 1 | T17: 1 | U17: 1 | V17: 1 | W17: 1 | X17: 1 | Y17: =A17&B17 -> HDDOUT2_14_PR24
A18: HDD | B18: OUT3_14_01_PR24 | C18: Outcome performance from enhancement expenditure - Common PCs - Discharge permit compliance? - Variance between the overall performance (OUT1) and the performance trend delivered | D18: % | E18: Price Review 2024 | Q18: 0 | R18: 0 | S18: 0 | T18: 0 | U18: 0 | V18: 0 | W18: 0 | X18: 0 | Y18: =A18&B18 -> HDDOUT3_14_01_PR24
A19: HDD | B19: OUT4_19_PR24 | C19: Underlying calculations for common performance commitments - water and combined - Discharge permit compliance - Percentage compliance | D19: % | E19: Price Review 2024 | F19: 1 | G19: 1 | H19: 1 | I19: 0.75 | J19: 1 | K19: 1 | L19: 1 | M19: 1 | N19: 1 | O19: 1 | P19: 0.9787234 | Q19: 0.97826087 | R19: 1 | S19: 1 | T19: 1 | U19: 1 | V19: 1 | W19: 1 | X19: 1 | Y19: =A19&B19 -> HDDOUT4_19_PR24
A20: NES | B20: OUT5_07_PR24 | C20: Underlying calculations for common performance commitments - wastewater - Discharge permit compliance (wastewater) - Percentage compliance (wastewater) | D20: % | E20: Price Review 2024 | L20: 0.98734177 | M20: 1 | N20: 0.96273292 | O20: 0.99378882 | P20: 0.98757764 | Q20: 0.99375 | R20: 0.98125 | S20: 0.98734177 | T20: 1 | U20: 1 | V20: 1 | W20: 1 | X20: 1 | Y20: =A20&B20 -> NESOUT5_07_PR24
A21: NES | B21: OUT2_14_PR24 | C21: Outcome performance from base expenditure - Common PCs - Discharge permit compliance? | D21: % | E21: Price Review 2024 | L21: 0.96 | M21: 0.995 | N21: 0.966 | O21: 0.9951 | P21: 0.9804 | Q21: 0.9853 | R21: 0.9854 | S21: 0.9854 | T21: 0.9949 | U21: 0.9949 | V21: 0.9949 | W21: 0.9949 | X21: 0.9949 | Y21: =A21&B21 -> NESOUT2_14_PR24
A22: NES | B22: OUT3_14_01_PR24 | C22: Outcome performance from enhancement expenditure - Common PCs - Discharge permit compliance? - Variance between the overall performance (OUT1) and the performance trend delivered | D22: % | E22: Price Review 2024 | Q22: -5.8823529e-06 | R22: 3.6893204e-05 | S22: 0.0047960784 | T22: 0.0051 | U22: 0.0051 | V22: 0.0051 | W22: 0.0051 | X22: 0.0051 | Y22: =A22&B22 -> NESOUT3_14_01_PR24
A23: NES | B23: OUT4_19_PR24 | C23: Underlying calculations for common performance commitments - water and combined - Discharge permit compliance - Percentage compliance | D23: % | E23: Price Review 2024 | L23: 0.96 | M23: 0.995 | N23: 0.96568627 | O23: 0.99512195 | P23: 0.98039216 | Q23: 0.98529412 | R23: 0.98543689 | S23: 0.99019608 | T23: 1 | U23: 1 | V23: 1 | W23: 1 | X23: 1 | Y23: =A23&B23 -> NESOUT4_19_PR24
A24: SVE | B24: OUT5_07_PR24 | C24: Underlying calculations for common performance commitments - wastewater - Discharge permit compliance (wastewater) - Percentage compliance (wastewater) | D24: % | E24: Price Review 2024 | L24: 0.99869792 | M24: 0.98603352 | N24: 0.99859944 | O24: 0.99717115 | P24: 0.99429387 | Q24: 0.99568966 | R24: 0.99568966 | S24: 0.99558174 | T24: 0.99558174 | U24: 0.99558824 | V24: 0.99562682 | W24: 0.99562682 | X24: 0.995671 | Y24: =A24&B24 -> SVEOUT5_07_PR24
A25: SVE | B25: OUT2_14_PR24 | C25: Outcome performance from base expenditure - Common PCs - Discharge permit compliance? | D25: % | E25: Price Review 2024 | G25: 0.991 | H25: 0.993 | I25: 0.999 | J25: 0.99 | K25: 0.996 | L25: 0.9963145 | M25: 0.98423127 | N25: 0.99605782 | O25: 0.99602649 | P25: 0.99332443 | Q25: 0.99327957 | R25: 0.9946 | S25: 0.99449794 | T25: 0.99449794 | U25: 0.99450549 | V25: 0.99455041 | W25: 0.99455041 | X25: 0.99460189 | Y25: =A25&B25 -> SVEOUT2_14_PR24
A26: SVE | B26: OUT3_14_01_PR24 | C26: Outcome performance from enhancement expenditure - Common PCs - Discharge permit compliance? - Variance between the overall performance (OUT1) and the performance trend delivered | D26: % | E26: Price Review 2024 | Q26: 0 | R26: 2.3655914e-05 | S26: 0 | T26: 0 | U26: 0 | V26: 0 | W26: 0 | X26: 0 | Y26: =A26&B26 -> SVEOUT3_14_01_PR24
A27: SVE | B27: OUT4_19_PR24 | C27: Underlying calculations for common performance commitments - water and combined - Discharge permit compliance - Percentage compliance | D27: % | E27: Price Review 2024 | L27: 0.9963145 | M27: 0.98423127 | N27: 0.99605782 | O27: 0.99602649 | P27: 0.99332443 | Q27: 0.99327957 | R27: 0.99462366 | S27: 0.99449794 | T27: 0.99449794 | U27: 0.99450549 | V27: 0.99455041 | W27: 0.99455041 | X27: 0.99460189 | Y27: =A27&B27 -> SVEOUT4_19_PR24
A28: SWB | B28: OUT5_07_PR24 | C28: Underlying calculations for common performance commitments - wastewater - Discharge permit compliance (wastewater) - Percentage compliance (wastewater) | D28: % | E28: Price Review 2024 | F28: 0.89802632 | G28: 0.97068404 | H28: 0.93137255 | I28: 0.96065574 | J28: 0.95765472 | K28: 0.98366013 | L28: 0.97039474 | M28: 0.98697068 | N28: 0.98688525 | O28: 0.99344262 | P28: 0.98032787 | Q28: 0.99344262 | R28: 0.96393443 | S28: 0.99013158 | T28: 1 | U28: 1 | V28: 1 | W28: 1 | X28: 1 | Y28: =A28&B28 -> SWBOUT5_07_PR24
A29: SWB | B29: OUT2_14_PR24 | C29: Outcome performance from base expenditure - Common PCs - Discharge permit compliance? | D29: % | E29: Price Review 2024 | F29: 89.03 | G29: 96.49 | H29: 93.27 | I29: 96.14 | J29: 95.53 | K29: 98.08 | L29: 97.1 | M29: 0.9872 | N29: 0.9871 | O29: 0.9904 | P29: 0.9746 | Q29: 0.9937 | R29: 0.96393443 | S29: 0.9904 | T29: 1 | U29: 1 | V29: 1 | W29: 1 | X29: 1 | Y29: =A29&B29 -> SWBOUT2_14_PR24
A30: SWB | B30: OUT3_14_01_PR24 | C30: Outcome performance from enhancement expenditure - Common PCs - Discharge permit compliance? - Variance between the overall performance (OUT1) and the performance trend delivered | D30: % | E30: Price Review 2024 | Q30: -4.9206349e-05 | R30: -0.0020296643 | S30: 4.5859873e-05 | T30: 0 | U30: 0 | V30: 0 | W30: 0 | X30: 0 | Y30: =A30&B30 -> SWBOUT3_14_01_PR24
A31: SWB | B31: OUT4_19_PR24 | C31: Underlying calculations for common performance commitments - water and combined - Discharge permit compliance - Percentage compliance | D31: % | E31: Price Review 2024 | F31: 0.89032258 | G31: 0.96485623 | H31: 0.93269231 | I31: 0.96141479 | J31: 0.95527157 | K31: 0.98076923 | L31: 0.97096774 | M31: 0.98722045 | N31: 0.98713826 | O31: 0.9903537 | P31: 0.97460317 | Q31: 0.99365079 | R31: 0.96190476 | S31: 0.99044586 | T31: 1 | U31: 1 | V31: 1 | W31: 1 | X31: 1 | Y31: =A31&B31 -> SWBOUT4_19_PR24
A32: SBB | B32: OUT5_07_PR24 | C32: Underlying calculations for common performance commitments - wastewater - Discharge permit compliance (wastewater) - Percentage compliance (wastewater) | D32: % | E32: Price Review 2024 | Y32: =A32&B32 -> SBBOUT5_07_PR24
A33: SBB | B33: OUT2_14_PR24 | C33: Outcome performance from base expenditure - Common PCs - Discharge permit compliance? | D33: % | E33: Price Review 2024 | Y33: =A33&B33 -> SBBOUT2_14_PR24
A34: SBB | B34: OUT3_14_01_PR24 | C34: Outcome performance from enhancement expenditure - Common PCs - Discharge permit compliance? - Variance between the overall performance (OUT1) and the performance trend delivered | D34: % | E34: Price Review 2024 | Y34: =A34&B34 -> SBBOUT3_14_01_PR24
A35: SBB | B35: OUT4_19_PR24 | C35: Underlying calculations for common performance commitments - water and combined - Discharge permit compliance - Percentage compliance | D35: % | E35: Price Review 2024 | Y35: =A35&B35 -> SBBOUT4_19_PR24
A36: SRN | B36: OUT5_07_PR24 | C36: Underlying calculations for common performance commitments - wastewater - Discharge permit compliance (wastewater) - Percentage compliance (wastewater) | D36: % | E36: Price Review 2024 | F36: 0.96028881 | G36: 0.9673913 | H36: 0.95973154 | I36: 0.98983051 | J36: 0.99312715 | K36: 0.99317406 | L36: 0.98381877 | M36: 0.99680511 | N36: 0.99367089 | O36: 0.96825397 | P36: 0.98095238 | Q36: 0.98083067 | R36: 0.99358974 | S36: 0.99038462 | T36: 0.99019608 | U36: 0.99019608 | V36: 0.99019608 | W36: 0.99016393 | X36: 0.99016393 | Y36: =A36&B36 -> SRNOUT5_07_PR24
A37: SRN | B37: OUT2_14_PR24 | C37: Outcome performance from base expenditure - Common PCs - Discharge permit compliance? | D37: % | E37: Price Review 2024 | F37: 0.9527027 | G37: 0.96283784 | H37: 0.95297806 | I37: 0.98101266 | J37: 0.98392283 | K37: 0.98722045 | L37: 0.98170732 | M37: 0.991 | N37: 0.988 | O37: 0.9706 | P37: 0.9794 | Q37: 0.98214286 | R37: 0.99107143 | S37: 0.99107143 | T37: 0.98538462 | U37: 0.97446407 | V37: 0.95800242 | W37: 0.92507914 | X37: 0.65663256 | Y37: =A37&B37 -> SRNOUT2_14_PR24
A38: SRN | B38: OUT3_14_01_PR24 | C38: Outcome performance from enhancement expenditure - Common PCs - Discharge permit compliance? - Variance between the overall performance (OUT1) and the performance trend delivered | D38: % | E38: Price Review 2024 | Q38: 0 | R38: 0.0029761905 | S38: 0 | T38: 0.0055244755 | U38: 0.016445023 | V38: 0.032906667 | W38: 0.065802323 | X38: 0.3342489 | Y38: =A38&B38 -> SRNOUT3_14_01_PR24
A39: SRN | B39: OUT4_19_PR24 | C39: Underlying calculations for common performance commitments - water and combined - Discharge permit compliance - Percentage compliance | D39: % | E39: Price Review 2024 | F39: 0.9527027 | G39: 0.96283784 | H39: 0.95297806 | I39: 0.98101266 | J39: 0.98392283 | K39: 0.98722045 | L39: 0.98170732 | M39: 0.99099099 | N39: 0.98809524 | O39: 0.97058824 | P39: 0.97941176 | Q39: 0.98214286 | R39: 0.99404762 | S39: 0.99107143 | T39: 0.99090909 | U39: 0.99090909 | V39: 0.99090909 | W39: 0.99088146 | X39: 0.99088146 | Y39: =A39&B39 -> SRNOUT4_19_PR24
A40: TMS | B40: OUT5_07_PR24 | C40: Underlying calculations for common performance commitments - wastewater - Discharge permit compliance (wastewater) - Percentage compliance (wastewater) | D40: % | E40: Price Review 2024 | F40: 0.99710145 | G40: 0.99130435 | H40: 0.95714286 | I40: 0.98850575 | J40: 0.99132948 | K40: 0.98280802 | L40: 0.99425287 | M40: 0.98853868 | N40: 0.99713467 | O40: 0.99713467 | P40: 0.99137931 | Q40: 0.99712644 | R40: 0.99137931 | S40: 0.98563218 | T40: 1 | U40: 1 | V40: 1 | W40: 1 | X40: 1 | Y40: =A40&B40 -> TMSOUT5_07_PR24
A41: TMS | B41: OUT2_14_PR24 | C41: Outcome performance from base expenditure - Common PCs - Discharge permit compliance? | D41: % | E41: Price Review 2024 | F41: 0.99472296 | G41: 0.99208443 | H41: 0.95572917 | I41: 0.98691099 | J41: 0.99210526 | K41: 0.97911227 | L41: 0.99477807 | M41: 0.98958333 | N41: 0.9974026 | O41: 0.9974026 | P41: 0.98958333 | Q41: 0.99479167 | R41: 0.9921875 | S41: 0.98697917 | T41: 1 | U41: 1 | V41: 1 | W41: 0.987 | X41: 0.987 | Y41: =A41&B41 -> TMSOUT2_14_PR24
A42: TMS | B42: OUT3_14_01_PR24 | C42: Outcome performance from enhancement expenditure - Common PCs - Discharge permit compliance? - Variance between the overall performance (OUT1) and the performance trend delivered | D42: % | E42: Price Review 2024 | Q42: 0 | R42: 0 | S42: 0 | T42: 0 | U42: 0 | V42: 0 | W42: 0.013 | X42: 0.013 | Y42: =A42&B42 -> TMSOUT3_14_01_PR24
...

Sheet F_Inputs_Formatted
B2: =Overview!B2 &" - data formatted" -> Discharge Permit Compliance (DIS) - data formatted
B4: Company | C4: Company name | D4: Region | E4: Company/Region | F4: WoC/WaSC | G4: Underlying calc | H4: Boncode | I4: Unique identifier | J4: Performance from | K4: Company FD view / Ofwat FD view | L4: PC code | M4: Measurement | N4: Units | O4: DP | P4: 2011-12 | Q4: 2012-13 | R4: 2013-14 | S4: 2014-15 | T4: 2015-16 | U4: 2016-17 | V4: 2017-18 | W4: 2018-19 | X4: 2019-20 | Y4: 2020-21 | Z4: 2021-22 | AA4: 2022-23 | AB4: 2023-24 | AC4: 2024-25 | AD4: 2025-26 | AE4: 2026-27 | AF4: 2027-28 | AG4: 2028-29 | AH4: 2029-30
B5: ANH | C5: =_xlfn.XLOOKUP($B5,FD_Lists!$B$4:$B$25,FD_Lists!C$4:C$25) -> Anglian Water | D5: =_xlfn.XLOOKUP($B5,FD_Lists!$B$4:$B$25,FD_Lists!D$4:D$25) -> England | E5: =_xlfn.XLOOKUP($B5,FD_Lists!$B$4:$B$25,FD_Lists!E$4:E$25) -> Company | F5: =_xlfn.XLOOKUP($B5,FD_Lists!$B$4:$B$25,FD_Lists!F$4:F$25) -> WaSC | G5: PCL Units | H5: OUT4_19_PR24 | I5: =B5&H5 -> ANHOUT4_19_PR24 | J5: Totex | K5: Company view (FD) | L5: DIS | M5: Percentage compliance | N5: Percentage | O5: 3 | P5: =IFERROR(ROUND(INDEX(F_Inputs!$A$4:$Y$103, MATCH(F_Inputs_Formatted!$B5&F_Inputs_Formatted!$H5,F_Inputs!$Y$4:$Y$103,0),MATCH(F_Inputs_Formatted!P$4,F_Inputs!$A$4:$Y$4,0)),$O5),"##BLANK") -> 0.964 | Q5: =IFERROR(ROUND(INDEX(F_Inputs!$A$4:$Y$103, MATCH(F_Inputs_Formatted!$B5&F_Inputs_Formatted!$H5,F_Inputs!$Y$4:$Y$103,0),MATCH(F_Inputs_Formatted!Q$4,F_Inputs!$A$4:$Y$4,0)),$O5),"##BLANK") -> 0.971 | R5: =IFERROR(ROUND(INDEX(F_Inputs!$A$4:$Y$103, MATCH(F_Inputs_Formatted!$B5&F_Inputs_Formatted!$H5,F_Inputs!$Y$4:$Y$103,0),MATCH(F_Inputs_Formatted!R$4,F_Inputs!$A$4:$Y$4,0)),$O5),"##BLANK") -> 0.972 | S5: =IFERROR(ROUND(INDEX(F_Inputs!$A$4:$Y$103, MATCH(F_Inputs_Formatted!$B5&F_Inputs_Formatted!$H5,F_Inputs!$Y$4:$Y$103,0),MATCH(F_Inputs_Formatted!S$4,F_Inputs!$A$4:$Y$4,0)),$O5),"##BLANK") -> 0.983 | T5: =IFERROR(ROUND(INDEX(F_Inputs!$A$4:$Y$103, MATCH(F_Inputs_Formatted!$B5&F_Inputs_Formatted!$H5,F_Inputs!$Y$4:$Y$103,0),MATCH(F_Inputs_Formatted!T$4,F_Inputs!$A$4:$Y$4,0)),$O5),"##BLANK") -> 0.983 | U5: =IFERROR(ROUND(INDEX(F_Inputs!$A$4:$Y$103, MATCH(F_Inputs_Formatted!$B5&F_Inputs_Formatted!$H5,F_Inputs!$Y$4:$Y$103,0),MATCH(F_Inputs_Formatted!U$4,F_Inputs!$A$4:$Y$4,0)),$O5),"##BLANK") -> 0.991 | V5: =IFERROR(ROUND(INDEX(F_Inputs!$A$4:$Y$103, MATCH(F_Inputs_Formatted!$B5&F_Inputs_Formatted!$H5,F_Inputs!$Y$4:$Y$103,0),MATCH(F_Inputs_Formatted!V$4,F_Inputs!$A$4:$Y$4,0)),$O5),"##BLANK") -> 0.986 | W5: =IFERROR(ROUND(INDEX(F_Inputs!$A$4:$Y$103, MATCH(F_Inputs_Formatted!$B5&F_Inputs_Formatted!$H5,F_Inputs!$Y$4:$Y$103,0),MATCH(F_Inputs_Formatted!W$4,F_Inputs!$A$4:$Y$4,0)),$O5),"##BLANK") -> 0.982 | ... AH5: =IFERROR(ROUND(INDEX(F_Inputs!$A$4:$Y$103, MATCH(F_Inputs_Formatted!$B5&F_Inputs_Formatted!$H5,F_Inputs!$Y$4:$Y$103,0),MATCH(F_Inputs_Formatted!AH$4,F_Inputs!$A$4:$Y$4,0)),$O5),"##BLANK") -> 1
B6: WSH | C6: =_xlfn.XLOOKUP($B6,FD_Lists!$B$4:$B$25,FD_Lists!C$4:C$25) -> Dŵr Cymru | D6: =_xlfn.XLOOKUP($B6,FD_Lists!$B$4:$B$25,FD_Lists!D$4:D$25) -> Wales | E6: =_xlfn.XLOOKUP($B6,FD_Lists!$B$4:$B$25,FD_Lists!E$4:E$25) -> Company | F6: =_xlfn.XLOOKUP($B6,FD_Lists!$B$4:$B$25,FD_Lists!F$4:F$25) -> WaSC | G6: PCL Units | H6: OUT4_19_PR24 | I6: =B6&H6 -> WSHOUT4_19_PR24 | J6: Totex | K6: Company view (FD) | L6: DIS | M6: Percentage compliance | N6: Percentage | O6: 3 | P6: =IFERROR(ROUND(INDEX(F_Inputs!$A$4:$Y$103, MATCH(F_Inputs_Formatted!$B6&F_Inputs_Formatted!$H6,F_Inputs!$Y$4:$Y$103,0),MATCH(F_Inputs_Formatted!P$4,F_Inputs!$A$4:$Y$4,0)),$O6),"##BLANK") -> ##BLANK | Q6: =IFERROR(ROUND(INDEX(F_Inputs!$A$4:$Y$103, MATCH(F_Inputs_Formatted!$B6&F_Inputs_Formatted!$H6,F_Inputs!$Y$4:$Y$103,0),MATCH(F_Inputs_Formatted!Q$4,F_Inputs!$A$4:$Y$4,0)),$O6),"##BLANK") -> 0.971 | R6: =IFERROR(ROUND(INDEX(F_Inputs!$A$4:$Y$103, MATCH(F_Inputs_Formatted!$B6&F_Inputs_Formatted!$H6,F_Inputs!$Y$4:$Y$103,0),MATCH(F_Inputs_Formatted!R$4,F_Inputs!$A$4:$Y$4,0)),$O6),"##BLANK") -> 0.964 | S6: =IFERROR(ROUND(INDEX(F_Inputs!$A$4:$Y$103, MATCH(F_Inputs_Formatted!$B6&F_Inputs_Formatted!$H6,F_Inputs!$Y$4:$Y$103,0),MATCH(F_Inputs_Formatted!S$4,F_Inputs!$A$4:$Y$4,0)),$O6),"##BLANK") -> 0.978 | T6: =IFERROR(ROUND(INDEX(F_Inputs!$A$4:$Y$103, MATCH(F_Inputs_Formatted!$B6&F_Inputs_Formatted!$H6,F_Inputs!$Y$4:$Y$103,0),MATCH(F_Inputs_Formatted!T$4,F_Inputs!$A$4:$Y$4,0)),$O6),"##BLANK") -> 0.971 | U6: =IFERROR(ROUND(INDEX(F_Inputs!$A$4:$Y$103, MATCH(F_Inputs_Formatted!$B6&F_Inputs_Formatted!$H6,F_Inputs!$Y$4:$Y$103,0),MATCH(F_Inputs_Formatted!U$4,F_Inputs!$A$4:$Y$4,0)),$O6),"##BLANK") -> 0.99 | V6: =IFERROR(ROUND(INDEX(F_Inputs!$A$4:$Y$103, MATCH(F_Inputs_Formatted!$B6&F_Inputs_Formatted!$H6,F_Inputs!$Y$4:$Y$103,0),MATCH(F_Inputs_Formatted!V$4,F_Inputs!$A$4:$Y$4,0)),$O6),"##BLANK") -> 0.967 | W6: =IFERROR(ROUND(INDEX(F_Inputs!$A$4:$Y$103, MATCH(F_Inputs_Formatted!$B6&F_Inputs_Formatted!$H6,F_Inputs!$Y$4:$Y$103,0),MATCH(F_Inputs_Formatted!W$4,F_Inputs!$A$4:$Y$4,0)),$O6),"##BLANK") -> 0.98 | ... AH6: =IFERROR(ROUND(INDEX(F_Inputs!$A$4:$Y$103, MATCH(F_Inputs_Formatted!$B6&F_Inputs_Formatted!$H6,F_Inputs!$Y$4:$Y$103,0),MATCH(F_Inputs_Formatted!AH$4,F_Inputs!$A$4:$Y$4,0)),$O6),"##BLANK") -> 1
B7: HDD | C7: =_xlfn.XLOOKUP($B7,FD_Lists!$B$4:$B$25,FD_Lists!C$4:C$25) -> Hafren Dyfrdwy | D7: =_xlfn.XLOOKUP($B7,FD_Lists!$B$4:$B$25,FD_Lists!D$4:D$25) -> Wales | E7: =_xlfn.XLOOKUP($B7,FD_Lists!$B$4:$B$25,FD_Lists!E$4:E$25) -> Company | F7: =_xlfn.XLOOKUP($B7,FD_Lists!$B$4:$B$25,FD_Lists!F$4:F$25) -> WaSC | G7: PCL Units | H7: OUT4_19_PR24 | I7: =B7&H7 -> HDDOUT4_19_PR24 | J7: Totex | K7: Company view (FD) | L7: DIS | M7: Percentage compliance | N7: Percentage | O7: 3 | P7: =IFERROR(ROUND(INDEX(F_Inputs!$A$4:$Y$103, MATCH(F_Inputs_Formatted!$B7&F_Inputs_Formatted!$H7,F_Inputs!$Y$4:$Y$103,0),MATCH(F_Inputs_Formatted!P$4,F_Inputs!$A$4:$Y$4,0)),$O7),"##BLANK") -> 1 | Q7: =IFERROR(ROUND(INDEX(F_Inputs!$A$4:$Y$103, MATCH(F_Inputs_Formatted!$B7&F_Inputs_Formatted!$H7,F_Inputs!$Y$4:$Y$103,0),MATCH(F_Inputs_Formatted!Q$4,F_Inputs!$A$4:$Y$4,0)),$O7),"##BLANK") -> 1 | R7: =IFERROR(ROUND(INDEX(F_Inputs!$A$4:$Y$103, MATCH(F_Inputs_Formatted!$B7&F_Inputs_Formatted!$H7,F_Inputs!$Y$4:$Y$103,0),MATCH(F_Inputs_Formatted!R$4,F_Inputs!$A$4:$Y$4,0)),$O7),"##BLANK") -> 1 | S7: =IFERROR(ROUND(INDEX(F_Inputs!$A$4:$Y$103, MATCH(F_Inputs_Formatted!$B7&F_Inputs_Formatted!$H7,F_Inputs!$Y$4:$Y$103,0),MATCH(F_Inputs_Formatted!S$4,F_Inputs!$A$4:$Y$4,0)),$O7),"##BLANK") -> 0.75 | T7: =IFERROR(ROUND(INDEX(F_Inputs!$A$4:$Y$103, MATCH(F_Inputs_Formatted!$B7&F_Inputs_Formatted!$H7,F_Inputs!$Y$4:$Y$103,0),MATCH(F_Inputs_Formatted!T$4,F_Inputs!$A$4:$Y$4,0)),$O7),"##BLANK") -> 1 | U7: =IFERROR(ROUND(INDEX(F_Inputs!$A$4:$Y$103, MATCH(F_Inputs_Formatted!$B7&F_Inputs_Formatted!$H7,F_Inputs!$Y$4:$Y$103,0),MATCH(F_Inputs_Formatted!U$4,F_Inputs!$A$4:$Y$4,0)),$O7),"##BLANK") -> 1 | V7: =IFERROR(ROUND(INDEX(F_Inputs!$A$4:$Y$103, MATCH(F_Inputs_Formatted!$B7&F_Inputs_Formatted!$H7,F_Inputs!$Y$4:$Y$103,0),MATCH(F_Inputs_Formatted!V$4,F_Inputs!$A$4:$Y$4,0)),$O7),"##BLANK") -> 1 | W7: =IFERROR(ROUND(INDEX(F_Inputs!$A$4:$Y$103, MATCH(F_Inputs_Formatted!$B7&F_Inputs_Formatted!$H7,F_Inputs!$Y$4:$Y$103,0),MATCH(F_Inputs_Formatted!W$4,F_Inputs!$A$4:$Y$4,0)),$O7),"##BLANK") -> 1 | ... AH7: =IFERROR(ROUND(INDEX(F_Inputs!$A$4:$Y$103, MATCH(F_Inputs_Formatted!$B7&F_Inputs_Formatted!$H7,F_Inputs!$Y$4:$Y$103,0),MATCH(F_Inputs_Formatted!AH$4,F_Inputs!$A$4:$Y$4,0)),$O7),"##BLANK") -> 1
B8: NES | C8: =_xlfn.XLOOKUP($B8,FD_Lists!$B$4:$B$25,FD_Lists!C$4:C$25) -> Northumbrian Water | D8: =_xlfn.XLOOKUP($B8,FD_Lists!$B$4:$B$25,FD_Lists!D$4:D$25) -> England | E8: =_xlfn.XLOOKUP($B8,FD_Lists!$B$4:$B$25,FD_Lists!E$4:E$25) -> Company | F8: =_xlfn.XLOOKUP($B8,FD_Lists!$B$4:$B$25,FD_Lists!F$4:F$25) -> WaSC | G8: PCL Units | H8: OUT4_19_PR24 | I8: =B8&H8 -> NESOUT4_19_PR24 | J8: Totex | K8: Company view (FD) | L8: DIS | M8: Percentage compliance | N8: Percentage | O8: 3 | P8: =IFERROR(ROUND(INDEX(F_Inputs!$A$4:$Y$103, MATCH(F_Inputs_Formatted!$B8&F_Inputs_Formatted!$H8,F_Inputs!$Y$4:$Y$103,0),MATCH(F_Inputs_Formatted!P$4,F_Inputs!$A$4:$Y$4,0)),$O8),"##BLANK") -> ##BLANK | Q8: =IFERROR(ROUND(INDEX(F_Inputs!$A$4:$Y$103, MATCH(F_Inputs_Formatted!$B8&F_Inputs_Formatted!$H8,F_Inputs!$Y$4:$Y$103,0),MATCH(F_Inputs_Formatted!Q$4,F_Inputs!$A$4:$Y$4,0)),$O8),"##BLANK") -> ##BLANK | R8: =IFERROR(ROUND(INDEX(F_Inputs!$A$4:$Y$103, MATCH(F_Inputs_Formatted!$B8&F_Inputs_Formatted!$H8,F_Inputs!$Y$4:$Y$103,0),MATCH(F_Inputs_Formatted!R$4,F_Inputs!$A$4:$Y$4,0)),$O8),"##BLANK") -> ##BLANK | S8: =IFERROR(ROUND(INDEX(F_Inputs!$A$4:$Y$103, MATCH(F_Inputs_Formatted!$B8&F_Inputs_Formatted!$H8,F_Inputs!$Y$4:$Y$103,0),MATCH(F_Inputs_Formatted!S$4,F_Inputs!$A$4:$Y$4,0)),$O8),"##BLANK") -> ##BLANK | T8: =IFERROR(ROUND(INDEX(F_Inputs!$A$4:$Y$103, MATCH(F_Inputs_Formatted!$B8&F_Inputs_Formatted!$H8,F_Inputs!$Y$4:$Y$103,0),MATCH(F_Inputs_Formatted!T$4,F_Inputs!$A$4:$Y$4,0)),$O8),"##BLANK") -> ##BLANK | U8: =IFERROR(ROUND(INDEX(F_Inputs!$A$4:$Y$103, MATCH(F_Inputs_Formatted!$B8&F_Inputs_Formatted!$H8,F_Inputs!$Y$4:$Y$103,0),MATCH(F_Inputs_Formatted!U$4,F_Inputs!$A$4:$Y$4,0)),$O8),"##BLANK") -> ##BLANK | V8: =IFERROR(ROUND(INDEX(F_Inputs!$A$4:$Y$103, MATCH(F_Inputs_Formatted!$B8&F_Inputs_Formatted!$H8,F_Inputs!$Y$4:$Y$103,0),MATCH(F_Inputs_Formatted!V$4,F_Inputs!$A$4:$Y$4,0)),$O8),"##BLANK") -> 0.96 | W8: =IFERROR(ROUND(INDEX(F_Inputs!$A$4:$Y$103, MATCH(F_Inputs_Formatted!$B8&F_Inputs_Formatted!$H8,F_Inputs!$Y$4:$Y$103,0),MATCH(F_Inputs_Formatted!W$4,F_Inputs!$A$4:$Y$4,0)),$O8),"##BLANK") -> 0.995 | ... AH8: =IFERROR(ROUND(INDEX(F_Inputs!$A$4:$Y$103, MATCH(F_Inputs_Formatted!$B8&F_Inputs_Formatted!$H8,F_Inputs!$Y$4:$Y$103,0),MATCH(F_Inputs_Formatted!AH$4,F_Inputs!$A$4:$Y$4,0)),$O8),"##BLANK") -> 1
B9: SVE | C9: =_xlfn.XLOOKUP($B9,FD_Lists!$B$4:$B$25,FD_Lists!C$4:C$25) -> Severn Trent Water | D9: =_xlfn.XLOOKUP($B9,FD_Lists!$B$4:$B$25,FD_Lists!D$4:D$25) -> England | E9: =_xlfn.XLOOKUP($B9,FD_Lists!$B$4:$B$25,FD_Lists!E$4:E$25) -> Company | F9: =_xlfn.XLOOKUP($B9,FD_Lists!$B$4:$B$25,FD_Lists!F$4:F$25) -> WaSC | G9: PCL Units | H9: OUT4_19_PR24 | I9: =B9&H9 -> SVEOUT4_19_PR24 | J9: Totex | K9: Company view (FD) | L9: DIS | M9: Percentage compliance | N9: Percentage | O9: 3 | P9: =IFERROR(ROUND(INDEX(F_Inputs!$A$4:$Y$103, MATCH(F_Inputs_Formatted!$B9&F_Inputs_Formatted!$H9,F_Inputs!$Y$4:$Y$103,0),MATCH(F_Inputs_Formatted!P$4,F_Inputs!$A$4:$Y$4,0)),$O9),"##BLANK") -> ##BLANK | Q9: =IFERROR(ROUND(INDEX(F_Inputs!$A$4:$Y$103, MATCH(F_Inputs_Formatted!$B9&F_Inputs_Formatted!$H9,F_Inputs!$Y$4:$Y$103,0),MATCH(F_Inputs_Formatted!Q$4,F_Inputs!$A$4:$Y$4,0)),$O9),"##BLANK") -> ##BLANK | R9: =IFERROR(ROUND(INDEX(F_Inputs!$A$4:$Y$103, MATCH(F_Inputs_Formatted!$B9&F_Inputs_Formatted!$H9,F_Inputs!$Y$4:$Y$103,0),MATCH(F_Inputs_Formatted!R$4,F_Inputs!$A$4:$Y$4,0)),$O9),"##BLANK") -> ##BLANK | S9: =IFERROR(ROUND(INDEX(F_Inputs!$A$4:$Y$103, MATCH(F_Inputs_Formatted!$B9&F_Inputs_Formatted!$H9,F_Inputs!$Y$4:$Y$103,0),MATCH(F_Inputs_Formatted!S$4,F_Inputs!$A$4:$Y$4,0)),$O9),"##BLANK") -> ##BLANK | T9: =IFERROR(ROUND(INDEX(F_Inputs!$A$4:$Y$103, MATCH(F_Inputs_Formatted!$B9&F_Inputs_Formatted!$H9,F_Inputs!$Y$4:$Y$103,0),MATCH(F_Inputs_Formatted!T$4,F_Inputs!$A$4:$Y$4,0)),$O9),"##BLANK") -> ##BLANK | U9: =IFERROR(ROUND(INDEX(F_Inputs!$A$4:$Y$103, MATCH(F_Inputs_Formatted!$B9&F_Inputs_Formatted!$H9,F_Inputs!$Y$4:$Y$103,0),MATCH(F_Inputs_Formatted!U$4,F_Inputs!$A$4:$Y$4,0)),$O9),"##BLANK") -> ##BLANK | V9: =IFERROR(ROUND(INDEX(F_Inputs!$A$4:$Y$103, MATCH(F_Inputs_Formatted!$B9&F_Inputs_Formatted!$H9,F_Inputs!$Y$4:$Y$103,0),MATCH(F_Inputs_Formatted!V$4,F_Inputs!$A$4:$Y$4,0)),$O9),"##BLANK") -> 0.996 | W9: =IFERROR(ROUND(INDEX(F_Inputs!$A$4:$Y$103, MATCH(F_Inputs_Formatted!$B9&F_Inputs_Formatted!$H9,F_Inputs!$Y$4:$Y$103,0),MATCH(F_Inputs_Formatted!W$4,F_Inputs!$A$4:$Y$4,0)),$O9),"##BLANK") -> 0.984 | ... AH9: =IFERROR(ROUND(INDEX(F_Inputs!$A$4:$Y$103, MATCH(F_Inputs_Formatted!$B9&F_Inputs_Formatted!$H9,F_Inputs!$Y$4:$Y$103,0),MATCH(F_Inputs_Formatted!AH$4,F_Inputs!$A$4:$Y$4,0)),$O9),"##BLANK") -> 0.995
B10: SRN | C10: =_xlfn.XLOOKUP($B10,FD_Lists!$B$4:$B$25,FD_Lists!C$4:C$25) -> Southern Water | D10: =_xlfn.XLOOKUP($B10,FD_Lists!$B$4:$B$25,FD_Lists!D$4:D$25) -> England | E10: =_xlfn.XLOOKUP($B10,FD_Lists!$B$4:$B$25,FD_Lists!E$4:E$25) -> Company | F10: =_xlfn.XLOOKUP($B10,FD_Lists!$B$4:$B$25,FD_Lists!F$4:F$25) -> WaSC | G10: PCL Units | H10: OUT4_19_PR24 | I10: =B10&H10 -> SRNOUT4_19_PR24 | J10: Totex | K10: Company view (FD) | L10: DIS | M10: Percentage compliance | N10: Percentage | O10: 3 | P10: =IFERROR(ROUND(INDEX(F_Inputs!$A$4:$Y$103, MATCH(F_Inputs_Formatted!$B10&F_Inputs_Formatted!$H10,F_Inputs!$Y$4:$Y$103,0),MATCH(F_Inputs_Formatted!P$4,F_Inputs!$A$4:$Y$4,0)),$O10),"##BLANK") -> 0.953 | Q10: =IFERROR(ROUND(INDEX(F_Inputs!$A$4:$Y$103, MATCH(F_Inputs_Formatted!$B10&F_Inputs_Formatted!$H10,F_Inputs!$Y$4:$Y$103,0),MATCH(F_Inputs_Formatted!Q$4,F_Inputs!$A$4:$Y$4,0)),$O10),"##BLANK") -> 0.963 | R10: =IFERROR(ROUND(INDEX(F_Inputs!$A$4:$Y$103, MATCH(F_Inputs_Formatted!$B10&F_Inputs_Formatted!$H10,F_Inputs!$Y$4:$Y$103,0),MATCH(F_Inputs_Formatted!R$4,F_Inputs!$A$4:$Y$4,0)),$O10),"##BLANK") -> 0.953 | S10: =IFERROR(ROUND(INDEX(F_Inputs!$A$4:$Y$103, MATCH(F_Inputs_Formatted!$B10&F_Inputs_Formatted!$H10,F_Inputs!$Y$4:$Y$103,0),MATCH(F_Inputs_Formatted!S$4,F_Inputs!$A$4:$Y$4,0)),$O10),"##BLANK") -> 0.981 | T10: =IFERROR(ROUND(INDEX(F_Inputs!$A$4:$Y$103, MATCH(F_Inputs_Formatted!$B10&F_Inputs_Formatted!$H10,F_Inputs!$Y$4:$Y$103,0),MATCH(F_Inputs_Formatted!T$4,F_Inputs!$A$4:$Y$4,0)),$O10),"##BLANK") -> 0.984 | U10: =IFERROR(ROUND(INDEX(F_Inputs!$A$4:$Y$103, MATCH(F_Inputs_Formatted!$B10&F_Inputs_Formatted!$H10,F_Inputs!$Y$4:$Y$103,0),MATCH(F_Inputs_Formatted!U$4,F_Inputs!$A$4:$Y$4,0)),$O10),"##BLANK") -> 0.987 | V10: =IFERROR(ROUND(INDEX(F_Inputs!$A$4:$Y$103, MATCH(F_Inputs_Formatted!$B10&F_Inputs_Formatted!$H10,F_Inputs!$Y$4:$Y$103,0),MATCH(F_Inputs_Formatted!V$4,F_Inputs!$A$4:$Y$4,0)),$O10),"##BLANK") -> 0.982 | W10: =IFERROR(ROUND(INDEX(F_Inputs!$A$4:$Y$103, MATCH(F_Inputs_Formatted!$B10&F_Inputs_Formatted!$H10,F_Inputs!$Y$4:$Y$103,0),MATCH(F_Inputs_Formatted!W$4,F_Inputs!$A$4:$Y$4,0)),$O10),"##BLANK") -> 0.991 | ... AH10: =IFERROR(ROUND(INDEX(F_Inputs!$A$4:$Y$103, MATCH(F_Inputs_Formatted!$B10&F_Inputs_Formatted!$H10,F_Inputs!$Y$4:$Y$103,0),MATCH(F_Inputs_Formatted!AH$4,F_Inputs!$A$4:$Y$4,0)),$O10),"##BLANK") -> 0.991
B11: TMS | C11: =_xlfn.XLOOKUP($B11,FD_Lists!$B$4:$B$25,FD_Lists!C$4:C$25) -> Thames Water | D11: =_xlfn.XLOOKUP($B11,FD_Lists!$B$4:$B$25,FD_Lists!D$4:D$25) -> England | E11: =_xlfn.XLOOKUP($B11,FD_Lists!$B$4:$B$25,FD_Lists!E$4:E$25) -> Company | F11: =_xlfn.XLOOKUP($B11,FD_Lists!$B$4:$B$25,FD_Lists!F$4:F$25) -> WaSC | G11: PCL Units | H11: OUT4_19_PR24 | I11: =B11&H11 -> TMSOUT4_19_PR24 | J11: Totex | K11: Company view (FD) | L11: DIS | M11: Percentage compliance | N11: Percentage | O11: 3 | P11: =IFERROR(ROUND(INDEX(F_Inputs!$A$4:$Y$103, MATCH(F_Inputs_Formatted!$B11&F_Inputs_Formatted!$H11,F_Inputs!$Y$4:$Y$103,0),MATCH(F_Inputs_Formatted!P$4,F_Inputs!$A$4:$Y$4,0)),$O11),"##BLANK") -> 0.995 | Q11: =IFERROR(ROUND(INDEX(F_Inputs!$A$4:$Y$103, MATCH(F_Inputs_Formatted!$B11&F_Inputs_Formatted!$H11,F_Inputs!$Y$4:$Y$103,0),MATCH(F_Inputs_Formatted!Q$4,F_Inputs!$A$4:$Y$4,0)),$O11),"##BLANK") -> 0.992 | R11: =IFERROR(ROUND(INDEX(F_Inputs!$A$4:$Y$103, MATCH(F_Inputs_Formatted!$B11&F_Inputs_Formatted!$H11,F_Inputs!$Y$4:$Y$103,0),MATCH(F_Inputs_Formatted!R$4,F_Inputs!$A$4:$Y$4,0)),$O11),"##BLANK") -> 0.956 | S11: =IFERROR(ROUND(INDEX(F_Inputs!$A$4:$Y$103, MATCH(F_Inputs_Formatted!$B11&F_Inputs_Formatted!$H11,F_Inputs!$Y$4:$Y$103,0),MATCH(F_Inputs_Formatted!S$4,F_Inputs!$A$4:$Y$4,0)),$O11),"##BLANK") -> 0.987 | T11: =IFERROR(ROUND(INDEX(F_Inputs!$A$4:$Y$103, MATCH(F_Inputs_Formatted!$B11&F_Inputs_Formatted!$H11,F_Inputs!$Y$4:$Y$103,0),MATCH(F_Inputs_Formatted!T$4,F_Inputs!$A$4:$Y$4,0)),$O11),"##BLANK") -> 0.992 | U11: =IFERROR(ROUND(INDEX(F_Inputs!$A$4:$Y$103, MATCH(F_Inputs_Formatted!$B11&F_Inputs_Formatted!$H11,F_Inputs!$Y$4:$Y$103,0),MATCH(F_Inputs_Formatted!U$4,F_Inputs!$A$4:$Y$4,0)),$O11),"##BLANK") -> 0.979 | V11: =IFERROR(ROUND(INDEX(F_Inputs!$A$4:$Y$103, MATCH(F_Inputs_Formatted!$B11&F_Inputs_Formatted!$H11,F_Inputs!$Y$4:$Y$103,0),MATCH(F_Inputs_Formatted!V$4,F_Inputs!$A$4:$Y$4,0)),$O11),"##BLANK") -> 0.995 | W11: =IFERROR(ROUND(INDEX(F_Inputs!$A$4:$Y$103, MATCH(F_Inputs_Formatted!$B11&F_Inputs_Formatted!$H11,F_Inputs!$Y$4:$Y$103,0),MATCH(F_Inputs_Formatted!W$4,F_Inputs!$A$4:$Y$4,0)),$O11),"##BLANK") -> 0.99 | ... AH11: =IFERROR(ROUND(INDEX(F_Inputs!$A$4:$Y$103, MATCH(F_Inputs_Formatted!$B11&F_Inputs_Formatted!$H11,F_Inputs!$Y$4:$Y$103,0),MATCH(F_Inputs_Formatted!AH$4,F_Inputs!$A$4:$Y$4,0)),$O11),"##BLANK") -> 1
A12: UUW | B12: NWT | C12: =_xlfn.XLOOKUP($B12,FD_Lists!$B$4:$B$25,FD_Lists!C$4:C$25) -> United Utilities | D12: =_xlfn.XLOOKUP($B12,FD_Lists!$B$4:$B$25,FD_Lists!D$4:D$25) -> England | E12: =_xlfn.XLOOKUP($B12,FD_Lists!$B$4:$B$25,FD_Lists!E$4:E$25) -> Company | F12: =_xlfn.XLOOKUP($B12,FD_Lists!$B$4:$B$25,FD_Lists!F$4:F$25) -> WaSC | G12: PCL Units | H12: OUT4_19_PR24 | I12: =B12&H12 -> NWTOUT4_19_PR24 | J12: Totex | K12: Company view (FD) | L12: DIS | M12: Percentage compliance | N12: Percentage | O12: 3 | P12: =IFERROR(ROUND(INDEX(F_Inputs!$A$4:$Y$103, MATCH(F_Inputs_Formatted!$B12&F_Inputs_Formatted!$H12,F_Inputs!$Y$4:$Y$103,0),MATCH(F_Inputs_Formatted!P$4,F_Inputs!$A$4:$Y$4,0)),$O12),"##BLANK") -> 0.986 | Q12: =IFERROR(ROUND(INDEX(F_Inputs!$A$4:$Y$103, MATCH(F_Inputs_Formatted!$B12&F_Inputs_Formatted!$H12,F_Inputs!$Y$4:$Y$103,0),MATCH(F_Inputs_Formatted!Q$4,F_Inputs!$A$4:$Y$4,0)),$O12),"##BLANK") -> 0.992 | R12: =IFERROR(ROUND(INDEX(F_Inputs!$A$4:$Y$103, MATCH(F_Inputs_Formatted!$B12&F_Inputs_Formatted!$H12,F_Inputs!$Y$4:$Y$103,0),MATCH(F_Inputs_Formatted!R$4,F_Inputs!$A$4:$Y$4,0)),$O12),"##BLANK") -> 0.986 | S12: =IFERROR(ROUND(INDEX(F_Inputs!$A$4:$Y$103, MATCH(F_Inputs_Formatted!$B12&F_Inputs_Formatted!$H12,F_Inputs!$Y$4:$Y$103,0),MATCH(F_Inputs_Formatted!S$4,F_Inputs!$A$4:$Y$4,0)),$O12),"##BLANK") -> 0.983 | T12: =IFERROR(ROUND(INDEX(F_Inputs!$A$4:$Y$103, MATCH(F_Inputs_Formatted!$B12&F_Inputs_Formatted!$H12,F_Inputs!$Y$4:$Y$103,0),MATCH(F_Inputs_Formatted!T$4,F_Inputs!$A$4:$Y$4,0)),$O12),"##BLANK") -> 0.972 | U12: =IFERROR(ROUND(INDEX(F_Inputs!$A$4:$Y$103, MATCH(F_Inputs_Formatted!$B12&F_Inputs_Formatted!$H12,F_Inputs!$Y$4:$Y$103,0),MATCH(F_Inputs_Formatted!U$4,F_Inputs!$A$4:$Y$4,0)),$O12),"##BLANK") -> 0.974 | V12: =IFERROR(ROUND(INDEX(F_Inputs!$A$4:$Y$103, MATCH(F_Inputs_Formatted!$B12&F_Inputs_Formatted!$H12,F_Inputs!$Y$4:$Y$103,0),MATCH(F_Inputs_Formatted!V$4,F_Inputs!$A$4:$Y$4,0)),$O12),"##BLANK") -> 0.988 | W12: =IFERROR(ROUND(INDEX(F_Inputs!$A$4:$Y$103, MATCH(F_Inputs_Formatted!$B12&F_Inputs_Formatted!$H12,F_Inputs!$Y$4:$Y$103,0),MATCH(F_Inputs_Formatted!W$4,F_Inputs!$A$4:$Y$4,0)),$O12),"##BLANK") -> 0.987 | ... AH12: =IFERROR(ROUND(INDEX(F_Inputs!$A$4:$Y$103, MATCH(F_Inputs_Formatted!$B12&F_Inputs_Formatted!$H12,F_Inputs!$Y$4:$Y$103,0),MATCH(F_Inputs_Formatted!AH$4,F_Inputs!$A$4:$Y$4,0)),$O12),"##BLANK") -> 1
B13: WSX | C13: =_xlfn.XLOOKUP($B13,FD_Lists!$B$4:$B$25,FD_Lists!C$4:C$25) -> Wessex Water | D13: =_xlfn.XLOOKUP($B13,FD_Lists!$B$4:$B$25,FD_Lists!D$4:D$25) -> England | E13: =_xlfn.XLOOKUP($B13,FD_Lists!$B$4:$B$25,FD_Lists!E$4:E$25) -> Company | F13: =_xlfn.XLOOKUP($B13,FD_Lists!$B$4:$B$25,FD_Lists!F$4:F$25) -> WaSC | G13: PCL Units | H13: OUT4_19_PR24 | I13: =B13&H13 -> WSXOUT4_19_PR24 | J13: Totex | K13: Company view (FD) | L13: DIS | M13: Percentage compliance | N13: Percentage | O13: 3 | P13: =IFERROR(ROUND(INDEX(F_Inputs!$A$4:$Y$103, MATCH(F_Inputs_Formatted!$B13&F_Inputs_Formatted!$H13,F_Inputs!$Y$4:$Y$103,0),MATCH(F_Inputs_Formatted!P$4,F_Inputs!$A$4:$Y$4,0)),$O13),"##BLANK") -> 0.997 | Q13: =IFERROR(ROUND(INDEX(F_Inputs!$A$4:$Y$103, MATCH(F_Inputs_Formatted!$B13&F_Inputs_Formatted!$H13,F_Inputs!$Y$4:$Y$103,0),MATCH(F_Inputs_Formatted!Q$4,F_Inputs!$A$4:$Y$4,0)),$O13),"##BLANK") -> 0.997 | R13: =IFERROR(ROUND(INDEX(F_Inputs!$A$4:$Y$103, MATCH(F_Inputs_Formatted!$B13&F_Inputs_Formatted!$H13,F_Inputs!$Y$4:$Y$103,0),MATCH(F_Inputs_Formatted!R$4,F_Inputs!$A$4:$Y$4,0)),$O13),"##BLANK") -> 0.99 | S13: =IFERROR(ROUND(INDEX(F_Inputs!$A$4:$Y$103, MATCH(F_Inputs_Formatted!$B13&F_Inputs_Formatted!$H13,F_Inputs!$Y$4:$Y$103,0),MATCH(F_Inputs_Formatted!S$4,F_Inputs!$A$4:$Y$4,0)),$O13),"##BLANK") -> 0.997 | T13: =IFERROR(ROUND(INDEX(F_Inputs!$A$4:$Y$103, MATCH(F_Inputs_Formatted!$B13&F_Inputs_Formatted!$H13,F_Inputs!$Y$4:$Y$103,0),MATCH(F_Inputs_Formatted!T$4,F_Inputs!$A$4:$Y$4,0)),$O13),"##BLANK") -> 0.997 | U13: =IFERROR(ROUND(INDEX(F_Inputs!$A$4:$Y$103, MATCH(F_Inputs_Formatted!$B13&F_Inputs_Formatted!$H13,F_Inputs!$Y$4:$Y$103,0),MATCH(F_Inputs_Formatted!U$4,F_Inputs!$A$4:$Y$4,0)),$O13),"##BLANK") -> 0.994 | V13: =IFERROR(ROUND(INDEX(F_Inputs!$A$4:$Y$103, MATCH(F_Inputs_Formatted!$B13&F_Inputs_Formatted!$H13,F_Inputs!$Y$4:$Y$103,0),MATCH(F_Inputs_Formatted!V$4,F_Inputs!$A$4:$Y$4,0)),$O13),"##BLANK") -> 0.99 | W13: =IFERROR(ROUND(INDEX(F_Inputs!$A$4:$Y$103, MATCH(F_Inputs_Formatted!$B13&F_Inputs_Formatted!$H13,F_Inputs!$Y$4:$Y$103,0),MATCH(F_Inputs_Formatted!W$4,F_Inputs!$A$4:$Y$4,0)),$O13),"##BLANK") -> 1 | ... AH13: =IFERROR(ROUND(INDEX(F_Inputs!$A$4:$Y$103, MATCH(F_Inputs_Formatted!$B13&F_Inputs_Formatted!$H13,F_Inputs!$Y$4:$Y$103,0),MATCH(F_Inputs_Formatted!AH$4,F_Inputs!$A$4:$Y$4,0)),$O13),"##BLANK") -> 0.99
