Workbook
Name \\k: #REF!
Name \0: #REF!
Name \A: #REF!
Name \A2: #REF!
Name \AA: #REF!
Name \AB: #REF!
Name \AD: #REF!
Name \AE: #REF!
Name \B: #REF!
Name \C: #REF!
Name \D: #REF!
Name \E: #REF!
Name \F: #REF!
Name \G: #REF!
Name \H: #REF!
Name \I: #REF!
Name \J: #REF!
Name \K: #REF!
Name \L: #REF!
Name \M: #REF!
Name \N: #REF!
Name \O: #REF!
Name \P: #REF!
Name \PAGE: #REF!
Name \PR: #REF!
Name \Q: #REF!
Name \R: #REF!
Name \S: #REF!
Name \T: #REF!
Name \U: #REF!
Name \V: #REF!
Name \W: #REF!
Name \X: #REF!
Name \XA: #REF!
Name \XX: #REF!
Name \XXX: #REF!
Name \XXXX: #REF!
Name \Y: #REF!
Name \YY: #REF!
Name \YYY: #REF!
Name \Z: #REF!
Name \ZZ: #REF!
Name ________BYr3: #REF!
Name ________dec97: #REF!
Name ________jun97: #REF!
Name ________jun98: #REF!
Name ________mar97: #REF!
Name ________mar98: #REF!
Name ________MIT1: #REF!
Name ________MIT2: #REF!
Name ________rec1: #REF!
Name ________rec2: #REF!
Name ________sep97: #REF!
Name ________SYr3: #REF!
Name ________UYr3: #REF!
Name _______8_4_Step2: #REF!
Name _______apr05: #REF!
Name _______Apr06: #REF!
Name _______aug04: #REF!
Name _______Aug05: #REF!

Sheet Cover
A1: P enhancement historical dataset
A2: Version 1.0
B5: This file contains a derivation of the historical dataset we use to model phosphorus removal enhancement costs. It uses historical cost and cost drivers data at scheme level in APR table 7F.

Sheet 7Fv9.0
A1: Company | B1: Year | C1: Eaid | D1: STW | E1: Completion Date (DD/MM/YY) | F1: Capex | G1: Opex | H1: PE served | I1: Scheme design population equivalent | J1: Historical permit level for phosphorus (mg/L) | K1: Enhanced permit level for phosphorus (mg/L) | L1: Permit change only (Y/N) | M1: Catchment-based solution (Y/N) | N1: Length of transfer pipeline (km) | O1: Annual Average Daily Transferred flow (cu.m/d) | P1: Transfer (Y/N)
A2: ANH | B2: 2019-20 | C2: 7AW200053 | D2: Ashbrook STW | E2: 45657 | F2: 0 | G2: 0 | H2: 3676 | I2: 3925.2518 | J2: 1 | K2: 0.7 | L2: N | M2: N | N2: 0 | O2: 0 | P2: N
A3: ANH | B3: 2020-21 | C3: 7AW200053 | D3: Ashbrook STW | E3: 45657 | F3: 0 | G3: 0 | H3: 3676 | I3: 3925.2518 | J3: 1 | K3: 0.7 | L3: N | M3: N | N3: 0 | O3: 0 | P3: N
A4: ANH | B4: 2021-22 | C4: 7AW200053 | D4: Ashbrook STW | E4: 45657 | F4: 0 | G4: 0 | H4: 3778 | I4: 3925.2518 | J4: 1 | K4: 0.7 | L4: N | M4: N | N4: 0 | O4: 0 | P4: N
A5: ANH | B5: 2022-23 | C5: 7AW200053 | D5: Ashbrook STW | E5: 45657 | F5: 0 | G5: 0 | H5: 3815.7987 | I5: 3925.2518 | J5: 1 | K5: 0.7 | L5: N | M5: N | N5: 0 | O5: 0 | P5: N
A6: ANH | B6: 2023-24 | C6: 7AW200053 | D6: Ashbrook STW | E6: 45657 | F6: 0 | G6: 0 | H6: 3855.5725 | I6: 3925.2518 | J6: 1 | K6: 0.7 | L6: N | M6: N | N6: 0 | O6: 0 | P6: N
A7: ANH | B7: 2024-25 | C7: 7AW200053 | D7: Ashbrook STW | E7: 45657 | F7: 0 | G7: 0.012793949 | H7: 3884.1465 | I7: 3925.2518 | J7: 1 | K7: 0.7 | L7: N | M7: N | N7: 0 | O7: 0 | P7: N
A8: ANH | B8: 2025-26 | C8: 7AW200053 | D8: Ashbrook STW | E8: 45657 | F8: 0 | G8: 0.027836563 | H8: 3870.5695 | I8: 3925.2518 | J8: 1 | K8: 0.7 | L8: N | M8: N | N8: 0 | O8: 0 | P8: N
A9: ANH | B9: 2019-20 | C9: 7AW200054 | D9: Ashton STW | E9: 45648 | F9: 0.0010223427 | G9: 0 | H9: 5273 | I9: 5481 | J9: 0 | K9: 0.3 | L9: N | M9: N | N9: 0 | O9: 0 | P9: N
A10: ANH | B10: 2020-21 | C10: 7AW200054 | D10: Ashton STW | E10: 45648 | F10: 0.00091260398 | G10: 0 | H10: 5508 | I10: 5481 | J10: 0 | K10: 0.3 | L10: N | M10: N | N10: 0 | O10: 0 | P10: N
A11: ANH | B11: 2021-22 | C11: 7AW200054 | D11: Ashton STW | E11: 45648 | F11: 1.615883 | G11: 0 | H11: 5428 | I11: 5481 | J11: 0 | K11: 0.3 | L11: N | M11: N | N11: 0 | O11: 0 | P11: N
A12: ANH | B12: 2022-23 | C12: 7AW200054 | D12: Ashton STW | E12: 45648 | F12: 0.67429722 | G12: 0.022 | H12: 5229.8646 | I12: 5481 | J12: 0 | K12: 0.3 | L12: N | M12: N | N12: 0 | O12: 0 | P12: N
A13: ANH | B13: 2023-24 | C13: 7AW200054 | D13: Ashton STW | E13: 45648 | F13: 0.1416124 | G13: 0.047219092 | H13: 5331.0974 | I13: 5481 | J13: 0 | K13: 0.3 | L13: N | M13: N | N13: 0 | O13: 0 | P13: N
... A1156: NES | B1156: 2025-26 | C1156: 7NW200065 | D1156: Carlton Redmarshall | E1156: 45648 | F1156: 0 | G1156: 0.098 | H1156: 2776 | I1156: 2921 | J1156: 0 | K1156: 0.4 | L1156: N | M1156: N | N1156: 0 | O1156: 0 | P1156: N
A1157: NES | B1157: 2019-20 | C1157: 7NW200067/7NW200067a | D1157: Chilton Lane | E1157: 22/12/2024/31/03/2025 | F1157: 0 | G1157: 0 | H1157: 3202 | I1157: 3354 | J1157: 0 | K1157: 0.25 | L1157: N | M1157: Y | N1157: 0 | O1157: 0 | P1157: N
A1158: NES | B1158: 2020-21 | C1158: 7NW200067/7NW200067a | D1158: Chilton Lane | E1158: 22/12/2024/31/03/2025 | F1158: 0 | G1158: 0 | H1158: 3168 | I1158: 3354 | J1158: 0 | K1158: 0.25 | L1158: N | M1158: Y | N1158: 0 | O1158: 0 | P1158: N
A1159: NES | B1159: 2021-22 | C1159: 7NW200067/7NW200067a | D1159: Chilton Lane | E1159: 22/12/2024/31/03/2025 | F1159: 0 | G1159: 0 | H1159: 2629 | I1159: 3354 | J1159: 0 | K1159: 0.25 | L1159: N | M1159: Y | N1159: 0 | O1159: 0 | P1159: N
A1160: NES | B1160: 2022-23 | C1160: 7NW200067/7NW200067a | D1160: Chilton Lane | E1160: 22/12/2024/31/03/2025 | F1160: 0.137 | G1160: 0 | H1160: 2327 | I1160: 3354 | J1160: 0 | K1160: 0.25 | L1160: N | M1160: Y | N1160: 0 | O1160: 0 | P1160: N
A1161: NES | B1161: 2023-24 | C1161: 7NW200067/7NW200067a | D1161: Chilton Lane | E1161: 22/12/2024/31/03/2025 | F1161: 0.861 | G1161: 0 | H1161: 2080 | I1161: 3354 | J1161: 0 | K1161: 0.25 | L1161: N | M1161: Y | N1161: 0 | O1161: 0 | P1161: N
A1162: NES | B1162: 2024-25 | C1162: 7NW200067/7NW200067a | D1162: Chilton Lane | E1162: 22/12/2024/31/03/2025 | F1162: 1.29 | G1162: 0.069 | H1162: 1872 | I1162: 3354 | J1162: 0 | K1162: 0.25 | L1162: N | M1162: Y | N1162: 0 | O1162: 0 | P1162: N
A1163: NES | B1163: 2025-26 | C1163: 7NW200067/7NW200067a | D1163: Chilton Lane | E1163: 22/12/2024/31/03/2025 | F1163: 0.025 | G1163: 0.213 | H1163: 3242 | I1163: 3354 | J1163: 0 | K1163: 0.25 | L1163: N | M1163: Y | N1163: 0 | O1163: 0 | P1163: N
A1164: NES | B1164: 2019-20 | C1164: 7NW200071 | D1164: Crookhall | E1164: 45648 | F1164: 0 | G1164: 0 | H1164: 4869 | I1164: 4625 | J1164: 0 | K1164: 0.9 | L1164: N | M1164: Y | N1164: 0 | O1164: 0 | P1164: N
A1165: NES | B1165: 2020-21 | C1165: 7NW200071 | D1165: Crookhall | E1165: 45648 | F1165: 0.133 | G1165: 0 | H1165: 4814 | I1165: 4625 | J1165: 0 | K1165: 0.9 | L1165: N | M1165: Y | N1165: 0 | O1165: 0 | P1165: N
A1166: NES | B1166: 2021-22 | C1166: 7NW200071 | D1166: Crookhall | E1166: 45648 | F1166: 0.458 | G1166: 0 | H1166: 6835 | I1166: 4625 | J1166: 0 | K1166: 0.9 | L1166: N | M1166: Y | N1166: 0 | O1166: 0 | P1166: N
A1167: NES | B1167: 2022-23 | C1167: 7NW200071 | D1167: Crookhall | E1167: 45648 | F1167: 1.1 | G1167: 0 | H1167: 4450 | I1167: 4625 | J1167: 0 | K1167: 0.9 | L1167: N | M1167: Y | N1167: 0 | O1167: 0 | P1167: N
A1168: NES | B1168: 2023-24 | C1168: 7NW200071 | D1168: Crookhall | E1168: 45648 | F1168: 0.016 | G1168: 0 | H1168: 5400 | I1168: 4625 | J1168: 0 | K1168: 0.9 | L1168: N | M1168: Y | N1168: 0 | O1168: 0 | P1168: N
A1169: NES | B1169: 2024-25 | C1169: 7NW200071 | D1169: Crookhall | E1169: 45648 | F1169: 0 | G1169: 0.009 | H1169: 3964 | I1169: 4625 | J1169: 0 | K1169: 0.9 | L1169: N | M1169: Y | N1169: 0 | O1169: 0 | P1169: N
A1170: NES | B1170: 2025-26 | C1170: 7NW200071 | D1170: Crookhall | E1170: 45648 | F1170: 0 | G1170: 0.009 | H1170: 4978 | I1170: 4625 | J1170: 0 | K1170: 0.9 | L1170: N | M1170: Y | N1170: 0 | O1170: 0 | P1170: N
A1171: NES | B1171: 2019-20 | C1171: 7NW200078 | D1171: Dipton | E1171: 45648 | F1171: 0 | G1171: 0 | H1171: 3081 | I1171: 2931 | J1171: 0 | K1171: 1 | L1171: N | M1171: N | N1171: 0 | O1171: 0 | P1171: N
A1172: NES | B1172: 2020-21 | C1172: 7NW200078 | D1172: Dipton | E1172: 45648 | F1172: 0.258 | G1172: 0 | H1172: 3039 | I1172: 2931 | J1172: 0 | K1172: 1 | L1172: N | M1172: N | N1172: 0 | O1172: 0 | P1172: N
A1173: NES | B1173: 2021-22 | C1173: 7NW200078 | D1173: Dipton | E1173: 45648 | F1173: 0.17 | G1173: 0 | H1173: 2373 | I1173: 2931 | J1173: 0 | K1173: 1 | L1173: N | M1173: N | N1173: 0 | O1173: 0 | P1173: N
A1174: NES | B1174: 2022-23 | C1174: 7NW200078 | D1174: Dipton | E1174: 45648 | F1174: 0.9 | G1174: 0 | H1174: 1711 | I1174: 2931 | J1174: 0 | K1174: 1 | L1174: N | M1174: N | N1174: 0 | O1174: 0 | P1174: N
A1175: NES | B1175: 2023-24 | C1175: 7NW200078 | D1175: Dipton | E1175: 45648 | F1175: 4.103 | G1175: 0 | H1175: 1259 | I1175: 2931 | J1175: 0 | K1175: 1 | L1175: N | M1175: N | N1175: 0 | O1175: 0 | P1175: N
... A1177: NES | B1177: 2025-26 | C1177: 7NW200078 | D1177: Dipton | E1177: 45648 | F1177: 0.003 | G1177: 0.107 | H1177: 3167 | I1177: 2931 | J1177: 0 | K1177: 1 | L1177: N | M1177: N | N1177: 0 | O1177: 0 | P1177: N
A1178: NES | B1178: 2019-20 | C1178: 7NW200086/7NW200086a | D1178: Esh Winning | E1178: 22/12/2024*/31/03/2025 | F1178: 0 | G1178: 0 | H1178: 4696 | I1178: 5406 | J1178: 0 | K1178: 0.6 | L1178: N | M1178: Y | N1178: 0 | O1178: 0 | P1178: N
A1179: NES | B1179: 2020-21 | C1179: 7NW200086/7NW200086a | D1179: Esh Winning | E1179: 22/12/2024*/31/03/2025 | F1179: 0 | G1179: 0 | H1179: 4631 | I1179: 5406 | J1179: 0 | K1179: 0.6 | L1179: N | M1179: Y | N1179: 0 | O1179: 0 | P1179: N
A1180: NES | B1180: 2021-22 | C1180: 7NW200086/7NW200086a | D1180: Esh Winning | E1180: 22/12/2024*/31/03/2025 | F1180: 0 | G1180: 0 | H1180: 3759 | I1180: 5406 | J1180: 0 | K1180: 0.6 | L1180: N | M1180: Y | N1180: 0 | O1180: 0 | P1180: N
A1181: NES | B1181: 2022-23 | C1181: 7NW200086/7NW200086a | D1181: Esh Winning | E1181: 22/12/2024*/31/03/2025 | F1181: 0 | G1181: 0 | H1181: 4194 | I1181: 5406 | J1181: 0 | K1181: 0.6 | L1181: N | M1181: Y | N1181: 0 | O1181: 0 | P1181: N
A1182: NES | B1182: 2023-24 | C1182: 7NW200086/7NW200086a | D1182: Esh Winning | E1182: 22/12/2024*/31/03/2025 | F1182: 0.321 | G1182: 0 | H1182: 3319 | I1182: 5406 | J1182: 0 | K1182: 0.6 | L1182: N | M1182: Y | N1182: 0 | O1182: 0 | P1182: N
A1183: NES | B1183: 2024-25 | C1183: 7NW200086/7NW200086a | D1183: Esh Winning | E1183: 22/12/2024*/31/03/2025 | F1183: 1.482 | G1183: 0.009 | H1183: 3336 | I1183: 5406 | J1183: 0 | K1183: 0.6 | L1183: N | M1183: Y | N1183: 0 | O1183: 0 | P1183: N
...

Sheet Company Mapping
A1: Mapping of company names used in this dataset to names in the Stata/reconciliation datasets
A3: Old name | B3: New name
A4: ANH | B4: ANH
A5: HDD | B5: HDD
A6: NES | B6: NES
A7: SRN | B7: SRN
A8: SVE | B8: SVE
A9: SWB | B9: SWB
A10: TMS | B10: TMS
A11: UUW | B11: NWT
A12: WSH | B12: WSH
A13: WSX | B13: WSX
A14: YKY | B14: YKY

Sheet Stata dataset prep >>

Sheet Pivot 7Fv9.0
A1: Row Labels | B1: Eaid | C1: STW | D1: Completion Date (DD/MM/YY) | E1: Transfer (Y/N) | F1: Sum of Capex | G1: Sum of Opex | H1: Average of Historical permit level for phosphorus (mg/L) | I1: Average of Enhanced permit level for phosphorus (mg/L) | J1: Average of PE served | K1: Average of Scheme design population equivalent
A2: ANH | B2: 7AW200053 | C2: Ashbrook STW | D2: 45657 | E2: N | F2: 0 | G2: 0.040630512 | H2: 1 | I2: 0.7 | J2: 3793.7268 | K2: 3925.2518
A3: ANH | B3: 7AW200054 | C3: Ashton STW | D3: 45648 | E3: N | F3: 2.5393197 | G3: 0.20645839 | H3: 0 | I3: 0.3 | J3: 5364.9126 | K3: 5481
A4: ANH | B4: 7AW200057 | C4: Bassingbourn STW | D4: 45648 | E4: N | F4: 1.419845 | G4: 0.042081446 | H4: 0 | I4: 0.5 | J4: 5007.5338 | K4: 5238
A5: ANH | B5: 7AW200062 | C5: Bottisham STW | D5: 45490 | E5: N | F5: 0.60646231 | G5: 0.048339059 | H5: 0 | I5: 1 | J5: 4043.6278 | K5: 4307
A6: ANH | B6: 7AW200063 | C6: Bourn STW | D6: 45560 | E6: N | F6: 0.66590247 | G6: 0.050668968 | H6: 0 | I6: 0.5 | J6: 3630.8113 | K6: 3737
A7: ANH | B7: 7AW200066 | C7: Burwell STW | D7: 45657 | E7: N | F7: 0 | G7: 0.040630512 | H7: 1 | I7: 0.7 | J7: 6560.696 | K7: 6762.9608
A8: ANH | B8: 7AW200067 | C8: Carbrooke Church Rd STW (FTRS Scheme) | D8: 45648 | E8: N | F8: 1.2069529 | G8: 0.015261207 | H8: 0 | I8: 1 | J8: 266.39916 | K8: 265
A9: ANH | B9: 7AW200069 | C9: Chippenham STW | D9: 45559 | E9: N | F9: 1.1689661 | G9: 0.074773264 | H9: 0 | I9: 1 | J9: 474.44508 | K9: 512
A10: ANH | B10: 7AW200071 | C10: Coney Weston STW | D10: 45629 | E10: N | F10: 0.5264027 | G10: 0.11648973 | H10: 0 | I10: 0.5 | J10: 2486.8511 | K10: 2320
A11: ANH | B11: 7AW200072 | C11: Coton STW | D11: 45441 | E11: N | F11: 1.4467744 | G11: 0.028178901 | H11: 0 | I11: 0.8 | J11: 1010.2284 | K11: 1043
A12: ANH | B12: 7AW200073 | C12: Cublington (Wing) STW | D12: 45524 | E12: N | F12: 2.3836829 | G12: 0.16018715 | H12: 0 | I12: 0.4 | J12: 3266.0675 | K12: 3486
A13: ANH | B13: 7AW200074 | C13: Doddington STW | D13: 44909 | E13: N | F13: 1.8452778 | G13: 0.11095869 | H13: 0 | I13: 0.5 | J13: 4027.1823 | K13: 4402
... A166: NES | B166: 7NW200065 | C166: Carlton Redmarshall | D166: 45648 | E166: N | F166: 3.449 | G166: 0.125 | H166: 0 | I166: 0.4 | J166: 2473.5714 | K166: 2921
A167: NES | B167: 7NW200067/7NW200067a | C167: Chilton Lane | D167: 22/12/2024/31/03/2025 | E167: N | F167: 2.313 | G167: 0.282 | H167: 0 | I167: 0.25 | J167: 2645.7143 | K167: 3354
A168: NES | B168: 7NW200071 | C168: Crookhall | D168: 45648 | E168: N | F168: 1.707 | G168: 0.018 | H168: 0 | I168: 0.9 | J168: 5044.2857 | K168: 4625
A169: NES | B169: 7NW200078 | C169: Dipton | D169: 45648 | E169: N | F169: 5.593 | G169: 0.107 | H169: 0 | I169: 1 | J169: 2300.4286 | K169: 2931
A170: NES | B170: 7NW200086/7NW200086a | C170: Esh Winning | D170: 22/12/2024*/31/03/2025 | E170: N | F170: 2.11 | G170: 0.105 | H170: 0 | I170: 0.6 | J170: 4109.1429 | K170: 5406
A171: NES | B171: 7NW200089/7NW200089 | C171: Fishburn | D171: 22/12/2024*/31/03/2025 | E171: N | F171: 3.062 | G171: 0.21 | H171: 0 | I171: 0.3 | J171: 2941.5714 | K171: 3502
A172: NES | B172: 7NW200461 | C172: Kelloe | D172: 45648 | E172: N | F172: 5.547 | G172: 0.122 | H172: 0 | I172: 0.3 | J172: 2337.5714 | K172: 2228
A173: NES | B173: 7NW200463 | C173: Kirklevington | D173: 45648 | E173: Y | F173: 5.806 | G173: 0.074 | H173: 0 | I173: 0.3 | J173: 1248.5714 | K173: 1663
A174: NES | B174: 7NW200464/7NW200464a | C174: Knitsley | D174: 22/12/2024*/31/03/2025 | E174: N | F174: 3.714 | G174: 0.231 | H174: 0 | I174: 0.3 | J174: 5256.1429 | K174: 6846
A175: NES | B175: 7NW200465 | C175: Lanchester | D175: 45648 | E175: N | F175: 5.317 | G175: 0.229 | H175: 0 | I175: 0.7 | J175: 4427.1429 | K175: 5257.35
A176: NES | B176: 7NW200471 | C176: Longhorsley | D176: 45747 | E176: N | F176: 1.366 | G176: 0.052 | H176: 0 | I176: 2.26 | J176: 693.28571 | K176: 865
A177: NES | B177: 7NW200472 | C177: Longnewton to Stressholme via Goose Beck (Teesside Airport) | D177: 45747 | E177: Y | F177: 0 | G177: 0 | H177: 0 | I177: 0.3 | J177: 720.57143 | K177: 629
A178: NES | B178: 7NW200494/7NW200494a | C178: New Moors | D178: 22/12/2024/31/03/2025 | E178: N | F178: 3.311 | G178: 0.262 | H178: 0 | I178: 0.4 | J178: 817.28571 | K178: 844
A179: NES | B179: 7NW200507 | C179: Pittington transfer to Sherburn | D179: 45648 | E179: Y | F179: 0 | G179: 0 | H179: 0 | I179: 0.6 | J179: 1435.4286 | K179: 1752
A180: NES | B180: 7NW200508 | C180: Pity Me - Durham Transfer to Wear | D180: 45747 | E180: Y | F180: 9.618 | G180: 0.281 | H180: 0 | I180: 0.3 | J180: 1429.8571 | K180: 1313
A181: NES | B181: 7NW200509 | C181: Plawsworth - Durham Transfer to Wear | D181: 45747 | E181: Y | F181: 0 | G181: 0 | H181: 0 | I181: 1 | J181: 1403 | K181: 1437
A182: NES | B182: 7NW200521 | C182: Sacriston | D182: 45648 | E182: N | F182: 3.192 | G182: 0.197 | H182: 0 | I182: 0.25 | J182: 5086.8571 | K182: 6488
A183: NES | B183: 7NW200524/7NW200524a | C183: Sedgefield | D183: 22/12/2024/31/03/2025 | E183: N | F183: 3.257 | G183: 0.27 | H183: 0 | I183: 0.25 | J183: 4673.1429 | K183: 5414
A184: NES | B184: 7NW200527/7NW200527 | C184: Sherburn (including transfer from Pittington) | D184: 22/12/2024/31/03/2025 | E184: N | F184: 12.59 | G184: 0.378 | H184: 0 | I184: 0.5 | J184: 4671.5714 | K184: 5706
A185: NES | B185: 7NW200531 | C185: Slaley | D185: 45648 | E185: N | F185: 3.624 | G185: 0.071 | H185: 0 | I185: 2 | J185: 306.28571 | K185: 291
A186: NES | B186: 7NW200556 | C186: WINEP Teesside Transfer to Stressholme (Teeside airport) | D186: 45819 | E186: Y | F186: 11.233 | G186: 0.234 | H186: 0 | I186: 0.4 | J186: 711.57143 | K186: 1652
A187: NES | B187: 7NW200568/7NW200568 | C187: Trimdon | D187: 46477 | E187: N | F187: 0.139 | G187: 0.113 | H187: 0 | I187: 0.3 | J187: 4042.2857 | K187: 0
A188: NES | B188: 7NW200583 | C188: Witton Gilbert | D188: 46477 | E188: N | F188: 2.439 | G188: 0.116 | H188: 0 | I188: 0.7 | J188: 6189 | K188: 0
A189: SRN | B189: 7SO000013 /7SO200050 /7SO100170 | C189: AMP6-3 WTW Mayfield NEP5 | D189: 31/12/2021 | E189: N | F189: 1.393 | G189: 0.068 | H189: 0 | I189: 1 | J189: 1830 | K189: 2123
A190: SRN | B190: 7SO100169 | C190: AMP6-3 WTW Hawkhurst South NEP5 | D190: 31/12/2021 | E190: N | F190: 8.555 | G190: 0.191 | H190: 0 | I190: 0.3 | J190: 2081 | K190: 2393
A191: SRN | B191: 7SO100171 | C191: AMP6-3 WTW Benenden NEP5 | D191: 31/12/2021 | E191: N | F191: 7.055 | G191: 0.187 | H191: 0 | I191: 0.3 | J191: 716.42857 | K191: 1266
A192: SRN | B192: 7SO200046 | C192: Bidborough wwtw | D192: 31/03/2025 | E192: N | F192: 0 | G192: 0.034 | H192: 0 | I192: 2 | J192: 9685.8571 | K192: 10256
...

Sheet 7Fv9.0 data
A1: oldcompanycode | B1: companycode | C1: eaid | D1: stw | E1: completion_date | F1: transfer | G1: capex | H1: opex | I1: historical_consent | J1: enhanced_consent | K1: pe_served | L1: pe_design
A2: Old Company | B2: Company | C2: EAid | D2: STW | E2: Completion date (DD/MM/YY) | F2: transfer dummy | G2: Capex | H2: Opex | I2: Historical consent | J2: Enhanced consent | K2: PE served | L2: PE design
A3: ='Pivot 7Fv9.0'!A2 -> ANH | B3: =INDEX( 'Company Mapping'!$B$4:$B$14, MATCH( '7Fv9.0 data'!$A3, 'Company Mapping'!$A$4:$A$14, 0)) -> ANH | C3: ='Pivot 7Fv9.0'!B2 -> 7AW200053 | D3: ='Pivot 7Fv9.0'!C2 -> Ashbrook STW | E3: ='Pivot 7Fv9.0'!D2 -> 45657 | F3: =IF( 'Pivot 7Fv9.0'!$E2 = "N", 0, 1 ) -> 0 | G3: ='Pivot 7Fv9.0'!F2 -> 0 | H3: ='Pivot 7Fv9.0'!G2 -> 0.040630512 | I3: ='Pivot 7Fv9.0'!H2 -> 1 | J3: ='Pivot 7Fv9.0'!I2 -> 0.7 | K3: ='Pivot 7Fv9.0'!J2 -> 3793.7268 | L3: ='Pivot 7Fv9.0'!K2 -> 3925.2518
A4: ='Pivot 7Fv9.0'!A3 -> ANH | B4: =INDEX( 'Company Mapping'!$B$4:$B$14, MATCH( '7Fv9.0 data'!$A4, 'Company Mapping'!$A$4:$A$14, 0)) -> ANH | C4: ='Pivot 7Fv9.0'!B3 -> 7AW200054 | D4: ='Pivot 7Fv9.0'!C3 -> Ashton STW | E4: ='Pivot 7Fv9.0'!D3 -> 45648 | F4: =IF( 'Pivot 7Fv9.0'!$E3 = "N", 0, 1 ) -> 0 | G4: ='Pivot 7Fv9.0'!F3 -> 2.5393197 | H4: ='Pivot 7Fv9.0'!G3 -> 0.20645839 | I4: ='Pivot 7Fv9.0'!H3 -> 0 | J4: ='Pivot 7Fv9.0'!I3 -> 0.3 | K4: ='Pivot 7Fv9.0'!J3 -> 5364.9126 | L4: ='Pivot 7Fv9.0'!K3 -> 5481
A5: ='Pivot 7Fv9.0'!A4 -> ANH | B5: =INDEX( 'Company Mapping'!$B$4:$B$14, MATCH( '7Fv9.0 data'!$A5, 'Company Mapping'!$A$4:$A$14, 0)) -> ANH | C5: ='Pivot 7Fv9.0'!B4 -> 7AW200057 | D5: ='Pivot 7Fv9.0'!C4 -> Bassingbourn STW | E5: ='Pivot 7Fv9.0'!D4 -> 45648 | F5: =IF( 'Pivot 7Fv9.0'!$E4 = "N", 0, 1 ) -> 0 | G5: ='Pivot 7Fv9.0'!F4 -> 1.419845 | H5: ='Pivot 7Fv9.0'!G4 -> 0.042081446 | I5: ='Pivot 7Fv9.0'!H4 -> 0 | J5: ='Pivot 7Fv9.0'!I4 -> 0.5 | K5: ='Pivot 7Fv9.0'!J4 -> 5007.5338 | L5: ='Pivot 7Fv9.0'!K4 -> 5238
A6: ='Pivot 7Fv9.0'!A5 -> ANH | B6: =INDEX( 'Company Mapping'!$B$4:$B$14, MATCH( '7Fv9.0 data'!$A6, 'Company Mapping'!$A$4:$A$14, 0)) -> ANH | C6: ='Pivot 7Fv9.0'!B5 -> 7AW200062 | D6: ='Pivot 7Fv9.0'!C5 -> Bottisham STW | E6: ='Pivot 7Fv9.0'!D5 -> 45490 | F6: =IF( 'Pivot 7Fv9.0'!$E5 = "N", 0, 1 ) -> 0 | G6: ='Pivot 7Fv9.0'!F5 -> 0.60646231 | H6: ='Pivot 7Fv9.0'!G5 -> 0.048339059 | I6: ='Pivot 7Fv9.0'!H5 -> 0 | J6: ='Pivot 7Fv9.0'!I5 -> 1 | K6: ='Pivot 7Fv9.0'!J5 -> 4043.6278 | L6: ='Pivot 7Fv9.0'!K5 -> 4307
A7: ='Pivot 7Fv9.0'!A6 -> ANH | B7: =INDEX( 'Company Mapping'!$B$4:$B$14, MATCH( '7Fv9.0 data'!$A7, 'Company Mapping'!$A$4:$A$14, 0)) -> ANH | C7: ='Pivot 7Fv9.0'!B6 -> 7AW200063 | D7: ='Pivot 7Fv9.0'!C6 -> Bourn STW | E7: ='Pivot 7Fv9.0'!D6 -> 45560 | F7: =IF( 'Pivot 7Fv9.0'!$E6 = "N", 0, 1 ) -> 0 | G7: ='Pivot 7Fv9.0'!F6 -> 0.66590247 | H7: ='Pivot 7Fv9.0'!G6 -> 0.050668968 | I7: ='Pivot 7Fv9.0'!H6 -> 0 | J7: ='Pivot 7Fv9.0'!I6 -> 0.5 | K7: ='Pivot 7Fv9.0'!J6 -> 3630.8113 | L7: ='Pivot 7Fv9.0'!K6 -> 3737
A8: ='Pivot 7Fv9.0'!A7 -> ANH | B8: =INDEX( 'Company Mapping'!$B$4:$B$14, MATCH( '7Fv9.0 data'!$A8, 'Company Mapping'!$A$4:$A$14, 0)) -> ANH | C8: ='Pivot 7Fv9.0'!B7 -> 7AW200066 | D8: ='Pivot 7Fv9.0'!C7 -> Burwell STW | E8: ='Pivot 7Fv9.0'!D7 -> 45657 | F8: =IF( 'Pivot 7Fv9.0'!$E7 = "N", 0, 1 ) -> 0 | G8: ='Pivot 7Fv9.0'!F7 -> 0 | H8: ='Pivot 7Fv9.0'!G7 -> 0.040630512 | I8: ='Pivot 7Fv9.0'!H7 -> 1 | J8: ='Pivot 7Fv9.0'!I7 -> 0.7 | K8: ='Pivot 7Fv9.0'!J7 -> 6560.696 | L8: ='Pivot 7Fv9.0'!K7 -> 6762.9608
A9: ='Pivot 7Fv9.0'!A8 -> ANH | B9: =INDEX( 'Company Mapping'!$B$4:$B$14, MATCH( '7Fv9.0 data'!$A9, 'Company Mapping'!$A$4:$A$14, 0)) -> ANH | C9: ='Pivot 7Fv9.0'!B8 -> 7AW200067 | D9: ='Pivot 7Fv9.0'!C8 -> Carbrooke Church Rd STW (FTRS Scheme) | E9: ='Pivot 7Fv9.0'!D8 -> 45648 | F9: =IF( 'Pivot 7Fv9.0'!$E8 = "N", 0, 1 ) -> 0 | G9: ='Pivot 7Fv9.0'!F8 -> 1.2069529 | H9: ='Pivot 7Fv9.0'!G8 -> 0.015261207 | I9: ='Pivot 7Fv9.0'!H8 -> 0 | J9: ='Pivot 7Fv9.0'!I8 -> 1 | K9: ='Pivot 7Fv9.0'!J8 -> 266.39916 | L9: ='Pivot 7Fv9.0'!K8 -> 265
A10: ='Pivot 7Fv9.0'!A9 -> ANH | B10: =INDEX( 'Company Mapping'!$B$4:$B$14, MATCH( '7Fv9.0 data'!$A10, 'Company Mapping'!$A$4:$A$14, 0)) -> ANH | C10: ='Pivot 7Fv9.0'!B9 -> 7AW200069 | D10: ='Pivot 7Fv9.0'!C9 -> Chippenham STW | E10: ='Pivot 7Fv9.0'!D9 -> 45559 | F10: =IF( 'Pivot 7Fv9.0'!$E9 = "N", 0, 1 ) -> 0 | G10: ='Pivot 7Fv9.0'!F9 -> 1.1689661 | H10: ='Pivot 7Fv9.0'!G9 -> 0.074773264 | I10: ='Pivot 7Fv9.0'!H9 -> 0 | J10: ='Pivot 7Fv9.0'!I9 -> 1 | K10: ='Pivot 7Fv9.0'!J9 -> 474.44508 | L10: ='Pivot 7Fv9.0'!K9 -> 512
A11: ='Pivot 7Fv9.0'!A10 -> ANH | B11: =INDEX( 'Company Mapping'!$B$4:$B$14, MATCH( '7Fv9.0 data'!$A11, 'Company Mapping'!$A$4:$A$14, 0)) -> ANH | C11: ='Pivot 7Fv9.0'!B10 -> 7AW200071 | D11: ='Pivot 7Fv9.0'!C10 -> Coney Weston STW | E11: ='Pivot 7Fv9.0'!D10 -> 45629 | F11: =IF( 'Pivot 7Fv9.0'!$E10 = "N", 0, 1 ) -> 0 | G11: ='Pivot 7Fv9.0'!F10 -> 0.5264027 | H11: ='Pivot 7Fv9.0'!G10 -> 0.11648973 | I11: ='Pivot 7Fv9.0'!H10 -> 0 | J11: ='Pivot 7Fv9.0'!I10 -> 0.5 | K11: ='Pivot 7Fv9.0'!J10 -> 2486.8511 | L11: ='Pivot 7Fv9.0'!K10 -> 2320
A12: ='Pivot 7Fv9.0'!A11 -> ANH | B12: =INDEX( 'Company Mapping'!$B$4:$B$14, MATCH( '7Fv9.0 data'!$A12, 'Company Mapping'!$A$4:$A$14, 0)) -> ANH | C12: ='Pivot 7Fv9.0'!B11 -> 7AW200072 | D12: ='Pivot 7Fv9.0'!C11 -> Coton STW | E12: ='Pivot 7Fv9.0'!D11 -> 45441 | F12: =IF( 'Pivot 7Fv9.0'!$E11 = "N", 0, 1 ) -> 0 | G12: ='Pivot 7Fv9.0'!F11 -> 1.4467744 | H12: ='Pivot 7Fv9.0'!G11 -> 0.028178901 | I12: ='Pivot 7Fv9.0'!H11 -> 0 | J12: ='Pivot 7Fv9.0'!I11 -> 0.8 | K12: ='Pivot 7Fv9.0'!J11 -> 1010.2284 | L12: ='Pivot 7Fv9.0'!K11 -> 1043
A13: ='Pivot 7Fv9.0'!A12 -> ANH | B13: =INDEX( 'Company Mapping'!$B$4:$B$14, MATCH( '7Fv9.0 data'!$A13, 'Company Mapping'!$A$4:$A$14, 0)) -> ANH | C13: ='Pivot 7Fv9.0'!B12 -> 7AW200073 | D13: ='Pivot 7Fv9.0'!C12 -> Cublington (Wing) STW | E13: ='Pivot 7Fv9.0'!D12 -> 45524 | F13: =IF( 'Pivot 7Fv9.0'!$E12 = "N", 0, 1 ) -> 0 | G13: ='Pivot 7Fv9.0'!F12 -> 2.3836829 | H13: ='Pivot 7Fv9.0'!G12 -> 0.16018715 | I13: ='Pivot 7Fv9.0'!H12 -> 0 | J13: ='Pivot 7Fv9.0'!I12 -> 0.4 | K13: ='Pivot 7Fv9.0'!J12 -> 3266.0675 | L13: ='Pivot 7Fv9.0'!K12 -> 3486
A14: ='Pivot 7Fv9.0'!A13 -> ANH | B14: =INDEX( 'Company Mapping'!$B$4:$B$14, MATCH( '7Fv9.0 data'!$A14, 'Company Mapping'!$A$4:$A$14, 0)) -> ANH | C14: ='Pivot 7Fv9.0'!B13 -> 7AW200074 | D14: ='Pivot 7Fv9.0'!C13 -> Doddington STW | E14: ='Pivot 7Fv9.0'!D13 -> 44909 | F14: =IF( 'Pivot 7Fv9.0'!$E13 = "N", 0, 1 ) -> 0 | G14: ='Pivot 7Fv9.0'!F13 -> 1.8452778 | H14: ='Pivot 7Fv9.0'!G13 -> 0.11095869 | I14: ='Pivot 7Fv9.0'!H13 -> 0 | J14: ='Pivot 7Fv9.0'!I13 -> 0.5 | K14: ='Pivot 7Fv9.0'!J13 -> 4027.1823 | L14: ='Pivot 7Fv9.0'!K13 -> 4402
... A761: ='Pivot 7Fv9.0'!A760 -> YKY | B761: =INDEX( 'Company Mapping'!$B$4:$B$14, MATCH( '7Fv9.0 data'!$A761, 'Company Mapping'!$A$4:$A$14, 0)) -> YKY | C761: ='Pivot 7Fv9.0'!B760 -> 7YW300682 | D761: ='Pivot 7Fv9.0'!C760 -> Skipton UWWTD | E761: ='Pivot 7Fv9.0'!D760 -> 45648 | F761: =IF( 'Pivot 7Fv9.0'!$E760 = "N", 0, 1 ) -> 0 | G761: ='Pivot 7Fv9.0'!F760 -> 0 | H761: ='Pivot 7Fv9.0'!G760 -> 0 | I761: ='Pivot 7Fv9.0'!H760 -> 0.5 | J761: ='Pivot 7Fv9.0'!I760 -> 0.3 | K761: ='Pivot 7Fv9.0'!J760 -> 19999.16 | L761: ='Pivot 7Fv9.0'!K760 -> 19750

Sheet Stata dataset (real) w Opex
A1: oldcompanycode | B1: companycode | C1: eaid | D1: stw | E1: completion_date | F1: transfer | G1: capex | H1: opex | I1: historical_consent | J1: enhanced_consent | K1: pe_served | L1: pe_design
A2: Old Company | B2: Company | C2: EAid | D2: STW | E2: Completion date (DD/MM/YY) | F2: transfer dummy | G2: Capex | H2: Opex | I2: Historical consent | J2: Enhanced consent | K2: PE served | L2: PE design
A3: ANH | B3: ANH | C3: 7AW200053 | D3: Ashbrook STW | E3: 45657 | F3: 0 | G3: 0 | H3: 0.040630512 | I3: 1 | J3: 0.7 | K3: 3793.7268 | L3: 3925.2518
A4: ANH | B4: ANH | C4: 7AW200054 | D4: Ashton STW | E4: 45648 | F4: 0 | G4: 2.5393197 | H4: 0.20645839 | I4: 0 | J4: 0.3 | K4: 5364.9126 | L4: 5481
A5: ANH | B5: ANH | C5: 7AW200057 | D5: Bassingbourn STW | E5: 45648 | F5: 0 | G5: 1.419845 | H5: 0.042081446 | I5: 0 | J5: 0.5 | K5: 5007.5338 | L5: 5238
A6: ANH | B6: ANH | C6: 7AW200062 | D6: Bottisham STW | E6: 45490 | F6: 0 | G6: 0.60646231 | H6: 0.048339059 | I6: 0 | J6: 1 | K6: 4043.6278 | L6: 4307
A7: ANH | B7: ANH | C7: 7AW200063 | D7: Bourn STW | E7: 45560 | F7: 0 | G7: 0.66590247 | H7: 0.050668968 | I7: 0 | J7: 0.5 | K7: 3630.8113 | L7: 3737
A8: ANH | B8: ANH | C8: 7AW200066 | D8: Burwell STW | E8: 45657 | F8: 0 | G8: 0 | H8: 0.040630512 | I8: 1 | J8: 0.7 | K8: 6560.696 | L8: 6762.9608
A9: ANH | B9: ANH | C9: 7AW200067 | D9: Carbrooke Church Rd STW (FTRS Scheme) | E9: 45648 | F9: 0 | G9: 1.2069529 | H9: 0.015261207 | I9: 0 | J9: 1 | K9: 266.39916 | L9: 265
A10: ANH | B10: ANH | C10: 7AW200069 | D10: Chippenham STW | E10: 45559 | F10: 0 | G10: 1.1689661 | H10: 0.074773264 | I10: 0 | J10: 1 | K10: 474.44508 | L10: 512
A11: ANH | B11: ANH | C11: 7AW200071 | D11: Coney Weston STW | E11: 45629 | F11: 0 | G11: 0.5264027 | H11: 0.11648973 | I11: 0 | J11: 0.5 | K11: 2486.8511 | L11: 2320
A12: ANH | B12: ANH | C12: 7AW200072 | D12: Coton STW | E12: 45441 | F12: 0 | G12: 1.4467744 | H12: 0.028178901 | I12: 0 | J12: 0.8 | K12: 1010.2284 | L12: 1043
A13: ANH | B13: ANH | C13: 7AW200073 | D13: Cublington (Wing) STW | E13: 45524 | F13: 0 | G13: 2.3836829 | H13: 0.16018715 | I13: 0 | J13: 0.4 | K13: 3266.0675 | L13: 3486
A14: ANH | B14: ANH | C14: 7AW200074 | D14: Doddington STW | E14: 44909 | F14: 0 | G14: 1.8452778 | H14: 0.11095869 | I14: 0 | J14: 0.5 | K14: 4027.1823 | L14: 4402
... A167: NES | B167: NES | C167: 7NW200065 | D167: Carlton Redmarshall | E167: 45648 | F167: 0 | G167: 3.449 | H167: 0.125 | I167: 0 | J167: 0.4 | K167: 2473.5714 | L167: 2921
A168: NES | B168: NES | C168: 7NW200067/7NW200067a | D168: Chilton Lane | E168: 22/12/2024/31/03/2025 | F168: 0 | G168: 2.313 | H168: 0.282 | I168: 0 | J168: 0.25 | K168: 2645.7143 | L168: 3354
A169: NES | B169: NES | C169: 7NW200071 | D169: Crookhall | E169: 45648 | F169: 0 | G169: 1.707 | H169: 0.018 | I169: 0 | J169: 0.9 | K169: 5044.2857 | L169: 4625
A170: NES | B170: NES | C170: 7NW200078 | D170: Dipton | E170: 45648 | F170: 0 | G170: 5.593 | H170: 0.107 | I170: 0 | J170: 1 | K170: 2300.4286 | L170: 2931
A171: NES | B171: NES | C171: 7NW200086/7NW200086a | D171: Esh Winning | E171: 22/12/2024*/31/03/2025 | F171: 0 | G171: 2.11 | H171: 0.105 | I171: 0 | J171: 0.6 | K171: 4109.1429 | L171: 5406
A172: NES | B172: NES | C172: 7NW200089/7NW200089 | D172: Fishburn | E172: 22/12/2024*/31/03/2025 | F172: 0 | G172: 3.062 | H172: 0.21 | I172: 0 | J172: 0.3 | K172: 2941.5714 | L172: 3502
A173: NES | B173: NES | C173: 7NW200461 | D173: Kelloe | E173: 45648 | F173: 0 | G173: 5.547 | H173: 0.122 | I173: 0 | J173: 0.3 | K173: 2337.5714 | L173: 2228
A174: NES | B174: NES | C174: 7NW200463 | D174: Kirklevington | E174: 45648 | F174: 1 | G174: 5.806 | H174: 0.074 | I174: 0 | J174: 0.3 | K174: 1248.5714 | L174: 1663
A175: NES | B175: NES | C175: 7NW200464/7NW200464a | D175: Knitsley | E175: 22/12/2024*/31/03/2025 | F175: 0 | G175: 3.714 | H175: 0.231 | I175: 0 | J175: 0.3 | K175: 5256.1429 | L175: 6846
A176: NES | B176: NES | C176: 7NW200465 | D176: Lanchester | E176: 45648 | F176: 0 | G176: 5.317 | H176: 0.229 | I176: 0 | J176: 0.7 | K176: 4427.1429 | L176: 5257.35
A177: NES | B177: NES | C177: 7NW200471 | D177: Longhorsley | E177: 45747 | F177: 0 | G177: 1.366 | H177: 0.052 | I177: 0 | J177: 2.26 | K177: 693.28571 | L177: 865
A178: NES | B178: NES | C178: 7NW200472 | D178: Longnewton to Stressholme via Goose Beck (Teesside Airport) | E178: 45747 | F178: 1 | G178: 0 | H178: 0 | I178: 0 | J178: 0.3 | K178: 720.57143 | L178: 629
A179: NES | B179: NES | C179: 7NW200494/7NW200494a | D179: New Moors | E179: 22/12/2024/31/03/2025 | F179: 0 | G179: 3.311 | H179: 0.262 | I179: 0 | J179: 0.4 | K179: 817.28571 | L179: 844
A180: NES | B180: NES | C180: 7NW200507 | D180: Pittington transfer to Sherburn | E180: 45648 | F180: 1 | G180: 0 | H180: 0 | I180: 0 | J180: 0.6 | K180: 1435.4286 | L180: 1752
A181: NES | B181: NES | C181: 7NW200508 | D181: Pity Me - Durham Transfer to Wear | E181: 45747 | F181: 1 | G181: 9.618 | H181: 0.281 | I181: 0 | J181: 0.3 | K181: 1429.8571 | L181: 1313
A182: NES | B182: NES | C182: 7NW200509 | D182: Plawsworth - Durham Transfer to Wear | E182: 45747 | F182: 1 | G182: 0 | H182: 0 | I182: 0 | J182: 1 | K182: 1403 | L182: 1437
A183: NES | B183: NES | C183: 7NW200521 | D183: Sacriston | E183: 45648 | F183: 0 | G183: 3.192 | H183: 0.197 | I183: 0 | J183: 0.25 | K183: 5086.8571 | L183: 6488
A184: NES | B184: NES | C184: 7NW200524/7NW200524a | D184: Sedgefield | E184: 22/12/2024/31/03/2025 | F184: 0 | G184: 3.257 | H184: 0.27 | I184: 0 | J184: 0.25 | K184: 4673.1429 | L184: 5414
A185: NES | B185: NES | C185: 7NW200527/7NW200527 | D185: Sherburn (including transfer from Pittington) | E185: 22/12/2024/31/03/2025 | F185: 0 | G185: 12.59 | H185: 0.378 | I185: 0 | J185: 0.5 | K185: 4671.5714 | L185: 5706
A186: NES | B186: NES | C186: 7NW200531 | D186: Slaley | E186: 45648 | F186: 0 | G186: 3.624 | H186: 0.071 | I186: 0 | J186: 2 | K186: 306.28571 | L186: 291
A187: NES | B187: NES | C187: 7NW200556 | D187: WINEP Teesside Transfer to Stressholme (Teeside airport) | E187: 45819 | F187: 1 | G187: 11.233 | H187: 0.234 | I187: 0 | J187: 0.4 | K187: 711.57143 | L187: 1652
A188: NES | B188: NES | C188: 7NW200568/7NW200568 | D188: Trimdon | E188: 46477 | F188: 0 | G188: 0.139 | H188: 0.113 | I188: 0 | J188: 0.3 | K188: 4042.2857 | L188: 0
A189: NES | B189: NES | C189: 7NW200583 | D189: Witton Gilbert | E189: 46477 | F189: 0 | G189: 2.439 | H189: 0.116 | I189: 0 | J189: 0.7 | K189: 6189 | L189: 0
A190: SRN | B190: SRN | C190: 7SO000013 /7SO200050 /7SO100170 | D190: AMP6-3 WTW Mayfield NEP5 | E190: 31/12/2021 | F190: 0 | G190: 1.393 | H190: 0.068 | I190: 0 | J190: 1 | K190: 1830 | L190: 2123
A191: SRN | B191: SRN | C191: 7SO100169 | D191: AMP6-3 WTW Hawkhurst South NEP5 | E191: 31/12/2021 | F191: 0 | G191: 8.555 | H191: 0.191 | I191: 0 | J191: 0.3 | K191: 2081 | L191: 2393
A192: SRN | B192: SRN | C192: 7SO100171 | D192: AMP6-3 WTW Benenden NEP5 | E192: 31/12/2021 | F192: 0 | G192: 7.055 | H192: 0.187 | I192: 0 | J192: 0.3 | K192: 716.42857 | L192: 1266
...

Sheet Removing 25-26 opex >>

Sheet 7Fv9.0 opex removed
K1: =COUNTIF( K$4:K$764, "FALSE" ) -> 0 | L1: =COUNTIF( L$4:L$764, "FALSE" ) -> 0 | M1: Year | N1: (Multiple Items)
A3: Row Labels | B3: Eaid | C3: STW | D3: Completion Date (DD/MM/YY) | E3: Transfer (Y/N) | F3: Sum of Capex | G3: Average of Historical permit level for phosphorus (mg/L) | H3: Average of Enhanced permit level for phosphorus (mg/L) | I3: Average of PE served | J3: Average of Scheme design population equivalent | K3: ID MATCH | L3: STW MATCH | M3: Row Labels | N3: Eaid | O3: STW | P3: Completion Date (DD/MM/YY) | Q3: Transfer (Y/N) | R3: Sum of Opex
A4: ANH | B4: 7AW200053 | C4: Ashbrook STW | D4: 45657 | E4: N | F4: 0 | G4: 1 | H4: 0.7 | I4: 3793.7268 | J4: 3925.2518 | K4: =B4 = N4 -> TRUE | L4: =C4 = O4 -> TRUE | M4: ANH | N4: 7AW200053 | O4: Ashbrook STW | P4: 45657 | Q4: N | R4: 0.012793949
A5: ANH | B5: 7AW200054 | C5: Ashton STW | D5: 45648 | E5: N | F5: 2.5393197 | G5: 0 | H5: 0.3 | I5: 5364.9126 | J5: 5481 | K5: =B5 = N5 -> TRUE | L5: =C5 = O5 -> TRUE | M5: ANH | N5: 7AW200054 | O5: Ashton STW | P5: 45648 | Q5: N | R5: 0.1349505
A6: ANH | B6: 7AW200057 | C6: Bassingbourn STW | D6: 45648 | E6: N | F6: 1.419845 | G6: 0 | H6: 0.5 | I6: 5007.5338 | J6: 5238 | K6: =B6 = N6 -> TRUE | L6: =C6 = O6 -> TRUE | M6: ANH | N6: 7AW200057 | O6: Bassingbourn STW | P6: 45648 | Q6: N | R6: 0.013250827
A7: ANH | B7: 7AW200062 | C7: Bottisham STW | D7: 45490 | E7: N | F7: 0.60646231 | G7: 0 | H7: 1 | I7: 4043.6278 | J7: 4307 | K7: =B7 = N7 -> TRUE | L7: =C7 = O7 -> TRUE | M7: ANH | N7: 7AW200062 | O7: Bottisham STW | P7: 45490 | Q7: N | R7: 0.015221257
A8: ANH | B8: 7AW200063 | C8: Bourn STW | D8: 45560 | E8: N | F8: 0.66590247 | G8: 0 | H8: 0.5 | I8: 3630.8113 | J8: 3737 | K8: =B8 = N8 -> TRUE | L8: =C8 = O8 -> TRUE | M8: ANH | N8: 7AW200063 | O8: Bourn STW | P8: 45560 | Q8: N | R8: 0.015954911
A9: ANH | B9: 7AW200066 | C9: Burwell STW | D9: 45657 | E9: N | F9: 0 | G9: 1 | H9: 0.7 | I9: 6560.696 | J9: 6762.9608 | K9: =B9 = N9 -> TRUE | L9: =C9 = O9 -> TRUE | M9: ANH | N9: 7AW200066 | O9: Burwell STW | P9: 45657 | Q9: N | R9: 0.012793949
A10: ANH | B10: 7AW200067 | C10: Carbrooke Church Rd STW (FTRS Scheme) | D10: 45648 | E10: N | F10: 1.2069529 | G10: 0 | H10: 1 | I10: 266.39916 | J10: 265 | K10: =B10 = N10 -> TRUE | L10: =C10 = O10 -> TRUE | M10: ANH | N10: 7AW200067 | O10: Carbrooke Church Rd STW (FTRS Scheme) | P10: 45648 | Q10: N | R10: 0.0048055289
A11: ANH | B11: 7AW200069 | C11: Chippenham STW | D11: 45559 | E11: N | F11: 1.1689661 | G11: 0 | H11: 1 | I11: 474.44508 | J11: 512 | K11: =B11 = N11 -> TRUE | L11: =C11 = O11 -> TRUE | M11: ANH | N11: 7AW200069 | O11: Chippenham STW | P11: 45559 | Q11: N | R11: 0.023544998
A12: ANH | B12: 7AW200071 | C12: Coney Weston STW | D12: 45629 | E12: N | F12: 0.5264027 | G12: 0 | H12: 0.5 | I12: 2486.8511 | J12: 2320 | K12: =B12 = N12 -> TRUE | L12: =C12 = O12 -> TRUE | M12: ANH | N12: 7AW200071 | O12: Coney Weston STW | P12: 45629 | Q12: N | R12: 0.036680897
A13: ANH | B13: 7AW200072 | C13: Coton STW | D13: 45441 | E13: N | F13: 1.4467744 | G13: 0 | H13: 0.8 | I13: 1010.2284 | J13: 1043 | K13: =B13 = N13 -> TRUE | L13: =C13 = O13 -> TRUE | M13: ANH | N13: 7AW200072 | O13: Coton STW | P13: 45441 | Q13: N | R13: 0.0088731204
A14: ANH | B14: 7AW200073 | C14: Cublington (Wing) STW | D14: 45524 | E14: N | F14: 2.3836829 | G14: 0 | H14: 0.4 | I14: 3266.0675 | J14: 3486 | K14: =B14 = N14 -> TRUE | L14: =C14 = O14 -> TRUE | M14: ANH | N14: 7AW200073 | O14: Cublington (Wing) STW | P14: 45524 | Q14: N | R14: 0.05044057
A15: ANH | B15: 7AW200074 | C15: Doddington STW | D15: 44909 | E15: N | F15: 1.8452778 | G15: 0 | H15: 0.5 | I15: 4027.1823 | J15: 4402 | K15: =B15 = N15 -> TRUE | L15: =C15 = O15 -> TRUE | M15: ANH | N15: 7AW200074 | O15: Doddington STW | P15: 44909 | Q15: N | R15: 0.034939254
... A168: NES | B168: 7NW200065 | C168: Carlton Redmarshall | D168: 45648 | E168: N | F168: 3.449 | G168: 0 | H168: 0.4 | I168: 2473.5714 | J168: 2921 | K168: =B168 = N168 -> TRUE | L168: =C168 = O168 -> TRUE | M168: NES | N168: 7NW200065 | O168: Carlton Redmarshall | P168: 45648 | Q168: N | R168: 0.027
A169: NES | B169: 7NW200067/7NW200067a | C169: Chilton Lane | D169: 22/12/2024/31/03/2025 | E169: N | F169: 2.313 | G169: 0 | H169: 0.25 | I169: 2645.7143 | J169: 3354 | K169: =B169 = N169 -> TRUE | L169: =C169 = O169 -> TRUE | M169: NES | N169: 7NW200067/7NW200067a | O169: Chilton Lane | P169: 22/12/2024/31/03/2025 | Q169: N | R169: 0.069
A170: NES | B170: 7NW200071 | C170: Crookhall | D170: 45648 | E170: N | F170: 1.707 | G170: 0 | H170: 0.9 | I170: 5044.2857 | J170: 4625 | K170: =B170 = N170 -> TRUE | L170: =C170 = O170 -> TRUE | M170: NES | N170: 7NW200071 | O170: Crookhall | P170: 45648 | Q170: N | R170: 0.009
A171: NES | B171: 7NW200078 | C171: Dipton | D171: 45648 | E171: N | F171: 5.593 | G171: 0 | H171: 1 | I171: 2300.4286 | J171: 2931 | K171: =B171 = N171 -> TRUE | L171: =C171 = O171 -> TRUE | M171: NES | N171: 7NW200078 | O171: Dipton | P171: 45648 | Q171: N | R171: 0
A172: NES | B172: 7NW200086/7NW200086a | C172: Esh Winning | D172: 22/12/2024*/31/03/2025 | E172: N | F172: 2.11 | G172: 0 | H172: 0.6 | I172: 4109.1429 | J172: 5406 | K172: =B172 = N172 -> TRUE | L172: =C172 = O172 -> TRUE | M172: NES | N172: 7NW200086/7NW200086a | O172: Esh Winning | P172: 22/12/2024*/31/03/2025 | Q172: N | R172: 0.009
A173: NES | B173: 7NW200089/7NW200089 | C173: Fishburn | D173: 22/12/2024*/31/03/2025 | E173: N | F173: 3.062 | G173: 0 | H173: 0.3 | I173: 2941.5714 | J173: 3502 | K173: =B173 = N173 -> TRUE | L173: =C173 = O173 -> TRUE | M173: NES | N173: 7NW200089/7NW200089 | O173: Fishburn | P173: 22/12/2024*/31/03/2025 | Q173: N | R173: 0.08
A174: NES | B174: 7NW200461 | C174: Kelloe | D174: 45648 | E174: N | F174: 5.547 | G174: 0 | H174: 0.3 | I174: 2337.5714 | J174: 2228 | K174: =B174 = N174 -> TRUE | L174: =C174 = O174 -> TRUE | M174: NES | N174: 7NW200461 | O174: Kelloe | P174: 45648 | Q174: N | R174: 0.049
A175: NES | B175: 7NW200463 | C175: Kirklevington | D175: 45648 | E175: Y | F175: 5.806 | G175: 0 | H175: 0.3 | I175: 1248.5714 | J175: 1663 | K175: =B175 = N175 -> TRUE | L175: =C175 = O175 -> TRUE | M175: NES | N175: 7NW200463 | O175: Kirklevington | P175: 45648 | Q175: Y | R175: 0
A176: NES | B176: 7NW200464/7NW200464a | C176: Knitsley | D176: 22/12/2024*/31/03/2025 | E176: N | F176: 3.714 | G176: 0 | H176: 0.3 | I176: 5256.1429 | J176: 6846 | K176: =B176 = N176 -> TRUE | L176: =C176 = O176 -> TRUE | M176: NES | N176: 7NW200464/7NW200464a | O176: Knitsley | P176: 22/12/2024*/31/03/2025 | Q176: N | R176: 0
A177: NES | B177: 7NW200465 | C177: Lanchester | D177: 45648 | E177: N | F177: 5.317 | G177: 0 | H177: 0.7 | I177: 4427.1429 | J177: 5257.35 | K177: =B177 = N177 -> TRUE | L177: =C177 = O177 -> TRUE | M177: NES | N177: 7NW200465 | O177: Lanchester | P177: 45648 | Q177: N | R177: 0
A178: NES | B178: 7NW200471 | C178: Longhorsley | D178: 45747 | E178: N | F178: 1.366 | G178: 0 | H178: 2.26 | I178: 693.28571 | J178: 865 | K178: =B178 = N178 -> TRUE | L178: =C178 = O178 -> TRUE | M178: NES | N178: 7NW200471 | O178: Longhorsley | P178: 45747 | Q178: N | R178: 0
A179: NES | B179: 7NW200472 | C179: Longnewton to Stressholme via Goose Beck (Teesside Airport) | D179: 45747 | E179: Y | F179: 0 | G179: 0 | H179: 0.3 | I179: 720.57143 | J179: 629 | K179: =B179 = N179 -> TRUE | L179: =C179 = O179 -> TRUE | M179: NES | N179: 7NW200472 | O179: Longnewton to Stressholme via Goose Beck (Teesside Airport) | P179: 45747 | Q179: Y | R179: 0
A180: NES | B180: 7NW200494/7NW200494a | C180: New Moors | D180: 22/12/2024/31/03/2025 | E180: N | F180: 3.311 | G180: 0 | H180: 0.4 | I180: 817.28571 | J180: 844 | K180: =B180 = N180 -> TRUE | L180: =C180 = O180 -> TRUE | M180: NES | N180: 7NW200494/7NW200494a | O180: New Moors | P180: 22/12/2024/31/03/2025 | Q180: N | R180: 0
A181: NES | B181: 7NW200507 | C181: Pittington transfer to Sherburn | D181: 45648 | E181: Y | F181: 0 | G181: 0 | H181: 0.6 | I181: 1435.4286 | J181: 1752 | K181: =B181 = N181 -> TRUE | L181: =C181 = O181 -> TRUE | M181: NES | N181: 7NW200507 | O181: Pittington transfer to Sherburn | P181: 45648 | Q181: Y | R181: 0
A182: NES | B182: 7NW200508 | C182: Pity Me - Durham Transfer to Wear | D182: 45747 | E182: Y | F182: 9.618 | G182: 0 | H182: 0.3 | I182: 1429.8571 | J182: 1313 | K182: =B182 = N182 -> TRUE | L182: =C182 = O182 -> TRUE | M182: NES | N182: 7NW200508 | O182: Pity Me - Durham Transfer to Wear | P182: 45747 | Q182: Y | R182: 0
A183: NES | B183: 7NW200509 | C183: Plawsworth - Durham Transfer to Wear | D183: 45747 | E183: Y | F183: 0 | G183: 0 | H183: 1 | I183: 1403 | J183: 1437 | K183: =B183 = N183 -> TRUE | L183: =C183 = O183 -> TRUE | M183: NES | N183: 7NW200509 | O183: Plawsworth - Durham Transfer to Wear | P183: 45747 | Q183: Y | R183: 0
A184: NES | B184: 7NW200521 | C184: Sacriston | D184: 45648 | E184: N | F184: 3.192 | G184: 0 | H184: 0.25 | I184: 5086.8571 | J184: 6488 | K184: =B184 = N184 -> TRUE | L184: =C184 = O184 -> TRUE | M184: NES | N184: 7NW200521 | O184: Sacriston | P184: 45648 | Q184: N | R184: 0
A185: NES | B185: 7NW200524/7NW200524a | C185: Sedgefield | D185: 22/12/2024/31/03/2025 | E185: N | F185: 3.257 | G185: 0 | H185: 0.25 | I185: 4673.1429 | J185: 5414 | K185: =B185 = N185 -> TRUE | L185: =C185 = O185 -> TRUE | M185: NES | N185: 7NW200524/7NW200524a | O185: Sedgefield | P185: 22/12/2024/31/03/2025 | Q185: N | R185: 0.08
A186: NES | B186: 7NW200527/7NW200527 | C186: Sherburn (including transfer from Pittington) | D186: 22/12/2024/31/03/2025 | E186: N | F186: 12.59 | G186: 0 | H186: 0.5 | I186: 4671.5714 | J186: 5706 | K186: =B186 = N186 -> TRUE | L186: =C186 = O186 -> TRUE | M186: NES | N186: 7NW200527/7NW200527 | O186: Sherburn (including transfer from Pittington) | P186: 22/12/2024/31/03/2025 | Q186: N | R186: 0.131
A187: NES | B187: 7NW200531 | C187: Slaley | D187: 45648 | E187: N | F187: 3.624 | G187: 0 | H187: 2 | I187: 306.28571 | J187: 291 | K187: =B187 = N187 -> TRUE | L187: =C187 = O187 -> TRUE | M187: NES | N187: 7NW200531 | O187: Slaley | P187: 45648 | Q187: N | R187: 0
A188: NES | B188: 7NW200556 | C188: WINEP Teesside Transfer to Stressholme (Teeside airport) | D188: 45819 | E188: Y | F188: 11.233 | G188: 0 | H188: 0.4 | I188: 711.57143 | J188: 1652 | K188: =B188 = N188 -> TRUE | L188: =C188 = O188 -> TRUE | M188: NES | N188: 7NW200556 | O188: WINEP Teesside Transfer to Stressholme (Teeside airport) | P188: 45819 | Q188: Y | R188: 0
A189: NES | B189: 7NW200568/7NW200568 | C189: Trimdon | D189: 46477 | E189: N | F189: 0.139 | G189: 0 | H189: 0.3 | I189: 4042.2857 | J189: 0 | K189: =B189 = N189 -> TRUE | L189: =C189 = O189 -> TRUE | M189: NES | N189: 7NW200568/7NW200568 | O189: Trimdon | P189: 46477 | Q189: N | R189: 0.113
A190: NES | B190: 7NW200583 | C190: Witton Gilbert | D190: 46477 | E190: N | F190: 2.439 | G190: 0 | H190: 0.7 | I190: 6189 | J190: 0 | K190: =B190 = N190 -> TRUE | L190: =C190 = O190 -> TRUE | M190: NES | N190: 7NW200583 | O190: Witton Gilbert | P190: 46477 | Q190: N | R190: 0
A191: SRN | B191: 7SO000013 /7SO200050 /7SO100170 | C191: AMP6-3 WTW Mayfield NEP5 | D191: 31/12/2021 | E191: N | F191: 1.393 | G191: 0 | H191: 1 | I191: 1830 | J191: 2123 | K191: =B191 = N191 -> TRUE | L191: =C191 = O191 -> TRUE | M191: SRN | N191: 7SO000013 /7SO200050 /7SO100170 | O191: AMP6-3 WTW Mayfield NEP5 | P191: 31/12/2021 | Q191: N | R191: 0.052
A192: SRN | B192: 7SO100169 | C192: AMP6-3 WTW Hawkhurst South NEP5 | D192: 31/12/2021 | E192: N | F192: 8.555 | G192: 0 | H192: 0.3 | I192: 2081 | J192: 2393 | K192: =B192 = N192 -> TRUE | L192: =C192 = O192 -> TRUE | M192: SRN | N192: 7SO100169 | O192: AMP6-3 WTW Hawkhurst South NEP5 | P192: 31/12/2021 | Q192: N | R192: 0.146
A193: SRN | B193: 7SO100171 | C193: AMP6-3 WTW Benenden NEP5 | D193: 31/12/2021 | E193: N | F193: 7.055 | G193: 0 | H193: 0.3 | I193: 716.42857 | J193: 1266 | K193: =B193 = N193 -> TRUE | L193: =C193 = O193 -> TRUE | M193: SRN | N193: 7SO100171 | O193: AMP6-3 WTW Benenden NEP5 | P193: 31/12/2021 | Q193: N | R193: 0.143
...

Sheet 7Fv9.0 data (2)
A1: oldcompanycode | B1: companycode | C1: eaid | D1: stw | E1: completion_date | F1: transfer | G1: capex | H1: opex | I1: historical_consent | J1: enhanced_consent | K1: pe_served | L1: pe_design
A2: Old Company | B2: Company | C2: EAid | D2: STW | E2: Completion date (DD/MM/YY) | F2: transfer dummy | G2: Capex | H2: Opex | I2: Historical consent | J2: Enhanced consent | K2: PE served | L2: PE design
A3: ='7Fv9.0 opex removed'!A4 -> ANH | B3: =INDEX( 'Company Mapping'!$B$4:$B$14, MATCH( '7Fv9.0 data (2)'!$A3, 'Company Mapping'!$A$4:$A$14, 0)) -> ANH | C3: ='7Fv9.0 opex removed'!B4 -> 7AW200053 | D3: ='7Fv9.0 opex removed'!C4 -> Ashbrook STW | E3: ='7Fv9.0 opex removed'!D4 -> 45657 | F3: =IF( '7Fv9.0 opex removed'!$E4 = "N", 0, 1 ) -> 0 | G3: ='7Fv9.0 opex removed'!F4 -> 0 | H3: ='7Fv9.0 opex removed'!R4 -> 0.012793949 | I3: ='7Fv9.0 opex removed'!G4 -> 1 | J3: ='7Fv9.0 opex removed'!H4 -> 0.7 | K3: ='7Fv9.0 opex removed'!I4 -> 3793.7268 | L3: ='7Fv9.0 opex removed'!J4 -> 3925.2518
A4: ='7Fv9.0 opex removed'!A5 -> ANH | B4: =INDEX( 'Company Mapping'!$B$4:$B$14, MATCH( '7Fv9.0 data (2)'!$A4, 'Company Mapping'!$A$4:$A$14, 0)) -> ANH | C4: ='7Fv9.0 opex removed'!B5 -> 7AW200054 | D4: ='7Fv9.0 opex removed'!C5 -> Ashton STW | E4: ='7Fv9.0 opex removed'!D5 -> 45648 | F4: =IF( '7Fv9.0 opex removed'!$E5 = "N", 0, 1 ) -> 0 | G4: ='7Fv9.0 opex removed'!F5 -> 2.5393197 | H4: ='7Fv9.0 opex removed'!R5 -> 0.1349505 | I4: ='7Fv9.0 opex removed'!G5 -> 0 | J4: ='7Fv9.0 opex removed'!H5 -> 0.3 | K4: ='7Fv9.0 opex removed'!I5 -> 5364.9126 | L4: ='7Fv9.0 opex removed'!J5 -> 5481
A5: ='7Fv9.0 opex removed'!A6 -> ANH | B5: =INDEX( 'Company Mapping'!$B$4:$B$14, MATCH( '7Fv9.0 data (2)'!$A5, 'Company Mapping'!$A$4:$A$14, 0)) -> ANH | C5: ='7Fv9.0 opex removed'!B6 -> 7AW200057 | D5: ='7Fv9.0 opex removed'!C6 -> Bassingbourn STW | E5: ='7Fv9.0 opex removed'!D6 -> 45648 | F5: =IF( '7Fv9.0 opex removed'!$E6 = "N", 0, 1 ) -> 0 | G5: ='7Fv9.0 opex removed'!F6 -> 1.419845 | H5: ='7Fv9.0 opex removed'!R6 -> 0.013250827 | I5: ='7Fv9.0 opex removed'!G6 -> 0 | J5: ='7Fv9.0 opex removed'!H6 -> 0.5 | K5: ='7Fv9.0 opex removed'!I6 -> 5007.5338 | L5: ='7Fv9.0 opex removed'!J6 -> 5238
A6: ='7Fv9.0 opex removed'!A7 -> ANH | B6: =INDEX( 'Company Mapping'!$B$4:$B$14, MATCH( '7Fv9.0 data (2)'!$A6, 'Company Mapping'!$A$4:$A$14, 0)) -> ANH | C6: ='7Fv9.0 opex removed'!B7 -> 7AW200062 | D6: ='7Fv9.0 opex removed'!C7 -> Bottisham STW | E6: ='7Fv9.0 opex removed'!D7 -> 45490 | F6: =IF( '7Fv9.0 opex removed'!$E7 = "N", 0, 1 ) -> 0 | G6: ='7Fv9.0 opex removed'!F7 -> 0.60646231 | H6: ='7Fv9.0 opex removed'!R7 -> 0.015221257 | I6: ='7Fv9.0 opex removed'!G7 -> 0 | J6: ='7Fv9.0 opex removed'!H7 -> 1 | K6: ='7Fv9.0 opex removed'!I7 -> 4043.6278 | L6: ='7Fv9.0 opex removed'!J7 -> 4307
A7: ='7Fv9.0 opex removed'!A8 -> ANH | B7: =INDEX( 'Company Mapping'!$B$4:$B$14, MATCH( '7Fv9.0 data (2)'!$A7, 'Company Mapping'!$A$4:$A$14, 0)) -> ANH | C7: ='7Fv9.0 opex removed'!B8 -> 7AW200063 | D7: ='7Fv9.0 opex removed'!C8 -> Bourn STW | E7: ='7Fv9.0 opex removed'!D8 -> 45560 | F7: =IF( '7Fv9.0 opex removed'!$E8 = "N", 0, 1 ) -> 0 | G7: ='7Fv9.0 opex removed'!F8 -> 0.66590247 | H7: ='7Fv9.0 opex removed'!R8 -> 0.015954911 | I7: ='7Fv9.0 opex removed'!G8 -> 0 | J7: ='7Fv9.0 opex removed'!H8 -> 0.5 | K7: ='7Fv9.0 opex removed'!I8 -> 3630.8113 | L7: ='7Fv9.0 opex removed'!J8 -> 3737
A8: ='7Fv9.0 opex removed'!A9 -> ANH | B8: =INDEX( 'Company Mapping'!$B$4:$B$14, MATCH( '7Fv9.0 data (2)'!$A8, 'Company Mapping'!$A$4:$A$14, 0)) -> ANH | C8: ='7Fv9.0 opex removed'!B9 -> 7AW200066 | D8: ='7Fv9.0 opex removed'!C9 -> Burwell STW | E8: ='7Fv9.0 opex removed'!D9 -> 45657 | F8: =IF( '7Fv9.0 opex removed'!$E9 = "N", 0, 1 ) -> 0 | G8: ='7Fv9.0 opex removed'!F9 -> 0 | H8: ='7Fv9.0 opex removed'!R9 -> 0.012793949 | I8: ='7Fv9.0 opex removed'!G9 -> 1 | J8: ='7Fv9.0 opex removed'!H9 -> 0.7 | K8: ='7Fv9.0 opex removed'!I9 -> 6560.696 | L8: ='7Fv9.0 opex removed'!J9 -> 6762.9608
A9: ='7Fv9.0 opex removed'!A10 -> ANH | B9: =INDEX( 'Company Mapping'!$B$4:$B$14, MATCH( '7Fv9.0 data (2)'!$A9, 'Company Mapping'!$A$4:$A$14, 0)) -> ANH | C9: ='7Fv9.0 opex removed'!B10 -> 7AW200067 | D9: ='7Fv9.0 opex removed'!C10 -> Carbrooke Church Rd STW (FTRS Scheme) | E9: ='7Fv9.0 opex removed'!D10 -> 45648 | F9: =IF( '7Fv9.0 opex removed'!$E10 = "N", 0, 1 ) -> 0 | G9: ='7Fv9.0 opex removed'!F10 -> 1.2069529 | H9: ='7Fv9.0 opex removed'!R10 -> 0.0048055289 | I9: ='7Fv9.0 opex removed'!G10 -> 0 | J9: ='7Fv9.0 opex removed'!H10 -> 1 | K9: ='7Fv9.0 opex removed'!I10 -> 266.39916 | L9: ='7Fv9.0 opex removed'!J10 -> 265
A10: ='7Fv9.0 opex removed'!A11 -> ANH | B10: =INDEX( 'Company Mapping'!$B$4:$B$14, MATCH( '7Fv9.0 data (2)'!$A10, 'Company Mapping'!$A$4:$A$14, 0)) -> ANH | C10: ='7Fv9.0 opex removed'!B11 -> 7AW200069 | D10: ='7Fv9.0 opex removed'!C11 -> Chippenham STW | E10: ='7Fv9.0 opex removed'!D11 -> 45559 | F10: =IF( '7Fv9.0 opex removed'!$E11 = "N", 0, 1 ) -> 0 | G10: ='7Fv9.0 opex removed'!F11 -> 1.1689661 | H10: ='7Fv9.0 opex removed'!R11 -> 0.023544998 | I10: ='7Fv9.0 opex removed'!G11 -> 0 | J10: ='7Fv9.0 opex removed'!H11 -> 1 | K10: ='7Fv9.0 opex removed'!I11 -> 474.44508 | L10: ='7Fv9.0 opex removed'!J11 -> 512
A11: ='7Fv9.0 opex removed'!A12 -> ANH | B11: =INDEX( 'Company Mapping'!$B$4:$B$14, MATCH( '7Fv9.0 data (2)'!$A11, 'Company Mapping'!$A$4:$A$14, 0)) -> ANH | C11: ='7Fv9.0 opex removed'!B12 -> 7AW200071 | D11: ='7Fv9.0 opex removed'!C12 -> Coney Weston STW | E11: ='7Fv9.0 opex removed'!D12 -> 45629 | F11: =IF( '7Fv9.0 opex removed'!$E12 = "N", 0, 1 ) -> 0 | G11: ='7Fv9.0 opex removed'!F12 -> 0.5264027 | H11: ='7Fv9.0 opex removed'!R12 -> 0.036680897 | I11: ='7Fv9.0 opex removed'!G12 -> 0 | J11: ='7Fv9.0 opex removed'!H12 -> 0.5 | K11: ='7Fv9.0 opex removed'!I12 -> 2486.8511 | L11: ='7Fv9.0 opex removed'!J12 -> 2320
A12: ='7Fv9.0 opex removed'!A13 -> ANH | B12: =INDEX( 'Company Mapping'!$B$4:$B$14, MATCH( '7Fv9.0 data (2)'!$A12, 'Company Mapping'!$A$4:$A$14, 0)) -> ANH | C12: ='7Fv9.0 opex removed'!B13 -> 7AW200072 | D12: ='7Fv9.0 opex removed'!C13 -> Coton STW | E12: ='7Fv9.0 opex removed'!D13 -> 45441 | F12: =IF( '7Fv9.0 opex removed'!$E13 = "N", 0, 1 ) -> 0 | G12: ='7Fv9.0 opex removed'!F13 -> 1.4467744 | H12: ='7Fv9.0 opex removed'!R13 -> 0.0088731204 | I12: ='7Fv9.0 opex removed'!G13 -> 0 | J12: ='7Fv9.0 opex removed'!H13 -> 0.8 | K12: ='7Fv9.0 opex removed'!I13 -> 1010.2284 | L12: ='7Fv9.0 opex removed'!J13 -> 1043
A13: ='7Fv9.0 opex removed'!A14 -> ANH | B13: =INDEX( 'Company Mapping'!$B$4:$B$14, MATCH( '7Fv9.0 data (2)'!$A13, 'Company Mapping'!$A$4:$A$14, 0)) -> ANH | C13: ='7Fv9.0 opex removed'!B14 -> 7AW200073 | D13: ='7Fv9.0 opex removed'!C14 -> Cublington (Wing) STW | E13: ='7Fv9.0 opex removed'!D14 -> 45524 | F13: =IF( '7Fv9.0 opex removed'!$E14 = "N", 0, 1 ) -> 0 | G13: ='7Fv9.0 opex removed'!F14 -> 2.3836829 | H13: ='7Fv9.0 opex removed'!R14 -> 0.05044057 | I13: ='7Fv9.0 opex removed'!G14 -> 0 | J13: ='7Fv9.0 opex removed'!H14 -> 0.4 | K13: ='7Fv9.0 opex removed'!I14 -> 3266.0675 | L13: ='7Fv9.0 opex removed'!J14 -> 3486
A14: ='7Fv9.0 opex removed'!A15 -> ANH | B14: =INDEX( 'Company Mapping'!$B$4:$B$14, MATCH( '7Fv9.0 data (2)'!$A14, 'Company Mapping'!$A$4:$A$14, 0)) -> ANH | C14: ='7Fv9.0 opex removed'!B15 -> 7AW200074 | D14: ='7Fv9.0 opex removed'!C15 -> Doddington STW | E14: ='7Fv9.0 opex removed'!D15 -> 44909 | F14: =IF( '7Fv9.0 opex removed'!$E15 = "N", 0, 1 ) -> 0 | G14: ='7Fv9.0 opex removed'!F15 -> 1.8452778 | H14: ='7Fv9.0 opex removed'!R15 -> 0.034939254 | I14: ='7Fv9.0 opex removed'!G15 -> 0 | J14: ='7Fv9.0 opex removed'!H15 -> 0.5 | K14: ='7Fv9.0 opex removed'!I15 -> 4027.1823 | L14: ='7Fv9.0 opex removed'!J15 -> 4402
... A761: ='7Fv9.0 opex removed'!A762 -> YKY | B761: =INDEX( 'Company Mapping'!$B$4:$B$14, MATCH( '7Fv9.0 data (2)'!$A761, 'Company Mapping'!$A$4:$A$14, 0)) -> YKY | C761: ='7Fv9.0 opex removed'!B762 -> 7YW300682 | D761: ='7Fv9.0 opex removed'!C762 -> Skipton UWWTD | E761: ='7Fv9.0 opex removed'!D762 -> 45648 | F761: =IF( '7Fv9.0 opex removed'!$E762 = "N", 0, 1 ) -> 0 | G761: ='7Fv9.0 opex removed'!F762 -> 0 | H761: ='7Fv9.0 opex removed'!R762 -> 0 | I761: ='7Fv9.0 opex removed'!G762 -> 0.5 | J761: ='7Fv9.0 opex removed'!H762 -> 0.3 | K761: ='7Fv9.0 opex removed'!I762 -> 19999.16 | L761: ='7Fv9.0 opex removed'!J762 -> 19750

Sheet Stata dataset (real)
A1: oldcompanycode | B1: companycode | C1: eaid | D1: stw | E1: completion_date | F1: transfer | G1: capex | H1: opex | I1: historical_consent | J1: enhanced_consent | K1: pe_served | L1: pe_design
A2: Old Company | B2: Company | C2: EAid | D2: STW | E2: Completion date (DD/MM/YY) | F2: transfer dummy | G2: Capex | H2: Opex | I2: Historical consent | J2: Enhanced consent | K2: PE served | L2: PE design
A3: ANH | B3: ANH | C3: 7AW200053 | D3: Ashbrook STW | E3: 45657 | F3: 0 | G3: 0 | H3: 0.012793949 | I3: 1 | J3: 0.7 | K3: 3793.7268 | L3: 3925.2518
A4: ANH | B4: ANH | C4: 7AW200054 | D4: Ashton STW | E4: 45648 | F4: 0 | G4: 2.5393197 | H4: 0.1349505 | I4: 0 | J4: 0.3 | K4: 5364.9126 | L4: 5481
A5: ANH | B5: ANH | C5: 7AW200057 | D5: Bassingbourn STW | E5: 45648 | F5: 0 | G5: 1.419845 | H5: 0.013250827 | I5: 0 | J5: 0.5 | K5: 5007.5338 | L5: 5238
A6: ANH | B6: ANH | C6: 7AW200062 | D6: Bottisham STW | E6: 45490 | F6: 0 | G6: 0.60646231 | H6: 0.015221257 | I6: 0 | J6: 1 | K6: 4043.6278 | L6: 4307
A7: ANH | B7: ANH | C7: 7AW200063 | D7: Bourn STW | E7: 45560 | F7: 0 | G7: 0.66590247 | H7: 0.015954911 | I7: 0 | J7: 0.5 | K7: 3630.8113 | L7: 3737
A8: ANH | B8: ANH | C8: 7AW200066 | D8: Burwell STW | E8: 45657 | F8: 0 | G8: 0 | H8: 0.012793949 | I8: 1 | J8: 0.7 | K8: 6560.696 | L8: 6762.9608
A9: ANH | B9: ANH | C9: 7AW200067 | D9: Carbrooke Church Rd STW (FTRS Scheme) | E9: 45648 | F9: 0 | G9: 1.2069529 | H9: 0.0048055289 | I9: 0 | J9: 1 | K9: 266.39916 | L9: 265
A10: ANH | B10: ANH | C10: 7AW200069 | D10: Chippenham STW | E10: 45559 | F10: 0 | G10: 1.1689661 | H10: 0.023544998 | I10: 0 | J10: 1 | K10: 474.44508 | L10: 512
A11: ANH | B11: ANH | C11: 7AW200071 | D11: Coney Weston STW | E11: 45629 | F11: 0 | G11: 0.5264027 | H11: 0.036680897 | I11: 0 | J11: 0.5 | K11: 2486.8511 | L11: 2320
A12: ANH | B12: ANH | C12: 7AW200072 | D12: Coton STW | E12: 45441 | F12: 0 | G12: 1.4467744 | H12: 0.0088731204 | I12: 0 | J12: 0.8 | K12: 1010.2284 | L12: 1043
A13: ANH | B13: ANH | C13: 7AW200073 | D13: Cublington (Wing) STW | E13: 45524 | F13: 0 | G13: 2.3836829 | H13: 0.05044057 | I13: 0 | J13: 0.4 | K13: 3266.0675 | L13: 3486
A14: ANH | B14: ANH | C14: 7AW200074 | D14: Doddington STW | E14: 44909 | F14: 0 | G14: 1.8452778 | H14: 0.034939254 | I14: 0 | J14: 0.5 | K14: 4027.1823 | L14: 4402
... A167: NES | B167: NES | C167: 7NW200065 | D167: Carlton Redmarshall | E167: 45648 | F167: 0 | G167: 3.449 | H167: 0.027 | I167: 0 | J167: 0.4 | K167: 2473.5714 | L167: 2921
A168: NES | B168: NES | C168: 7NW200067/7NW200067a | D168: Chilton Lane | E168: 22/12/2024/31/03/2025 | F168: 0 | G168: 2.313 | H168: 0.069 | I168: 0 | J168: 0.25 | K168: 2645.7143 | L168: 3354
A169: NES | B169: NES | C169: 7NW200071 | D169: Crookhall | E169: 45648 | F169: 0 | G169: 1.707 | H169: 0.009 | I169: 0 | J169: 0.9 | K169: 5044.2857 | L169: 4625
A170: NES | B170: NES | C170: 7NW200078 | D170: Dipton | E170: 45648 | F170: 0 | G170: 5.593 | H170: 0 | I170: 0 | J170: 1 | K170: 2300.4286 | L170: 2931
A171: NES | B171: NES | C171: 7NW200086/7NW200086a | D171: Esh Winning | E171: 22/12/2024*/31/03/2025 | F171: 0 | G171: 2.11 | H171: 0.009 | I171: 0 | J171: 0.6 | K171: 4109.1429 | L171: 5406
A172: NES | B172: NES | C172: 7NW200089/7NW200089 | D172: Fishburn | E172: 22/12/2024*/31/03/2025 | F172: 0 | G172: 3.062 | H172: 0.08 | I172: 0 | J172: 0.3 | K172: 2941.5714 | L172: 3502
A173: NES | B173: NES | C173: 7NW200461 | D173: Kelloe | E173: 45648 | F173: 0 | G173: 5.547 | H173: 0.049 | I173: 0 | J173: 0.3 | K173: 2337.5714 | L173: 2228
A174: NES | B174: NES | C174: 7NW200463 | D174: Kirklevington | E174: 45648 | F174: 1 | G174: 5.806 | H174: 0 | I174: 0 | J174: 0.3 | K174: 1248.5714 | L174: 1663
A175: NES | B175: NES | C175: 7NW200464/7NW200464a | D175: Knitsley | E175: 22/12/2024*/31/03/2025 | F175: 0 | G175: 3.714 | H175: 0 | I175: 0 | J175: 0.3 | K175: 5256.1429 | L175: 6846
A176: NES | B176: NES | C176: 7NW200465 | D176: Lanchester | E176: 45648 | F176: 0 | G176: 5.317 | H176: 0 | I176: 0 | J176: 0.7 | K176: 4427.1429 | L176: 5257.35
A177: NES | B177: NES | C177: 7NW200471 | D177: Longhorsley | E177: 45747 | F177: 0 | G177: 1.366 | H177: 0 | I177: 0 | J177: 2.26 | K177: 693.28571 | L177: 865
A178: NES | B178: NES | C178: 7NW200472 | D178: Longnewton to Stressholme via Goose Beck (Teesside Airport) | E178: 45747 | F178: 1 | G178: 0 | H178: 0 | I178: 0 | J178: 0.3 | K178: 720.57143 | L178: 629
A179: NES | B179: NES | C179: 7NW200494/7NW200494a | D179: New Moors | E179: 22/12/2024/31/03/2025 | F179: 0 | G179: 3.311 | H179: 0 | I179: 0 | J179: 0.4 | K179: 817.28571 | L179: 844
A180: NES | B180: NES | C180: 7NW200507 | D180: Pittington transfer to Sherburn | E180: 45648 | F180: 1 | G180: 0 | H180: 0 | I180: 0 | J180: 0.6 | K180: 1435.4286 | L180: 1752
A181: NES | B181: NES | C181: 7NW200508 | D181: Pity Me - Durham Transfer to Wear | E181: 45747 | F181: 1 | G181: 9.618 | H181: 0 | I181: 0 | J181: 0.3 | K181: 1429.8571 | L181: 1313
A182: NES | B182: NES | C182: 7NW200509 | D182: Plawsworth - Durham Transfer to Wear | E182: 45747 | F182: 1 | G182: 0 | H182: 0 | I182: 0 | J182: 1 | K182: 1403 | L182: 1437
A183: NES | B183: NES | C183: 7NW200521 | D183: Sacriston | E183: 45648 | F183: 0 | G183: 3.192 | H183: 0 | I183: 0 | J183: 0.25 | K183: 5086.8571 | L183: 6488
A184: NES | B184: NES | C184: 7NW200524/7NW200524a | D184: Sedgefield | E184: 22/12/2024/31/03/2025 | F184: 0 | G184: 3.257 | H184: 0.08 | I184: 0 | J184: 0.25 | K184: 4673.1429 | L184: 5414
A185: NES | B185: NES | C185: 7NW200527/7NW200527 | D185: Sherburn (including transfer from Pittington) | E185: 22/12/2024/31/03/2025 | F185: 0 | G185: 12.59 | H185: 0.131 | I185: 0 | J185: 0.5 | K185: 4671.5714 | L185: 5706
A186: NES | B186: NES | C186: 7NW200531 | D186: Slaley | E186: 45648 | F186: 0 | G186: 3.624 | H186: 0 | I186: 0 | J186: 2 | K186: 306.28571 | L186: 291
A187: NES | B187: NES | C187: 7NW200556 | D187: WINEP Teesside Transfer to Stressholme (Teeside airport) | E187: 45819 | F187: 1 | G187: 11.233 | H187: 0 | I187: 0 | J187: 0.4 | K187: 711.57143 | L187: 1652
A188: NES | B188: NES | C188: 7NW200568/7NW200568 | D188: Trimdon | E188: 46477 | F188: 0 | G188: 0.139 | H188: 0.113 | I188: 0 | J188: 0.3 | K188: 4042.2857 | L188: 0
A189: NES | B189: NES | C189: 7NW200583 | D189: Witton Gilbert | E189: 46477 | F189: 0 | G189: 2.439 | H189: 0 | I189: 0 | J189: 0.7 | K189: 6189 | L189: 0
A190: SRN | B190: SRN | C190: 7SO000013 /7SO200050 /7SO100170 | D190: AMP6-3 WTW Mayfield NEP5 | E190: 31/12/2021 | F190: 0 | G190: 1.393 | H190: 0.052 | I190: 0 | J190: 1 | K190: 1830 | L190: 2123
A191: SRN | B191: SRN | C191: 7SO100169 | D191: AMP6-3 WTW Hawkhurst South NEP5 | E191: 31/12/2021 | F191: 0 | G191: 8.555 | H191: 0.146 | I191: 0 | J191: 0.3 | K191: 2081 | L191: 2393
A192: SRN | B192: SRN | C192: 7SO100171 | D192: AMP6-3 WTW Benenden NEP5 | E192: 31/12/2021 | F192: 0 | G192: 7.055 | H192: 0.143 | I192: 0 | J192: 0.3 | K192: 716.42857 | L192: 1266
...
