Workbook
Name \\k: #REF!
Name \0: #REF!
Name \A: #REF!
Name \A2: #REF!
Name \AA: #REF!
Name \AB: #REF!
Name \AD: #REF!
Name \AE: #REF!
Name \B: #REF!
Name \C: #REF!
Name \D: #REF!
Name \E: #REF!
Name \F: #REF!
Name \G: #REF!
Name \H: #REF!
Name \I: #REF!
Name \J: #REF!
Name \K: #REF!
Name \L: #REF!
Name \M: #REF!
Name \N: #REF!
Name \O: #REF!
Name \P: #REF!
Name \PAGE: #REF!
Name \PR: #REF!
Name \Q: #REF!
Name \R: #REF!
Name \S: #REF!
Name \T: #REF!
Name \U: #REF!
Name \V: #REF!
Name \W: #REF!
Name \X: #REF!
Name \XA: #REF!
Name \XX: #REF!
Name \XXX: #REF!
Name \XXXX: #REF!
Name \Y: #REF!
Name \YY: #REF!
Name \YYY: #REF!
Name \Z: #REF!
Name \ZZ: #REF!
Name ________BYr3: #REF!
Name ________dec97: #REF!
Name ________jun97: #REF!
Name ________jun98: #REF!
Name ________mar97: #REF!
Name ________mar98: #REF!
Name ________MIT1: #REF!
Name ________MIT2: #REF!
Name ________rec1: #REF!
Name ________rec2: #REF!
Name ________sep97: #REF!
Name ________SYr3: #REF!
Name ________UYr3: #REF!
Name _______8_4_Step2: #REF!
Name _______apr05: #REF!
Name _______Apr06: #REF!
Name _______aug04: #REF!
Name _______Aug05: #REF!

Sheet Cover
A1: P enhancement historical dataset
A2: Version 1.0
B5: This file contains a derivation of the historical dataset we use to model phosphorus removal enhancement costs. It uses historical cost and cost drivers data at scheme level in APR table 7F.

Sheet 7Fv9.0
A1: Company | B1: Year | C1: Eaid | D1: STW | E1: Completion Date (DD/MM/YY) | F1: Capex | G1: Opex | H1: PE served | I1: Scheme design population equivalent | J1: Historical permit level for phosphorus (mg/L) | K1: Enhanced permit level for phosphorus (mg/L) | L1: Permit change only (Y/N) | M1: Catchment-based solution (Y/N) | N1: Length of transfer pipeline (km) | O1: Annual Average Daily Transferred flow (cu.m/d) | P1: Transfer (Y/N)
A2: ANH | B2: 2019-20 | C2: 7AW200053 | D2: Ashbrook STW | E2: 45657 | F2: 0 | G2: 0 | H2: 3676 | I2: 3925.2518 | J2: 1 | K2: 0.7 | L2: N | M2: N | N2: 0 | O2: 0 | P2: N
A3: ANH | B3: 2020-21 | C3: 7AW200053 | D3: Ashbrook STW | E3: 45657 | F3: 0 | G3: 0 | H3: 3676 | I3: 3925.2518 | J3: 1 | K3: 0.7 | L3: N | M3: N | N3: 0 | O3: 0 | P3: N
A4: ANH | B4: 2021-22 | C4: 7AW200053 | D4: Ashbrook STW | E4: 45657 | F4: 0 | G4: 0 | H4: 3778 | I4: 3925.2518 | J4: 1 | K4: 0.7 | L4: N | M4: N | N4: 0 | O4: 0 | P4: N
A5: ANH | B5: 2022-23 | C5: 7AW200053 | D5: Ashbrook STW | E5: 45657 | F5: 0 | G5: 0 | H5: 3815.7987 | I5: 3925.2518 | J5: 1 | K5: 0.7 | L5: N | M5: N | N5: 0 | O5: 0 | P5: N
A6: ANH | B6: 2023-24 | C6: 7AW200053 | D6: Ashbrook STW | E6: 45657 | F6: 0 | G6: 0 | H6: 3855.5725 | I6: 3925.2518 | J6: 1 | K6: 0.7 | L6: N | M6: N | N6: 0 | O6: 0 | P6: N
A7: ANH | B7: 2024-25 | C7: 7AW200053 | D7: Ashbrook STW | E7: 45657 | F7: 0 | G7: 0.012793949 | H7: 3884.1465 | I7: 3925.2518 | J7: 1 | K7: 0.7 | L7: N | M7: N | N7: 0 | O7: 0 | P7: N
A8: ANH | B8: 2025-26 | C8: 7AW200053 | D8: Ashbrook STW | E8: 45657 | F8: 0 | G8: 0.027836563 | H8: 3870.5695 | I8: 3925.2518 | J8: 1 | K8: 0.7 | L8: N | M8: N | N8: 0 | O8: 0 | P8: N
A9: ANH | B9: 2019-20 | C9: 7AW200054 | D9: Ashton STW | E9: 45648 | F9: 0.0010223427 | G9: 0 | H9: 5273 | I9: 5481 | J9: 0 | K9: 0.3 | L9: N | M9: N | N9: 0 | O9: 0 | P9: N
A10: ANH | B10: 2020-21 | C10: 7AW200054 | D10: Ashton STW | E10: 45648 | F10: 0.00091260398 | G10: 0 | H10: 5508 | I10: 5481 | J10: 0 | K10: 0.3 | L10: N | M10: N | N10: 0 | O10: 0 | P10: N
A11: ANH | B11: 2021-22 | C11: 7AW200054 | D11: Ashton STW | E11: 45648 | F11: 1.615883 | G11: 0 | H11: 5428 | I11: 5481 | J11: 0 | K11: 0.3 | L11: N | M11: N | N11: 0 | O11: 0 | P11: N
A12: ANH | B12: 2022-23 | C12: 7AW200054 | D12: Ashton STW | E12: 45648 | F12: 0.67429722 | G12: 0.022 | H12: 5229.8646 | I12: 5481 | J12: 0 | K12: 0.3 | L12: N | M12: N | N12: 0 | O12: 0 | P12: N
A13: ANH | B13: 2023-24 | C13: 7AW200054 | D13: Ashton STW | E13: 45648 | F13: 0.1416124 | G13: 0.047219092 | H13: 5331.0974 | I13: 5481 | J13: 0 | K13: 0.3 | L13: N | M13: N | N13: 0 | O13: 0 | P13: N
... A1156: NES | B1156: 2025-26 | C1156: 7NW200065 | D1156: Carlton Redmarshall | E1156: 45648 | F1156: 0 | G1156: 0.098 | H1156: 2776 | I1156: 2921 | J1156: 0 | K1156: 0.4 | L1156: N | M1156: N | N1156: 0 | O1156: 0 | P1156: N
A1157: NES | B1157: 2019-20 | C1157: 7NW200067/7NW200067a | D1157: Chilton Lane | E1157: 22/12/2024/31/03/2025 | F1157: 0 | G1157: 0 | H1157: 3202 | I1157: 3354 | J1157: 0 | K1157: 0.25 | L1157: N | M1157: Y | N1157: 0 | O1157: 0 | P1157: N
A1158: NES | B1158: 2020-21 | C1158: 7NW200067/7NW200067a | D1158: Chilton Lane | E1158: 22/12/2024/31/03/2025 | F1158: 0 | G1158: 0 | H1158: 3168 | I1158: 3354 | J1158: 0 | K1158: 0.25 | L1158: N | M1158: Y | N1158: 0 | O1158: 0 | P1158: N
A1159: NES | B1159: 2021-22 | C1159: 7NW200067/7NW200067a | D1159: Chilton Lane | E1159: 22/12/2024/31/03/2025 | F1159: 0 | G1159: 0 | H1159: 2629 | I1159: 3354 | J1159: 0 | K1159: 0.25 | L1159: N | M1159: Y | N1159: 0 | O1159: 0 | P1159: N
A1160: NES | B1160: 2022-23 | C1160: 7NW200067/7NW200067a | D1160: Chilton Lane | E1160: 22/12/2024/31/03/2025 | F1160: 0.137 | G1160: 0 | H1160: 2327 | I1160: 3354 | J1160: 0 | K1160: 0.25 | L1160: N | M1160: Y | N1160: 0 | O1160: 0 | P1160: N
A1161: NES | B1161: 2023-24 | C1161: 7NW200067/7NW200067a | D1161: Chilton Lane | E1161: 22/12/2024/31/03/2025 | F1161: 0.861 | G1161: 0 | H1161: 2080 | I1161: 3354 | J1161: 0 | K1161: 0.25 | L1161: N | M1161: Y | N1161: 0 | O1161: 0 | P1161: N
A1162: NES | B1162: 2024-25 | C1162: 7NW200067/7NW200067a | D1162: Chilton Lane | E1162: 22/12/2024/31/03/2025 | F1162: 1.29 | G1162: 0.069 | H1162: 1872 | I1162: 3354 | J1162: 0 | K1162: 0.25 | L1162: N | M1162: Y | N1162: 0 | O1162: 0 | P1162: N
A1163: NES | B1163: 2025-26 | C1163: 7NW200067/7NW200067a | D1163: Chilton Lane | E1163: 22/12/2024/31/03/2025 | F1163: 0.025 | G1163: 0.213 | H1163: 3242 | I1163: 3354 | J1163: 0 | K1163: 0.25 | L1163: N | M1163: Y | N1163: 0 | O1163: 0 | P1163: N
A1164: NES | B1164: 2019-20 | C1164: 7NW200071 | D1164: Crookhall | E1164: 45648 | F1164: 0 | G1164: 0 | H1164: 4869 | I1164: 4625 | J1164: 0 | K1164: 0.9 | L1164: N | M1164: Y | N1164: 0 | O1164: 0 | P1164: N
A1165: NES | B1165: 2020-21 | C1165: 7NW200071 | D1165: Crookhall | E1165: 45648 | F1165: 0.133 | G1165: 0 | H1165: 4814 | I1165: 4625 | J1165: 0 | K1165: 0.9 | L1165: N | M1165: Y | N1165: 0 | O1165: 0 | P1165: N
A1166: NES | B1166: 2021-22 | C1166: 7NW200071 | D1166: Crookhall | E1166: 45648 | F1166: 0.458 | G1166: 0 | H1166: 6835 | I1166: 4625 | J1166: 0 | K1166: 0.9 | L1166: N | M1166: Y | N1166: 0 | O1166: 0 | P1166: N
A1167: NES | B1167: 2022-23 | C1167: 7NW200071 | D1167: Crookhall | E1167: 45648 | F1167: 1.1 | G1167: 0 | H1167: 4450 | I1167: 4625 | J1167: 0 | K1167: 0.9 | L1167: N | M1167: Y | N1167: 0 | O1167: 0 | P1167: N
A1168: NES | B1168: 2023-24 | C1168: 7NW200071 | D1168: Crookhall | E1168: 45648 | F1168: 0.016 | G1168: 0 | H1168: 5400 | I1168: 4625 | J1168: 0 | K1168: 0.9 | L1168: N | M1168: Y | N1168: 0 | O1168: 0 | P1168: N
A1169: NES | B1169: 2024-25 | C1169: 7NW200071 | D1169: Crookhall | E1169: 45648 | F1169: 0 | G1169: 0.009 | H1169: 3964 | I1169: 4625 | J1169: 0 | K1169: 0.9 | L1169: N | M1169: Y | N1169: 0 | O1169: 0 | P1169: N
A1170: NES | B1170: 2025-26 | C1170: 7NW200071 | D1170: Crookhall | E1170: 45648 | F1170: 0 | G1170: 0.009 | H1170: 4978 | I1170: 4625 | J1170: 0 | K1170: 0.9 | L1170: N | M1170: Y | N1170: 0 | O1170: 0 | P1170: N
A1171: NES | B1171: 2019-20 | C1171: 7NW200078 | D1171: Dipton | E1171: 45648 | F1171: 0 | G1171: 0 | H1171: 3081 | I1171: 2931 | J1171: 0 | K1171: 1 | L1171: N | M1171: N | N1171: 0 | O1171: 0 | P1171: N
A1172: NES | B1172: 2020-21 | C1172: 7NW200078 | D1172: Dipton | E1172: 45648 | F1172: 0.258 | G1172: 0 | H1172: 3039 | I1172: 2931 | J1172: 0 | K1172: 1 | L1172: N | M1172: N | N1172: 0 | O1172: 0 | P1172: N
A1173: NES | B1173: 2021-22 | C1173: 7NW200078 | D1173: Dipton | E1173: 45648 | F1173: 0.17 | G1173: 0 | H1173: 2373 | I1173: 2931 | J1173: 0 | K1173: 1 | L1173: N | M1173: N | N1173: 0 | O1173: 0 | P1173: N
A1174: NES | B1174: 2022-23 | C1174: 7NW200078 | D1174: Dipton | E1174: 45648 | F1174: 0.9 | G1174: 0 | H1174: 1711 | I1174: 2931 | J1174: 0 | K1174: 1 | L1174: N | M1174: N | N1174: 0 | O1174: 0 | P1174: N
A1175: NES | B1175: 2023-24 | C1175: 7NW200078 | D1175: Dipton | E1175: 45648 | F1175: 4.103 | G1175: 0 | H1175: 1259 | I1175: 2931 | J1175: 0 | K1175: 1 | L1175: N | M1175: N | N1175: 0 | O1175: 0 | P1175: N
... A1177: NES | B1177: 2025-26 | C1177: 7NW200078 | D1177: Dipton | E1177: 45648 | F1177: 0.003 | G1177: 0.107 | H1177: 3167 | I1177: 2931 | J1177: 0 | K1177: 1 | L1177: N | M1177: N | N1177: 0 | O1177: 0 | P1177: N
A1178: NES | B1178: 2019-20 | C1178: 7NW200086/7NW200086a | D1178: Esh Winning | E1178: 22/12/2024*/31/03/2025 | F1178: 0 | G1178: 0 | H1178: 4696 | I1178: 5406 | J1178: 0 | K1178: 0.6 | L1178: N | M1178: Y | N1178: 0 | O1178: 0 | P1178: N
A1179: NES | B1179: 2020-21 | C1179: 7NW200086/7NW200086a | D1179: Esh Winning | E1179: 22/12/2024*/31/03/2025 | F1179: 0 | G1179: 0 | H1179: 4631 | I1179: 5406 | J1179: 0 | K1179: 0.6 | L1179: N | M1179: Y | N1179: 0 | O1179: 0 | P1179: N
A1180: NES | B1180: 2021-22 | C1180: 7NW200086/7NW200086a | D1180: Esh Winning | E1180: 22/12/2024*/31/03/2025 | F1180: 0 | G1180: 0 | H1180: 3759 | I1180: 5406 | J1180: 0 | K1180: 0.6 | L1180: N | M1180: Y | N1180: 0 | O1180: 0 | P1180: N
A1181: NES | B1181: 2022-23 | C1181: 7NW200086/7NW200086a | D1181: Esh Winning | E1181: 22/12/2024*/31/03/2025 | F1181: 0 | G1181: 0 | H1181: 4194 | I1181: 5406 | J1181: 0 | K1181: 0.6 | L1181: N | M1181: Y | N1181: 0 | O1181: 0 | P1181: N
A1182: NES | B1182: 2023-24 | C1182: 7NW200086/7NW200086a | D1182: Esh Winning | E1182: 22/12/2024*/31/03/2025 | F1182: 0.321 | G1182: 0 | H1182: 3319 | I1182: 5406 | J1182: 0 | K1182: 0.6 | L1182: N | M1182: Y | N1182: 0 | O1182: 0 | P1182: N
A1183: NES | B1183: 2024-25 | C1183: 7NW200086/7NW200086a | D1183: Esh Winning | E1183: 22/12/2024*/31/03/2025 | F1183: 1.482 | G1183: 0.009 | H1183: 3336 | I1183: 5406 | J1183: 0 | K1183: 0.6 | L1183: N | M1183: Y | N1183: 0 | O1183: 0 | P1183: N
A1184: NES | B1184: 2025-26 | C1184: 7NW200086/7NW200086a | D1184: Esh Winning | E1184: 22/12/2024*/31/03/2025 | F1184: 0.307 | G1184: 0.096 | H1184: 4829 | I1184: 5406 | J1184: 0 | K1184: 0.6 | L1184: N | M1184: Y | N1184: 0 | O1184: 0 | P1184: N
A1185: NES | B1185: 2019-20 | C1185: 7NW200089/7NW200089 | D1185: Fishburn | E1185: 22/12/2024*/31/03/2025 | F1185: 0 | G1185: 0 | H1185: 2611 | I1185: 3502 | J1185: 0 | K1185: 0.3 | L1185: N | M1185: Y | N1185: 0 | O1185: 0 | P1185: N
A1186: NES | B1186: 2020-21 | C1186: 7NW200089/7NW200089 | D1186: Fishburn | E1186: 22/12/2024*/31/03/2025 | F1186: 0 | G1186: 0 | H1186: 2575 | I1186: 3502 | J1186: 0 | K1186: 0.3 | L1186: N | M1186: Y | N1186: 0 | O1186: 0 | P1186: N
A1187: NES | B1187: 2021-22 | C1187: 7NW200089/7NW200089 | D1187: Fishburn | E1187: 22/12/2024*/31/03/2025 | F1187: 0.025 | G1187: 0 | H1187: 3585 | I1187: 3502 | J1187: 0 | K1187: 0.3 | L1187: N | M1187: Y | N1187: 0 | O1187: 0 | P1187: N
A1188: NES | B1188: 2022-23 | C1188: 7NW200089/7NW200089 | D1188: Fishburn | E1188: 22/12/2024*/31/03/2025 | F1188: 0.179 | G1188: 0 | H1188: 2815 | I1188: 3502 | J1188: 0 | K1188: 0.3 | L1188: N | M1188: Y | N1188: 0 | O1188: 0 | P1188: N
A1189: NES | B1189: 2023-24 | C1189: 7NW200089/7NW200089 | D1189: Fishburn | E1189: 22/12/2024*/31/03/2025 | F1189: 1.13 | G1189: 0 | H1189: 3135 | I1189: 3502 | J1189: 0 | K1189: 0.3 | L1189: N | M1189: Y | N1189: 0 | O1189: 0 | P1189: N
... A1191: NES | B1191: 2025-26 | C1191: 7NW200089/7NW200089 | D1191: Fishburn | E1191: 22/12/2024*/31/03/2025 | F1191: 0.066 | G1191: 0.13 | H1191: 2745 | I1191: 3502 | J1191: 0 | K1191: 0.3 | L1191: N | M1191: Y | N1191: 0 | O1191: 0 | P1191: N
A1192: NES | B1192: 2019-20 | C1192: 7NW200461 | D1192: Kelloe | E1192: 45648 | F1192: 0 | G1192: 0 | H1192: 2080 | I1192: 2228 | J1192: 0 | K1192: 0.3 | L1192: N | M1192: N | N1192: 0 | O1192: 0 | P1192: N
A1193: NES | B1193: 2020-21 | C1193: 7NW200461 | D1193: Kelloe | E1193: 45648 | F1193: 0.426 | G1193: 0 | H1193: 2051 | I1193: 2228 | J1193: 0 | K1193: 0.3 | L1193: N | M1193: N | N1193: 0 | O1193: 0 | P1193: N
A1194: NES | B1194: 2021-22 | C1194: 7NW200461 | D1194: Kelloe | E1194: 45648 | F1194: 0.261 | G1194: 0 | H1194: 2479 | I1194: 2228 | J1194: 0 | K1194: 0.3 | L1194: N | M1194: N | N1194: 0 | O1194: 0 | P1194: N
A1195: NES | B1195: 2022-23 | C1195: 7NW200461 | D1195: Kelloe | E1195: 45648 | F1195: 1.272 | G1195: 0 | H1195: 2472 | I1195: 2228 | J1195: 0 | K1195: 0.3 | L1195: N | M1195: N | N1195: 0 | O1195: 0 | P1195: N
A1196: NES | B1196: 2023-24 | C1196: 7NW200461 | D1196: Kelloe | E1196: 45648 | F1196: 2.985 | G1196: 0 | H1196: 3599 | I1196: 2228 | J1196: 0 | K1196: 0.3 | L1196: N | M1196: N | N1196: 0 | O1196: 0 | P1196: N
A1197: NES | B1197: 2024-25 | C1197: 7NW200461 | D1197: Kelloe | E1197: 45648 | F1197: 0.603 | G1197: 0.049 | H1197: 1545 | I1197: 2228 | J1197: 0 | K1197: 0.3 | L1197: N | M1197: N | N1197: 0 | O1197: 0 | P1197: N
A1198: NES | B1198: 2025-26 | C1198: 7NW200461 | D1198: Kelloe | E1198: 45648 | F1198: 0 | G1198: 0.073 | H1198: 2137 | I1198: 2228 | J1198: 0 | K1198: 0.3 | L1198: N | M1198: N | N1198: 0 | O1198: 0 | P1198: N
A1199: NES | B1199: 2019-20 | C1199: 7NW200463 | D1199: Kirklevington | E1199: 45648 | F1199: 0 | G1199: 0 | H1199: 1209 | I1199: 1663 | J1199: 0 | K1199: 0.3 | L1199: N | M1199: N | N1199: 2.25 | O1199: 2179.16 | P1199: Y
A1200: NES | B1200: 2020-21 | C1200: 7NW200463 | D1200: Kirklevington | E1200: 45648 | F1200: 0 | G1200: 0 | H1200: 1192 | I1200: 1663 | J1200: 0 | K1200: 0.3 | L1200: N | M1200: N | N1200: 2.25 | O1200: 2179.16 | P1200: Y
A1201: NES | B1201: 2021-22 | C1201: 7NW200463 | D1201: Kirklevington | E1201: 45648 | F1201: 0 | G1201: 0 | H1201: 1246 | I1201: 1663 | J1201: 0 | K1201: 0.3 | L1201: N | M1201: N | N1201: 2.25 | O1201: 2179.16 | P1201: Y
A1202: NES | B1202: 2022-23 | C1202: 7NW200463 | D1202: Kirklevington | E1202: 45648 | F1202: 0.186 | G1202: 0 | H1202: 1262 | I1202: 1663 | J1202: 0 | K1202: 0.3 | L1202: N | M1202: N | N1202: 2.25 | O1202: 2179.16 | P1202: Y
A1203: NES | B1203: 2023-24 | C1203: 7NW200463 | D1203: Kirklevington | E1203: 45648 | F1203: 0.584 | G1203: 0 | H1203: 1277 | I1203: 1663 | J1203: 0 | K1203: 0.3 | L1203: N | M1203: N | N1203: 2.25 | O1203: 2179.16 | P1203: Y
... A1205: NES | B1205: 2025-26 | C1205: 7NW200463 | D1205: Kirklevington | E1205: 45648 | F1205: 0.645 | G1205: 0.074 | H1205: 1277 | I1205: 1663 | J1205: 0 | K1205: 0.3 | L1205: N | M1205: N | N1205: 2.25 | O1205: 2179.16 | P1205: Y
A1206: NES | B1206: 2019-20 | C1206: 7NW200464/7NW200464a | D1206: Knitsley | E1206: 22/12/2024*/31/03/2025 | F1206: 0 | G1206: 0 | H1206: 6003 | I1206: 6846 | J1206: 0 | K1206: 0.3 | L1206: N | M1206: Y | N1206: 0 | O1206: 0 | P1206: N
A1207: NES | B1207: 2020-21 | C1207: 7NW200464/7NW200464a | D1207: Knitsley | E1207: 22/12/2024*/31/03/2025 | F1207: 0 | G1207: 0 | H1207: 5915 | I1207: 6846 | J1207: 0 | K1207: 0.3 | L1207: N | M1207: Y | N1207: 0 | O1207: 0 | P1207: N
A1208: NES | B1208: 2021-22 | C1208: 7NW200464/7NW200464a | D1208: Knitsley | E1208: 22/12/2024*/31/03/2025 | F1208: 0 | G1208: 0 | H1208: 5251 | I1208: 6846 | J1208: 0 | K1208: 0.3 | L1208: N | M1208: Y | N1208: 0 | O1208: 0 | P1208: N
A1209: NES | B1209: 2022-23 | C1209: 7NW200464/7NW200464a | D1209: Knitsley | E1209: 22/12/2024*/31/03/2025 | F1209: 0.151 | G1209: 0 | H1209: 4162 | I1209: 6846 | J1209: 0 | K1209: 0.3 | L1209: N | M1209: Y | N1209: 0 | O1209: 0 | P1209: N
A1210: NES | B1210: 2023-24 | C1210: 7NW200464/7NW200464a | D1210: Knitsley | E1210: 22/12/2024*/31/03/2025 | F1210: 0.448 | G1210: 0 | H1210: 4704 | I1210: 6846 | J1210: 0 | K1210: 0.3 | L1210: N | M1210: Y | N1210: 0 | O1210: 0 | P1210: N
A1211: NES | B1211: 2024-25 | C1211: 7NW200464/7NW200464a | D1211: Knitsley | E1211: 22/12/2024*/31/03/2025 | F1211: 2.103 | G1211: 0 | H1211: 4552 | I1211: 6846 | J1211: 0 | K1211: 0.3 | L1211: N | M1211: Y | N1211: 0 | O1211: 0 | P1211: N
A1212: NES | B1212: 2025-26 | C1212: 7NW200464/7NW200464a | D1212: Knitsley | E1212: 22/12/2024*/31/03/2025 | F1212: 1.012 | G1212: 0.231 | H1212: 6206 | I1212: 6846 | J1212: 0 | K1212: 0.3 | L1212: N | M1212: Y | N1212: 0 | O1212: 0 | P1212: N
A1213: NES | B1213: 2019-20 | C1213: 7NW200465 | D1213: Lanchester | E1213: 45648 | F1213: 0 | G1213: 0 | H1213: 5349 | I1213: 5257.35 | J1213: 0 | K1213: 0.7 | L1213: N | M1213: Y | N1213: 0 | O1213: 0 | P1213: N
A1214: NES | B1214: 2020-21 | C1214: 7NW200465 | D1214: Lanchester | E1214: 45648 | F1214: 0 | G1214: 0 | H1214: 5272 | I1214: 5257.35 | J1214: 0 | K1214: 0.7 | L1214: N | M1214: Y | N1214: 0 | O1214: 0 | P1214: N
A1215: NES | B1215: 2021-22 | C1215: 7NW200465 | D1215: Lanchester | E1215: 45648 | F1215: 0.012 | G1215: 0 | H1215: 4106 | I1215: 5257.35 | J1215: 0 | K1215: 0.7 | L1215: N | M1215: Y | N1215: 0 | O1215: 0 | P1215: N
A1216: NES | B1216: 2022-23 | C1216: 7NW200465 | D1216: Lanchester | E1216: 45648 | F1216: 0.216 | G1216: 0 | H1216: 3435 | I1216: 5257.35 | J1216: 0 | K1216: 0.7 | L1216: N | M1216: Y | N1216: 0 | O1216: 0 | P1216: N
A1217: NES | B1217: 2023-24 | C1217: 7NW200465 | D1217: Lanchester | E1217: 45648 | F1217: 1.484 | G1217: 0 | H1217: 3819 | I1217: 5257.35 | J1217: 0 | K1217: 0.7 | L1217: N | M1217: Y | N1217: 0 | O1217: 0 | P1217: N
A1218: NES | B1218: 2024-25 | C1218: 7NW200465 | D1218: Lanchester | E1218: 45648 | F1218: 3.372 | G1218: 0 | H1218: 3500 | I1218: 5257.35 | J1218: 0 | K1218: 0.7 | L1218: N | M1218: Y | N1218: 0 | O1218: 0 | P1218: N
A1219: NES | B1219: 2025-26 | C1219: 7NW200465 | D1219: Lanchester | E1219: 45648 | F1219: 0.233 | G1219: 0.229 | H1219: 5509 | I1219: 5257.35 | J1219: 0 | K1219: 0.7 | L1219: N | M1219: Y | N1219: 0 | O1219: 0 | P1219: N
A1220: NES | B1220: 2019-20 | C1220: 7NW200471 | D1220: Longhorsley | E1220: 45747 | F1220: 0 | G1220: 0 | H1220: 666 | I1220: 865 | J1220: 0 | K1220: 2.26 | L1220: N | M1220: N | N1220: 0 | O1220: 0 | P1220: N
A1221: NES | B1221: 2020-21 | C1221: 7NW200471 | D1221: Longhorsley | E1221: 45747 | F1221: 0 | G1221: 0 | H1221: 657 | I1221: 865 | J1221: 0 | K1221: 2.26 | L1221: N | M1221: N | N1221: 0 | O1221: 0 | P1221: N
A1222: NES | B1222: 2021-22 | C1222: 7NW200471 | D1222: Longhorsley | E1222: 45747 | F1222: 0.078 | G1222: 0 | H1222: 686 | I1222: 865 | J1222: 0 | K1222: 2.26 | L1222: N | M1222: N | N1222: 0 | O1222: 0 | P1222: N
A1223: NES | B1223: 2022-23 | C1223: 7NW200471 | D1223: Longhorsley | E1223: 45747 | F1223: 0.6 | G1223: 0 | H1223: 690 | I1223: 865 | J1223: 0 | K1223: 2.26 | L1223: N | M1223: N | N1223: 0 | O1223: 0 | P1223: N
A1224: NES | B1224: 2023-24 | C1224: 7NW200471 | D1224: Longhorsley | E1224: 45747 | F1224: 0.219 | G1224: 0 | H1224: 699 | I1224: 865 | J1224: 0 | K1224: 2.26 | L1224: N | M1224: N | N1224: 0 | O1224: 0 | P1224: N
... A1233: NES | B1233: 2025-26 | C1233: 7NW200472 | D1233: Longnewton to Stressholme via Goose Beck (Teesside Airport) | E1233: 45747 | F1233: 0 | G1233: 0 | H1233: 726 | I1233: 629 | J1233: 0 | K1233: 0.3 | L1233: N | M1233: N | N1233: 3.8 | O1233: 1019.65 | P1233: Y
A1234: NES | B1234: 2019-20 | C1234: 7NW200494/7NW200494a | D1234: New Moors | E1234: 22/12/2024/31/03/2025 | F1234: 0 | G1234: 0 | H1234: 844 | I1234: 844 | J1234: 0 | K1234: 0.4 | L1234: N | M1234: N | N1234: 0 | O1234: 0 | P1234: N
A1235: NES | B1235: 2020-21 | C1235: 7NW200494/7NW200494a | D1235: New Moors | E1235: 22/12/2024/31/03/2025 | F1235: 0 | G1235: 0 | H1235: 721 | I1235: 844 | J1235: 0 | K1235: 0.4 | L1235: N | M1235: N | N1235: 0 | O1235: 0 | P1235: N
A1236: NES | B1236: 2021-22 | C1236: 7NW200494/7NW200494a | D1236: New Moors | E1236: 22/12/2024/31/03/2025 | F1236: 0 | G1236: 0 | H1236: 747 | I1236: 844 | J1236: 0 | K1236: 0.4 | L1236: N | M1236: N | N1236: 0 | O1236: 0 | P1236: N
A1237: NES | B1237: 2022-23 | C1237: 7NW200494/7NW200494a | D1237: New Moors | E1237: 22/12/2024/31/03/2025 | F1237: 0.122 | G1237: 0 | H1237: 802 | I1237: 844 | J1237: 0 | K1237: 0.4 | L1237: N | M1237: N | N1237: 0 | O1237: 0 | P1237: N
A1238: NES | B1238: 2023-24 | C1238: 7NW200494/7NW200494a | D1238: New Moors | E1238: 22/12/2024/31/03/2025 | F1238: 0.6 | G1238: 0 | H1238: 787 | I1238: 844 | J1238: 0 | K1238: 0.4 | L1238: N | M1238: N | N1238: 0 | O1238: 0 | P1238: N
A1239: NES | B1239: 2024-25 | C1239: 7NW200494/7NW200494a | D1239: New Moors | E1239: 22/12/2024/31/03/2025 | F1239: 2.291 | G1239: 0 | H1239: 1023 | I1239: 844 | J1239: 0 | K1239: 0.4 | L1239: N | M1239: N | N1239: 0 | O1239: 0 | P1239: N
A1240: NES | B1240: 2025-26 | C1240: 7NW200494/7NW200494a | D1240: New Moors | E1240: 22/12/2024/31/03/2025 | F1240: 0.298 | G1240: 0.262 | H1240: 797 | I1240: 844 | J1240: 0 | K1240: 0.4 | L1240: N | M1240: N | N1240: 0 | O1240: 0 | P1240: N
A1241: NES | B1241: 2019-20 | C1241: 7NW200507 | D1241: Pittington transfer to Sherburn | E1241: 45648 | F1241: 0 | G1241: 0 | H1241: 1394 | I1241: 1752 | J1241: 0 | K1241: 0.6 | L1241: N | M1241: N | N1241: 3.438 | O1241: 1969.92 | P1241: Y
A1242: NES | B1242: 2020-21 | C1242: 7NW200507 | D1242: Pittington transfer to Sherburn | E1242: 45648 | F1242: 0 | G1242: 0 | H1242: 1375 | I1242: 1752 | J1242: 0 | K1242: 0.6 | L1242: N | M1242: N | N1242: 3.438 | O1242: 1969.92 | P1242: Y
A1243: NES | B1243: 2021-22 | C1243: 7NW200507 | D1243: Pittington transfer to Sherburn | E1243: 45648 | F1243: 0 | G1243: 0 | H1243: 1437 | I1243: 1752 | J1243: 0 | K1243: 0.6 | L1243: N | M1243: N | N1243: 3.438 | O1243: 1969.92 | P1243: Y
A1244: NES | B1244: 2022-23 | C1244: 7NW200507 | D1244: Pittington transfer to Sherburn | E1244: 45648 | F1244: 0 | G1244: 0 | H1244: 1447 | I1244: 1752 | J1244: 0 | K1244: 0.6 | L1244: N | M1244: N | N1244: 3.438 | O1244: 1969.92 | P1244: Y
A1245: NES | B1245: 2023-24 | C1245: 7NW200507 | D1245: Pittington transfer to Sherburn | E1245: 45648 | F1245: 0 | G1245: 0 | H1245: 1465 | I1245: 1752 | J1245: 0 | K1245: 0.6 | L1245: N | M1245: N | N1245: 3.438 | O1245: 1969.92 | P1245: Y
A1246: NES | B1246: 2024-25 | C1246: 7NW200507 | D1246: Pittington transfer to Sherburn | E1246: 45648 | F1246: 0 | G1246: 0 | H1246: 1465 | I1246: 1752 | J1246: 0 | K1246: 0.6 | L1246: N | M1246: N | N1246: 3.438 | O1246: 1969.92 | P1246: Y
A1247: NES | B1247: 2025-26 | C1247: 7NW200507 | D1247: Pittington transfer to Sherburn | E1247: 45648 | F1247: 0 | G1247: 0 | H1247: 1465 | I1247: 1752 | J1247: 0 | K1247: 0.6 | L1247: N | M1247: N | N1247: 3.438 | O1247: 1969.92 | P1247: Y
A1248: NES | B1248: 2019-20 | C1248: 7NW200508 | D1248: Pity Me - Durham Transfer to Wear | E1248: 45747 | F1248: 0 | G1248: 0 | H1248: 1380 | I1248: 1313 | J1248: 0 | K1248: 0.3 | L1248: N | M1248: N | N1248: 3.179 | O1248: 1274.25 | P1248: Y
A1249: NES | B1249: 2020-21 | C1249: 7NW200508 | D1249: Pity Me - Durham Transfer to Wear | E1249: 45747 | F1249: 0 | G1249: 0 | H1249: 1361 | I1249: 1313 | J1249: 0 | K1249: 0.3 | L1249: N | M1249: N | N1249: 3.179 | O1249: 1274.25 | P1249: Y
A1250: NES | B1250: 2021-22 | C1250: 7NW200508 | D1250: Pity Me - Durham Transfer to Wear | E1250: 45747 | F1250: 0.138 | G1250: 0 | H1250: 1422 | I1250: 1313 | J1250: 0 | K1250: 0.3 | L1250: N | M1250: N | N1250: 3.179 | O1250: 1274.25 | P1250: Y
A1251: NES | B1251: 2022-23 | C1251: 7NW200508 | D1251: Pity Me - Durham Transfer to Wear | E1251: 45747 | F1251: 0.504 | G1251: 0 | H1251: 1429 | I1251: 1313 | J1251: 0 | K1251: 0.3 | L1251: N | M1251: N | N1251: 3.179 | O1251: 1274.25 | P1251: Y
A1252: NES | B1252: 2023-24 | C1252: 7NW200508 | D1252: Pity Me - Durham Transfer to Wear | E1252: 45747 | F1252: 4.162 | G1252: 0 | H1252: 1447 | I1252: 1313 | J1252: 0 | K1252: 0.3 | L1252: N | M1252: N | N1252: 3.179 | O1252: 1274.25 | P1252: Y
... A1268: NES | B1268: 2025-26 | C1268: 7NW200521 | D1268: Sacriston | E1268: 45648 | F1268: 0.141 | G1268: 0.197 | H1268: 5790 | I1268: 6488 | J1268: 0 | K1268: 0.25 | L1268: N | M1268: N | N1268: 0 | O1268: 0 | P1268: N
...

Sheet Company Mapping
A1: Mapping of company names used in this dataset to names in the Stata/reconciliation datasets
A3: Old name | B3: New name
A4: ANH | B4: ANH
A5: HDD | B5: HDD
A6: NES | B6: NES
A7: SRN | B7: SRN
A8: SVE | B8: SVE
A9: SWB | B9: SWB
A10: TMS | B10: TMS
A11: UUW | B11: NWT
A12: WSH | B12: WSH
A13: WSX | B13: WSX
A14: YKY | B14: YKY

Sheet Stata dataset prep >>

Sheet Pivot 7Fv9.0
A1: Row Labels | B1: Eaid | C1: STW | D1: Completion Date (DD/MM/YY) | E1: Transfer (Y/N) | F1: Sum of Capex | G1: Sum of Opex | H1: Average of Historical permit level for phosphorus (mg/L) | I1: Average of Enhanced permit level for phosphorus (mg/L) | J1: Average of PE served | K1: Average of Scheme design population equivalent
A2: ANH | B2: 7AW200053 | C2: Ashbrook STW | D2: 45657 | E2: N | F2: 0 | G2: 0.040630512 | H2: 1 | I2: 0.7 | J2: 3793.7268 | K2: 3925.2518
A3: ANH | B3: 7AW200054 | C3: Ashton STW | D3: 45648 | E3: N | F3: 2.5393197 | G3: 0.20645839 | H3: 0 | I3: 0.3 | J3: 5364.9126 | K3: 5481
A4: ANH | B4: 7AW200057 | C4: Bassingbourn STW | D4: 45648 | E4: N | F4: 1.419845 | G4: 0.042081446 | H4: 0 | I4: 0.5 | J4: 5007.5338 | K4: 5238
A5: ANH | B5: 7AW200062 | C5: Bottisham STW | D5: 45490 | E5: N | F5: 0.60646231 | G5: 0.048339059 | H5: 0 | I5: 1 | J5: 4043.6278 | K5: 4307
A6: ANH | B6: 7AW200063 | C6: Bourn STW | D6: 45560 | E6: N | F6: 0.66590247 | G6: 0.050668968 | H6: 0 | I6: 0.5 | J6: 3630.8113 | K6: 3737
A7: ANH | B7: 7AW200066 | C7: Burwell STW | D7: 45657 | E7: N | F7: 0 | G7: 0.040630512 | H7: 1 | I7: 0.7 | J7: 6560.696 | K7: 6762.9608
A8: ANH | B8: 7AW200067 | C8: Carbrooke Church Rd STW (FTRS Scheme) | D8: 45648 | E8: N | F8: 1.2069529 | G8: 0.015261207 | H8: 0 | I8: 1 | J8: 266.39916 | K8: 265
A9: ANH | B9: 7AW200069 | C9: Chippenham STW | D9: 45559 | E9: N | F9: 1.1689661 | G9: 0.074773264 | H9: 0 | I9: 1 | J9: 474.44508 | K9: 512
A10: ANH | B10: 7AW200071 | C10: Coney Weston STW | D10: 45629 | E10: N | F10: 0.5264027 | G10: 0.11648973 | H10: 0 | I10: 0.5 | J10: 2486.8511 | K10: 2320
A11: ANH | B11: 7AW200072 | C11: Coton STW | D11: 45441 | E11: N | F11: 1.4467744 | G11: 0.028178901 | H11: 0 | I11: 0.8 | J11: 1010.2284 | K11: 1043
A12: ANH | B12: 7AW200073 | C12: Cublington (Wing) STW | D12: 45524 | E12: N | F12: 2.3836829 | G12: 0.16018715 | H12: 0 | I12: 0.4 | J12: 3266.0675 | K12: 3486
A13: ANH | B13: 7AW200074 | C13: Doddington STW | D13: 44909 | E13: N | F13: 1.8452778 | G13: 0.11095869 | H13: 0 | I13: 0.5 | J13: 4027.1823 | K13: 4402
... A166: NES | B166: 7NW200065 | C166: Carlton Redmarshall | D166: 45648 | E166: N | F166: 3.449 | G166: 0.125 | H166: 0 | I166: 0.4 | J166: 2473.5714 | K166: 2921
A167: NES | B167: 7NW200067/7NW200067a | C167: Chilton Lane | D167: 22/12/2024/31/03/2025 | E167: N | F167: 2.313 | G167: 0.282 | H167: 0 | I167: 0.25 | J167: 2645.7143 | K167: 3354
A168: NES | B168: 7NW200071 | C168: Crookhall | D168: 45648 | E168: N | F168: 1.707 | G168: 0.018 | H168: 0 | I168: 0.9 | J168: 5044.2857 | K168: 4625
A169: NES | B169: 7NW200078 | C169: Dipton | D169: 45648 | E169: N | F169: 5.593 | G169: 0.107 | H169: 0 | I169: 1 | J169: 2300.4286 | K169: 2931
A170: NES | B170: 7NW200086/7NW200086a | C170: Esh Winning | D170: 22/12/2024*/31/03/2025 | E170: N | F170: 2.11 | G170: 0.105 | H170: 0 | I170: 0.6 | J170: 4109.1429 | K170: 5406
A171: NES | B171: 7NW200089/7NW200089 | C171: Fishburn | D171: 22/12/2024*/31/03/2025 | E171: N | F171: 3.062 | G171: 0.21 | H171: 0 | I171: 0.3 | J171: 2941.5714 | K171: 3502
A172: NES | B172: 7NW200461 | C172: Kelloe | D172: 45648 | E172: N | F172: 5.547 | G172: 0.122 | H172: 0 | I172: 0.3 | J172: 2337.5714 | K172: 2228
A173: NES | B173: 7NW200463 | C173: Kirklevington | D173: 45648 | E173: Y | F173: 5.806 | G173: 0.074 | H173: 0 | I173: 0.3 | J173: 1248.5714 | K173: 1663
A174: NES | B174: 7NW200464/7NW200464a | C174: Knitsley | D174: 22/12/2024*/31/03/2025 | E174: N | F174: 3.714 | G174: 0.231 | H174: 0 | I174: 0.3 | J174: 5256.1429 | K174: 6846
A175: NES | B175: 7NW200465 | C175: Lanchester | D175: 45648 | E175: N | F175: 5.317 | G175: 0.229 | H175: 0 | I175: 0.7 | J175: 4427.1429 | K175: 5257.35
A176: NES | B176: 7NW200471 | C176: Longhorsley | D176: 45747 | E176: N | F176: 1.366 | G176: 0.052 | H176: 0 | I176: 2.26 | J176: 693.28571 | K176: 865
A177: NES | B177: 7NW200472 | C177: Longnewton to Stressholme via Goose Beck (Teesside Airport) | D177: 45747 | E177: Y | F177: 0 | G177: 0 | H177: 0 | I177: 0.3 | J177: 720.57143 | K177: 629
A178: NES | B178: 7NW200494/7NW200494a | C178: New Moors | D178: 22/12/2024/31/03/2025 | E178: N | F178: 3.311 | G178: 0.262 | H178: 0 | I178: 0.4 | J178: 817.28571 | K178: 844
A179: NES | B179: 7NW200507 | C179: Pittington transfer to Sherburn | D179: 45648 | E179: Y | F179: 0 | G179: 0 | H179: 0 | I179: 0.6 | J179: 1435.4286 | K179: 1752
A180: NES | B180: 7NW200508 | C180: Pity Me - Durham Transfer to Wear | D180: 45747 | E180: Y | F180: 9.618 | G180: 0.281 | H180: 0 | I180: 0.3 | J180: 1429.8571 | K180: 1313
A181: NES | B181: 7NW200509 | C181: Plawsworth - Durham Transfer to Wear | D181: 45747 | E181: Y | F181: 0 | G181: 0 | H181: 0 | I181: 1 | J181: 1403 | K181: 1437
A182: NES | B182: 7NW200521 | C182: Sacriston | D182: 45648 | E182: N | F182: 3.192 | G182: 0.197 | H182: 0 | I182: 0.25 | J182: 5086.8571 | K182: 6488
A183: NES | B183: 7NW200524/7NW200524a | C183: Sedgefield | D183: 22/12/2024/31/03/2025 | E183: N | F183: 3.257 | G183: 0.27 | H183: 0 | I183: 0.25 | J183: 4673.1429 | K183: 5414
A184: NES | B184: 7NW200527/7NW200527 | C184: Sherburn (including transfer from Pittington) | D184: 22/12/2024/31/03/2025 | E184: N | F184: 12.59 | G184: 0.378 | H184: 0 | I184: 0.5 | J184: 4671.5714 | K184: 5706
A185: NES | B185: 7NW200531 | C185: Slaley | D185: 45648 | E185: N | F185: 3.624 | G185: 0.071 | H185: 0 | I185: 2 | J185: 306.28571 | K185: 291
A186: NES | B186: 7NW200556 | C186: WINEP Teesside Transfer to Stressholme (Teeside airport) | D186: 45819 | E186: Y | F186: 11.233 | G186: 0.234 | H186: 0 | I186: 0.4 | J186: 711.57143 | K186: 1652
A187: NES | B187: 7NW200568/7NW200568 | C187: Trimdon | D187: 46477 | E187: N | F187: 0.139 | G187: 0.113 | H187: 0 | I187: 0.3 | J187: 4042.2857 | K187: 0
A188: NES | B188: 7NW200583 | C188: Witton Gilbert | D188: 46477 | E188: N | F188: 2.439 | G188: 0.116 | H188: 0 | I188: 0.7 | J188: 6189 | K188: 0
A189: SRN | B189: 7SO000013 /7SO200050 /7SO100170 | C189: AMP6-3 WTW Mayfield NEP5 | D189: 31/12/2021 | E189: N | F189: 1.393 | G189: 0.068 | H189: 0 | I189: 1 | J189: 1830 | K189: 2123
A190: SRN | B190: 7SO100169 | C190: AMP6-3 WTW Hawkhurst South NEP5 | D190: 31/12/2021 | E190: N | F190: 8.555 | G190: 0.191 | H190: 0 | I190: 0.3 | J190: 2081 | K190: 2393
A191: SRN | B191: 7SO100171 | C191: AMP6-3 WTW Benenden NEP5 | D191: 31/12/2021 | E191: N | F191: 7.055 | G191: 0.187 | H191: 0 | I191: 0.3 | J191: 716.42857 | K191: 1266
A192: SRN | B192: 7SO200046 | C192: Bidborough wwtw | D192: 31/03/2025 | E192: N | F192: 0 | G192: 0.034 | H192: 0 | I192: 2 | J192: 9685.8571 | K192: 10256
A193: SRN | B193: 7SO200047 | C193: Luxfords Lane East Grinstead wwtw | D193: 31/03/2025 | E193: N | F193: 2.296 | G193: 0.097 | H193: 0 | I193: 2 | J193: 10023.571 | K193: 11040
A194: SRN | B194: 7SO200048 | C194: Ham Street WWTW | D194: 31/03/2025 | E194: N | F194: 0.401 | G194: 0.056 | H194: 0 | I194: 2.6 | J194: 1626.4286 | K194: 1639
A195: SRN | B195: 7SO200049 | C195: Lydd WWTW | D195: 31/03/2025 | E195: N | F195: 1.408 | G195: 0.06 | H195: 0 | I195: 5.6 | J195: 3931.2857 | K195: 3815
A196: SRN | B196: 7SO200052 | C196: Robertsbridge WWTW | D196: 31/03/2025 | E196: N | F196: 1.258 | G196: 0.03 | H196: 0 | I196: 4.7 | J196: 2263.4286 | K196: 2481
A197: SRN | B197: 7SO200053 | C197: Rolvenden Layne WWTW | D197: 31/03/2025 | E197: N | F197: 3.028 | G197: 0.037 | H197: 0 | I197: 2.3 | J197: 390.14286 | K197: 354
A198: SRN | B198: 7SO200065 | C198: Battle WWTW | D198: 22/12/2024 | E198: N | F198: 2.106 | G198: 0.175 | H198: 1 | I198: 0.5 | J198: 6465.1429 | K198: 5942
A199: SRN | B199: 7SO200068 | C199: Charing WWTW | D199: 22/12/2024 | E199: N | F199: 0.178 | G199: 0.038 | H199: 1 | I199: 0.5 | J199: 2314.1429 | K199: 2703
A200: SRN | B200: 7SO200073 | C200: Herne Bay WWTW | D200: 22/12/2024 | E200: N | F200: 2.913 | G200: 0.574 | H200: 2 | I200: 0.3 | J200: 43796.143 | K200: 39790
... A284: SRN | B284: 7SO200082 | C284: Ticehurst WWTW (imp) | D284: 22/12/2024 | E284: N | F284: 4.239 | G284: 0.171 | H284: 0 | I284: 0.3 | J284: 2762.8571 | K284: 2882
A285: SVE | B285: 7CST0136 | C285: Welshpool STW | D285: 45566 | E285: N | F285: 0.953131 | G285: 0.048393333 | H285: 0 | I285: 2 | J285: 8683.6333 | K285: 20791
A286: SVE | B286: 7ST100244 | C286: BOTTESFORD (STW) | D286: 44438 | E286: N | F286: 1.9018192 | G286: 0.53515 | H286: 0 | I286: 1 | J286: 3873.6353 | K286: 5209
A287: SVE | B287: 7ST100245 | C287: CROXTON KERRIAL (STW) | D287: 45648 | E287: N | F287: 2.0288285 | G287: 0.15556361 | H287: 0 | I287: 1 | J287: 568.53031 | K287: 861
A288: SVE | B288: 7ST100246 | C288: SCUNTHORPE-YADDLETHORPE (STW) | D288: 45747 | E288: N | F288: 7.9520116 | G288: 0.38472015 | H288: 0 | I288: 0.2 | J288: 120503.85 | K288: 179879
A289: SVE | B289: 7ST100247 | C289: WADWORTH (STW) | D289: 45648 | E289: N | F289: 1.2162984 | G289: 0.04433534 | H289: 0 | I289: 0.3 | J289: 1231.2763 | K289: 1638
A290: SVE | B290: 7ST100248 | C290: WARMSWORTH (STW) | D290: 45648 | E290: N | F290: 2.0242952 | G290: 0.089107 | H290: 2 | I290: 0.5 | J290: 11503.972 | K290: 12468
A291: SVE | B291: 7ST100252 | C291: ALCESTER (STW) | D291: 44375 | E291: N | F291: 2.3272989 | G291: 0.2883375 | H291: 0 | I291: 1.6 | J291: 9457.037 | K291: 10273
A292: SVE | B292: 7ST100253 | C292: ALVECHURCH (STW) | D292: 45648 | E292: N | F292: 2.2597968 | G292: 0.076365024 | H292: 0 | I292: 0.25 | J292: 10465.193 | K292: 11939
A293: SVE | B293: 7ST100254 | C293: ARLEY (STW) | D293: 45260 | E293: N | F293: 3.500193 | G293: 0.187995 | H293: 0 | I293: 0.3 | J293: 3940.8251 | K293: 4404
A294: SVE | B294: 7ST100255 | C294: BROMSGROVE (STW) | D294: 44196 | E294: N | F294: 1.9497194 | G294: 0.9573355 | H294: 2 | I294: 0.4 | J294: 59608.238 | K294: 87940
A295: SVE | B295: 7ST100256 | C295: BURNTWOOD (STW) | D295: 45648 | E295: N | F295: 9.1464258 | G295: 0.16752545 | H295: 0 | I295: 0.2 | J295: 45193.304 | K295: 55442
A296: SVE | B296: 7ST100258 | C296: CANNOCK (STW) | D296: 44365 | E296: N | F296: 3.8527247 | G296: 0.69712225 | H296: 1 | I296: 0.3 | J296: 63739.001 | K296: 73077
... A760: YKY | B760: 7YW300682 | C760: Skipton UWWTD | D760: 45648 | E760: N | F760: 0 | G760: 0 | H760: 0.5 | I760: 0.3 | J760: 19999.16 | K760: 19750
A761: Grand Total | F761: 3158.1572 | G761: 158.56536 | H761: 0.45013175 | I761: 0.86391304 | J761: 20589.599 | K761: 24095.547

Sheet 7Fv9.0 data
A1: oldcompanycode | B1: companycode | C1: eaid | D1: stw | E1: completion_date | F1: transfer | G1: capex | H1: opex | I1: historical_consent | J1: enhanced_consent | K1: pe_served | L1: pe_design
A2: Old Company | B2: Company | C2: EAid | D2: STW | E2: Completion date (DD/MM/YY) | F2: transfer dummy | G2: Capex | H2: Opex | I2: Historical consent | J2: Enhanced consent | K2: PE served | L2: PE design
A3: ='Pivot 7Fv9.0'!A2 -> ANH | B3: =INDEX( 'Company Mapping'!$B$4:$B$14, MATCH( '7Fv9.0 data'!$A3, 'Company Mapping'!$A$4:$A$14, 0)) -> ANH | C3: ='Pivot 7Fv9.0'!B2 -> 7AW200053 | D3: ='Pivot 7Fv9.0'!C2 -> Ashbrook STW | E3: ='Pivot 7Fv9.0'!D2 -> 45657 | F3: =IF( 'Pivot 7Fv9.0'!$E2 = "N", 0, 1 ) -> 0 | G3: ='Pivot 7Fv9.0'!F2 -> 0 | H3: ='Pivot 7Fv9.0'!G2 -> 0.040630512 | I3: ='Pivot 7Fv9.0'!H2 -> 1 | J3: ='Pivot 7Fv9.0'!I2 -> 0.7 | K3: ='Pivot 7Fv9.0'!J2 -> 3793.7268 | L3: ='Pivot 7Fv9.0'!K2 -> 3925.2518
A4: ='Pivot 7Fv9.0'!A3 -> ANH | B4: =INDEX( 'Company Mapping'!$B$4:$B$14, MATCH( '7Fv9.0 data'!$A4, 'Company Mapping'!$A$4:$A$14, 0)) -> ANH | C4: ='Pivot 7Fv9.0'!B3 -> 7AW200054 | D4: ='Pivot 7Fv9.0'!C3 -> Ashton STW | E4: ='Pivot 7Fv9.0'!D3 -> 45648 | F4: =IF( 'Pivot 7Fv9.0'!$E3 = "N", 0, 1 ) -> 0 | G4: ='Pivot 7Fv9.0'!F3 -> 2.5393197 | H4: ='Pivot 7Fv9.0'!G3 -> 0.20645839 | I4: ='Pivot 7Fv9.0'!H3 -> 0 | J4: ='Pivot 7Fv9.0'!I3 -> 0.3 | K4: ='Pivot 7Fv9.0'!J3 -> 5364.9126 | L4: ='Pivot 7Fv9.0'!K3 -> 5481
A5: ='Pivot 7Fv9.0'!A4 -> ANH | B5: =INDEX( 'Company Mapping'!$B$4:$B$14, MATCH( '7Fv9.0 data'!$A5, 'Company Mapping'!$A$4:$A$14, 0)) -> ANH | C5: ='Pivot 7Fv9.0'!B4 -> 7AW200057 | D5: ='Pivot 7Fv9.0'!C4 -> Bassingbourn STW | E5: ='Pivot 7Fv9.0'!D4 -> 45648 | F5: =IF( 'Pivot 7Fv9.0'!$E4 = "N", 0, 1 ) -> 0 | G5: ='Pivot 7Fv9.0'!F4 -> 1.419845 | H5: ='Pivot 7Fv9.0'!G4 -> 0.042081446 | I5: ='Pivot 7Fv9.0'!H4 -> 0 | J5: ='Pivot 7Fv9.0'!I4 -> 0.5 | K5: ='Pivot 7Fv9.0'!J4 -> 5007.5338 | L5: ='Pivot 7Fv9.0'!K4 -> 5238
A6: ='Pivot 7Fv9.0'!A5 -> ANH | B6: =INDEX( 'Company Mapping'!$B$4:$B$14, MATCH( '7Fv9.0 data'!$A6, 'Company Mapping'!$A$4:$A$14, 0)) -> ANH | C6: ='Pivot 7Fv9.0'!B5 -> 7AW200062 | D6: ='Pivot 7Fv9.0'!C5 -> Bottisham STW | E6: ='Pivot 7Fv9.0'!D5 -> 45490 | F6: =IF( 'Pivot 7Fv9.0'!$E5 = "N", 0, 1 ) -> 0 | G6: ='Pivot 7Fv9.0'!F5 -> 0.60646231 | H6: ='Pivot 7Fv9.0'!G5 -> 0.048339059 | I6: ='Pivot 7Fv9.0'!H5 -> 0 | J6: ='Pivot 7Fv9.0'!I5 -> 1 | K6: ='Pivot 7Fv9.0'!J5 -> 4043.6278 | L6: ='Pivot 7Fv9.0'!K5 -> 4307
A7: ='Pivot 7Fv9.0'!A6 -> ANH | B7: =INDEX( 'Company Mapping'!$B$4:$B$14, MATCH( '7Fv9.0 data'!$A7, 'Company Mapping'!$A$4:$A$14, 0)) -> ANH | C7: ='Pivot 7Fv9.0'!B6 -> 7AW200063 | D7: ='Pivot 7Fv9.0'!C6 -> Bourn STW | E7: ='Pivot 7Fv9.0'!D6 -> 45560 | F7: =IF( 'Pivot 7Fv9.0'!$E6 = "N", 0, 1 ) -> 0 | G7: ='Pivot 7Fv9.0'!F6 -> 0.66590247 | H7: ='Pivot 7Fv9.0'!G6 -> 0.050668968 | I7: ='Pivot 7Fv9.0'!H6 -> 0 | J7: ='Pivot 7Fv9.0'!I6 -> 0.5 | K7: ='Pivot 7Fv9.0'!J6 -> 3630.8113 | L7: ='Pivot 7Fv9.0'!K6 -> 3737
A8: ='Pivot 7Fv9.0'!A7 -> ANH | B8: =INDEX( 'Company Mapping'!$B$4:$B$14, MATCH( '7Fv9.0 data'!$A8, 'Company Mapping'!$A$4:$A$14, 0)) -> ANH | C8: ='Pivot 7Fv9.0'!B7 -> 7AW200066 | D8: ='Pivot 7Fv9.0'!C7 -> Burwell STW | E8: ='Pivot 7Fv9.0'!D7 -> 45657 | F8: =IF( 'Pivot 7Fv9.0'!$E7 = "N", 0, 1 ) -> 0 | G8: ='Pivot 7Fv9.0'!F7 -> 0 | H8: ='Pivot 7Fv9.0'!G7 -> 0.040630512 | I8: ='Pivot 7Fv9.0'!H7 -> 1 | J8: ='Pivot 7Fv9.0'!I7 -> 0.7 | K8: ='Pivot 7Fv9.0'!J7 -> 6560.696 | L8: ='Pivot 7Fv9.0'!K7 -> 6762.9608
A9: ='Pivot 7Fv9.0'!A8 -> ANH | B9: =INDEX( 'Company Mapping'!$B$4:$B$14, MATCH( '7Fv9.0 data'!$A9, 'Company Mapping'!$A$4:$A$14, 0)) -> ANH | C9: ='Pivot 7Fv9.0'!B8 -> 7AW200067 | D9: ='Pivot 7Fv9.0'!C8 -> Carbrooke Church Rd STW (FTRS Scheme) | E9: ='Pivot 7Fv9.0'!D8 -> 45648 | F9: =IF( 'Pivot 7Fv9.0'!$E8 = "N", 0, 1 ) -> 0 | G9: ='Pivot 7Fv9.0'!F8 -> 1.2069529 | H9: ='Pivot 7Fv9.0'!G8 -> 0.015261207 | I9: ='Pivot 7Fv9.0'!H8 -> 0 | J9: ='Pivot 7Fv9.0'!I8 -> 1 | K9: ='Pivot 7Fv9.0'!J8 -> 266.39916 | L9: ='Pivot 7Fv9.0'!K8 -> 265
A10: ='Pivot 7Fv9.0'!A9 -> ANH | B10: =INDEX( 'Company Mapping'!$B$4:$B$14, MATCH( '7Fv9.0 data'!$A10, 'Company Mapping'!$A$4:$A$14, 0)) -> ANH | C10: ='Pivot 7Fv9.0'!B9 -> 7AW200069 | D10: ='Pivot 7Fv9.0'!C9 -> Chippenham STW | E10: ='Pivot 7Fv9.0'!D9 -> 45559 | F10: =IF( 'Pivot 7Fv9.0'!$E9 = "N", 0, 1 ) -> 0 | G10: ='Pivot 7Fv9.0'!F9 -> 1.1689661 | H10: ='Pivot 7Fv9.0'!G9 -> 0.074773264 | I10: ='Pivot 7Fv9.0'!H9 -> 0 | J10: ='Pivot 7Fv9.0'!I9 -> 1 | K10: ='Pivot 7Fv9.0'!J9 -> 474.44508 | L10: ='Pivot 7Fv9.0'!K9 -> 512
A11: ='Pivot 7Fv9.0'!A10 -> ANH | B11: =INDEX( 'Company Mapping'!$B$4:$B$14, MATCH( '7Fv9.0 data'!$A11, 'Company Mapping'!$A$4:$A$14, 0)) -> ANH | C11: ='Pivot 7Fv9.0'!B10 -> 7AW200071 | D11: ='Pivot 7Fv9.0'!C10 -> Coney Weston STW | E11: ='Pivot 7Fv9.0'!D10 -> 45629 | F11: =IF( 'Pivot 7Fv9.0'!$E10 = "N", 0, 1 ) -> 0 | G11: ='Pivot 7Fv9.0'!F10 -> 0.5264027 | H11: ='Pivot 7Fv9.0'!G10 -> 0.11648973 | I11: ='Pivot 7Fv9.0'!H10 -> 0 | J11: ='Pivot 7Fv9.0'!I10 -> 0.5 | K11: ='Pivot 7Fv9.0'!J10 -> 2486.8511 | L11: ='Pivot 7Fv9.0'!K10 -> 2320
A12: ='Pivot 7Fv9.0'!A11 -> ANH | B12: =INDEX( 'Company Mapping'!$B$4:$B$14, MATCH( '7Fv9.0 data'!$A12, 'Company Mapping'!$A$4:$A$14, 0)) -> ANH | C12: ='Pivot 7Fv9.0'!B11 -> 7AW200072 | D12: ='Pivot 7Fv9.0'!C11 -> Coton STW | E12: ='Pivot 7Fv9.0'!D11 -> 45441 | F12: =IF( 'Pivot 7Fv9.0'!$E11 = "N", 0, 1 ) -> 0 | G12: ='Pivot 7Fv9.0'!F11 -> 1.4467744 | H12: ='Pivot 7Fv9.0'!G11 -> 0.028178901 | I12: ='Pivot 7Fv9.0'!H11 -> 0 | J12: ='Pivot 7Fv9.0'!I11 -> 0.8 | K12: ='Pivot 7Fv9.0'!J11 -> 1010.2284 | L12: ='Pivot 7Fv9.0'!K11 -> 1043
A13: ='Pivot 7Fv9.0'!A12 -> ANH | B13: =INDEX( 'Company Mapping'!$B$4:$B$14, MATCH( '7Fv9.0 data'!$A13, 'Company Mapping'!$A$4:$A$14, 0)) -> ANH | C13: ='Pivot 7Fv9.0'!B12 -> 7AW200073 | D13: ='Pivot 7Fv9.0'!C12 -> Cublington (Wing) STW | E13: ='Pivot 7Fv9.0'!D12 -> 45524 | F13: =IF( 'Pivot 7Fv9.0'!$E12 = "N", 0, 1 ) -> 0 | G13: ='Pivot 7Fv9.0'!F12 -> 2.3836829 | H13: ='Pivot 7Fv9.0'!G12 -> 0.16018715 | I13: ='Pivot 7Fv9.0'!H12 -> 0 | J13: ='Pivot 7Fv9.0'!I12 -> 0.4 | K13: ='Pivot 7Fv9.0'!J12 -> 3266.0675 | L13: ='Pivot 7Fv9.0'!K12 -> 3486
A14: ='Pivot 7Fv9.0'!A13 -> ANH | B14: =INDEX( 'Company Mapping'!$B$4:$B$14, MATCH( '7Fv9.0 data'!$A14, 'Company Mapping'!$A$4:$A$14, 0)) -> ANH | C14: ='Pivot 7Fv9.0'!B13 -> 7AW200074 | D14: ='Pivot 7Fv9.0'!C13 -> Doddington STW | E14: ='Pivot 7Fv9.0'!D13 -> 44909 | F14: =IF( 'Pivot 7Fv9.0'!$E13 = "N", 0, 1 ) -> 0 | G14: ='Pivot 7Fv9.0'!F13 -> 1.8452778 | H14: ='Pivot 7Fv9.0'!G13 -> 0.11095869 | I14: ='Pivot 7Fv9.0'!H13 -> 0 | J14: ='Pivot 7Fv9.0'!I13 -> 0.5 | K14: ='Pivot 7Fv9.0'!J13 -> 4027.1823 | L14: ='Pivot 7Fv9.0'!K13 -> 4402
... A761: ='Pivot 7Fv9.0'!A760 -> YKY | B761: =INDEX( 'Company Mapping'!$B$4:$B$14, MATCH( '7Fv9.0 data'!$A761, 'Company Mapping'!$A$4:$A$14, 0)) -> YKY | C761: ='Pivot 7Fv9.0'!B760 -> 7YW300682 | D761: ='Pivot 7Fv9.0'!C760 -> Skipton UWWTD | E761: ='Pivot 7Fv9.0'!D760 -> 45648 | F761: =IF( 'Pivot 7Fv9.0'!$E760 = "N", 0, 1 ) -> 0 | G761: ='Pivot 7Fv9.0'!F760 -> 0 | H761: ='Pivot 7Fv9.0'!G760 -> 0 | I761: ='Pivot 7Fv9.0'!H760 -> 0.5 | J761: ='Pivot 7Fv9.0'!I760 -> 0.3 | K761: ='Pivot 7Fv9.0'!J760 -> 19999.16 | L761: ='Pivot 7Fv9.0'!K760 -> 19750

Sheet Stata dataset (real) w Opex
A1: oldcompanycode | B1: companycode | C1: eaid | D1: stw | E1: completion_date | F1: transfer | G1: capex | H1: opex | I1: historical_consent | J1: enhanced_consent | K1: pe_served | L1: pe_design
A2: Old Company | B2: Company | C2: EAid | D2: STW | E2: Completion date (DD/MM/YY) | F2: transfer dummy | G2: Capex | H2: Opex | I2: Historical consent | J2: Enhanced consent | K2: PE served | L2: PE design
A3: ANH | B3: ANH | C3: 7AW200053 | D3: Ashbrook STW | E3: 45657 | F3: 0 | G3: 0 | H3: 0.040630512 | I3: 1 | J3: 0.7 | K3: 3793.7268 | L3: 3925.2518
A4: ANH | B4: ANH | C4: 7AW200054 | D4: Ashton STW | E4: 45648 | F4: 0 | G4: 2.5393197 | H4: 0.20645839 | I4: 0 | J4: 0.3 | K4: 5364.9126 | L4: 5481
A5: ANH | B5: ANH | C5: 7AW200057 | D5: Bassingbourn STW | E5: 45648 | F5: 0 | G5: 1.419845 | H5: 0.042081446 | I5: 0 | J5: 0.5 | K5: 5007.5338 | L5: 5238
A6: ANH | B6: ANH | C6: 7AW200062 | D6: Bottisham STW | E6: 45490 | F6: 0 | G6: 0.60646231 | H6: 0.048339059 | I6: 0 | J6: 1 | K6: 4043.6278 | L6: 4307
A7: ANH | B7: ANH | C7: 7AW200063 | D7: Bourn STW | E7: 45560 | F7: 0 | G7: 0.66590247 | H7: 0.050668968 | I7: 0 | J7: 0.5 | K7: 3630.8113 | L7: 3737
A8: ANH | B8: ANH | C8: 7AW200066 | D8: Burwell STW | E8: 45657 | F8: 0 | G8: 0 | H8: 0.040630512 | I8: 1 | J8: 0.7 | K8: 6560.696 | L8: 6762.9608
A9: ANH | B9: ANH | C9: 7AW200067 | D9: Carbrooke Church Rd STW (FTRS Scheme) | E9: 45648 | F9: 0 | G9: 1.2069529 | H9: 0.015261207 | I9: 0 | J9: 1 | K9: 266.39916 | L9: 265
A10: ANH | B10: ANH | C10: 7AW200069 | D10: Chippenham STW | E10: 45559 | F10: 0 | G10: 1.1689661 | H10: 0.074773264 | I10: 0 | J10: 1 | K10: 474.44508 | L10: 512
A11: ANH | B11: ANH | C11: 7AW200071 | D11: Coney Weston STW | E11: 45629 | F11: 0 | G11: 0.5264027 | H11: 0.11648973 | I11: 0 | J11: 0.5 | K11: 2486.8511 | L11: 2320
A12: ANH | B12: ANH | C12: 7AW200072 | D12: Coton STW | E12: 45441 | F12: 0 | G12: 1.4467744 | H12: 0.028178901 | I12: 0 | J12: 0.8 | K12: 1010.2284 | L12: 1043
A13: ANH | B13: ANH | C13: 7AW200073 | D13: Cublington (Wing) STW | E13: 45524 | F13: 0 | G13: 2.3836829 | H13: 0.16018715 | I13: 0 | J13: 0.4 | K13: 3266.0675 | L13: 3486
A14: ANH | B14: ANH | C14: 7AW200074 | D14: Doddington STW | E14: 44909 | F14: 0 | G14: 1.8452778 | H14: 0.11095869 | I14: 0 | J14: 0.5 | K14: 4027.1823 | L14: 4402
... A167: NES | B167: NES | C167: 7NW200065 | D167: Carlton Redmarshall | E167: 45648 | F167: 0 | G167: 3.449 | H167: 0.125 | I167: 0 | J167: 0.4 | K167: 2473.5714 | L167: 2921
A168: NES | B168: NES | C168: 7NW200067/7NW200067a | D168: Chilton Lane | E168: 22/12/2024/31/03/2025 | F168: 0 | G168: 2.313 | H168: 0.282 | I168: 0 | J168: 0.25 | K168: 2645.7143 | L168: 3354
A169: NES | B169: NES | C169: 7NW200071 | D169: Crookhall | E169: 45648 | F169: 0 | G169: 1.707 | H169: 0.018 | I169: 0 | J169: 0.9 | K169: 5044.2857 | L169: 4625
A170: NES | B170: NES | C170: 7NW200078 | D170: Dipton | E170: 45648 | F170: 0 | G170: 5.593 | H170: 0.107 | I170: 0 | J170: 1 | K170: 2300.4286 | L170: 2931
A171: NES | B171: NES | C171: 7NW200086/7NW200086a | D171: Esh Winning | E171: 22/12/2024*/31/03/2025 | F171: 0 | G171: 2.11 | H171: 0.105 | I171: 0 | J171: 0.6 | K171: 4109.1429 | L171: 5406
A172: NES | B172: NES | C172: 7NW200089/7NW200089 | D172: Fishburn | E172: 22/12/2024*/31/03/2025 | F172: 0 | G172: 3.062 | H172: 0.21 | I172: 0 | J172: 0.3 | K172: 2941.5714 | L172: 3502
A173: NES | B173: NES | C173: 7NW200461 | D173: Kelloe | E173: 45648 | F173: 0 | G173: 5.547 | H173: 0.122 | I173: 0 | J173: 0.3 | K173: 2337.5714 | L173: 2228
A174: NES | B174: NES | C174: 7NW200463 | D174: Kirklevington | E174: 45648 | F174: 1 | G174: 5.806 | H174: 0.074 | I174: 0 | J174: 0.3 | K174: 1248.5714 | L174: 1663
A175: NES | B175: NES | C175: 7NW200464/7NW200464a | D175: Knitsley | E175: 22/12/2024*/31/03/2025 | F175: 0 | G175: 3.714 | H175: 0.231 | I175: 0 | J175: 0.3 | K175: 5256.1429 | L175: 6846
A176: NES | B176: NES | C176: 7NW200465 | D176: Lanchester | E176: 45648 | F176: 0 | G176: 5.317 | H176: 0.229 | I176: 0 | J176: 0.7 | K176: 4427.1429 | L176: 5257.35
A177: NES | B177: NES | C177: 7NW200471 | D177: Longhorsley | E177: 45747 | F177: 0 | G177: 1.366 | H177: 0.052 | I177: 0 | J177: 2.26 | K177: 693.28571 | L177: 865
A178: NES | B178: NES | C178: 7NW200472 | D178: Longnewton to Stressholme via Goose Beck (Teesside Airport) | E178: 45747 | F178: 1 | G178: 0 | H178: 0 | I178: 0 | J178: 0.3 | K178: 720.57143 | L178: 629
A179: NES | B179: NES | C179: 7NW200494/7NW200494a | D179: New Moors | E179: 22/12/2024/31/03/2025 | F179: 0 | G179: 3.311 | H179: 0.262 | I179: 0 | J179: 0.4 | K179: 817.28571 | L179: 844
A180: NES | B180: NES | C180: 7NW200507 | D180: Pittington transfer to Sherburn | E180: 45648 | F180: 1 | G180: 0 | H180: 0 | I180: 0 | J180: 0.6 | K180: 1435.4286 | L180: 1752
A181: NES | B181: NES | C181: 7NW200508 | D181: Pity Me - Durham Transfer to Wear | E181: 45747 | F181: 1 | G181: 9.618 | H181: 0.281 | I181: 0 | J181: 0.3 | K181: 1429.8571 | L181: 1313
A182: NES | B182: NES | C182: 7NW200509 | D182: Plawsworth - Durham Transfer to Wear | E182: 45747 | F182: 1 | G182: 0 | H182: 0 | I182: 0 | J182: 1 | K182: 1403 | L182: 1437
A183: NES | B183: NES | C183: 7NW200521 | D183: Sacriston | E183: 45648 | F183: 0 | G183: 3.192 | H183: 0.197 | I183: 0 | J183: 0.25 | K183: 5086.8571 | L183: 6488
A184: NES | B184: NES | C184: 7NW200524/7NW200524a | D184: Sedgefield | E184: 22/12/2024/31/03/2025 | F184: 0 | G184: 3.257 | H184: 0.27 | I184: 0 | J184: 0.25 | K184: 4673.1429 | L184: 5414
A185: NES | B185: NES | C185: 7NW200527/7NW200527 | D185: Sherburn (including transfer from Pittington) | E185: 22/12/2024/31/03/2025 | F185: 0 | G185: 12.59 | H185: 0.378 | I185: 0 | J185: 0.5 | K185: 4671.5714 | L185: 5706
A186: NES | B186: NES | C186: 7NW200531 | D186: Slaley | E186: 45648 | F186: 0 | G186: 3.624 | H186: 0.071 | I186: 0 | J186: 2 | K186: 306.28571 | L186: 291
A187: NES | B187: NES | C187: 7NW200556 | D187: WINEP Teesside Transfer to Stressholme (Teeside airport) | E187: 45819 | F187: 1 | G187: 11.233 | H187: 0.234 | I187: 0 | J187: 0.4 | K187: 711.57143 | L187: 1652
A188: NES | B188: NES | C188: 7NW200568/7NW200568 | D188: Trimdon | E188: 46477 | F188: 0 | G188: 0.139 | H188: 0.113 | I188: 0 | J188: 0.3 | K188: 4042.2857 | L188: 0
A189: NES | B189: NES | C189: 7NW200583 | D189: Witton Gilbert | E189: 46477 | F189: 0 | G189: 2.439 | H189: 0.116 | I189: 0 | J189: 0.7 | K189: 6189 | L189: 0
A190: SRN | B190: SRN | C190: 7SO000013 /7SO200050 /7SO100170 | D190: AMP6-3 WTW Mayfield NEP5 | E190: 31/12/2021 | F190: 0 | G190: 1.393 | H190: 0.068 | I190: 0 | J190: 1 | K190: 1830 | L190: 2123
A191: SRN | B191: SRN | C191: 7SO100169 | D191: AMP6-3 WTW Hawkhurst South NEP5 | E191: 31/12/2021 | F191: 0 | G191: 8.555 | H191: 0.191 | I191: 0 | J191: 0.3 | K191: 2081 | L191: 2393
A192: SRN | B192: SRN | C192: 7SO100171 | D192: AMP6-3 WTW Benenden NEP5 | E192: 31/12/2021 | F192: 0 | G192: 7.055 | H192: 0.187 | I192: 0 | J192: 0.3 | K192: 716.42857 | L192: 1266
A193: SRN | B193: SRN | C193: 7SO200046 | D193: Bidborough wwtw | E193: 31/03/2025 | F193: 0 | G193: 0 | H193: 0.034 | I193: 0 | J193: 2 | K193: 9685.8571 | L193: 10256
A194: SRN | B194: SRN | C194: 7SO200047 | D194: Luxfords Lane East Grinstead wwtw | E194: 31/03/2025 | F194: 0 | G194: 2.296 | H194: 0.097 | I194: 0 | J194: 2 | K194: 10023.571 | L194: 11040
A195: SRN | B195: SRN | C195: 7SO200048 | D195: Ham Street WWTW | E195: 31/03/2025 | F195: 0 | G195: 0.401 | H195: 0.056 | I195: 0 | J195: 2.6 | K195: 1626.4286 | L195: 1639
A196: SRN | B196: SRN | C196: 7SO200049 | D196: Lydd WWTW | E196: 31/03/2025 | F196: 0 | G196: 1.408 | H196: 0.06 | I196: 0 | J196: 5.6 | K196: 3931.2857 | L196: 3815
A197: SRN | B197: SRN | C197: 7SO200052 | D197: Robertsbridge WWTW | E197: 31/03/2025 | F197: 0 | G197: 1.258 | H197: 0.03 | I197: 0 | J197: 4.7 | K197: 2263.4286 | L197: 2481
A198: SRN | B198: SRN | C198: 7SO200053 | D198: Rolvenden Layne WWTW | E198: 31/03/2025 | F198: 0 | G198: 3.028 | H198: 0.037 | I198: 0 | J198: 2.3 | K198: 390.14286 | L198: 354
A199: SRN | B199: SRN | C199: 7SO200065 | D199: Battle WWTW | E199: 22/12/2024 | F199: 0 | G199: 2.106 | H199: 0.175 | I199: 1 | J199: 0.5 | K199: 6465.1429 | L199: 5942
A200: SRN | B200: SRN | C200: 7SO200068 | D200: Charing WWTW | E200: 22/12/2024 | F200: 0 | G200: 0.178 | H200: 0.038 | I200: 1 | J200: 0.5 | K200: 2314.1429 | L200: 2703
A201: SRN | B201: SRN | C201: 7SO200073 | D201: Herne Bay WWTW | E201: 22/12/2024 | F201: 0 | G201: 2.913 | H201: 0.574 | I201: 2 | J201: 0.3 | K201: 43796.143 | L201: 39790
... A285: SRN | B285: SRN | C285: 7SO200082 | D285: Ticehurst WWTW (imp) | E285: 22/12/2024 | F285: 0 | G285: 4.239 | H285: 0.171 | I285: 0 | J285: 0.3 | K285: 2762.8571 | L285: 2882
A286: SVE | B286: SVE | C286: 7CST0136 | D286: Welshpool STW | E286: 45566 | F286: 0 | G286: 0.953131 | H286: 0.048393333 | I286: 0 | J286: 2 | K286: 8683.6333 | L286: 20791
A287: SVE | B287: SVE | C287: 7ST100244 | D287: BOTTESFORD (STW) | E287: 44438 | F287: 0 | G287: 1.9018192 | H287: 0.53515 | I287: 0 | J287: 1 | K287: 3873.6353 | L287: 5209
A288: SVE | B288: SVE | C288: 7ST100245 | D288: CROXTON KERRIAL (STW) | E288: 45648 | F288: 0 | G288: 2.0288285 | H288: 0.15556361 | I288: 0 | J288: 1 | K288: 568.53031 | L288: 861
A289: SVE | B289: SVE | C289: 7ST100246 | D289: SCUNTHORPE-YADDLETHORPE (STW) | E289: 45747 | F289: 0 | G289: 7.9520116 | H289: 0.38472015 | I289: 0 | J289: 0.2 | K289: 120503.85 | L289: 179879
A290: SVE | B290: SVE | C290: 7ST100247 | D290: WADWORTH (STW) | E290: 45648 | F290: 0 | G290: 1.2162984 | H290: 0.04433534 | I290: 0 | J290: 0.3 | K290: 1231.2763 | L290: 1638
A291: SVE | B291: SVE | C291: 7ST100248 | D291: WARMSWORTH (STW) | E291: 45648 | F291: 0 | G291: 2.0242952 | H291: 0.089107 | I291: 2 | J291: 0.5 | K291: 11503.972 | L291: 12468
A292: SVE | B292: SVE | C292: 7ST100252 | D292: ALCESTER (STW) | E292: 44375 | F292: 0 | G292: 2.3272989 | H292: 0.2883375 | I292: 0 | J292: 1.6 | K292: 9457.037 | L292: 10273
A293: SVE | B293: SVE | C293: 7ST100253 | D293: ALVECHURCH (STW) | E293: 45648 | F293: 0 | G293: 2.2597968 | H293: 0.076365024 | I293: 0 | J293: 0.25 | K293: 10465.193 | L293: 11939
A294: SVE | B294: SVE | C294: 7ST100254 | D294: ARLEY (STW) | E294: 45260 | F294: 0 | G294: 3.500193 | H294: 0.187995 | I294: 0 | J294: 0.3 | K294: 3940.8251 | L294: 4404
A295: SVE | B295: SVE | C295: 7ST100255 | D295: BROMSGROVE (STW) | E295: 44196 | F295: 0 | G295: 1.9497194 | H295: 0.9573355 | I295: 2 | J295: 0.4 | K295: 59608.238 | L295: 87940
A296: SVE | B296: SVE | C296: 7ST100256 | D296: BURNTWOOD (STW) | E296: 45648 | F296: 0 | G296: 9.1464258 | H296: 0.16752545 | I296: 0 | J296: 0.2 | K296: 45193.304 | L296: 55442
A297: SVE | B297: SVE | C297: 7ST100258 | D297: CANNOCK (STW) | E297: 44365 | F297: 0 | G297: 3.8527247 | H297: 0.69712225 | I297: 1 | J297: 0.3 | K297: 63739.001 | L297: 73077
... A761: YKY | B761: YKY | C761: 7YW300682 | D761: Skipton UWWTD | E761: 45648 | F761: 0 | G761: 0 | H761: 0 | I761: 0.5 | J761: 0.3 | K761: 19999.16 | L761: 19750

Sheet Removing 25-26 opex >>

Sheet 7Fv9.0 opex removed
K1: =COUNTIF( K$4:K$764, "FALSE" ) -> 0 | L1: =COUNTIF( L$4:L$764, "FALSE" ) -> 0 | M1: Year | N1: (Multiple Items)
A3: Row Labels | B3: Eaid | C3: STW | D3: Completion Date (DD/MM/YY) | E3: Transfer (Y/N) | F3: Sum of Capex | G3: Average of Historical permit level for phosphorus (mg/L) | H3: Average of Enhanced permit level for phosphorus (mg/L) | I3: Average of PE served | J3: Average of Scheme design population equivalent | K3: ID MATCH | L3: STW MATCH | M3: Row Labels | N3: Eaid | O3: STW | P3: Completion Date (DD/MM/YY) | Q3: Transfer (Y/N) | R3: Sum of Opex
A4: ANH | B4: 7AW200053 | C4: Ashbrook STW | D4: 45657 | E4: N | F4: 0 | G4: 1 | H4: 0.7 | I4: 3793.7268 | J4: 3925.2518 | K4: =B4 = N4 -> TRUE | L4: =C4 = O4 -> TRUE | M4: ANH | N4: 7AW200053 | O4: Ashbrook STW | P4: 45657 | Q4: N | R4: 0.012793949
A5: ANH | B5: 7AW200054 | C5: Ashton STW | D5: 45648 | E5: N | F5: 2.5393197 | G5: 0 | H5: 0.3 | I5: 5364.9126 | J5: 5481 | K5: =B5 = N5 -> TRUE | L5: =C5 = O5 -> TRUE | M5: ANH | N5: 7AW200054 | O5: Ashton STW | P5: 45648 | Q5: N | R5: 0.1349505
A6: ANH | B6: 7AW200057 | C6: Bassingbourn STW | D6: 45648 | E6: N | F6: 1.419845 | G6: 0 | H6: 0.5 | I6: 5007.5338 | J6: 5238 | K6: =B6 = N6 -> TRUE | L6: =C6 = O6 -> TRUE | M6: ANH | N6: 7AW200057 | O6: Bassingbourn STW | P6: 45648 | Q6: N | R6: 0.013250827
A7: ANH | B7: 7AW200062 | C7: Bottisham STW | D7: 45490 | E7: N | F7: 0.60646231 | G7: 0 | H7: 1 | I7: 4043.6278 | J7: 4307 | K7: =B7 = N7 -> TRUE | L7: =C7 = O7 -> TRUE | M7: ANH | N7: 7AW200062 | O7: Bottisham STW | P7: 45490 | Q7: N | R7: 0.015221257
A8: ANH | B8: 7AW200063 | C8: Bourn STW | D8: 45560 | E8: N | F8: 0.66590247 | G8: 0 | H8: 0.5 | I8: 3630.8113 | J8: 3737 | K8: =B8 = N8 -> TRUE | L8: =C8 = O8 -> TRUE | M8: ANH | N8: 7AW200063 | O8: Bourn STW | P8: 45560 | Q8: N | R8: 0.015954911
A9: ANH | B9: 7AW200066 | C9: Burwell STW | D9: 45657 | E9: N | F9: 0 | G9: 1 | H9: 0.7 | I9: 6560.696 | J9: 6762.9608 | K9: =B9 = N9 -> TRUE | L9: =C9 = O9 -> TRUE | M9: ANH | N9: 7AW200066 | O9: Burwell STW | P9: 45657 | Q9: N | R9: 0.012793949
A10: ANH | B10: 7AW200067 | C10: Carbrooke Church Rd STW (FTRS Scheme) | D10: 45648 | E10: N | F10: 1.2069529 | G10: 0 | H10: 1 | I10: 266.39916 | J10: 265 | K10: =B10 = N10 -> TRUE | L10: =C10 = O10 -> TRUE | M10: ANH | N10: 7AW200067 | O10: Carbrooke Church Rd STW (FTRS Scheme) | P10: 45648 | Q10: N | R10: 0.0048055289
A11: ANH | B11: 7AW200069 | C11: Chippenham STW | D11: 45559 | E11: N | F11: 1.1689661 | G11: 0 | H11: 1 | I11: 474.44508 | J11: 512 | K11: =B11 = N11 -> TRUE | L11: =C11 = O11 -> TRUE | M11: ANH | N11: 7AW200069 | O11: Chippenham STW | P11: 45559 | Q11: N | R11: 0.023544998
A12: ANH | B12: 7AW200071 | C12: Coney Weston STW | D12: 45629 | E12: N | F12: 0.5264027 | G12: 0 | H12: 0.5 | I12: 2486.8511 | J12: 2320 | K12: =B12 = N12 -> TRUE | L12: =C12 = O12 -> TRUE | M12: ANH | N12: 7AW200071 | O12: Coney Weston STW | P12: 45629 | Q12: N | R12: 0.036680897
A13: ANH | B13: 7AW200072 | C13: Coton STW | D13: 45441 | E13: N | F13: 1.4467744 | G13: 0 | H13: 0.8 | I13: 1010.2284 | J13: 1043 | K13: =B13 = N13 -> TRUE | L13: =C13 = O13 -> TRUE | M13: ANH | N13: 7AW200072 | O13: Coton STW | P13: 45441 | Q13: N | R13: 0.0088731204
A14: ANH | B14: 7AW200073 | C14: Cublington (Wing) STW | D14: 45524 | E14: N | F14: 2.3836829 | G14: 0 | H14: 0.4 | I14: 3266.0675 | J14: 3486 | K14: =B14 = N14 -> TRUE | L14: =C14 = O14 -> TRUE | M14: ANH | N14: 7AW200073 | O14: Cublington (Wing) STW | P14: 45524 | Q14: N | R14: 0.05044057
A15: ANH | B15: 7AW200074 | C15: Doddington STW | D15: 44909 | E15: N | F15: 1.8452778 | G15: 0 | H15: 0.5 | I15: 4027.1823 | J15: 4402 | K15: =B15 = N15 -> TRUE | L15: =C15 = O15 -> TRUE | M15: ANH | N15: 7AW200074 | O15: Doddington STW | P15: 44909 | Q15: N | R15: 0.034939254
... A168: NES | B168: 7NW200065 | C168: Carlton Redmarshall | D168: 45648 | E168: N | F168: 3.449 | G168: 0 | H168: 0.4 | I168: 2473.5714 | J168: 2921 | K168: =B168 = N168 -> TRUE | L168: =C168 = O168 -> TRUE | M168: NES | N168: 7NW200065 | O168: Carlton Redmarshall | P168: 45648 | Q168: N | R168: 0.027
A169: NES | B169: 7NW200067/7NW200067a | C169: Chilton Lane | D169: 22/12/2024/31/03/2025 | E169: N | F169: 2.313 | G169: 0 | H169: 0.25 | I169: 2645.7143 | J169: 3354 | K169: =B169 = N169 -> TRUE | L169: =C169 = O169 -> TRUE | M169: NES | N169: 7NW200067/7NW200067a | O169: Chilton Lane | P169: 22/12/2024/31/03/2025 | Q169: N | R169: 0.069
A170: NES | B170: 7NW200071 | C170: Crookhall | D170: 45648 | E170: N | F170: 1.707 | G170: 0 | H170: 0.9 | I170: 5044.2857 | J170: 4625 | K170: =B170 = N170 -> TRUE | L170: =C170 = O170 -> TRUE | M170: NES | N170: 7NW200071 | O170: Crookhall | P170: 45648 | Q170: N | R170: 0.009
A171: NES | B171: 7NW200078 | C171: Dipton | D171: 45648 | E171: N | F171: 5.593 | G171: 0 | H171: 1 | I171: 2300.4286 | J171: 2931 | K171: =B171 = N171 -> TRUE | L171: =C171 = O171 -> TRUE | M171: NES | N171: 7NW200078 | O171: Dipton | P171: 45648 | Q171: N | R171: 0
A172: NES | B172: 7NW200086/7NW200086a | C172: Esh Winning | D172: 22/12/2024*/31/03/2025 | E172: N | F172: 2.11 | G172: 0 | H172: 0.6 | I172: 4109.1429 | J172: 5406 | K172: =B172 = N172 -> TRUE | L172: =C172 = O172 -> TRUE | M172: NES | N172: 7NW200086/7NW200086a | O172: Esh Winning | P172: 22/12/2024*/31/03/2025 | Q172: N | R172: 0.009
A173: NES | B173: 7NW200089/7NW200089 | C173: Fishburn | D173: 22/12/2024*/31/03/2025 | E173: N | F173: 3.062 | G173: 0 | H173: 0.3 | I173: 2941.5714 | J173: 3502 | K173: =B173 = N173 -> TRUE | L173: =C173 = O173 -> TRUE | M173: NES | N173: 7NW200089/7NW200089 | O173: Fishburn | P173: 22/12/2024*/31/03/2025 | Q173: N | R173: 0.08
A174: NES | B174: 7NW200461 | C174: Kelloe | D174: 45648 | E174: N | F174: 5.547 | G174: 0 | H174: 0.3 | I174: 2337.5714 | J174: 2228 | K174: =B174 = N174 -> TRUE | L174: =C174 = O174 -> TRUE | M174: NES | N174: 7NW200461 | O174: Kelloe | P174: 45648 | Q174: N | R174: 0.049
A175: NES | B175: 7NW200463 | C175: Kirklevington | D175: 45648 | E175: Y | F175: 5.806 | G175: 0 | H175: 0.3 | I175: 1248.5714 | J175: 1663 | K175: =B175 = N175 -> TRUE | L175: =C175 = O175 -> TRUE | M175: NES | N175: 7NW200463 | O175: Kirklevington | P175: 45648 | Q175: Y | R175: 0
A176: NES | B176: 7NW200464/7NW200464a | C176: Knitsley | D176: 22/12/2024*/31/03/2025 | E176: N | F176: 3.714 | G176: 0 | H176: 0.3 | I176: 5256.1429 | J176: 6846 | K176: =B176 = N176 -> TRUE | L176: =C176 = O176 -> TRUE | M176: NES | N176: 7NW200464/7NW200464a | O176: Knitsley | P176: 22/12/2024*/31/03/2025 | Q176: N | R176: 0
A177: NES | B177: 7NW200465 | C177: Lanchester | D177: 45648 | E177: N | F177: 5.317 | G177: 0 | H177: 0.7 | I177: 4427.1429 | J177: 5257.35 | K177: =B177 = N177 -> TRUE | L177: =C177 = O177 -> TRUE | M177: NES | N177: 7NW200465 | O177: Lanchester | P177: 45648 | Q177: N | R177: 0
A178: NES | B178: 7NW200471 | C178: Longhorsley | D178: 45747 | E178: N | F178: 1.366 | G178: 0 | H178: 2.26 | I178: 693.28571 | J178: 865 | K178: =B178 = N178 -> TRUE | L178: =C178 = O178 -> TRUE | M178: NES | N178: 7NW200471 | O178: Longhorsley | P178: 45747 | Q178: N | R178: 0
A179: NES | B179: 7NW200472 | C179: Longnewton to Stressholme via Goose Beck (Teesside Airport) | D179: 45747 | E179: Y | F179: 0 | G179: 0 | H179: 0.3 | I179: 720.57143 | J179: 629 | K179: =B179 = N179 -> TRUE | L179: =C179 = O179 -> TRUE | M179: NES | N179: 7NW200472 | O179: Longnewton to Stressholme via Goose Beck (Teesside Airport) | P179: 45747 | Q179: Y | R179: 0
A180: NES | B180: 7NW200494/7NW200494a | C180: New Moors | D180: 22/12/2024/31/03/2025 | E180: N | F180: 3.311 | G180: 0 | H180: 0.4 | I180: 817.28571 | J180: 844 | K180: =B180 = N180 -> TRUE | L180: =C180 = O180 -> TRUE | M180: NES | N180: 7NW200494/7NW200494a | O180: New Moors | P180: 22/12/2024/31/03/2025 | Q180: N | R180: 0
A181: NES | B181: 7NW200507 | C181: Pittington transfer to Sherburn | D181: 45648 | E181: Y | F181: 0 | G181: 0 | H181: 0.6 | I181: 1435.4286 | J181: 1752 | K181: =B181 = N181 -> TRUE | L181: =C181 = O181 -> TRUE | M181: NES | N181: 7NW200507 | O181: Pittington transfer to Sherburn | P181: 45648 | Q181: Y | R181: 0
A182: NES | B182: 7NW200508 | C182: Pity Me - Durham Transfer to Wear | D182: 45747 | E182: Y | F182: 9.618 | G182: 0 | H182: 0.3 | I182: 1429.8571 | J182: 1313 | K182: =B182 = N182 -> TRUE | L182: =C182 = O182 -> TRUE | M182: NES | N182: 7NW200508 | O182: Pity Me - Durham Transfer to Wear | P182: 45747 | Q182: Y | R182: 0
A183: NES | B183: 7NW200509 | C183: Plawsworth - Durham Transfer to Wear | D183: 45747 | E183: Y | F183: 0 | G183: 0 | H183: 1 | I183: 1403 | J183: 1437 | K183: =B183 = N183 -> TRUE | L183: =C183 = O183 -> TRUE | M183: NES | N183: 7NW200509 | O183: Plawsworth - Durham Transfer to Wear | P183: 45747 | Q183: Y | R183: 0
A184: NES | B184: 7NW200521 | C184: Sacriston | D184: 45648 | E184: N | F184: 3.192 | G184: 0 | H184: 0.25 | I184: 5086.8571 | J184: 6488 | K184: =B184 = N184 -> TRUE | L184: =C184 = O184 -> TRUE | M184: NES | N184: 7NW200521 | O184: Sacriston | P184: 45648 | Q184: N | R184: 0
A185: NES | B185: 7NW200524/7NW200524a | C185: Sedgefield | D185: 22/12/2024/31/03/2025 | E185: N | F185: 3.257 | G185: 0 | H185: 0.25 | I185: 4673.1429 | J185: 5414 | K185: =B185 = N185 -> TRUE | L185: =C185 = O185 -> TRUE | M185: NES | N185: 7NW200524/7NW200524a | O185: Sedgefield | P185: 22/12/2024/31/03/2025 | Q185: N | R185: 0.08
A186: NES | B186: 7NW200527/7NW200527 | C186: Sherburn (including transfer from Pittington) | D186: 22/12/2024/31/03/2025 | E186: N | F186: 12.59 | G186: 0 | H186: 0.5 | I186: 4671.5714 | J186: 5706 | K186: =B186 = N186 -> TRUE | L186: =C186 = O186 -> TRUE | M186: NES | N186: 7NW200527/7NW200527 | O186: Sherburn (including transfer from Pittington) | P186: 22/12/2024/31/03/2025 | Q186: N | R186: 0.131
A187: NES | B187: 7NW200531 | C187: Slaley | D187: 45648 | E187: N | F187: 3.624 | G187: 0 | H187: 2 | I187: 306.28571 | J187: 291 | K187: =B187 = N187 -> TRUE | L187: =C187 = O187 -> TRUE | M187: NES | N187: 7NW200531 | O187: Slaley | P187: 45648 | Q187: N | R187: 0
A188: NES | B188: 7NW200556 | C188: WINEP Teesside Transfer to Stressholme (Teeside airport) | D188: 45819 | E188: Y | F188: 11.233 | G188: 0 | H188: 0.4 | I188: 711.57143 | J188: 1652 | K188: =B188 = N188 -> TRUE | L188: =C188 = O188 -> TRUE | M188: NES | N188: 7NW200556 | O188: WINEP Teesside Transfer to Stressholme (Teeside airport) | P188: 45819 | Q188: Y | R188: 0
A189: NES | B189: 7NW200568/7NW200568 | C189: Trimdon | D189: 46477 | E189: N | F189: 0.139 | G189: 0 | H189: 0.3 | I189: 4042.2857 | J189: 0 | K189: =B189 = N189 -> TRUE | L189: =C189 = O189 -> TRUE | M189: NES | N189: 7NW200568/7NW200568 | O189: Trimdon | P189: 46477 | Q189: N | R189: 0.113
A190: NES | B190: 7NW200583 | C190: Witton Gilbert | D190: 46477 | E190: N | F190: 2.439 | G190: 0 | H190: 0.7 | I190: 6189 | J190: 0 | K190: =B190 = N190 -> TRUE | L190: =C190 = O190 -> TRUE | M190: NES | N190: 7NW200583 | O190: Witton Gilbert | P190: 46477 | Q190: N | R190: 0
A191: SRN | B191: 7SO000013 /7SO200050 /7SO100170 | C191: AMP6-3 WTW Mayfield NEP5 | D191: 31/12/2021 | E191: N | F191: 1.393 | G191: 0 | H191: 1 | I191: 1830 | J191: 2123 | K191: =B191 = N191 -> TRUE | L191: =C191 = O191 -> TRUE | M191: SRN | N191: 7SO000013 /7SO200050 /7SO100170 | O191: AMP6-3 WTW Mayfield NEP5 | P191: 31/12/2021 | Q191: N | R191: 0.052
A192: SRN | B192: 7SO100169 | C192: AMP6-3 WTW Hawkhurst South NEP5 | D192: 31/12/2021 | E192: N | F192: 8.555 | G192: 0 | H192: 0.3 | I192: 2081 | J192: 2393 | K192: =B192 = N192 -> TRUE | L192: =C192 = O192 -> TRUE | M192: SRN | N192: 7SO100169 | O192: AMP6-3 WTW Hawkhurst South NEP5 | P192: 31/12/2021 | Q192: N | R192: 0.146
A193: SRN | B193: 7SO100171 | C193: AMP6-3 WTW Benenden NEP5 | D193: 31/12/2021 | E193: N | F193: 7.055 | G193: 0 | H193: 0.3 | I193: 716.42857 | J193: 1266 | K193: =B193 = N193 -> TRUE | L193: =C193 = O193 -> TRUE | M193: SRN | N193: 7SO100171 | O193: AMP6-3 WTW Benenden NEP5 | P193: 31/12/2021 | Q193: N | R193: 0.143
A194: SRN | B194: 7SO200046 | C194: Bidborough wwtw | D194: 31/03/2025 | E194: N | F194: 0 | G194: 0 | H194: 2 | I194: 9685.8571 | J194: 10256 | K194: =B194 = N194 -> TRUE | L194: =C194 = O194 -> TRUE | M194: SRN | N194: 7SO200046 | O194: Bidborough wwtw | P194: 31/03/2025 | Q194: N | R194: 0
A195: SRN | B195: 7SO200047 | C195: Luxfords Lane East Grinstead wwtw | D195: 31/03/2025 | E195: N | F195: 2.296 | G195: 0 | H195: 2 | I195: 10023.571 | J195: 11040 | K195: =B195 = N195 -> TRUE | L195: =C195 = O195 -> TRUE | M195: SRN | N195: 7SO200047 | O195: Luxfords Lane East Grinstead wwtw | P195: 31/03/2025 | Q195: N | R195: 0
A196: SRN | B196: 7SO200048 | C196: Ham Street WWTW | D196: 31/03/2025 | E196: N | F196: 0.401 | G196: 0 | H196: 2.6 | I196: 1626.4286 | J196: 1639 | K196: =B196 = N196 -> TRUE | L196: =C196 = O196 -> TRUE | M196: SRN | N196: 7SO200048 | O196: Ham Street WWTW | P196: 31/03/2025 | Q196: N | R196: 0.028
A197: SRN | B197: 7SO200049 | C197: Lydd WWTW | D197: 31/03/2025 | E197: N | F197: 1.408 | G197: 0 | H197: 5.6 | I197: 3931.2857 | J197: 3815 | K197: =B197 = N197 -> TRUE | L197: =C197 = O197 -> TRUE | M197: SRN | N197: 7SO200049 | O197: Lydd WWTW | P197: 31/03/2025 | Q197: N | R197: 0.036
A198: SRN | B198: 7SO200052 | C198: Robertsbridge WWTW | D198: 31/03/2025 | E198: N | F198: 1.258 | G198: 0 | H198: 4.7 | I198: 2263.4286 | J198: 2481 | K198: =B198 = N198 -> TRUE | L198: =C198 = O198 -> TRUE | M198: SRN | N198: 7SO200052 | O198: Robertsbridge WWTW | P198: 31/03/2025 | Q198: N | R198: 0
A199: SRN | B199: 7SO200053 | C199: Rolvenden Layne WWTW | D199: 31/03/2025 | E199: N | F199: 3.028 | G199: 0 | H199: 2.3 | I199: 390.14286 | J199: 354 | K199: =B199 = N199 -> TRUE | L199: =C199 = O199 -> TRUE | M199: SRN | N199: 7SO200053 | O199: Rolvenden Layne WWTW | P199: 31/03/2025 | Q199: N | R199: 0
A200: SRN | B200: 7SO200065 | C200: Battle WWTW | D200: 22/12/2024 | E200: N | F200: 2.106 | G200: 1 | H200: 0.5 | I200: 6465.1429 | J200: 5942 | K200: =B200 = N200 -> TRUE | L200: =C200 = O200 -> TRUE | M200: SRN | N200: 7SO200065 | O200: Battle WWTW | P200: 22/12/2024 | Q200: N | R200: 0.035
A201: SRN | B201: 7SO200068 | C201: Charing WWTW | D201: 22/12/2024 | E201: N | F201: 0.178 | G201: 1 | H201: 0.5 | I201: 2314.1429 | J201: 2703 | K201: =B201 = N201 -> TRUE | L201: =C201 = O201 -> TRUE | M201: SRN | N201: 7SO200068 | O201: Charing WWTW | P201: 22/12/2024 | Q201: N | R201: 0.008
A202: SRN | B202: 7SO200073 | C202: Herne Bay WWTW | D202: 22/12/2024 | E202: N | F202: 2.913 | G202: 2 | H202: 0.3 | I202: 43796.143 | J202: 39790 | K202: =B202 = N202 -> TRUE | L202: =C202 = O202 -> TRUE | M202: SRN | N202: 7SO200073 | O202: Herne Bay WWTW | P202: 22/12/2024 | Q202: N | R202: 0.115
... A286: SRN | B286: 7SO200082 | C286: Ticehurst WWTW (imp) | D286: 22/12/2024 | E286: N | F286: 4.239 | G286: 0 | H286: 0.3 | I286: 2762.8571 | J286: 2882 | K286: =B286 = N286 -> TRUE | L286: =C286 = O286 -> TRUE | M286: SRN | N286: 7SO200082 | O286: Ticehurst WWTW (imp) | P286: 22/12/2024 | Q286: N | R286: 0.034
A287: SVE | B287: 7CST0136 | C287: Welshpool STW | D287: 45566 | E287: N | F287: 0.953131 | G287: 0 | H287: 2 | I287: 8683.6333 | J287: 20791 | K287: =B287 = N287 -> TRUE | L287: =C287 = O287 -> TRUE | M287: SVE | N287: 7CST0136 | O287: Welshpool STW | P287: 45566 | Q287: N | R287: 0.0069133333
A288: SVE | B288: 7ST100244 | C288: BOTTESFORD (STW) | D288: 44438 | E288: N | F288: 1.9018192 | G288: 0 | H288: 1 | I288: 3873.6353 | J288: 5209 | K288: =B288 = N288 -> TRUE | L288: =C288 = O288 -> TRUE | M288: SVE | N288: 7ST100244 | O288: BOTTESFORD (STW) | P288: 44438 | Q288: N | R288: 0.42812
A289: SVE | B289: 7ST100245 | C289: CROXTON KERRIAL (STW) | D289: 45648 | E289: N | F289: 2.0288285 | G289: 0 | H289: 1 | I289: 568.53031 | J289: 861 | K289: =B289 = N289 -> TRUE | L289: =C289 = O289 -> TRUE | M289: SVE | N289: 7ST100245 | O289: CROXTON KERRIAL (STW) | P289: 45648 | Q289: N | R289: 0.031112723
A290: SVE | B290: 7ST100246 | C290: SCUNTHORPE-YADDLETHORPE (STW) | D290: 45747 | E290: N | F290: 7.9520116 | G290: 0 | H290: 0.2 | I290: 120503.85 | J290: 179879 | K290: =B290 = N290 -> TRUE | L290: =C290 = O290 -> TRUE | M290: SVE | N290: 7ST100246 | O290: SCUNTHORPE-YADDLETHORPE (STW) | P290: 45747 | Q290: N | R290: 0
A291: SVE | B291: 7ST100247 | C291: WADWORTH (STW) | D291: 45648 | E291: N | F291: 1.2162984 | G291: 0 | H291: 0.3 | I291: 1231.2763 | J291: 1638 | K291: =B291 = N291 -> TRUE | L291: =C291 = O291 -> TRUE | M291: SVE | N291: 7ST100247 | O291: WADWORTH (STW) | P291: 45648 | Q291: N | R291: 0.023054377
A292: SVE | B292: 7ST100248 | C292: WARMSWORTH (STW) | D292: 45648 | E292: N | F292: 2.0242952 | G292: 2 | H292: 0.5 | I292: 11503.972 | J292: 12468 | K292: =B292 = N292 -> TRUE | L292: =C292 = O292 -> TRUE | M292: SVE | N292: 7ST100248 | O292: WARMSWORTH (STW) | P292: 45648 | Q292: N | R292: 0
A293: SVE | B293: 7ST100252 | C293: ALCESTER (STW) | D293: 44375 | E293: N | F293: 2.3272989 | G293: 0 | H293: 1.6 | I293: 9457.037 | J293: 10273 | K293: =B293 = N293 -> TRUE | L293: =C293 = O293 -> TRUE | M293: SVE | N293: 7ST100252 | O293: ALCESTER (STW) | P293: 44375 | Q293: N | R293: 0.2242625
A294: SVE | B294: 7ST100253 | C294: ALVECHURCH (STW) | D294: 45648 | E294: N | F294: 2.2597968 | G294: 0 | H294: 0.25 | I294: 10465.193 | J294: 11939 | K294: =B294 = N294 -> TRUE | L294: =C294 = O294 -> TRUE | M294: SVE | N294: 7ST100253 | O294: ALVECHURCH (STW) | P294: 45648 | Q294: N | R294: 0
A295: SVE | B295: 7ST100254 | C295: ARLEY (STW) | D295: 45260 | E295: N | F295: 3.500193 | G295: 0 | H295: 0.3 | I295: 3940.8251 | J295: 4404 | K295: =B295 = N295 -> TRUE | L295: =C295 = O295 -> TRUE | M295: SVE | N295: 7ST100254 | O295: ARLEY (STW) | P295: 45260 | Q295: N | R295: 0.037599
A296: SVE | B296: 7ST100255 | C296: BROMSGROVE (STW) | D296: 44196 | E296: N | F296: 1.9497194 | G296: 2 | H296: 0.4 | I296: 59608.238 | J296: 87940 | K296: =B296 = N296 -> TRUE | L296: =C296 = O296 -> TRUE | M296: SVE | N296: 7ST100255 | O296: BROMSGROVE (STW) | P296: 44196 | Q296: N | R296: 0.7832745
A297: SVE | B297: 7ST100256 | C297: BURNTWOOD (STW) | D297: 45648 | E297: N | F297: 9.1464258 | G297: 0 | H297: 0.2 | I297: 45193.304 | J297: 55442 | K297: =B297 = N297 -> TRUE | L297: =C297 = O297 -> TRUE | M297: SVE | N297: 7ST100256 | O297: BURNTWOOD (STW) | P297: 45648 | Q297: N | R297: 0
A298: SVE | B298: 7ST100258 | C298: CANNOCK (STW) | D298: 44365 | E298: N | F298: 3.8527247 | G298: 1 | H298: 0.3 | I298: 63739.001 | J298: 73077 | K298: =B298 = N298 -> TRUE | L298: =C298 = O298 -> TRUE | M298: SVE | N298: 7ST100258 | O298: CANNOCK (STW) | P298: 44365 | Q298: N | R298: 0.53928325
... A762: YKY | B762: 7YW300682 | C762: Skipton UWWTD | D762: 45648 | E762: N | F762: 0 | G762: 0.5 | H762: 0.3 | I762: 19999.16 | J762: 19750 | K762: =B762 = N762 -> TRUE | L762: =C762 = O762 -> TRUE | M762: YKY | N762: 7YW300682 | O762: Skipton UWWTD | P762: 45648 | Q762: N | R762: 0
A763: Grand Total | F763: 3158.1572 | G763: 0.45013175 | H763: 0.86391304 | I763: 20589.599 | J763: 24095.547 | K763: =B763 = N763 -> TRUE | L763: =C763 = O763 -> TRUE | M763: Grand Total | R763: 49.896856
K764: =B764 = N764 -> TRUE | L764: =C764 = O764 -> TRUE

Sheet 7Fv9.0 data (2)
A1: oldcompanycode | B1: companycode | C1: eaid | D1: stw | E1: completion_date | F1: transfer | G1: capex | H1: opex | I1: historical_consent | J1: enhanced_consent | K1: pe_served | L1: pe_design
A2: Old Company | B2: Company | C2: EAid | D2: STW | E2: Completion date (DD/MM/YY) | F2: transfer dummy | G2: Capex | H2: Opex | I2: Historical consent | J2: Enhanced consent | K2: PE served | L2: PE design
A3: ='7Fv9.0 opex removed'!A4 -> ANH | B3: =INDEX( 'Company Mapping'!$B$4:$B$14, MATCH( '7Fv9.0 data (2)'!$A3, 'Company Mapping'!$A$4:$A$14, 0)) -> ANH | C3: ='7Fv9.0 opex removed'!B4 -> 7AW200053 | D3: ='7Fv9.0 opex removed'!C4 -> Ashbrook STW | E3: ='7Fv9.0 opex removed'!D4 -> 45657 | F3: =IF( '7Fv9.0 opex removed'!$E4 = "N", 0, 1 ) -> 0 | G3: ='7Fv9.0 opex removed'!F4 -> 0 | H3: ='7Fv9.0 opex removed'!R4 -> 0.012793949 | I3: ='7Fv9.0 opex removed'!G4 -> 1 | J3: ='7Fv9.0 opex removed'!H4 -> 0.7 | K3: ='7Fv9.0 opex removed'!I4 -> 3793.7268 | L3: ='7Fv9.0 opex removed'!J4 -> 3925.2518
A4: ='7Fv9.0 opex removed'!A5 -> ANH | B4: =INDEX( 'Company Mapping'!$B$4:$B$14, MATCH( '7Fv9.0 data (2)'!$A4, 'Company Mapping'!$A$4:$A$14, 0)) -> ANH | C4: ='7Fv9.0 opex removed'!B5 -> 7AW200054 | D4: ='7Fv9.0 opex removed'!C5 -> Ashton STW | E4: ='7Fv9.0 opex removed'!D5 -> 45648 | F4: =IF( '7Fv9.0 opex removed'!$E5 = "N", 0, 1 ) -> 0 | G4: ='7Fv9.0 opex removed'!F5 -> 2.5393197 | H4: ='7Fv9.0 opex removed'!R5 -> 0.1349505 | I4: ='7Fv9.0 opex removed'!G5 -> 0 | J4: ='7Fv9.0 opex removed'!H5 -> 0.3 | K4: ='7Fv9.0 opex removed'!I5 -> 5364.9126 | L4: ='7Fv9.0 opex removed'!J5 -> 5481
A5: ='7Fv9.0 opex removed'!A6 -> ANH | B5: =INDEX( 'Company Mapping'!$B$4:$B$14, MATCH( '7Fv9.0 data (2)'!$A5, 'Company Mapping'!$A$4:$A$14, 0)) -> ANH | C5: ='7Fv9.0 opex removed'!B6 -> 7AW200057 | D5: ='7Fv9.0 opex removed'!C6 -> Bassingbourn STW | E5: ='7Fv9.0 opex removed'!D6 -> 45648 | F5: =IF( '7Fv9.0 opex removed'!$E6 = "N", 0, 1 ) -> 0 | G5: ='7Fv9.0 opex removed'!F6 -> 1.419845 | H5: ='7Fv9.0 opex removed'!R6 -> 0.013250827 | I5: ='7Fv9.0 opex removed'!G6 -> 0 | J5: ='7Fv9.0 opex removed'!H6 -> 0.5 | K5: ='7Fv9.0 opex removed'!I6 -> 5007.5338 | L5: ='7Fv9.0 opex removed'!J6 -> 5238
A6: ='7Fv9.0 opex removed'!A7 -> ANH | B6: =INDEX( 'Company Mapping'!$B$4:$B$14, MATCH( '7Fv9.0 data (2)'!$A6, 'Company Mapping'!$A$4:$A$14, 0)) -> ANH | C6: ='7Fv9.0 opex removed'!B7 -> 7AW200062 | D6: ='7Fv9.0 opex removed'!C7 -> Bottisham STW | E6: ='7Fv9.0 opex removed'!D7 -> 45490 | F6: =IF( '7Fv9.0 opex removed'!$E7 = "N", 0, 1 ) -> 0 | G6: ='7Fv9.0 opex removed'!F7 -> 0.60646231 | H6: ='7Fv9.0 opex removed'!R7 -> 0.015221257 | I6: ='7Fv9.0 opex removed'!G7 -> 0 | J6: ='7Fv9.0 opex removed'!H7 -> 1 | K6: ='7Fv9.0 opex removed'!I7 -> 4043.6278 | L6: ='7Fv9.0 opex removed'!J7 -> 4307
A7: ='7Fv9.0 opex removed'!A8 -> ANH | B7: =INDEX( 'Company Mapping'!$B$4:$B$14, MATCH( '7Fv9.0 data (2)'!$A7, 'Company Mapping'!$A$4:$A$14, 0)) -> ANH | C7: ='7Fv9.0 opex removed'!B8 -> 7AW200063 | D7: ='7Fv9.0 opex removed'!C8 -> Bourn STW | E7: ='7Fv9.0 opex removed'!D8 -> 45560 | F7: =IF( '7Fv9.0 opex removed'!$E8 = "N", 0, 1 ) -> 0 | G7: ='7Fv9.0 opex removed'!F8 -> 0.66590247 | H7: ='7Fv9.0 opex removed'!R8 -> 0.015954911 | I7: ='7Fv9.0 opex removed'!G8 -> 0 | J7: ='7Fv9.0 opex removed'!H8 -> 0.5 | K7: ='7Fv9.0 opex removed'!I8 -> 3630.8113 | L7: ='7Fv9.0 opex removed'!J8 -> 3737
A8: ='7Fv9.0 opex removed'!A9 -> ANH | B8: =INDEX( 'Company Mapping'!$B$4:$B$14, MATCH( '7Fv9.0 data (2)'!$A8, 'Company Mapping'!$A$4:$A$14, 0)) -> ANH | C8: ='7Fv9.0 opex removed'!B9 -> 7AW200066 | D8: ='7Fv9.0 opex removed'!C9 -> Burwell STW | E8: ='7Fv9.0 opex removed'!D9 -> 45657 | F8: =IF( '7Fv9.0 opex removed'!$E9 = "N", 0, 1 ) -> 0 | G8: ='7Fv9.0 opex removed'!F9 -> 0 | H8: ='7Fv9.0 opex removed'!R9 -> 0.012793949 | I8: ='7Fv9.0 opex removed'!G9 -> 1 | J8: ='7Fv9.0 opex removed'!H9 -> 0.7 | K8: ='7Fv9.0 opex removed'!I9 -> 6560.696 | L8: ='7Fv9.0 opex removed'!J9 -> 6762.9608
A9: ='7Fv9.0 opex removed'!A10 -> ANH | B9: =INDEX( 'Company Mapping'!$B$4:$B$14, MATCH( '7Fv9.0 data (2)'!$A9, 'Company Mapping'!$A$4:$A$14, 0)) -> ANH | C9: ='7Fv9.0 opex removed'!B10 -> 7AW200067 | D9: ='7Fv9.0 opex removed'!C10 -> Carbrooke Church Rd STW (FTRS Scheme) | E9: ='7Fv9.0 opex removed'!D10 -> 45648 | F9: =IF( '7Fv9.0 opex removed'!$E10 = "N", 0, 1 ) -> 0 | G9: ='7Fv9.0 opex removed'!F10 -> 1.2069529 | H9: ='7Fv9.0 opex removed'!R10 -> 0.0048055289 | I9: ='7Fv9.0 opex removed'!G10 -> 0 | J9: ='7Fv9.0 opex removed'!H10 -> 1 | K9: ='7Fv9.0 opex removed'!I10 -> 266.39916 | L9: ='7Fv9.0 opex removed'!J10 -> 265
A10: ='7Fv9.0 opex removed'!A11 -> ANH | B10: =INDEX( 'Company Mapping'!$B$4:$B$14, MATCH( '7Fv9.0 data (2)'!$A10, 'Company Mapping'!$A$4:$A$14, 0)) -> ANH | C10: ='7Fv9.0 opex removed'!B11 -> 7AW200069 | D10: ='7Fv9.0 opex removed'!C11 -> Chippenham STW | E10: ='7Fv9.0 opex removed'!D11 -> 45559 | F10: =IF( '7Fv9.0 opex removed'!$E11 = "N", 0, 1 ) -> 0 | G10: ='7Fv9.0 opex removed'!F11 -> 1.1689661 | H10: ='7Fv9.0 opex removed'!R11 -> 0.023544998 | I10: ='7Fv9.0 opex removed'!G11 -> 0 | J10: ='7Fv9.0 opex removed'!H11 -> 1 | K10: ='7Fv9.0 opex removed'!I11 -> 474.44508 | L10: ='7Fv9.0 opex removed'!J11 -> 512
A11: ='7Fv9.0 opex removed'!A12 -> ANH | B11: =INDEX( 'Company Mapping'!$B$4:$B$14, MATCH( '7Fv9.0 data (2)'!$A11, 'Company Mapping'!$A$4:$A$14, 0)) -> ANH | C11: ='7Fv9.0 opex removed'!B12 -> 7AW200071 | D11: ='7Fv9.0 opex removed'!C12 -> Coney Weston STW | E11: ='7Fv9.0 opex removed'!D12 -> 45629 | F11: =IF( '7Fv9.0 opex removed'!$E12 = "N", 0, 1 ) -> 0 | G11: ='7Fv9.0 opex removed'!F12 -> 0.5264027 | H11: ='7Fv9.0 opex removed'!R12 -> 0.036680897 | I11: ='7Fv9.0 opex removed'!G12 -> 0 | J11: ='7Fv9.0 opex removed'!H12 -> 0.5 | K11: ='7Fv9.0 opex removed'!I12 -> 2486.8511 | L11: ='7Fv9.0 opex removed'!J12 -> 2320
A12: ='7Fv9.0 opex removed'!A13 -> ANH | B12: =INDEX( 'Company Mapping'!$B$4:$B$14, MATCH( '7Fv9.0 data (2)'!$A12, 'Company Mapping'!$A$4:$A$14, 0)) -> ANH | C12: ='7Fv9.0 opex removed'!B13 -> 7AW200072 | D12: ='7Fv9.0 opex removed'!C13 -> Coton STW | E12: ='7Fv9.0 opex removed'!D13 -> 45441 | F12: =IF( '7Fv9.0 opex removed'!$E13 = "N", 0, 1 ) -> 0 | G12: ='7Fv9.0 opex removed'!F13 -> 1.4467744 | H12: ='7Fv9.0 opex removed'!R13 -> 0.0088731204 | I12: ='7Fv9.0 opex removed'!G13 -> 0 | J12: ='7Fv9.0 opex removed'!H13 -> 0.8 | K12: ='7Fv9.0 opex removed'!I13 -> 1010.2284 | L12: ='7Fv9.0 opex removed'!J13 -> 1043
A13: ='7Fv9.0 opex removed'!A14 -> ANH | B13: =INDEX( 'Company Mapping'!$B$4:$B$14, MATCH( '7Fv9.0 data (2)'!$A13, 'Company Mapping'!$A$4:$A$14, 0)) -> ANH | C13: ='7Fv9.0 opex removed'!B14 -> 7AW200073 | D13: ='7Fv9.0 opex removed'!C14 -> Cublington (Wing) STW | E13: ='7Fv9.0 opex removed'!D14 -> 45524 | F13: =IF( '7Fv9.0 opex removed'!$E14 = "N", 0, 1 ) -> 0 | G13: ='7Fv9.0 opex removed'!F14 -> 2.3836829 | H13: ='7Fv9.0 opex removed'!R14 -> 0.05044057 | I13: ='7Fv9.0 opex removed'!G14 -> 0 | J13: ='7Fv9.0 opex removed'!H14 -> 0.4 | K13: ='7Fv9.0 opex removed'!I14 -> 3266.0675 | L13: ='7Fv9.0 opex removed'!J14 -> 3486
A14: ='7Fv9.0 opex removed'!A15 -> ANH | B14: =INDEX( 'Company Mapping'!$B$4:$B$14, MATCH( '7Fv9.0 data (2)'!$A14, 'Company Mapping'!$A$4:$A$14, 0)) -> ANH | C14: ='7Fv9.0 opex removed'!B15 -> 7AW200074 | D14: ='7Fv9.0 opex removed'!C15 -> Doddington STW | E14: ='7Fv9.0 opex removed'!D15 -> 44909 | F14: =IF( '7Fv9.0 opex removed'!$E15 = "N", 0, 1 ) -> 0 | G14: ='7Fv9.0 opex removed'!F15 -> 1.8452778 | H14: ='7Fv9.0 opex removed'!R15 -> 0.034939254 | I14: ='7Fv9.0 opex removed'!G15 -> 0 | J14: ='7Fv9.0 opex removed'!H15 -> 0.5 | K14: ='7Fv9.0 opex removed'!I15 -> 4027.1823 | L14: ='7Fv9.0 opex removed'!J15 -> 4402
... A761: ='7Fv9.0 opex removed'!A762 -> YKY | B761: =INDEX( 'Company Mapping'!$B$4:$B$14, MATCH( '7Fv9.0 data (2)'!$A761, 'Company Mapping'!$A$4:$A$14, 0)) -> YKY | C761: ='7Fv9.0 opex removed'!B762 -> 7YW300682 | D761: ='7Fv9.0 opex removed'!C762 -> Skipton UWWTD | E761: ='7Fv9.0 opex removed'!D762 -> 45648 | F761: =IF( '7Fv9.0 opex removed'!$E762 = "N", 0, 1 ) -> 0 | G761: ='7Fv9.0 opex removed'!F762 -> 0 | H761: ='7Fv9.0 opex removed'!R762 -> 0 | I761: ='7Fv9.0 opex removed'!G762 -> 0.5 | J761: ='7Fv9.0 opex removed'!H762 -> 0.3 | K761: ='7Fv9.0 opex removed'!I762 -> 19999.16 | L761: ='7Fv9.0 opex removed'!J762 -> 19750

Sheet Stata dataset (real)
A1: oldcompanycode | B1: companycode | C1: eaid | D1: stw | E1: completion_date | F1: transfer | G1: capex | H1: opex | I1: historical_consent | J1: enhanced_consent | K1: pe_served | L1: pe_design
A2: Old Company | B2: Company | C2: EAid | D2: STW | E2: Completion date (DD/MM/YY) | F2: transfer dummy | G2: Capex | H2: Opex | I2: Historical consent | J2: Enhanced consent | K2: PE served | L2: PE design
A3: ANH | B3: ANH | C3: 7AW200053 | D3: Ashbrook STW | E3: 45657 | F3: 0 | G3: 0 | H3: 0.012793949 | I3: 1 | J3: 0.7 | K3: 3793.7268 | L3: 3925.2518
A4: ANH | B4: ANH | C4: 7AW200054 | D4: Ashton STW | E4: 45648 | F4: 0 | G4: 2.5393197 | H4: 0.1349505 | I4: 0 | J4: 0.3 | K4: 5364.9126 | L4: 5481
A5: ANH | B5: ANH | C5: 7AW200057 | D5: Bassingbourn STW | E5: 45648 | F5: 0 | G5: 1.419845 | H5: 0.013250827 | I5: 0 | J5: 0.5 | K5: 5007.5338 | L5: 5238
A6: ANH | B6: ANH | C6: 7AW200062 | D6: Bottisham STW | E6: 45490 | F6: 0 | G6: 0.60646231 | H6: 0.015221257 | I6: 0 | J6: 1 | K6: 4043.6278 | L6: 4307
A7: ANH | B7: ANH | C7: 7AW200063 | D7: Bourn STW | E7: 45560 | F7: 0 | G7: 0.66590247 | H7: 0.015954911 | I7: 0 | J7: 0.5 | K7: 3630.8113 | L7: 3737
A8: ANH | B8: ANH | C8: 7AW200066 | D8: Burwell STW | E8: 45657 | F8: 0 | G8: 0 | H8: 0.012793949 | I8: 1 | J8: 0.7 | K8: 6560.696 | L8: 6762.9608
A9: ANH | B9: ANH | C9: 7AW200067 | D9: Carbrooke Church Rd STW (FTRS Scheme) | E9: 45648 | F9: 0 | G9: 1.2069529 | H9: 0.0048055289 | I9: 0 | J9: 1 | K9: 266.39916 | L9: 265
A10: ANH | B10: ANH | C10: 7AW200069 | D10: Chippenham STW | E10: 45559 | F10: 0 | G10: 1.1689661 | H10: 0.023544998 | I10: 0 | J10: 1 | K10: 474.44508 | L10: 512
A11: ANH | B11: ANH | C11: 7AW200071 | D11: Coney Weston STW | E11: 45629 | F11: 0 | G11: 0.5264027 | H11: 0.036680897 | I11: 0 | J11: 0.5 | K11: 2486.8511 | L11: 2320
A12: ANH | B12: ANH | C12: 7AW200072 | D12: Coton STW | E12: 45441 | F12: 0 | G12: 1.4467744 | H12: 0.0088731204 | I12: 0 | J12: 0.8 | K12: 1010.2284 | L12: 1043
A13: ANH | B13: ANH | C13: 7AW200073 | D13: Cublington (Wing) STW | E13: 45524 | F13: 0 | G13: 2.3836829 | H13: 0.05044057 | I13: 0 | J13: 0.4 | K13: 3266.0675 | L13: 3486
A14: ANH | B14: ANH | C14: 7AW200074 | D14: Doddington STW | E14: 44909 | F14: 0 | G14: 1.8452778 | H14: 0.034939254 | I14: 0 | J14: 0.5 | K14: 4027.1823 | L14: 4402
... A167: NES | B167: NES | C167: 7NW200065 | D167: Carlton Redmarshall | E167: 45648 | F167: 0 | G167: 3.449 | H167: 0.027 | I167: 0 | J167: 0.4 | K167: 2473.5714 | L167: 2921
A168: NES | B168: NES | C168: 7NW200067/7NW200067a | D168: Chilton Lane | E168: 22/12/2024/31/03/2025 | F168: 0 | G168: 2.313 | H168: 0.069 | I168: 0 | J168: 0.25 | K168: 2645.7143 | L168: 3354
A169: NES | B169: NES | C169: 7NW200071 | D169: Crookhall | E169: 45648 | F169: 0 | G169: 1.707 | H169: 0.009 | I169: 0 | J169: 0.9 | K169: 5044.2857 | L169: 4625
A170: NES | B170: NES | C170: 7NW200078 | D170: Dipton | E170: 45648 | F170: 0 | G170: 5.593 | H170: 0 | I170: 0 | J170: 1 | K170: 2300.4286 | L170: 2931
A171: NES | B171: NES | C171: 7NW200086/7NW200086a | D171: Esh Winning | E171: 22/12/2024*/31/03/2025 | F171: 0 | G171: 2.11 | H171: 0.009 | I171: 0 | J171: 0.6 | K171: 4109.1429 | L171: 5406
A172: NES | B172: NES | C172: 7NW200089/7NW200089 | D172: Fishburn | E172: 22/12/2024*/31/03/2025 | F172: 0 | G172: 3.062 | H172: 0.08 | I172: 0 | J172: 0.3 | K172: 2941.5714 | L172: 3502
A173: NES | B173: NES | C173: 7NW200461 | D173: Kelloe | E173: 45648 | F173: 0 | G173: 5.547 | H173: 0.049 | I173: 0 | J173: 0.3 | K173: 2337.5714 | L173: 2228
A174: NES | B174: NES | C174: 7NW200463 | D174: Kirklevington | E174: 45648 | F174: 1 | G174: 5.806 | H174: 0 | I174: 0 | J174: 0.3 | K174: 1248.5714 | L174: 1663
A175: NES | B175: NES | C175: 7NW200464/7NW200464a | D175: Knitsley | E175: 22/12/2024*/31/03/2025 | F175: 0 | G175: 3.714 | H175: 0 | I175: 0 | J175: 0.3 | K175: 5256.1429 | L175: 6846
A176: NES | B176: NES | C176: 7NW200465 | D176: Lanchester | E176: 45648 | F176: 0 | G176: 5.317 | H176: 0 | I176: 0 | J176: 0.7 | K176: 4427.1429 | L176: 5257.35
A177: NES | B177: NES | C177: 7NW200471 | D177: Longhorsley | E177: 45747 | F177: 0 | G177: 1.366 | H177: 0 | I177: 0 | J177: 2.26 | K177: 693.28571 | L177: 865
A178: NES | B178: NES | C178: 7NW200472 | D178: Longnewton to Stressholme via Goose Beck (Teesside Airport) | E178: 45747 | F178: 1 | G178: 0 | H178: 0 | I178: 0 | J178: 0.3 | K178: 720.57143 | L178: 629
A179: NES | B179: NES | C179: 7NW200494/7NW200494a | D179: New Moors | E179: 22/12/2024/31/03/2025 | F179: 0 | G179: 3.311 | H179: 0 | I179: 0 | J179: 0.4 | K179: 817.28571 | L179: 844
A180: NES | B180: NES | C180: 7NW200507 | D180: Pittington transfer to Sherburn | E180: 45648 | F180: 1 | G180: 0 | H180: 0 | I180: 0 | J180: 0.6 | K180: 1435.4286 | L180: 1752
A181: NES | B181: NES | C181: 7NW200508 | D181: Pity Me - Durham Transfer to Wear | E181: 45747 | F181: 1 | G181: 9.618 | H181: 0 | I181: 0 | J181: 0.3 | K181: 1429.8571 | L181: 1313
A182: NES | B182: NES | C182: 7NW200509 | D182: Plawsworth - Durham Transfer to Wear | E182: 45747 | F182: 1 | G182: 0 | H182: 0 | I182: 0 | J182: 1 | K182: 1403 | L182: 1437
A183: NES | B183: NES | C183: 7NW200521 | D183: Sacriston | E183: 45648 | F183: 0 | G183: 3.192 | H183: 0 | I183: 0 | J183: 0.25 | K183: 5086.8571 | L183: 6488
A184: NES | B184: NES | C184: 7NW200524/7NW200524a | D184: Sedgefield | E184: 22/12/2024/31/03/2025 | F184: 0 | G184: 3.257 | H184: 0.08 | I184: 0 | J184: 0.25 | K184: 4673.1429 | L184: 5414
A185: NES | B185: NES | C185: 7NW200527/7NW200527 | D185: Sherburn (including transfer from Pittington) | E185: 22/12/2024/31/03/2025 | F185: 0 | G185: 12.59 | H185: 0.131 | I185: 0 | J185: 0.5 | K185: 4671.5714 | L185: 5706
A186: NES | B186: NES | C186: 7NW200531 | D186: Slaley | E186: 45648 | F186: 0 | G186: 3.624 | H186: 0 | I186: 0 | J186: 2 | K186: 306.28571 | L186: 291
A187: NES | B187: NES | C187: 7NW200556 | D187: WINEP Teesside Transfer to Stressholme (Teeside airport) | E187: 45819 | F187: 1 | G187: 11.233 | H187: 0 | I187: 0 | J187: 0.4 | K187: 711.57143 | L187: 1652
A188: NES | B188: NES | C188: 7NW200568/7NW200568 | D188: Trimdon | E188: 46477 | F188: 0 | G188: 0.139 | H188: 0.113 | I188: 0 | J188: 0.3 | K188: 4042.2857 | L188: 0
A189: NES | B189: NES | C189: 7NW200583 | D189: Witton Gilbert | E189: 46477 | F189: 0 | G189: 2.439 | H189: 0 | I189: 0 | J189: 0.7 | K189: 6189 | L189: 0
A190: SRN | B190: SRN | C190: 7SO000013 /7SO200050 /7SO100170 | D190: AMP6-3 WTW Mayfield NEP5 | E190: 31/12/2021 | F190: 0 | G190: 1.393 | H190: 0.052 | I190: 0 | J190: 1 | K190: 1830 | L190: 2123
A191: SRN | B191: SRN | C191: 7SO100169 | D191: AMP6-3 WTW Hawkhurst South NEP5 | E191: 31/12/2021 | F191: 0 | G191: 8.555 | H191: 0.146 | I191: 0 | J191: 0.3 | K191: 2081 | L191: 2393
A192: SRN | B192: SRN | C192: 7SO100171 | D192: AMP6-3 WTW Benenden NEP5 | E192: 31/12/2021 | F192: 0 | G192: 7.055 | H192: 0.143 | I192: 0 | J192: 0.3 | K192: 716.42857 | L192: 1266
A193: SRN | B193: SRN | C193: 7SO200046 | D193: Bidborough wwtw | E193: 31/03/2025 | F193: 0 | G193: 0 | H193: 0 | I193: 0 | J193: 2 | K193: 9685.8571 | L193: 10256
A194: SRN | B194: SRN | C194: 7SO200047 | D194: Luxfords Lane East Grinstead wwtw | E194: 31/03/2025 | F194: 0 | G194: 2.296 | H194: 0 | I194: 0 | J194: 2 | K194: 10023.571 | L194: 11040
A195: SRN | B195: SRN | C195: 7SO200048 | D195: Ham Street WWTW | E195: 31/03/2025 | F195: 0 | G195: 0.401 | H195: 0.028 | I195: 0 | J195: 2.6 | K195: 1626.4286 | L195: 1639
A196: SRN | B196: SRN | C196: 7SO200049 | D196: Lydd WWTW | E196: 31/03/2025 | F196: 0 | G196: 1.408 | H196: 0.036 | I196: 0 | J196: 5.6 | K196: 3931.2857 | L196: 3815
A197: SRN | B197: SRN | C197: 7SO200052 | D197: Robertsbridge WWTW | E197: 31/03/2025 | F197: 0 | G197: 1.258 | H197: 0 | I197: 0 | J197: 4.7 | K197: 2263.4286 | L197: 2481
A198: SRN | B198: SRN | C198: 7SO200053 | D198: Rolvenden Layne WWTW | E198: 31/03/2025 | F198: 0 | G198: 3.028 | H198: 0 | I198: 0 | J198: 2.3 | K198: 390.14286 | L198: 354
A199: SRN | B199: SRN | C199: 7SO200065 | D199: Battle WWTW | E199: 22/12/2024 | F199: 0 | G199: 2.106 | H199: 0.035 | I199: 1 | J199: 0.5 | K199: 6465.1429 | L199: 5942
A200: SRN | B200: SRN | C200: 7SO200068 | D200: Charing WWTW | E200: 22/12/2024 | F200: 0 | G200: 0.178 | H200: 0.008 | I200: 1 | J200: 0.5 | K200: 2314.1429 | L200: 2703
A201: SRN | B201: SRN | C201: 7SO200073 | D201: Herne Bay WWTW | E201: 22/12/2024 | F201: 0 | G201: 2.913 | H201: 0.115 | I201: 2 | J201: 0.3 | K201: 43796.143 | L201: 39790
... A285: SRN | B285: SRN | C285: 7SO200082 | D285: Ticehurst WWTW (imp) | E285: 22/12/2024 | F285: 0 | G285: 4.239 | H285: 0.034 | I285: 0 | J285: 0.3 | K285: 2762.8571 | L285: 2882
A286: SVE | B286: SVE | C286: 7CST0136 | D286: Welshpool STW | E286: 45566 | F286: 0 | G286: 0.953131 | H286: 0.0069133333 | I286: 0 | J286: 2 | K286: 8683.6333 | L286: 20791
A287: SVE | B287: SVE | C287: 7ST100244 | D287: BOTTESFORD (STW) | E287: 44438 | F287: 0 | G287: 1.9018192 | H287: 0.42812 | I287: 0 | J287: 1 | K287: 3873.6353 | L287: 5209
A288: SVE | B288: SVE | C288: 7ST100245 | D288: CROXTON KERRIAL (STW) | E288: 45648 | F288: 0 | G288: 2.0288285 | H288: 0.031112723 | I288: 0 | J288: 1 | K288: 568.53031 | L288: 861
A289: SVE | B289: SVE | C289: 7ST100246 | D289: SCUNTHORPE-YADDLETHORPE (STW) | E289: 45747 | F289: 0 | G289: 7.9520116 | H289: 0 | I289: 0 | J289: 0.2 | K289: 120503.85 | L289: 179879
A290: SVE | B290: SVE | C290: 7ST100247 | D290: WADWORTH (STW) | E290: 45648 | F290: 0 | G290: 1.2162984 | H290: 0.023054377 | I290: 0 | J290: 0.3 | K290: 1231.2763 | L290: 1638
A291: SVE | B291: SVE | C291: 7ST100248 | D291: WARMSWORTH (STW) | E291: 45648 | F291: 0 | G291: 2.0242952 | H291: 0 | I291: 2 | J291: 0.5 | K291: 11503.972 | L291: 12468
A292: SVE | B292: SVE | C292: 7ST100252 | D292: ALCESTER (STW) | E292: 44375 | F292: 0 | G292: 2.3272989 | H292: 0.2242625 | I292: 0 | J292: 1.6 | K292: 9457.037 | L292: 10273
A293: SVE | B293: SVE | C293: 7ST100253 | D293: ALVECHURCH (STW) | E293: 45648 | F293: 0 | G293: 2.2597968 | H293: 0 | I293: 0 | J293: 0.25 | K293: 10465.193 | L293: 11939
A294: SVE | B294: SVE | C294: 7ST100254 | D294: ARLEY (STW) | E294: 45260 | F294: 0 | G294: 3.500193 | H294: 0.037599 | I294: 0 | J294: 0.3 | K294: 3940.8251 | L294: 4404
A295: SVE | B295: SVE | C295: 7ST100255 | D295: BROMSGROVE (STW) | E295: 44196 | F295: 0 | G295: 1.9497194 | H295: 0.7832745 | I295: 2 | J295: 0.4 | K295: 59608.238 | L295: 87940
A296: SVE | B296: SVE | C296: 7ST100256 | D296: BURNTWOOD (STW) | E296: 45648 | F296: 0 | G296: 9.1464258 | H296: 0 | I296: 0 | J296: 0.2 | K296: 45193.304 | L296: 55442
A297: SVE | B297: SVE | C297: 7ST100258 | D297: CANNOCK (STW) | E297: 44365 | F297: 0 | G297: 3.8527247 | H297: 0.53928325 | I297: 1 | J297: 0.3 | K297: 63739.001 | L297: 73077
... A761: YKY | B761: YKY | C761: 7YW300682 | D761: Skipton UWWTD | E761: 45648 | F761: 0 | G761: 0 | H761: 0 | I761: 0.5 | J761: 0.3 | K761: 19999.16 | L761: 19750
