Workbook

Sheet Cover
A1: Cover
B3: Delivery mechanism allowances
B5: Model code: | C5: PR24CA105
B6: Version number: | C6: 2
B7: File name: | C7: Delivery mechanism model
B8: Date: | C8: 45931
B10: For enquiries please contact: | C10: PR24@ofwat.gov.uk
B22: Contents:
B24: Tab name | C24: Description
B25: Flow diagram | C25: Simple diagram to show how the inputs flow into the outputs
B26: Inputs>> | C26: Empty sheet
B27: Input_TMS | C27: List of Thames Water delivery mechanism schemes
B28: Input_SRN | C28: List of Southern Water delivery mechanism
B29: Input_TMS_ADD25 | C29: Expenditure to be included in delivery mechanism and profile of this expenditure proposed by Thames Water
B30: Input_SRN_ADD25 | C30: Expenditure to be included in delivery mechanism and profile of this expenditure proposed by Souther Water
B31: Input_WW_Aggregator | C31: Allowances in relevant wastewater enhancement areas
B32: Input_W_Aggregator | C32: Allowances in relevant water enhancement areas
B33: Outputs>> | C33: Empty sheet
B34: TMS allowance | C34: Allowances included in delivery mechanism for Thames Water
B35: SRN allowance | C35: Allowances included in delivery mechanism for Southern Water
... B38: SRN schemes | C38: List of schemes included in delivery mechanism for Southern Water

Sheet Change log
B1: Change log
B3: Reference | C3: Sheet(s) in current model | D3: Description of change(s) made
B4: 1 | C4: Input_SRN | D4: Updated list of schemes for Southern Water

Sheet Flow diagram
A1: =RIGHT(CELL("filename", A1), LEN(CELL("filename", A1)) - SEARCH("]", CELL("filename", A1))) -> Flow diagram
A3: Conceptual model
A28: End of sheet

Sheet Inputs>>

Sheet Input_TMS
B1: OFW-REP-TMS-058
B2: TMS
B3: Delivery Mechanism
M5: Included in | O5: Cost - Core Plan / Delivery Mechanism | Q5: Cost - CW3 / CWW3
B6: Project name | C6: Units | D6: DPs | E6: Internal ID | F6: WINEP ID | G6: Scheme ID | H6: Year expected to be triggered | I6: Regulatory / EA compliance date | J6: Included in CW3 / CWW3? | K6: Relevant CW3/CWW3 line | L6: Estimated cost | M6: Core Plan? | N6: Delivery Mechanism? | O6: Core Plan | P6: Delivery Mechanism | Q6: CW3 | R6: CWW3 | S6: Duplication check | T6: Scheme
B7: FilterClear for Removal of Cypermethrin - Milton-Under-Wychwood STW | C7: £m | D7: 3 | E7: S40203 | F7: 08TW100489a | G7: Chemicals | H7: 2030-31 | I7: 46477 | J7: CWW3 | K7: CWW3.49 | L7: 12.426 | M7: No | N7: Yes | O7: =IF(M7="Yes",L7,0) -> 0 | P7: =IF(N7="Yes",L7,0) -> 12.426 | Q7: =IF(J7="CW3",L7,0) -> 0 | R7: =IF(J7="CWW3",L7,0) -> 12.426 | S7: =IF(M7=N7,"ERROR","Valid") -> Valid | T7: {=INDEX(Input_TMS_ADD25!$C$9:$C$24,MATCH(Input_TMS!K7,Input_TMS_ADD25!$B$9:$B$24,0),)} -> WINEP Chemicals | W7: =O7/L7 -> 0
B8: Middleton Cheney STW Cypermethrin - IMP & ND | C8: £m | D8: 3 | E8: S40580 | F8: There are 2 WINEP IDs delivered by this Solution | G8: Chemicals | H8: 2030-31 | I8: - | J8: CWW3 | K8: CWW3.49 | L8: 12.835 | M8: No | N8: Yes | O8: =IF(M8="Yes",L8,0) -> 0 | P8: =IF(N8="Yes",L8,0) -> 12.835 | Q8: =IF(J8="CW3",L8,0) -> 0 | R8: =IF(J8="CWW3",L8,0) -> 12.835 | S8: =IF(M8=N8,"ERROR","Valid") -> Valid | T8: {=INDEX(Input_TMS_ADD25!$C$9:$C$24,MATCH(Input_TMS!K8,Input_TMS_ADD25!$B$9:$B$24,0),)} -> WINEP Chemicals | W8: =O8/L8 -> 0
B9: Gerrards Cross STW Cypermethrin - IMP | C9: £m | D9: 3 | E9: S40608 | F9: 08TW100479a | G9: Chemicals | H9: 2030-31 | I9: 46477 | J9: CWW3 | K9: CWW3.49 | L9: 15.445 | M9: No | N9: Yes | O9: =IF(M9="Yes",L9,0) -> 0 | P9: =IF(N9="Yes",L9,0) -> 15.445 | Q9: =IF(J9="CW3",L9,0) -> 0 | R9: =IF(J9="CWW3",L9,0) -> 15.445 | S9: =IF(M9=N9,"ERROR","Valid") -> Valid | T9: {=INDEX(Input_TMS_ADD25!$C$9:$C$24,MATCH(Input_TMS!K9,Input_TMS_ADD25!$B$9:$B$24,0),)} -> WINEP Chemicals | W9: =O9/L9 -> 0
B10: Chertsey STW Cypermethrin - IMP | C10: £m | D10: 3 | E10: S40626 | F10: 08TW100474a | G10: Chemicals | H10: 2030-31 | I10: 46477 | J10: CWW3 | K10: CWW3.49 | L10: 69.793 | M10: No | N10: Yes | O10: =IF(M10="Yes",L10,0) -> 0 | P10: =IF(N10="Yes",L10,0) -> 69.793 | Q10: =IF(J10="CW3",L10,0) -> 0 | R10: =IF(J10="CWW3",L10,0) -> 69.793 | S10: =IF(M10=N10,"ERROR","Valid") -> Valid | T10: {=INDEX(Input_TMS_ADD25!$C$9:$C$24,MATCH(Input_TMS!K10,Input_TMS_ADD25!$B$9:$B$24,0),)} -> WINEP Chemicals | W10: =O10/L10 -> 0
B11: Bracknell STW Cypermethrin - IMP & ND | C11: £m | D11: 3 | E11: S40639 | F11: There are 2 WINEP IDs delivered by this Solution | G11: Chemicals | H11: 2030-31 | I11: - | J11: CWW3 | K11: CWW3.49 | L11: 52.003 | M11: No | N11: Yes | O11: =IF(M11="Yes",L11,0) -> 0 | P11: =IF(N11="Yes",L11,0) -> 52.003 | Q11: =IF(J11="CW3",L11,0) -> 0 | R11: =IF(J11="CWW3",L11,0) -> 52.003 | S11: =IF(M11=N11,"ERROR","Valid") -> Valid | T11: {=INDEX(Input_TMS_ADD25!$C$9:$C$24,MATCH(Input_TMS!K11,Input_TMS_ADD25!$B$9:$B$24,0),)} -> WINEP Chemicals | W11: =O11/L11 -> 0
B12: Wokingham STW Cypermethrin - IMP & ND | C12: £m | D12: 3 | E12: S40653 | F12: There are 2 WINEP IDs delivered by this Solution | G12: Chemicals | H12: 2030-31 | I12: - | J12: CWW3 | K12: CWW3.49 | L12: 22.292 | M12: No | N12: Yes | O12: =IF(M12="Yes",L12,0) -> 0 | P12: =IF(N12="Yes",L12,0) -> 22.292 | Q12: =IF(J12="CW3",L12,0) -> 0 | R12: =IF(J12="CWW3",L12,0) -> 22.292 | S12: =IF(M12=N12,"ERROR","Valid") -> Valid | T12: {=INDEX(Input_TMS_ADD25!$C$9:$C$24,MATCH(Input_TMS!K12,Input_TMS_ADD25!$B$9:$B$24,0),)} -> WINEP Chemicals | W12: =O12/L12 -> 0
B13: Arborfield STW Cypermethrin - IMP & ND | C13: £m | D13: 3 | E13: S40667 | F13: There are 2 WINEP IDs delivered by this Solution | G13: Chemicals | H13: 2030-31 | I13: - | J13: CWW3 | K13: CWW3.49 | L13: 22.975 | M13: No | N13: Yes | O13: =IF(M13="Yes",L13,0) -> 0 | P13: =IF(N13="Yes",L13,0) -> 22.975 | Q13: =IF(J13="CW3",L13,0) -> 0 | R13: =IF(J13="CWW3",L13,0) -> 22.975 | S13: =IF(M13=N13,"ERROR","Valid") -> Valid | T13: {=INDEX(Input_TMS_ADD25!$C$9:$C$24,MATCH(Input_TMS!K13,Input_TMS_ADD25!$B$9:$B$24,0),)} -> WINEP Chemicals | W13: =O13/L13 -> 0
B14: LITTLE MILTON STW- Phosphorus - 2-Point Dosing and TT | C14: £m | D14: 3 | E14: S38796 | F14: 08TW100917a | G14: Phosphorus | H14: 2030-31 | I14: 47573 | J14: CWW3 | K14: CWW3.64 | L14: 5.0426431 | M14: No | N14: Yes | O14: =IF(M14="Yes",L14,0) -> 0 | P14: =IF(N14="Yes",L14,0) -> 5.0426431 | Q14: =IF(J14="CW3",L14,0) -> 0 | R14: =IF(J14="CWW3",L14,0) -> 5.0426431 | S14: =IF(M14=N14,"ERROR","Valid") -> Valid | T14: {=INDEX(Input_TMS_ADD25!$C$9:$C$24,MATCH(Input_TMS!K14,Input_TMS_ADD25!$B$9:$B$24,0),)} -> WINEP Low P | W14: =O14/L14 -> 0
B15: Buckland STW - Phosphorus - 2-Point Dosing and TT | C15: £m | D15: 3 | E15: S38806 | F15: 08TW100954a | G15: Phosphorus | H15: 2030-31 | I15: 47573 | J15: CWW3 | K15: CWW3.64 | L15: 4.975567 | M15: No | N15: Yes | O15: =IF(M15="Yes",L15,0) -> 0 | P15: =IF(N15="Yes",L15,0) -> 4.975567 | Q15: =IF(J15="CW3",L15,0) -> 0 | R15: =IF(J15="CWW3",L15,0) -> 4.975567 | S15: =IF(M15=N15,"ERROR","Valid") -> Valid | T15: {=INDEX(Input_TMS_ADD25!$C$9:$C$24,MATCH(Input_TMS!K15,Input_TMS_ADD25!$B$9:$B$24,0),)} -> WINEP Low P | W15: =O15/L15 -> 0
B16: Didcot STW - Phosphorus - 2-Point Dosing and TT | C16: £m | D16: 3 | E16: S38821 | F16: 08TW100899a | G16: Phosphorus | H16: 2029-30 | I16: 47573 | J16: CWW3 | K16: CWW3.64 | L16: 19.989567 | M16: No | N16: Yes | O16: =IF(M16="Yes",L16,0) -> 0 | P16: =IF(N16="Yes",L16,0) -> 19.989567 | Q16: =IF(J16="CW3",L16,0) -> 0 | R16: =IF(J16="CWW3",L16,0) -> 19.989567 | S16: =IF(M16=N16,"ERROR","Valid") -> Valid | T16: {=INDEX(Input_TMS_ADD25!$C$9:$C$24,MATCH(Input_TMS!K16,Input_TMS_ADD25!$B$9:$B$24,0),)} -> WINEP Low P | W16: =O16/L16 -> 0
B17: Chacombe STW - Phosphorus - 2-Point Dosing and TT + Additional FST | C17: £m | D17: 3 | E17: S38841 | F17: 08TW100882a | G17: Phosphorus | H17: 2030-31 | I17: 47573 | J17: CWW3 | K17: CWW3.64 | L17: 4.1899929 | M17: No | N17: Yes | O17: =IF(M17="Yes",L17,0) -> 0 | P17: =IF(N17="Yes",L17,0) -> 4.1899929 | Q17: =IF(J17="CW3",L17,0) -> 0 | R17: =IF(J17="CWW3",L17,0) -> 4.1899929 | S17: =IF(M17=N17,"ERROR","Valid") -> Valid | T17: {=INDEX(Input_TMS_ADD25!$C$9:$C$24,MATCH(Input_TMS!K17,Input_TMS_ADD25!$B$9:$B$24,0),)} -> WINEP Low P | W17: =O17/L17 -> 0
B18: Henley STW - Phosphorus - 2-Point Dosing and TT | C18: £m | D18: 3 | E18: S38842 | F18: 08TW100908a | G18: Phosphorus | H18: 2030-31 | I18: 47573 | J18: CWW3 | K18: CWW3.64 | L18: 5.2810334 | M18: No | N18: Yes | O18: =IF(M18="Yes",L18,0) -> 0 | P18: =IF(N18="Yes",L18,0) -> 5.2810334 | Q18: =IF(J18="CW3",L18,0) -> 0 | R18: =IF(J18="CWW3",L18,0) -> 5.2810334 | S18: =IF(M18=N18,"ERROR","Valid") -> Valid | T18: {=INDEX(Input_TMS_ADD25!$C$9:$C$24,MATCH(Input_TMS!K18,Input_TMS_ADD25!$B$9:$B$24,0),)} -> WINEP Low P | W18: =O18/L18 -> 0
B19: Byfield STW - Phosphorus - 2-Point Dosing and TT | C19: £m | D19: 3 | E19: S38843 | F19: 08TW100880a | G19: Phosphorus | H19: 2030-31 | I19: 47573 | J19: CWW3 | K19: CWW3.64 | L19: 4.0031243 | M19: No | N19: Yes | O19: =IF(M19="Yes",L19,0) -> 0 | P19: =IF(N19="Yes",L19,0) -> 4.0031243 | Q19: =IF(J19="CW3",L19,0) -> 0 | R19: =IF(J19="CWW3",L19,0) -> 4.0031243 | S19: =IF(M19=N19,"ERROR","Valid") -> Valid | T19: {=INDEX(Input_TMS_ADD25!$C$9:$C$24,MATCH(Input_TMS!K19,Input_TMS_ADD25!$B$9:$B$24,0),)} -> WINEP Low P | W19: =O19/L19 -> 0
B20: Hanwell STW - Phosphorus - 2-Point Dosing and TT | C20: £m | D20: 3 | E20: S38915 | F20: 08TW100956a | G20: Phosphorus | H20: 2030-31 | I20: 47573 | J20: CWW3 | K20: CWW3.64 | L20: 3.9601923 | M20: No | N20: Yes | O20: =IF(M20="Yes",L20,0) -> 0 | P20: =IF(N20="Yes",L20,0) -> 3.9601923 | Q20: =IF(J20="CW3",L20,0) -> 0 | R20: =IF(J20="CWW3",L20,0) -> 3.9601923 | S20: =IF(M20=N20,"ERROR","Valid") -> Valid | T20: {=INDEX(Input_TMS_ADD25!$C$9:$C$24,MATCH(Input_TMS!K20,Input_TMS_ADD25!$B$9:$B$24,0),)} -> WINEP Low P | W20: =O20/L20 -> 0
B21: Swindon STW - Phosphorus - 1-Point Dosing and TT + Alkalinity Dosing | C21: £m | D21: 3 | E21: S38926 | F21: 08TW100939a | G21: Phosphorus | H21: 2029-30 | I21: 47573 | J21: CWW3 | K21: CWW3.64 | L21: 55.497926 | M21: No | N21: Yes | O21: =IF(M21="Yes",L21,0) -> 0 | P21: =IF(N21="Yes",L21,0) -> 55.497926 | Q21: =IF(J21="CW3",L21,0) -> 0 | R21: =IF(J21="CWW3",L21,0) -> 55.497926 | S21: =IF(M21=N21,"ERROR","Valid") -> Valid | T21: {=INDEX(Input_TMS_ADD25!$C$9:$C$24,MATCH(Input_TMS!K21,Input_TMS_ADD25!$B$9:$B$24,0),)} -> WINEP Low P | W21: =O21/L21 -> 0
B22: Maidenhead STW - Phosphorus - Bio-P and TT | C22: £m | D22: 3 | E22: S38931 | F22: There are 2 WINEP IDs delivered by this Solution | G22: Phosphorus | H22: 2030-31 | I22: - | J22: CWW3 | K22: CWW3.67 | L22: 33.001 | M22: No | N22: Yes | O22: =IF(M22="Yes",L22,0) -> 0 | P22: =IF(N22="Yes",L22,0) -> 33.001 | Q22: =IF(J22="CW3",L22,0) -> 0 | R22: =IF(J22="CWW3",L22,0) -> 33.001 | S22: =IF(M22=N22,"ERROR","Valid") -> Valid | T22: {=INDEX(Input_TMS_ADD25!$C$9:$C$24,MATCH(Input_TMS!K22,Input_TMS_ADD25!$B$9:$B$24,0),)} -> WINEP Low P | W22: =O22/L22 -> 0
B23: Tring STW- Phosphorus - 1-Point Dosing and TT + Alkalinity Dosing | C23: £m | D23: 3 | E23: S38932 | F23: 08TW100942a | G23: Phosphorus | H23: 2030-31 | I23: 47573 | J23: CWW3 | K23: CWW3.64 | L23: 8.4022031 | M23: No | N23: Yes | O23: =IF(M23="Yes",L23,0) -> 0 | P23: =IF(N23="Yes",L23,0) -> 8.4022031 | Q23: =IF(J23="CW3",L23,0) -> 0 | R23: =IF(J23="CWW3",L23,0) -> 8.4022031 | S23: =IF(M23=N23,"ERROR","Valid") -> Valid | T23: {=INDEX(Input_TMS_ADD25!$C$9:$C$24,MATCH(Input_TMS!K23,Input_TMS_ADD25!$B$9:$B$24,0),)} -> WINEP Low P | W23: =O23/L23 -> 0
B24: Thame STW - Phosphorus - 2-Point Dosing and TT + Alkalinity Dosing | C24: £m | D24: 3 | E24: S38933 | F24: 08TW101889a | G24: Phosphorus | H24: 2030-31 | I24: 47573 | J24: CWW3 | K24: CWW3.64 | L24: 5.3075842 | M24: No | N24: Yes | O24: =IF(M24="Yes",L24,0) -> 0 | P24: =IF(N24="Yes",L24,0) -> 5.3075842 | Q24: =IF(J24="CW3",L24,0) -> 0 | R24: =IF(J24="CWW3",L24,0) -> 5.3075842 | S24: =IF(M24=N24,"ERROR","Valid") -> Valid | T24: {=INDEX(Input_TMS_ADD25!$C$9:$C$24,MATCH(Input_TMS!K24,Input_TMS_ADD25!$B$9:$B$24,0),)} -> WINEP Low P | W24: =O24/L24 -> 0
B25: Princes Risborough STW - Phosphorus - 2-Point Dosing and TT | C25: £m | D25: 3 | E25: S38936 | F25: 08TW100925a | G25: Phosphorus | H25: 2030-31 | I25: 47573 | J25: CWW3 | K25: CWW3.64 | L25: 5.3539674 | M25: No | N25: Yes | O25: =IF(M25="Yes",L25,0) -> 0 | P25: =IF(N25="Yes",L25,0) -> 5.3539674 | Q25: =IF(J25="CW3",L25,0) -> 0 | R25: =IF(J25="CWW3",L25,0) -> 5.3539674 | S25: =IF(M25=N25,"ERROR","Valid") -> Valid | T25: {=INDEX(Input_TMS_ADD25!$C$9:$C$24,MATCH(Input_TMS!K25,Input_TMS_ADD25!$B$9:$B$24,0),)} -> WINEP Low P | W25: =O25/L25 -> 0
B26: Oxford (Sandford) STW - Phosphorus - 1-Point Dosing and TT | C26: £m | D26: 3 | E26: S38940 | F26: 08TW100924a | G26: Phosphorus | H26: 2029-30 | I26: 47573 | J26: CWW3 | K26: CWW3.64 | L26: 56.683341 | M26: No | N26: Yes | O26: =IF(M26="Yes",L26,0) -> 0 | P26: =IF(N26="Yes",L26,0) -> 56.683341 | Q26: =IF(J26="CW3",L26,0) -> 0 | R26: =IF(J26="CWW3",L26,0) -> 56.683341 | S26: =IF(M26=N26,"ERROR","Valid") -> Valid | T26: {=INDEX(Input_TMS_ADD25!$C$9:$C$24,MATCH(Input_TMS!K26,Input_TMS_ADD25!$B$9:$B$24,0),)} -> WINEP Low P | W26: =O26/L26 -> 0
B27: Basingstoke STW - Phosphorus - New TT + Alkalinity Dosing | C27: £m | D27: 3 | E27: S38948 | F27: 09TW100022a | G27: Phosphorus | H27: 2030-31 | I27: 47573 | J27: CWW3 | K27: CWW3.64 | L27: 17.856385 | M27: No | N27: Yes | O27: =IF(M27="Yes",L27,0) -> 0 | P27: =IF(N27="Yes",L27,0) -> 17.856385 | Q27: =IF(J27="CW3",L27,0) -> 0 | R27: =IF(J27="CWW3",L27,0) -> 17.856385 | S27: =IF(M27=N27,"ERROR","Valid") -> Valid | T27: {=INDEX(Input_TMS_ADD25!$C$9:$C$24,MATCH(Input_TMS!K27,Input_TMS_ADD25!$B$9:$B$24,0),)} -> WINEP Low P | W27: =O27/L27 -> 0
B28: Aldershot STW - Phosphorus - 2-Point Dosing and TT + Alkalinity Dosing | C28: £m | D28: 3 | E28: S38954 | F28: 08TW100862a | G28: Phosphorus | H28: 2030-31 | I28: 47573 | J28: CWW3 | K28: CWW3.64 | L28: 15.63782 | M28: No | N28: Yes | O28: =IF(M28="Yes",L28,0) -> 0 | P28: =IF(N28="Yes",L28,0) -> 15.63782 | Q28: =IF(J28="CW3",L28,0) -> 0 | R28: =IF(J28="CWW3",L28,0) -> 15.63782 | S28: =IF(M28=N28,"ERROR","Valid") -> Valid | T28: {=INDEX(Input_TMS_ADD25!$C$9:$C$24,MATCH(Input_TMS!K28,Input_TMS_ADD25!$B$9:$B$24,0),)} -> WINEP Low P | W28: =O28/L28 -> 0
B29: Berkhamstead STW - Phosphorus - New TT | C29: £m | D29: 3 | E29: S38965 | F29: 09TW100023a | G29: Phosphorus | H29: 2030-31 | I29: 47573 | J29: CWW3 | K29: CWW3.64 | L29: 5.9957934 | M29: No | N29: Yes | O29: =IF(M29="Yes",L29,0) -> 0 | P29: =IF(N29="Yes",L29,0) -> 5.9957934 | Q29: =IF(J29="CW3",L29,0) -> 0 | R29: =IF(J29="CWW3",L29,0) -> 5.9957934 | S29: =IF(M29=N29,"ERROR","Valid") -> Valid | T29: {=INDEX(Input_TMS_ADD25!$C$9:$C$24,MATCH(Input_TMS!K29,Input_TMS_ADD25!$B$9:$B$24,0),)} -> WINEP Low P | W29: =O29/L29 -> 0
B30: Banbury STW - Phosphorus - Bio-P and TT | C30: £m | D30: 3 | E30: S38967 | F30: 08TW100869a | G30: Phosphorus | H30: 2030-31 | I30: 47573 | J30: CWW3 | K30: CWW3.67 | L30: 32.548802 | M30: No | N30: Yes | O30: =IF(M30="Yes",L30,0) -> 0 | P30: =IF(N30="Yes",L30,0) -> 32.548802 | Q30: =IF(J30="CW3",L30,0) -> 0 | R30: =IF(J30="CWW3",L30,0) -> 32.548802 | S30: =IF(M30=N30,"ERROR","Valid") -> Valid | T30: {=INDEX(Input_TMS_ADD25!$C$9:$C$24,MATCH(Input_TMS!K30,Input_TMS_ADD25!$B$9:$B$24,0),)} -> WINEP Low P | W30: =O30/L30 -> 0
B31: WARMINGTON STW - Phosphorus - 2-Point Dosing and TT | C31: £m | D31: 3 | E31: S38973 | F31: 08TW100959a | G31: Phosphorus | H31: 2030-31 | I31: 47573 | J31: CWW3 | K31: CWW3.64 | L31: 3.955435 | M31: No | N31: Yes | O31: =IF(M31="Yes",L31,0) -> 0 | P31: =IF(N31="Yes",L31,0) -> 3.955435 | Q31: =IF(J31="CW3",L31,0) -> 0 | R31: =IF(J31="CWW3",L31,0) -> 3.955435 | S31: =IF(M31=N31,"ERROR","Valid") -> Valid | T31: {=INDEX(Input_TMS_ADD25!$C$9:$C$24,MATCH(Input_TMS!K31,Input_TMS_ADD25!$B$9:$B$24,0),)} -> WINEP Low P | W31: =O31/L31 -> 0
B32: Mollington STW - Phosphorus - 2-Point Dosing and TT | C32: £m | D32: 3 | E32: S38974 | F32: 08TW100957a | G32: Phosphorus | H32: 2030-31 | I32: 47573 | J32: CWW3 | K32: CWW3.64 | L32: 3.9701714 | M32: No | N32: Yes | O32: =IF(M32="Yes",L32,0) -> 0 | P32: =IF(N32="Yes",L32,0) -> 3.9701714 | Q32: =IF(J32="CW3",L32,0) -> 0 | R32: =IF(J32="CWW3",L32,0) -> 3.9701714 | S32: =IF(M32=N32,"ERROR","Valid") -> Valid | T32: {=INDEX(Input_TMS_ADD25!$C$9:$C$24,MATCH(Input_TMS!K32,Input_TMS_ADD25!$B$9:$B$24,0),)} -> WINEP Low P | W32: =O32/L32 -> 0
B33: Lower Middleton Cheney - Phosphorus - 2-Point Dosing and TT | C33: £m | D33: 3 | E33: S38975 | F33: 08TW100919a | G33: Phosphorus | H33: 2030-31 | I33: 47573 | J33: CWW3 | K33: CWW3.64 | L33: 5.4177288 | M33: No | N33: Yes | O33: =IF(M33="Yes",L33,0) -> 0 | P33: =IF(N33="Yes",L33,0) -> 5.4177288 | Q33: =IF(J33="CW3",L33,0) -> 0 | R33: =IF(J33="CWW3",L33,0) -> 5.4177288 | S33: =IF(M33=N33,"ERROR","Valid") -> Valid | T33: {=INDEX(Input_TMS_ADD25!$C$9:$C$24,MATCH(Input_TMS!K33,Input_TMS_ADD25!$B$9:$B$24,0),)} -> WINEP Low P | W33: =O33/L33 -> 0
B34: Farnborough STW - Phosphorus - Dosing Only | C34: £m | D34: 3 | E34: S38976 | F34: 08TW100955a | G34: Phosphorus | H34: 2030-31 | I34: 47573 | J34: CWW3 | K34: CWW3.64 | L34: 3.5795275 | M34: No | N34: Yes | O34: =IF(M34="Yes",L34,0) -> 0 | P34: =IF(N34="Yes",L34,0) -> 3.5795275 | Q34: =IF(J34="CW3",L34,0) -> 0 | R34: =IF(J34="CWW3",L34,0) -> 3.5795275 | S34: =IF(M34=N34,"ERROR","Valid") -> Valid | T34: {=INDEX(Input_TMS_ADD25!$C$9:$C$24,MATCH(Input_TMS!K34,Input_TMS_ADD25!$B$9:$B$24,0),)} -> WINEP Low P | W34: =O34/L34 -> 0
... B280: Leatherhead STW Storm Overflow - Option 4 - NEW | C280: £m | D280: 3 | E280: S42167 | F280: 10TW100025a | G280: Storm Overflows | H280: 2030-31 | I280: 47573 | J280: CWW3 | K280: CWW3.46 | L280: 1.444 | M280: No | N280: Yes | O280: =IF(M280="Yes",L280,0) -> 0 | P280: =IF(N280="Yes",L280,0) -> 1.444 | Q280: =IF(J280="CW3",L280,0) -> 0 | R280: =IF(J280="CWW3",L280,0) -> 1.444 | S280: =IF(M280=N280,"ERROR","Valid") -> Valid | T280: {=INDEX(Input_TMS_ADD25!$C$9:$C$24,MATCH(Input_TMS!K280,Input_TMS_ADD25!$B$9:$B$24,0),)} -> WINEP Storm Overflows | W280: =O280/L280 -> 0
N281: Total | O281: =SUM(O7:O280) -> 0 | P281: =SUM(P7:P280) -> 1369.1059 | Q281: =SUM(Q7:Q280) -> 0 | R281: =SUM(R7:R280) -> 1369.1059
G286: Chemicals | L286: =SUMIF($G$7:$G$280,$G286,$L$7:$L$280) -> 207.769 | O286: =SUMIF($G$7:$G$280,$G286,$O$7:$O$280) -> 0 | P286: =SUMIF($G$7:$G$280,$G286,$P$7:$P$280) -> 207.769 | R286: =SUMIF($G$7:$G$280,$G286,$R$7:$R$280) -> 207.769
G287: Phosphorus | L287: =SUMIF($G$7:$G$280,$G287,$L$7:$L$280) -> 650.8419 | O287: =SUMIF($G$7:$G$280,$G287,$O$7:$O$280) -> 0 | P287: =SUMIF($G$7:$G$280,$G287,$P$7:$P$280) -> 650.8419 | R287: =SUMIF($G$7:$G$280,$G287,$R$7:$R$280) -> 650.8419
G288: Storm Overflows | L288: =SUMIF($G$7:$G$280,$G288,$L$7:$L$280) -> 510.495 | O288: =SUMIF($G$7:$G$280,$G288,$O$7:$O$280) -> 0 | P288: =SUMIF($G$7:$G$280,$G288,$P$7:$P$280) -> 510.495 | R288: =SUMIF($G$7:$G$280,$G288,$R$7:$R$280) -> 510.495
G289: PCD 0 (Liquor Monitoring & Waste Acceptance) | L289: =SUMIF($G$7:$G$280,$G289,$L$7:$L$280) -> 0 | O289: =SUMIF($G$7:$G$280,$G289,$O$7:$O$280) -> 0 | P289: =SUMIF($G$7:$G$280,$G289,$P$7:$P$280) -> 0 | R289: =SUMIF($G$7:$G$280,$G289,$R$7:$R$280) -> 0
G290: PCD 1 (Containment and Enabling) | L290: =SUMIF($G$7:$G$280,$G290,$L$7:$L$280) -> 0 | O290: =SUMIF($G$7:$G$280,$G290,$O$7:$O$280) -> 0 | P290: =SUMIF($G$7:$G$280,$G290,$P$7:$P$280) -> 0 | R290: =SUMIF($G$7:$G$280,$G290,$R$7:$R$280) -> 0
...

Sheet Input_SRN
A2: Southern Water
A3: Delivery Mechanism
L5: Included in | N5: Cost - Core Plan / Delivery Mechanism | P5: Cost - CW3 / CWW3
A6: Project name | B6: Units | C6: DPs | D6: Internal ID | E6: WINEP ID | F6: Scheme ID | G6: Year expected to be triggered | H6: Regulatory / EA compliance date | I6: Included in CW3 / CWW3? | J6: Relevant CW3/CWW3 line | K6: Cost | L6: Core Plan? | M6: Delivery Mechanism? | N6: Core Plan | O6: Delivery Mechanism | P6: CW3 | Q6: CWW3 | R6: Duplication check | S6: Scheme type
A8: ALBANY ROAD EAST COWES CEO | B8: £m | C8: 3 | D8: SRN0274 | E8: 08SO103200a | F8: N/A | G8: 2027-28 | H8: 49399 | I8: CWW3 | J8: CWW3.18, CWW3.21, CWW3.24, CWW3.27, CWW3.36, CWW3.39, CWW3.42, CWW3.48 | K8: 1.824407 | L8: No | M8: Yes | N8: =IF(L8="Yes",#REF!,0) -> 0 | O8: =K8 -> 1.824407 | P8: =IF(I8="CW3",K8,0) -> 0 | Q8: =IF(I8="CWW3",K8,0) -> 1.824407 | R8: =IF(L8=M8,"ERROR","Valid") -> Valid | S8: Storm Overflows
A9: APPLE TREE LANE TUNBRIDGE WELLS CSO | B9: £m | C9: 3 | D9: SRN0291 | E9: 08SO103926a | F9: N/A | G9: 2027-28 | H9: 49399 | I9: CWW3 | J9: CWW3.18, CWW3.21, CWW3.24, CWW3.27, CWW3.36, CWW3.39, CWW3.42, CWW3.48 | K9: 3.7318583 | L9: No | M9: Yes | N9: =IF(L9="Yes",#REF!,0) -> 0 | O9: =K9 -> 3.7318583 | P9: =IF(I9="CW3",K9,0) -> 0 | Q9: =IF(I9="CWW3",K9,0) -> 3.7318583 | R9: =IF(L9=M9,"ERROR","Valid") -> Valid | S9: Storm Overflows
A10: ASHLETT CREEK FAWLEY SSO | B10: £m | C10: 3 | D10: SRN0295 | E10: 08SO103259a | F10: N/A | G10: 2027-28 | H10: 49399 | I10: CWW3 | J10: CWW3.18, CWW3.21, CWW3.24, CWW3.27, CWW3.36, CWW3.39, CWW3.42, CWW3.48 | K10: 0.21352129 | L10: No | M10: Yes | N10: =IF(L10="Yes",#REF!,0) -> 0 | O10: =K10 -> 0.21352129 | P10: =IF(I10="CW3",K10,0) -> 0 | Q10: =IF(I10="CWW3",K10,0) -> 0.21352129 | R10: =IF(L10=M10,"ERROR","Valid") -> Valid | S10: Storm Overflows
A11: BARGE LANE WOOTTON BRIDGE OUTSIDE 5 CSO | B11: £m | C11: 3 | D11: SRN0327 | E11: 08SO103248a | F11: N/A | G11: 2027-28 | H11: 49399 | I11: CWW3 | J11: CWW3.18, CWW3.21, CWW3.24, CWW3.27, CWW3.36, CWW3.39, CWW3.42, CWW3.48 | K11: 0.28851485 | L11: No | M11: Yes | N11: =IF(L11="Yes",#REF!,0) -> 0 | O11: =K11 -> 0.28851485 | P11: =IF(I11="CW3",K11,0) -> 0 | Q11: =IF(I11="CWW3",K11,0) -> 0.28851485 | R11: =IF(L11=M11,"ERROR","Valid") -> Valid | S11: Storm Overflows
A12: BARNETTS BRIDGE GRAFFHAM CEO | B12: £m | C12: 3 | D12: SRN0348 | E12: 08SO103961a | F12: N/A | G12: 2027-28 | H12: 49399 | I12: CWW3 | J12: CWW3.18, CWW3.21, CWW3.24, CWW3.27, CWW3.36, CWW3.39, CWW3.42, CWW3.48 | K12: 6.084 | L12: No | M12: Yes | N12: =IF(L12="Yes",#REF!,0) -> 0 | O12: =K12 -> 6.084 | P12: =IF(I12="CW3",K12,0) -> 0 | Q12: =IF(I12="CWW3",K12,0) -> 6.084 | R12: =IF(L12=M12,"ERROR","Valid") -> Valid | S12: Storm Overflows
A13: BEAULIEU VILLAGE SSO | B13: £m | C13: 3 | D13: SRN0372 | E13: 08SO103281a | F13: N/A | G13: 2027-28 | H13: 49399 | I13: CWW3 | J13: CWW3.18, CWW3.21, CWW3.24, CWW3.27, CWW3.36, CWW3.39, CWW3.42, CWW3.48 | K13: 0.42433979 | L13: No | M13: Yes | N13: =IF(L13="Yes",#REF!,0) -> 0 | O13: =K13 -> 0.42433979 | P13: =IF(I13="CW3",K13,0) -> 0 | Q13: =IF(I13="CWW3",K13,0) -> 0.42433979 | R13: =IF(L13=M13,"ERROR","Valid") -> Valid | S13: Storm Overflows
A14: BILLINGSHURST SSO | B14: £m | C14: 3 | D14: SRN0395 | E14: 08SO103922a | F14: N/A | G14: 2027-28 | H14: 49399 | I14: CWW3 | J14: CWW3.18, CWW3.21, CWW3.24, CWW3.27, CWW3.36, CWW3.39, CWW3.42, CWW3.48 | K14: 0.77480301 | L14: No | M14: Yes | N14: =IF(L14="Yes",#REF!,0) -> 0 | O14: =K14 -> 0.77480301 | P14: =IF(I14="CW3",K14,0) -> 0 | Q14: =IF(I14="CWW3",K14,0) -> 0.77480301 | R14: =IF(L14=M14,"ERROR","Valid") -> Valid | S14: Storm Overflows
A15: BLECHYNDEN TERRACE SOUTHAMPTON CSO | B15: £m | C15: 3 | D15: SRN0397 | E15: 08SO103201a | F15: N/A | G15: 2027-28 | H15: 49399 | I15: CWW3 | J15: CWW3.18, CWW3.21, CWW3.24, CWW3.27, CWW3.36, CWW3.39, CWW3.42, CWW3.48 | K15: 1.8158457 | L15: No | M15: Yes | N15: =IF(L15="Yes",#REF!,0) -> 0 | O15: =K15 -> 1.8158457 | P15: =IF(I15="CW3",K15,0) -> 0 | Q15: =IF(I15="CWW3",K15,0) -> 1.8158457 | R15: =IF(L15=M15,"ERROR","Valid") -> Valid | S15: Storm Overflows
A16: BOW BRIDGE FRESHWATER CEO | B16: £m | C16: 3 | D16: SRN0415 | E16: 08SO103224a | F16: N/A | G16: 2027-28 | H16: 49399 | I16: CWW3 | J16: CWW3.18, CWW3.21, CWW3.24, CWW3.27, CWW3.36, CWW3.39, CWW3.42, CWW3.48 | K16: 0.52823046 | L16: No | M16: Yes | N16: =IF(L16="Yes",#REF!,0) -> 0 | O16: =K16 -> 0.52823046 | P16: =IF(I16="CW3",K16,0) -> 0 | Q16: =IF(I16="CWW3",K16,0) -> 0.52823046 | R16: =IF(L16=M16,"ERROR","Valid") -> Valid | S16: Storm Overflows
A17: BROADSTAIRS CEO | B17: £m | C17: 3 | D17: SRN0417 | E17: 08SO102960a | F17: N/A | G17: 2027-28 | H17: 49399 | I17: CWW3 | J17: CWW3.18, CWW3.21, CWW3.24, CWW3.27, CWW3.36, CWW3.39, CWW3.42, CWW3.48 | K17: 8.2719006 | L17: No | M17: Yes | N17: =IF(L17="Yes",#REF!,0) -> 0 | O17: =K17 -> 8.2719006 | P17: =IF(I17="CW3",K17,0) -> 0 | Q17: =IF(I17="CWW3",K17,0) -> 8.2719006 | R17: =IF(L17=M17,"ERROR","Valid") -> Valid | S17: Storm Overflows
A18: BROCKENHURST CSO | B18: £m | C18: 3 | D18: SRN0424 | E18: 08SO100089a | F18: N/A | G18: 2027-28 | H18: 49399 | I18: CWW3 | J18: CWW3.18, CWW3.21, CWW3.24, CWW3.27, CWW3.36, CWW3.39, CWW3.42, CWW3.48 | K18: 0.52 | L18: No | M18: Yes | N18: =IF(L18="Yes",#REF!,0) -> 0 | O18: =K18 -> 0.52 | P18: =IF(I18="CW3",K18,0) -> 0 | Q18: =IF(I18="CWW3",K18,0) -> 0.52 | R18: =IF(L18=M18,"ERROR","Valid") -> Valid | S18: Storm Overflows
A19: BROCKENHURST SSO | B19: £m | C19: 3 | D19: SRN0425 | E19: 08SO103963a | F19: N/A | G19: 2027-28 | H19: 49399 | I19: CWW3 | J19: CWW3.18, CWW3.21, CWW3.24, CWW3.27, CWW3.36, CWW3.39, CWW3.42, CWW3.48 | K19: 1.323 | L19: No | M19: Yes | N19: =IF(L19="Yes",#REF!,0) -> 0 | O19: =K19 -> 1.323 | P19: =IF(I19="CW3",K19,0) -> 0 | Q19: =IF(I19="CWW3",K19,0) -> 1.323 | R19: =IF(L19=M19,"ERROR","Valid") -> Valid | S19: Storm Overflows
... A92: WOOLSTON SSO | B92: £m | C92: 3 | D92: SRN0973 | E92: 08SO103205a | F92: N/A | G92: 2027-28 | H92: 49399 | I92: CWW3 | J92: CWW3.18, CWW3.21, CWW3.24, CWW3.27, CWW3.36, CWW3.39, CWW3.42, CWW3.48 | K92: 4.6271957 | L92: No | M92: Yes | N92: =IF(L92="Yes",#REF!,0) -> 0 | O92: =K92 -> 4.6271957 | P92: =IF(I92="CW3",K92,0) -> 0 | Q92: =IF(I92="CWW3",K92,0) -> 4.6271957 | R92: =IF(L92=M92,"ERROR","Valid") -> Valid | S92: Storm Overflows

Sheet Input_SRN_ADD25
B2: ADD25
B4: Delivery mechanism expenditure
B6: Relevant CW3/CWW3 totex line | C6: Additional evidence/commentary source | D6: Year scheme triggered | E6: Units | F6: DPs | G6: Expenditure by year - pre frontier shift and real price effects (22-23 price base) | M6: Expenditure by year - post frontier shift and real price effects (22-23 price base)
G7: 2025-26 | H7: 2026-27 | I7: 2027-28 | J7: 2028-29 | K7: 2029-30 | L7: 2025-30 | M7: 2025-26 | N7: 2026-27 | O7: 2027-28 | P7: 2028-29 | Q7: 2029-30 | R7: 2025-30 | T7: PR24 BP reference
B9: CWW3.9 | C9: Continuous water Q Monitoring | D9: 2026 | E9: £m | F9: 3 | G9: 0 | H9: 9.89 | I9: 9.89 | J9: 10.32 | K9: 4.3 | L9: =SUM(G9:K9) -> 34.4 | M9: 0 | N9: 9.963 | O9: 9.989 | P9: 10.446 | Q9: 4.36 | R9: =SUM(M9:Q9) -> 34.758 | T9: ADD25.1
B10: CWW3.66 | C10: Treatment for phosphorus removal (chemical) | D10: 2026 | E10: £m | F10: 3 | G10: 0 | H10: 14.294 | I10: 28.242 | J10: 36.313 | K10: 10.737 | L10: =SUM(G10:K10) -> 89.586 | M10: 0 | N10: 14.4 | O10: 28.525 | P10: 36.755 | Q10: 10.995 | R10: =SUM(M10:Q10) -> 90.675 | T10: ADD25.2
B11: CWW3.69 | C11: Treatment for phosphorus removal (biological) | D11: 2026 | E11: £m | F11: 3 | G11: 0 | H11: 4.514 | I11: 7.899 | J11: 7.899 | K11: 2.573 | L11: =SUM(G11:K11) -> 22.885 | M11: 0 | N11: 4.547 | O11: 7.978 | P11: 7.995 | Q11: 2.626 | R11: =SUM(M11:Q11) -> 23.146 | T11: ADD25.3 | AC11: ADD24a.3
B12: CWW3.57 | C12: Treatment for total nitrogen removal (chemical) | D12: 2026 | E12: £m | F12: 3 | G12: 0 | H12: 32.461 | I12: 50.108 | J12: 52.179 | K12: 18.667 | L12: =SUM(G12:K12) -> 153.415 | M12: 0 | N12: 32.701 | O12: 50.61 | P12: 52.814 | Q12: 19.077 | R12: =SUM(M12:Q12) -> 155.202 | T12: ADD25.4
B13: CWW3.18, CWW3.21, CWW3.24, CWW3.27, CWW3.36, CWW3.39, CWW3.42, CWW3.48 | C13: Storm Overflows (2035s) | D13: 2028 | E13: £m | F13: 3 | G13: 0 | H13: 0 | I13: 0 | J13: 146.43 | K13: 149.338 | L13: =SUM(G13:K13) -> 295.768 | M13: 0 | N13: 0 | O13: 0 | P13: 148.211 | Q13: 151.571 | R13: =SUM(M13:Q13) -> 299.782 | T13: ADD25.5
B14: CWW3.51 | C14: Treatment for chemical removal | D14: 2026 | E14: £m | F14: 3 | G14: 0 | H14: 2.236 | I14: 3.912 | J14: 3.912 | K14: 1.151 | L14: =SUM(G14:K14) -> 11.211 | M14: 0 | N14: 2.253 | O14: 3.951 | P14: 3.96 | Q14: 1.169 | R14: =SUM(M14:Q14) -> 11.333 | T14: ADD25.6
B15: CWW3.75 | C15: Treatment for tightening of sanitary parameters | D15: 2026 | E15: £m | F15: 3 | G15: 0 | H15: 6.438 | I15: 11.267 | J15: 11.267 | K15: 3.617 | L15: =SUM(G15:K15) -> 32.589 | M15: 0 | N15: 6.486 | O15: 11.38 | P15: 11.404 | Q15: 3.689 | R15: =SUM(M15:Q15) -> 32.959 | T15: ADD25.7
B16: CW3.120 | C16: Water Network Resilience and disinfection. See SRN-DDR-036. | D16: 2025 | E16: £m | F16: 3 | G16: 0 | H16: 14.811 | I16: 18.811 | J16: 16.411 | K16: 5.511 | L16: =SUM(G16:K16) -> 55.544 | M16: 0 | N16: 14.92 | O16: 18.999 | P16: 16.611 | Q16: 5.587 | R16: =SUM(M16:Q16) -> 56.117 | T16: ADD25.8
B17: CW3.43, CW3.52, CW3.55 | C17: Other WRMP Supply and interconnector schemes. This line totals all other WRMP Supply and interconnector schemes that have not been included in the other mechanisms that are included in Supply schemes delivering benefit 25-30 (CW3.43), interconnectors delivering benefit 25-30 (CW3.52) and supply and demand balance improvements delivering benfit from 2031 (CW3.55) CW lines. See SRN-DDR-027. | D17: 2025 | E17: £m | F17: 3 | G17: 0 | H17: 56.018671 | I17: 28.04782 | J17: 41.638259 | K17: 39.861385 | L17: =SUM(G17:K17) -> 165.56614 | M17: 0 | N17: 56.436 | O17: 28.349 | P17: 42.184 | Q17: 40.46 | R17: =SUM(M17:Q17) -> 167.429 | T17: ADD25.10
B18: CW3.134 | C18: WRMP Mains Replacement. See SRN-DDR-028. | D18: 2025 | E18: £m | F18: 3 | G18: 0 | H18: 16.021 | I18: 25.32 | J18: 36.677 | K18: 41.229 | L18: =SUM(G18:K18) -> 119.247 | M18: 0 | N18: 16.139 | O18: 25.573 | P18: 37.123 | Q18: 41.801 | R18: =SUM(M18:Q18) -> 120.636 | T18: ADD25.11
L19: =SUM(G19:K19) -> 0 | R19: =SUM(M19:Q19) -> 0 | T19: ADD25.12

Sheet Input_TMS_ADD25
B2: ADD25
B4: Delivery mechanism expenditure
B6: Relevant CW3/CWW3 totex line | C6: Additional evidence/commentary source | D6: Year scheme triggered | E6: Units | F6: DPs | G6: Expenditure by year - pre frontier shift and real price effects (22-23 price base) | M6: Expenditure by year - post frontier shift and real price effects (22-23 price base)
G7: 2025-26 | H7: 2026-27 | I7: 2027-28 | J7: 2028-29 | K7: 2029-30 | L7: 2025-30 | M7: 2025-26 | N7: 2026-27 | O7: 2027-28 | P7: 2028-29 | Q7: 2029-30 | R7: 2025-30 | T7: PR24 BP reference
B9: CWW3.13 | C9: WINEP Storm Overflows | D9: 2027-28 | E9: £m | F9: 3 | G9: 0 | H9: 0 | I9: 0.005 | J9: 0.012 | K9: 0.03 | L9: =SUM(G9:K9) -> 0.047 | M9: 0 | N9: 0 | O9: 0.005 | P9: 0.011 | Q9: 0.029 | R9: =SUM(M9:Q9) -> 0.045 | T9: ADD25.1
B10: CWW3.16 | C10: WINEP Storm Overflows | D10: 2027-28 | E10: £m | F10: 3 | G10: 0 | H10: 0 | I10: 0.005 | J10: 0.013 | K10: 0.035 | L10: =SUM(G10:K10) -> 0.053 | M10: 0 | N10: 0 | O10: 0.005 | P10: 0.013 | Q10: 0.034 | R10: =SUM(M10:Q10) -> 0.052 | T10: ADD25.2
B11: CWW3.19 | C11: WINEP Storm Overflows | D11: 2027-28 | E11: £m | F11: 3 | G11: 0 | H11: 0 | I11: 0.001 | J11: 0.003 | K11: 0.008 | L11: =SUM(G11:K11) -> 0.012 | M11: 0 | N11: 0 | O11: 0.001 | P11: 0.003 | Q11: 0.008 | R11: =SUM(M11:Q11) -> 0.012 | T11: ADD25.3
B12: CWW3.22 | C12: WINEP Storm Overflows | D12: 2027-28 | E12: £m | F12: 3 | G12: 0 | H12: 0 | I12: 10.232 | J12: 25.581 | K12: 66.51 | L12: =SUM(G12:K12) -> 102.323 | M12: 0 | N12: 0 | O12: 10.095 | P12: 25.123 | Q12: 65.027 | R12: =SUM(M12:Q12) -> 100.245 | T12: ADD25.4
B13: CWW3.31 | C13: WINEP Storm Overflows | D13: 2027-28 | E13: £m | F13: 3 | G13: 0 | H13: 0 | I13: 8.621 | J13: 21.551 | K13: 56.034 | L13: =SUM(G13:K13) -> 86.206 | M13: 0 | N13: 0 | O13: 8.505 | P13: 21.166 | Q13: 54.784 | R13: =SUM(M13:Q13) -> 84.455 | T13: ADD25.5
B14: CWW3.34 | C14: WINEP Storm Overflows | D14: 2027-28 | E14: £m | F14: 3 | G14: 0 | H14: 0 | I14: 4.817 | J14: 12.043 | K14: 31.312 | L14: =SUM(G14:K14) -> 48.172 | M14: 0 | N14: 0 | O14: 4.753 | P14: 11.828 | Q14: 30.614 | R14: =SUM(M14:Q14) -> 47.195 | T14: ADD25.6
B15: CWW3.37 | C15: WINEP Storm Overflows | D15: 2027-28 | E15: £m | F15: 3 | G15: 0 | H15: 0 | I15: 9.591 | J15: 23.977 | K15: 62.34 | L15: =SUM(G15:K15) -> 95.908 | M15: 0 | N15: 0 | O15: 9.462 | P15: 23.548 | Q15: 60.95 | R15: =SUM(M15:Q15) -> 93.96 | T15: ADD25.7
B16: CWW3.40 | C16: WINEP Storm Overflows | D16: 2027-28 | E16: £m | F16: 3 | G16: 0 | H16: 0 | I16: 0.554 | J16: 1.384 | K16: 3.598 | L16: =SUM(G16:K16) -> 5.536 | M16: 0 | N16: 0 | O16: 0.546 | P16: 1.359 | Q16: 3.518 | R16: =SUM(M16:Q16) -> 5.423 | T16: ADD25.8
B17: CWW3.46 | C17: WINEP Storm Overflows | D17: 2027-28 | E17: £m | F17: 3 | G17: 0 | H17: 0 | I17: 4.771 | J17: 11.927 | K17: 31.009 | L17: =SUM(G17:K17) -> 47.707 | M17: 0 | N17: 0 | O17: 4.707 | P17: 11.713 | Q17: 30.318 | R17: =SUM(M17:Q17) -> 46.738 | T17: ADD25.9
B18: CWW3.49 | C18: WINEP Chemicals | D18: 2027-28 | E18: £m | F18: 3 | G18: 0 | H18: 0 | I18: 4.171 | J18: 10.428 | K18: 27.112 | L18: =SUM(G18:K18) -> 41.711 | M18: 0 | N18: 0 | O18: 4.115 | P18: 10.241 | Q18: 26.507 | R18: =SUM(M18:Q18) -> 40.863 | T18: ADD25.10
B19: CWW3.64 | C19: WINEP Low P | D19: 2027-28 | E19: £m | F19: 3 | G19: 0 | H19: 0 | I19: 5.276 | J19: 13.19 | K19: 34.294 | L19: =SUM(G19:K19) -> 52.76 | M19: 0 | N19: 0 | O19: 5.205 | P19: 12.954 | Q19: 33.529 | R19: =SUM(M19:Q19) -> 51.688 | T19: ADD25.11
B20: CWW3.65 | C20: WINEP Low P | D20: 2027-28 | E20: £m | F20: 3 | G20: 0 | H20: 0 | I20: 2.489 | J20: 6.222 | K20: 16.177 | L20: =SUM(G20:K20) -> 24.888 | M20: 0 | N20: 0 | O20: 2.455 | P20: 6.111 | Q20: 15.817 | R20: =SUM(M20:Q20) -> 24.383 | T20: ADD25.12
... B24: CWW3.189 | C24: Industrial Emissions Directive | D24: 2027-28 | E24: £m | F24: 3 | G24: 0 | H24: 0 | I24: 14.455 | J24: 36.138 | K24: 93.958 | L24: =SUM(G24:K24) -> 144.551 | M24: 0 | N24: 0 | O24: 14.261 | P24: 35.492 | Q24: 91.863 | R24: =SUM(M24:Q24) -> 141.616 | T24: ADD25.16

Sheet Input_WW_Aggregator
A1: Wastewater - pre adjustments and FS/RPEs
E2: Model year beginning
E3: Model year end
E4: Time label bar | G4: Final determinations
D5: Enhancement line | E5: Model column counter | F5: Unit | G5: Business plan (net of reallocations) | H5: Total allowance
A7: WASTEWATER - pre frontier shift and RPEs, including delivery mechanism allowances for TMS & SRN, excluding contingent allowances
C9: Total enhancement expenditure
E10: ANH | F10: £m | G10: 2839.038 | H10: 2865.5172
E11: WSH | F11: £m | G11: 1882.898 | H11: 1899.9727
E12: HDD | F12: £m | G12: 23.86 | H12: 24.814508
E13: NES | F13: £m | G13: 1950.5514 | H13: 1621.9639
E14: SVE | F14: £m | G14: 4968.3748 | H14: 4418.7465
E15: SWB | F15: £m | G15: 1200.9869 | H15: 1149.5618
E16: SRN | F16: £m | G16: 2858.285 | H16: 2595.9292
E17: TMS | F17: £m | G17: 6458.875 | H17: 4686.1989
E18: UUW | F18: £m | G18: 5919.5499 | H18: 4767.7847
E19: WSX | F19: £m | G19: 2324.714 | H19: 1856.6463
E20: YKY | F20: £m | G20: 2443.7393 | H20: 2478.2015
E21: Total | F21: £m | G21: 32870.872 | H21: 28365.337
A23: Environmental programme - wastewater
C25: event-duration-monitoring
D26: event-duration-monitoring | E26: ANH | F26: £m | G26: 5.719 | H26: 5.719
D27: event-duration-monitoring | E27: WSH | F27: £m | G27: 4.846 | H27: 4.846
D28: event-duration-monitoring | E28: HDD | F28: £m | G28: 0 | H28: 0
D29: event-duration-monitoring | E29: NES | F29: £m | G29: 0 | H29: 0
D30: event-duration-monitoring | E30: SVE | F30: £m | G30: 0.45321154 | H30: 0.42601884
D31: event-duration-monitoring | E31: SWB | F31: £m | G31: 1.144 | H31: 1.144
D32: event-duration-monitoring | E32: SRN | F32: £m | G32: 8.325 | H32: 7.659
D33: event-duration-monitoring | E33: TMS | F33: £m | G33: 1.825 | H33: 1.6425
D34: event-duration-monitoring | E34: UUW | F34: £m | G34: 2.3094364 | H34: 2.6464
D35: event-duration-monitoring | E35: WSX | F35: £m | G35: 2.351044 | H35: 2.1159396
D36: event-duration-monitoring | E36: YKY | F36: £m | G36: 1.3476864 | H36: 1.2937789
E37: Total | F37: £m | G37: 28.320378 | H37: 27.492637
C39: flow-monitoring-STW
D40: flow-monitoring-STW | E40: ANH | F40: £m | G40: 45.943 | H40: 45.943
D41: flow-monitoring-STW | E41: WSH | F41: £m | G41: 0.375 | H41: 0.375
D42: flow-monitoring-STW | E42: HDD | F42: £m | G42: 0.032 | H42: 0.032
D43: flow-monitoring-STW | E43: NES | F43: £m | G43: 7.346 | H43: 7.346
D44: flow-monitoring-STW | E44: SVE | F44: £m | G44: 49.086093 | H44: 44.37
D45: flow-monitoring-STW | E45: SWB | F45: £m | G45: 13.342 | H45: 13.342
...

Sheet Input_W_Aggregator
A1: Water - pre adjustments and FS/RPEs
E2: Model year beginning
E3: Model year end
E4: Time label bar | H4: Final determinations
D5: Enhancement line | E5: Model column counter | F5: Unit | H5: Business plan (net of reallocations) | I5: Total allowance
A7: WATER - excluding contingent allowances, pre frontier shift and RPEs
C9: Total enhancement expenditure
D10: Total enhancement expenditure | E10: ANH | F10: £m | H10: 2139.835 | I10: 1367.7864
D11: Total enhancement expenditure | E11: WSH | F11: £m | H11: 721.24 | I11: 547.28447
D12: Total enhancement expenditure | E12: HDD | F12: £m | H12: 27.048 | I12: 17.156626
D13: Total enhancement expenditure | E13: NES | F13: £m | H13: 849.74385 | I13: 644.7789
D14: Total enhancement expenditure | E14: SVE | F14: £m | H14: 2186.5963 | I14: 1668.9563
D15: Total enhancement expenditure | E15: SWB | F15: £m | H15: 555.10237 | I15: 400.38201
D16: Total enhancement expenditure | E16: SRN | F16: £m | H16: 2266.2116 | I16: 1002.9256
D17: Total enhancement expenditure | E17: TMS | F17: £m | H17: 3719.235 | I17: 1943.3327
D18: Total enhancement expenditure | E18: UUW | F18: £m | H18: 1213.7701 | I18: 978.58067
D19: Total enhancement expenditure | E19: WSX | F19: £m | H19: 287.94657 | I19: 181.00143
D20: Total enhancement expenditure | E20: YKY | F20: £m | H20: 531.92152 | I20: 499.17522
D21: Total enhancement expenditure | E21: AFW | F21: £m | H21: 713.542 | I21: 435.90448
... D26: Total enhancement expenditure | E26: SES | F26: £m | H26: 58.884535 | I26: 44.055995
E27: Total | F27: £m | H27: 16610.368 | I27: 10561.728
A29: Environmental programme
C31: Biodiversity and conservation
D32: Biodiversity and conservation | E32: ANH | F32: £m | H32: 1.874 | I32: 2.86488
D33: Biodiversity and conservation | E33: WSH | F33: £m | H33: 1.237 | I33: 1.237
D34: Biodiversity and conservation | E34: HDD | F34: £m | H34: 0.762 | I34: 0.762
D35: Biodiversity and conservation | E35: NES | F35: £m | H35: 20.641 | I35: 14.2785
D36: Biodiversity and conservation | E36: SVE | F36: £m | H36: 45.538 | I36: 40.9842
D37: Biodiversity and conservation | E37: SWB | F37: £m | H37: 1.202575 | I37: 0.96206
D38: Biodiversity and conservation | E38: SRN | F38: £m | H38: 29.134 | I38: 24.237
D39: Biodiversity and conservation | E39: TMS | F39: £m | H39: 23.848 | I39: 16.6936
D40: Biodiversity and conservation | E40: UUW | F40: £m | H40: 53.561384 | I40: 48.205245
D41: Biodiversity and conservation | E41: WSX | F41: £m | H41: 5.541208 | I41: 4.9870872
D42: Biodiversity and conservation | E42: YKY | F42: £m | H42: 20.857493 | I42: 20.857493
D43: Biodiversity and conservation | E43: AFW | F43: £m | H43: 5.524 | I43: 5.524
... D48: Biodiversity and conservation | E48: SES | F48: £m | H48: 0 | I48: 0
E49: Total | F49: £m | H49: =SUM(H32:H48) -> 228.23154 | I49: 198.41169
C51: Eels/fish screens
D52: Eels/fish screens | E52: ANH | F52: £m | H52: 0 | I52: 0
D53: Eels/fish screens | E53: WSH | F53: £m | H53: 5.68 | I53: 5.68
...

Sheet Outputs>>

Sheet TMS allowance
B1: Thames Water | D1: Delivery mechanism
B3: Cost area | C3: Requested DM expenditure - FD | D3: BP expenditure - FD | E3: Core expenditure | G3: Requested DM% | H3: Proposed DM% for FDs | J3: Total allowance - FD | K3: DM allowance | M3: Reconciliation factor
C4: DM expenditure
B6: {=_xlfn.UNIQUE(Input_TMS_ADD25!C9:C24)} -> WINEP Storm Overflows | C6: =SUMIFS(Input_TMS!$P$7:$P$280,Input_TMS!$T$7:$T$280,'TMS allowance'!B6) -> 510.495 | D6: =Input_WW_Aggregator!G103 -> 809.412 | E6: =D6-C6 -> 298.917 | G6: =C6/D6 -> 0.63069858 | H6: =G6 -> 0.63069858 | J6: =Input_WW_Aggregator!H103 -> 740.32392 | K6: =J6*H6 -> 466.92124 | M6: =K6/C6 -> 0.91464411
B7: WINEP Chemicals | C7: =SUMIFS(Input_TMS!$P$7:$P$280,Input_TMS!$T$7:$T$280,'TMS allowance'!B7) -> 207.769 | D7: =Input_WW_Aggregator!G117 -> 218.051 | E7: =D7-C7 -> 10.282 | G7: =C7/D7 -> 0.95284589 | H7: =G7 -> 0.95284589 | J7: =Input_WW_Aggregator!H117 -> 196.3467 | K7: =J7*H7 -> 187.08815 | M7: =K7/C7 -> 0.90046228
B8: WINEP Low P | C8: =SUMIFS(Input_TMS!$P$7:$P$280,Input_TMS!$T$7:$T$280,'TMS allowance'!B8) -> 650.8419 | D8: =Input_WW_Aggregator!G173 -> 1516.539 | E8: =D8-C8 -> 865.6971 | G8: =C8/D8 -> 0.42916265 | H8: =G8 -> 0.42916265 | J8: =Input_WW_Aggregator!H173 -> 1219.0375 | K8: =J8*H8 -> 523.16537 | M8: =K8/C8 -> 0.80382865
B9: Industrial Emissions Directive | C9: =SUMIFS(Input_TMS!$P$7:$P$280,Input_TMS!$T$7:$T$280,'TMS allowance'!B9) -> 0 | D9: =Input_WW_Aggregator!G611 -> 534.286 | E9: =D9-C9 -> 534.286 | G9: =C9/D9 -> 0 | H9: 0 | J9: =Input_WW_Aggregator!H611 -> 299.67025 | K9: =J9*H9 -> 0
B11: Total | C11: =SUM(C6:C9) -> 1369.1059 | D11: =SUM(D6:D9) -> 3078.288 | E11: =SUM(E6:E9) -> 1709.1821 | K11: =SUM(K6:K9) -> 1177.1748
B15: Annual profile (based on TMS_ADD25)
C16: 2025-26 | D16: 2026-27 | E16: 2027-28 | F16: 2028-29 | G16: 2029-30 | H16: Total
B17: =B6 -> WINEP Storm Overflows | C17: =SUMIFS(Input_TMS_ADD25!G$9:G$24,Input_TMS_ADD25!$C$9:$C$24,'TMS allowance'!$B17) -> 0 | D17: =SUMIFS(Input_TMS_ADD25!H$9:H$24,Input_TMS_ADD25!$C$9:$C$24,'TMS allowance'!$B17) -> 0 | E17: =SUMIFS(Input_TMS_ADD25!I$9:I$24,Input_TMS_ADD25!$C$9:$C$24,'TMS allowance'!$B17) -> 38.597 | F17: =SUMIFS(Input_TMS_ADD25!J$9:J$24,Input_TMS_ADD25!$C$9:$C$24,'TMS allowance'!$B17) -> 96.491 | G17: =SUMIFS(Input_TMS_ADD25!K$9:K$24,Input_TMS_ADD25!$C$9:$C$24,'TMS allowance'!$B17) -> 250.876 | H17: =SUM(C17:G17) -> 385.964
B18: =B7 -> WINEP Chemicals | C18: =SUMIFS(Input_TMS_ADD25!G$9:G$24,Input_TMS_ADD25!$C$9:$C$24,'TMS allowance'!$B18) -> 0 | D18: =SUMIFS(Input_TMS_ADD25!H$9:H$24,Input_TMS_ADD25!$C$9:$C$24,'TMS allowance'!$B18) -> 0 | E18: =SUMIFS(Input_TMS_ADD25!I$9:I$24,Input_TMS_ADD25!$C$9:$C$24,'TMS allowance'!$B18) -> 4.171 | F18: =SUMIFS(Input_TMS_ADD25!J$9:J$24,Input_TMS_ADD25!$C$9:$C$24,'TMS allowance'!$B18) -> 10.428 | G18: =SUMIFS(Input_TMS_ADD25!K$9:K$24,Input_TMS_ADD25!$C$9:$C$24,'TMS allowance'!$B18) -> 27.112 | H18: =SUM(C18:G18) -> 41.711
B19: =B8 -> WINEP Low P | C19: =SUMIFS(Input_TMS_ADD25!G$9:G$24,Input_TMS_ADD25!$C$9:$C$24,'TMS allowance'!$B19) -> 0 | D19: =SUMIFS(Input_TMS_ADD25!H$9:H$24,Input_TMS_ADD25!$C$9:$C$24,'TMS allowance'!$B19) -> 0 | E19: =SUMIFS(Input_TMS_ADD25!I$9:I$24,Input_TMS_ADD25!$C$9:$C$24,'TMS allowance'!$B19) -> 90.012 | F19: =SUMIFS(Input_TMS_ADD25!J$9:J$24,Input_TMS_ADD25!$C$9:$C$24,'TMS allowance'!$B19) -> 225.029 | G19: =SUMIFS(Input_TMS_ADD25!K$9:K$24,Input_TMS_ADD25!$C$9:$C$24,'TMS allowance'!$B19) -> 585.076 | H19: =SUM(C19:G19) -> 900.117
B20: =B9 -> Industrial Emissions Directive | C20: =SUMIFS(Input_TMS_ADD25!G$9:G$24,Input_TMS_ADD25!$C$9:$C$24,'TMS allowance'!$B20) -> 0 | D20: =SUMIFS(Input_TMS_ADD25!H$9:H$24,Input_TMS_ADD25!$C$9:$C$24,'TMS allowance'!$B20) -> 0 | E20: =SUMIFS(Input_TMS_ADD25!I$9:I$24,Input_TMS_ADD25!$C$9:$C$24,'TMS allowance'!$B20) -> 14.455 | F20: =SUMIFS(Input_TMS_ADD25!J$9:J$24,Input_TMS_ADD25!$C$9:$C$24,'TMS allowance'!$B20) -> 36.138 | G20: =SUMIFS(Input_TMS_ADD25!K$9:K$24,Input_TMS_ADD25!$C$9:$C$24,'TMS allowance'!$B20) -> 93.958 | H20: =SUM(C20:G20) -> 144.551
C22: 2025-26 | D22: 2026-27 | E22: 2027-28 | F22: 2028-29 | G22: 2029-30 | H22: Total
B23: =B17 -> WINEP Storm Overflows | C23: =C17/$H17 -> 0 | D23: =D17/$H17 -> 0 | E23: =E17/$H17 -> 0.10000155 | F23: =F17/$H17 -> 0.25 | G23: =G17/$H17 -> 0.64999845 | H23: =SUM(C23:G23) -> 1
B24: =B18 -> WINEP Chemicals | C24: =C18/$H18 -> 0 | D24: =D18/$H18 -> 0 | E24: =E18/$H18 -> 0.099997603 | F24: =F18/$H18 -> 0.25000599 | G24: =G18/$H18 -> 0.6499964 | H24: =SUM(C24:G24) -> 1
B25: =B19 -> WINEP Low P | C25: =C19/$H19 -> 0 | D25: =D19/$H19 -> 0 | E25: =E19/$H19 -> 0.10000033 | F25: =F19/$H19 -> 0.24999972 | G25: =G19/$H19 -> 0.64999994 | H25: =SUM(C25:G25) -> 1
B26: =B20 -> Industrial Emissions Directive | C26: =C20/$H20 -> 0 | D26: =D20/$H20 -> 0 | E26: =E20/$H20 -> 0.099999308 | F26: =F20/$H20 -> 0.25000173 | G26: =G20/$H20 -> 0.64999896 | H26: =SUM(C26:G26) -> 1
B29: Profiled allowance
C30: 2025-26 | D30: 2026-27 | E30: 2027-28 | F30: 2028-29 | G30: 2029-30 | H30: Total
B31: =B23 -> WINEP Storm Overflows | C31: =$K6*C23 -> 0 | D31: =$K6*D23 -> 0 | E31: =$K6*E23 -> 46.69285 | F31: =$K6*F23 -> 116.73031 | G31: =$K6*G23 -> 303.49808 | H31: =SUM(C31:G31) -> 466.92124
B32: =B24 -> WINEP Chemicals | C32: =$K7*C24 -> 0 | D32: =$K7*D24 -> 0 | E32: =$K7*E24 -> 18.708366 | F32: =$K7*F24 -> 46.773158 | G32: =$K7*G24 -> 121.60662 | H32: =SUM(C32:G32) -> 187.08815
B33: =B25 -> WINEP Low P | C33: =$K8*C25 -> 0 | D33: =$K8*D25 -> 0 | E33: =$K8*E25 -> 52.316711 | F33: =$K8*F25 -> 130.7912 | G33: =$K8*G25 -> 340.05746 | H33: =SUM(C33:G33) -> 523.16537
B34: =B26 -> Industrial Emissions Directive | C34: =$K9*C26 -> 0 | D34: =$K9*D26 -> 0 | E34: =$K9*E26 -> 0 | F34: =$K9*F26 -> 0 | G34: =$K9*G26 -> 0 | H34: =SUM(C34:G34) -> 0
B36: Total | C36: =SUM(C31:C34) -> 0 | D36: =SUM(D31:D34) -> 0 | E36: =SUM(E31:E34) -> 117.71793 | F36: =SUM(F31:F34) -> 294.29466 | G36: =SUM(G31:G34) -> 765.16216 | H36: =SUM(H31:H34) -> 1177.1748

Sheet SRN allowance
B1: Thames Water | D1: Delivery mechanism
B3: Cost area | C3: Requested DM expenditure - FD | D3: BP expenditure - FD | E3: Core expenditure | G3: Requested DM% | H3: Proposed DM% for FDs | J3: Total allowance | K3: DM allowance | M3: Reconciliation factor
C4: DM expenditure
B6: CWQM | C6: =SUMIFS(Input_SRN!$K$8:$K$135,Input_SRN!$S$8:$S$135,'SRN allowance'!B6) -> 0 | D6: =Input_WW_Aggregator!G60 -> 43.147 | E6: =D6-C6 -> 43.147 | G6: =MIN(C6/D6,100%) -> 0 | H6: =G6 -> 0 | J6: =Input_WW_Aggregator!H60 -> 40.509041 | K6: =J6*H6 -> 0
B7: Phosphorus removal | C7: =SUMIFS(Input_SRN!$K$8:$K$135,Input_SRN!$S$8:$S$135,'SRN allowance'!B7) -> 0 | D7: =Input_WW_Aggregator!G172 -> 354.936 | E7: =D7-C7 -> 354.936 | G7: =MIN(C7/D7,100%) -> 0 | H7: =G7 -> 0 | J7: =Input_WW_Aggregator!H172 -> 377.21729 | K7: =J7*H7 -> 0
B8: Nitrogen removal | C8: =SUMIFS(Input_SRN!$K$8:$K$135,Input_SRN!$S$8:$S$135,'SRN allowance'!B8) -> 0 | D8: =Input_WW_Aggregator!G144 -> 260.009 | E8: =D8-C8 -> 260.009 | G8: =MIN(C8/D8,100%) -> 0 | H8: =G8 -> 0 | J8: =Input_WW_Aggregator!H144 -> 234.0081 | K8: =J8*H8 -> 0
B9: Storm overflows | C9: =SUMIFS(Input_SRN!$K$8:$K$135,Input_SRN!$S$8:$S$135,'SRN allowance'!B9) -> 179.67422 | D9: =Input_WW_Aggregator!G102 -> 1132.332 | E9: =D9-C9 -> 952.65778 | G9: =MIN(C9/D9,100%) -> 0.15867627 | H9: =G9 -> 0.15867627 | J9: =Input_WW_Aggregator!H102 -> 1011.5485 | K9: =J9*H9 -> 160.50874 | M9: =K9/C9 -> 0.89333206
B10: Chemical removal | C10: 0 | D10: =Input_WW_Aggregator!G116 -> 18.954 | E10: =D10-C10 -> 18.954 | G10: =MIN(C10/D10,100%) -> 0 | H10: 0 | J10: =Input_WW_Aggregator!H116 -> 17.951813 | K10: =J10*H10 -> 0
B11: Sanitary parameters | C11: 0 | D11: =Input_WW_Aggregator!G200 -> 107.629 | E11: =D11-C11 -> 107.629 | G11: =MIN(C11/D11,100%) -> 0 | H11: 0 | J11: =Input_WW_Aggregator!H200 -> 130.01403 | K11: =J11*H11 -> 0
B12: Water resilience | C12: 0 | D12: =Input_W_Aggregator!H446 -> 399.07345 | E12: =D12-C12 -> 399.07345 | G12: =MIN(C12/D12,100%) -> 0 | H12: 0 | J12: =Input_W_Aggregator!I446 -> 366.50813 | K12: =J12*H12 -> 0
B13: WRMP supply schemes | C13: 0 | D13: =Input_W_Aggregator!H240+Input_W_Aggregator!H260 -> 804.73 | E13: =D13-C13 -> 804.73 | G13: =MIN(C13/D13,100%) -> 0 | H13: 0 | J13: =Input_W_Aggregator!I240+Input_W_Aggregator!I260 -> 507.81628 | K13: =J13*H13 -> 0
B14: WRMP mains replacement (Freeform) | C14: 0 | D14: =Input_W_Aggregator!H280 -> 165.812 | E14: =D14-C14 -> 165.812 | G14: =MIN(C14/D14,100%) -> 0 | H14: 0 | J14: =Input_W_Aggregator!I280 -> 46.665946 | K14: =J14*H14 -> 0
B16: Total | C16: =SUM(C6:C14) -> 179.67422 | D16: =SUM(D6:D14) -> 3286.6224 | E16: =SUM(E6:E14) -> 3106.9482 | K16: =SUM(K6:K9) -> 160.50874
B20: Annual profile (based on SRN_ADD25)
C21: 2025-26 | D21: 2026-27 | E21: 2027-28 | F21: 2028-29 | G21: 2029-30 | H21: Total
B22: =B6 -> CWQM | C22: 0 | D22: 0 | E22: 0 | F22: 0 | G22: 0 | H22: =SUM(C22:G22) -> 0
B23: =B9 -> Storm overflows | C23: =Input_SRN_ADD25!G13 -> 0 | D23: =Input_SRN_ADD25!H13 -> 0 | E23: =Input_SRN_ADD25!I13 -> 0 | F23: =Input_SRN_ADD25!J13 -> 146.43 | G23: =Input_SRN_ADD25!K13 -> 149.338 | H23: =SUM(C23:G23) -> 295.768
C25: 2025-26 | D25: 2026-27 | E25: 2027-28 | F25: 2028-29 | G25: 2029-30 | H25: Total
B26: =B23 -> Storm overflows | C26: =C23/$H23 -> 0 | D26: =D23/$H23 -> 0 | E26: =E23/$H23 -> 0 | F26: =F23/$H23 -> 0.49508398 | G26: =G23/$H23 -> 0.50491602 | H26: =SUM(C26:G26) -> 1
B29: Profiled allowance
C30: 2025-26 | D30: 2026-27 | E30: 2027-28 | F30: 2028-29 | G30: 2029-30 | H30: Total
B31: =B26 -> Storm overflows | C31: =$K9*C26 -> 0 | D31: =$K9*D26 -> 0 | E31: =$K9*E26 -> 0 | F31: =$K9*F26 -> 79.465305 | G31: =$K9*G26 -> 81.043432 | H31: =SUM(C31:G31) -> 160.50874
B33: Total | C33: =SUM(C31:C31) -> 0 | D33: =SUM(D31:D31) -> 0 | E33: =SUM(E31:E31) -> 0 | F33: =SUM(F31:F31) -> 79.465305 | G33: =SUM(G31:G31) -> 81.043432 | H33: =SUM(H31:H31) -> 160.50874
