Workbook
Name Chk_Tol: #REF!
Name Chk_Tol: #REF!
Name Chk_Tol: #REF!
Name Chk_Tol: #REF!
Name Chk_Tol: #REF!
Name Chk_Tol: #REF!
Name Chk_Tol: #REF!
Name Chk_Tol: #REF!
Name ChK_Tol: #REF!
Name CHK_TOL_TAX: #REF!
Name LIVE_RESULTS: #REF!
Name Pct_Tol: #REF!
Name START_TRACK_STORE: #REF!
Name TRACK_ACTIVE: #REF!
Name TRACK_COMMENT_START: #REF!
Name TRK_COMMENT: #REF!
Name Trk_Tol: #REF!

Sheet Cover
A1: Cover
B3: PR19 WINEP and Green Recovery carryover PCDs
B5: Version number: | C5: 1
B6: File name: | C6: PR24PCD117 WINEP and GER Carryover PCDs.xlsx
B7: Date: | C7: 45645
B9: For enquiries please contact: | C9: PR24@ofwat.gov.uk
B33: Contents:
B35: Tab name | C35: Description
B36: WINEP Carryover >>
B37: WINEP Carryover_ANH | C37: PR19 WINEP Carryover PCD for Anglian Water
B38: WINEP Carryover_NES | C38: PR19 WINEP Carryover PCD for Northumbrian Water
B39: WINEP Carryover_SRN | C39: PR19 WINEP Carryover PCD for Southern Water
B40: WINEP Carryover_TMS | C40: PR19 WINEP Carryover PCD for Thames Water
B41: WINEP Carryover_NWT | C41: PR19 WINEP Carryover PCD for United Utilities
B42: WINEP Carryover_WSX | C42: PR19 WINEP Carryover PCD for Wessex Water
B43: WINEP Carryover_YKY | C43: PR19 WINEP Carryover PCD for Yorkshire Water
B44: GER >>
B45: GER Carryover_NWT | C45: Green Economic Recovery (GER) PCD for United Utilities
B46: Annex >>>> | C46: Excerpt from company PR19 WINEP reconciliation models, with data for all PR19 WINEP carryover actions covered by the PCD.
B47: WINEP_Inputs_ANH | C47: PCD Inputs data extracted from PR19 WINEP Reconciliation model
B48: WINEP_Inputs_NES | C48: PCD Inputs data extracted from PR19 WINEP Reconciliation model
B49: WINEP_Inputs_SRN | C49: PCD Inputs data extracted from PR19 WINEP Reconciliation model
B50: WINEP_Inputs_TMS | C50: PCD Inputs data extracted from PR19 WINEP Reconciliation model
B51: WINEP_Inputs_NWT | C51: PCD Inputs data extracted from PR19 WINEP Reconciliation model
B52: WINEP_Inputs_WSX | C52: PCD Inputs data extracted from PR19 WINEP Reconciliation model
B53: WINEP_Inputs_YKY | C53: PCD Inputs data extracted from PR19 WINEP Reconciliation model
B54: WINEP_Inputs_ALL | C54: PCD Inputs data from PR19 WINEP Reconciliation model - all companies

Sheet WINEP Carryover >>

Sheet WINEP Carryover_ANH
A1: =CONCATENATE(C4," - ", C5) -> ANH - PR19 WINEP Carryover
B4: Company | C4: ANH
B5: Enhancement area | C5: PR19 WINEP Carryover
B6: PCD No. | C6: PCDWW35
B8: Common requirements | C8: See Section 15.1 of Price control deliverable appendix
B10: Additional company specific requirements
B11: Deliverable | C11: These PCDs are for tracking delivery of expenditure funded through the PR19 WINEP Carryover model. They are for delivery of specified late delivery PR19 WINEP actions each with a specific totex unit rate.
B12: Output measurement and reporting | C12: These deliverables for these PCDs (both non delivery and late delivery) require the completion of specific PR19 WINEP actions for each company. The action IDs and WINEP action names are taken from the PR19 WINEP Carryover model, which is an excerpt of actions from the company PR19 WINEP reconciliation models. Companies should report progress against the deliverables on an annual basis through their annual PCD report return . We expect companies to report deliverables based on the exact completion date (month of completion to be included) of the action.
B13: Conditions on scheme | C13: We expect the company to secure confirmation from the Environment Agency that schemes have been completed in accordance with WINEP obligations. Any removal of actions from the PR19 WINEP must be reported and confirmed by the Environment Agency.
B14: Assurance | C14: We are proposing that companies should provide independent assessment and assurance of delivered PR19 WINEP Carryover actions and forecast of likely outturn position at end of March 2030.
B16: Non-delivery PCD payment (WINEP action ID) | C16: Unit | D16: Payment rate
B17: 7AW200058 | C17: £m | D17: =INDEX(WINEP_Inputs_ANH!$DG$5:$DG$26, MATCH('WINEP Carryover_ANH'!B17, WINEP_Inputs_ANH!$DK$5:$DK$26,0)) -> 1.3798265
B18: 7AW200061 | C18: £m | D18: =INDEX(WINEP_Inputs_ANH!$DG$5:$DG$26, MATCH('WINEP Carryover_ANH'!B18, WINEP_Inputs_ANH!$DK$5:$DK$26,0)) -> 0.10960669
B19: 7AW200064 | C19: £m | D19: =INDEX(WINEP_Inputs_ANH!$DG$5:$DG$26, MATCH('WINEP Carryover_ANH'!B19, WINEP_Inputs_ANH!$DK$5:$DK$26,0)) -> 0.27036318
B20: 7AW200068 | C20: £m | D20: =INDEX(WINEP_Inputs_ANH!$DG$5:$DG$26, MATCH('WINEP Carryover_ANH'!B20, WINEP_Inputs_ANH!$DK$5:$DK$26,0)) -> 0.10960669
B21: 7AW200077 | C21: £m | D21: =INDEX(WINEP_Inputs_ANH!$DG$5:$DG$26, MATCH('WINEP Carryover_ANH'!B21, WINEP_Inputs_ANH!$DK$5:$DK$26,0)) -> 0.27401673
B22: 7AW200091 | C22: £m | D22: =INDEX(WINEP_Inputs_ANH!$DG$5:$DG$26, MATCH('WINEP Carryover_ANH'!B22, WINEP_Inputs_ANH!$DK$5:$DK$26,0)) -> 1.9266421
B23: 7AW200095 | C23: £m | D23: =INDEX(WINEP_Inputs_ANH!$DG$5:$DG$26, MATCH('WINEP Carryover_ANH'!B23, WINEP_Inputs_ANH!$DK$5:$DK$26,0)) -> 0.10960669
B24: 7AW200100 | C24: £m | D24: =INDEX(WINEP_Inputs_ANH!$DG$5:$DG$26, MATCH('WINEP Carryover_ANH'!B24, WINEP_Inputs_ANH!$DK$5:$DK$26,0)) -> 0.10960669
B25: 7AW200105 | C25: £m | D25: =INDEX(WINEP_Inputs_ANH!$DG$5:$DG$26, MATCH('WINEP Carryover_ANH'!B25, WINEP_Inputs_ANH!$DK$5:$DK$26,0)) -> 0.19120279
B26: 7AW200109 | C26: £m | D26: =INDEX(WINEP_Inputs_ANH!$DG$5:$DG$26, MATCH('WINEP Carryover_ANH'!B26, WINEP_Inputs_ANH!$DK$5:$DK$26,0)) -> 0.27401673
B27: 7AW200116 | C27: £m | D27: =INDEX(WINEP_Inputs_ANH!$DG$5:$DG$26, MATCH('WINEP Carryover_ANH'!B27, WINEP_Inputs_ANH!$DK$5:$DK$26,0)) -> 0.27401673
B28: 7AW200167 | C28: £m | D28: =INDEX(WINEP_Inputs_ANH!$DG$5:$DG$26, MATCH('WINEP Carryover_ANH'!B28, WINEP_Inputs_ANH!$DK$5:$DK$26,0)) -> 0.27036318
... B37: 7AW202086 | C37: £m | D37: =INDEX(WINEP_Inputs_ANH!$DG$5:$DG$26, MATCH('WINEP Carryover_ANH'!B37, WINEP_Inputs_ANH!$DK$5:$DK$26,0)) -> 0.27401673
B40: Time incentives PCD rate (WINEP action ID) | C40: Unit | D40: Under-performance
B41: 7AW200058 | C41: £m per month | D41: =INDEX(WINEP_Inputs_ANH!$DI$5:$DI$26, MATCH('WINEP Carryover_ANH'!B41, WINEP_Inputs_ANH!$DK$5:$DK$26,0)) -> 0.0045649259
B42: 7AW200061 | C42: £m per month | D42: =INDEX(WINEP_Inputs_ANH!$DI$5:$DI$26, MATCH('WINEP Carryover_ANH'!B42, WINEP_Inputs_ANH!$DK$5:$DK$26,0)) -> 0.00036261548
B43: 7AW200064 | C43: £m per month | D43: =INDEX(WINEP_Inputs_ANH!$DI$5:$DI$26, MATCH('WINEP Carryover_ANH'!B43, WINEP_Inputs_ANH!$DK$5:$DK$26,0)) -> 0.00089445151
B44: 7AW200068 | C44: £m per month | D44: =INDEX(WINEP_Inputs_ANH!$DI$5:$DI$26, MATCH('WINEP Carryover_ANH'!B44, WINEP_Inputs_ANH!$DK$5:$DK$26,0)) -> 0.00036261548
B45: 7AW200077 | C45: £m per month | D45: =INDEX(WINEP_Inputs_ANH!$DI$5:$DI$26, MATCH('WINEP Carryover_ANH'!B45, WINEP_Inputs_ANH!$DK$5:$DK$26,0)) -> 0.00090653869
B46: 7AW200091 | C46: £m per month | D46: =INDEX(WINEP_Inputs_ANH!$DI$5:$DI$26, MATCH('WINEP Carryover_ANH'!B46, WINEP_Inputs_ANH!$DK$5:$DK$26,0)) -> 0.0063739743
B47: 7AW200095 | C47: £m per month | D47: =INDEX(WINEP_Inputs_ANH!$DI$5:$DI$26, MATCH('WINEP Carryover_ANH'!B47, WINEP_Inputs_ANH!$DK$5:$DK$26,0)) -> 0.00036261548
B48: 7AW200100 | C48: £m per month | D48: =INDEX(WINEP_Inputs_ANH!$DI$5:$DI$26, MATCH('WINEP Carryover_ANH'!B48, WINEP_Inputs_ANH!$DK$5:$DK$26,0)) -> 0.00036261548
B49: 7AW200105 | C49: £m per month | D49: =INDEX(WINEP_Inputs_ANH!$DI$5:$DI$26, MATCH('WINEP Carryover_ANH'!B49, WINEP_Inputs_ANH!$DK$5:$DK$26,0)) -> 0.00063256255
B50: 7AW200109 | C50: £m per month | D50: =INDEX(WINEP_Inputs_ANH!$DI$5:$DI$26, MATCH('WINEP Carryover_ANH'!B50, WINEP_Inputs_ANH!$DK$5:$DK$26,0)) -> 0.00090653869
B51: 7AW200116 | C51: £m per month | D51: =INDEX(WINEP_Inputs_ANH!$DI$5:$DI$26, MATCH('WINEP Carryover_ANH'!B51, WINEP_Inputs_ANH!$DK$5:$DK$26,0)) -> 0.00090653869
B52: 7AW200167 | C52: £m per month | D52: =INDEX(WINEP_Inputs_ANH!$DI$5:$DI$26, MATCH('WINEP Carryover_ANH'!B52, WINEP_Inputs_ANH!$DK$5:$DK$26,0)) -> 0.00089445151
... B61: 7AW202086 | C61: £m per month | D61: =INDEX(WINEP_Inputs_ANH!$DI$5:$DI$26, MATCH('WINEP Carryover_ANH'!B61, WINEP_Inputs_ANH!$DK$5:$DK$26,0)) -> 0.00090653869
B65: PCD outputs (cumulative) | C65: Unit | D65: 2023-24 | E65: 2024-25 | F65: 2025-26 | G65: 2026-27 | H65: 2027-28 | I65: 2028-29 | J65: 2029-30 | K65: 2030-31 | L65: 2031-32 | M65: 2032-33 | N65: 2033-34 | O65: 2034-35
B66: 7AW200058 | D66: 0 | E66: 0 | F66: 1 | G66: 1 | H66: 1 | I66: 1 | J66: 1 | K66: 1 | L66: 1 | M66: 1 | N66: 1 | O66: 1
...

Sheet WINEP Carryover_NES
A1: =CONCATENATE(C4," - ", C5) -> NES - PR19 WINEP Carryover
B4: Company | C4: NES
B5: Enhancement area | C5: PR19 WINEP Carryover
B6: PCD No. | C6: PCDWW35
B8: Common requirements | C8: See Section 15.1 of Price control deliverable appendix
B10: Additional company specific requirements
B11: Deliverable | C11: These PCDs are for tracking delivery of expenditure funded through the PR19 WINEP Carryover model. They are for delivery of specified late delivery PR19 WINEP actions each with a specific totex unit rate.
B12: Output measurement and reporting | C12: These deliverables for these PCDs (both non delivery and late delivery) require the completion of specific PR19 WINEP actions for each company. The action IDs and WINEP action names are taken from the PR19 WINEP Carryover model, which is an excerpt of actions from the company PR19 WINEP reconciliation models. Companies should report progress against the deliverables on an annual basis through their annual PCD report return . We expect companies to report deliverables based on the exact completion date (month of completion to be included) of the action.
B13: Conditions on scheme | C13: We expect the company to secure confirmation from the Environment Agency that schemes have been completed in accordance with WINEP obligations. Any removal of actions from the PR19 WINEP must be reported and confirmed by the Environment Agency.
B14: Assurance | C14: We are proposing that companies should provide independent assessment and assurance of delivered PR19 WINEP Carryover actions and forecast of likely outturn position at end of March 2030.
B16: Non-delivery PCD payment (WINEP action ID) | C16: Unit | D16: Payment rate
B17: 7NW10005 | C17: £m | D17: =INDEX(WINEP_Inputs_NES!$DG$5:$DG$7, MATCH('WINEP Carryover_NES'!B17, WINEP_Inputs_NES!$DK$5:$DK$7,0)) -> 1.3043196
B18: 7NW200568 | C18: £m | D18: =INDEX(WINEP_Inputs_NES!$DG$5:$DG$7, MATCH('WINEP Carryover_NES'!B18, WINEP_Inputs_NES!$DK$5:$DK$7,0)) -> 5.1941394
B19: 7NW200583 | C19: £m | D19: =INDEX(WINEP_Inputs_NES!$DG$5:$DG$7, MATCH('WINEP Carryover_NES'!B19, WINEP_Inputs_NES!$DK$5:$DK$7,0)) -> 3.3174292
B22: Time incentives PCD rate (WINEP action ID) | C22: Unit | D22: Under-performance
B23: 7NW10005 | C23: £m per month | D23: =INDEX(WINEP_Inputs_NES!$DI$5:$DI$7, MATCH('WINEP Carryover_NES'!B23, WINEP_Inputs_NES!$DK$5:$DK$7,0)) -> 0.0043151242
B24: 7NW200568 | C24: £m per month | D24: =INDEX(WINEP_Inputs_NES!$DI$5:$DI$7, MATCH('WINEP Carryover_NES'!B24, WINEP_Inputs_NES!$DK$5:$DK$7,0)) -> 0.017183945
B25: 7NW200583 | C25: £m per month | D25: =INDEX(WINEP_Inputs_NES!$DI$5:$DI$7, MATCH('WINEP Carryover_NES'!B25, WINEP_Inputs_NES!$DK$5:$DK$7,0)) -> 0.010975162
B29: PCD outputs (cumulative) | C29: Unit | D29: 2023-24 | E29: 2024-25 | F29: 2025-26 | G29: 2026-27 | H29: 2027-28 | I29: 2028-29 | J29: 2029-30 | K29: 2030-31 | L29: 2031-32 | M29: 2032-33 | N29: 2033-34 | O29: 2034-35
B30: 7NW10005 | D30: 0 | E30: 0 | F30: 1 | G30: 1 | H30: 1 | I30: 1 | J30: 1 | K30: 1 | L30: 1 | M30: 1 | N30: 1 | O30: 1
B31: 7NW200568 | D31: 0 | E31: 0 | F31: 1 | G31: 1 | H31: 1 | I31: 1 | J31: 1 | K31: 1 | L31: 1 | M31: 1 | N31: 1 | O31: 1
B32: 7NW200583 | D32: 0 | E32: 0 | F32: 1 | G32: 1 | H32: 1 | I32: 1 | J32: 1 | K32: 1 | L32: 1 | M32: 1 | N32: 1 | O32: 1

Sheet WINEP Carryover_SRN
A1: =CONCATENATE(C4," - ", C5) -> SRN - PR19 WINEP Carryover
B4: Company | C4: SRN
B5: Enhancement area | C5: PR19 WINEP Carryover
B6: PCD No. | C6: PCDWW35
B8: Common requirements | C8: See Section 15.1 of Price control deliverable appendix
B10: Additional company specific requirements
B11: Deliverable | C11: These PCDs are for tracking delivery of expenditure funded through the PR19 WINEP Carryover model. They are for delivery of specified late delivery PR19 WINEP actions each with a specific totex unit rate.
B12: Output measurement and reporting | C12: These deliverables for these PCDs (both non delivery and late delivery) require the completion of specific PR19 WINEP actions for each company. The action IDs and WINEP action names are taken from the PR19 WINEP Carryover model, which is an excerpt of actions from the company PR19 WINEP reconciliation models. Companies should report progress against the deliverables on an annual basis through their annual PCD report return . We expect companies to report deliverables based on the exact completion date (month of completion to be included) of the action.
B13: Conditions on scheme | C13: We expect the company to secure confirmation from the Environment Agency that schemes have been completed in accordance with WINEP obligations. Any removal of actions from the PR19 WINEP must be reported and confirmed by the Environment Agency.
B14: Assurance | C14: We are proposing that companies should provide independent assessment and assurance of delivered PR19 WINEP Carryover actions and forecast of likely outturn position at end of March 2030.
B16: Non-delivery PCD payment (WINEP action ID) | C16: Unit | D16: Payment rate
B17: 7SO200397 | C17: £m | D17: =INDEX(WINEP_Inputs_SRN!$DG$5:$DG$18, MATCH('WINEP Carryover_SRN'!B17, WINEP_Inputs_SRN!$DK$5:$DK$18,0)) -> 4.220965
B18: 7SO300507 | C18: £m | D18: =INDEX(WINEP_Inputs_SRN!$DG$5:$DG$18, MATCH('WINEP Carryover_SRN'!B18, WINEP_Inputs_SRN!$DK$5:$DK$18,0)) -> 4.056112
B19: 7SO300513 | C19: £m | D19: =INDEX(WINEP_Inputs_SRN!$DG$5:$DG$18, MATCH('WINEP Carryover_SRN'!B19, WINEP_Inputs_SRN!$DK$5:$DK$18,0)) -> 4.056112
B20: 7SO300531 | C20: £m | D20: =INDEX(WINEP_Inputs_SRN!$DG$5:$DG$18, MATCH('WINEP Carryover_SRN'!B20, WINEP_Inputs_SRN!$DK$5:$DK$18,0)) -> 4.056112
B21: 7SO300538 | C21: £m | D21: =INDEX(WINEP_Inputs_SRN!$DG$5:$DG$18, MATCH('WINEP Carryover_SRN'!B21, WINEP_Inputs_SRN!$DK$5:$DK$18,0)) -> 4.056112
B22: 7SO300542 | C22: £m | D22: =INDEX(WINEP_Inputs_SRN!$DG$5:$DG$18, MATCH('WINEP Carryover_SRN'!B22, WINEP_Inputs_SRN!$DK$5:$DK$18,0)) -> 4.056112
B23: 7SO300544 | C23: £m | D23: =INDEX(WINEP_Inputs_SRN!$DG$5:$DG$18, MATCH('WINEP Carryover_SRN'!B23, WINEP_Inputs_SRN!$DK$5:$DK$18,0)) -> 4.056112
B24: 7SO300552 | C24: £m | D24: =INDEX(WINEP_Inputs_SRN!$DG$5:$DG$18, MATCH('WINEP Carryover_SRN'!B24, WINEP_Inputs_SRN!$DK$5:$DK$18,0)) -> 4.056112
B25: 7SO300561 | C25: £m | D25: =INDEX(WINEP_Inputs_SRN!$DG$5:$DG$18, MATCH('WINEP Carryover_SRN'!B25, WINEP_Inputs_SRN!$DK$5:$DK$18,0)) -> 4.056112
B26: 7SO300562 | C26: £m | D26: =INDEX(WINEP_Inputs_SRN!$DG$5:$DG$18, MATCH('WINEP Carryover_SRN'!B26, WINEP_Inputs_SRN!$DK$5:$DK$18,0)) -> 4.056112
B27: 7SO300563 | C27: £m | D27: =INDEX(WINEP_Inputs_SRN!$DG$5:$DG$18, MATCH('WINEP Carryover_SRN'!B27, WINEP_Inputs_SRN!$DK$5:$DK$18,0)) -> 4.056112
B28: 7SO400120 | C28: £m | D28: =INDEX(WINEP_Inputs_SRN!$DG$5:$DG$18, MATCH('WINEP Carryover_SRN'!B28, WINEP_Inputs_SRN!$DK$5:$DK$18,0)) -> 16.420752
... B30: 7SO400161 | C30: £m | D30: =INDEX(WINEP_Inputs_SRN!$DG$5:$DG$18, MATCH('WINEP Carryover_SRN'!B30, WINEP_Inputs_SRN!$DK$5:$DK$18,0)) -> 16.420752
B33: Time incentives PCD rate (WINEP action ID) | C33: Unit | D33: Under-performance
B34: 7SO200397 | C34: £m per month | D34: =INDEX(WINEP_Inputs_SRN!$DI$5:$DI$18, MATCH('WINEP Carryover_SRN'!B34, WINEP_Inputs_SRN!$DK$5:$DK$18,0)) -> 0.013964359
B35: 7SO300507 | C35: £m per month | D35: =INDEX(WINEP_Inputs_SRN!$DI$5:$DI$18, MATCH('WINEP Carryover_SRN'!B35, WINEP_Inputs_SRN!$DK$5:$DK$18,0)) -> 0.013418971
B36: 7SO300513 | C36: £m per month | D36: =INDEX(WINEP_Inputs_SRN!$DI$5:$DI$18, MATCH('WINEP Carryover_SRN'!B36, WINEP_Inputs_SRN!$DK$5:$DK$18,0)) -> 0.013418971
B37: 7SO300531 | C37: £m per month | D37: =INDEX(WINEP_Inputs_SRN!$DI$5:$DI$18, MATCH('WINEP Carryover_SRN'!B37, WINEP_Inputs_SRN!$DK$5:$DK$18,0)) -> 0.013418971
B38: 7SO300538 | C38: £m per month | D38: =INDEX(WINEP_Inputs_SRN!$DI$5:$DI$18, MATCH('WINEP Carryover_SRN'!B38, WINEP_Inputs_SRN!$DK$5:$DK$18,0)) -> 0.013418971
B39: 7SO300542 | C39: £m per month | D39: =INDEX(WINEP_Inputs_SRN!$DI$5:$DI$18, MATCH('WINEP Carryover_SRN'!B39, WINEP_Inputs_SRN!$DK$5:$DK$18,0)) -> 0.013418971
B40: 7SO300544 | C40: £m per month | D40: =INDEX(WINEP_Inputs_SRN!$DI$5:$DI$18, MATCH('WINEP Carryover_SRN'!B40, WINEP_Inputs_SRN!$DK$5:$DK$18,0)) -> 0.013418971
B41: 7SO300552 | C41: £m per month | D41: =INDEX(WINEP_Inputs_SRN!$DI$5:$DI$18, MATCH('WINEP Carryover_SRN'!B41, WINEP_Inputs_SRN!$DK$5:$DK$18,0)) -> 0.013418971
B42: 7SO300561 | C42: £m per month | D42: =INDEX(WINEP_Inputs_SRN!$DI$5:$DI$18, MATCH('WINEP Carryover_SRN'!B42, WINEP_Inputs_SRN!$DK$5:$DK$18,0)) -> 0.013418971
B43: 7SO300562 | C43: £m per month | D43: =INDEX(WINEP_Inputs_SRN!$DI$5:$DI$18, MATCH('WINEP Carryover_SRN'!B43, WINEP_Inputs_SRN!$DK$5:$DK$18,0)) -> 0.013418971
B44: 7SO300563 | C44: £m per month | D44: =INDEX(WINEP_Inputs_SRN!$DI$5:$DI$18, MATCH('WINEP Carryover_SRN'!B44, WINEP_Inputs_SRN!$DK$5:$DK$18,0)) -> 0.013418971
B45: 7SO400120 | C45: £m per month | D45: =INDEX(WINEP_Inputs_SRN!$DI$5:$DI$18, MATCH('WINEP Carryover_SRN'!B45, WINEP_Inputs_SRN!$DK$5:$DK$18,0)) -> 0.05432532
... B47: 7SO400161 | C47: £m per month | D47: =INDEX(WINEP_Inputs_SRN!$DI$5:$DI$18, MATCH('WINEP Carryover_SRN'!B47, WINEP_Inputs_SRN!$DK$5:$DK$18,0)) -> 0.05432532
B51: PCD outputs (cumulative) | C51: Unit | D51: 2023-24 | E51: 2024-25 | F51: 2025-26 | G51: 2026-27 | H51: 2027-28 | I51: 2028-29 | J51: 2029-30 | K51: 2030-31 | L51: 2031-32 | M51: 2032-33 | N51: 2033-34 | O51: 2034-35
B52: 7SO200397 | D52: 0 | E52: 0 | F52: 1 | G52: 1 | H52: 1 | I52: 1 | J52: 1 | K52: 1 | L52: 1 | M52: 1 | N52: 1 | O52: 1
...

Sheet WINEP Carryover_TMS
A1: =CONCATENATE(C4," - ", C5) -> TMS - PR19 WINEP Carryover
B4: Company | C4: TMS
B5: Enhancement area | C5: PR19 WINEP Carryover
B6: PCD No. | C6: PCDWW35
B8: Common requirements | C8: See Section 15.1 of Price control deliverable appendix
B10: Additional company specific requirements
B11: Deliverable | C11: These PCDs are for tracking delivery of expenditure funded through the PR19 WINEP Carryover model. They are for delivery of specified late delivery PR19 WINEP actions each with a specific totex unit rate. For Thames Water these PCDs are also tracking delivery of three additional, expanded scope schemes.
B12: Output measurement and reporting | C12: These deliverables for these PCDs (both non delivery and late delivery) require the completion of specific PR19 WINEP actions for each company. The action IDs and WINEP action names are taken from the PR19 WINEP Carryover model, which is an excerpt of actions from the company PR19 WINEP reconciliation models. Companies should report progress against the deliverables on an annual basis through their annual PCD report return . We expect companies to report deliverables based on the exact completion date (month of completion to be included) of the action. For the three additional scope actions, we expect the company to report progress of each separate scheme where additional capacity and expanded scope have been provided with allowances.
B13: Conditions on scheme | C13: For the WINEP action with an ID of 7TW100021 all five components of the AoN group have been combined in the same row ("7TW100021AoN1-5") and need to be delivered to avoid the PCD clawback. We expect the company to secure confirmation from the Environment Agency that schemes have been completed in accordance with WINEP obligations. Any removal of actions from the PR19 WINEP must be reported and confirmed by the Environment Agency.
B14: Assurance | C14: We are proposing that companies should provide independent assessment and assurance of delivered PR19 WINEP Carryover actions and forecast of likely outturn position at end of March 2030. This includes the additional scope actions for the company at Oxford STW, Maple Lodge STW and other growth schemes.
B16: Non-delivery PCD payment (WINEP action ID) | C16: Unit | D16: Payment rate
B17: 7TW200737 | C17: £m | D17: =INDEX(WINEP_Inputs_TMS!$DG$5:$DG$70, MATCH('WINEP Carryover_TMS'!B17, WINEP_Inputs_TMS!$DK$5:$DK$70,0)) -> 5.8917227
B18: 7TW200656 | C18: £m | D18: =INDEX(WINEP_Inputs_TMS!$DG$5:$DG$70, MATCH('WINEP Carryover_TMS'!B18, WINEP_Inputs_TMS!$DK$5:$DK$70,0)) -> 1.7920714
B19: 7TW200110 | C19: £m | D19: =INDEX(WINEP_Inputs_TMS!$DG$5:$DG$70, MATCH('WINEP Carryover_TMS'!B19, WINEP_Inputs_TMS!$DK$5:$DK$70,0)) -> 2.0160803
B20: 7TW200743 | C20: £m | D20: =INDEX(WINEP_Inputs_TMS!$DG$5:$DG$70, MATCH('WINEP Carryover_TMS'!B20, WINEP_Inputs_TMS!$DK$5:$DK$70,0)) -> 2.2382465
B21: 7TW100007 | C21: £m | D21: =INDEX(WINEP_Inputs_TMS!$DG$5:$DG$70, MATCH('WINEP Carryover_TMS'!B21, WINEP_Inputs_TMS!$DK$5:$DK$70,0)) -> 7.6349289
B22: 7TW100008 | C22: £m | D22: =INDEX(WINEP_Inputs_TMS!$DG$5:$DG$70, MATCH('WINEP Carryover_TMS'!B22, WINEP_Inputs_TMS!$DK$5:$DK$70,0)) -> 7.6349289
B23: 7TW200115 | C23: £m | D23: =INDEX(WINEP_Inputs_TMS!$DG$5:$DG$70, MATCH('WINEP Carryover_TMS'!B23, WINEP_Inputs_TMS!$DK$5:$DK$70,0)) -> 5.8656939
B24: 7TW200122 | C24: £m | D24: =INDEX(WINEP_Inputs_TMS!$DG$5:$DG$70, MATCH('WINEP Carryover_TMS'!B24, WINEP_Inputs_TMS!$DK$5:$DK$70,0)) -> 5.8213528
B25: 7TW200747 | C25: £m | D25: =INDEX(WINEP_Inputs_TMS!$DG$5:$DG$70, MATCH('WINEP Carryover_TMS'!B25, WINEP_Inputs_TMS!$DK$5:$DK$70,0)) -> 2.3073495
B26: 7TW200659 | C26: £m | D26: =INDEX(WINEP_Inputs_TMS!$DG$5:$DG$70, MATCH('WINEP Carryover_TMS'!B26, WINEP_Inputs_TMS!$DK$5:$DK$70,0)) -> 8.2958164
B27: 7TW200109 | C27: £m | D27: =INDEX(WINEP_Inputs_TMS!$DG$5:$DG$70, MATCH('WINEP Carryover_TMS'!B27, WINEP_Inputs_TMS!$DK$5:$DK$70,0)) -> 2.8401337
B28: 7TW200096 | C28: £m | D28: =INDEX(WINEP_Inputs_TMS!$DG$5:$DG$70, MATCH('WINEP Carryover_TMS'!B28, WINEP_Inputs_TMS!$DK$5:$DK$70,0)) -> 7.3307929
... B78: 7TW200732 | C78: £m | D78: =INDEX(WINEP_Inputs_TMS!$DG$5:$DG$70, MATCH('WINEP Carryover_TMS'!B78, WINEP_Inputs_TMS!$DK$5:$DK$70,0)) -> 1.6460337
B81: Non-delivery PCD payment (additional scope actions) | C81: Unit | D81: Under-performance
B82: Oxford STW | C82: £m | D82: 165.7504
B83: Maple Lodge STW | C83: £m | D83: 253.8923
B84: Other growth schemes | C84: £m | D84: 167.5883
B87: Time incentives PCD rate (WINEP action ID) | C87: Unit | D87: Under-performance
B88: 7TW200737 | C88: £m per month | D88: =INDEX(WINEP_Inputs_TMS!$DI$5:$DI$70, MATCH('WINEP Carryover_TMS'!B88, WINEP_Inputs_TMS!$DK$5:$DK$70,0)) -> 0.019491783
B89: 7TW200656 | C89: £m per month | D89: =INDEX(WINEP_Inputs_TMS!$DI$5:$DI$70, MATCH('WINEP Carryover_TMS'!B89, WINEP_Inputs_TMS!$DK$5:$DK$70,0)) -> 0.0059287696
B90: 7TW200110 | C90: £m per month | D90: =INDEX(WINEP_Inputs_TMS!$DI$5:$DI$70, MATCH('WINEP Carryover_TMS'!B90, WINEP_Inputs_TMS!$DK$5:$DK$70,0)) -> 0.0066698658
B91: 7TW200743 | C91: £m per month | D91: =INDEX(WINEP_Inputs_TMS!$DI$5:$DI$70, MATCH('WINEP Carryover_TMS'!B91, WINEP_Inputs_TMS!$DK$5:$DK$70,0)) -> 0.0074048656
B92: 7TW100007 | C92: £m per month | D92: =INDEX(WINEP_Inputs_TMS!$DI$5:$DI$70, MATCH('WINEP Carryover_TMS'!B92, WINEP_Inputs_TMS!$DK$5:$DK$70,0)) -> 0.02525889
B93: 7TW100008 | C93: £m per month | D93: =INDEX(WINEP_Inputs_TMS!$DI$5:$DI$70, MATCH('WINEP Carryover_TMS'!B93, WINEP_Inputs_TMS!$DK$5:$DK$70,0)) -> 0.02525889
B94: 7TW200115 | C94: £m per month | D94: =INDEX(WINEP_Inputs_TMS!$DI$5:$DI$70, MATCH('WINEP Carryover_TMS'!B94, WINEP_Inputs_TMS!$DK$5:$DK$70,0)) -> 0.019405671
B95: 7TW200122 | C95: £m per month | D95: =INDEX(WINEP_Inputs_TMS!$DI$5:$DI$70, MATCH('WINEP Carryover_TMS'!B95, WINEP_Inputs_TMS!$DK$5:$DK$70,0)) -> 0.019258976
B96: 7TW200747 | C96: £m per month | D96: =INDEX(WINEP_Inputs_TMS!$DI$5:$DI$70, MATCH('WINEP Carryover_TMS'!B96, WINEP_Inputs_TMS!$DK$5:$DK$70,0)) -> 0.0076334814
B97: 7TW200659 | C97: £m per month | D97: =INDEX(WINEP_Inputs_TMS!$DI$5:$DI$70, MATCH('WINEP Carryover_TMS'!B97, WINEP_Inputs_TMS!$DK$5:$DK$70,0)) -> 0.027445326
B98: 7TW200109 | C98: £m per month | D98: =INDEX(WINEP_Inputs_TMS!$DI$5:$DI$70, MATCH('WINEP Carryover_TMS'!B98, WINEP_Inputs_TMS!$DK$5:$DK$70,0)) -> 0.0093961091
...

Sheet WINEP Carryover_NWT
A1: =CONCATENATE(C4," - ", C5) -> NWT - PR19 WINEP Carryover
B4: Company | C4: NWT
B5: Enhancement area | C5: PR19 WINEP Carryover
B6: PCD No. | C6: PCDWW35
B8: Common requirements | C8: See Section 15.1 of Price control deliverable appendix
B10: Additional company specific requirements
B11: Deliverable | C11: These PCDs are for tracking delivery of expenditure funded through the PR19 WINEP Carryover model. They are for delivery of specified late delivery PR19 WINEP actions each with a specific totex unit rate.
B12: Output measurement and reporting | C12: These deliverables for these PCDs (both non delivery and late delivery) require the completion of specific PR19 WINEP actions for each company. The action IDs and WINEP action names are taken from the PR19 WINEP Carryover model, which is an excerpt of actions from the company PR19 WINEP reconciliation models. Companies should report progress against the deliverables on an annual basis through their annual PCD report return . We expect companies to report deliverables based on the exact completion date (month of completion to be included) of the action.
B13: Conditions on scheme | C13: We expect the company to secure confirmation from the Environment Agency that schemes have been completed in accordance with WINEP obligations. Any removal of actions from the PR19 WINEP must be reported and confirmed by the Environment Agency.
B14: Assurance | C14: We are proposing that companies should provide independent assessment and assurance of delivered PR19 WINEP Carryover actions and forecast of likely outturn position at end of March 2030.
B16: Non-delivery PCD payment (WINEP action ID) | C16: Unit | D16: Payment rate
B17: 7UU200519 | C17: £m | D17: =INDEX(WINEP_Inputs_NWT!$DG$5:$DG$13, MATCH('WINEP Carryover_NWT'!B17, WINEP_Inputs_NWT!$DK$5:$DK$13,0)) -> 4.0599114
B18: 7UU200517 | C18: £m | D18: =INDEX(WINEP_Inputs_NWT!$DG$5:$DG$13, MATCH('WINEP Carryover_NWT'!B18, WINEP_Inputs_NWT!$DK$5:$DK$13,0)) -> 1.574952
B19: 7UU200516 | C19: £m | D19: =INDEX(WINEP_Inputs_NWT!$DG$5:$DG$13, MATCH('WINEP Carryover_NWT'!B19, WINEP_Inputs_NWT!$DK$5:$DK$13,0)) -> 2.0417406
B20: 7UU200513 | C20: £m | D20: =INDEX(WINEP_Inputs_NWT!$DG$5:$DG$13, MATCH('WINEP Carryover_NWT'!B20, WINEP_Inputs_NWT!$DK$5:$DK$13,0)) -> 2.6882787
B21: 7UU200512 | C21: £m | D21: =INDEX(WINEP_Inputs_NWT!$DG$5:$DG$13, MATCH('WINEP Carryover_NWT'!B21, WINEP_Inputs_NWT!$DK$5:$DK$13,0)) -> 3.23921
B22: 7UU200520 | C22: £m | D22: =INDEX(WINEP_Inputs_NWT!$DG$5:$DG$13, MATCH('WINEP Carryover_NWT'!B22, WINEP_Inputs_NWT!$DK$5:$DK$13,0)) -> 7.0602867
B23: 7UU200521 | C23: £m | D23: =INDEX(WINEP_Inputs_NWT!$DG$5:$DG$13, MATCH('WINEP Carryover_NWT'!B23, WINEP_Inputs_NWT!$DK$5:$DK$13,0)) -> 5.7587219
B24: 7UU200518 | C24: £m | D24: =INDEX(WINEP_Inputs_NWT!$DG$5:$DG$13, MATCH('WINEP Carryover_NWT'!B24, WINEP_Inputs_NWT!$DK$5:$DK$13,0)) -> 1.6838606
B25: 7UU200515 | C25: £m | D25: =INDEX(WINEP_Inputs_NWT!$DG$5:$DG$13, MATCH('WINEP Carryover_NWT'!B25, WINEP_Inputs_NWT!$DK$5:$DK$13,0)) -> 4.4958228
B29: Time incentives PCD rate (WINEP action ID) | C29: Unit | D29: Under-performance
B30: 7UU200519 | C30: £m per month | D30: =INDEX(WINEP_Inputs_NWT!$DI$5:$DI$13, MATCH('WINEP Carryover_NWT'!B30, WINEP_Inputs_NWT!$DK$5:$DK$13,0)) -> 0.01343154
B31: 7UU200517 | C31: £m per month | D31: =INDEX(WINEP_Inputs_NWT!$DI$5:$DI$13, MATCH('WINEP Carryover_NWT'!B31, WINEP_Inputs_NWT!$DK$5:$DK$13,0)) -> 0.0052104663
B32: 7UU200516 | C32: £m per month | D32: =INDEX(WINEP_Inputs_NWT!$DI$5:$DI$13, MATCH('WINEP Carryover_NWT'!B32, WINEP_Inputs_NWT!$DK$5:$DK$13,0)) -> 0.0067547585
B33: 7UU200513 | C33: £m per month | D33: =INDEX(WINEP_Inputs_NWT!$DI$5:$DI$13, MATCH('WINEP Carryover_NWT'!B33, WINEP_Inputs_NWT!$DK$5:$DK$13,0)) -> 0.008893722
B34: 7UU200512 | C34: £m per month | D34: =INDEX(WINEP_Inputs_NWT!$DI$5:$DI$13, MATCH('WINEP Carryover_NWT'!B34, WINEP_Inputs_NWT!$DK$5:$DK$13,0)) -> 0.010716386
B35: 7UU200520 | C35: £m per month | D35: =INDEX(WINEP_Inputs_NWT!$DI$5:$DI$13, MATCH('WINEP Carryover_NWT'!B35, WINEP_Inputs_NWT!$DK$5:$DK$13,0)) -> 0.023357782
B36: 7UU200521 | C36: £m per month | D36: =INDEX(WINEP_Inputs_NWT!$DI$5:$DI$13, MATCH('WINEP Carryover_NWT'!B36, WINEP_Inputs_NWT!$DK$5:$DK$13,0)) -> 0.019051772
B37: 7UU200518 | C37: £m per month | D37: =INDEX(WINEP_Inputs_NWT!$DI$5:$DI$13, MATCH('WINEP Carryover_NWT'!B37, WINEP_Inputs_NWT!$DK$5:$DK$13,0)) -> 0.0055707722
B38: 7UU200515 | C38: £m per month | D38: =INDEX(WINEP_Inputs_NWT!$DI$5:$DI$13, MATCH('WINEP Carryover_NWT'!B38, WINEP_Inputs_NWT!$DK$5:$DK$13,0)) -> 0.01487368
B41: PCD outputs (cumulative) | C41: Unit | D41: 2023-24 | E41: 2024-25 | F41: 2025-26 | G41: 2026-27 | H41: 2027-28 | I41: 2028-29 | J41: 2029-30 | K41: 2030-31 | L41: 2031-32 | M41: 2032-33 | N41: 2033-34 | O41: 2034-35
B42: 7UU200519 | D42: 0 | E42: 0 | F42: 0 | G42: 1 | H42: 1 | I42: 1 | J42: 1 | K42: 1 | L42: 1 | M42: 1 | N42: 1 | O42: 1
B43: 7UU200517 | D43: 0 | E43: 0 | F43: 0 | G43: 1 | H43: 1 | I43: 1 | J43: 1 | K43: 1 | L43: 1 | M43: 1 | N43: 1 | O43: 1
B44: 7UU200516 | D44: 0 | E44: 0 | F44: 0 | G44: 1 | H44: 1 | I44: 1 | J44: 1 | K44: 1 | L44: 1 | M44: 1 | N44: 1 | O44: 1
B45: 7UU200513 | D45: 0 | E45: 0 | F45: 0 | G45: 1 | H45: 1 | I45: 1 | J45: 1 | K45: 1 | L45: 1 | M45: 1 | N45: 1 | O45: 1
B46: 7UU200512 | D46: 0 | E46: 0 | F46: 0 | G46: 1 | H46: 1 | I46: 1 | J46: 1 | K46: 1 | L46: 1 | M46: 1 | N46: 1 | O46: 1
B47: 7UU200520 | D47: 0 | E47: 0 | F47: 0 | G47: 1 | H47: 1 | I47: 1 | J47: 1 | K47: 1 | L47: 1 | M47: 1 | N47: 1 | O47: 1
B48: 7UU200521 | D48: 0 | E48: 0 | F48: 0 | G48: 1 | H48: 1 | I48: 1 | J48: 1 | K48: 1 | L48: 1 | M48: 1 | N48: 1 | O48: 1
B49: 7UU200518 | D49: 0 | E49: 0 | F49: 0 | G49: 1 | H49: 1 | I49: 1 | J49: 1 | K49: 1 | L49: 1 | M49: 1 | N49: 1 | O49: 1
B50: 7UU200515 | D50: 0 | E50: 0 | F50: 0 | G50: 1 | H50: 1 | I50: 1 | J50: 1 | K50: 1 | L50: 1 | M50: 1 | N50: 1 | O50: 1

Sheet WINEP Carryover_WSX
A1: =CONCATENATE(C4," - ", C5) -> WSX - PR19 WINEP Carryover
B4: Company | C4: WSX
B5: Enhancement area | C5: PR19 WINEP Carryover
B6: PCD No. | C6: PCDWW35
B8: Common requirements | C8: See Section 15.1 of Price control deliverable appendix
B10: Additional company specific requirements
B11: Deliverable | C11: These PCDs are for tracking delivery of expenditure funded through the PR19 WINEP Carryover model. They are for delivery of specified late delivery PR19 WINEP actions each with a specific totex unit rate.
B12: Output measurement and reporting | C12: These deliverables for these PCDs (both non delivery and late delivery) require the completion of specific PR19 WINEP actions for each company. The action IDs and WINEP action names are taken from the PR19 WINEP Carryover model, which is an excerpt of actions from the company PR19 WINEP reconciliation models. Companies should report progress against the deliverables on an annual basis through their annual PCD report return . We expect companies to report deliverables based on the exact completion date (month of completion to be included) of the action.
B13: Conditions on scheme | C13: We expect the company to secure confirmation from the Environment Agency that schemes have been completed in accordance with WINEP obligations. Any removal of actions from the PR19 WINEP must be reported and confirmed by the Environment Agency.
B14: Assurance | C14: We are proposing that companies should provide independent assessment and assurance of delivered PR19 WINEP Carryover actions and forecast of likely outturn position at end of March 2030.
B16: Non-delivery PCD payment (WINEP action ID) | C16: Unit | D16: Payment rate
B17: 7WW200093 | C17: £m | D17: =INDEX(WINEP_Inputs_WSX!$DG$5:$DG$5, MATCH('WINEP Carryover_WSX'!B17, WINEP_Inputs_WSX!$DK$5:$DK$5,0)) -> 0.78489344
B20: Time incentives PCD rate (WINEP action ID) | C20: Unit | D20: Under-performance
B21: 7WW200093 | C21: £m per month | D21: =INDEX(WINEP_Inputs_WSX!$DI$5:$DI$5, MATCH('WINEP Carryover_WSX'!B21, WINEP_Inputs_WSX!$DK$5:$DK$5,0)) -> 0.0025966891
B25: PCD outputs (cumulative) | C25: Unit | D25: 2023-24 | E25: 2024-25 | F25: 2025-26 | G25: 2026-27 | H25: 2027-28 | I25: 2028-29 | J25: 2029-30 | K25: 2030-31 | L25: 2031-32 | M25: 2032-33 | N25: 2033-34 | O25: 2034-35
B26: 7WW200093 | D26: 0 | E26: 0 | F26: 1 | G26: 1 | H26: 1 | I26: 1 | J26: 1 | K26: 1 | L26: 1 | M26: 1 | N26: 1 | O26: 1

Sheet WINEP Carryover_YKY
A1: =CONCATENATE(C4," - ", C5) -> YKY - PR19 WINEP Carryover
B4: Company | C4: YKY
B5: Enhancement area | C5: PR19 WINEP Carryover
B6: PCD No. | C6: PCDWW35
B8: Common requirements | C8: See Section 15.1 of Price control deliverable appendix
B10: Additional company specific requirements
B11: Deliverable | C11: These PCDs are for tracking delivery of expenditure funded through the PR19 WINEP Carryover model. They are for delivery of specified late delivery PR19 WINEP actions each with a specific totex unit rate.
B12: Output measurement and reporting | C12: These deliverables for these PCDs (both non delivery and late delivery) require the completion of specific PR19 WINEP actions for each company. The action IDs and WINEP action names are taken from the PR19 WINEP Carryover model, which is an excerpt of actions from the company PR19 WINEP reconciliation models. Companies should report progress against the deliverables on an annual basis through their annual PCD report return . We expect companies to report deliverables based on the exact completion date (month of completion to be included) of the action.
B13: Conditions on scheme | C13: We expect the company to secure confirmation from the Environment Agency that schemes have been completed in accordance with WINEP obligations. Any removal of actions from the PR19 WINEP must be reported and confirmed by the Environment Agency.
B14: Assurance | C14: We are proposing that companies should provide independent assessment and assurance of delivered PR19 WINEP Carryover actions and forecast of likely outturn position at end of March 2030.
B16: Non-delivery PCD payment (WINEP action ID) | C16: Unit | D16: Payment rate
B17: 7YW100129 | C17: £m | D17: =INDEX(WINEP_Inputs_YKY!$DG$5:$DG$18, MATCH('WINEP Carryover_YKY'!B17, WINEP_Inputs_YKY!$DK$5:$DK$18,0)) -> 9.690724
B18: 7YW200641 | C18: £m | D18: =INDEX(WINEP_Inputs_YKY!$DG$5:$DG$18, MATCH('WINEP Carryover_YKY'!B18, WINEP_Inputs_YKY!$DK$5:$DK$18,0)) -> 3.5926638
B19: 7YW300068 | C19: £m | D19: =INDEX(WINEP_Inputs_YKY!$DG$5:$DG$18, MATCH('WINEP Carryover_YKY'!B19, WINEP_Inputs_YKY!$DK$5:$DK$18,0)) -> 17.963319
B20: 7YW300070 | C20: £m | D20: =INDEX(WINEP_Inputs_YKY!$DG$5:$DG$18, MATCH('WINEP Carryover_YKY'!B20, WINEP_Inputs_YKY!$DK$5:$DK$18,0)) -> 5.3889957
B23: Time incentives PCD rate (WINEP action ID) | C23: Unit | D23: Under-performance
B24: 7YW100129 | C24: £m per month | D24: =INDEX(WINEP_Inputs_YKY!$DI$5:$DI$18, MATCH('WINEP Carryover_YKY'!B24, WINEP_Inputs_YKY!$DK$5:$DK$18,0)) -> 0.032060145
B25: 7YW200641 | C25: £m per month | D25: =INDEX(WINEP_Inputs_YKY!$DI$5:$DI$18, MATCH('WINEP Carryover_YKY'!B25, WINEP_Inputs_YKY!$DK$5:$DK$18,0)) -> 0.01188573
B26: 7YW300068 | C26: £m per month | D26: =INDEX(WINEP_Inputs_YKY!$DI$5:$DI$18, MATCH('WINEP Carryover_YKY'!B26, WINEP_Inputs_YKY!$DK$5:$DK$18,0)) -> 0.059428648
B27: 7YW300070 | C27: £m per month | D27: =INDEX(WINEP_Inputs_YKY!$DI$5:$DI$18, MATCH('WINEP Carryover_YKY'!B27, WINEP_Inputs_YKY!$DK$5:$DK$18,0)) -> 0.017828594
B31: PCD outputs (cumulative) | C31: Unit | D31: 2023-24 | E31: 2024-25 | F31: 2025-26 | G31: 2026-27 | H31: 2027-28 | I31: 2028-29 | J31: 2029-30 | K31: 2030-31 | L31: 2031-32 | M31: 2032-33 | N31: 2033-34 | O31: 2034-35
B32: 7YW100129 | D32: 0 | E32: 0 | F32: 1 | G32: 1 | H32: 1 | I32: 1 | J32: 1 | K32: 1 | L32: 1 | M32: 1 | N32: 1 | O32: 1
B33: 7YW200641 | D33: 0 | E33: 0 | F33: 1 | G33: 1 | H33: 1 | I33: 1 | J33: 1 | K33: 1 | L33: 1 | M33: 1 | N33: 1 | O33: 1
B34: 7YW300068 | D34: 0 | E34: 0 | F34: 1 | G34: 1 | H34: 1 | I34: 1 | J34: 1 | K34: 1 | L34: 1 | M34: 1 | N34: 1 | O34: 1
B35: 7YW300070 | D35: 0 | E35: 0 | F35: 1 | G35: 1 | H35: 1 | I35: 1 | J35: 1 | K35: 1 | L35: 1 | M35: 1 | N35: 1 | O35: 1

Sheet GER >>

Sheet GER Carryover_NWT
A1: =CONCATENATE(C4," - ", C5) -> United Utilities - Green Economic Recovery Carryover
B4: Company | C4: United Utilities
B5: Enhancement area | C5: Green Economic Recovery Carryover
B6: PCD No. | C6: PCDWW36
B8: Common requirements | C8: See Section 15.2 of Price control deliverable appendix
B10: Additional company specific requirements
B11: Description | C11: None
B12: Output measurement and reporting | C12: None
B13: Assurance | C13: None
B14: Conditions on scheme | C14: None
B16: Non-delivery PCD payment | C16: Unit | D16: Payment rate
B17: Storage in the network close to Nuttall Road combined sewer overflow | C17: £ / m3 | D17: 2185.66
B18: Storm tank capacity at Bury wastewater treatment works | C18: £ / m3 | D18: 2185.66
B20: Time incentives PCD rate | C20: Unit | D20: Under-performance
B21: Storage in the network close to Nuttall Road combined sewer overflow | C21: £ / m3 / month | D21: 7.231
B22: Storm tank capacity at Bury wastewater treatment works | C22: £ / m3 / month | D22: 7.231
B24: PCD outputs (cumulative) | C24: Unit | D24: 2023-24 | E24: 2024-25 | F24: 2025-26 | G24: 2026-27 | H24: 2027-28 | I24: 2028-29 | J24: 2029-30 | K24: 2030-31 | L24: 2031-32 | M24: 2032-33 | N24: 2033-34 | O24: 2034-35
B25: Storage in the network close to Nuttall Road combined sewer overflow | C25: m3 | D25: 0 | E25: 0 | F25: 5800 | G25: 5800 | H25: 5800 | I25: 5800 | J25: 5800 | K25: 5800 | L25: 5800 | M25: 5800 | N25: 5800 | O25: 5800
B26: Storm tank capacity at Bury wastewater treatment works | C26: m3 | D26: 0 | E26: 0 | F26: 18000 | G26: 18000 | H26: 18000 | I26: 18000 | J26: 18000 | K26: 18000 | L26: 18000 | M26: 18000 | N26: 18000 | O26: 18000

Sheet Annex>>>>

Sheet WINEP_Inputs_ANH
A1: WINEP3 Update March 2019 | H1: National Full data set
AI2: FBG Detail
A3: VERSION 1 | AI3: SSSI/N2K/Ramsar | AN3: Eels | AP3: NERC Driver | AX3: INNS | AZ3: MCZ | BA3: Water Quality Detail | BX3: Water Resource Detail | CH3: Environmental Outcome | CR3: WINEP model inputs
A4: WINEPID | B4: Change Log Winep 2 to 3 | C4: NEW Column. Has an alteration to this measure been made? If Y then please refer to alterations log. | D4: Application in determination by NPS? | E4: Has a permit been issued? | F4: Function | G4: RBD | H4: Area | I4: Water Company | J4: Unique ID * (completed on company collation) | K4: Scheme Name/Name of Investigation/Site Name/Licence name | L4: Name of Waterbody | M4: Waterbody ID | N4: Water Body Type(s) | O4: WFD Operational Catchment | P4: Blank Column | Q4: Blank Column | R4: Blank Column | S4: Driver Code (Primary) | T4: Further Driver Code Information (related to the primary driver if applicable) | U4: Driver Code (Secondary) | V4: Further Driver Code Information (related to the secondary driver if applicable) | W4: Driver Code (Tertiary) | X4: Further Driver Code Information (related to the tertiary driver if applicable) | Y4: Measure Type | Z4: Completion Date (DD/MM/YY) | AA4: Level of Certainty? (P= Purple, R=Red, A=Amber, G=Green | AB4: Abstraction Licence/ Permit, Obstruction ID or No Obstruction ID | AC4: Eastings | AD4: Northings | AE4: Investigation Type | AF4: Investigation Scope | AG4: Implementation Scope | AH4: Groundwater Measures Information | AI4: Name of SSSI (if applicable) | AJ4: Name of N2K/Ramsar site (if applicable) | AK4: SSSI/N2K/Ramsar Unit ID | AL4: SSSI/N2K/Ramsar Area of Unit (Hectares) | AM4: Justification for Action/Investigation | AN4: Eel Priority Status | AO4: Eel Improvement Type | AP4: Primary Type of Priority Habitat Created or Restored/Improved | AQ4: Secondary Type of Priority Habitat Created or Restored/Improved | AR4: Other Priority Habitat Created or Restored/Improved | AS4: Type of Action Taken | AT4: Units Recorded (Hectare or km) | AU4: Number of Hectares or Kms | AV4: Name of Priority Species | AW4: Name of High Risk of Extinction Species | AX4: INNS Control Measure | AY4: INNS Species (if applicable) | AZ4: Name of MCZ | BA4: Name of Bathing Water (where applicable) | BB4: Name of Shellfish Water (where applicable) | BC4: Chemical of Interest (for chemicals measures only) | BD4: Groundwater Chemicals | BE4: Drinking Water Inspectorate - Undertaking or Notice Y/N | BF4: DrWPA Substances at Risk (if applicable) | BG4: Safeguard Zone Name (if applicable) | BH4: Safeguard Zone ID (if applicable) | BI4: Population Equivalent for STWs | BJ4: Current Permit Limit (mg/l) | BK4: Proposed Permit Limit (mg/l) | BL4: Proposed Iron or Aluminium Limits (for Phosphorus measures only) | BM4: Current DWF (m3/d) | BN4: Proposed DWF (m3/d) (if applicable) | BO4: Proposed Permit Limit Other | BP4: Catchment Measure Actions | BQ4: Unsustainable Abstraction System Code | BR4: Linked Groundwater Body Name | BS4: Linked Groundwater Body ID | BT4: Licence Category | BU4: Water Resource Zone (WRZ) | BV4: WR HMWB Flag (X) | BW4: Scheme Relates to Following Missing Mitigation Measures (HMWB only) | BX4: Annual Licence Volume (Ml/a) | BY4: Daily Licence Volume (Ml/d) | BZ4: Aggregate Licence (x) | CA4: Sustainability Change (to Annual Licence Volume) Ml/a | CB4: Sustainability Change (to Daily Licence Volume) Ml/d | CC4: Sustainability Change (to HoF Condition) Ml/d | CD4: *NEW* Water returned to the environment (Reduction in actual abstraction) ML/d | CE4: New Annual Licence Volume (Ml/a) | CF4: New Daily Licence Volume (Ml/d) | CG4: New HoF Condition (Ml/d) | CH4: Quantitative Km River Length Improved or Protected | CI4: Quantitative Area (km2) Improved or Protected | CJ4: Volume (Ml/yr) Drinking Water Protected | CK4: Hectares of Designated Site (HD/RAMSAR/ SSSI) Restored or Improved | CL4: *NEW* INNS ,No Det outcome - Km2 of land with reduced risk of INNS | CM4: Delivers Additional FCERM Benefits (Y/N) | CN4: Delivers on Salmon 5-Point Action Plan | CO4: Additional Comments | CP4: CPS Reference | CQ4: Flow Categorisation 1= PR19 Synergy 2= WFD failure 3= Neither | CR4: Allowed totex unit rate | CS4: Quantity proposed in PR19 FD | CT4: Quantity Delivered | CU4: 1 = In PR19, funded 0 = In PR19, not funded | CV4: Price Control | CW4: Unit | CX4: Unit Conversion to £m | CY4: Company | CZ4: Completion date (EA or Water Company) | DA4: Allowed totex unit rate in 2017/18 prices before adjustment - £ | DB4: Adjustment - £ | DC4: Allowed totex unit rate in 2017/18 prices after adjustment - £ | DD4: PR19 WACC | DE4: Allowed totex unit rate in 2017/18 prices after adjustment & PR19 WACC - £ | DF4: CPIH adjustment (2017/18) | DG4: Allowed totex unit rate in 2022/23 prices after adjustment & PR19 WACC - £m | DH4: PR24 WACC | DI4: Allowed totex unit rate in 2022/23 prices after adjustment - £m per month | DJ4: AoN | DK4: Unique ID after AoN scenario
A5: EAN00475 | F5: WQ | G5: Anglian | H5: East Anglia | I5: Anglian Water Services Ltd | J5: 7AW200058 | K5: Beachampton STW | L5: Beachampton Brook | M5: GB105033037850 | N5: River | O5: Great Ouse Upper | S5: WFD_IMPg | T5: Phosphorus | Y5: Continuous Discharge | Z5: 45648 | AA5: Amber | AB5: AWCNF10293 | AC5: 477360 | AD5: 236670 | BI5: 114 | BK5: 2.5 | BL5: Iron 4000 ug/l (95%ile) 8000 ug/l (UT) | BM5: 30 | CH5: 1 | CO5: Measure to improve from Poor to Good phosphate status Environmental Outcome measured: Beachampton Brook from point of mixing to confluence with River Great Ouse | CR5: 1.133 | CS5: 1 | CT5: 0 | CU5: 1 | CV5: WWN | CW5: £m | CX5: 1 | CY5: ANH | CZ5: 46477 | DA5: {=_xlfn.IFS(CX5 = 1, CR5 * CS5 * 1000000, CX5 = 0.000001, CR5 * CS5 )} -> 1133000 | DC5: =IF( DB5 = "", DA5, DB5) -> 1133000 | DD5: 1.0315245 | DE5: =DC5 * DD5 -> 1168717.2 | DF5: 1.1806333 | DG5: =( DE5 * DF5 ) / 1000000 -> 1.3798265 | DH5: 0.0397 | DI5: =( DG5 * DH5 ) / 12 -> 0.0045649259 | DK5: =IF(DJ5="",J5,IF(DJ5="AoN5","7TW100021AoN group","")) -> 7AW200058
A6: EAN00478 | F6: WQ | G6: Anglian | H6: East Anglia | I6: Anglian Water Services Ltd | J6: 7AW200061 | K6: Blakesley STW | L6: Blakesley Brook | M6: GB105033038280 | N6: River | O6: Great Ouse Upper | S6: WFD_IMPg | T6: Phosphorus | Y6: Continuous Discharge | Z6: 45648 | AA6: Amber | AB6: AW1NF1056 | AC6: 462890 | AD6: 249780 | BI6: 1219 | BK6: 1 | BL6: Iron 4000 ug/l (95%ile) 8000 ug/l (UT) | BM6: 200 | CH6: 4.5 | CO6: Measure to improve from Moderate to Good phosphate status Environmental Outcome measured: Blakesley Brook, from point of mixing to confluence with River Tove | CR6: 0.09 | CS6: 1 | CT6: 0 | CU6: 1 | CV6: WWN | CW6: £m | CX6: 1 | CY6: ANH | CZ6: 46477 | DA6: {=_xlfn.IFS(CX6 = 1, CR6 * CS6 * 1000000, CX6 = 0.000001, CR6 * CS6 )} -> 90000 | DC6: =IF( DB6 = "", DA6, DB6) -> 90000 | DD6: 1.0315245 | DE6: =DC6 * DD6 -> 92837.203 | DF6: 1.1806333 | DG6: =( DE6 * DF6 ) / 1000000 -> 0.10960669 | DH6: 0.0397 | DI6: =( DG6 * DH6 ) / 12 -> 0.00036261548 | DK6: =IF(DJ6="",J6,IF(DJ6="AoN5","7TW100021AoN group","")) -> 7AW200061
A7: EAN00481 | F7: WQ | G7: Anglian | H7: East Anglia | I7: Anglian Water Services Ltd | J7: 7AW200064 | K7: Bradenham STW | L7: Wissey - Upper | M7: GB105033047890 | N7: River | O7: Wissey | S7: WFD_IMPg | T7: Phosphorus | Y7: Continuous Discharge | Z7: 45648 | AA7: Amber | AB7: AW1NF176 | AC7: 591100 | AD7: 308700 | BI7: 525 | BK7: 1 | BL7: Iron 4000 ug/l (95%ile) 8000 ug/l (UT) | BM7: 80 | CH7: 3.9 | CO7: Measure to improve from Moderate to Good phosphate status Environmental Outcome measured: River Wissey, from point of mixing to sample point 48M45 | CR7: 0.222 | CS7: 1 | CT7: 0 | CU7: 1 | CV7: WWN | CW7: £m | CX7: 1 | CY7: ANH | CZ7: 46477 | DA7: {=_xlfn.IFS(CX7 = 1, CR7 * CS7 * 1000000, CX7 = 0.000001, CR7 * CS7 )} -> 222000 | DC7: =IF( DB7 = "", DA7, DB7) -> 222000 | DD7: 1.0315245 | DE7: =DC7 * DD7 -> 228998.43 | DF7: 1.1806333 | DG7: =( DE7 * DF7 ) / 1000000 -> 0.27036318 | DH7: 0.0397 | DI7: =( DG7 * DH7 ) / 12 -> 0.00089445151 | DK7: =IF(DJ7="",J7,IF(DJ7="AoN5","7TW100021AoN group","")) -> 7AW200064
A8: EAN00485 | F8: WQ | G8: Anglian | H8: East Anglia | I8: Anglian Water Services Ltd | J8: 7AW200068 | K8: Castlethorpe STW | L8: Tove (DS Greens Norton) | M8: GB105033038180 | N8: River | O8: Great Ouse Upper | S8: WFD_IMPg | T8: Phosphorus | Y8: Continuous Discharge | Z8: 45648 | AA8: Amber | AB8: AW1NFA31A | AC8: 479500 | AD8: 243400 | BI8: 1029 | BK8: 1 | BL8: Iron 4000 ug/l (95%ile) 8000 ug/l (UT) | BM8: 151 | CH8: 1.7 | CO8: Measure to improve from Poor to Good phosphate status Environmental Outcome measured: River Tove, from point of mixing to confluence with River Great Ouse | CR8: 0.09 | CS8: 1 | CT8: 0 | CU8: 1 | CV8: WWN | CW8: £m | CX8: 1 | CY8: ANH | CZ8: 46477 | DA8: {=_xlfn.IFS(CX8 = 1, CR8 * CS8 * 1000000, CX8 = 0.000001, CR8 * CS8 )} -> 90000 | DC8: =IF( DB8 = "", DA8, DB8) -> 90000 | DD8: 1.0315245 | DE8: =DC8 * DD8 -> 92837.203 | DF8: 1.1806333 | DG8: =( DE8 * DF8 ) / 1000000 -> 0.10960669 | DH8: 0.0397 | DI8: =( DG8 * DH8 ) / 12 -> 0.00036261548 | DK8: =IF(DJ8="",J8,IF(DJ8="AoN5","7TW100021AoN group","")) -> 7AW200068
A9: EAN00494 | B9: Changed | F9: WQ | G9: Anglian | H9: East Anglia | I9: Anglian Water Services Ltd | J9: 7AW200077 | K9: Elmdon STW | L9: Cam | M9: GB105033042750 | N9: River | O9: Cam Lower | S9: WFD_IMPg | T9: Phosphorus | Y9: Continuous Discharge | Z9: 45648 | AA9: Amber | AB9: AW1NF653 | AC9: 547040 | AD9: 240290 | BI9: 863 | BK9: 1 | BL9: Iron 4000 ug/l (95%ile) 8000 ug/l (UT) | BM9: 268 | CH9: 5.1 | CO9: Measure to improve from Moderate to Good phosphate status Environmental Outcome measured: Tributary of Cam, from point of mixing to confluence with River Cam | CR9: 0.225 | CS9: 1 | CT9: 0 | CU9: 1 | CV9: WWN | CW9: £m | CX9: 1 | CY9: ANH | CZ9: 46477 | DA9: {=_xlfn.IFS(CX9 = 1, CR9 * CS9 * 1000000, CX9 = 0.000001, CR9 * CS9 )} -> 225000 | DC9: =IF( DB9 = "", DA9, DB9) -> 225000 | DD9: 1.0315245 | DE9: =DC9 * DD9 -> 232093.01 | DF9: 1.1806333 | DG9: =( DE9 * DF9 ) / 1000000 -> 0.27401673 | DH9: 0.0397 | DI9: =( DG9 * DH9 ) / 12 -> 0.00090653869 | DK9: =IF(DJ9="",J9,IF(DJ9="AoN5","7TW100021AoN group","")) -> 7AW200077
A10: EAN00508 | B10: Changed | F10: WQ | G10: Anglian | H10: East Anglia | I10: Anglian Water Services Ltd | J10: 7AW200091 | K10: Lidgate STW | L10: Kennett-Lee Brook | M10: GB105033042990 | N10: River | O10: Lark | S10: WFD_IMPg | T10: Phosphorus | Y10: Continuous Discharge | Z10: 45648 | AA10: Amber | AB10: AW1NF348A | AC10: 571200 | AD10: 258500 | BI10: 402 | BK10: 1 | BL10: Iron 4000 ug/l (95%ile) 8000 ug/l (UT) | BM10: 85 | CH10: 6.1 | CO10: Measure to improve from Moderate to Good phosphate status Environmental Outcome measured: Kennett-Lee Brook, from point of mixing to Gazeley STW | CR10: 1.582 | CS10: 1 | CT10: 0 | CU10: 1 | CV10: WWN | CW10: £m | CX10: 1 | CY10: ANH | CZ10: 46477 | DA10: {=_xlfn.IFS(CX10 = 1, CR10 * CS10 * 1000000, CX10 = 0.000001, CR10 * CS10 )} -> 1582000 | DC10: =IF( DB10 = "", DA10, DB10) -> 1582000 | DD10: 1.0315245 | DE10: =DC10 * DD10 -> 1631871.7 | DF10: 1.1806333 | DG10: =( DE10 * DF10 ) / 1000000 -> 1.9266421 | DH10: 0.0397 | DI10: =( DG10 * DH10 ) / 12 -> 0.0063739743 | DK10: =IF(DJ10="",J10,IF(DJ10="AoN5","7TW100021AoN group","")) -> 7AW200091
A11: EAN00512 | B11: Changed | F11: WQ | G11: Anglian | H11: East Anglia | I11: Anglian Water Services Ltd | J11: 7AW200095 | K11: Newport STW | L11: Cam (Newport to Audley End) | M11: GB105033037550 | N11: River | O11: Cam Rhee and Granta | S11: WFD_IMPg | T11: Phosphorus | Y11: Continuous Discharge | Z11: 45648 | AA11: Amber | AB11: AW1NF444 | AC11: 552300 | AD11: 234580 | BI11: 2765 | BK11: 1 | BL11: Iron 4000 ug/l (95%ile) 8000 ug/l (UT) | BM11: 650 | CH11: 5 | CO11: Measure to improve from Poor to Good phosphate status Environmental Outcome measured: River Cam, from point of mixing to confluence with River Slade | CR11: 0.09 | CS11: 1 | CT11: 0 | CU11: 1 | CV11: WWN | CW11: £m | CX11: 1 | CY11: ANH | CZ11: 46477 | DA11: {=_xlfn.IFS(CX11 = 1, CR11 * CS11 * 1000000, CX11 = 0.000001, CR11 * CS11 )} -> 90000 | DC11: =IF( DB11 = "", DA11, DB11) -> 90000 | DD11: 1.0315245 | DE11: =DC11 * DD11 -> 92837.203 | DF11: 1.1806333 | DG11: =( DE11 * DF11 ) / 1000000 -> 0.10960669 | DH11: 0.0397 | DI11: =( DG11 * DH11 ) / 12 -> 0.00036261548 | DK11: =IF(DJ11="",J11,IF(DJ11="AoN5","7TW100021AoN group","")) -> 7AW200095
A12: EAN00517 | B12: Changed | F12: WQ | G12: Anglian | H12: East Anglia | I12: Anglian Water Services Ltd | J12: 7AW200100 | K12: Olney STW | L12: Ouse (Newport Pagnell to Roxton) | M12: GB105033047923 | N12: River | O12: Great Ouse Bedford | S12: WFD_IMPg | T12: Phosphorus | Y12: Continuous Discharge | Z12: 45648 | AA12: Amber | AB12: AW1NF1165A | AC12: 489500 | AD12: 252300 | BI12: 8640 | BK12: 1 | BL12: Iron 4000 ug/l (95%ile) 8000 ug/l (UT) | BM12: 1822 | CH12: 15.8 | CO12: Measure to improve from Poor to Good phosphate status Environmental Outcome measured: River Great Ouse, from point of mixing to Odell STW | CR12: 0.09 | CS12: 1 | CT12: 0 | CU12: 1 | CV12: WWN | CW12: £m | CX12: 1 | CY12: ANH | CZ12: 46477 | DA12: {=_xlfn.IFS(CX12 = 1, CR12 * CS12 * 1000000, CX12 = 0.000001, CR12 * CS12 )} -> 90000 | DC12: =IF( DB12 = "", DA12, DB12) -> 90000 | DD12: 1.0315245 | DE12: =DC12 * DD12 -> 92837.203 | DF12: 1.1806333 | DG12: =( DE12 * DF12 ) / 1000000 -> 0.10960669 | DH12: 0.0397 | DI12: =( DG12 * DH12 ) / 12 -> 0.00036261548 | DK12: =IF(DJ12="",J12,IF(DJ12="AoN5","7TW100021AoN group","")) -> 7AW200100
A13: EAN00522 | B13: Changed | F13: WQ | G13: Anglian | H13: East Anglia | I13: Anglian Water Services Ltd | J13: 7AW200105 | K13: Quendon STW | L13: Cam (US Newport) | M13: GB105033037480 | N13: River | O13: Cam Rhee and Granta | S13: WFD_IMPg | T13: Phosphorus | Y13: Continuous Discharge | Z13: 45648 | AA13: Amber | AB13: AW1NFA133 | AC13: 552000 | AD13: 231200 | BI13: 466 | BK13: 1 | BL13: Iron 4000 ug/l (95%ile) 8000 ug/l (UT) | BM13: 130 | CH13: 4 | CO13: Measure to improve from Moderate to Good phosphate status Environmental Outcome measured: River Cam, from point of mixing to Newport STW | CR13: 0.157 | CS13: 1 | CT13: 0 | CU13: 1 | CV13: WWN | CW13: £m | CX13: 1 | CY13: ANH | CZ13: 46477 | DA13: {=_xlfn.IFS(CX13 = 1, CR13 * CS13 * 1000000, CX13 = 0.000001, CR13 * CS13 )} -> 157000 | DC13: =IF( DB13 = "", DA13, DB13) -> 157000 | DD13: 1.0315245 | DE13: =DC13 * DD13 -> 161949.34 | DF13: 1.1806333 | DG13: =( DE13 * DF13 ) / 1000000 -> 0.19120279 | DH13: 0.0397 | DI13: =( DG13 * DH13 ) / 12 -> 0.00063256255 | DK13: =IF(DJ13="",J13,IF(DJ13="AoN5","7TW100021AoN group","")) -> 7AW200105
A14: EAN00526 | B14: Changed | F14: WQ | G14: Anglian | H14: East Anglia | I14: Anglian Water Services Ltd | J14: 7AW200109 | K14: Shudy Camps STW | L14: Granta | M14: GB105033037810 | N14: River | O14: Cam Rhee and Granta | S14: WFD_IMPg | T14: Phosphorus | Y14: Continuous Discharge | Z14: 45648 | AA14: Amber | AB14: AW1NF1135 | AC14: 561600 | AD14: 243800 | BI14: 733 | BK14: 1 | BL14: Iron 4000 ug/l (95%ile) 8000 ug/l (UT) | BM14: 238 | CH14: 9.5 | CO14: Measure to improve from Moderate to Good phosphate status Environmental Outcome measured: River Granta, from point of mixing to Linton STW | CR14: 0.225 | CS14: 1 | CT14: 0 | CU14: 1 | CV14: WWN | CW14: £m | CX14: 1 | CY14: ANH | CZ14: 46477 | DA14: {=_xlfn.IFS(CX14 = 1, CR14 * CS14 * 1000000, CX14 = 0.000001, CR14 * CS14 )} -> 225000 | DC14: =IF( DB14 = "", DA14, DB14) -> 225000 | DD14: 1.0315245 | DE14: =DC14 * DD14 -> 232093.01 | DF14: 1.1806333 | DG14: =( DE14 * DF14 ) / 1000000 -> 0.27401673 | DH14: 0.0397 | DI14: =( DG14 * DH14 ) / 12 -> 0.00090653869 | DK14: =IF(DJ14="",J14,IF(DJ14="AoN5","7TW100021AoN group","")) -> 7AW200109
A15: EAN00533 | B15: Changed | F15: WQ | G15: Anglian | H15: East Anglia | I15: Anglian Water Services Ltd | J15: 7AW200116 | K15: Stoke Goldington STW | L15: Ravenstone Brook | M15: GB105033038160 | N15: River | O15: Great Ouse Bedford | S15: WFD_IMPg | T15: Phosphorus | Y15: Continuous Discharge | Z15: 45648 | AA15: Amber | AB15: AW1NF207A | AC15: 484750 | AD15: 248780 | BI15: 745 | BK15: 1 | BL15: Iron 4000 ug/l (95%ile) 8000 ug/l (UT) | BM15: 160 | CH15: 0.75 | CO15: Measure to improve from Poor to Good phosphate status Environmental Outcome measured: Ravenstone Brook, from point of mixing to confluence with River Great Ouse | CR15: 0.225 | CS15: 1 | CT15: 0 | CU15: 1 | CV15: WWN | CW15: £m | CX15: 1 | CY15: ANH | CZ15: 46477 | DA15: {=_xlfn.IFS(CX15 = 1, CR15 * CS15 * 1000000, CX15 = 0.000001, CR15 * CS15 )} -> 225000 | DC15: =IF( DB15 = "", DA15, DB15) -> 225000 | DD15: 1.0315245 | DE15: =DC15 * DD15 -> 232093.01 | DF15: 1.1806333 | DG15: =( DE15 * DF15 ) / 1000000 -> 0.27401673 | DH15: 0.0397 | DI15: =( DG15 * DH15 ) / 12 -> 0.00090653869 | DK15: =IF(DJ15="",J15,IF(DJ15="AoN5","7TW100021AoN group","")) -> 7AW200116
A16: EAN00589 | B16: Changed | F16: WQ | G16: Anglian | H16: East Anglia | I16: Anglian Water Services Ltd | J16: 7AW200167 | K16: Dunton STW | L16: Millbridge and Potton Brooks | M16: GB105033037820 | N16: River | O16: Ivel | S16: WFD_IMPg | T16: Phosphorus | Y16: Continuous Discharge | Z16: 45648 | AA16: Amber | AB16: AWCNF1061 | AC16: 523300 | AD16: 244420 | BI16: 572 | BK16: 1 | BL16: Iron 4000 ug/l (95%ile) 8000 ug/l (UT) | BM16: 140 | CH16: 5.9 | CO16: Measure to improve from Moderate to Good phosphate status Environmental Outcome measured: Tributary, from point of mixing to confluence with Potton Brook | CR16: 0.222 | CS16: 1 | CT16: 0 | CU16: 1 | CV16: WWN | CW16: £m | CX16: 1 | CY16: ANH | CZ16: 46477 | DA16: {=_xlfn.IFS(CX16 = 1, CR16 * CS16 * 1000000, CX16 = 0.000001, CR16 * CS16 )} -> 222000 | DC16: =IF( DB16 = "", DA16, DB16) -> 222000 | DD16: 1.0315245 | DE16: =DC16 * DD16 -> 228998.43 | DF16: 1.1806333 | DG16: =( DE16 * DF16 ) / 1000000 -> 0.27036318 | DH16: 0.0397 | DI16: =( DG16 * DH16 ) / 12 -> 0.00089445151 | DK16: =IF(DJ16="",J16,IF(DJ16="AoN5","7TW100021AoN group","")) -> 7AW200167
A17: EAN00594 | B17: Changed | F17: WQ | G17: Anglian | H17: East Anglia | I17: Anglian Water Services Ltd | J17: 7AW200172 | K17: Great Ellingham STW | L17: Thet (US Swangey Fen) | M17: GB105033047830 | N17: River | O17: Little Ouse and Thet | S17: WFD_IMPg | T17: Phosphorus | Y17: Continuous Discharge | Z17: 45648 | AA17: Amber | AB17: AW1NF18PA | AC17: 602300 | AD17: 297800 | BI17: 471 | BK17: 1.5 | BL17: Iron 4000 ug/l (95%ile) 8000 ug/l (UT) | BM17: 194 | CH17: 4 | CO17: Measure to improve from Moderate to Good phosphate status Environmental Outcome measured: Tributary, from point of mixing to confluence with River Thet | CR17: 0.225 | CS17: 1 | CT17: 0 | CU17: 1 | CV17: WWN | CW17: £m | CX17: 1 | CY17: ANH | CZ17: 46477 | DA17: {=_xlfn.IFS(CX17 = 1, CR17 * CS17 * 1000000, CX17 = 0.000001, CR17 * CS17 )} -> 225000 | DC17: =IF( DB17 = "", DA17, DB17) -> 225000 | DD17: 1.0315245 | DE17: =DC17 * DD17 -> 232093.01 | DF17: 1.1806333 | DG17: =( DE17 * DF17 ) / 1000000 -> 0.27401673 | DH17: 0.0397 | DI17: =( DG17 * DH17 ) / 12 -> 0.00090653869 | DK17: =IF(DJ17="",J17,IF(DJ17="AoN5","7TW100021AoN group","")) -> 7AW200172
A18: EAN00600 | B18: Changed | F18: WQ | G18: Anglian | H18: East Anglia | I18: Anglian Water Services Ltd | J18: 7AW200178 | K18: Old Buckenham STW | L18: Buckenham Stream | M18: GB105033043411 | N18: River | O18: Little Ouse and Thet | S18: WFD_IMPg | T18: Phosphorus | Y18: Continuous Discharge | Z18: 45648 | AA18: Amber | AB18: AW1NF623A | AC18: 606120 | AD18: 290450 | BI18: 2914 | BK18: 1 | BL18: Iron 4000 ug/l (95%ile) 8000 ug/l (UT) | BM18: 550 | CH18: 10 | CO18: Measure to improve from Moderate to Good phosphate status Environmental Outcome measured: Buckenham Stream, from point of mixing to confluence with River Thet | CR18: 0.09 | CS18: 1 | CT18: 0 | CU18: 1 | CV18: WWN | CW18: £m | CX18: 1 | CY18: ANH | CZ18: 46477 | DA18: {=_xlfn.IFS(CX18 = 1, CR18 * CS18 * 1000000, CX18 = 0.000001, CR18 * CS18 )} -> 90000 | DC18: =IF( DB18 = "", DA18, DB18) -> 90000 | DD18: 1.0315245 | DE18: =DC18 * DD18 -> 92837.203 | DF18: 1.1806333 | DG18: =( DE18 * DF18 ) / 1000000 -> 0.10960669 | DH18: 0.0397 | DI18: =( DG18 * DH18 ) / 12 -> 0.00036261548 | DK18: =IF(DJ18="",J18,IF(DJ18="AoN5","7TW100021AoN group","")) -> 7AW200178
A19: EAN00628 | B19: Changed | F19: WQ | G19: Anglian | H19: East Anglia | I19: Anglian Water Services Ltd | J19: 7AW200206 | K19: Rendlesham Park STW | L19: Deben (Brandeston Bridge - Melton) | M19: GB105035046310 | N19: River | O19: Deben | S19: WFD_IMPg | T19: Phosphorus | Y19: Continuous Discharge | Z19: 45648 | AA19: Amber | AB19: ASENF19613 | AC19: 632360 | AD19: 253680 | BI19: 2342 | BK19: 1 | BL19: Iron 4000 ug/l (95%ile) 8000 ug/l (UT) | BM19: 645.5 | CH19: 5.5 | CO19: Environmental outcomes calculated from mixing point of Rendlesham Part STW to the bottom boundary of waterbody Deben (Brandeston Bridge - Melton) GB105035046310 where it joins the coast. Improvement from Poor to Good status. | CR19: 0.09 | CS19: 1 | CT19: 0 | CU19: 1 | CV19: WWN | CW19: £m | CX19: 1 | CY19: ANH | CZ19: 46477 | DA19: {=_xlfn.IFS(CX19 = 1, CR19 * CS19 * 1000000, CX19 = 0.000001, CR19 * CS19 )} -> 90000 | DC19: =IF( DB19 = "", DA19, DB19) -> 90000 | DD19: 1.0315245 | DE19: =DC19 * DD19 -> 92837.203 | DF19: 1.1806333 | DG19: =( DE19 * DF19 ) / 1000000 -> 0.10960669 | DH19: 0.0397 | DI19: =( DG19 * DH19 ) / 12 -> 0.00036261548 | DK19: =IF(DJ19="",J19,IF(DJ19="AoN5","7TW100021AoN group","")) -> 7AW200206
